{"text_format":"1","workbook":"xlsx","n_sheets":6,"sheets":["波形","Read_Me","Data","計算","準備","Module1"],"not_rendered":{"charts":3,"images":5,"macros":1,"external_links":0,"defined_names":2,"comments":1,"pivot_tables":0},"unopened":[{"sheet":"Module1","index":5,"reason":"part_missing"}],"bounds":{"document_bytes":16777216,"sheet_cells":100000,"rows_first":2000,"rows_last":500,"rows_between":2000,"halvings":0,"cell_chars":16384,"cell_head_chars":4096},"cells_cut":0,"cells_raw":0,"read":"whole","date_system":"1900"}

{"sheet":"波形","index":0,"n_rows":13,"n_cols":23,"rows_kept":13,"cut":false,"hidden":false,"merged":[[4,13,4,14],[1,4,1,5],[7,6,7,7],[8,4,8,5],[2,7,2,8],[6,13,6,14],[8,1,8,2],[9,1,9,2],[6,17,6,18],[7,17,7,18],[8,22,8,23]]}
[]
[null,1,null,null," 3.3 V"]
[null,null,null,null,null,null,null," .5 ns"]
[]
[null,null,null,null,null,null,null,null,null,null,null,null,"Z0"," 50Ω"]
[]
[null,null,null,null,null,null,null,null,null,null,null,null,null," 15 cm",null,null,"ξ",0.15]
[null,null,null,null,null,null," 無し",null,null,null,null,null,null,null,null,null,"tpd比",0.03]
[null,"Max",null,null," 8 mA",null,null,null,null,null,null,null,null,null,null,null,null,null,null,null,null,null,"開放"]
[null,{"$f":"計算!CP3","v":0.2983353312641418}]
[null,null,null,null,null,null,null,null,null,{"$f":"計算!AW3","v":"↓"},null,null,null,null,null,null,null,null,{"$f":"計算!CL3","v":""}]
[]
[null,null,null,null,null,{"$f":"計算!CO3","v":"◁"},null,null,null,null,null,null,null,null,null,null,null,null,null,null,null,{"$f":"計算!CO3","v":"◁"}]

{"sheet":"Read_Me","index":1,"n_rows":41,"n_cols":5,"rows_kept":41,"cut":false,"hidden":false,"merged":[]}
[]
[null,"プリント配線板などのクロストークの解析ツールです."]
[]
[null,"1. 何ができるか"]
[null,"プリント配線板の特性インピーダンスや回路定数を選択することにより, 近端または遠端の波形を解析して表示します.⇒｢波形｣のシートをクリック下さい."]
[]
[null,"2. 使い方"]
[null,"解説が不要なくらい簡単です."]
[null,"図の中のプルダウンメニューから,定数を選択下さい."]
[null,"各パラメータは,"]
[null,"伝送方向",null,"順方向と逆方向をボタンで選択します. 方向に応じて図が切り換わります."]
[null,"電源電圧 ",null,"1.0V,1.8V, 2.5V, 3.3V, 5V を準備しています. このほかに,%表示も選択できます."]
[null,"駆動能力 ",null,"ドライバのカタログ記載の駆動能力です. ここでは,実力がカタログ記載値の1.5倍あると仮定して,出力が0.4Vのときの"]
[null,null,null,"抵抗値に換算しています.(例 : 4mA=66.7Ω, 24mA=11.1Ω)"]
[null,"立ち上がり時間",null,"ドライバの立ち上がり時間を 0.1ns ～ 2ns から選択します."]
[null,"ダンピング抵抗",null,"ドライバの出力に直列に挿入するダンピング抵抗です."]
[null,"線路定数",null,"特性インピーダンスZ0, クロストーク係数ξ, 伝搬モードの違いによる遅延の比(tdC/tdD)を選択します."]
[null,null,null,"tdC/tdDの最大値は14%です.(7*τC≧8*τDの範囲)"]
[null,"パターン長",null,"解析したいパターンの長さです. 5cmから30cmから選択します. 伝搬遅延は6.5ns/mとしています."]
[null,"中間点",null,"近端,遠端のほかに,その途中の波形を選択します. 近端から遠端までを4等分した中から選択します."]
[null,null,null,"中間点の波形を表示しない選択もできます."]
[null,"終端抵抗",null,"遠端に接続する終端抵抗です. 準備した抵抗値(無しも含む)から選択します."]
[null,null,null,"hyperbolaとは, 順方向伝送のときの遠端側のクロストークを除去できる特別な抵抗値で, ドライバの出力抵抗と遠端の"]
[null,null,null,"終端抵抗との積が特性インピーダンスの自乗になるような特別な値です. 遠端側のクロストークがヒゲだけ残ります."]
[]
[null,"3. 波形の意味"]
[null,"左がクロストークの波形(実線), 右が駆動側の波形(破線)です. 近端/遠端それぞれの最大値を画面上に表示しています."]
[null,"近端を青, 遠端を赤で表しています."]
[]
[null,"4. RESET"]
[null,"図とグラフが画面全体に収まるように設定します."]
[]
[null,"5. その他"]
[null,"準備した値以外を使いたい場合は,Dataのシートの緑色のセルに値を書き込んで下さい."]
[]
[]
[]
[]
[]
[null,"v.1.0","2023-09-20",null,"初版"]
[null,"v.1.1","2023-10-15",null,"Maxの数値のバグ修正"]

{"sheet":"Data","index":2,"n_rows":16,"n_cols":25,"rows_kept":16,"cut":false,"hidden":false,"merged":[[0,7,0,8]]}
["IoL",null,null,null,"Dumping R",null,null,"Zo",null,null,"ξ",null,"tpd比",null,"tr/tf",null,null,"線長",null,null,"Vcc",null,null,"終端抵抗"]
[{"$f":"TEXT(B2,\" ##\")&\" mA\"","v":" 2 mA"},2,{"$f":"400/B2/1.5","v":133.33333333333334},null," 無し",0,null,{"$f":"TEXT(I2,\" ##\")&\"Ω\"","v":" 30Ω"},30,null,0.01,null,0,null,{"$f":"TEXT(P2,\" ##.0\")&\" ns\"","v":" .1 ns"},0.1,null,{"$f":"TEXT(S2,\" ##\")&\" cm\"","v":" 5 cm"},5,null,{"$f":"TEXT(V2,\" ##.#\")&\" V\"","v":" 1. V"},1,null,"開放",1000000]
[" 4 mA",4,66.666666666666671,null,{"$f":"TEXT(F3,\" ##\")&\"Ω\"","v":" 10Ω"},10,null," 40Ω",40,null,0.02,null,0.01,null,{"$f":"TEXT(P3,\" ##.0\")&\" ns\"","v":" .2 ns"},0.2,null," 10 cm",10,null,{"$f":"TEXT(V3,\" ##.#\")&\" V\"","v":" 1.8 V"},1.8,null,{"$f":"\"整合(\"&TEXT(Y3,\"###\")&\"Ω)\"","v":"整合(50Ω)"},{"$f":"計算!B6","v":50}]
[" 8 mA",8,33.333333333333336,null," 15Ω",15,null," 50Ω",50,null,0.05,null,0.02,null,{"$f":"TEXT(P4,\" ##.0\")&\" ns\"","v":" .5 ns"},0.5,null," 15 cm",15,null,{"$f":"TEXT(V4,\" ##.#\")&\" V\"","v":" 2.5 V"},2.5,null,{"$f":"TEXT(Y4,\" ##\")&\"Ω\"","v":" 40Ω"},40]
[" 12 mA",12,22.222222222222225,null," 22Ω",22,null," 55Ω",55,null,0.1,null,0.03,null,{"$f":"TEXT(P5,\" ##.0\")&\" ns\"","v":" 1.0 ns"},1,null," 20 cm",20,null,{"$f":"TEXT(V5,\" ##.#\")&\" V\"","v":" 3.3 V"},3.3,null," 50Ω",50]
[" 16 mA",16,16.666666666666668,null," 33Ω",33,null," 60Ω",60,null,0.15,null,0.04,null,{"$f":"TEXT(P6,\" ##.0\")&\" ns\"","v":" 2.0 ns"},2,null," 25 cm",25,null,{"$f":"TEXT(V6,\" ##\")&\" V\"","v":" 5 V"},5,null," 60Ω",60]
[" 24 mA",24,11.111111111111112,null," 36Ω",36,null," 65Ω",65,null,0.2,null,0.05,null,null,null,null," 30 cm",30,null,"%",100,null," 70Ω",70]
[null,null,null,null," 39Ω",39,null," 70Ω",70,null,0.25,null,0.06,null,null,null,null,null,null,null,null,null,null," 80Ω",80]
[null,null,null,null," 43Ω",43,null," 80Ω",80,null,0.3,null,7.0000000000000007E-2,null,null,null,null,null,null,null,null,null,null," 90Ω",90]
[null,null,null,null," 47Ω",47,null," 90Ω",90,null,0.35,null,0.08,null,null,null,null,null,null,null,null,null,null," 100Ω",100]
[null,null,null,null," 51Ω",51,null,{"$f":"I11&\"Ω\"","v":"100Ω"},100,null,0.4,null,0.09,null,null,null,null,null,null,null,null,null,null," 150Ω",150]
[null,null,null,null," 56Ω",56,null,null,null,null,null,null,0.1,null,null,null,null,null,null,null,null,null,null," 200Ω",200]
[null,null,null,null," 62Ω",62,null,null,null,null,null,null,0.14000000000000001,null,null,null,null,null,null,null,null,null,null," 300Ω",300]
[null,null,null,null,null,null,null,null,null,null,null,null,null,null,null,null,null,null,null,null,null,null,null," 500Ω",500]
[null,null,null,null,null,null,null,null,null,null,null,null,null,null,null,null,null,null,null,null,null,null,null," 1000Ω",1000]
[null,null,null,null,null,null,null,null,null,null,null,null,"14% max",null,null,null,null,null,null,null,null,null,null,{"$f":"\"Hyperbola(\"&TEXT(Y16,\"##Ω)\")","v":"Hyperbola(75Ω)"},{"$f":"計算!B12*計算!B13/計算!B2+0.000001","v":75.000000997749993}]

{"sheet":"計算","index":3,"n_rows":128,"n_cols":95,"rows_kept":128,"cut":false,"hidden":true,"merged":[]}
["順(0)/逆(1)",{"$f":"波形!B2","v":1},null,null,null,"近端",null,"Δv1","Δv2",null,"v1",null,{"$f":"$G$3","v":0},{"$f":"$G$4","v":1.9213920734883332},{"$f":"$G$5","v":1.950212974090658},{"$f":"$G$6","v":1.9790338746929825},{"$f":"$G$7","v":3.8427841469766664},{"$f":"$G$8","v":3.8716050475789912},{"$f":"$G$9","v":3.9004259481813159},{"$f":"$G$10","v":3.9292468487836407},{"$f":"$G$11","v":3.9580677493859651},{"$f":"$G$12","v":5.764176220465},{"$f":"$G$13","v":5.7929971210673239},{"$f":"$G$14","v":5.8218180216696487},{"$f":"$G$15","v":5.8506389222719744},{"$f":"$G$16","v":5.8794598228742982},{"$f":"$G$17","v":5.908280723476623},{"$f":"$G$18","v":5.9371016240789478},{"$f":"$G$19","v":7.6855682939533327},{"$f":"$G$20","v":7.7143891945556575},{"$f":"$G$21","v":7.7432100951579823},{"$f":"$G$22","v":7.7720309957603071},{"$f":"$G$23","v":7.8008518963626319},{"$f":"$G$24","v":7.8296727969649567},{"$f":"$G$25","v":7.8584936975672814},{"$f":"$G$26","v":7.8873145981696053},{"$f":"$G$27","v":7.9161354987719301},{"$f":"$G$28","v":9.6069603674416655},{"$f":"$G$29","v":9.635781268043992},{"$f":"$G$30","v":9.6646021686463151},{"$f":"$G$31","v":9.6934230692486398},{"$f":"$G$32","v":9.7222439698509646},{"$f":"$G$33","v":9.7510648704532894},{"$f":"$G$34","v":9.7798857710556142},{"$f":"$G$35","v":9.808706671657939},{"$f":"$G$36","v":9.8375275722602638},{"$f":"$G$37","v":9.8663484728625885},{"$f":"$G$38","v":9.8951693734649133},null,null,null,null,"遠端",null,"Δv1","Δv2",null,"v1",null,{"$f":"$BB$3","v":0.96069603674416659},{"$f":"$BB$4","v":0.98951693734649127},{"$f":"$BB$5","v":2.8820881102325},{"$f":"$BB$6","v":2.9109090108348243},{"$f":"$BB$7","v":2.9397299114371491},{"$f":"$BB$8","v":2.9685508120394739},{"$f":"$BB$9","v":4.8034801837208327},{"$f":"$BB$10","v":4.8323010843231575},{"$f":"$BB$11","v":4.8611219849254823},{"$f":"$BB$12","v":4.8899428855278071},{"$f":"$BB$13","v":4.9187637861301319},{"$f":"$BB$14","v":4.9475846867324567},{"$f":"$BB$15","v":6.7248722572091664},{"$f":"$BB$16","v":6.7536931578114912},{"$f":"$BB$17","v":6.7825140584138151},{"$f":"$BB$18","v":6.8113349590161398},{"$f":"$BB$19","v":6.8401558596184646},{"$f":"$BB$20","v":6.8689767602207894},{"$f":"$BB$21","v":6.8977976608231142},{"$f":"$BB$22","v":6.926618561425439},{"$f":"$BB$23","v":8.6462644306974994},{"$f":"$BB$24","v":8.675085341299825},{"$f":"$BB$25","v":8.7039062519021488},{"$f":"$BB$26","v":8.7327271625044744},{"$f":"$BB$27","v":8.7615480731067965},{"$f":"$BB$28","v":8.7903689837091239},{"$f":"$BB$29","v":8.8191898943114477},{"$f":"$BB$30","v":8.8480108049137716},{"$f":"$BB$31","v":8.8768317155160972},{"$f":"$BB$32","v":8.905652626118421}]
["R1",{"$f":"VLOOKUP(波形!G8,Data!E2:F14,2,0)+C2+0.000000001","v":33.333333334333332},{"$f":"VLOOKUP(波形!E9,Data!A2:C8,3,0)","v":33.333333333333336},null,null,null,0,null,null,null,null,null,{"$f":"$H$3","v":1.9890005284157226},{"$f":"$H$4","v":0.32752179487645394},{"$f":"$H$5","v":0.93101299851738872},{"$f":"$H$6","v":0.27879940541488013},{"$f":"$H$7","v":7.7879229924124438E-2},{"$f":"$H$8","v":-1.1192377066933545E-2},{"$f":"$H$9","v":-0.23935531082328287},{"$f":"$H$10","v":-0.11033288008978959},{"$f":"$H$11","v":2.6244909978123232E-2},{"$f":"$H$12","v":1.8518384267717458E-2},{"$f":"$H$13","v":-5.7963055209600434E-2},{"$f":"$H$14","v":-5.5458494250048673E-2},{"$f":"$H$15","v":0.10338399991016445},{"$f":"$H$16","v":5.0289293255394885E-2},{"$f":"$H$17","v":-2.9022629979411629E-2},{"$f":"$H$18","v":2.470576645365874E-3},{"$f":"$H$19","v":4.4033634670110899E-3},{"$f":"$H$20","v":-2.6932471689339543E-2},{"$f":"$H$21","v":2.6428643544579966E-2},{"$f":"$H$22","v":5.8979804915944012E-2},{"$f":"$H$23","v":-5.6573485727166251E-2},{"$f":"$H$24","v":-2.8222742299932158E-2},{"$f":"$H$25","v":2.4822674948292711E-2},{"$f":"$H$26","v":-4.4864040640582026E-3},{"$f":"$H$27","v":2.3256886633271634E-4},{"$f":"$H$28","v":1.0470465210299373E-3},{"$f":"$H$29","v":-9.5309021548120043E-3},{"$f":"$H$30","v":2.5041887412857733E-2},{"$f":"$H$31","v":-4.8314900164316832E-3},{"$f":"$H$32","v":-5.0505102127822887E-2},{"$f":"$H$33","v":3.4650582856280199E-2},{"$f":"$H$34","v":1.8495295770842635E-2},{"$f":"$H$35","v":-2.0125160748031501E-2},{"$f":"$H$36","v":5.4735029024062243E-3},{"$f":"$H$37","v":-5.8747582160645351E-4},{"$f":"$H$38","v":2.189297696553183E-5},null,null,null,null,null,{"$f":"-BB3","v":-0.96069603674416659},null,null,null,null,null,{"$f":"$BC$3","v":1.8434248486289773},{"$f":"$BC$4","v":2.0804359702386828},{"$f":"$BC$5","v":0.43833573789608726},{"$f":"$BC$6","v":-0.55120106185706153},{"$f":"$BC$7","v":-0.80365187452039688},{"$f":"$BC$8","v":0.19584279483276745},{"$f":"$BC$9","v":0.10422894063720944},{"$f":"$BC$10","v":-0.4423266906583132},{"$f":"$BC$11","v":0.16377391940418873},{"$f":"$BC$12","v":0.47754805534168732},{"$f":"$BC$13","v":-0.21471923432841411},{"$f":"$BC$14","v":1.8435751369704434E-2},{"$f":"$BC$15","v":2.4783906779989984E-2},{"$f":"$BC$16","v":-0.17919042925557704},{"$f":"$BC$17","v":0.34434916144780114},{"$f":"$BC$18","v":-2.1118040552239314E-2},{"$f":"$BC$19","v":-0.34082736850881012},{"$f":"$BC$20","v":0.19354379609734229},{"$f":"$BC$21","v":-3.3303838596894231E-2},{"$f":"$BC$22","v":1.7354579159052363E-3},{"$f":"$BC$23","v":5.8932004059912835E-3},{"$f":"$BC$24","v":-6.020744255616739E-2},{"$f":"$BC$25","v":0.20705701786707298},{"$f":"$BC$26","v":-0.24774266249290511},{"$f":"$BC$27","v":-4.0543650760017869E-2},{"$f":"$BC$28","v":0.26589922437033486},{"$f":"$BC$29","v":-0.16837567462758729},{"$f":"$BC$30","v":4.1502847092517836E-2},{"$f":"$BC$31","v":-4.3674130665682931E-3},{"$f":"$BC$32","v":1.6336812736783557E-4}]
["R2",{"$f":"VLOOKUP(波形!W9,Data!X2:Y17,2,0)","v":1000000},null,null,null,{"$f":"COUNTIF(G$2:G$74,\"<\"&TEXT(G3,\"##.################\"))","v":0},{"$f":"準備!J2","v":0},{"$f":"準備!O2","v":1.9890005284157226},{"$f":"準備!P2","v":0.2983353312641418},null,0,{"$f":"-B21","v":-0.96069603674416659},null,null,null,null,null,null,null,null,null,null,null,null,null,null,null,null,null,null,null,null,null,null,null,null,null,null,null,null,null,null,null,null,null,null,null,null,{"$f":"IF(B1=1,\"↓\",\"\")","v":"↓"},null,null,null,{"$f":"COUNTIF(BB$2:BB$62,\"<\"&TEXT(BB3,\"##.################\"))","v":1},{"$f":"準備!T2","v":0.96069603674416659},{"$f":"準備!Y2","v":1.8434248486289773},{"$f":"準備!Z2","v":-0.67165999785768882},null,-1,null,null,null,null,null,null,null,null,null,null,null,null,null,null,null,null,null,null,null,null,null,null,null,null,null,null,null,null,null,null,null,{"$f":"IF(B1=0,\"↓\",\"\")","v":""},null,null,{"$f":"IF(B1=1,\"◁\",\"▷\")","v":"◁"},{"$f":"MAX(CP4:CQ64)","v":0.2983353312641418}]
["RN",{"$f":"IF($B$1=0,$B$2,$B$3)","v":1000000},null,null,null,{"$f":"COUNTIF(G$2:G$74,\"<\"&TEXT(G4,\"##.################\"))","v":3},{"$f":"準備!J3","v":1.9213920734883332},{"$f":"準備!O3-準備!O2","v":0.32752179487645394},{"$f":"準備!P3-準備!P2","v":-0.89890989052282899},null,1,0,{"$f":"IF($L4<M$1,0,IF($L4-M$1>計算!$B$26,M$2,($L4-M$1)/計算!$B$26*M$2))","v":0},{"$f":"IF($L4<N$1,0,IF($L4-N$1>計算!$B$26,N$2,($L4-N$1)/計算!$B$26*N$2))","v":0},{"$f":"IF($L4<O$1,0,IF($L4-O$1>計算!$B$26,O$2,($L4-O$1)/計算!$B$26*O$2))","v":0},{"$f":"IF($L4<P$1,0,IF($L4-P$1>計算!$B$26,P$2,($L4-P$1)/計算!$B$26*P$2))","v":0},{"$f":"IF($L4<Q$1,0,IF($L4-Q$1>計算!$B$26,Q$2,($L4-Q$1)/計算!$B$26*Q$2))","v":0},{"$f":"IF($L4<R$1,0,IF($L4-R$1>計算!$B$26,R$2,($L4-R$1)/計算!$B$26*R$2))","v":0},{"$f":"IF($L4<S$1,0,IF($L4-S$1>計算!$B$26,S$2,($L4-S$1)/計算!$B$26*S$2))","v":0},{"$f":"IF($L4<T$1,0,IF($L4-T$1>計算!$B$26,T$2,($L4-T$1)/計算!$B$26*T$2))","v":0},{"$f":"IF($L4<U$1,0,IF($L4-U$1>計算!$B$26,U$2,($L4-U$1)/計算!$B$26*U$2))","v":0},{"$f":"IF($L4<V$1,0,IF($L4-V$1>計算!$B$26,V$2,($L4-V$1)/計算!$B$26*V$2))","v":0},{"$f":"IF($L4<W$1,0,IF($L4-W$1>計算!$B$26,W$2,($L4-W$1)/計算!$B$26*W$2))","v":0},{"$f":"IF($L4<X$1,0,IF($L4-X$1>計算!$B$26,X$2,($L4-X$1)/計算!$B$26*X$2))","v":0},{"$f":"IF($L4<Y$1,0,IF($L4-Y$1>計算!$B$26,Y$2,($L4-Y$1)/計算!$B$26*Y$2))","v":0},{"$f":"IF($L4<Z$1,0,IF($L4-Z$1>計算!$B$26,Z$2,($L4-Z$1)/計算!$B$26*Z$2))","v":0},{"$f":"IF($L4<AA$1,0,IF($L4-AA$1>計算!$B$26,AA$2,($L4-AA$1)/計算!$B$26*AA$2))","v":0},{"$f":"IF($L4<AB$1,0,IF($L4-AB$1>計算!$B$26,AB$2,($L4-AB$1)/計算!$B$26*AB$2))","v":0},{"$f":"IF($L4<AC$1,0,IF($L4-AC$1>計算!$B$26,AC$2,($L4-AC$1)/計算!$B$26*AC$2))","v":0},{"$f":"IF($L4<AD$1,0,IF($L4-AD$1>計算!$B$26,AD$2,($L4-AD$1)/計算!$B$26*AD$2))","v":0},{"$f":"IF($L4<AE$1,0,IF($L4-AE$1>計算!$B$26,AE$2,($L4-AE$1)/計算!$B$26*AE$2))","v":0},{"$f":"IF($L4<AF$1,0,IF($L4-AF$1>計算!$B$26,AF$2,($L4-AF$1)/計算!$B$26*AF$2))","v":0},{"$f":"IF($L4<AG$1,0,IF($L4-AG$1>計算!$B$26,AG$2,($L4-AG$1)/計算!$B$26*AG$2))","v":0},{"$f":"IF($L4<AH$1,0,IF($L4-AH$1>計算!$B$26,AH$2,($L4-AH$1)/計算!$B$26*AH$2))","v":0},{"$f":"IF($L4<AI$1,0,IF($L4-AI$1>計算!$B$26,AI$2,($L4-AI$1)/計算!$B$26*AI$2))","v":0},{"$f":"IF($L4<AJ$1,0,IF($L4-AJ$1>計算!$B$26,AJ$2,($L4-AJ$1)/計算!$B$26*AJ$2))","v":0},{"$f":"IF($L4<AK$1,0,IF($L4-AK$1>計算!$B$26,AK$2,($L4-AK$1)/計算!$B$26*AK$2))","v":0},{"$f":"IF($L4<AL$1,0,IF($L4-AL$1>計算!$B$26,AL$2,($L4-AL$1)/計算!$B$26*AL$2))","v":0},{"$f":"IF($L4<AM$1,0,IF($L4-AM$1>計算!$B$26,AM$2,($L4-AM$1)/計算!$B$26*AM$2))","v":0},{"$f":"IF($L4<AN$1,0,IF($L4-AN$1>計算!$B$26,AN$2,($L4-AN$1)/計算!$B$26*AN$2))","v":0},{"$f":"IF($L4<AO$1,0,IF($L4-AO$1>計算!$B$26,AO$2,($L4-AO$1)/計算!$B$26*AO$2))","v":0},{"$f":"IF($L4<AP$1,0,IF($L4-AP$1>計算!$B$26,AP$2,($L4-AP$1)/計算!$B$26*AP$2))","v":0},{"$f":"IF($L4<AQ$1,0,IF($L4-AQ$1>計算!$B$26,AQ$2,($L4-AQ$1)/計算!$B$26*AQ$2))","v":0},{"$f":"IF($L4<AR$1,0,IF($L4-AR$1>計算!$B$26,AR$2,($L4-AR$1)/計算!$B$26*AR$2))","v":0},{"$f":"IF($L4<AS$1,0,IF($L4-AS$1>計算!$B$26,AS$2,($L4-AS$1)/計算!$B$26*AS$2))","v":0},{"$f":"IF($L4<AT$1,0,IF($L4-AT$1>計算!$B$26,AT$2,($L4-AT$1)/計算!$B$26*AT$2))","v":0},{"$f":"IF($L4<AU$1,0,IF($L4-AU$1>計算!$B$26,AU$2,($L4-AU$1)/計算!$B$26*AU$2))","v":0},{"$f":"IF($L4<AV$1,0,IF($L4-AV$1>計算!$B$26,AV$2,($L4-AV$1)/計算!$B$26*AV$2))","v":0},{"$f":"SUM(M4:AV4)","v":0},null,null,null,{"$f":"COUNTIF(BB$2:BB$62,\"<\"&TEXT(BB4,\"##.################\"))","v":2},{"$f":"準備!T3","v":0.98951693734649127},{"$f":"準備!Y3-準備!Y2","v":2.0804359702386828},{"$f":"準備!Z3-準備!Z2","v":0.90868889604222969},null,0,0,{"$f":"IF($BG4<BH$1,0,IF($BG4-BH$1>計算!$B$26,BH$2,($BG4-BH$1)/計算!$B$26*BH$2))","v":0},{"$f":"IF($BG4<BI$1,0,IF($BG4-BI$1>計算!$B$26,BI$2,($BG4-BI$1)/計算!$B$26*BI$2))","v":0},{"$f":"IF($BG4<BJ$1,0,IF($BG4-BJ$1>計算!$B$26,BJ$2,($BG4-BJ$1)/計算!$B$26*BJ$2))","v":0},{"$f":"IF($BG4<BK$1,0,IF($BG4-BK$1>計算!$B$26,BK$2,($BG4-BK$1)/計算!$B$26*BK$2))","v":0},{"$f":"IF($BG4<BL$1,0,IF($BG4-BL$1>計算!$B$26,BL$2,($BG4-BL$1)/計算!$B$26*BL$2))","v":0},{"$f":"IF($BG4<BM$1,0,IF($BG4-BM$1>計算!$B$26,BM$2,($BG4-BM$1)/計算!$B$26*BM$2))","v":0},{"$f":"IF($BG4<BN$1,0,IF($BG4-BN$1>計算!$B$26,BN$2,($BG4-BN$1)/計算!$B$26*BN$2))","v":0},{"$f":"IF($BG4<BO$1,0,IF($BG4-BO$1>計算!$B$26,BO$2,($BG4-BO$1)/計算!$B$26*BO$2))","v":0},{"$f":"IF($BG4<BP$1,0,IF($BG4-BP$1>計算!$B$26,BP$2,($BG4-BP$1)/計算!$B$26*BP$2))","v":0},{"$f":"IF($BG4<BQ$1,0,IF($BG4-BQ$1>計算!$B$26,BQ$2,($BG4-BQ$1)/計算!$B$26*BQ$2))","v":0},{"$f":"IF($BG4<BR$1,0,IF($BG4-BR$1>計算!$B$26,BR$2,($BG4-BR$1)/計算!$B$26*BR$2))","v":0},{"$f":"IF($BG4<BS$1,0,IF($BG4-BS$1>計算!$B$26,BS$2,($BG4-BS$1)/計算!$B$26*BS$2))","v":0},{"$f":"IF($BG4<BT$1,0,IF($BG4-BT$1>計算!$B$26,BT$2,($BG4-BT$1)/計算!$B$26*BT$2))","v":0},{"$f":"IF($BG4<BU$1,0,IF($BG4-BU$1>計算!$B$26,BU$2,($BG4-BU$1)/計算!$B$26*BU$2))","v":0},{"$f":"IF($BG4<BV$1,0,IF($BG4-BV$1>計算!$B$26,BV$2,($BG4-BV$1)/計算!$B$26*BV$2))","v":0},{"$f":"IF($BG4<BW$1,0,IF($BG4-BW$1>計算!$B$26,BW$2,($BG4-BW$1)/計算!$B$26*BW$2))","v":0},{"$f":"IF($BG4<BX$1,0,IF($BG4-BX$1>計算!$B$26,BX$2,($BG4-BX$1)/計算!$B$26*BX$2))","v":0},{"$f":"IF($BG4<BY$1,0,IF($BG4-BY$1>計算!$B$26,BY$2,($BG4-BY$1)/計算!$B$26*BY$2))","v":0},{"$f":"IF($BG4<BZ$1,0,IF($BG4-BZ$1>計算!$B$26,BZ$2,($BG4-BZ$1)/計算!$B$26*BZ$2))","v":0},{"$f":"IF($BG4<CA$1,0,IF($BG4-CA$1>計算!$B$26,CA$2,($BG4-CA$1)/計算!$B$26*CA$2))","v":0},{"$f":"IF($BG4<CB$1,0,IF($BG4-CB$1>計算!$B$26,CB$2,($BG4-CB$1)/計算!$B$26*CB$2))","v":0},{"$f":"IF($BG4<CC$1,0,IF($BG4-CC$1>計算!$B$26,CC$2,($BG4-CC$1)/計算!$B$26*CC$2))","v":0},{"$f":"IF($BG4<CD$1,0,IF($BG4-CD$1>計算!$B$26,CD$2,($BG4-CD$1)/計算!$B$26*CD$2))","v":0},{"$f":"IF($BG4<CE$1,0,IF($BG4-CE$1>計算!$B$26,CE$2,($BG4-CE$1)/計算!$B$26*CE$2))","v":0},{"$f":"IF($BG4<CF$1,0,IF($BG4-CF$1>計算!$B$26,CF$2,($BG4-CF$1)/計算!$B$26*CF$2))","v":0},{"$f":"IF($BG4<CG$1,0,IF($BG4-CG$1>計算!$B$26,CG$2,($BG4-CG$1)/計算!$B$26*CG$2))","v":0},{"$f":"IF($BG4<CH$1,0,IF($BG4-CH$1>計算!$B$26,CH$2,($BG4-CH$1)/計算!$B$26*CH$2))","v":0},{"$f":"IF($BG4<CI$1,0,IF($BG4-CI$1>計算!$B$26,CI$2,($BG4-CI$1)/計算!$B$26*CI$2))","v":0},{"$f":"IF($BG4<CJ$1,0,IF($BG4-CJ$1>計算!$B$26,CJ$2,($BG4-CJ$1)/計算!$B$26*CJ$2))","v":0},{"$f":"IF($BG4<CK$1,0,IF($BG4-CK$1>計算!$B$26,CK$2,($BG4-CK$1)/計算!$B$26*CK$2))","v":0},{"$f":"SUM(BH4:CK4)","v":0},null,null,{"$f":"IF($B$1=1,L4,BG4)","v":0},{"$f":"IF($B$1=1,AW68,CL68)","v":0},{"$f":"IF($B$1=1,AX68,CM68)","v":0}]
["RF",{"$f":"IF($B$1=1,$B$2,$B$3)","v":33.333333334333332},null,null,null,4,{"$f":"準備!J4","v":1.950212974090658},{"$f":"準備!O4-準備!O3","v":0.93101299851738872},{"$f":"準備!P4-準備!P3","v":-0.21184658990487348},null,2,{"$f":"OFFSET(G$2,MATCH(K5,F$3:F$74,0),0,1,1)","v":0.50000000010000001},{"$f":"IF($L5<M$1,0,IF($L5-M$1>計算!$B$26,M$2,($L5-M$1)/計算!$B$26*M$2))","v":1.9890005284157226},{"$f":"IF($L5<N$1,0,IF($L5-N$1>計算!$B$26,N$2,($L5-N$1)/計算!$B$26*N$2))","v":0},{"$f":"IF($L5<O$1,0,IF($L5-O$1>計算!$B$26,O$2,($L5-O$1)/計算!$B$26*O$2))","v":0},{"$f":"IF($L5<P$1,0,IF($L5-P$1>計算!$B$26,P$2,($L5-P$1)/計算!$B$26*P$2))","v":0},{"$f":"IF($L5<Q$1,0,IF($L5-Q$1>計算!$B$26,Q$2,($L5-Q$1)/計算!$B$26*Q$2))","v":0},{"$f":"IF($L5<R$1,0,IF($L5-R$1>計算!$B$26,R$2,($L5-R$1)/計算!$B$26*R$2))","v":0},{"$f":"IF($L5<S$1,0,IF($L5-S$1>計算!$B$26,S$2,($L5-S$1)/計算!$B$26*S$2))","v":0},{"$f":"IF($L5<T$1,0,IF($L5-T$1>計算!$B$26,T$2,($L5-T$1)/計算!$B$26*T$2))","v":0},{"$f":"IF($L5<U$1,0,IF($L5-U$1>計算!$B$26,U$2,($L5-U$1)/計算!$B$26*U$2))","v":0},{"$f":"IF($L5<V$1,0,IF($L5-V$1>計算!$B$26,V$2,($L5-V$1)/計算!$B$26*V$2))","v":0},{"$f":"IF($L5<W$1,0,IF($L5-W$1>計算!$B$26,W$2,($L5-W$1)/計算!$B$26*W$2))","v":0},{"$f":"IF($L5<X$1,0,IF($L5-X$1>計算!$B$26,X$2,($L5-X$1)/計算!$B$26*X$2))","v":0},{"$f":"IF($L5<Y$1,0,IF($L5-Y$1>計算!$B$26,Y$2,($L5-Y$1)/計算!$B$26*Y$2))","v":0},{"$f":"IF($L5<Z$1,0,IF($L5-Z$1>計算!$B$26,Z$2,($L5-Z$1)/計算!$B$26*Z$2))","v":0},{"$f":"IF($L5<AA$1,0,IF($L5-AA$1>計算!$B$26,AA$2,($L5-AA$1)/計算!$B$26*AA$2))","v":0},{"$f":"IF($L5<AB$1,0,IF($L5-AB$1>計算!$B$26,AB$2,($L5-AB$1)/計算!$B$26*AB$2))","v":0},{"$f":"IF($L5<AC$1,0,IF($L5-AC$1>計算!$B$26,AC$2,($L5-AC$1)/計算!$B$26*AC$2))","v":0},{"$f":"IF($L5<AD$1,0,IF($L5-AD$1>計算!$B$26,AD$2,($L5-AD$1)/計算!$B$26*AD$2))","v":0},{"$f":"IF($L5<AE$1,0,IF($L5-AE$1>計算!$B$26,AE$2,($L5-AE$1)/計算!$B$26*AE$2))","v":0},{"$f":"IF($L5<AF$1,0,IF($L5-AF$1>計算!$B$26,AF$2,($L5-AF$1)/計算!$B$26*AF$2))","v":0},{"$f":"IF($L5<AG$1,0,IF($L5-AG$1>計算!$B$26,AG$2,($L5-AG$1)/計算!$B$26*AG$2))","v":0},{"$f":"IF($L5<AH$1,0,IF($L5-AH$1>計算!$B$26,AH$2,($L5-AH$1)/計算!$B$26*AH$2))","v":0},{"$f":"IF($L5<AI$1,0,IF($L5-AI$1>計算!$B$26,AI$2,($L5-AI$1)/計算!$B$26*AI$2))","v":0},{"$f":"IF($L5<AJ$1,0,IF($L5-AJ$1>計算!$B$26,AJ$2,($L5-AJ$1)/計算!$B$26*AJ$2))","v":0},{"$f":"IF($L5<AK$1,0,IF($L5-AK$1>計算!$B$26,AK$2,($L5-AK$1)/計算!$B$26*AK$2))","v":0},{"$f":"IF($L5<AL$1,0,IF($L5-AL$1>計算!$B$26,AL$2,($L5-AL$1)/計算!$B$26*AL$2))","v":0},{"$f":"IF($L5<AM$1,0,IF($L5-AM$1>計算!$B$26,AM$2,($L5-AM$1)/計算!$B$26*AM$2))","v":0},{"$f":"IF($L5<AN$1,0,IF($L5-AN$1>計算!$B$26,AN$2,($L5-AN$1)/計算!$B$26*AN$2))","v":0},{"$f":"IF($L5<AO$1,0,IF($L5-AO$1>計算!$B$26,AO$2,($L5-AO$1)/計算!$B$26*AO$2))","v":0},{"$f":"IF($L5<AP$1,0,IF($L5-AP$1>計算!$B$26,AP$2,($L5-AP$1)/計算!$B$26*AP$2))","v":0},{"$f":"IF($L5<AQ$1,0,IF($L5-AQ$1>計算!$B$26,AQ$2,($L5-AQ$1)/計算!$B$26*AQ$2))","v":0},{"$f":"IF($L5<AR$1,0,IF($L5-AR$1>計算!$B$26,AR$2,($L5-AR$1)/計算!$B$26*AR$2))","v":0},{"$f":"IF($L5<AS$1,0,IF($L5-AS$1>計算!$B$26,AS$2,($L5-AS$1)/計算!$B$26*AS$2))","v":0},{"$f":"IF($L5<AT$1,0,IF($L5-AT$1>計算!$B$26,AT$2,($L5-AT$1)/計算!$B$26*AT$2))","v":0},{"$f":"IF($L5<AU$1,0,IF($L5-AU$1>計算!$B$26,AU$2,($L5-AU$1)/計算!$B$26*AU$2))","v":0},{"$f":"IF($L5<AV$1,0,IF($L5-AV$1>計算!$B$26,AV$2,($L5-AV$1)/計算!$B$26*AV$2))","v":0},{"$f":"SUM(M5:AV5)","v":1.9890005284157226},null,null,null,5,{"$f":"準備!T4","v":2.8820881102325},{"$f":"準備!Y4-準備!Y3","v":0.43833573789608726},{"$f":"準備!Z4-準備!Z3","v":-0.15970956504964062},null,1,{"$f":"OFFSET(BB$2,MATCH(BF5,BA$3:BA$62,0),0,1,1)","v":0.96069603674416659},{"$f":"IF($BG5<BH$1,0,IF($BG5-BH$1>計算!$B$26,BH$2,($BG5-BH$1)/計算!$B$26*BH$2))","v":0},{"$f":"IF($BG5<BI$1,0,IF($BG5-BI$1>計算!$B$26,BI$2,($BG5-BI$1)/計算!$B$26*BI$2))","v":0},{"$f":"IF($BG5<BJ$1,0,IF($BG5-BJ$1>計算!$B$26,BJ$2,($BG5-BJ$1)/計算!$B$26*BJ$2))","v":0},{"$f":"IF($BG5<BK$1,0,IF($BG5-BK$1>計算!$B$26,BK$2,($BG5-BK$1)/計算!$B$26*BK$2))","v":0},{"$f":"IF($BG5<BL$1,0,IF($BG5-BL$1>計算!$B$26,BL$2,($BG5-BL$1)/計算!$B$26*BL$2))","v":0},{"$f":"IF($BG5<BM$1,0,IF($BG5-BM$1>計算!$B$26,BM$2,($BG5-BM$1)/計算!$B$26*BM$2))","v":0},{"$f":"IF($BG5<BN$1,0,IF($BG5-BN$1>計算!$B$26,BN$2,($BG5-BN$1)/計算!$B$26*BN$2))","v":0},{"$f":"IF($BG5<BO$1,0,IF($BG5-BO$1>計算!$B$26,BO$2,($BG5-BO$1)/計算!$B$26*BO$2))","v":0},{"$f":"IF($BG5<BP$1,0,IF($BG5-BP$1>計算!$B$26,BP$2,($BG5-BP$1)/計算!$B$26*BP$2))","v":0},{"$f":"IF($BG5<BQ$1,0,IF($BG5-BQ$1>計算!$B$26,BQ$2,($BG5-BQ$1)/計算!$B$26*BQ$2))","v":0},{"$f":"IF($BG5<BR$1,0,IF($BG5-BR$1>計算!$B$26,BR$2,($BG5-BR$1)/計算!$B$26*BR$2))","v":0},{"$f":"IF($BG5<BS$1,0,IF($BG5-BS$1>計算!$B$26,BS$2,($BG5-BS$1)/計算!$B$26*BS$2))","v":0},{"$f":"IF($BG5<BT$1,0,IF($BG5-BT$1>計算!$B$26,BT$2,($BG5-BT$1)/計算!$B$26*BT$2))","v":0},{"$f":"IF($BG5<BU$1,0,IF($BG5-BU$1>計算!$B$26,BU$2,($BG5-BU$1)/計算!$B$26*BU$2))","v":0},{"$f":"IF($BG5<BV$1,0,IF($BG5-BV$1>計算!$B$26,BV$2,($BG5-BV$1)/計算!$B$26*BV$2))","v":0},{"$f":"IF($BG5<BW$1,0,IF($BG5-BW$1>計算!$B$26,BW$2,($BG5-BW$1)/計算!$B$26*BW$2))","v":0},{"$f":"IF($BG5<BX$1,0,IF($BG5-BX$1>計算!$B$26,BX$2,($BG5-BX$1)/計算!$B$26*BX$2))","v":0},{"$f":"IF($BG5<BY$1,0,IF($BG5-BY$1>計算!$B$26,BY$2,($BG5-BY$1)/計算!$B$26*BY$2))","v":0},{"$f":"IF($BG5<BZ$1,0,IF($BG5-BZ$1>計算!$B$26,BZ$2,($BG5-BZ$1)/計算!$B$26*BZ$2))","v":0},{"$f":"IF($BG5<CA$1,0,IF($BG5-CA$1>計算!$B$26,CA$2,($BG5-CA$1)/計算!$B$26*CA$2))","v":0},{"$f":"IF($BG5<CB$1,0,IF($BG5-CB$1>計算!$B$26,CB$2,($BG5-CB$1)/計算!$B$26*CB$2))","v":0},{"$f":"IF($BG5<CC$1,0,IF($BG5-CC$1>計算!$B$26,CC$2,($BG5-CC$1)/計算!$B$26*CC$2))","v":0},{"$f":"IF($BG5<CD$1,0,IF($BG5-CD$1>計算!$B$26,CD$2,($BG5-CD$1)/計算!$B$26*CD$2))","v":0},{"$f":"IF($BG5<CE$1,0,IF($BG5-CE$1>計算!$B$26,CE$2,($BG5-CE$1)/計算!$B$26*CE$2))","v":0},{"$f":"IF($BG5<CF$1,0,IF($BG5-CF$1>計算!$B$26,CF$2,($BG5-CF$1)/計算!$B$26*CF$2))","v":0},{"$f":"IF($BG5<CG$1,0,IF($BG5-CG$1>計算!$B$26,CG$2,($BG5-CG$1)/計算!$B$26*CG$2))","v":0},{"$f":"IF($BG5<CH$1,0,IF($BG5-CH$1>計算!$B$26,CH$2,($BG5-CH$1)/計算!$B$26*CH$2))","v":0},{"$f":"IF($BG5<CI$1,0,IF($BG5-CI$1>計算!$B$26,CI$2,($BG5-CI$1)/計算!$B$26*CI$2))","v":0},{"$f":"IF($BG5<CJ$1,0,IF($BG5-CJ$1>計算!$B$26,CJ$2,($BG5-CJ$1)/計算!$B$26*CJ$2))","v":0},{"$f":"IF($BG5<CK$1,0,IF($BG5-CK$1>計算!$B$26,CK$2,($BG5-CK$1)/計算!$B$26*CK$2))","v":0},{"$f":"SUM(BH5:CK5)","v":0},null,null,{"$f":"IF($B$1=1,L5,BG5)","v":0.50000000010000001},{"$f":"IF($B$1=1,AW69,CL69)","v":0.2983353312641418},-0.2983353312641418]
["Z0",{"$f":"VLOOKUP(波形!N5,Data!H2:I12,2,1)","v":50},null,null,null,5,{"$f":"準備!J5","v":1.9790338746929825},{"$f":"準備!O5-準備!O4","v":0.27879940541488013},{"$f":"準備!P5-準備!P4","v":0.63830901206403412},null,3,{"$f":"OFFSET(G$2,MATCH(K6,F$3:F$74,0),0,1,1)","v":1.9213920734883332},{"$f":"IF($L6<M$1,0,IF($L6-M$1>計算!$B$26,M$2,($L6-M$1)/計算!$B$26*M$2))","v":1.9890005284157226},{"$f":"IF($L6<N$1,0,IF($L6-N$1>計算!$B$26,N$2,($L6-N$1)/計算!$B$26*N$2))","v":0},{"$f":"IF($L6<O$1,0,IF($L6-O$1>計算!$B$26,O$2,($L6-O$1)/計算!$B$26*O$2))","v":0},{"$f":"IF($L6<P$1,0,IF($L6-P$1>計算!$B$26,P$2,($L6-P$1)/計算!$B$26*P$2))","v":0},{"$f":"IF($L6<Q$1,0,IF($L6-Q$1>計算!$B$26,Q$2,($L6-Q$1)/計算!$B$26*Q$2))","v":0},{"$f":"IF($L6<R$1,0,IF($L6-R$1>計算!$B$26,R$2,($L6-R$1)/計算!$B$26*R$2))","v":0},{"$f":"IF($L6<S$1,0,IF($L6-S$1>計算!$B$26,S$2,($L6-S$1)/計算!$B$26*S$2))","v":0},{"$f":"IF($L6<T$1,0,IF($L6-T$1>計算!$B$26,T$2,($L6-T$1)/計算!$B$26*T$2))","v":0},{"$f":"IF($L6<U$1,0,IF($L6-U$1>計算!$B$26,U$2,($L6-U$1)/計算!$B$26*U$2))","v":0},{"$f":"IF($L6<V$1,0,IF($L6-V$1>計算!$B$26,V$2,($L6-V$1)/計算!$B$26*V$2))","v":0},{"$f":"IF($L6<W$1,0,IF($L6-W$1>計算!$B$26,W$2,($L6-W$1)/計算!$B$26*W$2))","v":0},{"$f":"IF($L6<X$1,0,IF($L6-X$1>計算!$B$26,X$2,($L6-X$1)/計算!$B$26*X$2))","v":0},{"$f":"IF($L6<Y$1,0,IF($L6-Y$1>計算!$B$26,Y$2,($L6-Y$1)/計算!$B$26*Y$2))","v":0},{"$f":"IF($L6<Z$1,0,IF($L6-Z$1>計算!$B$26,Z$2,($L6-Z$1)/計算!$B$26*Z$2))","v":0},{"$f":"IF($L6<AA$1,0,IF($L6-AA$1>計算!$B$26,AA$2,($L6-AA$1)/計算!$B$26*AA$2))","v":0},{"$f":"IF($L6<AB$1,0,IF($L6-AB$1>計算!$B$26,AB$2,($L6-AB$1)/計算!$B$26*AB$2))","v":0},{"$f":"IF($L6<AC$1,0,IF($L6-AC$1>計算!$B$26,AC$2,($L6-AC$1)/計算!$B$26*AC$2))","v":0},{"$f":"IF($L6<AD$1,0,IF($L6-AD$1>計算!$B$26,AD$2,($L6-AD$1)/計算!$B$26*AD$2))","v":0},{"$f":"IF($L6<AE$1,0,IF($L6-AE$1>計算!$B$26,AE$2,($L6-AE$1)/計算!$B$26*AE$2))","v":0},{"$f":"IF($L6<AF$1,0,IF($L6-AF$1>計算!$B$26,AF$2,($L6-AF$1)/計算!$B$26*AF$2))","v":0},{"$f":"IF($L6<AG$1,0,IF($L6-AG$1>計算!$B$26,AG$2,($L6-AG$1)/計算!$B$26*AG$2))","v":0},{"$f":"IF($L6<AH$1,0,IF($L6-AH$1>計算!$B$26,AH$2,($L6-AH$1)/計算!$B$26*AH$2))","v":0},{"$f":"IF($L6<AI$1,0,IF($L6-AI$1>計算!$B$26,AI$2,($L6-AI$1)/計算!$B$26*AI$2))","v":0},{"$f":"IF($L6<AJ$1,0,IF($L6-AJ$1>計算!$B$26,AJ$2,($L6-AJ$1)/計算!$B$26*AJ$2))","v":0},{"$f":"IF($L6<AK$1,0,IF($L6-AK$1>計算!$B$26,AK$2,($L6-AK$1)/計算!$B$26*AK$2))","v":0},{"$f":"IF($L6<AL$1,0,IF($L6-AL$1>計算!$B$26,AL$2,($L6-AL$1)/計算!$B$26*AL$2))","v":0},{"$f":"IF($L6<AM$1,0,IF($L6-AM$1>計算!$B$26,AM$2,($L6-AM$1)/計算!$B$26*AM$2))","v":0},{"$f":"IF($L6<AN$1,0,IF($L6-AN$1>計算!$B$26,AN$2,($L6-AN$1)/計算!$B$26*AN$2))","v":0},{"$f":"IF($L6<AO$1,0,IF($L6-AO$1>計算!$B$26,AO$2,($L6-AO$1)/計算!$B$26*AO$2))","v":0},{"$f":"IF($L6<AP$1,0,IF($L6-AP$1>計算!$B$26,AP$2,($L6-AP$1)/計算!$B$26*AP$2))","v":0},{"$f":"IF($L6<AQ$1,0,IF($L6-AQ$1>計算!$B$26,AQ$2,($L6-AQ$1)/計算!$B$26*AQ$2))","v":0},{"$f":"IF($L6<AR$1,0,IF($L6-AR$1>計算!$B$26,AR$2,($L6-AR$1)/計算!$B$26*AR$2))","v":0},{"$f":"IF($L6<AS$1,0,IF($L6-AS$1>計算!$B$26,AS$2,($L6-AS$1)/計算!$B$26*AS$2))","v":0},{"$f":"IF($L6<AT$1,0,IF($L6-AT$1>計算!$B$26,AT$2,($L6-AT$1)/計算!$B$26*AT$2))","v":0},{"$f":"IF($L6<AU$1,0,IF($L6-AU$1>計算!$B$26,AU$2,($L6-AU$1)/計算!$B$26*AU$2))","v":0},{"$f":"IF($L6<AV$1,0,IF($L6-AV$1>計算!$B$26,AV$2,($L6-AV$1)/計算!$B$26*AV$2))","v":0},1.9890005284157226,null,null,null,6,{"$f":"準備!T5","v":2.9109090108348243},{"$f":"準備!Y5-準備!Y4","v":-0.55120106185706153},{"$f":"準備!Z5-準備!Z4","v":-0.21551880103922261},null,2,0.98951693734649127,{"$f":"IF($BG6<BH$1,0,IF($BG6-BH$1>計算!$B$26,BH$2,($BG6-BH$1)/計算!$B$26*BH$2))","v":0.10625832866038232},{"$f":"IF($BG6<BI$1,0,IF($BG6-BI$1>計算!$B$26,BI$2,($BG6-BI$1)/計算!$B$26*BI$2))","v":0},{"$f":"IF($BG6<BJ$1,0,IF($BG6-BJ$1>計算!$B$26,BJ$2,($BG6-BJ$1)/計算!$B$26*BJ$2))","v":0},{"$f":"IF($BG6<BK$1,0,IF($BG6-BK$1>計算!$B$26,BK$2,($BG6-BK$1)/計算!$B$26*BK$2))","v":0},{"$f":"IF($BG6<BL$1,0,IF($BG6-BL$1>計算!$B$26,BL$2,($BG6-BL$1)/計算!$B$26*BL$2))","v":0},{"$f":"IF($BG6<BM$1,0,IF($BG6-BM$1>計算!$B$26,BM$2,($BG6-BM$1)/計算!$B$26*BM$2))","v":0},{"$f":"IF($BG6<BN$1,0,IF($BG6-BN$1>計算!$B$26,BN$2,($BG6-BN$1)/計算!$B$26*BN$2))","v":0},{"$f":"IF($BG6<BO$1,0,IF($BG6-BO$1>計算!$B$26,BO$2,($BG6-BO$1)/計算!$B$26*BO$2))","v":0},{"$f":"IF($BG6<BP$1,0,IF($BG6-BP$1>計算!$B$26,BP$2,($BG6-BP$1)/計算!$B$26*BP$2))","v":0},{"$f":"IF($BG6<BQ$1,0,IF($BG6-BQ$1>計算!$B$26,BQ$2,($BG6-BQ$1)/計算!$B$26*BQ$2))","v":0},{"$f":"IF($BG6<BR$1,0,IF($BG6-BR$1>計算!$B$26,BR$2,($BG6-BR$1)/計算!$B$26*BR$2))","v":0},{"$f":"IF($BG6<BS$1,0,IF($BG6-BS$1>計算!$B$26,BS$2,($BG6-BS$1)/計算!$B$26*BS$2))","v":0},{"$f":"IF($BG6<BT$1,0,IF($BG6-BT$1>計算!$B$26,BT$2,($BG6-BT$1)/計算!$B$26*BT$2))","v":0},{"$f":"IF($BG6<BU$1,0,IF($BG6-BU$1>計算!$B$26,BU$2,($BG6-BU$1)/計算!$B$26*BU$2))","v":0},{"$f":"IF($BG6<BV$1,0,IF($BG6-BV$1>計算!$B$26,BV$2,($BG6-BV$1)/計算!$B$26*BV$2))","v":0},{"$f":"IF($BG6<BW$1,0,IF($BG6-BW$1>計算!$B$26,BW$2,($BG6-BW$1)/計算!$B$26*BW$2))","v":0},{"$f":"IF($BG6<BX$1,0,IF($BG6-BX$1>計算!$B$26,BX$2,($BG6-BX$1)/計算!$B$26*BX$2))","v":0},{"$f":"IF($BG6<BY$1,0,IF($BG6-BY$1>計算!$B$26,BY$2,($BG6-BY$1)/計算!$B$26*BY$2))","v":0},{"$f":"IF($BG6<BZ$1,0,IF($BG6-BZ$1>計算!$B$26,BZ$2,($BG6-BZ$1)/計算!$B$26*BZ$2))","v":0},{"$f":"IF($BG6<CA$1,0,IF($BG6-CA$1>計算!$B$26,CA$2,($BG6-CA$1)/計算!$B$26*CA$2))","v":0},{"$f":"IF($BG6<CB$1,0,IF($BG6-CB$1>計算!$B$26,CB$2,($BG6-CB$1)/計算!$B$26*CB$2))","v":0},{"$f":"IF($BG6<CC$1,0,IF($BG6-CC$1>計算!$B$26,CC$2,($BG6-CC$1)/計算!$B$26*CC$2))","v":0},{"$f":"IF($BG6<CD$1,0,IF($BG6-CD$1>計算!$B$26,CD$2,($BG6-CD$1)/計算!$B$26*CD$2))","v":0},{"$f":"IF($BG6<CE$1,0,IF($BG6-CE$1>計算!$B$26,CE$2,($BG6-CE$1)/計算!$B$26*CE$2))","v":0},{"$f":"IF($BG6<CF$1,0,IF($BG6-CF$1>計算!$B$26,CF$2,($BG6-CF$1)/計算!$B$26*CF$2))","v":0},{"$f":"IF($BG6<CG$1,0,IF($BG6-CG$1>計算!$B$26,CG$2,($BG6-CG$1)/計算!$B$26*CG$2))","v":0},{"$f":"IF($BG6<CH$1,0,IF($BG6-CH$1>計算!$B$26,CH$2,($BG6-CH$1)/計算!$B$26*CH$2))","v":0},{"$f":"IF($BG6<CI$1,0,IF($BG6-CI$1>計算!$B$26,CI$2,($BG6-CI$1)/計算!$B$26*CI$2))","v":0},{"$f":"IF($BG6<CJ$1,0,IF($BG6-CJ$1>計算!$B$26,CJ$2,($BG6-CJ$1)/計算!$B$26*CJ$2))","v":0},{"$f":"IF($BG6<CK$1,0,IF($BG6-CK$1>計算!$B$26,CK$2,($BG6-CK$1)/計算!$B$26*CK$2))","v":0},0.10625832866038232,null,null,1.9213920734883332,0.2983353312641418,-0.2983353312641418]
["ξ",{"$f":"VLOOKUP(波形!R7,Data!K2:K12,1,0)","v":0.15},null,null,null,9,{"$f":"準備!J6","v":3.8427841469766664},{"$f":"準備!O6-準備!O5","v":7.7879229924124438E-2},{"$f":"準備!P6-準備!P5","v":-0.21374580605087579},null,4,1.950212974090658,{"$f":"IF($L7<M$1,0,IF($L7-M$1>計算!$B$26,M$2,($L7-M$1)/計算!$B$26*M$2))","v":1.9890005284157226},{"$f":"IF($L7<N$1,0,IF($L7-N$1>計算!$B$26,N$2,($L7-N$1)/計算!$B$26*N$2))","v":1.8878946190458573E-2},{"$f":"IF($L7<O$1,0,IF($L7-O$1>計算!$B$26,O$2,($L7-O$1)/計算!$B$26*O$2))","v":0},{"$f":"IF($L7<P$1,0,IF($L7-P$1>計算!$B$26,P$2,($L7-P$1)/計算!$B$26*P$2))","v":0},{"$f":"IF($L7<Q$1,0,IF($L7-Q$1>計算!$B$26,Q$2,($L7-Q$1)/計算!$B$26*Q$2))","v":0},{"$f":"IF($L7<R$1,0,IF($L7-R$1>計算!$B$26,R$2,($L7-R$1)/計算!$B$26*R$2))","v":0},{"$f":"IF($L7<S$1,0,IF($L7-S$1>計算!$B$26,S$2,($L7-S$1)/計算!$B$26*S$2))","v":0},{"$f":"IF($L7<T$1,0,IF($L7-T$1>計算!$B$26,T$2,($L7-T$1)/計算!$B$26*T$2))","v":0},{"$f":"IF($L7<U$1,0,IF($L7-U$1>計算!$B$26,U$2,($L7-U$1)/計算!$B$26*U$2))","v":0},{"$f":"IF($L7<V$1,0,IF($L7-V$1>計算!$B$26,V$2,($L7-V$1)/計算!$B$26*V$2))","v":0},{"$f":"IF($L7<W$1,0,IF($L7-W$1>計算!$B$26,W$2,($L7-W$1)/計算!$B$26*W$2))","v":0},{"$f":"IF($L7<X$1,0,IF($L7-X$1>計算!$B$26,X$2,($L7-X$1)/計算!$B$26*X$2))","v":0},{"$f":"IF($L7<Y$1,0,IF($L7-Y$1>計算!$B$26,Y$2,($L7-Y$1)/計算!$B$26*Y$2))","v":0},{"$f":"IF($L7<Z$1,0,IF($L7-Z$1>計算!$B$26,Z$2,($L7-Z$1)/計算!$B$26*Z$2))","v":0},{"$f":"IF($L7<AA$1,0,IF($L7-AA$1>計算!$B$26,AA$2,($L7-AA$1)/計算!$B$26*AA$2))","v":0},{"$f":"IF($L7<AB$1,0,IF($L7-AB$1>計算!$B$26,AB$2,($L7-AB$1)/計算!$B$26*AB$2))","v":0},{"$f":"IF($L7<AC$1,0,IF($L7-AC$1>計算!$B$26,AC$2,($L7-AC$1)/計算!$B$26*AC$2))","v":0},{"$f":"IF($L7<AD$1,0,IF($L7-AD$1>計算!$B$26,AD$2,($L7-AD$1)/計算!$B$26*AD$2))","v":0},{"$f":"IF($L7<AE$1,0,IF($L7-AE$1>計算!$B$26,AE$2,($L7-AE$1)/計算!$B$26*AE$2))","v":0},{"$f":"IF($L7<AF$1,0,IF($L7-AF$1>計算!$B$26,AF$2,($L7-AF$1)/計算!$B$26*AF$2))","v":0},{"$f":"IF($L7<AG$1,0,IF($L7-AG$1>計算!$B$26,AG$2,($L7-AG$1)/計算!$B$26*AG$2))","v":0},{"$f":"IF($L7<AH$1,0,IF($L7-AH$1>計算!$B$26,AH$2,($L7-AH$1)/計算!$B$26*AH$2))","v":0},{"$f":"IF($L7<AI$1,0,IF($L7-AI$1>計算!$B$26,AI$2,($L7-AI$1)/計算!$B$26*AI$2))","v":0},{"$f":"IF($L7<AJ$1,0,IF($L7-AJ$1>計算!$B$26,AJ$2,($L7-AJ$1)/計算!$B$26*AJ$2))","v":0},{"$f":"IF($L7<AK$1,0,IF($L7-AK$1>計算!$B$26,AK$2,($L7-AK$1)/計算!$B$26*AK$2))","v":0},{"$f":"IF($L7<AL$1,0,IF($L7-AL$1>計算!$B$26,AL$2,($L7-AL$1)/計算!$B$26*AL$2))","v":0},{"$f":"IF($L7<AM$1,0,IF($L7-AM$1>計算!$B$26,AM$2,($L7-AM$1)/計算!$B$26*AM$2))","v":0},{"$f":"IF($L7<AN$1,0,IF($L7-AN$1>計算!$B$26,AN$2,($L7-AN$1)/計算!$B$26*AN$2))","v":0},{"$f":"IF($L7<AO$1,0,IF($L7-AO$1>計算!$B$26,AO$2,($L7-AO$1)/計算!$B$26*AO$2))","v":0},{"$f":"IF($L7<AP$1,0,IF($L7-AP$1>計算!$B$26,AP$2,($L7-AP$1)/計算!$B$26*AP$2))","v":0},{"$f":"IF($L7<AQ$1,0,IF($L7-AQ$1>計算!$B$26,AQ$2,($L7-AQ$1)/計算!$B$26*AQ$2))","v":0},{"$f":"IF($L7<AR$1,0,IF($L7-AR$1>計算!$B$26,AR$2,($L7-AR$1)/計算!$B$26*AR$2))","v":0},{"$f":"IF($L7<AS$1,0,IF($L7-AS$1>計算!$B$26,AS$2,($L7-AS$1)/計算!$B$26*AS$2))","v":0},{"$f":"IF($L7<AT$1,0,IF($L7-AT$1>計算!$B$26,AT$2,($L7-AT$1)/計算!$B$26*AT$2))","v":0},{"$f":"IF($L7<AU$1,0,IF($L7-AU$1>計算!$B$26,AU$2,($L7-AU$1)/計算!$B$26*AU$2))","v":0},{"$f":"IF($L7<AV$1,0,IF($L7-AV$1>計算!$B$26,AV$2,($L7-AV$1)/計算!$B$26*AV$2))","v":0},2.007879474606181,null,null,null,7,{"$f":"準備!T6","v":2.9397299114371491},{"$f":"準備!Y6-準備!Y5","v":-0.80365187452039688},{"$f":"準備!Z6-準備!Z5","v":-3.6979193377590036E-2},null,3,1.4606960467441665,{"$f":"IF($BG7<BH$1,0,IF($BG7-BH$1>計算!$B$26,BH$2,($BG7-BH$1)/計算!$B$26*BH$2))","v":1.8434248486289773},{"$f":"IF($BG7<BI$1,0,IF($BG7-BI$1>計算!$B$26,BI$2,($BG7-BI$1)/計算!$B$26*BI$2))","v":1.9605159352319019},{"$f":"IF($BG7<BJ$1,0,IF($BG7-BJ$1>計算!$B$26,BJ$2,($BG7-BJ$1)/計算!$B$26*BJ$2))","v":0},{"$f":"IF($BG7<BK$1,0,IF($BG7-BK$1>計算!$B$26,BK$2,($BG7-BK$1)/計算!$B$26*BK$2))","v":0},{"$f":"IF($BG7<BL$1,0,IF($BG7-BL$1>計算!$B$26,BL$2,($BG7-BL$1)/計算!$B$26*BL$2))","v":0},{"$f":"IF($BG7<BM$1,0,IF($BG7-BM$1>計算!$B$26,BM$2,($BG7-BM$1)/計算!$B$26*BM$2))","v":0},{"$f":"IF($BG7<BN$1,0,IF($BG7-BN$1>計算!$B$26,BN$2,($BG7-BN$1)/計算!$B$26*BN$2))","v":0},{"$f":"IF($BG7<BO$1,0,IF($BG7-BO$1>計算!$B$26,BO$2,($BG7-BO$1)/計算!$B$26*BO$2))","v":0},{"$f":"IF($BG7<BP$1,0,IF($BG7-BP$1>計算!$B$26,BP$2,($BG7-BP$1)/計算!$B$26*BP$2))","v":0},{"$f":"IF($BG7<BQ$1,0,IF($BG7-BQ$1>計算!$B$26,BQ$2,($BG7-BQ$1)/計算!$B$26*BQ$2))","v":0},{"$f":"IF($BG7<BR$1,0,IF($BG7-BR$1>計算!$B$26,BR$2,($BG7-BR$1)/計算!$B$26*BR$2))","v":0},{"$f":"IF($BG7<BS$1,0,IF($BG7-BS$1>計算!$B$26,BS$2,($BG7-BS$1)/計算!$B$26*BS$2))","v":0},{"$f":"IF($BG7<BT$1,0,IF($BG7-BT$1>計算!$B$26,BT$2,($BG7-BT$1)/計算!$B$26*BT$2))","v":0},{"$f":"IF($BG7<BU$1,0,IF($BG7-BU$1>計算!$B$26,BU$2,($BG7-BU$1)/計算!$B$26*BU$2))","v":0},{"$f":"IF($BG7<BV$1,0,IF($BG7-BV$1>計算!$B$26,BV$2,($BG7-BV$1)/計算!$B$26*BV$2))","v":0},{"$f":"IF($BG7<BW$1,0,IF($BG7-BW$1>計算!$B$26,BW$2,($BG7-BW$1)/計算!$B$26*BW$2))","v":0},{"$f":"IF($BG7<BX$1,0,IF($BG7-BX$1>計算!$B$26,BX$2,($BG7-BX$1)/計算!$B$26*BX$2))","v":0},{"$f":"IF($BG7<BY$1,0,IF($BG7-BY$1>計算!$B$26,BY$2,($BG7-BY$1)/計算!$B$26*BY$2))","v":0},{"$f":"IF($BG7<BZ$1,0,IF($BG7-BZ$1>計算!$B$26,BZ$2,($BG7-BZ$1)/計算!$B$26*BZ$2))","v":0},{"$f":"IF($BG7<CA$1,0,IF($BG7-CA$1>計算!$B$26,CA$2,($BG7-CA$1)/計算!$B$26*CA$2))","v":0},{"$f":"IF($BG7<CB$1,0,IF($BG7-CB$1>計算!$B$26,CB$2,($BG7-CB$1)/計算!$B$26*CB$2))","v":0},{"$f":"IF($BG7<CC$1,0,IF($BG7-CC$1>計算!$B$26,CC$2,($BG7-CC$1)/計算!$B$26*CC$2))","v":0},{"$f":"IF($BG7<CD$1,0,IF($BG7-CD$1>計算!$B$26,CD$2,($BG7-CD$1)/計算!$B$26*CD$2))","v":0},{"$f":"IF($BG7<CE$1,0,IF($BG7-CE$1>計算!$B$26,CE$2,($BG7-CE$1)/計算!$B$26*CE$2))","v":0},{"$f":"IF($BG7<CF$1,0,IF($BG7-CF$1>計算!$B$26,CF$2,($BG7-CF$1)/計算!$B$26*CF$2))","v":0},{"$f":"IF($BG7<CG$1,0,IF($BG7-CG$1>計算!$B$26,CG$2,($BG7-CG$1)/計算!$B$26*CG$2))","v":0},{"$f":"IF($BG7<CH$1,0,IF($BG7-CH$1>計算!$B$26,CH$2,($BG7-CH$1)/計算!$B$26*CH$2))","v":0},{"$f":"IF($BG7<CI$1,0,IF($BG7-CI$1>計算!$B$26,CI$2,($BG7-CI$1)/計算!$B$26*CI$2))","v":0},{"$f":"IF($BG7<CJ$1,0,IF($BG7-CJ$1>計算!$B$26,CJ$2,($BG7-CJ$1)/計算!$B$26*CJ$2))","v":0},{"$f":"IF($BG7<CK$1,0,IF($BG7-CK$1>計算!$B$26,CK$2,($BG7-CK$1)/計算!$B$26*CK$2))","v":0},3.8039407838608792,null,null,1.950212974090658,0.24652054605373158,-0.24652054605373158]
["ξ1N",{"$f":"B7*B4/(B4+B14)","v":0.14999258522156939},null,null,null,10,{"$f":"準備!J7","v":3.8716050475789912},{"$f":"準備!O7-準備!O6","v":-1.1192377066933545E-2},{"$f":"準備!P7-準備!P6","v":0.58793831734057156},null,5,1.9790338746929825,{"$f":"IF($L8<M$1,0,IF($L8-M$1>計算!$B$26,M$2,($L8-M$1)/計算!$B$26*M$2))","v":1.9890005284157226},{"$f":"IF($L8<N$1,0,IF($L8-N$1>計算!$B$26,N$2,($L8-N$1)/計算!$B$26*N$2))","v":3.7757892380917001E-2},{"$f":"IF($L8<O$1,0,IF($L8-O$1>計算!$B$26,O$2,($L8-O$1)/計算!$B$26*O$2))","v":5.3665266179483612E-2},{"$f":"IF($L8<P$1,0,IF($L8-P$1>計算!$B$26,P$2,($L8-P$1)/計算!$B$26*P$2))","v":0},{"$f":"IF($L8<Q$1,0,IF($L8-Q$1>計算!$B$26,Q$2,($L8-Q$1)/計算!$B$26*Q$2))","v":0},{"$f":"IF($L8<R$1,0,IF($L8-R$1>計算!$B$26,R$2,($L8-R$1)/計算!$B$26*R$2))","v":0},{"$f":"IF($L8<S$1,0,IF($L8-S$1>計算!$B$26,S$2,($L8-S$1)/計算!$B$26*S$2))","v":0},{"$f":"IF($L8<T$1,0,IF($L8-T$1>計算!$B$26,T$2,($L8-T$1)/計算!$B$26*T$2))","v":0},{"$f":"IF($L8<U$1,0,IF($L8-U$1>計算!$B$26,U$2,($L8-U$1)/計算!$B$26*U$2))","v":0},{"$f":"IF($L8<V$1,0,IF($L8-V$1>計算!$B$26,V$2,($L8-V$1)/計算!$B$26*V$2))","v":0},{"$f":"IF($L8<W$1,0,IF($L8-W$1>計算!$B$26,W$2,($L8-W$1)/計算!$B$26*W$2))","v":0},{"$f":"IF($L8<X$1,0,IF($L8-X$1>計算!$B$26,X$2,($L8-X$1)/計算!$B$26*X$2))","v":0},{"$f":"IF($L8<Y$1,0,IF($L8-Y$1>計算!$B$26,Y$2,($L8-Y$1)/計算!$B$26*Y$2))","v":0},{"$f":"IF($L8<Z$1,0,IF($L8-Z$1>計算!$B$26,Z$2,($L8-Z$1)/計算!$B$26*Z$2))","v":0},{"$f":"IF($L8<AA$1,0,IF($L8-AA$1>計算!$B$26,AA$2,($L8-AA$1)/計算!$B$26*AA$2))","v":0},{"$f":"IF($L8<AB$1,0,IF($L8-AB$1>計算!$B$26,AB$2,($L8-AB$1)/計算!$B$26*AB$2))","v":0},{"$f":"IF($L8<AC$1,0,IF($L8-AC$1>計算!$B$26,AC$2,($L8-AC$1)/計算!$B$26*AC$2))","v":0},{"$f":"IF($L8<AD$1,0,IF($L8-AD$1>計算!$B$26,AD$2,($L8-AD$1)/計算!$B$26*AD$2))","v":0},{"$f":"IF($L8<AE$1,0,IF($L8-AE$1>計算!$B$26,AE$2,($L8-AE$1)/計算!$B$26*AE$2))","v":0},{"$f":"IF($L8<AF$1,0,IF($L8-AF$1>計算!$B$26,AF$2,($L8-AF$1)/計算!$B$26*AF$2))","v":0},{"$f":"IF($L8<AG$1,0,IF($L8-AG$1>計算!$B$26,AG$2,($L8-AG$1)/計算!$B$26*AG$2))","v":0},{"$f":"IF($L8<AH$1,0,IF($L8-AH$1>計算!$B$26,AH$2,($L8-AH$1)/計算!$B$26*AH$2))","v":0},{"$f":"IF($L8<AI$1,0,IF($L8-AI$1>計算!$B$26,AI$2,($L8-AI$1)/計算!$B$26*AI$2))","v":0},{"$f":"IF($L8<AJ$1,0,IF($L8-AJ$1>計算!$B$26,AJ$2,($L8-AJ$1)/計算!$B$26*AJ$2))","v":0},{"$f":"IF($L8<AK$1,0,IF($L8-AK$1>計算!$B$26,AK$2,($L8-AK$1)/計算!$B$26*AK$2))","v":0},{"$f":"IF($L8<AL$1,0,IF($L8-AL$1>計算!$B$26,AL$2,($L8-AL$1)/計算!$B$26*AL$2))","v":0},{"$f":"IF($L8<AM$1,0,IF($L8-AM$1>計算!$B$26,AM$2,($L8-AM$1)/計算!$B$26*AM$2))","v":0},{"$f":"IF($L8<AN$1,0,IF($L8-AN$1>計算!$B$26,AN$2,($L8-AN$1)/計算!$B$26*AN$2))","v":0},{"$f":"IF($L8<AO$1,0,IF($L8-AO$1>計算!$B$26,AO$2,($L8-AO$1)/計算!$B$26*AO$2))","v":0},{"$f":"IF($L8<AP$1,0,IF($L8-AP$1>計算!$B$26,AP$2,($L8-AP$1)/計算!$B$26*AP$2))","v":0},{"$f":"IF($L8<AQ$1,0,IF($L8-AQ$1>計算!$B$26,AQ$2,($L8-AQ$1)/計算!$B$26*AQ$2))","v":0},{"$f":"IF($L8<AR$1,0,IF($L8-AR$1>計算!$B$26,AR$2,($L8-AR$1)/計算!$B$26*AR$2))","v":0},{"$f":"IF($L8<AS$1,0,IF($L8-AS$1>計算!$B$26,AS$2,($L8-AS$1)/計算!$B$26*AS$2))","v":0},{"$f":"IF($L8<AT$1,0,IF($L8-AT$1>計算!$B$26,AT$2,($L8-AT$1)/計算!$B$26*AT$2))","v":0},{"$f":"IF($L8<AU$1,0,IF($L8-AU$1>計算!$B$26,AU$2,($L8-AU$1)/計算!$B$26*AU$2))","v":0},{"$f":"IF($L8<AV$1,0,IF($L8-AV$1>計算!$B$26,AV$2,($L8-AV$1)/計算!$B$26*AV$2))","v":0},2.0804236869761232,null,null,null,8,{"$f":"準備!T7","v":2.9685508120394739},{"$f":"準備!Y7-準備!Y6","v":0.19584279483276745},{"$f":"準備!Z7-準備!Z6","v":8.5539846253473106E-2},null,4,1.4895169573464913,{"$f":"IF($BG8<BH$1,0,IF($BG8-BH$1>計算!$B$26,BH$2,($BG8-BH$1)/計算!$B$26*BH$2))","v":1.8434248486289773},{"$f":"IF($BG8<BI$1,0,IF($BG8-BI$1>計算!$B$26,BI$2,($BG8-BI$1)/計算!$B$26*BI$2))","v":2.0804359702386828},{"$f":"IF($BG8<BJ$1,0,IF($BG8-BJ$1>計算!$B$26,BJ$2,($BG8-BJ$1)/計算!$B$26*BJ$2))","v":0},{"$f":"IF($BG8<BK$1,0,IF($BG8-BK$1>計算!$B$26,BK$2,($BG8-BK$1)/計算!$B$26*BK$2))","v":0},{"$f":"IF($BG8<BL$1,0,IF($BG8-BL$1>計算!$B$26,BL$2,($BG8-BL$1)/計算!$B$26*BL$2))","v":0},{"$f":"IF($BG8<BM$1,0,IF($BG8-BM$1>計算!$B$26,BM$2,($BG8-BM$1)/計算!$B$26*BM$2))","v":0},{"$f":"IF($BG8<BN$1,0,IF($BG8-BN$1>計算!$B$26,BN$2,($BG8-BN$1)/計算!$B$26*BN$2))","v":0},{"$f":"IF($BG8<BO$1,0,IF($BG8-BO$1>計算!$B$26,BO$2,($BG8-BO$1)/計算!$B$26*BO$2))","v":0},{"$f":"IF($BG8<BP$1,0,IF($BG8-BP$1>計算!$B$26,BP$2,($BG8-BP$1)/計算!$B$26*BP$2))","v":0},{"$f":"IF($BG8<BQ$1,0,IF($BG8-BQ$1>計算!$B$26,BQ$2,($BG8-BQ$1)/計算!$B$26*BQ$2))","v":0},{"$f":"IF($BG8<BR$1,0,IF($BG8-BR$1>計算!$B$26,BR$2,($BG8-BR$1)/計算!$B$26*BR$2))","v":0},{"$f":"IF($BG8<BS$1,0,IF($BG8-BS$1>計算!$B$26,BS$2,($BG8-BS$1)/計算!$B$26*BS$2))","v":0},{"$f":"IF($BG8<BT$1,0,IF($BG8-BT$1>計算!$B$26,BT$2,($BG8-BT$1)/計算!$B$26*BT$2))","v":0},{"$f":"IF($BG8<BU$1,0,IF($BG8-BU$1>計算!$B$26,BU$2,($BG8-BU$1)/計算!$B$26*BU$2))","v":0},{"$f":"IF($BG8<BV$1,0,IF($BG8-BV$1>計算!$B$26,BV$2,($BG8-BV$1)/計算!$B$26*BV$2))","v":0},{"$f":"IF($BG8<BW$1,0,IF($BG8-BW$1>計算!$B$26,BW$2,($BG8-BW$1)/計算!$B$26*BW$2))","v":0},{"$f":"IF($BG8<BX$1,0,IF($BG8-BX$1>計算!$B$26,BX$2,($BG8-BX$1)/計算!$B$26*BX$2))","v":0},{"$f":"IF($BG8<BY$1,0,IF($BG8-BY$1>計算!$B$26,BY$2,($BG8-BY$1)/計算!$B$26*BY$2))","v":0},{"$f":"IF($BG8<BZ$1,0,IF($BG8-BZ$1>計算!$B$26,BZ$2,($BG8-BZ$1)/計算!$B$26*BZ$2))","v":0},{"$f":"IF($BG8<CA$1,0,IF($BG8-CA$1>計算!$B$26,CA$2,($BG8-CA$1)/計算!$B$26*CA$2))","v":0},{"$f":"IF($BG8<CB$1,0,IF($BG8-CB$1>計算!$B$26,CB$2,($BG8-CB$1)/計算!$B$26*CB$2))","v":0},{"$f":"IF($BG8<CC$1,0,IF($BG8-CC$1>計算!$B$26,CC$2,($BG8-CC$1)/計算!$B$26*CC$2))","v":0},{"$f":"IF($BG8<CD$1,0,IF($BG8-CD$1>計算!$B$26,CD$2,($BG8-CD$1)/計算!$B$26*CD$2))","v":0},{"$f":"IF($BG8<CE$1,0,IF($BG8-CE$1>計算!$B$26,CE$2,($BG8-CE$1)/計算!$B$26*CE$2))","v":0},{"$f":"IF($BG8<CF$1,0,IF($BG8-CF$1>計算!$B$26,CF$2,($BG8-CF$1)/計算!$B$26*CF$2))","v":0},{"$f":"IF($BG8<CG$1,0,IF($BG8-CG$1>計算!$B$26,CG$2,($BG8-CG$1)/計算!$B$26*CG$2))","v":0},{"$f":"IF($BG8<CH$1,0,IF($BG8-CH$1>計算!$B$26,CH$2,($BG8-CH$1)/計算!$B$26*CH$2))","v":0},{"$f":"IF($BG8<CI$1,0,IF($BG8-CI$1>計算!$B$26,CI$2,($BG8-CI$1)/計算!$B$26*CI$2))","v":0},{"$f":"IF($BG8<CJ$1,0,IF($BG8-CJ$1>計算!$B$26,CJ$2,($BG8-CJ$1)/計算!$B$26*CJ$2))","v":0},{"$f":"IF($BG8<CK$1,0,IF($BG8-CK$1>計算!$B$26,CK$2,($BG8-CK$1)/計算!$B$26*CK$2))","v":0},3.9238608188676602,null,null,1.9790338746929825,0.1824945418221422,-0.1824945418221422]
["ξN1",{"$f":"B7*B2/(B2+B14)","v":6.0410087963111293E-2},null,null,null,11,{"$f":"準備!J8","v":3.9004259481813159},{"$f":"準備!O8-準備!O7","v":-0.23935531082328287},{"$f":"準備!P8-準備!P7","v":0.26628907306790472},null,6,2.4213920736883332,{"$f":"IF($L9<M$1,0,IF($L9-M$1>計算!$B$26,M$2,($L9-M$1)/計算!$B$26*M$2))","v":1.9890005284157226},{"$f":"IF($L9<N$1,0,IF($L9-N$1>計算!$B$26,N$2,($L9-N$1)/計算!$B$26*N$2))","v":0.32752179487645394},{"$f":"IF($L9<O$1,0,IF($L9-O$1>計算!$B$26,O$2,($L9-O$1)/計算!$B$26*O$2))","v":0.87734773271030997},{"$f":"IF($L9<P$1,0,IF($L9-P$1>計算!$B$26,P$2,($L9-P$1)/計算!$B$26*P$2))","v":0.24665840572060199},{"$f":"IF($L9<Q$1,0,IF($L9-Q$1>計算!$B$26,Q$2,($L9-Q$1)/計算!$B$26*Q$2))","v":0},{"$f":"IF($L9<R$1,0,IF($L9-R$1>計算!$B$26,R$2,($L9-R$1)/計算!$B$26*R$2))","v":0},{"$f":"IF($L9<S$1,0,IF($L9-S$1>計算!$B$26,S$2,($L9-S$1)/計算!$B$26*S$2))","v":0},{"$f":"IF($L9<T$1,0,IF($L9-T$1>計算!$B$26,T$2,($L9-T$1)/計算!$B$26*T$2))","v":0},{"$f":"IF($L9<U$1,0,IF($L9-U$1>計算!$B$26,U$2,($L9-U$1)/計算!$B$26*U$2))","v":0},{"$f":"IF($L9<V$1,0,IF($L9-V$1>計算!$B$26,V$2,($L9-V$1)/計算!$B$26*V$2))","v":0},{"$f":"IF($L9<W$1,0,IF($L9-W$1>計算!$B$26,W$2,($L9-W$1)/計算!$B$26*W$2))","v":0},{"$f":"IF($L9<X$1,0,IF($L9-X$1>計算!$B$26,X$2,($L9-X$1)/計算!$B$26*X$2))","v":0},{"$f":"IF($L9<Y$1,0,IF($L9-Y$1>計算!$B$26,Y$2,($L9-Y$1)/計算!$B$26*Y$2))","v":0},{"$f":"IF($L9<Z$1,0,IF($L9-Z$1>計算!$B$26,Z$2,($L9-Z$1)/計算!$B$26*Z$2))","v":0},{"$f":"IF($L9<AA$1,0,IF($L9-AA$1>計算!$B$26,AA$2,($L9-AA$1)/計算!$B$26*AA$2))","v":0},{"$f":"IF($L9<AB$1,0,IF($L9-AB$1>計算!$B$26,AB$2,($L9-AB$1)/計算!$B$26*AB$2))","v":0},{"$f":"IF($L9<AC$1,0,IF($L9-AC$1>計算!$B$26,AC$2,($L9-AC$1)/計算!$B$26*AC$2))","v":0},{"$f":"IF($L9<AD$1,0,IF($L9-AD$1>計算!$B$26,AD$2,($L9-AD$1)/計算!$B$26*AD$2))","v":0},{"$f":"IF($L9<AE$1,0,IF($L9-AE$1>計算!$B$26,AE$2,($L9-AE$1)/計算!$B$26*AE$2))","v":0},{"$f":"IF($L9<AF$1,0,IF($L9-AF$1>計算!$B$26,AF$2,($L9-AF$1)/計算!$B$26*AF$2))","v":0},{"$f":"IF($L9<AG$1,0,IF($L9-AG$1>計算!$B$26,AG$2,($L9-AG$1)/計算!$B$26*AG$2))","v":0},{"$f":"IF($L9<AH$1,0,IF($L9-AH$1>計算!$B$26,AH$2,($L9-AH$1)/計算!$B$26*AH$2))","v":0},{"$f":"IF($L9<AI$1,0,IF($L9-AI$1>計算!$B$26,AI$2,($L9-AI$1)/計算!$B$26*AI$2))","v":0},{"$f":"IF($L9<AJ$1,0,IF($L9-AJ$1>計算!$B$26,AJ$2,($L9-AJ$1)/計算!$B$26*AJ$2))","v":0},{"$f":"IF($L9<AK$1,0,IF($L9-AK$1>計算!$B$26,AK$2,($L9-AK$1)/計算!$B$26*AK$2))","v":0},{"$f":"IF($L9<AL$1,0,IF($L9-AL$1>計算!$B$26,AL$2,($L9-AL$1)/計算!$B$26*AL$2))","v":0},{"$f":"IF($L9<AM$1,0,IF($L9-AM$1>計算!$B$26,AM$2,($L9-AM$1)/計算!$B$26*AM$2))","v":0},{"$f":"IF($L9<AN$1,0,IF($L9-AN$1>計算!$B$26,AN$2,($L9-AN$1)/計算!$B$26*AN$2))","v":0},{"$f":"IF($L9<AO$1,0,IF($L9-AO$1>計算!$B$26,AO$2,($L9-AO$1)/計算!$B$26*AO$2))","v":0},{"$f":"IF($L9<AP$1,0,IF($L9-AP$1>計算!$B$26,AP$2,($L9-AP$1)/計算!$B$26*AP$2))","v":0},{"$f":"IF($L9<AQ$1,0,IF($L9-AQ$1>計算!$B$26,AQ$2,($L9-AQ$1)/計算!$B$26*AQ$2))","v":0},{"$f":"IF($L9<AR$1,0,IF($L9-AR$1>計算!$B$26,AR$2,($L9-AR$1)/計算!$B$26*AR$2))","v":0},{"$f":"IF($L9<AS$1,0,IF($L9-AS$1>計算!$B$26,AS$2,($L9-AS$1)/計算!$B$26*AS$2))","v":0},{"$f":"IF($L9<AT$1,0,IF($L9-AT$1>計算!$B$26,AT$2,($L9-AT$1)/計算!$B$26*AT$2))","v":0},{"$f":"IF($L9<AU$1,0,IF($L9-AU$1>計算!$B$26,AU$2,($L9-AU$1)/計算!$B$26*AU$2))","v":0},{"$f":"IF($L9<AV$1,0,IF($L9-AV$1>計算!$B$26,AV$2,($L9-AV$1)/計算!$B$26*AV$2))","v":0},3.4405284617230887,null,null,null,13,{"$f":"準備!T8","v":4.8034801837208327},{"$f":"準備!Y8-準備!Y7","v":0.10422894063720944},{"$f":"準備!Z8-準備!Z7","v":-3.7976275570530404E-2},null,5,2.8820881102325,{"$f":"IF($BG9<BH$1,0,IF($BG9-BH$1>計算!$B$26,BH$2,($BG9-BH$1)/計算!$B$26*BH$2))","v":1.8434248486289773},{"$f":"IF($BG9<BI$1,0,IF($BG9-BI$1>計算!$B$26,BI$2,($BG9-BI$1)/計算!$B$26*BI$2))","v":2.0804359702386828},{"$f":"IF($BG9<BJ$1,0,IF($BG9-BJ$1>計算!$B$26,BJ$2,($BG9-BJ$1)/計算!$B$26*BJ$2))","v":0},{"$f":"IF($BG9<BK$1,0,IF($BG9-BK$1>計算!$B$26,BK$2,($BG9-BK$1)/計算!$B$26*BK$2))","v":0},{"$f":"IF($BG9<BL$1,0,IF($BG9-BL$1>計算!$B$26,BL$2,($BG9-BL$1)/計算!$B$26*BL$2))","v":0},{"$f":"IF($BG9<BM$1,0,IF($BG9-BM$1>計算!$B$26,BM$2,($BG9-BM$1)/計算!$B$26*BM$2))","v":0},{"$f":"IF($BG9<BN$1,0,IF($BG9-BN$1>計算!$B$26,BN$2,($BG9-BN$1)/計算!$B$26*BN$2))","v":0},{"$f":"IF($BG9<BO$1,0,IF($BG9-BO$1>計算!$B$26,BO$2,($BG9-BO$1)/計算!$B$26*BO$2))","v":0},{"$f":"IF($BG9<BP$1,0,IF($BG9-BP$1>計算!$B$26,BP$2,($BG9-BP$1)/計算!$B$26*BP$2))","v":0},{"$f":"IF($BG9<BQ$1,0,IF($BG9-BQ$1>計算!$B$26,BQ$2,($BG9-BQ$1)/計算!$B$26*BQ$2))","v":0},{"$f":"IF($BG9<BR$1,0,IF($BG9-BR$1>計算!$B$26,BR$2,($BG9-BR$1)/計算!$B$26*BR$2))","v":0},{"$f":"IF($BG9<BS$1,0,IF($BG9-BS$1>計算!$B$26,BS$2,($BG9-BS$1)/計算!$B$26*BS$2))","v":0},{"$f":"IF($BG9<BT$1,0,IF($BG9-BT$1>計算!$B$26,BT$2,($BG9-BT$1)/計算!$B$26*BT$2))","v":0},{"$f":"IF($BG9<BU$1,0,IF($BG9-BU$1>計算!$B$26,BU$2,($BG9-BU$1)/計算!$B$26*BU$2))","v":0},{"$f":"IF($BG9<BV$1,0,IF($BG9-BV$1>計算!$B$26,BV$2,($BG9-BV$1)/計算!$B$26*BV$2))","v":0},{"$f":"IF($BG9<BW$1,0,IF($BG9-BW$1>計算!$B$26,BW$2,($BG9-BW$1)/計算!$B$26*BW$2))","v":0},{"$f":"IF($BG9<BX$1,0,IF($BG9-BX$1>計算!$B$26,BX$2,($BG9-BX$1)/計算!$B$26*BX$2))","v":0},{"$f":"IF($BG9<BY$1,0,IF($BG9-BY$1>計算!$B$26,BY$2,($BG9-BY$1)/計算!$B$26*BY$2))","v":0},{"$f":"IF($BG9<BZ$1,0,IF($BG9-BZ$1>計算!$B$26,BZ$2,($BG9-BZ$1)/計算!$B$26*BZ$2))","v":0},{"$f":"IF($BG9<CA$1,0,IF($BG9-CA$1>計算!$B$26,CA$2,($BG9-CA$1)/計算!$B$26*CA$2))","v":0},{"$f":"IF($BG9<CB$1,0,IF($BG9-CB$1>計算!$B$26,CB$2,($BG9-CB$1)/計算!$B$26*CB$2))","v":0},{"$f":"IF($BG9<CC$1,0,IF($BG9-CC$1>計算!$B$26,CC$2,($BG9-CC$1)/計算!$B$26*CC$2))","v":0},{"$f":"IF($BG9<CD$1,0,IF($BG9-CD$1>計算!$B$26,CD$2,($BG9-CD$1)/計算!$B$26*CD$2))","v":0},{"$f":"IF($BG9<CE$1,0,IF($BG9-CE$1>計算!$B$26,CE$2,($BG9-CE$1)/計算!$B$26*CE$2))","v":0},{"$f":"IF($BG9<CF$1,0,IF($BG9-CF$1>計算!$B$26,CF$2,($BG9-CF$1)/計算!$B$26*CF$2))","v":0},{"$f":"IF($BG9<CG$1,0,IF($BG9-CG$1>計算!$B$26,CG$2,($BG9-CG$1)/計算!$B$26*CG$2))","v":0},{"$f":"IF($BG9<CH$1,0,IF($BG9-CH$1>計算!$B$26,CH$2,($BG9-CH$1)/計算!$B$26*CH$2))","v":0},{"$f":"IF($BG9<CI$1,0,IF($BG9-CI$1>計算!$B$26,CI$2,($BG9-CI$1)/計算!$B$26*CI$2))","v":0},{"$f":"IF($BG9<CJ$1,0,IF($BG9-CJ$1>計算!$B$26,CJ$2,($BG9-CJ$1)/計算!$B$26*CJ$2))","v":0},{"$f":"IF($BG9<CK$1,0,IF($BG9-CK$1>計算!$B$26,CK$2,($BG9-CK$1)/計算!$B$26*CK$2))","v":0},3.9238608188676602,null,null,2.4213920736883332,-0.23548748026882438,0.23548748026882438]
["ξ2F",{"$f":"B7*B5/(B5+B14)","v":6.0410087963111293E-2},null,null,null,12,{"$f":"準備!J9","v":3.9292468487836407},{"$f":"準備!O9-準備!O8","v":-0.11033288008978959},{"$f":"準備!P9-準備!P8","v":-0.47320266231569752},null,7,2.450212974390658,{"$f":"IF($L10<M$1,0,IF($L10-M$1>計算!$B$26,M$2,($L10-M$1)/計算!$B$26*M$2))","v":1.9890005284157226},{"$f":"IF($L10<N$1,0,IF($L10-N$1>計算!$B$26,N$2,($L10-N$1)/計算!$B$26*N$2))","v":0.32752179487645394},{"$f":"IF($L10<O$1,0,IF($L10-O$1>計算!$B$26,O$2,($L10-O$1)/計算!$B$26*O$2))","v":0.93101299851738872},{"$f":"IF($L10<P$1,0,IF($L10-P$1>計算!$B$26,P$2,($L10-P$1)/計算!$B$26*P$2))","v":0.26272890567926088},{"$f":"IF($L10<Q$1,0,IF($L10-Q$1>計算!$B$26,Q$2,($L10-Q$1)/計算!$B$26*Q$2))","v":0},{"$f":"IF($L10<R$1,0,IF($L10-R$1>計算!$B$26,R$2,($L10-R$1)/計算!$B$26*R$2))","v":0},{"$f":"IF($L10<S$1,0,IF($L10-S$1>計算!$B$26,S$2,($L10-S$1)/計算!$B$26*S$2))","v":0},{"$f":"IF($L10<T$1,0,IF($L10-T$1>計算!$B$26,T$2,($L10-T$1)/計算!$B$26*T$2))","v":0},{"$f":"IF($L10<U$1,0,IF($L10-U$1>計算!$B$26,U$2,($L10-U$1)/計算!$B$26*U$2))","v":0},{"$f":"IF($L10<V$1,0,IF($L10-V$1>計算!$B$26,V$2,($L10-V$1)/計算!$B$26*V$2))","v":0},{"$f":"IF($L10<W$1,0,IF($L10-W$1>計算!$B$26,W$2,($L10-W$1)/計算!$B$26*W$2))","v":0},{"$f":"IF($L10<X$1,0,IF($L10-X$1>計算!$B$26,X$2,($L10-X$1)/計算!$B$26*X$2))","v":0},{"$f":"IF($L10<Y$1,0,IF($L10-Y$1>計算!$B$26,Y$2,($L10-Y$1)/計算!$B$26*Y$2))","v":0},{"$f":"IF($L10<Z$1,0,IF($L10-Z$1>計算!$B$26,Z$2,($L10-Z$1)/計算!$B$26*Z$2))","v":0},{"$f":"IF($L10<AA$1,0,IF($L10-AA$1>計算!$B$26,AA$2,($L10-AA$1)/計算!$B$26*AA$2))","v":0},{"$f":"IF($L10<AB$1,0,IF($L10-AB$1>計算!$B$26,AB$2,($L10-AB$1)/計算!$B$26*AB$2))","v":0},{"$f":"IF($L10<AC$1,0,IF($L10-AC$1>計算!$B$26,AC$2,($L10-AC$1)/計算!$B$26*AC$2))","v":0},{"$f":"IF($L10<AD$1,0,IF($L10-AD$1>計算!$B$26,AD$2,($L10-AD$1)/計算!$B$26*AD$2))","v":0},{"$f":"IF($L10<AE$1,0,IF($L10-AE$1>計算!$B$26,AE$2,($L10-AE$1)/計算!$B$26*AE$2))","v":0},{"$f":"IF($L10<AF$1,0,IF($L10-AF$1>計算!$B$26,AF$2,($L10-AF$1)/計算!$B$26*AF$2))","v":0},{"$f":"IF($L10<AG$1,0,IF($L10-AG$1>計算!$B$26,AG$2,($L10-AG$1)/計算!$B$26*AG$2))","v":0},{"$f":"IF($L10<AH$1,0,IF($L10-AH$1>計算!$B$26,AH$2,($L10-AH$1)/計算!$B$26*AH$2))","v":0},{"$f":"IF($L10<AI$1,0,IF($L10-AI$1>計算!$B$26,AI$2,($L10-AI$1)/計算!$B$26*AI$2))","v":0},{"$f":"IF($L10<AJ$1,0,IF($L10-AJ$1>計算!$B$26,AJ$2,($L10-AJ$1)/計算!$B$26*AJ$2))","v":0},{"$f":"IF($L10<AK$1,0,IF($L10-AK$1>計算!$B$26,AK$2,($L10-AK$1)/計算!$B$26*AK$2))","v":0},{"$f":"IF($L10<AL$1,0,IF($L10-AL$1>計算!$B$26,AL$2,($L10-AL$1)/計算!$B$26*AL$2))","v":0},{"$f":"IF($L10<AM$1,0,IF($L10-AM$1>計算!$B$26,AM$2,($L10-AM$1)/計算!$B$26*AM$2))","v":0},{"$f":"IF($L10<AN$1,0,IF($L10-AN$1>計算!$B$26,AN$2,($L10-AN$1)/計算!$B$26*AN$2))","v":0},{"$f":"IF($L10<AO$1,0,IF($L10-AO$1>計算!$B$26,AO$2,($L10-AO$1)/計算!$B$26*AO$2))","v":0},{"$f":"IF($L10<AP$1,0,IF($L10-AP$1>計算!$B$26,AP$2,($L10-AP$1)/計算!$B$26*AP$2))","v":0},{"$f":"IF($L10<AQ$1,0,IF($L10-AQ$1>計算!$B$26,AQ$2,($L10-AQ$1)/計算!$B$26*AQ$2))","v":0},{"$f":"IF($L10<AR$1,0,IF($L10-AR$1>計算!$B$26,AR$2,($L10-AR$1)/計算!$B$26*AR$2))","v":0},{"$f":"IF($L10<AS$1,0,IF($L10-AS$1>計算!$B$26,AS$2,($L10-AS$1)/計算!$B$26*AS$2))","v":0},{"$f":"IF($L10<AT$1,0,IF($L10-AT$1>計算!$B$26,AT$2,($L10-AT$1)/計算!$B$26*AT$2))","v":0},{"$f":"IF($L10<AU$1,0,IF($L10-AU$1>計算!$B$26,AU$2,($L10-AU$1)/計算!$B$26*AU$2))","v":0},{"$f":"IF($L10<AV$1,0,IF($L10-AV$1>計算!$B$26,AV$2,($L10-AV$1)/計算!$B$26*AV$2))","v":0},3.5102642274888263,null,null,null,14,{"$f":"準備!T9","v":4.8323010843231575},{"$f":"準備!Y9-準備!Y8","v":-0.4423266906583132},{"$f":"準備!Z9-準備!Z8","v":6.2162268050736214E-2},null,6,2.9109090108348243,{"$f":"IF($BG10<BH$1,0,IF($BG10-BH$1>計算!$B$26,BH$2,($BG10-BH$1)/計算!$B$26*BH$2))","v":1.8434248486289773},{"$f":"IF($BG10<BI$1,0,IF($BG10-BI$1>計算!$B$26,BI$2,($BG10-BI$1)/計算!$B$26*BI$2))","v":2.0804359702386828},{"$f":"IF($BG10<BJ$1,0,IF($BG10-BJ$1>計算!$B$26,BJ$2,($BG10-BJ$1)/計算!$B$26*BJ$2))","v":2.5266461464699252E-2},{"$f":"IF($BG10<BK$1,0,IF($BG10-BK$1>計算!$B$26,BK$2,($BG10-BK$1)/計算!$B$26*BK$2))","v":0},{"$f":"IF($BG10<BL$1,0,IF($BG10-BL$1>計算!$B$26,BL$2,($BG10-BL$1)/計算!$B$26*BL$2))","v":0},{"$f":"IF($BG10<BM$1,0,IF($BG10-BM$1>計算!$B$26,BM$2,($BG10-BM$1)/計算!$B$26*BM$2))","v":0},{"$f":"IF($BG10<BN$1,0,IF($BG10-BN$1>計算!$B$26,BN$2,($BG10-BN$1)/計算!$B$26*BN$2))","v":0},{"$f":"IF($BG10<BO$1,0,IF($BG10-BO$1>計算!$B$26,BO$2,($BG10-BO$1)/計算!$B$26*BO$2))","v":0},{"$f":"IF($BG10<BP$1,0,IF($BG10-BP$1>計算!$B$26,BP$2,($BG10-BP$1)/計算!$B$26*BP$2))","v":0},{"$f":"IF($BG10<BQ$1,0,IF($BG10-BQ$1>計算!$B$26,BQ$2,($BG10-BQ$1)/計算!$B$26*BQ$2))","v":0},{"$f":"IF($BG10<BR$1,0,IF($BG10-BR$1>計算!$B$26,BR$2,($BG10-BR$1)/計算!$B$26*BR$2))","v":0},{"$f":"IF($BG10<BS$1,0,IF($BG10-BS$1>計算!$B$26,BS$2,($BG10-BS$1)/計算!$B$26*BS$2))","v":0},{"$f":"IF($BG10<BT$1,0,IF($BG10-BT$1>計算!$B$26,BT$2,($BG10-BT$1)/計算!$B$26*BT$2))","v":0},{"$f":"IF($BG10<BU$1,0,IF($BG10-BU$1>計算!$B$26,BU$2,($BG10-BU$1)/計算!$B$26*BU$2))","v":0},{"$f":"IF($BG10<BV$1,0,IF($BG10-BV$1>計算!$B$26,BV$2,($BG10-BV$1)/計算!$B$26*BV$2))","v":0},{"$f":"IF($BG10<BW$1,0,IF($BG10-BW$1>計算!$B$26,BW$2,($BG10-BW$1)/計算!$B$26*BW$2))","v":0},{"$f":"IF($BG10<BX$1,0,IF($BG10-BX$1>計算!$B$26,BX$2,($BG10-BX$1)/計算!$B$26*BX$2))","v":0},{"$f":"IF($BG10<BY$1,0,IF($BG10-BY$1>計算!$B$26,BY$2,($BG10-BY$1)/計算!$B$26*BY$2))","v":0},{"$f":"IF($BG10<BZ$1,0,IF($BG10-BZ$1>計算!$B$26,BZ$2,($BG10-BZ$1)/計算!$B$26*BZ$2))","v":0},{"$f":"IF($BG10<CA$1,0,IF($BG10-CA$1>計算!$B$26,CA$2,($BG10-CA$1)/計算!$B$26*CA$2))","v":0},{"$f":"IF($BG10<CB$1,0,IF($BG10-CB$1>計算!$B$26,CB$2,($BG10-CB$1)/計算!$B$26*CB$2))","v":0},{"$f":"IF($BG10<CC$1,0,IF($BG10-CC$1>計算!$B$26,CC$2,($BG10-CC$1)/計算!$B$26*CC$2))","v":0},{"$f":"IF($BG10<CD$1,0,IF($BG10-CD$1>計算!$B$26,CD$2,($BG10-CD$1)/計算!$B$26*CD$2))","v":0},{"$f":"IF($BG10<CE$1,0,IF($BG10-CE$1>計算!$B$26,CE$2,($BG10-CE$1)/計算!$B$26*CE$2))","v":0},{"$f":"IF($BG10<CF$1,0,IF($BG10-CF$1>計算!$B$26,CF$2,($BG10-CF$1)/計算!$B$26*CF$2))","v":0},{"$f":"IF($BG10<CG$1,0,IF($BG10-CG$1>計算!$B$26,CG$2,($BG10-CG$1)/計算!$B$26*CG$2))","v":0},{"$f":"IF($BG10<CH$1,0,IF($BG10-CH$1>計算!$B$26,CH$2,($BG10-CH$1)/計算!$B$26*CH$2))","v":0},{"$f":"IF($BG10<CI$1,0,IF($BG10-CI$1>計算!$B$26,CI$2,($BG10-CI$1)/計算!$B$26*CI$2))","v":0},{"$f":"IF($BG10<CJ$1,0,IF($BG10-CJ$1>計算!$B$26,CJ$2,($BG10-CJ$1)/計算!$B$26*CJ$2))","v":0},{"$f":"IF($BG10<CK$1,0,IF($BG10-CK$1>計算!$B$26,CK$2,($BG10-CK$1)/計算!$B$26*CK$2))","v":0},3.9491272803323594,null,null,2.450212974390658,-0.21090541789707218,0.21090541789707218]
["ξF2",{"$f":"B7*B3/(B3+B14)","v":0.14999258522156939},null,null,null,13,{"$f":"準備!J10","v":3.9580677493859651},{"$f":"準備!O10-準備!O9","v":2.6244909978123232E-2},{"$f":"準備!P10-準備!P9","v":6.0087511789762682E-2},null,8,2.4790338750929823,{"$f":"IF($L11<M$1,0,IF($L11-M$1>計算!$B$26,M$2,($L11-M$1)/計算!$B$26*M$2))","v":1.9890005284157226},{"$f":"IF($L11<N$1,0,IF($L11-N$1>計算!$B$26,N$2,($L11-N$1)/計算!$B$26*N$2))","v":0.32752179487645394},{"$f":"IF($L11<O$1,0,IF($L11-O$1>計算!$B$26,O$2,($L11-O$1)/計算!$B$26*O$2))","v":0.93101299851738872},{"$f":"IF($L11<P$1,0,IF($L11-P$1>計算!$B$26,P$2,($L11-P$1)/計算!$B$26*P$2))","v":0.27879940541488013},{"$f":"IF($L11<Q$1,0,IF($L11-Q$1>計算!$B$26,Q$2,($L11-Q$1)/計算!$B$26*Q$2))","v":0},{"$f":"IF($L11<R$1,0,IF($L11-R$1>計算!$B$26,R$2,($L11-R$1)/計算!$B$26*R$2))","v":0},{"$f":"IF($L11<S$1,0,IF($L11-S$1>計算!$B$26,S$2,($L11-S$1)/計算!$B$26*S$2))","v":0},{"$f":"IF($L11<T$1,0,IF($L11-T$1>計算!$B$26,T$2,($L11-T$1)/計算!$B$26*T$2))","v":0},{"$f":"IF($L11<U$1,0,IF($L11-U$1>計算!$B$26,U$2,($L11-U$1)/計算!$B$26*U$2))","v":0},{"$f":"IF($L11<V$1,0,IF($L11-V$1>計算!$B$26,V$2,($L11-V$1)/計算!$B$26*V$2))","v":0},{"$f":"IF($L11<W$1,0,IF($L11-W$1>計算!$B$26,W$2,($L11-W$1)/計算!$B$26*W$2))","v":0},{"$f":"IF($L11<X$1,0,IF($L11-X$1>計算!$B$26,X$2,($L11-X$1)/計算!$B$26*X$2))","v":0},{"$f":"IF($L11<Y$1,0,IF($L11-Y$1>計算!$B$26,Y$2,($L11-Y$1)/計算!$B$26*Y$2))","v":0},{"$f":"IF($L11<Z$1,0,IF($L11-Z$1>計算!$B$26,Z$2,($L11-Z$1)/計算!$B$26*Z$2))","v":0},{"$f":"IF($L11<AA$1,0,IF($L11-AA$1>計算!$B$26,AA$2,($L11-AA$1)/計算!$B$26*AA$2))","v":0},{"$f":"IF($L11<AB$1,0,IF($L11-AB$1>計算!$B$26,AB$2,($L11-AB$1)/計算!$B$26*AB$2))","v":0},{"$f":"IF($L11<AC$1,0,IF($L11-AC$1>計算!$B$26,AC$2,($L11-AC$1)/計算!$B$26*AC$2))","v":0},{"$f":"IF($L11<AD$1,0,IF($L11-AD$1>計算!$B$26,AD$2,($L11-AD$1)/計算!$B$26*AD$2))","v":0},{"$f":"IF($L11<AE$1,0,IF($L11-AE$1>計算!$B$26,AE$2,($L11-AE$1)/計算!$B$26*AE$2))","v":0},{"$f":"IF($L11<AF$1,0,IF($L11-AF$1>計算!$B$26,AF$2,($L11-AF$1)/計算!$B$26*AF$2))","v":0},{"$f":"IF($L11<AG$1,0,IF($L11-AG$1>計算!$B$26,AG$2,($L11-AG$1)/計算!$B$26*AG$2))","v":0},{"$f":"IF($L11<AH$1,0,IF($L11-AH$1>計算!$B$26,AH$2,($L11-AH$1)/計算!$B$26*AH$2))","v":0},{"$f":"IF($L11<AI$1,0,IF($L11-AI$1>計算!$B$26,AI$2,($L11-AI$1)/計算!$B$26*AI$2))","v":0},{"$f":"IF($L11<AJ$1,0,IF($L11-AJ$1>計算!$B$26,AJ$2,($L11-AJ$1)/計算!$B$26*AJ$2))","v":0},{"$f":"IF($L11<AK$1,0,IF($L11-AK$1>計算!$B$26,AK$2,($L11-AK$1)/計算!$B$26*AK$2))","v":0},{"$f":"IF($L11<AL$1,0,IF($L11-AL$1>計算!$B$26,AL$2,($L11-AL$1)/計算!$B$26*AL$2))","v":0},{"$f":"IF($L11<AM$1,0,IF($L11-AM$1>計算!$B$26,AM$2,($L11-AM$1)/計算!$B$26*AM$2))","v":0},{"$f":"IF($L11<AN$1,0,IF($L11-AN$1>計算!$B$26,AN$2,($L11-AN$1)/計算!$B$26*AN$2))","v":0},{"$f":"IF($L11<AO$1,0,IF($L11-AO$1>計算!$B$26,AO$2,($L11-AO$1)/計算!$B$26*AO$2))","v":0},{"$f":"IF($L11<AP$1,0,IF($L11-AP$1>計算!$B$26,AP$2,($L11-AP$1)/計算!$B$26*AP$2))","v":0},{"$f":"IF($L11<AQ$1,0,IF($L11-AQ$1>計算!$B$26,AQ$2,($L11-AQ$1)/計算!$B$26*AQ$2))","v":0},{"$f":"IF($L11<AR$1,0,IF($L11-AR$1>計算!$B$26,AR$2,($L11-AR$1)/計算!$B$26*AR$2))","v":0},{"$f":"IF($L11<AS$1,0,IF($L11-AS$1>計算!$B$26,AS$2,($L11-AS$1)/計算!$B$26*AS$2))","v":0},{"$f":"IF($L11<AT$1,0,IF($L11-AT$1>計算!$B$26,AT$2,($L11-AT$1)/計算!$B$26*AT$2))","v":0},{"$f":"IF($L11<AU$1,0,IF($L11-AU$1>計算!$B$26,AU$2,($L11-AU$1)/計算!$B$26*AU$2))","v":0},{"$f":"IF($L11<AV$1,0,IF($L11-AV$1>計算!$B$26,AV$2,($L11-AV$1)/計算!$B$26*AV$2))","v":0},3.5263347272244454,null,null,null,15,{"$f":"準備!T10","v":4.8611219849254823},{"$f":"準備!Y10-準備!Y9","v":0.16377391940418873},{"$f":"準備!Z10-準備!Z9","v":0.15755812631518906},null,7,2.9397299114371491,{"$f":"IF($BG11<BH$1,0,IF($BG11-BH$1>計算!$B$26,BH$2,($BG11-BH$1)/計算!$B$26*BH$2))","v":1.8434248486289773},{"$f":"IF($BG11<BI$1,0,IF($BG11-BI$1>計算!$B$26,BI$2,($BG11-BI$1)/計算!$B$26*BI$2))","v":2.0804359702386828},{"$f":"IF($BG11<BJ$1,0,IF($BG11-BJ$1>計算!$B$26,BJ$2,($BG11-BJ$1)/計算!$B$26*BJ$2))","v":5.0532922929398892E-2},{"$f":"IF($BG11<BK$1,0,IF($BG11-BK$1>計算!$B$26,BK$2,($BG11-BK$1)/計算!$B$26*BK$2))","v":-3.177222203135649E-2},{"$f":"IF($BG11<BL$1,0,IF($BG11-BL$1>計算!$B$26,BL$2,($BG11-BL$1)/計算!$B$26*BL$2))","v":0},{"$f":"IF($BG11<BM$1,0,IF($BG11-BM$1>計算!$B$26,BM$2,($BG11-BM$1)/計算!$B$26*BM$2))","v":0},{"$f":"IF($BG11<BN$1,0,IF($BG11-BN$1>計算!$B$26,BN$2,($BG11-BN$1)/計算!$B$26*BN$2))","v":0},{"$f":"IF($BG11<BO$1,0,IF($BG11-BO$1>計算!$B$26,BO$2,($BG11-BO$1)/計算!$B$26*BO$2))","v":0},{"$f":"IF($BG11<BP$1,0,IF($BG11-BP$1>計算!$B$26,BP$2,($BG11-BP$1)/計算!$B$26*BP$2))","v":0},{"$f":"IF($BG11<BQ$1,0,IF($BG11-BQ$1>計算!$B$26,BQ$2,($BG11-BQ$1)/計算!$B$26*BQ$2))","v":0},{"$f":"IF($BG11<BR$1,0,IF($BG11-BR$1>計算!$B$26,BR$2,($BG11-BR$1)/計算!$B$26*BR$2))","v":0},{"$f":"IF($BG11<BS$1,0,IF($BG11-BS$1>計算!$B$26,BS$2,($BG11-BS$1)/計算!$B$26*BS$2))","v":0},{"$f":"IF($BG11<BT$1,0,IF($BG11-BT$1>計算!$B$26,BT$2,($BG11-BT$1)/計算!$B$26*BT$2))","v":0},{"$f":"IF($BG11<BU$1,0,IF($BG11-BU$1>計算!$B$26,BU$2,($BG11-BU$1)/計算!$B$26*BU$2))","v":0},{"$f":"IF($BG11<BV$1,0,IF($BG11-BV$1>計算!$B$26,BV$2,($BG11-BV$1)/計算!$B$26*BV$2))","v":0},{"$f":"IF($BG11<BW$1,0,IF($BG11-BW$1>計算!$B$26,BW$2,($BG11-BW$1)/計算!$B$26*BW$2))","v":0},{"$f":"IF($BG11<BX$1,0,IF($BG11-BX$1>計算!$B$26,BX$2,($BG11-BX$1)/計算!$B$26*BX$2))","v":0},{"$f":"IF($BG11<BY$1,0,IF($BG11-BY$1>計算!$B$26,BY$2,($BG11-BY$1)/計算!$B$26*BY$2))","v":0},{"$f":"IF($BG11<BZ$1,0,IF($BG11-BZ$1>計算!$B$26,BZ$2,($BG11-BZ$1)/計算!$B$26*BZ$2))","v":0},{"$f":"IF($BG11<CA$1,0,IF($BG11-CA$1>計算!$B$26,CA$2,($BG11-CA$1)/計算!$B$26*CA$2))","v":0},{"$f":"IF($BG11<CB$1,0,IF($BG11-CB$1>計算!$B$26,CB$2,($BG11-CB$1)/計算!$B$26*CB$2))","v":0},{"$f":"IF($BG11<CC$1,0,IF($BG11-CC$1>計算!$B$26,CC$2,($BG11-CC$1)/計算!$B$26*CC$2))","v":0},{"$f":"IF($BG11<CD$1,0,IF($BG11-CD$1>計算!$B$26,CD$2,($BG11-CD$1)/計算!$B$26*CD$2))","v":0},{"$f":"IF($BG11<CE$1,0,IF($BG11-CE$1>計算!$B$26,CE$2,($BG11-CE$1)/計算!$B$26*CE$2))","v":0},{"$f":"IF($BG11<CF$1,0,IF($BG11-CF$1>計算!$B$26,CF$2,($BG11-CF$1)/計算!$B$26*CF$2))","v":0},{"$f":"IF($BG11<CG$1,0,IF($BG11-CG$1>計算!$B$26,CG$2,($BG11-CG$1)/計算!$B$26*CG$2))","v":0},{"$f":"IF($BG11<CH$1,0,IF($BG11-CH$1>計算!$B$26,CH$2,($BG11-CH$1)/計算!$B$26*CH$2))","v":0},{"$f":"IF($BG11<CI$1,0,IF($BG11-CI$1>計算!$B$26,CI$2,($BG11-CI$1)/計算!$B$26*CI$2))","v":0},{"$f":"IF($BG11<CJ$1,0,IF($BG11-CJ$1>計算!$B$26,CJ$2,($BG11-CJ$1)/計算!$B$26*CJ$2))","v":0},{"$f":"IF($BG11<CK$1,0,IF($BG11-CK$1>計算!$B$26,CK$2,($BG11-CK$1)/計算!$B$26*CK$2))","v":0},3.9426215197657024,null,null,2.4790338750929823,-0.17411213709952655,0.17411213709952655]
["ZC",{"$f":"SQRT((1+B7)/(1-B7))*B6","v":58.157999803779958},null,null,null,19,{"$f":"準備!J11","v":5.764176220465},{"$f":"準備!O11-準備!O10","v":1.8518384267717458E-2},{"$f":"準備!P11-準備!P10","v":-5.0825194033370491E-2},null,9,3.8427841469766664,{"$f":"IF($L12<M$1,0,IF($L12-M$1>計算!$B$26,M$2,($L12-M$1)/計算!$B$26*M$2))","v":1.9890005284157226},{"$f":"IF($L12<N$1,0,IF($L12-N$1>計算!$B$26,N$2,($L12-N$1)/計算!$B$26*N$2))","v":0.32752179487645394},{"$f":"IF($L12<O$1,0,IF($L12-O$1>計算!$B$26,O$2,($L12-O$1)/計算!$B$26*O$2))","v":0.93101299851738872},{"$f":"IF($L12<P$1,0,IF($L12-P$1>計算!$B$26,P$2,($L12-P$1)/計算!$B$26*P$2))","v":0.27879940541488013},{"$f":"IF($L12<Q$1,0,IF($L12-Q$1>計算!$B$26,Q$2,($L12-Q$1)/計算!$B$26*Q$2))","v":0},{"$f":"IF($L12<R$1,0,IF($L12-R$1>計算!$B$26,R$2,($L12-R$1)/計算!$B$26*R$2))","v":0},{"$f":"IF($L12<S$1,0,IF($L12-S$1>計算!$B$26,S$2,($L12-S$1)/計算!$B$26*S$2))","v":0},{"$f":"IF($L12<T$1,0,IF($L12-T$1>計算!$B$26,T$2,($L12-T$1)/計算!$B$26*T$2))","v":0},{"$f":"IF($L12<U$1,0,IF($L12-U$1>計算!$B$26,U$2,($L12-U$1)/計算!$B$26*U$2))","v":0},{"$f":"IF($L12<V$1,0,IF($L12-V$1>計算!$B$26,V$2,($L12-V$1)/計算!$B$26*V$2))","v":0},{"$f":"IF($L12<W$1,0,IF($L12-W$1>計算!$B$26,W$2,($L12-W$1)/計算!$B$26*W$2))","v":0},{"$f":"IF($L12<X$1,0,IF($L12-X$1>計算!$B$26,X$2,($L12-X$1)/計算!$B$26*X$2))","v":0},{"$f":"IF($L12<Y$1,0,IF($L12-Y$1>計算!$B$26,Y$2,($L12-Y$1)/計算!$B$26*Y$2))","v":0},{"$f":"IF($L12<Z$1,0,IF($L12-Z$1>計算!$B$26,Z$2,($L12-Z$1)/計算!$B$26*Z$2))","v":0},{"$f":"IF($L12<AA$1,0,IF($L12-AA$1>計算!$B$26,AA$2,($L12-AA$1)/計算!$B$26*AA$2))","v":0},{"$f":"IF($L12<AB$1,0,IF($L12-AB$1>計算!$B$26,AB$2,($L12-AB$1)/計算!$B$26*AB$2))","v":0},{"$f":"IF($L12<AC$1,0,IF($L12-AC$1>計算!$B$26,AC$2,($L12-AC$1)/計算!$B$26*AC$2))","v":0},{"$f":"IF($L12<AD$1,0,IF($L12-AD$1>計算!$B$26,AD$2,($L12-AD$1)/計算!$B$26*AD$2))","v":0},{"$f":"IF($L12<AE$1,0,IF($L12-AE$1>計算!$B$26,AE$2,($L12-AE$1)/計算!$B$26*AE$2))","v":0},{"$f":"IF($L12<AF$1,0,IF($L12-AF$1>計算!$B$26,AF$2,($L12-AF$1)/計算!$B$26*AF$2))","v":0},{"$f":"IF($L12<AG$1,0,IF($L12-AG$1>計算!$B$26,AG$2,($L12-AG$1)/計算!$B$26*AG$2))","v":0},{"$f":"IF($L12<AH$1,0,IF($L12-AH$1>計算!$B$26,AH$2,($L12-AH$1)/計算!$B$26*AH$2))","v":0},{"$f":"IF($L12<AI$1,0,IF($L12-AI$1>計算!$B$26,AI$2,($L12-AI$1)/計算!$B$26*AI$2))","v":0},{"$f":"IF($L12<AJ$1,0,IF($L12-AJ$1>計算!$B$26,AJ$2,($L12-AJ$1)/計算!$B$26*AJ$2))","v":0},{"$f":"IF($L12<AK$1,0,IF($L12-AK$1>計算!$B$26,AK$2,($L12-AK$1)/計算!$B$26*AK$2))","v":0},{"$f":"IF($L12<AL$1,0,IF($L12-AL$1>計算!$B$26,AL$2,($L12-AL$1)/計算!$B$26*AL$2))","v":0},{"$f":"IF($L12<AM$1,0,IF($L12-AM$1>計算!$B$26,AM$2,($L12-AM$1)/計算!$B$26*AM$2))","v":0},{"$f":"IF($L12<AN$1,0,IF($L12-AN$1>計算!$B$26,AN$2,($L12-AN$1)/計算!$B$26*AN$2))","v":0},{"$f":"IF($L12<AO$1,0,IF($L12-AO$1>計算!$B$26,AO$2,($L12-AO$1)/計算!$B$26*AO$2))","v":0},{"$f":"IF($L12<AP$1,0,IF($L12-AP$1>計算!$B$26,AP$2,($L12-AP$1)/計算!$B$26*AP$2))","v":0},{"$f":"IF($L12<AQ$1,0,IF($L12-AQ$1>計算!$B$26,AQ$2,($L12-AQ$1)/計算!$B$26*AQ$2))","v":0},{"$f":"IF($L12<AR$1,0,IF($L12-AR$1>計算!$B$26,AR$2,($L12-AR$1)/計算!$B$26*AR$2))","v":0},{"$f":"IF($L12<AS$1,0,IF($L12-AS$1>計算!$B$26,AS$2,($L12-AS$1)/計算!$B$26*AS$2))","v":0},{"$f":"IF($L12<AT$1,0,IF($L12-AT$1>計算!$B$26,AT$2,($L12-AT$1)/計算!$B$26*AT$2))","v":0},{"$f":"IF($L12<AU$1,0,IF($L12-AU$1>計算!$B$26,AU$2,($L12-AU$1)/計算!$B$26*AU$2))","v":0},{"$f":"IF($L12<AV$1,0,IF($L12-AV$1>計算!$B$26,AV$2,($L12-AV$1)/計算!$B$26*AV$2))","v":0},3.5263347272244454,null,null,null,16,{"$f":"準備!T11","v":4.8899428855278071},{"$f":"準備!Y11-準備!Y10","v":0.47754805534168732},{"$f":"準備!Z11-準備!Z10","v":-1.203930779011364E-2},null,8,2.9685508120394739,{"$f":"IF($BG12<BH$1,0,IF($BG12-BH$1>計算!$B$26,BH$2,($BG12-BH$1)/計算!$B$26*BH$2))","v":1.8434248486289773},{"$f":"IF($BG12<BI$1,0,IF($BG12-BI$1>計算!$B$26,BI$2,($BG12-BI$1)/計算!$B$26*BI$2))","v":2.0804359702386828},{"$f":"IF($BG12<BJ$1,0,IF($BG12-BJ$1>計算!$B$26,BJ$2,($BG12-BJ$1)/計算!$B$26*BJ$2))","v":7.5799384394098529E-2},{"$f":"IF($BG12<BK$1,0,IF($BG12-BK$1>計算!$B$26,BK$2,($BG12-BK$1)/計算!$B$26*BK$2))","v":-6.3544444062712979E-2},{"$f":"IF($BG12<BL$1,0,IF($BG12-BL$1>計算!$B$26,BL$2,($BG12-BL$1)/計算!$B$26*BL$2))","v":-4.6323941588848699E-2},{"$f":"IF($BG12<BM$1,0,IF($BG12-BM$1>計算!$B$26,BM$2,($BG12-BM$1)/計算!$B$26*BM$2))","v":0},{"$f":"IF($BG12<BN$1,0,IF($BG12-BN$1>計算!$B$26,BN$2,($BG12-BN$1)/計算!$B$26*BN$2))","v":0},{"$f":"IF($BG12<BO$1,0,IF($BG12-BO$1>計算!$B$26,BO$2,($BG12-BO$1)/計算!$B$26*BO$2))","v":0},{"$f":"IF($BG12<BP$1,0,IF($BG12-BP$1>計算!$B$26,BP$2,($BG12-BP$1)/計算!$B$26*BP$2))","v":0},{"$f":"IF($BG12<BQ$1,0,IF($BG12-BQ$1>計算!$B$26,BQ$2,($BG12-BQ$1)/計算!$B$26*BQ$2))","v":0},{"$f":"IF($BG12<BR$1,0,IF($BG12-BR$1>計算!$B$26,BR$2,($BG12-BR$1)/計算!$B$26*BR$2))","v":0},{"$f":"IF($BG12<BS$1,0,IF($BG12-BS$1>計算!$B$26,BS$2,($BG12-BS$1)/計算!$B$26*BS$2))","v":0},{"$f":"IF($BG12<BT$1,0,IF($BG12-BT$1>計算!$B$26,BT$2,($BG12-BT$1)/計算!$B$26*BT$2))","v":0},{"$f":"IF($BG12<BU$1,0,IF($BG12-BU$1>計算!$B$26,BU$2,($BG12-BU$1)/計算!$B$26*BU$2))","v":0},{"$f":"IF($BG12<BV$1,0,IF($BG12-BV$1>計算!$B$26,BV$2,($BG12-BV$1)/計算!$B$26*BV$2))","v":0},{"$f":"IF($BG12<BW$1,0,IF($BG12-BW$1>計算!$B$26,BW$2,($BG12-BW$1)/計算!$B$26*BW$2))","v":0},{"$f":"IF($BG12<BX$1,0,IF($BG12-BX$1>計算!$B$26,BX$2,($BG12-BX$1)/計算!$B$26*BX$2))","v":0},{"$f":"IF($BG12<BY$1,0,IF($BG12-BY$1>計算!$B$26,BY$2,($BG12-BY$1)/計算!$B$26*BY$2))","v":0},{"$f":"IF($BG12<BZ$1,0,IF($BG12-BZ$1>計算!$B$26,BZ$2,($BG12-BZ$1)/計算!$B$26*BZ$2))","v":0},{"$f":"IF($BG12<CA$1,0,IF($BG12-CA$1>計算!$B$26,CA$2,($BG12-CA$1)/計算!$B$26*CA$2))","v":0},{"$f":"IF($BG12<CB$1,0,IF($BG12-CB$1>計算!$B$26,CB$2,($BG12-CB$1)/計算!$B$26*CB$2))","v":0},{"$f":"IF($BG12<CC$1,0,IF($BG12-CC$1>計算!$B$26,CC$2,($BG12-CC$1)/計算!$B$26*CC$2))","v":0},{"$f":"IF($BG12<CD$1,0,IF($BG12-CD$1>計算!$B$26,CD$2,($BG12-CD$1)/計算!$B$26*CD$2))","v":0},{"$f":"IF($BG12<CE$1,0,IF($BG12-CE$1>計算!$B$26,CE$2,($BG12-CE$1)/計算!$B$26*CE$2))","v":0},{"$f":"IF($BG12<CF$1,0,IF($BG12-CF$1>計算!$B$26,CF$2,($BG12-CF$1)/計算!$B$26*CF$2))","v":0},{"$f":"IF($BG12<CG$1,0,IF($BG12-CG$1>計算!$B$26,CG$2,($BG12-CG$1)/計算!$B$26*CG$2))","v":0},{"$f":"IF($BG12<CH$1,0,IF($BG12-CH$1>計算!$B$26,CH$2,($BG12-CH$1)/計算!$B$26*CH$2))","v":0},{"$f":"IF($BG12<CI$1,0,IF($BG12-CI$1>計算!$B$26,CI$2,($BG12-CI$1)/計算!$B$26*CI$2))","v":0},{"$f":"IF($BG12<CJ$1,0,IF($BG12-CJ$1>計算!$B$26,CJ$2,($BG12-CJ$1)/計算!$B$26*CJ$2))","v":0},{"$f":"IF($BG12<CK$1,0,IF($BG12-CK$1>計算!$B$26,CK$2,($BG12-CK$1)/計算!$B$26*CK$2))","v":0},3.8897918176101971,null,null,3.8427841469766664,-0.17411213709952655,0.17411213709952655]
["ZD",{"$f":"SQRT((1-B7)/(1+B7))*B6","v":42.98634768105476},null,null,null,20,{"$f":"準備!J12","v":5.7929971210673239},{"$f":"準備!O12-準備!O11","v":-5.7963055209600434E-2},{"$f":"準備!P12-準備!P11","v":0.29158188812572483},null,10,3.8716050475789912,{"$f":"IF($L13<M$1,0,IF($L13-M$1>計算!$B$26,M$2,($L13-M$1)/計算!$B$26*M$2))","v":1.9890005284157226},{"$f":"IF($L13<N$1,0,IF($L13-N$1>計算!$B$26,N$2,($L13-N$1)/計算!$B$26*N$2))","v":0.32752179487645394},{"$f":"IF($L13<O$1,0,IF($L13-O$1>計算!$B$26,O$2,($L13-O$1)/計算!$B$26*O$2))","v":0.93101299851738872},{"$f":"IF($L13<P$1,0,IF($L13-P$1>計算!$B$26,P$2,($L13-P$1)/計算!$B$26*P$2))","v":0.27879940541488013},{"$f":"IF($L13<Q$1,0,IF($L13-Q$1>計算!$B$26,Q$2,($L13-Q$1)/計算!$B$26*Q$2))","v":4.4890990892575769E-3},{"$f":"IF($L13<R$1,0,IF($L13-R$1>計算!$B$26,R$2,($L13-R$1)/計算!$B$26*R$2))","v":0},{"$f":"IF($L13<S$1,0,IF($L13-S$1>計算!$B$26,S$2,($L13-S$1)/計算!$B$26*S$2))","v":0},{"$f":"IF($L13<T$1,0,IF($L13-T$1>計算!$B$26,T$2,($L13-T$1)/計算!$B$26*T$2))","v":0},{"$f":"IF($L13<U$1,0,IF($L13-U$1>計算!$B$26,U$2,($L13-U$1)/計算!$B$26*U$2))","v":0},{"$f":"IF($L13<V$1,0,IF($L13-V$1>計算!$B$26,V$2,($L13-V$1)/計算!$B$26*V$2))","v":0},{"$f":"IF($L13<W$1,0,IF($L13-W$1>計算!$B$26,W$2,($L13-W$1)/計算!$B$26*W$2))","v":0},{"$f":"IF($L13<X$1,0,IF($L13-X$1>計算!$B$26,X$2,($L13-X$1)/計算!$B$26*X$2))","v":0},{"$f":"IF($L13<Y$1,0,IF($L13-Y$1>計算!$B$26,Y$2,($L13-Y$1)/計算!$B$26*Y$2))","v":0},{"$f":"IF($L13<Z$1,0,IF($L13-Z$1>計算!$B$26,Z$2,($L13-Z$1)/計算!$B$26*Z$2))","v":0},{"$f":"IF($L13<AA$1,0,IF($L13-AA$1>計算!$B$26,AA$2,($L13-AA$1)/計算!$B$26*AA$2))","v":0},{"$f":"IF($L13<AB$1,0,IF($L13-AB$1>計算!$B$26,AB$2,($L13-AB$1)/計算!$B$26*AB$2))","v":0},{"$f":"IF($L13<AC$1,0,IF($L13-AC$1>計算!$B$26,AC$2,($L13-AC$1)/計算!$B$26*AC$2))","v":0},{"$f":"IF($L13<AD$1,0,IF($L13-AD$1>計算!$B$26,AD$2,($L13-AD$1)/計算!$B$26*AD$2))","v":0},{"$f":"IF($L13<AE$1,0,IF($L13-AE$1>計算!$B$26,AE$2,($L13-AE$1)/計算!$B$26*AE$2))","v":0},{"$f":"IF($L13<AF$1,0,IF($L13-AF$1>計算!$B$26,AF$2,($L13-AF$1)/計算!$B$26*AF$2))","v":0},{"$f":"IF($L13<AG$1,0,IF($L13-AG$1>計算!$B$26,AG$2,($L13-AG$1)/計算!$B$26*AG$2))","v":0},{"$f":"IF($L13<AH$1,0,IF($L13-AH$1>計算!$B$26,AH$2,($L13-AH$1)/計算!$B$26*AH$2))","v":0},{"$f":"IF($L13<AI$1,0,IF($L13-AI$1>計算!$B$26,AI$2,($L13-AI$1)/計算!$B$26*AI$2))","v":0},{"$f":"IF($L13<AJ$1,0,IF($L13-AJ$1>計算!$B$26,AJ$2,($L13-AJ$1)/計算!$B$26*AJ$2))","v":0},{"$f":"IF($L13<AK$1,0,IF($L13-AK$1>計算!$B$26,AK$2,($L13-AK$1)/計算!$B$26*AK$2))","v":0},{"$f":"IF($L13<AL$1,0,IF($L13-AL$1>計算!$B$26,AL$2,($L13-AL$1)/計算!$B$26*AL$2))","v":0},{"$f":"IF($L13<AM$1,0,IF($L13-AM$1>計算!$B$26,AM$2,($L13-AM$1)/計算!$B$26*AM$2))","v":0},{"$f":"IF($L13<AN$1,0,IF($L13-AN$1>計算!$B$26,AN$2,($L13-AN$1)/計算!$B$26*AN$2))","v":0},{"$f":"IF($L13<AO$1,0,IF($L13-AO$1>計算!$B$26,AO$2,($L13-AO$1)/計算!$B$26*AO$2))","v":0},{"$f":"IF($L13<AP$1,0,IF($L13-AP$1>計算!$B$26,AP$2,($L13-AP$1)/計算!$B$26*AP$2))","v":0},{"$f":"IF($L13<AQ$1,0,IF($L13-AQ$1>計算!$B$26,AQ$2,($L13-AQ$1)/計算!$B$26*AQ$2))","v":0},{"$f":"IF($L13<AR$1,0,IF($L13-AR$1>計算!$B$26,AR$2,($L13-AR$1)/計算!$B$26*AR$2))","v":0},{"$f":"IF($L13<AS$1,0,IF($L13-AS$1>計算!$B$26,AS$2,($L13-AS$1)/計算!$B$26*AS$2))","v":0},{"$f":"IF($L13<AT$1,0,IF($L13-AT$1>計算!$B$26,AT$2,($L13-AT$1)/計算!$B$26*AT$2))","v":0},{"$f":"IF($L13<AU$1,0,IF($L13-AU$1>計算!$B$26,AU$2,($L13-AU$1)/計算!$B$26*AU$2))","v":0},{"$f":"IF($L13<AV$1,0,IF($L13-AV$1>計算!$B$26,AV$2,($L13-AV$1)/計算!$B$26*AV$2))","v":0},3.5308238263137031,null,null,null,17,{"$f":"準備!T12","v":4.9187637861301319},{"$f":"準備!Y12-準備!Y11","v":-0.21471923432841411},{"$f":"準備!Z12-準備!Z11","v":-6.422251715804006E-2},null,9,3.3820881402324998,{"$f":"IF($BG13<BH$1,0,IF($BG13-BH$1>計算!$B$26,BH$2,($BG13-BH$1)/計算!$B$26*BH$2))","v":1.8434248486289773},{"$f":"IF($BG13<BI$1,0,IF($BG13-BI$1>計算!$B$26,BI$2,($BG13-BI$1)/計算!$B$26*BI$2))","v":2.0804359702386828},{"$f":"IF($BG13<BJ$1,0,IF($BG13-BJ$1>計算!$B$26,BJ$2,($BG13-BJ$1)/計算!$B$26*BJ$2))","v":0.43833573789608726},{"$f":"IF($BG13<BK$1,0,IF($BG13-BK$1>計算!$B$26,BK$2,($BG13-BK$1)/計算!$B$26*BK$2))","v":-0.51942887289776907},{"$f":"IF($BG13<BL$1,0,IF($BG13-BL$1>計算!$B$26,BL$2,($BG13-BL$1)/計算!$B$26*BL$2))","v":-0.71100403956181235},{"$f":"IF($BG13<BM$1,0,IF($BG13-BM$1>計算!$B$26,BM$2,($BG13-BM$1)/計算!$B$26*BM$2))","v":0.16197661224199519},{"$f":"IF($BG13<BN$1,0,IF($BG13-BN$1>計算!$B$26,BN$2,($BG13-BN$1)/計算!$B$26*BN$2))","v":0},{"$f":"IF($BG13<BO$1,0,IF($BG13-BO$1>計算!$B$26,BO$2,($BG13-BO$1)/計算!$B$26*BO$2))","v":0},{"$f":"IF($BG13<BP$1,0,IF($BG13-BP$1>計算!$B$26,BP$2,($BG13-BP$1)/計算!$B$26*BP$2))","v":0},{"$f":"IF($BG13<BQ$1,0,IF($BG13-BQ$1>計算!$B$26,BQ$2,($BG13-BQ$1)/計算!$B$26*BQ$2))","v":0},{"$f":"IF($BG13<BR$1,0,IF($BG13-BR$1>計算!$B$26,BR$2,($BG13-BR$1)/計算!$B$26*BR$2))","v":0},{"$f":"IF($BG13<BS$1,0,IF($BG13-BS$1>計算!$B$26,BS$2,($BG13-BS$1)/計算!$B$26*BS$2))","v":0},{"$f":"IF($BG13<BT$1,0,IF($BG13-BT$1>計算!$B$26,BT$2,($BG13-BT$1)/計算!$B$26*BT$2))","v":0},{"$f":"IF($BG13<BU$1,0,IF($BG13-BU$1>計算!$B$26,BU$2,($BG13-BU$1)/計算!$B$26*BU$2))","v":0},{"$f":"IF($BG13<BV$1,0,IF($BG13-BV$1>計算!$B$26,BV$2,($BG13-BV$1)/計算!$B$26*BV$2))","v":0},{"$f":"IF($BG13<BW$1,0,IF($BG13-BW$1>計算!$B$26,BW$2,($BG13-BW$1)/計算!$B$26*BW$2))","v":0},{"$f":"IF($BG13<BX$1,0,IF($BG13-BX$1>計算!$B$26,BX$2,($BG13-BX$1)/計算!$B$26*BX$2))","v":0},{"$f":"IF($BG13<BY$1,0,IF($BG13-BY$1>計算!$B$26,BY$2,($BG13-BY$1)/計算!$B$26*BY$2))","v":0},{"$f":"IF($BG13<BZ$1,0,IF($BG13-BZ$1>計算!$B$26,BZ$2,($BG13-BZ$1)/計算!$B$26*BZ$2))","v":0},{"$f":"IF($BG13<CA$1,0,IF($BG13-CA$1>計算!$B$26,CA$2,($BG13-CA$1)/計算!$B$26*CA$2))","v":0},{"$f":"IF($BG13<CB$1,0,IF($BG13-CB$1>計算!$B$26,CB$2,($BG13-CB$1)/計算!$B$26*CB$2))","v":0},{"$f":"IF($BG13<CC$1,0,IF($BG13-CC$1>計算!$B$26,CC$2,($BG13-CC$1)/計算!$B$26*CC$2))","v":0},{"$f":"IF($BG13<CD$1,0,IF($BG13-CD$1>計算!$B$26,CD$2,($BG13-CD$1)/計算!$B$26*CD$2))","v":0},{"$f":"IF($BG13<CE$1,0,IF($BG13-CE$1>計算!$B$26,CE$2,($BG13-CE$1)/計算!$B$26*CE$2))","v":0},{"$f":"IF($BG13<CF$1,0,IF($BG13-CF$1>計算!$B$26,CF$2,($BG13-CF$1)/計算!$B$26*CF$2))","v":0},{"$f":"IF($BG13<CG$1,0,IF($BG13-CG$1>計算!$B$26,CG$2,($BG13-CG$1)/計算!$B$26*CG$2))","v":0},{"$f":"IF($BG13<CH$1,0,IF($BG13-CH$1>計算!$B$26,CH$2,($BG13-CH$1)/計算!$B$26*CH$2))","v":0},{"$f":"IF($BG13<CI$1,0,IF($BG13-CI$1>計算!$B$26,CI$2,($BG13-CI$1)/計算!$B$26*CI$2))","v":0},{"$f":"IF($BG13<CJ$1,0,IF($BG13-CJ$1>計算!$B$26,CJ$2,($BG13-CJ$1)/計算!$B$26*CJ$2))","v":0},{"$f":"IF($BG13<CK$1,0,IF($BG13-CK$1>計算!$B$26,CK$2,($BG13-CK$1)/計算!$B$26*CK$2))","v":0},3.2937402565461604,null,null,3.8716050475789912,-0.18643283036023872,0.18643283036023872]
["ZG",{"$f":"SQRT(1-B7^2)*B6","v":49.434299833212975},null,null,null,21,{"$f":"準備!J13","v":5.8218180216696487},{"$f":"準備!O13-準備!O12","v":-5.5458494250048673E-2},{"$f":"準備!P13-準備!P12","v":-0.33635698393373026},null,11,3.9004259481813159,{"$f":"IF($L14<M$1,0,IF($L14-M$1>計算!$B$26,M$2,($L14-M$1)/計算!$B$26*M$2))","v":1.9890005284157226},{"$f":"IF($L14<N$1,0,IF($L14-N$1>計算!$B$26,N$2,($L14-N$1)/計算!$B$26*N$2))","v":0.32752179487645394},{"$f":"IF($L14<O$1,0,IF($L14-O$1>計算!$B$26,O$2,($L14-O$1)/計算!$B$26*O$2))","v":0.93101299851738872},{"$f":"IF($L14<P$1,0,IF($L14-P$1>計算!$B$26,P$2,($L14-P$1)/計算!$B$26*P$2))","v":0.27879940541488013},{"$f":"IF($L14<Q$1,0,IF($L14-Q$1>計算!$B$26,Q$2,($L14-Q$1)/計算!$B$26*Q$2))","v":8.9781981785151538E-3},{"$f":"IF($L14<R$1,0,IF($L14-R$1>計算!$B$26,R$2,($L14-R$1)/計算!$B$26*R$2))","v":-6.4514877389966225E-4},{"$f":"IF($L14<S$1,0,IF($L14-S$1>計算!$B$26,S$2,($L14-S$1)/計算!$B$26*S$2))","v":0},{"$f":"IF($L14<T$1,0,IF($L14-T$1>計算!$B$26,T$2,($L14-T$1)/計算!$B$26*T$2))","v":0},{"$f":"IF($L14<U$1,0,IF($L14-U$1>計算!$B$26,U$2,($L14-U$1)/計算!$B$26*U$2))","v":0},{"$f":"IF($L14<V$1,0,IF($L14-V$1>計算!$B$26,V$2,($L14-V$1)/計算!$B$26*V$2))","v":0},{"$f":"IF($L14<W$1,0,IF($L14-W$1>計算!$B$26,W$2,($L14-W$1)/計算!$B$26*W$2))","v":0},{"$f":"IF($L14<X$1,0,IF($L14-X$1>計算!$B$26,X$2,($L14-X$1)/計算!$B$26*X$2))","v":0},{"$f":"IF($L14<Y$1,0,IF($L14-Y$1>計算!$B$26,Y$2,($L14-Y$1)/計算!$B$26*Y$2))","v":0},{"$f":"IF($L14<Z$1,0,IF($L14-Z$1>計算!$B$26,Z$2,($L14-Z$1)/計算!$B$26*Z$2))","v":0},{"$f":"IF($L14<AA$1,0,IF($L14-AA$1>計算!$B$26,AA$2,($L14-AA$1)/計算!$B$26*AA$2))","v":0},{"$f":"IF($L14<AB$1,0,IF($L14-AB$1>計算!$B$26,AB$2,($L14-AB$1)/計算!$B$26*AB$2))","v":0},{"$f":"IF($L14<AC$1,0,IF($L14-AC$1>計算!$B$26,AC$2,($L14-AC$1)/計算!$B$26*AC$2))","v":0},{"$f":"IF($L14<AD$1,0,IF($L14-AD$1>計算!$B$26,AD$2,($L14-AD$1)/計算!$B$26*AD$2))","v":0},{"$f":"IF($L14<AE$1,0,IF($L14-AE$1>計算!$B$26,AE$2,($L14-AE$1)/計算!$B$26*AE$2))","v":0},{"$f":"IF($L14<AF$1,0,IF($L14-AF$1>計算!$B$26,AF$2,($L14-AF$1)/計算!$B$26*AF$2))","v":0},{"$f":"IF($L14<AG$1,0,IF($L14-AG$1>計算!$B$26,AG$2,($L14-AG$1)/計算!$B$26*AG$2))","v":0},{"$f":"IF($L14<AH$1,0,IF($L14-AH$1>計算!$B$26,AH$2,($L14-AH$1)/計算!$B$26*AH$2))","v":0},{"$f":"IF($L14<AI$1,0,IF($L14-AI$1>計算!$B$26,AI$2,($L14-AI$1)/計算!$B$26*AI$2))","v":0},{"$f":"IF($L14<AJ$1,0,IF($L14-AJ$1>計算!$B$26,AJ$2,($L14-AJ$1)/計算!$B$26*AJ$2))","v":0},{"$f":"IF($L14<AK$1,0,IF($L14-AK$1>計算!$B$26,AK$2,($L14-AK$1)/計算!$B$26*AK$2))","v":0},{"$f":"IF($L14<AL$1,0,IF($L14-AL$1>計算!$B$26,AL$2,($L14-AL$1)/計算!$B$26*AL$2))","v":0},{"$f":"IF($L14<AM$1,0,IF($L14-AM$1>計算!$B$26,AM$2,($L14-AM$1)/計算!$B$26*AM$2))","v":0},{"$f":"IF($L14<AN$1,0,IF($L14-AN$1>計算!$B$26,AN$2,($L14-AN$1)/計算!$B$26*AN$2))","v":0},{"$f":"IF($L14<AO$1,0,IF($L14-AO$1>計算!$B$26,AO$2,($L14-AO$1)/計算!$B$26*AO$2))","v":0},{"$f":"IF($L14<AP$1,0,IF($L14-AP$1>計算!$B$26,AP$2,($L14-AP$1)/計算!$B$26*AP$2))","v":0},{"$f":"IF($L14<AQ$1,0,IF($L14-AQ$1>計算!$B$26,AQ$2,($L14-AQ$1)/計算!$B$26*AQ$2))","v":0},{"$f":"IF($L14<AR$1,0,IF($L14-AR$1>計算!$B$26,AR$2,($L14-AR$1)/計算!$B$26*AR$2))","v":0},{"$f":"IF($L14<AS$1,0,IF($L14-AS$1>計算!$B$26,AS$2,($L14-AS$1)/計算!$B$26*AS$2))","v":0},{"$f":"IF($L14<AT$1,0,IF($L14-AT$1>計算!$B$26,AT$2,($L14-AT$1)/計算!$B$26*AT$2))","v":0},{"$f":"IF($L14<AU$1,0,IF($L14-AU$1>計算!$B$26,AU$2,($L14-AU$1)/計算!$B$26*AU$2))","v":0},{"$f":"IF($L14<AV$1,0,IF($L14-AV$1>計算!$B$26,AV$2,($L14-AV$1)/計算!$B$26*AV$2))","v":0},3.5346677766290608,null,null,null,18,{"$f":"準備!T13","v":4.9475846867324567},{"$f":"準備!Y13-準備!Y12","v":1.8435751369704434E-2},{"$f":"準備!Z13-準備!Z12","v":8.0523326838670695E-3},null,10,3.4109090508348245,{"$f":"IF($BG14<BH$1,0,IF($BG14-BH$1>計算!$B$26,BH$2,($BG14-BH$1)/計算!$B$26*BH$2))","v":1.8434248486289773},{"$f":"IF($BG14<BI$1,0,IF($BG14-BI$1>計算!$B$26,BI$2,($BG14-BI$1)/計算!$B$26*BI$2))","v":2.0804359702386828},{"$f":"IF($BG14<BJ$1,0,IF($BG14-BJ$1>計算!$B$26,BJ$2,($BG14-BJ$1)/計算!$B$26*BJ$2))","v":0.43833573789608726},{"$f":"IF($BG14<BK$1,0,IF($BG14-BK$1>計算!$B$26,BK$2,($BG14-BK$1)/計算!$B$26*BK$2))","v":-0.55120106185706153},{"$f":"IF($BG14<BL$1,0,IF($BG14-BL$1>計算!$B$26,BL$2,($BG14-BL$1)/計算!$B$26*BL$2))","v":-0.75732799722369848},{"$f":"IF($BG14<BM$1,0,IF($BG14-BM$1>計算!$B$26,BM$2,($BG14-BM$1)/計算!$B$26*BM$2))","v":0.1732653476059644},{"$f":"IF($BG14<BN$1,0,IF($BG14-BN$1>計算!$B$26,BN$2,($BG14-BN$1)/計算!$B$26*BN$2))","v":0},{"$f":"IF($BG14<BO$1,0,IF($BG14-BO$1>計算!$B$26,BO$2,($BG14-BO$1)/計算!$B$26*BO$2))","v":0},{"$f":"IF($BG14<BP$1,0,IF($BG14-BP$1>計算!$B$26,BP$2,($BG14-BP$1)/計算!$B$26*BP$2))","v":0},{"$f":"IF($BG14<BQ$1,0,IF($BG14-BQ$1>計算!$B$26,BQ$2,($BG14-BQ$1)/計算!$B$26*BQ$2))","v":0},{"$f":"IF($BG14<BR$1,0,IF($BG14-BR$1>計算!$B$26,BR$2,($BG14-BR$1)/計算!$B$26*BR$2))","v":0},{"$f":"IF($BG14<BS$1,0,IF($BG14-BS$1>計算!$B$26,BS$2,($BG14-BS$1)/計算!$B$26*BS$2))","v":0},{"$f":"IF($BG14<BT$1,0,IF($BG14-BT$1>計算!$B$26,BT$2,($BG14-BT$1)/計算!$B$26*BT$2))","v":0},{"$f":"IF($BG14<BU$1,0,IF($BG14-BU$1>計算!$B$26,BU$2,($BG14-BU$1)/計算!$B$26*BU$2))","v":0},{"$f":"IF($BG14<BV$1,0,IF($BG14-BV$1>計算!$B$26,BV$2,($BG14-BV$1)/計算!$B$26*BV$2))","v":0},{"$f":"IF($BG14<BW$1,0,IF($BG14-BW$1>計算!$B$26,BW$2,($BG14-BW$1)/計算!$B$26*BW$2))","v":0},{"$f":"IF($BG14<BX$1,0,IF($BG14-BX$1>計算!$B$26,BX$2,($BG14-BX$1)/計算!$B$26*BX$2))","v":0},{"$f":"IF($BG14<BY$1,0,IF($BG14-BY$1>計算!$B$26,BY$2,($BG14-BY$1)/計算!$B$26*BY$2))","v":0},{"$f":"IF($BG14<BZ$1,0,IF($BG14-BZ$1>計算!$B$26,BZ$2,($BG14-BZ$1)/計算!$B$26*BZ$2))","v":0},{"$f":"IF($BG14<CA$1,0,IF($BG14-CA$1>計算!$B$26,CA$2,($BG14-CA$1)/計算!$B$26*CA$2))","v":0},{"$f":"IF($BG14<CB$1,0,IF($BG14-CB$1>計算!$B$26,CB$2,($BG14-CB$1)/計算!$B$26*CB$2))","v":0},{"$f":"IF($BG14<CC$1,0,IF($BG14-CC$1>計算!$B$26,CC$2,($BG14-CC$1)/計算!$B$26*CC$2))","v":0},{"$f":"IF($BG14<CD$1,0,IF($BG14-CD$1>計算!$B$26,CD$2,($BG14-CD$1)/計算!$B$26*CD$2))","v":0},{"$f":"IF($BG14<CE$1,0,IF($BG14-CE$1>計算!$B$26,CE$2,($BG14-CE$1)/計算!$B$26*CE$2))","v":0},{"$f":"IF($BG14<CF$1,0,IF($BG14-CF$1>計算!$B$26,CF$2,($BG14-CF$1)/計算!$B$26*CF$2))","v":0},{"$f":"IF($BG14<CG$1,0,IF($BG14-CG$1>計算!$B$26,CG$2,($BG14-CG$1)/計算!$B$26*CG$2))","v":0},{"$f":"IF($BG14<CH$1,0,IF($BG14-CH$1>計算!$B$26,CH$2,($BG14-CH$1)/計算!$B$26*CH$2))","v":0},{"$f":"IF($BG14<CI$1,0,IF($BG14-CI$1>計算!$B$26,CI$2,($BG14-CI$1)/計算!$B$26*CI$2))","v":0},{"$f":"IF($BG14<CJ$1,0,IF($BG14-CJ$1>計算!$B$26,CJ$2,($BG14-CJ$1)/計算!$B$26*CJ$2))","v":0},{"$f":"IF($BG14<CK$1,0,IF($BG14-CK$1>計算!$B$26,CK$2,($BG14-CK$1)/計算!$B$26*CK$2))","v":0},3.2269328452889514,null,null,3.9004259481813159,-0.16486370001220949,0.16486370001220949]
["ZP",{"$f":"B6/SQRT(1-B7^2)","v":50.572173742417355},null,null,null,22,{"$f":"準備!J14","v":5.8506389222719744},{"$f":"準備!O14-準備!O13","v":0.10338399991016445},{"$f":"準備!P14-準備!P13","v":-0.23732384043519716},null,12,3.9292468487836407,{"$f":"IF($L15<M$1,0,IF($L15-M$1>計算!$B$26,M$2,($L15-M$1)/計算!$B$26*M$2))","v":1.9890005284157226},{"$f":"IF($L15<N$1,0,IF($L15-N$1>計算!$B$26,N$2,($L15-N$1)/計算!$B$26*N$2))","v":0.32752179487645394},{"$f":"IF($L15<O$1,0,IF($L15-O$1>計算!$B$26,O$2,($L15-O$1)/計算!$B$26*O$2))","v":0.93101299851738872},{"$f":"IF($L15<P$1,0,IF($L15-P$1>計算!$B$26,P$2,($L15-P$1)/計算!$B$26*P$2))","v":0.27879940541488013},{"$f":"IF($L15<Q$1,0,IF($L15-Q$1>計算!$B$26,Q$2,($L15-Q$1)/計算!$B$26*Q$2))","v":1.3467297267772731E-2},{"$f":"IF($L15<R$1,0,IF($L15-R$1>計算!$B$26,R$2,($L15-R$1)/計算!$B$26*R$2))","v":-1.2902975477993245E-3},{"$f":"IF($L15<S$1,0,IF($L15-S$1>計算!$B$26,S$2,($L15-S$1)/計算!$B$26*S$2))","v":-1.3796871243752779E-2},{"$f":"IF($L15<T$1,0,IF($L15-T$1>計算!$B$26,T$2,($L15-T$1)/計算!$B$26*T$2))","v":0},{"$f":"IF($L15<U$1,0,IF($L15-U$1>計算!$B$26,U$2,($L15-U$1)/計算!$B$26*U$2))","v":0},{"$f":"IF($L15<V$1,0,IF($L15-V$1>計算!$B$26,V$2,($L15-V$1)/計算!$B$26*V$2))","v":0},{"$f":"IF($L15<W$1,0,IF($L15-W$1>計算!$B$26,W$2,($L15-W$1)/計算!$B$26*W$2))","v":0},{"$f":"IF($L15<X$1,0,IF($L15-X$1>計算!$B$26,X$2,($L15-X$1)/計算!$B$26*X$2))","v":0},{"$f":"IF($L15<Y$1,0,IF($L15-Y$1>計算!$B$26,Y$2,($L15-Y$1)/計算!$B$26*Y$2))","v":0},{"$f":"IF($L15<Z$1,0,IF($L15-Z$1>計算!$B$26,Z$2,($L15-Z$1)/計算!$B$26*Z$2))","v":0},{"$f":"IF($L15<AA$1,0,IF($L15-AA$1>計算!$B$26,AA$2,($L15-AA$1)/計算!$B$26*AA$2))","v":0},{"$f":"IF($L15<AB$1,0,IF($L15-AB$1>計算!$B$26,AB$2,($L15-AB$1)/計算!$B$26*AB$2))","v":0},{"$f":"IF($L15<AC$1,0,IF($L15-AC$1>計算!$B$26,AC$2,($L15-AC$1)/計算!$B$26*AC$2))","v":0},{"$f":"IF($L15<AD$1,0,IF($L15-AD$1>計算!$B$26,AD$2,($L15-AD$1)/計算!$B$26*AD$2))","v":0},{"$f":"IF($L15<AE$1,0,IF($L15-AE$1>計算!$B$26,AE$2,($L15-AE$1)/計算!$B$26*AE$2))","v":0},{"$f":"IF($L15<AF$1,0,IF($L15-AF$1>計算!$B$26,AF$2,($L15-AF$1)/計算!$B$26*AF$2))","v":0},{"$f":"IF($L15<AG$1,0,IF($L15-AG$1>計算!$B$26,AG$2,($L15-AG$1)/計算!$B$26*AG$2))","v":0},{"$f":"IF($L15<AH$1,0,IF($L15-AH$1>計算!$B$26,AH$2,($L15-AH$1)/計算!$B$26*AH$2))","v":0},{"$f":"IF($L15<AI$1,0,IF($L15-AI$1>計算!$B$26,AI$2,($L15-AI$1)/計算!$B$26*AI$2))","v":0},{"$f":"IF($L15<AJ$1,0,IF($L15-AJ$1>計算!$B$26,AJ$2,($L15-AJ$1)/計算!$B$26*AJ$2))","v":0},{"$f":"IF($L15<AK$1,0,IF($L15-AK$1>計算!$B$26,AK$2,($L15-AK$1)/計算!$B$26*AK$2))","v":0},{"$f":"IF($L15<AL$1,0,IF($L15-AL$1>計算!$B$26,AL$2,($L15-AL$1)/計算!$B$26*AL$2))","v":0},{"$f":"IF($L15<AM$1,0,IF($L15-AM$1>計算!$B$26,AM$2,($L15-AM$1)/計算!$B$26*AM$2))","v":0},{"$f":"IF($L15<AN$1,0,IF($L15-AN$1>計算!$B$26,AN$2,($L15-AN$1)/計算!$B$26*AN$2))","v":0},{"$f":"IF($L15<AO$1,0,IF($L15-AO$1>計算!$B$26,AO$2,($L15-AO$1)/計算!$B$26*AO$2))","v":0},{"$f":"IF($L15<AP$1,0,IF($L15-AP$1>計算!$B$26,AP$2,($L15-AP$1)/計算!$B$26*AP$2))","v":0},{"$f":"IF($L15<AQ$1,0,IF($L15-AQ$1>計算!$B$26,AQ$2,($L15-AQ$1)/計算!$B$26*AQ$2))","v":0},{"$f":"IF($L15<AR$1,0,IF($L15-AR$1>計算!$B$26,AR$2,($L15-AR$1)/計算!$B$26*AR$2))","v":0},{"$f":"IF($L15<AS$1,0,IF($L15-AS$1>計算!$B$26,AS$2,($L15-AS$1)/計算!$B$26*AS$2))","v":0},{"$f":"IF($L15<AT$1,0,IF($L15-AT$1>計算!$B$26,AT$2,($L15-AT$1)/計算!$B$26*AT$2))","v":0},{"$f":"IF($L15<AU$1,0,IF($L15-AU$1>計算!$B$26,AU$2,($L15-AU$1)/計算!$B$26*AU$2))","v":0},{"$f":"IF($L15<AV$1,0,IF($L15-AV$1>計算!$B$26,AV$2,($L15-AV$1)/計算!$B$26*AV$2))","v":0},3.5247148557006658,null,null,null,25,{"$f":"準備!T14","v":6.7248722572091664},{"$f":"準備!Y14-準備!Y13","v":2.4783906779989984E-2},{"$f":"準備!Z14-準備!Z13","v":-9.0301260651520776E-3},null,11,3.4397299614371493,{"$f":"IF($BG15<BH$1,0,IF($BG15-BH$1>計算!$B$26,BH$2,($BG15-BH$1)/計算!$B$26*BH$2))","v":1.8434248486289773},{"$f":"IF($BG15<BI$1,0,IF($BG15-BI$1>計算!$B$26,BI$2,($BG15-BI$1)/計算!$B$26*BI$2))","v":2.0804359702386828},{"$f":"IF($BG15<BJ$1,0,IF($BG15-BJ$1>計算!$B$26,BJ$2,($BG15-BJ$1)/計算!$B$26*BJ$2))","v":0.43833573789608726},{"$f":"IF($BG15<BK$1,0,IF($BG15-BK$1>計算!$B$26,BK$2,($BG15-BK$1)/計算!$B$26*BK$2))","v":-0.55120106185706153},{"$f":"IF($BG15<BL$1,0,IF($BG15-BL$1>計算!$B$26,BL$2,($BG15-BL$1)/計算!$B$26*BL$2))","v":-0.80365187452039688},{"$f":"IF($BG15<BM$1,0,IF($BG15-BM$1>計算!$B$26,BM$2,($BG15-BM$1)/計算!$B$26*BM$2))","v":0.18455408296993364},{"$f":"IF($BG15<BN$1,0,IF($BG15-BN$1>計算!$B$26,BN$2,($BG15-BN$1)/計算!$B$26*BN$2))","v":0},{"$f":"IF($BG15<BO$1,0,IF($BG15-BO$1>計算!$B$26,BO$2,($BG15-BO$1)/計算!$B$26*BO$2))","v":0},{"$f":"IF($BG15<BP$1,0,IF($BG15-BP$1>計算!$B$26,BP$2,($BG15-BP$1)/計算!$B$26*BP$2))","v":0},{"$f":"IF($BG15<BQ$1,0,IF($BG15-BQ$1>計算!$B$26,BQ$2,($BG15-BQ$1)/計算!$B$26*BQ$2))","v":0},{"$f":"IF($BG15<BR$1,0,IF($BG15-BR$1>計算!$B$26,BR$2,($BG15-BR$1)/計算!$B$26*BR$2))","v":0},{"$f":"IF($BG15<BS$1,0,IF($BG15-BS$1>計算!$B$26,BS$2,($BG15-BS$1)/計算!$B$26*BS$2))","v":0},{"$f":"IF($BG15<BT$1,0,IF($BG15-BT$1>計算!$B$26,BT$2,($BG15-BT$1)/計算!$B$26*BT$2))","v":0},{"$f":"IF($BG15<BU$1,0,IF($BG15-BU$1>計算!$B$26,BU$2,($BG15-BU$1)/計算!$B$26*BU$2))","v":0},{"$f":"IF($BG15<BV$1,0,IF($BG15-BV$1>計算!$B$26,BV$2,($BG15-BV$1)/計算!$B$26*BV$2))","v":0},{"$f":"IF($BG15<BW$1,0,IF($BG15-BW$1>計算!$B$26,BW$2,($BG15-BW$1)/計算!$B$26*BW$2))","v":0},{"$f":"IF($BG15<BX$1,0,IF($BG15-BX$1>計算!$B$26,BX$2,($BG15-BX$1)/計算!$B$26*BX$2))","v":0},{"$f":"IF($BG15<BY$1,0,IF($BG15-BY$1>計算!$B$26,BY$2,($BG15-BY$1)/計算!$B$26*BY$2))","v":0},{"$f":"IF($BG15<BZ$1,0,IF($BG15-BZ$1>計算!$B$26,BZ$2,($BG15-BZ$1)/計算!$B$26*BZ$2))","v":0},{"$f":"IF($BG15<CA$1,0,IF($BG15-CA$1>計算!$B$26,CA$2,($BG15-CA$1)/計算!$B$26*CA$2))","v":0},{"$f":"IF($BG15<CB$1,0,IF($BG15-CB$1>計算!$B$26,CB$2,($BG15-CB$1)/計算!$B$26*CB$2))","v":0},{"$f":"IF($BG15<CC$1,0,IF($BG15-CC$1>計算!$B$26,CC$2,($BG15-CC$1)/計算!$B$26*CC$2))","v":0},{"$f":"IF($BG15<CD$1,0,IF($BG15-CD$1>計算!$B$26,CD$2,($BG15-CD$1)/計算!$B$26*CD$2))","v":0},{"$f":"IF($BG15<CE$1,0,IF($BG15-CE$1>計算!$B$26,CE$2,($BG15-CE$1)/計算!$B$26*CE$2))","v":0},{"$f":"IF($BG15<CF$1,0,IF($BG15-CF$1>計算!$B$26,CF$2,($BG15-CF$1)/計算!$B$26*CF$2))","v":0},{"$f":"IF($BG15<CG$1,0,IF($BG15-CG$1>計算!$B$26,CG$2,($BG15-CG$1)/計算!$B$26*CG$2))","v":0},{"$f":"IF($BG15<CH$1,0,IF($BG15-CH$1>計算!$B$26,CH$2,($BG15-CH$1)/計算!$B$26*CH$2))","v":0},{"$f":"IF($BG15<CI$1,0,IF($BG15-CI$1>計算!$B$26,CI$2,($BG15-CI$1)/計算!$B$26*CI$2))","v":0},{"$f":"IF($BG15<CJ$1,0,IF($BG15-CJ$1>計算!$B$26,CJ$2,($BG15-CJ$1)/計算!$B$26*CJ$2))","v":0},{"$f":"IF($BG15<CK$1,0,IF($BG15-CK$1>計算!$B$26,CK$2,($BG15-CK$1)/計算!$B$26*CK$2))","v":0},3.1918977033562221,null,null,3.9292468487836407,-0.12794518785142969,0.12794518785142969]
["Z1",{"$f":"B15*(B4+B14)/(B4+B15)","v":50.572116200570342},null,null,null,23,{"$f":"準備!J15","v":5.8794598228742982},{"$f":"準備!O15-準備!O14","v":5.0289293255394885E-2},{"$f":"準備!P15-準備!P14","v":0.3484351373522887},null,13,3.9580677493859651,{"$f":"IF($L16<M$1,0,IF($L16-M$1>計算!$B$26,M$2,($L16-M$1)/計算!$B$26*M$2))","v":1.9890005284157226},{"$f":"IF($L16<N$1,0,IF($L16-N$1>計算!$B$26,N$2,($L16-N$1)/計算!$B$26*N$2))","v":0.32752179487645394},{"$f":"IF($L16<O$1,0,IF($L16-O$1>計算!$B$26,O$2,($L16-O$1)/計算!$B$26*O$2))","v":0.93101299851738872},{"$f":"IF($L16<P$1,0,IF($L16-P$1>計算!$B$26,P$2,($L16-P$1)/計算!$B$26*P$2))","v":0.27879940541488013},{"$f":"IF($L16<Q$1,0,IF($L16-Q$1>計算!$B$26,Q$2,($L16-Q$1)/計算!$B$26*Q$2))","v":1.7956396357030238E-2},{"$f":"IF($L16<R$1,0,IF($L16-R$1>計算!$B$26,R$2,($L16-R$1)/計算!$B$26*R$2))","v":-1.9354463216989767E-3},{"$f":"IF($L16<S$1,0,IF($L16-S$1>計算!$B$26,S$2,($L16-S$1)/計算!$B$26*S$2))","v":-2.7593742487505343E-2},{"$f":"IF($L16<T$1,0,IF($L16-T$1>計算!$B$26,T$2,($L16-T$1)/計算!$B$26*T$2))","v":-6.3597859404719917E-3},{"$f":"IF($L16<U$1,0,IF($L16-U$1>計算!$B$26,U$2,($L16-U$1)/計算!$B$26*U$2))","v":0},{"$f":"IF($L16<V$1,0,IF($L16-V$1>計算!$B$26,V$2,($L16-V$1)/計算!$B$26*V$2))","v":0},{"$f":"IF($L16<W$1,0,IF($L16-W$1>計算!$B$26,W$2,($L16-W$1)/計算!$B$26*W$2))","v":0},{"$f":"IF($L16<X$1,0,IF($L16-X$1>計算!$B$26,X$2,($L16-X$1)/計算!$B$26*X$2))","v":0},{"$f":"IF($L16<Y$1,0,IF($L16-Y$1>計算!$B$26,Y$2,($L16-Y$1)/計算!$B$26*Y$2))","v":0},{"$f":"IF($L16<Z$1,0,IF($L16-Z$1>計算!$B$26,Z$2,($L16-Z$1)/計算!$B$26*Z$2))","v":0},{"$f":"IF($L16<AA$1,0,IF($L16-AA$1>計算!$B$26,AA$2,($L16-AA$1)/計算!$B$26*AA$2))","v":0},{"$f":"IF($L16<AB$1,0,IF($L16-AB$1>計算!$B$26,AB$2,($L16-AB$1)/計算!$B$26*AB$2))","v":0},{"$f":"IF($L16<AC$1,0,IF($L16-AC$1>計算!$B$26,AC$2,($L16-AC$1)/計算!$B$26*AC$2))","v":0},{"$f":"IF($L16<AD$1,0,IF($L16-AD$1>計算!$B$26,AD$2,($L16-AD$1)/計算!$B$26*AD$2))","v":0},{"$f":"IF($L16<AE$1,0,IF($L16-AE$1>計算!$B$26,AE$2,($L16-AE$1)/計算!$B$26*AE$2))","v":0},{"$f":"IF($L16<AF$1,0,IF($L16-AF$1>計算!$B$26,AF$2,($L16-AF$1)/計算!$B$26*AF$2))","v":0},{"$f":"IF($L16<AG$1,0,IF($L16-AG$1>計算!$B$26,AG$2,($L16-AG$1)/計算!$B$26*AG$2))","v":0},{"$f":"IF($L16<AH$1,0,IF($L16-AH$1>計算!$B$26,AH$2,($L16-AH$1)/計算!$B$26*AH$2))","v":0},{"$f":"IF($L16<AI$1,0,IF($L16-AI$1>計算!$B$26,AI$2,($L16-AI$1)/計算!$B$26*AI$2))","v":0},{"$f":"IF($L16<AJ$1,0,IF($L16-AJ$1>計算!$B$26,AJ$2,($L16-AJ$1)/計算!$B$26*AJ$2))","v":0},{"$f":"IF($L16<AK$1,0,IF($L16-AK$1>計算!$B$26,AK$2,($L16-AK$1)/計算!$B$26*AK$2))","v":0},{"$f":"IF($L16<AL$1,0,IF($L16-AL$1>計算!$B$26,AL$2,($L16-AL$1)/計算!$B$26*AL$2))","v":0},{"$f":"IF($L16<AM$1,0,IF($L16-AM$1>計算!$B$26,AM$2,($L16-AM$1)/計算!$B$26*AM$2))","v":0},{"$f":"IF($L16<AN$1,0,IF($L16-AN$1>計算!$B$26,AN$2,($L16-AN$1)/計算!$B$26*AN$2))","v":0},{"$f":"IF($L16<AO$1,0,IF($L16-AO$1>計算!$B$26,AO$2,($L16-AO$1)/計算!$B$26*AO$2))","v":0},{"$f":"IF($L16<AP$1,0,IF($L16-AP$1>計算!$B$26,AP$2,($L16-AP$1)/計算!$B$26*AP$2))","v":0},{"$f":"IF($L16<AQ$1,0,IF($L16-AQ$1>計算!$B$26,AQ$2,($L16-AQ$1)/計算!$B$26*AQ$2))","v":0},{"$f":"IF($L16<AR$1,0,IF($L16-AR$1>計算!$B$26,AR$2,($L16-AR$1)/計算!$B$26*AR$2))","v":0},{"$f":"IF($L16<AS$1,0,IF($L16-AS$1>計算!$B$26,AS$2,($L16-AS$1)/計算!$B$26*AS$2))","v":0},{"$f":"IF($L16<AT$1,0,IF($L16-AT$1>計算!$B$26,AT$2,($L16-AT$1)/計算!$B$26*AT$2))","v":0},{"$f":"IF($L16<AU$1,0,IF($L16-AU$1>計算!$B$26,AU$2,($L16-AU$1)/計算!$B$26*AU$2))","v":0},{"$f":"IF($L16<AV$1,0,IF($L16-AV$1>計算!$B$26,AV$2,($L16-AV$1)/計算!$B$26*AV$2))","v":0},3.5084021488317991,null,null,null,26,{"$f":"準備!T15","v":6.7536931578114912},{"$f":"準備!Y15-準備!Y14","v":-0.17919042925557704},{"$f":"準備!Z15-準備!Z14","v":4.1747936536487673E-2},null,12,3.468550872039474,{"$f":"IF($BG16<BH$1,0,IF($BG16-BH$1>計算!$B$26,BH$2,($BG16-BH$1)/計算!$B$26*BH$2))","v":1.8434248486289773},{"$f":"IF($BG16<BI$1,0,IF($BG16-BI$1>計算!$B$26,BI$2,($BG16-BI$1)/計算!$B$26*BI$2))","v":2.0804359702386828},{"$f":"IF($BG16<BJ$1,0,IF($BG16-BJ$1>計算!$B$26,BJ$2,($BG16-BJ$1)/計算!$B$26*BJ$2))","v":0.43833573789608726},{"$f":"IF($BG16<BK$1,0,IF($BG16-BK$1>計算!$B$26,BK$2,($BG16-BK$1)/計算!$B$26*BK$2))","v":-0.55120106185706153},{"$f":"IF($BG16<BL$1,0,IF($BG16-BL$1>計算!$B$26,BL$2,($BG16-BL$1)/計算!$B$26*BL$2))","v":-0.80365187452039688},{"$f":"IF($BG16<BM$1,0,IF($BG16-BM$1>計算!$B$26,BM$2,($BG16-BM$1)/計算!$B$26*BM$2))","v":0.19584279483276745},{"$f":"IF($BG16<BN$1,0,IF($BG16-BN$1>計算!$B$26,BN$2,($BG16-BN$1)/計算!$B$26*BN$2))","v":0},{"$f":"IF($BG16<BO$1,0,IF($BG16-BO$1>計算!$B$26,BO$2,($BG16-BO$1)/計算!$B$26*BO$2))","v":0},{"$f":"IF($BG16<BP$1,0,IF($BG16-BP$1>計算!$B$26,BP$2,($BG16-BP$1)/計算!$B$26*BP$2))","v":0},{"$f":"IF($BG16<BQ$1,0,IF($BG16-BQ$1>計算!$B$26,BQ$2,($BG16-BQ$1)/計算!$B$26*BQ$2))","v":0},{"$f":"IF($BG16<BR$1,0,IF($BG16-BR$1>計算!$B$26,BR$2,($BG16-BR$1)/計算!$B$26*BR$2))","v":0},{"$f":"IF($BG16<BS$1,0,IF($BG16-BS$1>計算!$B$26,BS$2,($BG16-BS$1)/計算!$B$26*BS$2))","v":0},{"$f":"IF($BG16<BT$1,0,IF($BG16-BT$1>計算!$B$26,BT$2,($BG16-BT$1)/計算!$B$26*BT$2))","v":0},{"$f":"IF($BG16<BU$1,0,IF($BG16-BU$1>計算!$B$26,BU$2,($BG16-BU$1)/計算!$B$26*BU$2))","v":0},{"$f":"IF($BG16<BV$1,0,IF($BG16-BV$1>計算!$B$26,BV$2,($BG16-BV$1)/計算!$B$26*BV$2))","v":0},{"$f":"IF($BG16<BW$1,0,IF($BG16-BW$1>計算!$B$26,BW$2,($BG16-BW$1)/計算!$B$26*BW$2))","v":0},{"$f":"IF($BG16<BX$1,0,IF($BG16-BX$1>計算!$B$26,BX$2,($BG16-BX$1)/計算!$B$26*BX$2))","v":0},{"$f":"IF($BG16<BY$1,0,IF($BG16-BY$1>計算!$B$26,BY$2,($BG16-BY$1)/計算!$B$26*BY$2))","v":0},{"$f":"IF($BG16<BZ$1,0,IF($BG16-BZ$1>計算!$B$26,BZ$2,($BG16-BZ$1)/計算!$B$26*BZ$2))","v":0},{"$f":"IF($BG16<CA$1,0,IF($BG16-CA$1>計算!$B$26,CA$2,($BG16-CA$1)/計算!$B$26*CA$2))","v":0},{"$f":"IF($BG16<CB$1,0,IF($BG16-CB$1>計算!$B$26,CB$2,($BG16-CB$1)/計算!$B$26*CB$2))","v":0},{"$f":"IF($BG16<CC$1,0,IF($BG16-CC$1>計算!$B$26,CC$2,($BG16-CC$1)/計算!$B$26*CC$2))","v":0},{"$f":"IF($BG16<CD$1,0,IF($BG16-CD$1>計算!$B$26,CD$2,($BG16-CD$1)/計算!$B$26*CD$2))","v":0},{"$f":"IF($BG16<CE$1,0,IF($BG16-CE$1>計算!$B$26,CE$2,($BG16-CE$1)/計算!$B$26*CE$2))","v":0},{"$f":"IF($BG16<CF$1,0,IF($BG16-CF$1>計算!$B$26,CF$2,($BG16-CF$1)/計算!$B$26*CF$2))","v":0},{"$f":"IF($BG16<CG$1,0,IF($BG16-CG$1>計算!$B$26,CG$2,($BG16-CG$1)/計算!$B$26*CG$2))","v":0},{"$f":"IF($BG16<CH$1,0,IF($BG16-CH$1>計算!$B$26,CH$2,($BG16-CH$1)/計算!$B$26*CH$2))","v":0},{"$f":"IF($BG16<CI$1,0,IF($BG16-CI$1>計算!$B$26,CI$2,($BG16-CI$1)/計算!$B$26*CI$2))","v":0},{"$f":"IF($BG16<CJ$1,0,IF($BG16-CJ$1>計算!$B$26,CJ$2,($BG16-CJ$1)/計算!$B$26*CJ$2))","v":0},{"$f":"IF($BG16<CK$1,0,IF($BG16-CK$1>計算!$B$26,CK$2,($BG16-CK$1)/計算!$B$26*CK$2))","v":0},3.2031864152190561,null,null,3.9580677493859651,-0.1183029294813624,0.1183029294813624]
["Z2",{"$f":"B15*(B5+B14)/(B5+B15)","v":49.886345612201666},null,null,null,24,{"$f":"準備!J16","v":5.908280723476623},{"$f":"準備!O16-準備!O15","v":-2.9022629979411629E-2},{"$f":"準備!P16-準備!P15","v":-8.7213024267986938E-2},null,14,4.3427841474766664,{"$f":"IF($L17<M$1,0,IF($L17-M$1>計算!$B$26,M$2,($L17-M$1)/計算!$B$26*M$2))","v":1.9890005284157226},{"$f":"IF($L17<N$1,0,IF($L17-N$1>計算!$B$26,N$2,($L17-N$1)/計算!$B$26*N$2))","v":0.32752179487645394},{"$f":"IF($L17<O$1,0,IF($L17-O$1>計算!$B$26,O$2,($L17-O$1)/計算!$B$26*O$2))","v":0.93101299851738872},{"$f":"IF($L17<P$1,0,IF($L17-P$1>計算!$B$26,P$2,($L17-P$1)/計算!$B$26*P$2))","v":0.27879940541488013},{"$f":"IF($L17<Q$1,0,IF($L17-Q$1>計算!$B$26,Q$2,($L17-Q$1)/計算!$B$26*Q$2))","v":7.7879229924124438E-2},{"$f":"IF($L17<R$1,0,IF($L17-R$1>計算!$B$26,R$2,($L17-R$1)/計算!$B$26*R$2))","v":-1.0547228304226261E-2},{"$f":"IF($L17<S$1,0,IF($L17-S$1>計算!$B$26,S$2,($L17-S$1)/計算!$B$26*S$2))","v":-0.21176156857513265},{"$f":"IF($L17<T$1,0,IF($L17-T$1>計算!$B$26,T$2,($L17-T$1)/計算!$B$26*T$2))","v":-9.1253522378706209E-2},{"$f":"IF($L17<U$1,0,IF($L17-U$1>計算!$B$26,U$2,($L17-U$1)/計算!$B$26*U$2))","v":2.0193694469996554E-2},{"$f":"IF($L17<V$1,0,IF($L17-V$1>計算!$B$26,V$2,($L17-V$1)/計算!$B$26*V$2))","v":0},{"$f":"IF($L17<W$1,0,IF($L17-W$1>計算!$B$26,W$2,($L17-W$1)/計算!$B$26*W$2))","v":0},{"$f":"IF($L17<X$1,0,IF($L17-X$1>計算!$B$26,X$2,($L17-X$1)/計算!$B$26*X$2))","v":0},{"$f":"IF($L17<Y$1,0,IF($L17-Y$1>計算!$B$26,Y$2,($L17-Y$1)/計算!$B$26*Y$2))","v":0},{"$f":"IF($L17<Z$1,0,IF($L17-Z$1>計算!$B$26,Z$2,($L17-Z$1)/計算!$B$26*Z$2))","v":0},{"$f":"IF($L17<AA$1,0,IF($L17-AA$1>計算!$B$26,AA$2,($L17-AA$1)/計算!$B$26*AA$2))","v":0},{"$f":"IF($L17<AB$1,0,IF($L17-AB$1>計算!$B$26,AB$2,($L17-AB$1)/計算!$B$26*AB$2))","v":0},{"$f":"IF($L17<AC$1,0,IF($L17-AC$1>計算!$B$26,AC$2,($L17-AC$1)/計算!$B$26*AC$2))","v":0},{"$f":"IF($L17<AD$1,0,IF($L17-AD$1>計算!$B$26,AD$2,($L17-AD$1)/計算!$B$26*AD$2))","v":0},{"$f":"IF($L17<AE$1,0,IF($L17-AE$1>計算!$B$26,AE$2,($L17-AE$1)/計算!$B$26*AE$2))","v":0},{"$f":"IF($L17<AF$1,0,IF($L17-AF$1>計算!$B$26,AF$2,($L17-AF$1)/計算!$B$26*AF$2))","v":0},{"$f":"IF($L17<AG$1,0,IF($L17-AG$1>計算!$B$26,AG$2,($L17-AG$1)/計算!$B$26*AG$2))","v":0},{"$f":"IF($L17<AH$1,0,IF($L17-AH$1>計算!$B$26,AH$2,($L17-AH$1)/計算!$B$26*AH$2))","v":0},{"$f":"IF($L17<AI$1,0,IF($L17-AI$1>計算!$B$26,AI$2,($L17-AI$1)/計算!$B$26*AI$2))","v":0},{"$f":"IF($L17<AJ$1,0,IF($L17-AJ$1>計算!$B$26,AJ$2,($L17-AJ$1)/計算!$B$26*AJ$2))","v":0},{"$f":"IF($L17<AK$1,0,IF($L17-AK$1>計算!$B$26,AK$2,($L17-AK$1)/計算!$B$26*AK$2))","v":0},{"$f":"IF($L17<AL$1,0,IF($L17-AL$1>計算!$B$26,AL$2,($L17-AL$1)/計算!$B$26*AL$2))","v":0},{"$f":"IF($L17<AM$1,0,IF($L17-AM$1>計算!$B$26,AM$2,($L17-AM$1)/計算!$B$26*AM$2))","v":0},{"$f":"IF($L17<AN$1,0,IF($L17-AN$1>計算!$B$26,AN$2,($L17-AN$1)/計算!$B$26*AN$2))","v":0},{"$f":"IF($L17<AO$1,0,IF($L17-AO$1>計算!$B$26,AO$2,($L17-AO$1)/計算!$B$26*AO$2))","v":0},{"$f":"IF($L17<AP$1,0,IF($L17-AP$1>計算!$B$26,AP$2,($L17-AP$1)/計算!$B$26*AP$2))","v":0},{"$f":"IF($L17<AQ$1,0,IF($L17-AQ$1>計算!$B$26,AQ$2,($L17-AQ$1)/計算!$B$26*AQ$2))","v":0},{"$f":"IF($L17<AR$1,0,IF($L17-AR$1>計算!$B$26,AR$2,($L17-AR$1)/計算!$B$26*AR$2))","v":0},{"$f":"IF($L17<AS$1,0,IF($L17-AS$1>計算!$B$26,AS$2,($L17-AS$1)/計算!$B$26*AS$2))","v":0},{"$f":"IF($L17<AT$1,0,IF($L17-AT$1>計算!$B$26,AT$2,($L17-AT$1)/計算!$B$26*AT$2))","v":0},{"$f":"IF($L17<AU$1,0,IF($L17-AU$1>計算!$B$26,AU$2,($L17-AU$1)/計算!$B$26*AU$2))","v":0},{"$f":"IF($L17<AV$1,0,IF($L17-AV$1>計算!$B$26,AV$2,($L17-AV$1)/計算!$B$26*AV$2))","v":0},3.3108453323605014,null,null,null,27,{"$f":"準備!T16","v":6.7825140584138151},{"$f":"準備!Y16-準備!Y15","v":0.34434916144780114},{"$f":"準備!Z16-準備!Z15","v":-3.5110256083367153E-3},null,13,4.8034801837208327,{"$f":"IF($BG17<BH$1,0,IF($BG17-BH$1>計算!$B$26,BH$2,($BG17-BH$1)/計算!$B$26*BH$2))","v":1.8434248486289773},{"$f":"IF($BG17<BI$1,0,IF($BG17-BI$1>計算!$B$26,BI$2,($BG17-BI$1)/計算!$B$26*BI$2))","v":2.0804359702386828},{"$f":"IF($BG17<BJ$1,0,IF($BG17-BJ$1>計算!$B$26,BJ$2,($BG17-BJ$1)/計算!$B$26*BJ$2))","v":0.43833573789608726},{"$f":"IF($BG17<BK$1,0,IF($BG17-BK$1>計算!$B$26,BK$2,($BG17-BK$1)/計算!$B$26*BK$2))","v":-0.55120106185706153},{"$f":"IF($BG17<BL$1,0,IF($BG17-BL$1>計算!$B$26,BL$2,($BG17-BL$1)/計算!$B$26*BL$2))","v":-0.80365187452039688},{"$f":"IF($BG17<BM$1,0,IF($BG17-BM$1>計算!$B$26,BM$2,($BG17-BM$1)/計算!$B$26*BM$2))","v":0.19584279483276745},{"$f":"IF($BG17<BN$1,0,IF($BG17-BN$1>計算!$B$26,BN$2,($BG17-BN$1)/計算!$B$26*BN$2))","v":0},{"$f":"IF($BG17<BO$1,0,IF($BG17-BO$1>計算!$B$26,BO$2,($BG17-BO$1)/計算!$B$26*BO$2))","v":0},{"$f":"IF($BG17<BP$1,0,IF($BG17-BP$1>計算!$B$26,BP$2,($BG17-BP$1)/計算!$B$26*BP$2))","v":0},{"$f":"IF($BG17<BQ$1,0,IF($BG17-BQ$1>計算!$B$26,BQ$2,($BG17-BQ$1)/計算!$B$26*BQ$2))","v":0},{"$f":"IF($BG17<BR$1,0,IF($BG17-BR$1>計算!$B$26,BR$2,($BG17-BR$1)/計算!$B$26*BR$2))","v":0},{"$f":"IF($BG17<BS$1,0,IF($BG17-BS$1>計算!$B$26,BS$2,($BG17-BS$1)/計算!$B$26*BS$2))","v":0},{"$f":"IF($BG17<BT$1,0,IF($BG17-BT$1>計算!$B$26,BT$2,($BG17-BT$1)/計算!$B$26*BT$2))","v":0},{"$f":"IF($BG17<BU$1,0,IF($BG17-BU$1>計算!$B$26,BU$2,($BG17-BU$1)/計算!$B$26*BU$2))","v":0},{"$f":"IF($BG17<BV$1,0,IF($BG17-BV$1>計算!$B$26,BV$2,($BG17-BV$1)/計算!$B$26*BV$2))","v":0},{"$f":"IF($BG17<BW$1,0,IF($BG17-BW$1>計算!$B$26,BW$2,($BG17-BW$1)/計算!$B$26*BW$2))","v":0},{"$f":"IF($BG17<BX$1,0,IF($BG17-BX$1>計算!$B$26,BX$2,($BG17-BX$1)/計算!$B$26*BX$2))","v":0},{"$f":"IF($BG17<BY$1,0,IF($BG17-BY$1>計算!$B$26,BY$2,($BG17-BY$1)/計算!$B$26*BY$2))","v":0},{"$f":"IF($BG17<BZ$1,0,IF($BG17-BZ$1>計算!$B$26,BZ$2,($BG17-BZ$1)/計算!$B$26*BZ$2))","v":0},{"$f":"IF($BG17<CA$1,0,IF($BG17-CA$1>計算!$B$26,CA$2,($BG17-CA$1)/計算!$B$26*CA$2))","v":0},{"$f":"IF($BG17<CB$1,0,IF($BG17-CB$1>計算!$B$26,CB$2,($BG17-CB$1)/計算!$B$26*CB$2))","v":0},{"$f":"IF($BG17<CC$1,0,IF($BG17-CC$1>計算!$B$26,CC$2,($BG17-CC$1)/計算!$B$26*CC$2))","v":0},{"$f":"IF($BG17<CD$1,0,IF($BG17-CD$1>計算!$B$26,CD$2,($BG17-CD$1)/計算!$B$26*CD$2))","v":0},{"$f":"IF($BG17<CE$1,0,IF($BG17-CE$1>計算!$B$26,CE$2,($BG17-CE$1)/計算!$B$26*CE$2))","v":0},{"$f":"IF($BG17<CF$1,0,IF($BG17-CF$1>計算!$B$26,CF$2,($BG17-CF$1)/計算!$B$26*CF$2))","v":0},{"$f":"IF($BG17<CG$1,0,IF($BG17-CG$1>計算!$B$26,CG$2,($BG17-CG$1)/計算!$B$26*CG$2))","v":0},{"$f":"IF($BG17<CH$1,0,IF($BG17-CH$1>計算!$B$26,CH$2,($BG17-CH$1)/計算!$B$26*CH$2))","v":0},{"$f":"IF($BG17<CI$1,0,IF($BG17-CI$1>計算!$B$26,CI$2,($BG17-CI$1)/計算!$B$26*CI$2))","v":0},{"$f":"IF($BG17<CJ$1,0,IF($BG17-CJ$1>計算!$B$26,CJ$2,($BG17-CJ$1)/計算!$B$26*CJ$2))","v":0},{"$f":"IF($BG17<CK$1,0,IF($BG17-CK$1>計算!$B$26,CK$2,($BG17-CK$1)/計算!$B$26*CK$2))","v":0},3.2031864152190561,null,null,4.3427841474766664,5.6640261673275821E-2,-5.6640261673275821E-2]
["ZN",{"$f":"B15*(B2+B14)/(B2+B15)","v":49.886345612201666},null,null,null,25,{"$f":"準備!J17","v":5.9371016240789478},{"$f":"準備!O17-準備!O16","v":2.470576645365874E-3},{"$f":"準備!P17-準備!P16","v":5.6563654982872968E-3},null,15,4.3716050481789912,{"$f":"IF($L18<M$1,0,IF($L18-M$1>計算!$B$26,M$2,($L18-M$1)/計算!$B$26*M$2))","v":1.9890005284157226},{"$f":"IF($L18<N$1,0,IF($L18-N$1>計算!$B$26,N$2,($L18-N$1)/計算!$B$26*N$2))","v":0.32752179487645394},{"$f":"IF($L18<O$1,0,IF($L18-O$1>計算!$B$26,O$2,($L18-O$1)/計算!$B$26*O$2))","v":0.93101299851738872},{"$f":"IF($L18<P$1,0,IF($L18-P$1>計算!$B$26,P$2,($L18-P$1)/計算!$B$26*P$2))","v":0.27879940541488013},{"$f":"IF($L18<Q$1,0,IF($L18-Q$1>計算!$B$26,Q$2,($L18-Q$1)/計算!$B$26*Q$2))","v":7.7879229924124438E-2},{"$f":"IF($L18<R$1,0,IF($L18-R$1>計算!$B$26,R$2,($L18-R$1)/計算!$B$26*R$2))","v":-1.1192377066933545E-2},{"$f":"IF($L18<S$1,0,IF($L18-S$1>計算!$B$26,S$2,($L18-S$1)/計算!$B$26*S$2))","v":-0.2255584398667565},{"$f":"IF($L18<T$1,0,IF($L18-T$1>計算!$B$26,T$2,($L18-T$1)/計算!$B$26*T$2))","v":-9.7613308341244875E-2},{"$f":"IF($L18<U$1,0,IF($L18-U$1>計算!$B$26,U$2,($L18-U$1)/計算!$B$26*U$2))","v":2.1706498358838439E-2},{"$f":"IF($L18<V$1,0,IF($L18-V$1>計算!$B$26,V$2,($L18-V$1)/計算!$B$26*V$2))","v":0},{"$f":"IF($L18<W$1,0,IF($L18-W$1>計算!$B$26,W$2,($L18-W$1)/計算!$B$26*W$2))","v":0},{"$f":"IF($L18<X$1,0,IF($L18-X$1>計算!$B$26,X$2,($L18-X$1)/計算!$B$26*X$2))","v":0},{"$f":"IF($L18<Y$1,0,IF($L18-Y$1>計算!$B$26,Y$2,($L18-Y$1)/計算!$B$26*Y$2))","v":0},{"$f":"IF($L18<Z$1,0,IF($L18-Z$1>計算!$B$26,Z$2,($L18-Z$1)/計算!$B$26*Z$2))","v":0},{"$f":"IF($L18<AA$1,0,IF($L18-AA$1>計算!$B$26,AA$2,($L18-AA$1)/計算!$B$26*AA$2))","v":0},{"$f":"IF($L18<AB$1,0,IF($L18-AB$1>計算!$B$26,AB$2,($L18-AB$1)/計算!$B$26*AB$2))","v":0},{"$f":"IF($L18<AC$1,0,IF($L18-AC$1>計算!$B$26,AC$2,($L18-AC$1)/計算!$B$26*AC$2))","v":0},{"$f":"IF($L18<AD$1,0,IF($L18-AD$1>計算!$B$26,AD$2,($L18-AD$1)/計算!$B$26*AD$2))","v":0},{"$f":"IF($L18<AE$1,0,IF($L18-AE$1>計算!$B$26,AE$2,($L18-AE$1)/計算!$B$26*AE$2))","v":0},{"$f":"IF($L18<AF$1,0,IF($L18-AF$1>計算!$B$26,AF$2,($L18-AF$1)/計算!$B$26*AF$2))","v":0},{"$f":"IF($L18<AG$1,0,IF($L18-AG$1>計算!$B$26,AG$2,($L18-AG$1)/計算!$B$26*AG$2))","v":0},{"$f":"IF($L18<AH$1,0,IF($L18-AH$1>計算!$B$26,AH$2,($L18-AH$1)/計算!$B$26*AH$2))","v":0},{"$f":"IF($L18<AI$1,0,IF($L18-AI$1>計算!$B$26,AI$2,($L18-AI$1)/計算!$B$26*AI$2))","v":0},{"$f":"IF($L18<AJ$1,0,IF($L18-AJ$1>計算!$B$26,AJ$2,($L18-AJ$1)/計算!$B$26*AJ$2))","v":0},{"$f":"IF($L18<AK$1,0,IF($L18-AK$1>計算!$B$26,AK$2,($L18-AK$1)/計算!$B$26*AK$2))","v":0},{"$f":"IF($L18<AL$1,0,IF($L18-AL$1>計算!$B$26,AL$2,($L18-AL$1)/計算!$B$26*AL$2))","v":0},{"$f":"IF($L18<AM$1,0,IF($L18-AM$1>計算!$B$26,AM$2,($L18-AM$1)/計算!$B$26*AM$2))","v":0},{"$f":"IF($L18<AN$1,0,IF($L18-AN$1>計算!$B$26,AN$2,($L18-AN$1)/計算!$B$26*AN$2))","v":0},{"$f":"IF($L18<AO$1,0,IF($L18-AO$1>計算!$B$26,AO$2,($L18-AO$1)/計算!$B$26*AO$2))","v":0},{"$f":"IF($L18<AP$1,0,IF($L18-AP$1>計算!$B$26,AP$2,($L18-AP$1)/計算!$B$26*AP$2))","v":0},{"$f":"IF($L18<AQ$1,0,IF($L18-AQ$1>計算!$B$26,AQ$2,($L18-AQ$1)/計算!$B$26*AQ$2))","v":0},{"$f":"IF($L18<AR$1,0,IF($L18-AR$1>計算!$B$26,AR$2,($L18-AR$1)/計算!$B$26*AR$2))","v":0},{"$f":"IF($L18<AS$1,0,IF($L18-AS$1>計算!$B$26,AS$2,($L18-AS$1)/計算!$B$26*AS$2))","v":0},{"$f":"IF($L18<AT$1,0,IF($L18-AT$1>計算!$B$26,AT$2,($L18-AT$1)/計算!$B$26*AT$2))","v":0},{"$f":"IF($L18<AU$1,0,IF($L18-AU$1>計算!$B$26,AU$2,($L18-AU$1)/計算!$B$26*AU$2))","v":0},{"$f":"IF($L18<AV$1,0,IF($L18-AV$1>計算!$B$26,AV$2,($L18-AV$1)/計算!$B$26*AV$2))","v":0},3.2915563302324733,null,null,null,28,{"$f":"準備!T17","v":6.8113349590161398},{"$f":"準備!Y17-準備!Y16","v":-2.1118040552239314E-2},{"$f":"準備!Z17-準備!Z16","v":-9.9796700329851329E-2},null,14,4.8323010843231575,{"$f":"IF($BG18<BH$1,0,IF($BG18-BH$1>計算!$B$26,BH$2,($BG18-BH$1)/計算!$B$26*BH$2))","v":1.8434248486289773},{"$f":"IF($BG18<BI$1,0,IF($BG18-BI$1>計算!$B$26,BI$2,($BG18-BI$1)/計算!$B$26*BI$2))","v":2.0804359702386828},{"$f":"IF($BG18<BJ$1,0,IF($BG18-BJ$1>計算!$B$26,BJ$2,($BG18-BJ$1)/計算!$B$26*BJ$2))","v":0.43833573789608726},{"$f":"IF($BG18<BK$1,0,IF($BG18-BK$1>計算!$B$26,BK$2,($BG18-BK$1)/計算!$B$26*BK$2))","v":-0.55120106185706153},{"$f":"IF($BG18<BL$1,0,IF($BG18-BL$1>計算!$B$26,BL$2,($BG18-BL$1)/計算!$B$26*BL$2))","v":-0.80365187452039688},{"$f":"IF($BG18<BM$1,0,IF($BG18-BM$1>計算!$B$26,BM$2,($BG18-BM$1)/計算!$B$26*BM$2))","v":0.19584279483276745},{"$f":"IF($BG18<BN$1,0,IF($BG18-BN$1>計算!$B$26,BN$2,($BG18-BN$1)/計算!$B$26*BN$2))","v":6.0079438759812476E-3},{"$f":"IF($BG18<BO$1,0,IF($BG18-BO$1>計算!$B$26,BO$2,($BG18-BO$1)/計算!$B$26*BO$2))","v":0},{"$f":"IF($BG18<BP$1,0,IF($BG18-BP$1>計算!$B$26,BP$2,($BG18-BP$1)/計算!$B$26*BP$2))","v":0},{"$f":"IF($BG18<BQ$1,0,IF($BG18-BQ$1>計算!$B$26,BQ$2,($BG18-BQ$1)/計算!$B$26*BQ$2))","v":0},{"$f":"IF($BG18<BR$1,0,IF($BG18-BR$1>計算!$B$26,BR$2,($BG18-BR$1)/計算!$B$26*BR$2))","v":0},{"$f":"IF($BG18<BS$1,0,IF($BG18-BS$1>計算!$B$26,BS$2,($BG18-BS$1)/計算!$B$26*BS$2))","v":0},{"$f":"IF($BG18<BT$1,0,IF($BG18-BT$1>計算!$B$26,BT$2,($BG18-BT$1)/計算!$B$26*BT$2))","v":0},{"$f":"IF($BG18<BU$1,0,IF($BG18-BU$1>計算!$B$26,BU$2,($BG18-BU$1)/計算!$B$26*BU$2))","v":0},{"$f":"IF($BG18<BV$1,0,IF($BG18-BV$1>計算!$B$26,BV$2,($BG18-BV$1)/計算!$B$26*BV$2))","v":0},{"$f":"IF($BG18<BW$1,0,IF($BG18-BW$1>計算!$B$26,BW$2,($BG18-BW$1)/計算!$B$26*BW$2))","v":0},{"$f":"IF($BG18<BX$1,0,IF($BG18-BX$1>計算!$B$26,BX$2,($BG18-BX$1)/計算!$B$26*BX$2))","v":0},{"$f":"IF($BG18<BY$1,0,IF($BG18-BY$1>計算!$B$26,BY$2,($BG18-BY$1)/計算!$B$26*BY$2))","v":0},{"$f":"IF($BG18<BZ$1,0,IF($BG18-BZ$1>計算!$B$26,BZ$2,($BG18-BZ$1)/計算!$B$26*BZ$2))","v":0},{"$f":"IF($BG18<CA$1,0,IF($BG18-CA$1>計算!$B$26,CA$2,($BG18-CA$1)/計算!$B$26*CA$2))","v":0},{"$f":"IF($BG18<CB$1,0,IF($BG18-CB$1>計算!$B$26,CB$2,($BG18-CB$1)/計算!$B$26*CB$2))","v":0},{"$f":"IF($BG18<CC$1,0,IF($BG18-CC$1>計算!$B$26,CC$2,($BG18-CC$1)/計算!$B$26*CC$2))","v":0},{"$f":"IF($BG18<CD$1,0,IF($BG18-CD$1>計算!$B$26,CD$2,($BG18-CD$1)/計算!$B$26*CD$2))","v":0},{"$f":"IF($BG18<CE$1,0,IF($BG18-CE$1>計算!$B$26,CE$2,($BG18-CE$1)/計算!$B$26*CE$2))","v":0},{"$f":"IF($BG18<CF$1,0,IF($BG18-CF$1>計算!$B$26,CF$2,($BG18-CF$1)/計算!$B$26*CF$2))","v":0},{"$f":"IF($BG18<CG$1,0,IF($BG18-CG$1>計算!$B$26,CG$2,($BG18-CG$1)/計算!$B$26*CG$2))","v":0},{"$f":"IF($BG18<CH$1,0,IF($BG18-CH$1>計算!$B$26,CH$2,($BG18-CH$1)/計算!$B$26*CH$2))","v":0},{"$f":"IF($BG18<CI$1,0,IF($BG18-CI$1>計算!$B$26,CI$2,($BG18-CI$1)/計算!$B$26*CI$2))","v":0},{"$f":"IF($BG18<CJ$1,0,IF($BG18-CJ$1>計算!$B$26,CJ$2,($BG18-CJ$1)/計算!$B$26*CJ$2))","v":0},{"$f":"IF($BG18<CK$1,0,IF($BG18-CK$1>計算!$B$26,CK$2,($BG18-CK$1)/計算!$B$26*CK$2))","v":0},3.2091943590950374,null,null,4.3716050481789912,8.2066765096219421E-2,-8.2066765096219421E-2]
["ZF",{"$f":"B15*(B3+B14)/(B3+B15)","v":50.572116200570342},null,null,null,33,{"$f":"準備!J18","v":7.6855682939533327},{"$f":"準備!O18-準備!O17","v":4.4033634670110899E-3},{"$f":"準備!P18-準備!P17","v":-1.2085384954476752E-2},null,16,4.400425948881316,{"$f":"IF($L19<M$1,0,IF($L19-M$1>計算!$B$26,M$2,($L19-M$1)/計算!$B$26*M$2))","v":1.9890005284157226},{"$f":"IF($L19<N$1,0,IF($L19-N$1>計算!$B$26,N$2,($L19-N$1)/計算!$B$26*N$2))","v":0.32752179487645394},{"$f":"IF($L19<O$1,0,IF($L19-O$1>計算!$B$26,O$2,($L19-O$1)/計算!$B$26*O$2))","v":0.93101299851738872},{"$f":"IF($L19<P$1,0,IF($L19-P$1>計算!$B$26,P$2,($L19-P$1)/計算!$B$26*P$2))","v":0.27879940541488013},{"$f":"IF($L19<Q$1,0,IF($L19-Q$1>計算!$B$26,Q$2,($L19-Q$1)/計算!$B$26*Q$2))","v":7.7879229924124438E-2},{"$f":"IF($L19<R$1,0,IF($L19-R$1>計算!$B$26,R$2,($L19-R$1)/計算!$B$26*R$2))","v":-1.1192377066933545E-2},{"$f":"IF($L19<S$1,0,IF($L19-S$1>計算!$B$26,S$2,($L19-S$1)/計算!$B$26*S$2))","v":-0.23935531082328287},{"$f":"IF($L19<T$1,0,IF($L19-T$1>計算!$B$26,T$2,($L19-T$1)/計算!$B$26*T$2))","v":-0.10397309430378354},{"$f":"IF($L19<U$1,0,IF($L19-U$1>計算!$B$26,U$2,($L19-U$1)/計算!$B$26*U$2))","v":2.3219302247680325E-2},{"$f":"IF($L19<V$1,0,IF($L19-V$1>計算!$B$26,V$2,($L19-V$1)/計算!$B$26*V$2))","v":0},{"$f":"IF($L19<W$1,0,IF($L19-W$1>計算!$B$26,W$2,($L19-W$1)/計算!$B$26*W$2))","v":0},{"$f":"IF($L19<X$1,0,IF($L19-X$1>計算!$B$26,X$2,($L19-X$1)/計算!$B$26*X$2))","v":0},{"$f":"IF($L19<Y$1,0,IF($L19-Y$1>計算!$B$26,Y$2,($L19-Y$1)/計算!$B$26*Y$2))","v":0},{"$f":"IF($L19<Z$1,0,IF($L19-Z$1>計算!$B$26,Z$2,($L19-Z$1)/計算!$B$26*Z$2))","v":0},{"$f":"IF($L19<AA$1,0,IF($L19-AA$1>計算!$B$26,AA$2,($L19-AA$1)/計算!$B$26*AA$2))","v":0},{"$f":"IF($L19<AB$1,0,IF($L19-AB$1>計算!$B$26,AB$2,($L19-AB$1)/計算!$B$26*AB$2))","v":0},{"$f":"IF($L19<AC$1,0,IF($L19-AC$1>計算!$B$26,AC$2,($L19-AC$1)/計算!$B$26*AC$2))","v":0},{"$f":"IF($L19<AD$1,0,IF($L19-AD$1>計算!$B$26,AD$2,($L19-AD$1)/計算!$B$26*AD$2))","v":0},{"$f":"IF($L19<AE$1,0,IF($L19-AE$1>計算!$B$26,AE$2,($L19-AE$1)/計算!$B$26*AE$2))","v":0},{"$f":"IF($L19<AF$1,0,IF($L19-AF$1>計算!$B$26,AF$2,($L19-AF$1)/計算!$B$26*AF$2))","v":0},{"$f":"IF($L19<AG$1,0,IF($L19-AG$1>計算!$B$26,AG$2,($L19-AG$1)/計算!$B$26*AG$2))","v":0},{"$f":"IF($L19<AH$1,0,IF($L19-AH$1>計算!$B$26,AH$2,($L19-AH$1)/計算!$B$26*AH$2))","v":0},{"$f":"IF($L19<AI$1,0,IF($L19-AI$1>計算!$B$26,AI$2,($L19-AI$1)/計算!$B$26*AI$2))","v":0},{"$f":"IF($L19<AJ$1,0,IF($L19-AJ$1>計算!$B$26,AJ$2,($L19-AJ$1)/計算!$B$26*AJ$2))","v":0},{"$f":"IF($L19<AK$1,0,IF($L19-AK$1>計算!$B$26,AK$2,($L19-AK$1)/計算!$B$26*AK$2))","v":0},{"$f":"IF($L19<AL$1,0,IF($L19-AL$1>計算!$B$26,AL$2,($L19-AL$1)/計算!$B$26*AL$2))","v":0},{"$f":"IF($L19<AM$1,0,IF($L19-AM$1>計算!$B$26,AM$2,($L19-AM$1)/計算!$B$26*AM$2))","v":0},{"$f":"IF($L19<AN$1,0,IF($L19-AN$1>計算!$B$26,AN$2,($L19-AN$1)/計算!$B$26*AN$2))","v":0},{"$f":"IF($L19<AO$1,0,IF($L19-AO$1>計算!$B$26,AO$2,($L19-AO$1)/計算!$B$26*AO$2))","v":0},{"$f":"IF($L19<AP$1,0,IF($L19-AP$1>計算!$B$26,AP$2,($L19-AP$1)/計算!$B$26*AP$2))","v":0},{"$f":"IF($L19<AQ$1,0,IF($L19-AQ$1>計算!$B$26,AQ$2,($L19-AQ$1)/計算!$B$26*AQ$2))","v":0},{"$f":"IF($L19<AR$1,0,IF($L19-AR$1>計算!$B$26,AR$2,($L19-AR$1)/計算!$B$26*AR$2))","v":0},{"$f":"IF($L19<AS$1,0,IF($L19-AS$1>計算!$B$26,AS$2,($L19-AS$1)/計算!$B$26*AS$2))","v":0},{"$f":"IF($L19<AT$1,0,IF($L19-AT$1>計算!$B$26,AT$2,($L19-AT$1)/計算!$B$26*AT$2))","v":0},{"$f":"IF($L19<AU$1,0,IF($L19-AU$1>計算!$B$26,AU$2,($L19-AU$1)/計算!$B$26*AU$2))","v":0},{"$f":"IF($L19<AV$1,0,IF($L19-AV$1>計算!$B$26,AV$2,($L19-AV$1)/計算!$B$26*AV$2))","v":0},3.27291247720225,null,null,null,29,{"$f":"準備!T18","v":6.8401558596184646},{"$f":"準備!Y18-準備!Y17","v":-0.34082736850881012},{"$f":"準備!Z18-準備!Z17","v":9.6704798158792071E-3},null,15,4.8611219849254823,{"$f":"IF($BG19<BH$1,0,IF($BG19-BH$1>計算!$B$26,BH$2,($BG19-BH$1)/計算!$B$26*BH$2))","v":1.8434248486289773},{"$f":"IF($BG19<BI$1,0,IF($BG19-BI$1>計算!$B$26,BI$2,($BG19-BI$1)/計算!$B$26*BI$2))","v":2.0804359702386828},{"$f":"IF($BG19<BJ$1,0,IF($BG19-BJ$1>計算!$B$26,BJ$2,($BG19-BJ$1)/計算!$B$26*BJ$2))","v":0.43833573789608726},{"$f":"IF($BG19<BK$1,0,IF($BG19-BK$1>計算!$B$26,BK$2,($BG19-BK$1)/計算!$B$26*BK$2))","v":-0.55120106185706153},{"$f":"IF($BG19<BL$1,0,IF($BG19-BL$1>計算!$B$26,BL$2,($BG19-BL$1)/計算!$B$26*BL$2))","v":-0.80365187452039688},{"$f":"IF($BG19<BM$1,0,IF($BG19-BM$1>計算!$B$26,BM$2,($BG19-BM$1)/計算!$B$26*BM$2))","v":0.19584279483276745},{"$f":"IF($BG19<BN$1,0,IF($BG19-BN$1>計算!$B$26,BN$2,($BG19-BN$1)/計算!$B$26*BN$2))","v":1.2015887751962495E-2},{"$f":"IF($BG19<BO$1,0,IF($BG19-BO$1>計算!$B$26,BO$2,($BG19-BO$1)/計算!$B$26*BO$2))","v":-2.5496507170437013E-2},{"$f":"IF($BG19<BP$1,0,IF($BG19-BP$1>計算!$B$26,BP$2,($BG19-BP$1)/計算!$B$26*BP$2))","v":0},{"$f":"IF($BG19<BQ$1,0,IF($BG19-BQ$1>計算!$B$26,BQ$2,($BG19-BQ$1)/計算!$B$26*BQ$2))","v":0},{"$f":"IF($BG19<BR$1,0,IF($BG19-BR$1>計算!$B$26,BR$2,($BG19-BR$1)/計算!$B$26*BR$2))","v":0},{"$f":"IF($BG19<BS$1,0,IF($BG19-BS$1>計算!$B$26,BS$2,($BG19-BS$1)/計算!$B$26*BS$2))","v":0},{"$f":"IF($BG19<BT$1,0,IF($BG19-BT$1>計算!$B$26,BT$2,($BG19-BT$1)/計算!$B$26*BT$2))","v":0},{"$f":"IF($BG19<BU$1,0,IF($BG19-BU$1>計算!$B$26,BU$2,($BG19-BU$1)/計算!$B$26*BU$2))","v":0},{"$f":"IF($BG19<BV$1,0,IF($BG19-BV$1>計算!$B$26,BV$2,($BG19-BV$1)/計算!$B$26*BV$2))","v":0},{"$f":"IF($BG19<BW$1,0,IF($BG19-BW$1>計算!$B$26,BW$2,($BG19-BW$1)/計算!$B$26*BW$2))","v":0},{"$f":"IF($BG19<BX$1,0,IF($BG19-BX$1>計算!$B$26,BX$2,($BG19-BX$1)/計算!$B$26*BX$2))","v":0},{"$f":"IF($BG19<BY$1,0,IF($BG19-BY$1>計算!$B$26,BY$2,($BG19-BY$1)/計算!$B$26*BY$2))","v":0},{"$f":"IF($BG19<BZ$1,0,IF($BG19-BZ$1>計算!$B$26,BZ$2,($BG19-BZ$1)/計算!$B$26*BZ$2))","v":0},{"$f":"IF($BG19<CA$1,0,IF($BG19-CA$1>計算!$B$26,CA$2,($BG19-CA$1)/計算!$B$26*CA$2))","v":0},{"$f":"IF($BG19<CB$1,0,IF($BG19-CB$1>計算!$B$26,CB$2,($BG19-CB$1)/計算!$B$26*CB$2))","v":0},{"$f":"IF($BG19<CC$1,0,IF($BG19-CC$1>計算!$B$26,CC$2,($BG19-CC$1)/計算!$B$26*CC$2))","v":0},{"$f":"IF($BG19<CD$1,0,IF($BG19-CD$1>計算!$B$26,CD$2,($BG19-CD$1)/計算!$B$26*CD$2))","v":0},{"$f":"IF($BG19<CE$1,0,IF($BG19-CE$1>計算!$B$26,CE$2,($BG19-CE$1)/計算!$B$26*CE$2))","v":0},{"$f":"IF($BG19<CF$1,0,IF($BG19-CF$1>計算!$B$26,CF$2,($BG19-CF$1)/計算!$B$26*CF$2))","v":0},{"$f":"IF($BG19<CG$1,0,IF($BG19-CG$1>計算!$B$26,CG$2,($BG19-CG$1)/計算!$B$26*CG$2))","v":0},{"$f":"IF($BG19<CH$1,0,IF($BG19-CH$1>計算!$B$26,CH$2,($BG19-CH$1)/計算!$B$26*CH$2))","v":0},{"$f":"IF($BG19<CI$1,0,IF($BG19-CI$1>計算!$B$26,CI$2,($BG19-CI$1)/計算!$B$26*CI$2))","v":0},{"$f":"IF($BG19<CJ$1,0,IF($BG19-CJ$1>計算!$B$26,CJ$2,($BG19-CJ$1)/計算!$B$26*CJ$2))","v":0},{"$f":"IF($BG19<CK$1,0,IF($BG19-CK$1>計算!$B$26,CK$2,($BG19-CK$1)/計算!$B$26*CK$2))","v":0},3.1897057958005814,null,null,4.400425948881316,7.3603445125555167E-2,-7.3603445125555167E-2]
["τC(ns)",{"$f":"B23*$B$25","v":0.98951693734649127},null,null,null,34,{"$f":"準備!J19","v":7.7143891945556575},{"$f":"準備!O19-準備!O18","v":-2.6932471689339543E-2},{"$f":"準備!P19-準備!P18","v":0.10542406236172575},null,17,4.4292468495836408,{"$f":"IF($L20<M$1,0,IF($L20-M$1>計算!$B$26,M$2,($L20-M$1)/計算!$B$26*M$2))","v":1.9890005284157226},{"$f":"IF($L20<N$1,0,IF($L20-N$1>計算!$B$26,N$2,($L20-N$1)/計算!$B$26*N$2))","v":0.32752179487645394},{"$f":"IF($L20<O$1,0,IF($L20-O$1>計算!$B$26,O$2,($L20-O$1)/計算!$B$26*O$2))","v":0.93101299851738872},{"$f":"IF($L20<P$1,0,IF($L20-P$1>計算!$B$26,P$2,($L20-P$1)/計算!$B$26*P$2))","v":0.27879940541488013},{"$f":"IF($L20<Q$1,0,IF($L20-Q$1>計算!$B$26,Q$2,($L20-Q$1)/計算!$B$26*Q$2))","v":7.7879229924124438E-2},{"$f":"IF($L20<R$1,0,IF($L20-R$1>計算!$B$26,R$2,($L20-R$1)/計算!$B$26*R$2))","v":-1.1192377066933545E-2},{"$f":"IF($L20<S$1,0,IF($L20-S$1>計算!$B$26,S$2,($L20-S$1)/計算!$B$26*S$2))","v":-0.23935531082328287},{"$f":"IF($L20<T$1,0,IF($L20-T$1>計算!$B$26,T$2,($L20-T$1)/計算!$B$26*T$2))","v":-0.11033288008978959},{"$f":"IF($L20<U$1,0,IF($L20-U$1>計算!$B$26,U$2,($L20-U$1)/計算!$B$26*U$2))","v":2.473210613652221E-2},{"$f":"IF($L20<V$1,0,IF($L20-V$1>計算!$B$26,V$2,($L20-V$1)/計算!$B$26*V$2))","v":0},{"$f":"IF($L20<W$1,0,IF($L20-W$1>計算!$B$26,W$2,($L20-W$1)/計算!$B$26*W$2))","v":0},{"$f":"IF($L20<X$1,0,IF($L20-X$1>計算!$B$26,X$2,($L20-X$1)/計算!$B$26*X$2))","v":0},{"$f":"IF($L20<Y$1,0,IF($L20-Y$1>計算!$B$26,Y$2,($L20-Y$1)/計算!$B$26*Y$2))","v":0},{"$f":"IF($L20<Z$1,0,IF($L20-Z$1>計算!$B$26,Z$2,($L20-Z$1)/計算!$B$26*Z$2))","v":0},{"$f":"IF($L20<AA$1,0,IF($L20-AA$1>計算!$B$26,AA$2,($L20-AA$1)/計算!$B$26*AA$2))","v":0},{"$f":"IF($L20<AB$1,0,IF($L20-AB$1>計算!$B$26,AB$2,($L20-AB$1)/計算!$B$26*AB$2))","v":0},{"$f":"IF($L20<AC$1,0,IF($L20-AC$1>計算!$B$26,AC$2,($L20-AC$1)/計算!$B$26*AC$2))","v":0},{"$f":"IF($L20<AD$1,0,IF($L20-AD$1>計算!$B$26,AD$2,($L20-AD$1)/計算!$B$26*AD$2))","v":0},{"$f":"IF($L20<AE$1,0,IF($L20-AE$1>計算!$B$26,AE$2,($L20-AE$1)/計算!$B$26*AE$2))","v":0},{"$f":"IF($L20<AF$1,0,IF($L20-AF$1>計算!$B$26,AF$2,($L20-AF$1)/計算!$B$26*AF$2))","v":0},{"$f":"IF($L20<AG$1,0,IF($L20-AG$1>計算!$B$26,AG$2,($L20-AG$1)/計算!$B$26*AG$2))","v":0},{"$f":"IF($L20<AH$1,0,IF($L20-AH$1>計算!$B$26,AH$2,($L20-AH$1)/計算!$B$26*AH$2))","v":0},{"$f":"IF($L20<AI$1,0,IF($L20-AI$1>計算!$B$26,AI$2,($L20-AI$1)/計算!$B$26*AI$2))","v":0},{"$f":"IF($L20<AJ$1,0,IF($L20-AJ$1>計算!$B$26,AJ$2,($L20-AJ$1)/計算!$B$26*AJ$2))","v":0},{"$f":"IF($L20<AK$1,0,IF($L20-AK$1>計算!$B$26,AK$2,($L20-AK$1)/計算!$B$26*AK$2))","v":0},{"$f":"IF($L20<AL$1,0,IF($L20-AL$1>計算!$B$26,AL$2,($L20-AL$1)/計算!$B$26*AL$2))","v":0},{"$f":"IF($L20<AM$1,0,IF($L20-AM$1>計算!$B$26,AM$2,($L20-AM$1)/計算!$B$26*AM$2))","v":0},{"$f":"IF($L20<AN$1,0,IF($L20-AN$1>計算!$B$26,AN$2,($L20-AN$1)/計算!$B$26*AN$2))","v":0},{"$f":"IF($L20<AO$1,0,IF($L20-AO$1>計算!$B$26,AO$2,($L20-AO$1)/計算!$B$26*AO$2))","v":0},{"$f":"IF($L20<AP$1,0,IF($L20-AP$1>計算!$B$26,AP$2,($L20-AP$1)/計算!$B$26*AP$2))","v":0},{"$f":"IF($L20<AQ$1,0,IF($L20-AQ$1>計算!$B$26,AQ$2,($L20-AQ$1)/計算!$B$26*AQ$2))","v":0},{"$f":"IF($L20<AR$1,0,IF($L20-AR$1>計算!$B$26,AR$2,($L20-AR$1)/計算!$B$26*AR$2))","v":0},{"$f":"IF($L20<AS$1,0,IF($L20-AS$1>計算!$B$26,AS$2,($L20-AS$1)/計算!$B$26*AS$2))","v":0},{"$f":"IF($L20<AT$1,0,IF($L20-AT$1>計算!$B$26,AT$2,($L20-AT$1)/計算!$B$26*AT$2))","v":0},{"$f":"IF($L20<AU$1,0,IF($L20-AU$1>計算!$B$26,AU$2,($L20-AU$1)/計算!$B$26*AU$2))","v":0},{"$f":"IF($L20<AV$1,0,IF($L20-AV$1>計算!$B$26,AV$2,($L20-AV$1)/計算!$B$26*AV$2))","v":0},3.2680654953050858,null,null,null,30,{"$f":"準備!T19","v":6.8689767602207894},{"$f":"準備!Y19-準備!Y18","v":0.19354379609734229},{"$f":"準備!Z19-準備!Z18","v":4.2775407921305519E-2},null,16,4.8899428855278071,{"$f":"IF($BG20<BH$1,0,IF($BG20-BH$1>計算!$B$26,BH$2,($BG20-BH$1)/計算!$B$26*BH$2))","v":1.8434248486289773},{"$f":"IF($BG20<BI$1,0,IF($BG20-BI$1>計算!$B$26,BI$2,($BG20-BI$1)/計算!$B$26*BI$2))","v":2.0804359702386828},{"$f":"IF($BG20<BJ$1,0,IF($BG20-BJ$1>計算!$B$26,BJ$2,($BG20-BJ$1)/計算!$B$26*BJ$2))","v":0.43833573789608726},{"$f":"IF($BG20<BK$1,0,IF($BG20-BK$1>計算!$B$26,BK$2,($BG20-BK$1)/計算!$B$26*BK$2))","v":-0.55120106185706153},{"$f":"IF($BG20<BL$1,0,IF($BG20-BL$1>計算!$B$26,BL$2,($BG20-BL$1)/計算!$B$26*BL$2))","v":-0.80365187452039688},{"$f":"IF($BG20<BM$1,0,IF($BG20-BM$1>計算!$B$26,BM$2,($BG20-BM$1)/計算!$B$26*BM$2))","v":0.19584279483276745},{"$f":"IF($BG20<BN$1,0,IF($BG20-BN$1>計算!$B$26,BN$2,($BG20-BN$1)/計算!$B$26*BN$2))","v":1.8023831627943743E-2},{"$f":"IF($BG20<BO$1,0,IF($BG20-BO$1>計算!$B$26,BO$2,($BG20-BO$1)/計算!$B$26*BO$2))","v":-5.0993014340874027E-2},{"$f":"IF($BG20<BP$1,0,IF($BG20-BP$1>計算!$B$26,BP$2,($BG20-BP$1)/計算!$B$26*BP$2))","v":9.4402237048025472E-3},{"$f":"IF($BG20<BQ$1,0,IF($BG20-BQ$1>計算!$B$26,BQ$2,($BG20-BQ$1)/計算!$B$26*BQ$2))","v":0},{"$f":"IF($BG20<BR$1,0,IF($BG20-BR$1>計算!$B$26,BR$2,($BG20-BR$1)/計算!$B$26*BR$2))","v":0},{"$f":"IF($BG20<BS$1,0,IF($BG20-BS$1>計算!$B$26,BS$2,($BG20-BS$1)/計算!$B$26*BS$2))","v":0},{"$f":"IF($BG20<BT$1,0,IF($BG20-BT$1>計算!$B$26,BT$2,($BG20-BT$1)/計算!$B$26*BT$2))","v":0},{"$f":"IF($BG20<BU$1,0,IF($BG20-BU$1>計算!$B$26,BU$2,($BG20-BU$1)/計算!$B$26*BU$2))","v":0},{"$f":"IF($BG20<BV$1,0,IF($BG20-BV$1>計算!$B$26,BV$2,($BG20-BV$1)/計算!$B$26*BV$2))","v":0},{"$f":"IF($BG20<BW$1,0,IF($BG20-BW$1>計算!$B$26,BW$2,($BG20-BW$1)/計算!$B$26*BW$2))","v":0},{"$f":"IF($BG20<BX$1,0,IF($BG20-BX$1>計算!$B$26,BX$2,($BG20-BX$1)/計算!$B$26*BX$2))","v":0},{"$f":"IF($BG20<BY$1,0,IF($BG20-BY$1>計算!$B$26,BY$2,($BG20-BY$1)/計算!$B$26*BY$2))","v":0},{"$f":"IF($BG20<BZ$1,0,IF($BG20-BZ$1>計算!$B$26,BZ$2,($BG20-BZ$1)/計算!$B$26*BZ$2))","v":0},{"$f":"IF($BG20<CA$1,0,IF($BG20-CA$1>計算!$B$26,CA$2,($BG20-CA$1)/計算!$B$26*CA$2))","v":0},{"$f":"IF($BG20<CB$1,0,IF($BG20-CB$1>計算!$B$26,CB$2,($BG20-CB$1)/計算!$B$26*CB$2))","v":0},{"$f":"IF($BG20<CC$1,0,IF($BG20-CC$1>計算!$B$26,CC$2,($BG20-CC$1)/計算!$B$26*CC$2))","v":0},{"$f":"IF($BG20<CD$1,0,IF($BG20-CD$1>計算!$B$26,CD$2,($BG20-CD$1)/計算!$B$26*CD$2))","v":0},{"$f":"IF($BG20<CE$1,0,IF($BG20-CE$1>計算!$B$26,CE$2,($BG20-CE$1)/計算!$B$26*CE$2))","v":0},{"$f":"IF($BG20<CF$1,0,IF($BG20-CF$1>計算!$B$26,CF$2,($BG20-CF$1)/計算!$B$26*CF$2))","v":0},{"$f":"IF($BG20<CG$1,0,IF($BG20-CG$1>計算!$B$26,CG$2,($BG20-CG$1)/計算!$B$26*CG$2))","v":0},{"$f":"IF($BG20<CH$1,0,IF($BG20-CH$1>計算!$B$26,CH$2,($BG20-CH$1)/計算!$B$26*CH$2))","v":0},{"$f":"IF($BG20<CI$1,0,IF($BG20-CI$1>計算!$B$26,CI$2,($BG20-CI$1)/計算!$B$26*CI$2))","v":0},{"$f":"IF($BG20<CJ$1,0,IF($BG20-CJ$1>計算!$B$26,CJ$2,($BG20-CJ$1)/計算!$B$26*CJ$2))","v":0},{"$f":"IF($BG20<CK$1,0,IF($BG20-CK$1>計算!$B$26,CK$2,($BG20-CK$1)/計算!$B$26*CK$2))","v":0},3.1796574562109283,null,null,4.4292468495836408,4.979074441881165E-2,-4.979074441881165E-2]
["τD(ns)",{"$f":"B24*$B$25","v":0.96069603674416659},null,null,null,35,{"$f":"準備!J20","v":7.7432100951579823},{"$f":"準備!O20-準備!O19","v":2.6428643544579966E-2},{"$f":"準備!P20-準備!P19","v":-0.28279467405986669},null,18,4.4580677502859647,{"$f":"IF($L21<M$1,0,IF($L21-M$1>計算!$B$26,M$2,($L21-M$1)/計算!$B$26*M$2))","v":1.9890005284157226},{"$f":"IF($L21<N$1,0,IF($L21-N$1>計算!$B$26,N$2,($L21-N$1)/計算!$B$26*N$2))","v":0.32752179487645394},{"$f":"IF($L21<O$1,0,IF($L21-O$1>計算!$B$26,O$2,($L21-O$1)/計算!$B$26*O$2))","v":0.93101299851738872},{"$f":"IF($L21<P$1,0,IF($L21-P$1>計算!$B$26,P$2,($L21-P$1)/計算!$B$26*P$2))","v":0.27879940541488013},{"$f":"IF($L21<Q$1,0,IF($L21-Q$1>計算!$B$26,Q$2,($L21-Q$1)/計算!$B$26*Q$2))","v":7.7879229924124438E-2},{"$f":"IF($L21<R$1,0,IF($L21-R$1>計算!$B$26,R$2,($L21-R$1)/計算!$B$26*R$2))","v":-1.1192377066933545E-2},{"$f":"IF($L21<S$1,0,IF($L21-S$1>計算!$B$26,S$2,($L21-S$1)/計算!$B$26*S$2))","v":-0.23935531082328287},{"$f":"IF($L21<T$1,0,IF($L21-T$1>計算!$B$26,T$2,($L21-T$1)/計算!$B$26*T$2))","v":-0.11033288008978959},{"$f":"IF($L21<U$1,0,IF($L21-U$1>計算!$B$26,U$2,($L21-U$1)/計算!$B$26*U$2))","v":2.6244909978123232E-2},{"$f":"IF($L21<V$1,0,IF($L21-V$1>計算!$B$26,V$2,($L21-V$1)/計算!$B$26*V$2))","v":0},{"$f":"IF($L21<W$1,0,IF($L21-W$1>計算!$B$26,W$2,($L21-W$1)/計算!$B$26*W$2))","v":0},{"$f":"IF($L21<X$1,0,IF($L21-X$1>計算!$B$26,X$2,($L21-X$1)/計算!$B$26*X$2))","v":0},{"$f":"IF($L21<Y$1,0,IF($L21-Y$1>計算!$B$26,Y$2,($L21-Y$1)/計算!$B$26*Y$2))","v":0},{"$f":"IF($L21<Z$1,0,IF($L21-Z$1>計算!$B$26,Z$2,($L21-Z$1)/計算!$B$26*Z$2))","v":0},{"$f":"IF($L21<AA$1,0,IF($L21-AA$1>計算!$B$26,AA$2,($L21-AA$1)/計算!$B$26*AA$2))","v":0},{"$f":"IF($L21<AB$1,0,IF($L21-AB$1>計算!$B$26,AB$2,($L21-AB$1)/計算!$B$26*AB$2))","v":0},{"$f":"IF($L21<AC$1,0,IF($L21-AC$1>計算!$B$26,AC$2,($L21-AC$1)/計算!$B$26*AC$2))","v":0},{"$f":"IF($L21<AD$1,0,IF($L21-AD$1>計算!$B$26,AD$2,($L21-AD$1)/計算!$B$26*AD$2))","v":0},{"$f":"IF($L21<AE$1,0,IF($L21-AE$1>計算!$B$26,AE$2,($L21-AE$1)/計算!$B$26*AE$2))","v":0},{"$f":"IF($L21<AF$1,0,IF($L21-AF$1>計算!$B$26,AF$2,($L21-AF$1)/計算!$B$26*AF$2))","v":0},{"$f":"IF($L21<AG$1,0,IF($L21-AG$1>計算!$B$26,AG$2,($L21-AG$1)/計算!$B$26*AG$2))","v":0},{"$f":"IF($L21<AH$1,0,IF($L21-AH$1>計算!$B$26,AH$2,($L21-AH$1)/計算!$B$26*AH$2))","v":0},{"$f":"IF($L21<AI$1,0,IF($L21-AI$1>計算!$B$26,AI$2,($L21-AI$1)/計算!$B$26*AI$2))","v":0},{"$f":"IF($L21<AJ$1,0,IF($L21-AJ$1>計算!$B$26,AJ$2,($L21-AJ$1)/計算!$B$26*AJ$2))","v":0},{"$f":"IF($L21<AK$1,0,IF($L21-AK$1>計算!$B$26,AK$2,($L21-AK$1)/計算!$B$26*AK$2))","v":0},{"$f":"IF($L21<AL$1,0,IF($L21-AL$1>計算!$B$26,AL$2,($L21-AL$1)/計算!$B$26*AL$2))","v":0},{"$f":"IF($L21<AM$1,0,IF($L21-AM$1>計算!$B$26,AM$2,($L21-AM$1)/計算!$B$26*AM$2))","v":0},{"$f":"IF($L21<AN$1,0,IF($L21-AN$1>計算!$B$26,AN$2,($L21-AN$1)/計算!$B$26*AN$2))","v":0},{"$f":"IF($L21<AO$1,0,IF($L21-AO$1>計算!$B$26,AO$2,($L21-AO$1)/計算!$B$26*AO$2))","v":0},{"$f":"IF($L21<AP$1,0,IF($L21-AP$1>計算!$B$26,AP$2,($L21-AP$1)/計算!$B$26*AP$2))","v":0},{"$f":"IF($L21<AQ$1,0,IF($L21-AQ$1>計算!$B$26,AQ$2,($L21-AQ$1)/計算!$B$26*AQ$2))","v":0},{"$f":"IF($L21<AR$1,0,IF($L21-AR$1>計算!$B$26,AR$2,($L21-AR$1)/計算!$B$26*AR$2))","v":0},{"$f":"IF($L21<AS$1,0,IF($L21-AS$1>計算!$B$26,AS$2,($L21-AS$1)/計算!$B$26*AS$2))","v":0},{"$f":"IF($L21<AT$1,0,IF($L21-AT$1>計算!$B$26,AT$2,($L21-AT$1)/計算!$B$26*AT$2))","v":0},{"$f":"IF($L21<AU$1,0,IF($L21-AU$1>計算!$B$26,AU$2,($L21-AU$1)/計算!$B$26*AU$2))","v":0},{"$f":"IF($L21<AV$1,0,IF($L21-AV$1>計算!$B$26,AV$2,($L21-AV$1)/計算!$B$26*AV$2))","v":0},3.2695782991466871,null,null,null,31,{"$f":"準備!T20","v":6.8977976608231142},{"$f":"準備!Y20-準備!Y19","v":-3.3303838596894231E-2},{"$f":"準備!Z20-準備!Z19","v":-1.1763541698946112E-2},null,17,4.9187637861301319,{"$f":"IF($BG21<BH$1,0,IF($BG21-BH$1>計算!$B$26,BH$2,($BG21-BH$1)/計算!$B$26*BH$2))","v":1.8434248486289773},{"$f":"IF($BG21<BI$1,0,IF($BG21-BI$1>計算!$B$26,BI$2,($BG21-BI$1)/計算!$B$26*BI$2))","v":2.0804359702386828},{"$f":"IF($BG21<BJ$1,0,IF($BG21-BJ$1>計算!$B$26,BJ$2,($BG21-BJ$1)/計算!$B$26*BJ$2))","v":0.43833573789608726},{"$f":"IF($BG21<BK$1,0,IF($BG21-BK$1>計算!$B$26,BK$2,($BG21-BK$1)/計算!$B$26*BK$2))","v":-0.55120106185706153},{"$f":"IF($BG21<BL$1,0,IF($BG21-BL$1>計算!$B$26,BL$2,($BG21-BL$1)/計算!$B$26*BL$2))","v":-0.80365187452039688},{"$f":"IF($BG21<BM$1,0,IF($BG21-BM$1>計算!$B$26,BM$2,($BG21-BM$1)/計算!$B$26*BM$2))","v":0.19584279483276745},{"$f":"IF($BG21<BN$1,0,IF($BG21-BN$1>計算!$B$26,BN$2,($BG21-BN$1)/計算!$B$26*BN$2))","v":2.403177550392499E-2},{"$f":"IF($BG21<BO$1,0,IF($BG21-BO$1>計算!$B$26,BO$2,($BG21-BO$1)/計算!$B$26*BO$2))","v":-7.648952151131104E-2},{"$f":"IF($BG21<BP$1,0,IF($BG21-BP$1>計算!$B$26,BP$2,($BG21-BP$1)/計算!$B$26*BP$2))","v":1.8880447409605094E-2},{"$f":"IF($BG21<BQ$1,0,IF($BG21-BQ$1>計算!$B$26,BQ$2,($BG21-BQ$1)/計算!$B$26*BQ$2))","v":2.7526730071672532E-2},{"$f":"IF($BG21<BR$1,0,IF($BG21-BR$1>計算!$B$26,BR$2,($BG21-BR$1)/計算!$B$26*BR$2))","v":0},{"$f":"IF($BG21<BS$1,0,IF($BG21-BS$1>計算!$B$26,BS$2,($BG21-BS$1)/計算!$B$26*BS$2))","v":0},{"$f":"IF($BG21<BT$1,0,IF($BG21-BT$1>計算!$B$26,BT$2,($BG21-BT$1)/計算!$B$26*BT$2))","v":0},{"$f":"IF($BG21<BU$1,0,IF($BG21-BU$1>計算!$B$26,BU$2,($BG21-BU$1)/計算!$B$26*BU$2))","v":0},{"$f":"IF($BG21<BV$1,0,IF($BG21-BV$1>計算!$B$26,BV$2,($BG21-BV$1)/計算!$B$26*BV$2))","v":0},{"$f":"IF($BG21<BW$1,0,IF($BG21-BW$1>計算!$B$26,BW$2,($BG21-BW$1)/計算!$B$26*BW$2))","v":0},{"$f":"IF($BG21<BX$1,0,IF($BG21-BX$1>計算!$B$26,BX$2,($BG21-BX$1)/計算!$B$26*BX$2))","v":0},{"$f":"IF($BG21<BY$1,0,IF($BG21-BY$1>計算!$B$26,BY$2,($BG21-BY$1)/計算!$B$26*BY$2))","v":0},{"$f":"IF($BG21<BZ$1,0,IF($BG21-BZ$1>計算!$B$26,BZ$2,($BG21-BZ$1)/計算!$B$26*BZ$2))","v":0},{"$f":"IF($BG21<CA$1,0,IF($BG21-CA$1>計算!$B$26,CA$2,($BG21-CA$1)/計算!$B$26*CA$2))","v":0},{"$f":"IF($BG21<CB$1,0,IF($BG21-CB$1>計算!$B$26,CB$2,($BG21-CB$1)/計算!$B$26*CB$2))","v":0},{"$f":"IF($BG21<CC$1,0,IF($BG21-CC$1>計算!$B$26,CC$2,($BG21-CC$1)/計算!$B$26*CC$2))","v":0},{"$f":"IF($BG21<CD$1,0,IF($BG21-CD$1>計算!$B$26,CD$2,($BG21-CD$1)/計算!$B$26*CD$2))","v":0},{"$f":"IF($BG21<CE$1,0,IF($BG21-CE$1>計算!$B$26,CE$2,($BG21-CE$1)/計算!$B$26*CE$2))","v":0},{"$f":"IF($BG21<CF$1,0,IF($BG21-CF$1>計算!$B$26,CF$2,($BG21-CF$1)/計算!$B$26*CF$2))","v":0},{"$f":"IF($BG21<CG$1,0,IF($BG21-CG$1>計算!$B$26,CG$2,($BG21-CG$1)/計算!$B$26*CG$2))","v":0},{"$f":"IF($BG21<CH$1,0,IF($BG21-CH$1>計算!$B$26,CH$2,($BG21-CH$1)/計算!$B$26*CH$2))","v":0},{"$f":"IF($BG21<CI$1,0,IF($BG21-CI$1>計算!$B$26,CI$2,($BG21-CI$1)/計算!$B$26*CI$2))","v":0},{"$f":"IF($BG21<CJ$1,0,IF($BG21-CJ$1>計算!$B$26,CJ$2,($BG21-CJ$1)/計算!$B$26*CJ$2))","v":0},{"$f":"IF($BG21<CK$1,0,IF($BG21-CK$1>計算!$B$26,CK$2,($BG21-CK$1)/計算!$B$26*CK$2))","v":0},3.1971358466929476,null,null,4.4580677502859647,5.3254296732139106E-2,-5.3254296732139106E-2]
["td(ns/m)",6.5,{"$f":"SQRT(1+VLOOKUP(波形!R8,Data!M2:M14,1,0))+0.00000001","v":1.0148891665092219},null,null,36,{"$f":"準備!J21","v":7.7720309957603071},{"$f":"準備!O21-準備!O20","v":5.8979804915944012E-2},{"$f":"準備!P21-準備!P20","v":0.18504894450884757},null,19,5.764176220465,{"$f":"IF($L22<M$1,0,IF($L22-M$1>計算!$B$26,M$2,($L22-M$1)/計算!$B$26*M$2))","v":1.9890005284157226},{"$f":"IF($L22<N$1,0,IF($L22-N$1>計算!$B$26,N$2,($L22-N$1)/計算!$B$26*N$2))","v":0.32752179487645394},{"$f":"IF($L22<O$1,0,IF($L22-O$1>計算!$B$26,O$2,($L22-O$1)/計算!$B$26*O$2))","v":0.93101299851738872},{"$f":"IF($L22<P$1,0,IF($L22-P$1>計算!$B$26,P$2,($L22-P$1)/計算!$B$26*P$2))","v":0.27879940541488013},{"$f":"IF($L22<Q$1,0,IF($L22-Q$1>計算!$B$26,Q$2,($L22-Q$1)/計算!$B$26*Q$2))","v":7.7879229924124438E-2},{"$f":"IF($L22<R$1,0,IF($L22-R$1>計算!$B$26,R$2,($L22-R$1)/計算!$B$26*R$2))","v":-1.1192377066933545E-2},{"$f":"IF($L22<S$1,0,IF($L22-S$1>計算!$B$26,S$2,($L22-S$1)/計算!$B$26*S$2))","v":-0.23935531082328287},{"$f":"IF($L22<T$1,0,IF($L22-T$1>計算!$B$26,T$2,($L22-T$1)/計算!$B$26*T$2))","v":-0.11033288008978959},{"$f":"IF($L22<U$1,0,IF($L22-U$1>計算!$B$26,U$2,($L22-U$1)/計算!$B$26*U$2))","v":2.6244909978123232E-2},{"$f":"IF($L22<V$1,0,IF($L22-V$1>計算!$B$26,V$2,($L22-V$1)/計算!$B$26*V$2))","v":0},{"$f":"IF($L22<W$1,0,IF($L22-W$1>計算!$B$26,W$2,($L22-W$1)/計算!$B$26*W$2))","v":0},{"$f":"IF($L22<X$1,0,IF($L22-X$1>計算!$B$26,X$2,($L22-X$1)/計算!$B$26*X$2))","v":0},{"$f":"IF($L22<Y$1,0,IF($L22-Y$1>計算!$B$26,Y$2,($L22-Y$1)/計算!$B$26*Y$2))","v":0},{"$f":"IF($L22<Z$1,0,IF($L22-Z$1>計算!$B$26,Z$2,($L22-Z$1)/計算!$B$26*Z$2))","v":0},{"$f":"IF($L22<AA$1,0,IF($L22-AA$1>計算!$B$26,AA$2,($L22-AA$1)/計算!$B$26*AA$2))","v":0},{"$f":"IF($L22<AB$1,0,IF($L22-AB$1>計算!$B$26,AB$2,($L22-AB$1)/計算!$B$26*AB$2))","v":0},{"$f":"IF($L22<AC$1,0,IF($L22-AC$1>計算!$B$26,AC$2,($L22-AC$1)/計算!$B$26*AC$2))","v":0},{"$f":"IF($L22<AD$1,0,IF($L22-AD$1>計算!$B$26,AD$2,($L22-AD$1)/計算!$B$26*AD$2))","v":0},{"$f":"IF($L22<AE$1,0,IF($L22-AE$1>計算!$B$26,AE$2,($L22-AE$1)/計算!$B$26*AE$2))","v":0},{"$f":"IF($L22<AF$1,0,IF($L22-AF$1>計算!$B$26,AF$2,($L22-AF$1)/計算!$B$26*AF$2))","v":0},{"$f":"IF($L22<AG$1,0,IF($L22-AG$1>計算!$B$26,AG$2,($L22-AG$1)/計算!$B$26*AG$2))","v":0},{"$f":"IF($L22<AH$1,0,IF($L22-AH$1>計算!$B$26,AH$2,($L22-AH$1)/計算!$B$26*AH$2))","v":0},{"$f":"IF($L22<AI$1,0,IF($L22-AI$1>計算!$B$26,AI$2,($L22-AI$1)/計算!$B$26*AI$2))","v":0},{"$f":"IF($L22<AJ$1,0,IF($L22-AJ$1>計算!$B$26,AJ$2,($L22-AJ$1)/計算!$B$26*AJ$2))","v":0},{"$f":"IF($L22<AK$1,0,IF($L22-AK$1>計算!$B$26,AK$2,($L22-AK$1)/計算!$B$26*AK$2))","v":0},{"$f":"IF($L22<AL$1,0,IF($L22-AL$1>計算!$B$26,AL$2,($L22-AL$1)/計算!$B$26*AL$2))","v":0},{"$f":"IF($L22<AM$1,0,IF($L22-AM$1>計算!$B$26,AM$2,($L22-AM$1)/計算!$B$26*AM$2))","v":0},{"$f":"IF($L22<AN$1,0,IF($L22-AN$1>計算!$B$26,AN$2,($L22-AN$1)/計算!$B$26*AN$2))","v":0},{"$f":"IF($L22<AO$1,0,IF($L22-AO$1>計算!$B$26,AO$2,($L22-AO$1)/計算!$B$26*AO$2))","v":0},{"$f":"IF($L22<AP$1,0,IF($L22-AP$1>計算!$B$26,AP$2,($L22-AP$1)/計算!$B$26*AP$2))","v":0},{"$f":"IF($L22<AQ$1,0,IF($L22-AQ$1>計算!$B$26,AQ$2,($L22-AQ$1)/計算!$B$26*AQ$2))","v":0},{"$f":"IF($L22<AR$1,0,IF($L22-AR$1>計算!$B$26,AR$2,($L22-AR$1)/計算!$B$26*AR$2))","v":0},{"$f":"IF($L22<AS$1,0,IF($L22-AS$1>計算!$B$26,AS$2,($L22-AS$1)/計算!$B$26*AS$2))","v":0},{"$f":"IF($L22<AT$1,0,IF($L22-AT$1>計算!$B$26,AT$2,($L22-AT$1)/計算!$B$26*AT$2))","v":0},{"$f":"IF($L22<AU$1,0,IF($L22-AU$1>計算!$B$26,AU$2,($L22-AU$1)/計算!$B$26*AU$2))","v":0},{"$f":"IF($L22<AV$1,0,IF($L22-AV$1>計算!$B$26,AV$2,($L22-AV$1)/計算!$B$26*AV$2))","v":0},3.2695782991466871,null,null,null,32,{"$f":"準備!T21","v":6.926618561425439},{"$f":"準備!Y21-準備!Y20","v":1.7354579159052363E-3},{"$f":"準備!Z21-準備!Z20","v":7.5801003265218991E-4},null,18,4.9475846867324567,{"$f":"IF($BG22<BH$1,0,IF($BG22-BH$1>計算!$B$26,BH$2,($BG22-BH$1)/計算!$B$26*BH$2))","v":1.8434248486289773},{"$f":"IF($BG22<BI$1,0,IF($BG22-BI$1>計算!$B$26,BI$2,($BG22-BI$1)/計算!$B$26*BI$2))","v":2.0804359702386828},{"$f":"IF($BG22<BJ$1,0,IF($BG22-BJ$1>計算!$B$26,BJ$2,($BG22-BJ$1)/計算!$B$26*BJ$2))","v":0.43833573789608726},{"$f":"IF($BG22<BK$1,0,IF($BG22-BK$1>計算!$B$26,BK$2,($BG22-BK$1)/計算!$B$26*BK$2))","v":-0.55120106185706153},{"$f":"IF($BG22<BL$1,0,IF($BG22-BL$1>計算!$B$26,BL$2,($BG22-BL$1)/計算!$B$26*BL$2))","v":-0.80365187452039688},{"$f":"IF($BG22<BM$1,0,IF($BG22-BM$1>計算!$B$26,BM$2,($BG22-BM$1)/計算!$B$26*BM$2))","v":0.19584279483276745},{"$f":"IF($BG22<BN$1,0,IF($BG22-BN$1>計算!$B$26,BN$2,($BG22-BN$1)/計算!$B$26*BN$2))","v":3.0039719379906238E-2},{"$f":"IF($BG22<BO$1,0,IF($BG22-BO$1>計算!$B$26,BO$2,($BG22-BO$1)/計算!$B$26*BO$2))","v":-0.10198602868174805},{"$f":"IF($BG22<BP$1,0,IF($BG22-BP$1>計算!$B$26,BP$2,($BG22-BP$1)/計算!$B$26*BP$2))","v":2.8320671114407642E-2},{"$f":"IF($BG22<BQ$1,0,IF($BG22-BQ$1>計算!$B$26,BQ$2,($BG22-BQ$1)/計算!$B$26*BQ$2))","v":5.5053460143345063E-2},{"$f":"IF($BG22<BR$1,0,IF($BG22-BR$1>計算!$B$26,BR$2,($BG22-BR$1)/計算!$B$26*BR$2))","v":-1.2376803419973013E-2},{"$f":"IF($BG22<BS$1,0,IF($BG22-BS$1>計算!$B$26,BS$2,($BG22-BS$1)/計算!$B$26*BS$2))","v":0},{"$f":"IF($BG22<BT$1,0,IF($BG22-BT$1>計算!$B$26,BT$2,($BG22-BT$1)/計算!$B$26*BT$2))","v":0},{"$f":"IF($BG22<BU$1,0,IF($BG22-BU$1>計算!$B$26,BU$2,($BG22-BU$1)/計算!$B$26*BU$2))","v":0},{"$f":"IF($BG22<BV$1,0,IF($BG22-BV$1>計算!$B$26,BV$2,($BG22-BV$1)/計算!$B$26*BV$2))","v":0},{"$f":"IF($BG22<BW$1,0,IF($BG22-BW$1>計算!$B$26,BW$2,($BG22-BW$1)/計算!$B$26*BW$2))","v":0},{"$f":"IF($BG22<BX$1,0,IF($BG22-BX$1>計算!$B$26,BX$2,($BG22-BX$1)/計算!$B$26*BX$2))","v":0},{"$f":"IF($BG22<BY$1,0,IF($BG22-BY$1>計算!$B$26,BY$2,($BG22-BY$1)/計算!$B$26*BY$2))","v":0},{"$f":"IF($BG22<BZ$1,0,IF($BG22-BZ$1>計算!$B$26,BZ$2,($BG22-BZ$1)/計算!$B$26*BZ$2))","v":0},{"$f":"IF($BG22<CA$1,0,IF($BG22-CA$1>計算!$B$26,CA$2,($BG22-CA$1)/計算!$B$26*CA$2))","v":0},{"$f":"IF($BG22<CB$1,0,IF($BG22-CB$1>計算!$B$26,CB$2,($BG22-CB$1)/計算!$B$26*CB$2))","v":0},{"$f":"IF($BG22<CC$1,0,IF($BG22-CC$1>計算!$B$26,CC$2,($BG22-CC$1)/計算!$B$26*CC$2))","v":0},{"$f":"IF($BG22<CD$1,0,IF($BG22-CD$1>計算!$B$26,CD$2,($BG22-CD$1)/計算!$B$26*CD$2))","v":0},{"$f":"IF($BG22<CE$1,0,IF($BG22-CE$1>計算!$B$26,CE$2,($BG22-CE$1)/計算!$B$26*CE$2))","v":0},{"$f":"IF($BG22<CF$1,0,IF($BG22-CF$1>計算!$B$26,CF$2,($BG22-CF$1)/計算!$B$26*CF$2))","v":0},{"$f":"IF($BG22<CG$1,0,IF($BG22-CG$1>計算!$B$26,CG$2,($BG22-CG$1)/計算!$B$26*CG$2))","v":0},{"$f":"IF($BG22<CH$1,0,IF($BG22-CH$1>計算!$B$26,CH$2,($BG22-CH$1)/計算!$B$26*CH$2))","v":0},{"$f":"IF($BG22<CI$1,0,IF($BG22-CI$1>計算!$B$26,CI$2,($BG22-CI$1)/計算!$B$26*CI$2))","v":0},{"$f":"IF($BG22<CJ$1,0,IF($BG22-CJ$1>計算!$B$26,CJ$2,($BG22-CJ$1)/計算!$B$26*CJ$2))","v":0},{"$f":"IF($BG22<CK$1,0,IF($BG22-CK$1>計算!$B$26,CK$2,($BG22-CK$1)/計算!$B$26*CK$2))","v":0},3.2022374337549939,null,null,5.764176220465,5.3254296732139106E-2,-5.3254296732139106E-2]
["tdC(ns/m)",{"$f":"B22*C22","v":6.5967795823099422},null,null,null,37,{"$f":"準備!J22","v":7.8008518963626319},{"$f":"準備!O22-準備!O21","v":-5.6573485727166251E-2},{"$f":"準備!P22-準備!P21","v":0.20847316613816691},null,20,5.7929971210673239,{"$f":"IF($L23<M$1,0,IF($L23-M$1>計算!$B$26,M$2,($L23-M$1)/計算!$B$26*M$2))","v":1.9890005284157226},{"$f":"IF($L23<N$1,0,IF($L23-N$1>計算!$B$26,N$2,($L23-N$1)/計算!$B$26*N$2))","v":0.32752179487645394},{"$f":"IF($L23<O$1,0,IF($L23-O$1>計算!$B$26,O$2,($L23-O$1)/計算!$B$26*O$2))","v":0.93101299851738872},{"$f":"IF($L23<P$1,0,IF($L23-P$1>計算!$B$26,P$2,($L23-P$1)/計算!$B$26*P$2))","v":0.27879940541488013},{"$f":"IF($L23<Q$1,0,IF($L23-Q$1>計算!$B$26,Q$2,($L23-Q$1)/計算!$B$26*Q$2))","v":7.7879229924124438E-2},{"$f":"IF($L23<R$1,0,IF($L23-R$1>計算!$B$26,R$2,($L23-R$1)/計算!$B$26*R$2))","v":-1.1192377066933545E-2},{"$f":"IF($L23<S$1,0,IF($L23-S$1>計算!$B$26,S$2,($L23-S$1)/計算!$B$26*S$2))","v":-0.23935531082328287},{"$f":"IF($L23<T$1,0,IF($L23-T$1>計算!$B$26,T$2,($L23-T$1)/計算!$B$26*T$2))","v":-0.11033288008978959},{"$f":"IF($L23<U$1,0,IF($L23-U$1>計算!$B$26,U$2,($L23-U$1)/計算!$B$26*U$2))","v":2.6244909978123232E-2},{"$f":"IF($L23<V$1,0,IF($L23-V$1>計算!$B$26,V$2,($L23-V$1)/計算!$B$26*V$2))","v":1.0674330245910469E-3},{"$f":"IF($L23<W$1,0,IF($L23-W$1>計算!$B$26,W$2,($L23-W$1)/計算!$B$26*W$2))","v":0},{"$f":"IF($L23<X$1,0,IF($L23-X$1>計算!$B$26,X$2,($L23-X$1)/計算!$B$26*X$2))","v":0},{"$f":"IF($L23<Y$1,0,IF($L23-Y$1>計算!$B$26,Y$2,($L23-Y$1)/計算!$B$26*Y$2))","v":0},{"$f":"IF($L23<Z$1,0,IF($L23-Z$1>計算!$B$26,Z$2,($L23-Z$1)/計算!$B$26*Z$2))","v":0},{"$f":"IF($L23<AA$1,0,IF($L23-AA$1>計算!$B$26,AA$2,($L23-AA$1)/計算!$B$26*AA$2))","v":0},{"$f":"IF($L23<AB$1,0,IF($L23-AB$1>計算!$B$26,AB$2,($L23-AB$1)/計算!$B$26*AB$2))","v":0},{"$f":"IF($L23<AC$1,0,IF($L23-AC$1>計算!$B$26,AC$2,($L23-AC$1)/計算!$B$26*AC$2))","v":0},{"$f":"IF($L23<AD$1,0,IF($L23-AD$1>計算!$B$26,AD$2,($L23-AD$1)/計算!$B$26*AD$2))","v":0},{"$f":"IF($L23<AE$1,0,IF($L23-AE$1>計算!$B$26,AE$2,($L23-AE$1)/計算!$B$26*AE$2))","v":0},{"$f":"IF($L23<AF$1,0,IF($L23-AF$1>計算!$B$26,AF$2,($L23-AF$1)/計算!$B$26*AF$2))","v":0},{"$f":"IF($L23<AG$1,0,IF($L23-AG$1>計算!$B$26,AG$2,($L23-AG$1)/計算!$B$26*AG$2))","v":0},{"$f":"IF($L23<AH$1,0,IF($L23-AH$1>計算!$B$26,AH$2,($L23-AH$1)/計算!$B$26*AH$2))","v":0},{"$f":"IF($L23<AI$1,0,IF($L23-AI$1>計算!$B$26,AI$2,($L23-AI$1)/計算!$B$26*AI$2))","v":0},{"$f":"IF($L23<AJ$1,0,IF($L23-AJ$1>計算!$B$26,AJ$2,($L23-AJ$1)/計算!$B$26*AJ$2))","v":0},{"$f":"IF($L23<AK$1,0,IF($L23-AK$1>計算!$B$26,AK$2,($L23-AK$1)/計算!$B$26*AK$2))","v":0},{"$f":"IF($L23<AL$1,0,IF($L23-AL$1>計算!$B$26,AL$2,($L23-AL$1)/計算!$B$26*AL$2))","v":0},{"$f":"IF($L23<AM$1,0,IF($L23-AM$1>計算!$B$26,AM$2,($L23-AM$1)/計算!$B$26*AM$2))","v":0},{"$f":"IF($L23<AN$1,0,IF($L23-AN$1>計算!$B$26,AN$2,($L23-AN$1)/計算!$B$26*AN$2))","v":0},{"$f":"IF($L23<AO$1,0,IF($L23-AO$1>計算!$B$26,AO$2,($L23-AO$1)/計算!$B$26*AO$2))","v":0},{"$f":"IF($L23<AP$1,0,IF($L23-AP$1>計算!$B$26,AP$2,($L23-AP$1)/計算!$B$26*AP$2))","v":0},{"$f":"IF($L23<AQ$1,0,IF($L23-AQ$1>計算!$B$26,AQ$2,($L23-AQ$1)/計算!$B$26*AQ$2))","v":0},{"$f":"IF($L23<AR$1,0,IF($L23-AR$1>計算!$B$26,AR$2,($L23-AR$1)/計算!$B$26*AR$2))","v":0},{"$f":"IF($L23<AS$1,0,IF($L23-AS$1>計算!$B$26,AS$2,($L23-AS$1)/計算!$B$26*AS$2))","v":0},{"$f":"IF($L23<AT$1,0,IF($L23-AT$1>計算!$B$26,AT$2,($L23-AT$1)/計算!$B$26*AT$2))","v":0},{"$f":"IF($L23<AU$1,0,IF($L23-AU$1>計算!$B$26,AU$2,($L23-AU$1)/計算!$B$26*AU$2))","v":0},{"$f":"IF($L23<AV$1,0,IF($L23-AV$1>計算!$B$26,AV$2,($L23-AV$1)/計算!$B$26*AV$2))","v":0},3.2706457321712783,null,null,9.9999999999999995E-8,41,{"$f":"IF(準備!T22>=準備!$T$33,準備!$T$33,準備!T22)+AZ23","v":8.6462644306974994},{"$f":"準備!Y22-準備!Y21","v":5.8932004059912835E-3},{"$f":"準備!Z22-準備!Z21","v":-2.1472136360789484E-3},null,19,5.3034802537208323,{"$f":"IF($BG23<BH$1,0,IF($BG23-BH$1>計算!$B$26,BH$2,($BG23-BH$1)/計算!$B$26*BH$2))","v":1.8434248486289773},{"$f":"IF($BG23<BI$1,0,IF($BG23-BI$1>計算!$B$26,BI$2,($BG23-BI$1)/計算!$B$26*BI$2))","v":2.0804359702386828},{"$f":"IF($BG23<BJ$1,0,IF($BG23-BJ$1>計算!$B$26,BJ$2,($BG23-BJ$1)/計算!$B$26*BJ$2))","v":0.43833573789608726},{"$f":"IF($BG23<BK$1,0,IF($BG23-BK$1>計算!$B$26,BK$2,($BG23-BK$1)/計算!$B$26*BK$2))","v":-0.55120106185706153},{"$f":"IF($BG23<BL$1,0,IF($BG23-BL$1>計算!$B$26,BL$2,($BG23-BL$1)/計算!$B$26*BL$2))","v":-0.80365187452039688},{"$f":"IF($BG23<BM$1,0,IF($BG23-BM$1>計算!$B$26,BM$2,($BG23-BM$1)/計算!$B$26*BM$2))","v":0.19584279483276745},{"$f":"IF($BG23<BN$1,0,IF($BG23-BN$1>計算!$B$26,BN$2,($BG23-BN$1)/計算!$B$26*BN$2))","v":0.10422894063720944},{"$f":"IF($BG23<BO$1,0,IF($BG23-BO$1>計算!$B$26,BO$2,($BG23-BO$1)/計算!$B$26*BO$2))","v":-0.41683024541361252},{"$f":"IF($BG23<BP$1,0,IF($BG23-BP$1>計算!$B$26,BP$2,($BG23-BP$1)/計算!$B$26*BP$2))","v":0.14489349492293221},{"$f":"IF($BG23<BQ$1,0,IF($BG23-BQ$1>計算!$B$26,BQ$2,($BG23-BQ$1)/計算!$B$26*BQ$2))","v":0.39496793198339708},{"$f":"IF($BG23<BR$1,0,IF($BG23-BR$1>計算!$B$26,BR$2,($BG23-BR$1)/計算!$B$26*BR$2))","v":-0.16521205070921469},{"$f":"IF($BG23<BS$1,0,IF($BG23-BS$1>計算!$B$26,BS$2,($BG23-BS$1)/計算!$B$26*BS$2))","v":1.3122404373155365E-2},{"$f":"IF($BG23<BT$1,0,IF($BG23-BT$1>計算!$B$26,BT$2,($BG23-BT$1)/計算!$B$26*BT$2))","v":0},{"$f":"IF($BG23<BU$1,0,IF($BG23-BU$1>計算!$B$26,BU$2,($BG23-BU$1)/計算!$B$26*BU$2))","v":0},{"$f":"IF($BG23<BV$1,0,IF($BG23-BV$1>計算!$B$26,BV$2,($BG23-BV$1)/計算!$B$26*BV$2))","v":0},{"$f":"IF($BG23<BW$1,0,IF($BG23-BW$1>計算!$B$26,BW$2,($BG23-BW$1)/計算!$B$26*BW$2))","v":0},{"$f":"IF($BG23<BX$1,0,IF($BG23-BX$1>計算!$B$26,BX$2,($BG23-BX$1)/計算!$B$26*BX$2))","v":0},{"$f":"IF($BG23<BY$1,0,IF($BG23-BY$1>計算!$B$26,BY$2,($BG23-BY$1)/計算!$B$26*BY$2))","v":0},{"$f":"IF($BG23<BZ$1,0,IF($BG23-BZ$1>計算!$B$26,BZ$2,($BG23-BZ$1)/計算!$B$26*BZ$2))","v":0},{"$f":"IF($BG23<CA$1,0,IF($BG23-CA$1>計算!$B$26,CA$2,($BG23-CA$1)/計算!$B$26*CA$2))","v":0},{"$f":"IF($BG23<CB$1,0,IF($BG23-CB$1>計算!$B$26,CB$2,($BG23-CB$1)/計算!$B$26*CB$2))","v":0},{"$f":"IF($BG23<CC$1,0,IF($BG23-CC$1>計算!$B$26,CC$2,($BG23-CC$1)/計算!$B$26*CC$2))","v":0},{"$f":"IF($BG23<CD$1,0,IF($BG23-CD$1>計算!$B$26,CD$2,($BG23-CD$1)/計算!$B$26*CD$2))","v":0},{"$f":"IF($BG23<CE$1,0,IF($BG23-CE$1>計算!$B$26,CE$2,($BG23-CE$1)/計算!$B$26*CE$2))","v":0},{"$f":"IF($BG23<CF$1,0,IF($BG23-CF$1>計算!$B$26,CF$2,($BG23-CF$1)/計算!$B$26*CF$2))","v":0},{"$f":"IF($BG23<CG$1,0,IF($BG23-CG$1>計算!$B$26,CG$2,($BG23-CG$1)/計算!$B$26*CG$2))","v":0},{"$f":"IF($BG23<CH$1,0,IF($BG23-CH$1>計算!$B$26,CH$2,($BG23-CH$1)/計算!$B$26*CH$2))","v":0},{"$f":"IF($BG23<CI$1,0,IF($BG23-CI$1>計算!$B$26,CI$2,($BG23-CI$1)/計算!$B$26*CI$2))","v":0},{"$f":"IF($BG23<CJ$1,0,IF($BG23-CJ$1>計算!$B$26,CJ$2,($BG23-CJ$1)/計算!$B$26*CJ$2))","v":0},{"$f":"IF($BG23<CK$1,0,IF($BG23-CK$1>計算!$B$26,CK$2,($BG23-CK$1)/計算!$B$26*CK$2))","v":0},3.278356891012923,null,null,5.7929971210673239,5.032464100147991E-2,-5.032464100147991E-2]
["tdD(ns/m)",{"$f":"B22/C22","v":6.4046402449611106},null,null,null,38,{"$f":"準備!J23","v":7.8296727969649567},{"$f":"準備!O23-準備!O22","v":-2.8222742299932158E-2},{"$f":"準備!P23-準備!P22","v":-0.27052971675150728},null,21,5.8218180216696487,{"$f":"IF($L24<M$1,0,IF($L24-M$1>計算!$B$26,M$2,($L24-M$1)/計算!$B$26*M$2))","v":1.9890005284157226},{"$f":"IF($L24<N$1,0,IF($L24-N$1>計算!$B$26,N$2,($L24-N$1)/計算!$B$26*N$2))","v":0.32752179487645394},{"$f":"IF($L24<O$1,0,IF($L24-O$1>計算!$B$26,O$2,($L24-O$1)/計算!$B$26*O$2))","v":0.93101299851738872},{"$f":"IF($L24<P$1,0,IF($L24-P$1>計算!$B$26,P$2,($L24-P$1)/計算!$B$26*P$2))","v":0.27879940541488013},{"$f":"IF($L24<Q$1,0,IF($L24-Q$1>計算!$B$26,Q$2,($L24-Q$1)/計算!$B$26*Q$2))","v":7.7879229924124438E-2},{"$f":"IF($L24<R$1,0,IF($L24-R$1>計算!$B$26,R$2,($L24-R$1)/計算!$B$26*R$2))","v":-1.1192377066933545E-2},{"$f":"IF($L24<S$1,0,IF($L24-S$1>計算!$B$26,S$2,($L24-S$1)/計算!$B$26*S$2))","v":-0.23935531082328287},{"$f":"IF($L24<T$1,0,IF($L24-T$1>計算!$B$26,T$2,($L24-T$1)/計算!$B$26*T$2))","v":-0.11033288008978959},{"$f":"IF($L24<U$1,0,IF($L24-U$1>計算!$B$26,U$2,($L24-U$1)/計算!$B$26*U$2))","v":2.6244909978123232E-2},{"$f":"IF($L24<V$1,0,IF($L24-V$1>計算!$B$26,V$2,($L24-V$1)/計算!$B$26*V$2))","v":2.1348660491821267E-3},{"$f":"IF($L24<W$1,0,IF($L24-W$1>計算!$B$26,W$2,($L24-W$1)/計算!$B$26*W$2))","v":-3.3410949056059155E-3},{"$f":"IF($L24<X$1,0,IF($L24-X$1>計算!$B$26,X$2,($L24-X$1)/計算!$B$26*X$2))","v":0},{"$f":"IF($L24<Y$1,0,IF($L24-Y$1>計算!$B$26,Y$2,($L24-Y$1)/計算!$B$26*Y$2))","v":0},{"$f":"IF($L24<Z$1,0,IF($L24-Z$1>計算!$B$26,Z$2,($L24-Z$1)/計算!$B$26*Z$2))","v":0},{"$f":"IF($L24<AA$1,0,IF($L24-AA$1>計算!$B$26,AA$2,($L24-AA$1)/計算!$B$26*AA$2))","v":0},{"$f":"IF($L24<AB$1,0,IF($L24-AB$1>計算!$B$26,AB$2,($L24-AB$1)/計算!$B$26*AB$2))","v":0},{"$f":"IF($L24<AC$1,0,IF($L24-AC$1>計算!$B$26,AC$2,($L24-AC$1)/計算!$B$26*AC$2))","v":0},{"$f":"IF($L24<AD$1,0,IF($L24-AD$1>計算!$B$26,AD$2,($L24-AD$1)/計算!$B$26*AD$2))","v":0},{"$f":"IF($L24<AE$1,0,IF($L24-AE$1>計算!$B$26,AE$2,($L24-AE$1)/計算!$B$26*AE$2))","v":0},{"$f":"IF($L24<AF$1,0,IF($L24-AF$1>計算!$B$26,AF$2,($L24-AF$1)/計算!$B$26*AF$2))","v":0},{"$f":"IF($L24<AG$1,0,IF($L24-AG$1>計算!$B$26,AG$2,($L24-AG$1)/計算!$B$26*AG$2))","v":0},{"$f":"IF($L24<AH$1,0,IF($L24-AH$1>計算!$B$26,AH$2,($L24-AH$1)/計算!$B$26*AH$2))","v":0},{"$f":"IF($L24<AI$1,0,IF($L24-AI$1>計算!$B$26,AI$2,($L24-AI$1)/計算!$B$26*AI$2))","v":0},{"$f":"IF($L24<AJ$1,0,IF($L24-AJ$1>計算!$B$26,AJ$2,($L24-AJ$1)/計算!$B$26*AJ$2))","v":0},{"$f":"IF($L24<AK$1,0,IF($L24-AK$1>計算!$B$26,AK$2,($L24-AK$1)/計算!$B$26*AK$2))","v":0},{"$f":"IF($L24<AL$1,0,IF($L24-AL$1>計算!$B$26,AL$2,($L24-AL$1)/計算!$B$26*AL$2))","v":0},{"$f":"IF($L24<AM$1,0,IF($L24-AM$1>計算!$B$26,AM$2,($L24-AM$1)/計算!$B$26*AM$2))","v":0},{"$f":"IF($L24<AN$1,0,IF($L24-AN$1>計算!$B$26,AN$2,($L24-AN$1)/計算!$B$26*AN$2))","v":0},{"$f":"IF($L24<AO$1,0,IF($L24-AO$1>計算!$B$26,AO$2,($L24-AO$1)/計算!$B$26*AO$2))","v":0},{"$f":"IF($L24<AP$1,0,IF($L24-AP$1>計算!$B$26,AP$2,($L24-AP$1)/計算!$B$26*AP$2))","v":0},{"$f":"IF($L24<AQ$1,0,IF($L24-AQ$1>計算!$B$26,AQ$2,($L24-AQ$1)/計算!$B$26*AQ$2))","v":0},{"$f":"IF($L24<AR$1,0,IF($L24-AR$1>計算!$B$26,AR$2,($L24-AR$1)/計算!$B$26*AR$2))","v":0},{"$f":"IF($L24<AS$1,0,IF($L24-AS$1>計算!$B$26,AS$2,($L24-AS$1)/計算!$B$26*AS$2))","v":0},{"$f":"IF($L24<AT$1,0,IF($L24-AT$1>計算!$B$26,AT$2,($L24-AT$1)/計算!$B$26*AT$2))","v":0},{"$f":"IF($L24<AU$1,0,IF($L24-AU$1>計算!$B$26,AU$2,($L24-AU$1)/計算!$B$26*AU$2))","v":0},{"$f":"IF($L24<AV$1,0,IF($L24-AV$1>計算!$B$26,AV$2,($L24-AV$1)/計算!$B$26*AV$2))","v":0},3.2683720702902632,null,null,1.0999999999999999E-7,42,{"$f":"IF(準備!T23>=準備!$T$33,準備!$T$33,準備!T23)+AZ24","v":8.675085341299825},{"$f":"準備!Y23-準備!Y22","v":-6.020744255616739E-2},{"$f":"準備!Z23-準備!Z22","v":1.6339216546086832E-2},null,20,5.3323011643231579,{"$f":"IF($BG24<BH$1,0,IF($BG24-BH$1>計算!$B$26,BH$2,($BG24-BH$1)/計算!$B$26*BH$2))","v":1.8434248486289773},{"$f":"IF($BG24<BI$1,0,IF($BG24-BI$1>計算!$B$26,BI$2,($BG24-BI$1)/計算!$B$26*BI$2))","v":2.0804359702386828},{"$f":"IF($BG24<BJ$1,0,IF($BG24-BJ$1>計算!$B$26,BJ$2,($BG24-BJ$1)/計算!$B$26*BJ$2))","v":0.43833573789608726},{"$f":"IF($BG24<BK$1,0,IF($BG24-BK$1>計算!$B$26,BK$2,($BG24-BK$1)/計算!$B$26*BK$2))","v":-0.55120106185706153},{"$f":"IF($BG24<BL$1,0,IF($BG24-BL$1>計算!$B$26,BL$2,($BG24-BL$1)/計算!$B$26*BL$2))","v":-0.80365187452039688},{"$f":"IF($BG24<BM$1,0,IF($BG24-BM$1>計算!$B$26,BM$2,($BG24-BM$1)/計算!$B$26*BM$2))","v":0.19584279483276745},{"$f":"IF($BG24<BN$1,0,IF($BG24-BN$1>計算!$B$26,BN$2,($BG24-BN$1)/計算!$B$26*BN$2))","v":0.10422894063720944},{"$f":"IF($BG24<BO$1,0,IF($BG24-BO$1>計算!$B$26,BO$2,($BG24-BO$1)/計算!$B$26*BO$2))","v":-0.4423266906583132},{"$f":"IF($BG24<BP$1,0,IF($BG24-BP$1>計算!$B$26,BP$2,($BG24-BP$1)/計算!$B$26*BP$2))","v":0.15433372190321343},{"$f":"IF($BG24<BQ$1,0,IF($BG24-BQ$1>計算!$B$26,BQ$2,($BG24-BQ$1)/計算!$B$26*BQ$2))","v":0.42249467160603149},{"$f":"IF($BG24<BR$1,0,IF($BG24-BR$1>計算!$B$26,BR$2,($BG24-BR$1)/計算!$B$26*BR$2))","v":-0.17758885842357275},{"$f":"IF($BG24<BS$1,0,IF($BG24-BS$1>計算!$B$26,BS$2,($BG24-BS$1)/計算!$B$26*BS$2))","v":1.4185074657381272E-2},{"$f":"IF($BG24<BT$1,0,IF($BG24-BT$1>計算!$B$26,BT$2,($BG24-BT$1)/計算!$B$26*BT$2))","v":0},{"$f":"IF($BG24<BU$1,0,IF($BG24-BU$1>計算!$B$26,BU$2,($BG24-BU$1)/計算!$B$26*BU$2))","v":0},{"$f":"IF($BG24<BV$1,0,IF($BG24-BV$1>計算!$B$26,BV$2,($BG24-BV$1)/計算!$B$26*BV$2))","v":0},{"$f":"IF($BG24<BW$1,0,IF($BG24-BW$1>計算!$B$26,BW$2,($BG24-BW$1)/計算!$B$26*BW$2))","v":0},{"$f":"IF($BG24<BX$1,0,IF($BG24-BX$1>計算!$B$26,BX$2,($BG24-BX$1)/計算!$B$26*BX$2))","v":0},{"$f":"IF($BG24<BY$1,0,IF($BG24-BY$1>計算!$B$26,BY$2,($BG24-BY$1)/計算!$B$26*BY$2))","v":0},{"$f":"IF($BG24<BZ$1,0,IF($BG24-BZ$1>計算!$B$26,BZ$2,($BG24-BZ$1)/計算!$B$26*BZ$2))","v":0},{"$f":"IF($BG24<CA$1,0,IF($BG24-CA$1>計算!$B$26,CA$2,($BG24-CA$1)/計算!$B$26*CA$2))","v":0},{"$f":"IF($BG24<CB$1,0,IF($BG24-CB$1>計算!$B$26,CB$2,($BG24-CB$1)/計算!$B$26*CB$2))","v":0},{"$f":"IF($BG24<CC$1,0,IF($BG24-CC$1>計算!$B$26,CC$2,($BG24-CC$1)/計算!$B$26*CC$2))","v":0},{"$f":"IF($BG24<CD$1,0,IF($BG24-CD$1>計算!$B$26,CD$2,($BG24-CD$1)/計算!$B$26*CD$2))","v":0},{"$f":"IF($BG24<CE$1,0,IF($BG24-CE$1>計算!$B$26,CE$2,($BG24-CE$1)/計算!$B$26*CE$2))","v":0},{"$f":"IF($BG24<CF$1,0,IF($BG24-CF$1>計算!$B$26,CF$2,($BG24-CF$1)/計算!$B$26*CF$2))","v":0},{"$f":"IF($BG24<CG$1,0,IF($BG24-CG$1>計算!$B$26,CG$2,($BG24-CG$1)/計算!$B$26*CG$2))","v":0},{"$f":"IF($BG24<CH$1,0,IF($BG24-CH$1>計算!$B$26,CH$2,($BG24-CH$1)/計算!$B$26*CH$2))","v":0},{"$f":"IF($BG24<CI$1,0,IF($BG24-CI$1>計算!$B$26,CI$2,($BG24-CI$1)/計算!$B$26*CI$2))","v":0},{"$f":"IF($BG24<CJ$1,0,IF($BG24-CJ$1>計算!$B$26,CJ$2,($BG24-CJ$1)/計算!$B$26*CJ$2))","v":0},{"$f":"IF($BG24<CK$1,0,IF($BG24-CK$1>計算!$B$26,CK$2,($BG24-CK$1)/計算!$B$26*CK$2))","v":0},3.2785132749410058,null,null,5.8218180216696487,6.4202290501040038E-2,-6.4202290501040038E-2]
["l(m)",{"$f":"VLOOKUP(波形!N7,Data!R2:S8,2,0)*0.01","v":0.15},null,null,null,39,{"$f":"準備!J24","v":7.8584936975672814},{"$f":"準備!O24-準備!O23","v":2.4822674948292711E-2},{"$f":"準備!P24-準備!P23","v":9.3538754219008258E-2},null,22,5.8506389222719744,{"$f":"IF($L25<M$1,0,IF($L25-M$1>計算!$B$26,M$2,($L25-M$1)/計算!$B$26*M$2))","v":1.9890005284157226},{"$f":"IF($L25<N$1,0,IF($L25-N$1>計算!$B$26,N$2,($L25-N$1)/計算!$B$26*N$2))","v":0.32752179487645394},{"$f":"IF($L25<O$1,0,IF($L25-O$1>計算!$B$26,O$2,($L25-O$1)/計算!$B$26*O$2))","v":0.93101299851738872},{"$f":"IF($L25<P$1,0,IF($L25-P$1>計算!$B$26,P$2,($L25-P$1)/計算!$B$26*P$2))","v":0.27879940541488013},{"$f":"IF($L25<Q$1,0,IF($L25-Q$1>計算!$B$26,Q$2,($L25-Q$1)/計算!$B$26*Q$2))","v":7.7879229924124438E-2},{"$f":"IF($L25<R$1,0,IF($L25-R$1>計算!$B$26,R$2,($L25-R$1)/計算!$B$26*R$2))","v":-1.1192377066933545E-2},{"$f":"IF($L25<S$1,0,IF($L25-S$1>計算!$B$26,S$2,($L25-S$1)/計算!$B$26*S$2))","v":-0.23935531082328287},{"$f":"IF($L25<T$1,0,IF($L25-T$1>計算!$B$26,T$2,($L25-T$1)/計算!$B$26*T$2))","v":-0.11033288008978959},{"$f":"IF($L25<U$1,0,IF($L25-U$1>計算!$B$26,U$2,($L25-U$1)/計算!$B$26*U$2))","v":2.6244909978123232E-2},{"$f":"IF($L25<V$1,0,IF($L25-V$1>計算!$B$26,V$2,($L25-V$1)/計算!$B$26*V$2))","v":3.2022990737732393E-3},{"$f":"IF($L25<W$1,0,IF($L25-W$1>計算!$B$26,W$2,($L25-W$1)/計算!$B$26*W$2))","v":-6.6821898112119343E-3},{"$f":"IF($L25<X$1,0,IF($L25-X$1>計算!$B$26,X$2,($L25-X$1)/計算!$B$26*X$2))","v":-3.1967275006706051E-3},{"$f":"IF($L25<Y$1,0,IF($L25-Y$1>計算!$B$26,Y$2,($L25-Y$1)/計算!$B$26*Y$2))","v":0},{"$f":"IF($L25<Z$1,0,IF($L25-Z$1>計算!$B$26,Z$2,($L25-Z$1)/計算!$B$26*Z$2))","v":0},{"$f":"IF($L25<AA$1,0,IF($L25-AA$1>計算!$B$26,AA$2,($L25-AA$1)/計算!$B$26*AA$2))","v":0},{"$f":"IF($L25<AB$1,0,IF($L25-AB$1>計算!$B$26,AB$2,($L25-AB$1)/計算!$B$26*AB$2))","v":0},{"$f":"IF($L25<AC$1,0,IF($L25-AC$1>計算!$B$26,AC$2,($L25-AC$1)/計算!$B$26*AC$2))","v":0},{"$f":"IF($L25<AD$1,0,IF($L25-AD$1>計算!$B$26,AD$2,($L25-AD$1)/計算!$B$26*AD$2))","v":0},{"$f":"IF($L25<AE$1,0,IF($L25-AE$1>計算!$B$26,AE$2,($L25-AE$1)/計算!$B$26*AE$2))","v":0},{"$f":"IF($L25<AF$1,0,IF($L25-AF$1>計算!$B$26,AF$2,($L25-AF$1)/計算!$B$26*AF$2))","v":0},{"$f":"IF($L25<AG$1,0,IF($L25-AG$1>計算!$B$26,AG$2,($L25-AG$1)/計算!$B$26*AG$2))","v":0},{"$f":"IF($L25<AH$1,0,IF($L25-AH$1>計算!$B$26,AH$2,($L25-AH$1)/計算!$B$26*AH$2))","v":0},{"$f":"IF($L25<AI$1,0,IF($L25-AI$1>計算!$B$26,AI$2,($L25-AI$1)/計算!$B$26*AI$2))","v":0},{"$f":"IF($L25<AJ$1,0,IF($L25-AJ$1>計算!$B$26,AJ$2,($L25-AJ$1)/計算!$B$26*AJ$2))","v":0},{"$f":"IF($L25<AK$1,0,IF($L25-AK$1>計算!$B$26,AK$2,($L25-AK$1)/計算!$B$26*AK$2))","v":0},{"$f":"IF($L25<AL$1,0,IF($L25-AL$1>計算!$B$26,AL$2,($L25-AL$1)/計算!$B$26*AL$2))","v":0},{"$f":"IF($L25<AM$1,0,IF($L25-AM$1>計算!$B$26,AM$2,($L25-AM$1)/計算!$B$26*AM$2))","v":0},{"$f":"IF($L25<AN$1,0,IF($L25-AN$1>計算!$B$26,AN$2,($L25-AN$1)/計算!$B$26*AN$2))","v":0},{"$f":"IF($L25<AO$1,0,IF($L25-AO$1>計算!$B$26,AO$2,($L25-AO$1)/計算!$B$26*AO$2))","v":0},{"$f":"IF($L25<AP$1,0,IF($L25-AP$1>計算!$B$26,AP$2,($L25-AP$1)/計算!$B$26*AP$2))","v":0},{"$f":"IF($L25<AQ$1,0,IF($L25-AQ$1>計算!$B$26,AQ$2,($L25-AQ$1)/計算!$B$26*AQ$2))","v":0},{"$f":"IF($L25<AR$1,0,IF($L25-AR$1>計算!$B$26,AR$2,($L25-AR$1)/計算!$B$26*AR$2))","v":0},{"$f":"IF($L25<AS$1,0,IF($L25-AS$1>計算!$B$26,AS$2,($L25-AS$1)/計算!$B$26*AS$2))","v":0},{"$f":"IF($L25<AT$1,0,IF($L25-AT$1>計算!$B$26,AT$2,($L25-AT$1)/計算!$B$26*AT$2))","v":0},{"$f":"IF($L25<AU$1,0,IF($L25-AU$1>計算!$B$26,AU$2,($L25-AU$1)/計算!$B$26*AU$2))","v":0},{"$f":"IF($L25<AV$1,0,IF($L25-AV$1>計算!$B$26,AV$2,($L25-AV$1)/計算!$B$26*AV$2))","v":0},3.2629016809085778,null,null,1.1999999999999999E-7,43,{"$f":"IF(準備!T24>=準備!$T$33,準備!$T$33,準備!T24)+AZ25","v":8.7039062519021488},{"$f":"準備!Y24-準備!Y23","v":0.20705701786707298},{"$f":"準備!Z24-準備!Z23","v":-2.972720190274114E-2},null,21,5.3611220749254827,{"$f":"IF($BG25<BH$1,0,IF($BG25-BH$1>計算!$B$26,BH$2,($BG25-BH$1)/計算!$B$26*BH$2))","v":1.8434248486289773},{"$f":"IF($BG25<BI$1,0,IF($BG25-BI$1>計算!$B$26,BI$2,($BG25-BI$1)/計算!$B$26*BI$2))","v":2.0804359702386828},{"$f":"IF($BG25<BJ$1,0,IF($BG25-BJ$1>計算!$B$26,BJ$2,($BG25-BJ$1)/計算!$B$26*BJ$2))","v":0.43833573789608726},{"$f":"IF($BG25<BK$1,0,IF($BG25-BK$1>計算!$B$26,BK$2,($BG25-BK$1)/計算!$B$26*BK$2))","v":-0.55120106185706153},{"$f":"IF($BG25<BL$1,0,IF($BG25-BL$1>計算!$B$26,BL$2,($BG25-BL$1)/計算!$B$26*BL$2))","v":-0.80365187452039688},{"$f":"IF($BG25<BM$1,0,IF($BG25-BM$1>計算!$B$26,BM$2,($BG25-BM$1)/計算!$B$26*BM$2))","v":0.19584279483276745},{"$f":"IF($BG25<BN$1,0,IF($BG25-BN$1>計算!$B$26,BN$2,($BG25-BN$1)/計算!$B$26*BN$2))","v":0.10422894063720944},{"$f":"IF($BG25<BO$1,0,IF($BG25-BO$1>計算!$B$26,BO$2,($BG25-BO$1)/計算!$B$26*BO$2))","v":-0.4423266906583132},{"$f":"IF($BG25<BP$1,0,IF($BG25-BP$1>計算!$B$26,BP$2,($BG25-BP$1)/計算!$B$26*BP$2))","v":0.16377391940418873},{"$f":"IF($BG25<BQ$1,0,IF($BG25-BQ$1>計算!$B$26,BQ$2,($BG25-BQ$1)/計算!$B$26*BQ$2))","v":0.45002141122866507},{"$f":"IF($BG25<BR$1,0,IF($BG25-BR$1>計算!$B$26,BR$2,($BG25-BR$1)/計算!$B$26*BR$2))","v":-0.18996566613793042},{"$f":"IF($BG25<BS$1,0,IF($BG25-BS$1>計算!$B$26,BS$2,($BG25-BS$1)/計算!$B$26*BS$2))","v":1.5247744941607147E-2},{"$f":"IF($BG25<BT$1,0,IF($BG25-BT$1>計算!$B$26,BT$2,($BG25-BT$1)/計算!$B$26*BT$2))","v":0},{"$f":"IF($BG25<BU$1,0,IF($BG25-BU$1>計算!$B$26,BU$2,($BG25-BU$1)/計算!$B$26*BU$2))","v":0},{"$f":"IF($BG25<BV$1,0,IF($BG25-BV$1>計算!$B$26,BV$2,($BG25-BV$1)/計算!$B$26*BV$2))","v":0},{"$f":"IF($BG25<BW$1,0,IF($BG25-BW$1>計算!$B$26,BW$2,($BG25-BW$1)/計算!$B$26*BW$2))","v":0},{"$f":"IF($BG25<BX$1,0,IF($BG25-BX$1>計算!$B$26,BX$2,($BG25-BX$1)/計算!$B$26*BX$2))","v":0},{"$f":"IF($BG25<BY$1,0,IF($BG25-BY$1>計算!$B$26,BY$2,($BG25-BY$1)/計算!$B$26*BY$2))","v":0},{"$f":"IF($BG25<BZ$1,0,IF($BG25-BZ$1>計算!$B$26,BZ$2,($BG25-BZ$1)/計算!$B$26*BZ$2))","v":0},{"$f":"IF($BG25<CA$1,0,IF($BG25-CA$1>計算!$B$26,CA$2,($BG25-CA$1)/計算!$B$26*CA$2))","v":0},{"$f":"IF($BG25<CB$1,0,IF($BG25-CB$1>計算!$B$26,CB$2,($BG25-CB$1)/計算!$B$26*CB$2))","v":0},{"$f":"IF($BG25<CC$1,0,IF($BG25-CC$1>計算!$B$26,CC$2,($BG25-CC$1)/計算!$B$26*CC$2))","v":0},{"$f":"IF($BG25<CD$1,0,IF($BG25-CD$1>計算!$B$26,CD$2,($BG25-CD$1)/計算!$B$26*CD$2))","v":0},{"$f":"IF($BG25<CE$1,0,IF($BG25-CE$1>計算!$B$26,CE$2,($BG25-CE$1)/計算!$B$26*CE$2))","v":0},{"$f":"IF($BG25<CF$1,0,IF($BG25-CF$1>計算!$B$26,CF$2,($BG25-CF$1)/計算!$B$26*CF$2))","v":0},{"$f":"IF($BG25<CG$1,0,IF($BG25-CG$1>計算!$B$26,CG$2,($BG25-CG$1)/計算!$B$26*CG$2))","v":0},{"$f":"IF($BG25<CH$1,0,IF($BG25-CH$1>計算!$B$26,CH$2,($BG25-CH$1)/計算!$B$26*CH$2))","v":0},{"$f":"IF($BG25<CI$1,0,IF($BG25-CI$1>計算!$B$26,CI$2,($BG25-CI$1)/計算!$B$26*CI$2))","v":0},{"$f":"IF($BG25<CJ$1,0,IF($BG25-CJ$1>計算!$B$26,CJ$2,($BG25-CJ$1)/計算!$B$26*CJ$2))","v":0},{"$f":"IF($BG25<CK$1,0,IF($BG25-CK$1>計算!$B$26,CK$2,($BG25-CK$1)/計算!$B$26*CK$2))","v":0},3.3041660746344825,null,null,5.8506389222719744,5.8691717598896395E-2,-5.8691717598896395E-2]
["tr(ns)",{"$f":"VLOOKUP(波形!H3,Data!O2:P7,2,1)","v":0.5},null,null,null,40,{"$f":"準備!J25","v":7.8873145981696053},{"$f":"準備!O25-準備!O24","v":-4.4864040640582026E-3},{"$f":"準備!P25-準備!P24","v":-1.2226398010253603E-2},null,23,5.8794598228742982,{"$f":"IF($L26<M$1,0,IF($L26-M$1>計算!$B$26,M$2,($L26-M$1)/計算!$B$26*M$2))","v":1.9890005284157226},{"$f":"IF($L26<N$1,0,IF($L26-N$1>計算!$B$26,N$2,($L26-N$1)/計算!$B$26*N$2))","v":0.32752179487645394},{"$f":"IF($L26<O$1,0,IF($L26-O$1>計算!$B$26,O$2,($L26-O$1)/計算!$B$26*O$2))","v":0.93101299851738872},{"$f":"IF($L26<P$1,0,IF($L26-P$1>計算!$B$26,P$2,($L26-P$1)/計算!$B$26*P$2))","v":0.27879940541488013},{"$f":"IF($L26<Q$1,0,IF($L26-Q$1>計算!$B$26,Q$2,($L26-Q$1)/計算!$B$26*Q$2))","v":7.7879229924124438E-2},{"$f":"IF($L26<R$1,0,IF($L26-R$1>計算!$B$26,R$2,($L26-R$1)/計算!$B$26*R$2))","v":-1.1192377066933545E-2},{"$f":"IF($L26<S$1,0,IF($L26-S$1>計算!$B$26,S$2,($L26-S$1)/計算!$B$26*S$2))","v":-0.23935531082328287},{"$f":"IF($L26<T$1,0,IF($L26-T$1>計算!$B$26,T$2,($L26-T$1)/計算!$B$26*T$2))","v":-0.11033288008978959},{"$f":"IF($L26<U$1,0,IF($L26-U$1>計算!$B$26,U$2,($L26-U$1)/計算!$B$26*U$2))","v":2.6244909978123232E-2},{"$f":"IF($L26<V$1,0,IF($L26-V$1>計算!$B$26,V$2,($L26-V$1)/計算!$B$26*V$2))","v":4.2697320983642864E-3},{"$f":"IF($L26<W$1,0,IF($L26-W$1>計算!$B$26,W$2,($L26-W$1)/計算!$B$26*W$2))","v":-1.0023284716817748E-2},{"$f":"IF($L26<X$1,0,IF($L26-X$1>計算!$B$26,X$2,($L26-X$1)/計算!$B$26*X$2))","v":-6.3934550013410134E-3},{"$f":"IF($L26<Y$1,0,IF($L26-Y$1>計算!$B$26,Y$2,($L26-Y$1)/計算!$B$26*Y$2))","v":5.9592399705630239E-3},{"$f":"IF($L26<Z$1,0,IF($L26-Z$1>計算!$B$26,Z$2,($L26-Z$1)/計算!$B$26*Z$2))","v":0},{"$f":"IF($L26<AA$1,0,IF($L26-AA$1>計算!$B$26,AA$2,($L26-AA$1)/計算!$B$26*AA$2))","v":0},{"$f":"IF($L26<AB$1,0,IF($L26-AB$1>計算!$B$26,AB$2,($L26-AB$1)/計算!$B$26*AB$2))","v":0},{"$f":"IF($L26<AC$1,0,IF($L26-AC$1>計算!$B$26,AC$2,($L26-AC$1)/計算!$B$26*AC$2))","v":0},{"$f":"IF($L26<AD$1,0,IF($L26-AD$1>計算!$B$26,AD$2,($L26-AD$1)/計算!$B$26*AD$2))","v":0},{"$f":"IF($L26<AE$1,0,IF($L26-AE$1>計算!$B$26,AE$2,($L26-AE$1)/計算!$B$26*AE$2))","v":0},{"$f":"IF($L26<AF$1,0,IF($L26-AF$1>計算!$B$26,AF$2,($L26-AF$1)/計算!$B$26*AF$2))","v":0},{"$f":"IF($L26<AG$1,0,IF($L26-AG$1>計算!$B$26,AG$2,($L26-AG$1)/計算!$B$26*AG$2))","v":0},{"$f":"IF($L26<AH$1,0,IF($L26-AH$1>計算!$B$26,AH$2,($L26-AH$1)/計算!$B$26*AH$2))","v":0},{"$f":"IF($L26<AI$1,0,IF($L26-AI$1>計算!$B$26,AI$2,($L26-AI$1)/計算!$B$26*AI$2))","v":0},{"$f":"IF($L26<AJ$1,0,IF($L26-AJ$1>計算!$B$26,AJ$2,($L26-AJ$1)/計算!$B$26*AJ$2))","v":0},{"$f":"IF($L26<AK$1,0,IF($L26-AK$1>計算!$B$26,AK$2,($L26-AK$1)/計算!$B$26*AK$2))","v":0},{"$f":"IF($L26<AL$1,0,IF($L26-AL$1>計算!$B$26,AL$2,($L26-AL$1)/計算!$B$26*AL$2))","v":0},{"$f":"IF($L26<AM$1,0,IF($L26-AM$1>計算!$B$26,AM$2,($L26-AM$1)/計算!$B$26*AM$2))","v":0},{"$f":"IF($L26<AN$1,0,IF($L26-AN$1>計算!$B$26,AN$2,($L26-AN$1)/計算!$B$26*AN$2))","v":0},{"$f":"IF($L26<AO$1,0,IF($L26-AO$1>計算!$B$26,AO$2,($L26-AO$1)/計算!$B$26*AO$2))","v":0},{"$f":"IF($L26<AP$1,0,IF($L26-AP$1>計算!$B$26,AP$2,($L26-AP$1)/計算!$B$26*AP$2))","v":0},{"$f":"IF($L26<AQ$1,0,IF($L26-AQ$1>計算!$B$26,AQ$2,($L26-AQ$1)/計算!$B$26*AQ$2))","v":0},{"$f":"IF($L26<AR$1,0,IF($L26-AR$1>計算!$B$26,AR$2,($L26-AR$1)/計算!$B$26*AR$2))","v":0},{"$f":"IF($L26<AS$1,0,IF($L26-AS$1>計算!$B$26,AS$2,($L26-AS$1)/計算!$B$26*AS$2))","v":0},{"$f":"IF($L26<AT$1,0,IF($L26-AT$1>計算!$B$26,AT$2,($L26-AT$1)/計算!$B$26*AT$2))","v":0},{"$f":"IF($L26<AU$1,0,IF($L26-AU$1>計算!$B$26,AU$2,($L26-AU$1)/計算!$B$26*AU$2))","v":0},{"$f":"IF($L26<AV$1,0,IF($L26-AV$1>計算!$B$26,AV$2,($L26-AV$1)/計算!$B$26*AV$2))","v":0},3.2633905314974561,null,null,1.3E-7,44,{"$f":"IF(準備!T25>=準備!$T$33,準備!$T$33,準備!T25)+AZ26","v":8.7327271625044744},{"$f":"準備!Y25-準備!Y24","v":-0.24774266249290511},{"$f":"準備!Z25-準備!Z24","v":-1.9930348423327637E-2},null,22,5.3899429855278074,{"$f":"IF($BG26<BH$1,0,IF($BG26-BH$1>計算!$B$26,BH$2,($BG26-BH$1)/計算!$B$26*BH$2))","v":1.8434248486289773},{"$f":"IF($BG26<BI$1,0,IF($BG26-BI$1>計算!$B$26,BI$2,($BG26-BI$1)/計算!$B$26*BI$2))","v":2.0804359702386828},{"$f":"IF($BG26<BJ$1,0,IF($BG26-BJ$1>計算!$B$26,BJ$2,($BG26-BJ$1)/計算!$B$26*BJ$2))","v":0.43833573789608726},{"$f":"IF($BG26<BK$1,0,IF($BG26-BK$1>計算!$B$26,BK$2,($BG26-BK$1)/計算!$B$26*BK$2))","v":-0.55120106185706153},{"$f":"IF($BG26<BL$1,0,IF($BG26-BL$1>計算!$B$26,BL$2,($BG26-BL$1)/計算!$B$26*BL$2))","v":-0.80365187452039688},{"$f":"IF($BG26<BM$1,0,IF($BG26-BM$1>計算!$B$26,BM$2,($BG26-BM$1)/計算!$B$26*BM$2))","v":0.19584279483276745},{"$f":"IF($BG26<BN$1,0,IF($BG26-BN$1>計算!$B$26,BN$2,($BG26-BN$1)/計算!$B$26*BN$2))","v":0.10422894063720944},{"$f":"IF($BG26<BO$1,0,IF($BG26-BO$1>計算!$B$26,BO$2,($BG26-BO$1)/計算!$B$26*BO$2))","v":-0.4423266906583132},{"$f":"IF($BG26<BP$1,0,IF($BG26-BP$1>計算!$B$26,BP$2,($BG26-BP$1)/計算!$B$26*BP$2))","v":0.16377391940418873},{"$f":"IF($BG26<BQ$1,0,IF($BG26-BQ$1>計算!$B$26,BQ$2,($BG26-BQ$1)/計算!$B$26*BQ$2))","v":0.47754805534168732},{"$f":"IF($BG26<BR$1,0,IF($BG26-BR$1>計算!$B$26,BR$2,($BG26-BR$1)/計算!$B$26*BR$2))","v":-0.2023424738522881},{"$f":"IF($BG26<BS$1,0,IF($BG26-BS$1>計算!$B$26,BS$2,($BG26-BS$1)/計算!$B$26*BS$2))","v":1.6310415225833021E-2},{"$f":"IF($BG26<BT$1,0,IF($BG26-BT$1>計算!$B$26,BT$2,($BG26-BT$1)/計算!$B$26*BT$2))","v":0},{"$f":"IF($BG26<BU$1,0,IF($BG26-BU$1>計算!$B$26,BU$2,($BG26-BU$1)/計算!$B$26*BU$2))","v":0},{"$f":"IF($BG26<BV$1,0,IF($BG26-BV$1>計算!$B$26,BV$2,($BG26-BV$1)/計算!$B$26*BV$2))","v":0},{"$f":"IF($BG26<BW$1,0,IF($BG26-BW$1>計算!$B$26,BW$2,($BG26-BW$1)/計算!$B$26*BW$2))","v":0},{"$f":"IF($BG26<BX$1,0,IF($BG26-BX$1>計算!$B$26,BX$2,($BG26-BX$1)/計算!$B$26*BX$2))","v":0},{"$f":"IF($BG26<BY$1,0,IF($BG26-BY$1>計算!$B$26,BY$2,($BG26-BY$1)/計算!$B$26*BY$2))","v":0},{"$f":"IF($BG26<BZ$1,0,IF($BG26-BZ$1>計算!$B$26,BZ$2,($BG26-BZ$1)/計算!$B$26*BZ$2))","v":0},{"$f":"IF($BG26<CA$1,0,IF($BG26-CA$1>計算!$B$26,CA$2,($BG26-CA$1)/計算!$B$26*CA$2))","v":0},{"$f":"IF($BG26<CB$1,0,IF($BG26-CB$1>計算!$B$26,CB$2,($BG26-CB$1)/計算!$B$26*CB$2))","v":0},{"$f":"IF($BG26<CC$1,0,IF($BG26-CC$1>計算!$B$26,CC$2,($BG26-CC$1)/計算!$B$26*CC$2))","v":0},{"$f":"IF($BG26<CD$1,0,IF($BG26-CD$1>計算!$B$26,CD$2,($BG26-CD$1)/計算!$B$26*CD$2))","v":0},{"$f":"IF($BG26<CE$1,0,IF($BG26-CE$1>計算!$B$26,CE$2,($BG26-CE$1)/計算!$B$26*CE$2))","v":0},{"$f":"IF($BG26<CF$1,0,IF($BG26-CF$1>計算!$B$26,CF$2,($BG26-CF$1)/計算!$B$26*CF$2))","v":0},{"$f":"IF($BG26<CG$1,0,IF($BG26-CG$1>計算!$B$26,CG$2,($BG26-CG$1)/計算!$B$26*CG$2))","v":0},{"$f":"IF($BG26<CH$1,0,IF($BG26-CH$1>計算!$B$26,CH$2,($BG26-CH$1)/計算!$B$26*CH$2))","v":0},{"$f":"IF($BG26<CI$1,0,IF($BG26-CI$1>計算!$B$26,CI$2,($BG26-CI$1)/計算!$B$26*CI$2))","v":0},{"$f":"IF($BG26<CJ$1,0,IF($BG26-CJ$1>計算!$B$26,CJ$2,($BG26-CJ$1)/計算!$B$26*CJ$2))","v":0},{"$f":"IF($BG26<CK$1,0,IF($BG26-CK$1>計算!$B$26,CK$2,($BG26-CK$1)/計算!$B$26*CK$2))","v":0},3.3203785813173736,null,null,5.8794598228742982,3.9501371065263906E-2,-3.9501371065263906E-2]
[null,null,null,null,null,41,{"$f":"準備!J26","v":7.9161354987719301},{"$f":"準備!O26-準備!O25","v":2.3256886633271634E-4},{"$f":"準備!P26-準備!P25","v":5.3246456205668924E-4},null,24,5.908280723476623,{"$f":"IF($L27<M$1,0,IF($L27-M$1>計算!$B$26,M$2,($L27-M$1)/計算!$B$26*M$2))","v":1.9890005284157226},{"$f":"IF($L27<N$1,0,IF($L27-N$1>計算!$B$26,N$2,($L27-N$1)/計算!$B$26*N$2))","v":0.32752179487645394},{"$f":"IF($L27<O$1,0,IF($L27-O$1>計算!$B$26,O$2,($L27-O$1)/計算!$B$26*O$2))","v":0.93101299851738872},{"$f":"IF($L27<P$1,0,IF($L27-P$1>計算!$B$26,P$2,($L27-P$1)/計算!$B$26*P$2))","v":0.27879940541488013},{"$f":"IF($L27<Q$1,0,IF($L27-Q$1>計算!$B$26,Q$2,($L27-Q$1)/計算!$B$26*Q$2))","v":7.7879229924124438E-2},{"$f":"IF($L27<R$1,0,IF($L27-R$1>計算!$B$26,R$2,($L27-R$1)/計算!$B$26*R$2))","v":-1.1192377066933545E-2},{"$f":"IF($L27<S$1,0,IF($L27-S$1>計算!$B$26,S$2,($L27-S$1)/計算!$B$26*S$2))","v":-0.23935531082328287},{"$f":"IF($L27<T$1,0,IF($L27-T$1>計算!$B$26,T$2,($L27-T$1)/計算!$B$26*T$2))","v":-0.11033288008978959},{"$f":"IF($L27<U$1,0,IF($L27-U$1>計算!$B$26,U$2,($L27-U$1)/計算!$B$26*U$2))","v":2.6244909978123232E-2},{"$f":"IF($L27<V$1,0,IF($L27-V$1>計算!$B$26,V$2,($L27-V$1)/計算!$B$26*V$2))","v":5.337165122955366E-3},{"$f":"IF($L27<W$1,0,IF($L27-W$1>計算!$B$26,W$2,($L27-W$1)/計算!$B$26*W$2))","v":-1.3364379622423662E-2},{"$f":"IF($L27<X$1,0,IF($L27-X$1>計算!$B$26,X$2,($L27-X$1)/計算!$B$26*X$2))","v":-9.5901825020115201E-3},{"$f":"IF($L27<Y$1,0,IF($L27-Y$1>計算!$B$26,Y$2,($L27-Y$1)/計算!$B$26*Y$2))","v":1.1918479941126232E-2},{"$f":"IF($L27<Z$1,0,IF($L27-Z$1>計算!$B$26,Z$2,($L27-Z$1)/計算!$B$26*Z$2))","v":2.898765444549796E-3},{"$f":"IF($L27<AA$1,0,IF($L27-AA$1>計算!$B$26,AA$2,($L27-AA$1)/計算!$B$26*AA$2))","v":0},{"$f":"IF($L27<AB$1,0,IF($L27-AB$1>計算!$B$26,AB$2,($L27-AB$1)/計算!$B$26*AB$2))","v":0},{"$f":"IF($L27<AC$1,0,IF($L27-AC$1>計算!$B$26,AC$2,($L27-AC$1)/計算!$B$26*AC$2))","v":0},{"$f":"IF($L27<AD$1,0,IF($L27-AD$1>計算!$B$26,AD$2,($L27-AD$1)/計算!$B$26*AD$2))","v":0},{"$f":"IF($L27<AE$1,0,IF($L27-AE$1>計算!$B$26,AE$2,($L27-AE$1)/計算!$B$26*AE$2))","v":0},{"$f":"IF($L27<AF$1,0,IF($L27-AF$1>計算!$B$26,AF$2,($L27-AF$1)/計算!$B$26*AF$2))","v":0},{"$f":"IF($L27<AG$1,0,IF($L27-AG$1>計算!$B$26,AG$2,($L27-AG$1)/計算!$B$26*AG$2))","v":0},{"$f":"IF($L27<AH$1,0,IF($L27-AH$1>計算!$B$26,AH$2,($L27-AH$1)/計算!$B$26*AH$2))","v":0},{"$f":"IF($L27<AI$1,0,IF($L27-AI$1>計算!$B$26,AI$2,($L27-AI$1)/計算!$B$26*AI$2))","v":0},{"$f":"IF($L27<AJ$1,0,IF($L27-AJ$1>計算!$B$26,AJ$2,($L27-AJ$1)/計算!$B$26*AJ$2))","v":0},{"$f":"IF($L27<AK$1,0,IF($L27-AK$1>計算!$B$26,AK$2,($L27-AK$1)/計算!$B$26*AK$2))","v":0},{"$f":"IF($L27<AL$1,0,IF($L27-AL$1>計算!$B$26,AL$2,($L27-AL$1)/計算!$B$26*AL$2))","v":0},{"$f":"IF($L27<AM$1,0,IF($L27-AM$1>計算!$B$26,AM$2,($L27-AM$1)/計算!$B$26*AM$2))","v":0},{"$f":"IF($L27<AN$1,0,IF($L27-AN$1>計算!$B$26,AN$2,($L27-AN$1)/計算!$B$26*AN$2))","v":0},{"$f":"IF($L27<AO$1,0,IF($L27-AO$1>計算!$B$26,AO$2,($L27-AO$1)/計算!$B$26*AO$2))","v":0},{"$f":"IF($L27<AP$1,0,IF($L27-AP$1>計算!$B$26,AP$2,($L27-AP$1)/計算!$B$26*AP$2))","v":0},{"$f":"IF($L27<AQ$1,0,IF($L27-AQ$1>計算!$B$26,AQ$2,($L27-AQ$1)/計算!$B$26*AQ$2))","v":0},{"$f":"IF($L27<AR$1,0,IF($L27-AR$1>計算!$B$26,AR$2,($L27-AR$1)/計算!$B$26*AR$2))","v":0},{"$f":"IF($L27<AS$1,0,IF($L27-AS$1>計算!$B$26,AS$2,($L27-AS$1)/計算!$B$26*AS$2))","v":0},{"$f":"IF($L27<AT$1,0,IF($L27-AT$1>計算!$B$26,AT$2,($L27-AT$1)/計算!$B$26*AT$2))","v":0},{"$f":"IF($L27<AU$1,0,IF($L27-AU$1>計算!$B$26,AU$2,($L27-AU$1)/計算!$B$26*AU$2))","v":0},{"$f":"IF($L27<AV$1,0,IF($L27-AV$1>計算!$B$26,AV$2,($L27-AV$1)/計算!$B$26*AV$2))","v":0},3.2667781475308826,null,null,1.4000000000000001E-7,45,{"$f":"IF(準備!T26>=準備!$T$33,準備!$T$33,準備!T26)+AZ27","v":8.7615480731067965},{"$f":"準備!Y26-準備!Y25","v":-4.0543650760017869E-2},{"$f":"準備!Z26-準備!Z25","v":6.6184619293727209E-2},null,23,5.4187638961301321,{"$f":"IF($BG27<BH$1,0,IF($BG27-BH$1>計算!$B$26,BH$2,($BG27-BH$1)/計算!$B$26*BH$2))","v":1.8434248486289773},{"$f":"IF($BG27<BI$1,0,IF($BG27-BI$1>計算!$B$26,BI$2,($BG27-BI$1)/計算!$B$26*BI$2))","v":2.0804359702386828},{"$f":"IF($BG27<BJ$1,0,IF($BG27-BJ$1>計算!$B$26,BJ$2,($BG27-BJ$1)/計算!$B$26*BJ$2))","v":0.43833573789608726},{"$f":"IF($BG27<BK$1,0,IF($BG27-BK$1>計算!$B$26,BK$2,($BG27-BK$1)/計算!$B$26*BK$2))","v":-0.55120106185706153},{"$f":"IF($BG27<BL$1,0,IF($BG27-BL$1>計算!$B$26,BL$2,($BG27-BL$1)/計算!$B$26*BL$2))","v":-0.80365187452039688},{"$f":"IF($BG27<BM$1,0,IF($BG27-BM$1>計算!$B$26,BM$2,($BG27-BM$1)/計算!$B$26*BM$2))","v":0.19584279483276745},{"$f":"IF($BG27<BN$1,0,IF($BG27-BN$1>計算!$B$26,BN$2,($BG27-BN$1)/計算!$B$26*BN$2))","v":0.10422894063720944},{"$f":"IF($BG27<BO$1,0,IF($BG27-BO$1>計算!$B$26,BO$2,($BG27-BO$1)/計算!$B$26*BO$2))","v":-0.4423266906583132},{"$f":"IF($BG27<BP$1,0,IF($BG27-BP$1>計算!$B$26,BP$2,($BG27-BP$1)/計算!$B$26*BP$2))","v":0.16377391940418873},{"$f":"IF($BG27<BQ$1,0,IF($BG27-BQ$1>計算!$B$26,BQ$2,($BG27-BQ$1)/計算!$B$26*BQ$2))","v":0.47754805534168732},{"$f":"IF($BG27<BR$1,0,IF($BG27-BR$1>計算!$B$26,BR$2,($BG27-BR$1)/計算!$B$26*BR$2))","v":-0.21471923432841411},{"$f":"IF($BG27<BS$1,0,IF($BG27-BS$1>計算!$B$26,BS$2,($BG27-BS$1)/計算!$B$26*BS$2))","v":1.7373085510058894E-2},{"$f":"IF($BG27<BT$1,0,IF($BG27-BT$1>計算!$B$26,BT$2,($BG27-BT$1)/計算!$B$26*BT$2))","v":0},{"$f":"IF($BG27<BU$1,0,IF($BG27-BU$1>計算!$B$26,BU$2,($BG27-BU$1)/計算!$B$26*BU$2))","v":0},{"$f":"IF($BG27<BV$1,0,IF($BG27-BV$1>計算!$B$26,BV$2,($BG27-BV$1)/計算!$B$26*BV$2))","v":0},{"$f":"IF($BG27<BW$1,0,IF($BG27-BW$1>計算!$B$26,BW$2,($BG27-BW$1)/計算!$B$26*BW$2))","v":0},{"$f":"IF($BG27<BX$1,0,IF($BG27-BX$1>計算!$B$26,BX$2,($BG27-BX$1)/計算!$B$26*BX$2))","v":0},{"$f":"IF($BG27<BY$1,0,IF($BG27-BY$1>計算!$B$26,BY$2,($BG27-BY$1)/計算!$B$26*BY$2))","v":0},{"$f":"IF($BG27<BZ$1,0,IF($BG27-BZ$1>計算!$B$26,BZ$2,($BG27-BZ$1)/計算!$B$26*BZ$2))","v":0},{"$f":"IF($BG27<CA$1,0,IF($BG27-CA$1>計算!$B$26,CA$2,($BG27-CA$1)/計算!$B$26*CA$2))","v":0},{"$f":"IF($BG27<CB$1,0,IF($BG27-CB$1>計算!$B$26,CB$2,($BG27-CB$1)/計算!$B$26*CB$2))","v":0},{"$f":"IF($BG27<CC$1,0,IF($BG27-CC$1>計算!$B$26,CC$2,($BG27-CC$1)/計算!$B$26*CC$2))","v":0},{"$f":"IF($BG27<CD$1,0,IF($BG27-CD$1>計算!$B$26,CD$2,($BG27-CD$1)/計算!$B$26*CD$2))","v":0},{"$f":"IF($BG27<CE$1,0,IF($BG27-CE$1>計算!$B$26,CE$2,($BG27-CE$1)/計算!$B$26*CE$2))","v":0},{"$f":"IF($BG27<CF$1,0,IF($BG27-CF$1>計算!$B$26,CF$2,($BG27-CF$1)/計算!$B$26*CF$2))","v":0},{"$f":"IF($BG27<CG$1,0,IF($BG27-CG$1>計算!$B$26,CG$2,($BG27-CG$1)/計算!$B$26*CG$2))","v":0},{"$f":"IF($BG27<CH$1,0,IF($BG27-CH$1>計算!$B$26,CH$2,($BG27-CH$1)/計算!$B$26*CH$2))","v":0},{"$f":"IF($BG27<CI$1,0,IF($BG27-CI$1>計算!$B$26,CI$2,($BG27-CI$1)/計算!$B$26*CI$2))","v":0},{"$f":"IF($BG27<CJ$1,0,IF($BG27-CJ$1>計算!$B$26,CJ$2,($BG27-CJ$1)/計算!$B$26*CJ$2))","v":0},{"$f":"IF($BG27<CK$1,0,IF($BG27-CK$1>計算!$B$26,CK$2,($BG27-CK$1)/計算!$B$26*CK$2))","v":0},3.309064491125473,null,null,5.908280723476623,4.0395453451606222E-2,-4.0395453451606222E-2]
["r1",{"$f":"(B2-B16)/(B2+B16)","v":-0.20545486570649835},null,null,null,62,{"$f":"準備!J27","v":9.6069603674416655},{"$f":"準備!O27-準備!O26","v":1.0470465210299373E-3},{"$f":"準備!P27-準備!P26","v":-2.8737033330751283E-3},null,25,5.9371016240789478,{"$f":"IF($L28<M$1,0,IF($L28-M$1>計算!$B$26,M$2,($L28-M$1)/計算!$B$26*M$2))","v":1.9890005284157226},{"$f":"IF($L28<N$1,0,IF($L28-N$1>計算!$B$26,N$2,($L28-N$1)/計算!$B$26*N$2))","v":0.32752179487645394},{"$f":"IF($L28<O$1,0,IF($L28-O$1>計算!$B$26,O$2,($L28-O$1)/計算!$B$26*O$2))","v":0.93101299851738872},{"$f":"IF($L28<P$1,0,IF($L28-P$1>計算!$B$26,P$2,($L28-P$1)/計算!$B$26*P$2))","v":0.27879940541488013},{"$f":"IF($L28<Q$1,0,IF($L28-Q$1>計算!$B$26,Q$2,($L28-Q$1)/計算!$B$26*Q$2))","v":7.7879229924124438E-2},{"$f":"IF($L28<R$1,0,IF($L28-R$1>計算!$B$26,R$2,($L28-R$1)/計算!$B$26*R$2))","v":-1.1192377066933545E-2},{"$f":"IF($L28<S$1,0,IF($L28-S$1>計算!$B$26,S$2,($L28-S$1)/計算!$B$26*S$2))","v":-0.23935531082328287},{"$f":"IF($L28<T$1,0,IF($L28-T$1>計算!$B$26,T$2,($L28-T$1)/計算!$B$26*T$2))","v":-0.11033288008978959},{"$f":"IF($L28<U$1,0,IF($L28-U$1>計算!$B$26,U$2,($L28-U$1)/計算!$B$26*U$2))","v":2.6244909978123232E-2},{"$f":"IF($L28<V$1,0,IF($L28-V$1>計算!$B$26,V$2,($L28-V$1)/計算!$B$26*V$2))","v":6.4045981475464456E-3},{"$f":"IF($L28<W$1,0,IF($L28-W$1>計算!$B$26,W$2,($L28-W$1)/計算!$B$26*W$2))","v":-1.670547452802958E-2},{"$f":"IF($L28<X$1,0,IF($L28-X$1>計算!$B$26,X$2,($L28-X$1)/計算!$B$26*X$2))","v":-1.2786910002682027E-2},{"$f":"IF($L28<Y$1,0,IF($L28-Y$1>計算!$B$26,Y$2,($L28-Y$1)/計算!$B$26*Y$2))","v":1.7877719911689439E-2},{"$f":"IF($L28<Z$1,0,IF($L28-Z$1>計算!$B$26,Z$2,($L28-Z$1)/計算!$B$26*Z$2))","v":5.7975308890995921E-3},{"$f":"IF($L28<AA$1,0,IF($L28-AA$1>計算!$B$26,AA$2,($L28-AA$1)/計算!$B$26*AA$2))","v":-1.6729166677093479E-3},{"$f":"IF($L28<AB$1,0,IF($L28-AB$1>計算!$B$26,AB$2,($L28-AB$1)/計算!$B$26*AB$2))","v":0},{"$f":"IF($L28<AC$1,0,IF($L28-AC$1>計算!$B$26,AC$2,($L28-AC$1)/計算!$B$26*AC$2))","v":0},{"$f":"IF($L28<AD$1,0,IF($L28-AD$1>計算!$B$26,AD$2,($L28-AD$1)/計算!$B$26*AD$2))","v":0},{"$f":"IF($L28<AE$1,0,IF($L28-AE$1>計算!$B$26,AE$2,($L28-AE$1)/計算!$B$26*AE$2))","v":0},{"$f":"IF($L28<AF$1,0,IF($L28-AF$1>計算!$B$26,AF$2,($L28-AF$1)/計算!$B$26*AF$2))","v":0},{"$f":"IF($L28<AG$1,0,IF($L28-AG$1>計算!$B$26,AG$2,($L28-AG$1)/計算!$B$26*AG$2))","v":0},{"$f":"IF($L28<AH$1,0,IF($L28-AH$1>計算!$B$26,AH$2,($L28-AH$1)/計算!$B$26*AH$2))","v":0},{"$f":"IF($L28<AI$1,0,IF($L28-AI$1>計算!$B$26,AI$2,($L28-AI$1)/計算!$B$26*AI$2))","v":0},{"$f":"IF($L28<AJ$1,0,IF($L28-AJ$1>計算!$B$26,AJ$2,($L28-AJ$1)/計算!$B$26*AJ$2))","v":0},{"$f":"IF($L28<AK$1,0,IF($L28-AK$1>計算!$B$26,AK$2,($L28-AK$1)/計算!$B$26*AK$2))","v":0},{"$f":"IF($L28<AL$1,0,IF($L28-AL$1>計算!$B$26,AL$2,($L28-AL$1)/計算!$B$26*AL$2))","v":0},{"$f":"IF($L28<AM$1,0,IF($L28-AM$1>計算!$B$26,AM$2,($L28-AM$1)/計算!$B$26*AM$2))","v":0},{"$f":"IF($L28<AN$1,0,IF($L28-AN$1>計算!$B$26,AN$2,($L28-AN$1)/計算!$B$26*AN$2))","v":0},{"$f":"IF($L28<AO$1,0,IF($L28-AO$1>計算!$B$26,AO$2,($L28-AO$1)/計算!$B$26*AO$2))","v":0},{"$f":"IF($L28<AP$1,0,IF($L28-AP$1>計算!$B$26,AP$2,($L28-AP$1)/計算!$B$26*AP$2))","v":0},{"$f":"IF($L28<AQ$1,0,IF($L28-AQ$1>計算!$B$26,AQ$2,($L28-AQ$1)/計算!$B$26*AQ$2))","v":0},{"$f":"IF($L28<AR$1,0,IF($L28-AR$1>計算!$B$26,AR$2,($L28-AR$1)/計算!$B$26*AR$2))","v":0},{"$f":"IF($L28<AS$1,0,IF($L28-AS$1>計算!$B$26,AS$2,($L28-AS$1)/計算!$B$26*AS$2))","v":0},{"$f":"IF($L28<AT$1,0,IF($L28-AT$1>計算!$B$26,AT$2,($L28-AT$1)/計算!$B$26*AT$2))","v":0},{"$f":"IF($L28<AU$1,0,IF($L28-AU$1>計算!$B$26,AU$2,($L28-AU$1)/計算!$B$26*AU$2))","v":0},{"$f":"IF($L28<AV$1,0,IF($L28-AV$1>計算!$B$26,AV$2,($L28-AV$1)/計算!$B$26*AV$2))","v":0},3.2684928468966015,null,null,1.5000000000000002E-7,46,{"$f":"IF(準備!T27>=準備!$T$33,準備!$T$33,準備!T27)+AZ28","v":8.7903689837091239},{"$f":"準備!Y27-準備!Y26","v":0.26589922437033486},{"$f":"準備!Z27-準備!Z26","v":-5.5819893287709643E-3},null,24,5.4475848067324568,{"$f":"IF($BG28<BH$1,0,IF($BG28-BH$1>計算!$B$26,BH$2,($BG28-BH$1)/計算!$B$26*BH$2))","v":1.8434248486289773},{"$f":"IF($BG28<BI$1,0,IF($BG28-BI$1>計算!$B$26,BI$2,($BG28-BI$1)/計算!$B$26*BI$2))","v":2.0804359702386828},{"$f":"IF($BG28<BJ$1,0,IF($BG28-BJ$1>計算!$B$26,BJ$2,($BG28-BJ$1)/計算!$B$26*BJ$2))","v":0.43833573789608726},{"$f":"IF($BG28<BK$1,0,IF($BG28-BK$1>計算!$B$26,BK$2,($BG28-BK$1)/計算!$B$26*BK$2))","v":-0.55120106185706153},{"$f":"IF($BG28<BL$1,0,IF($BG28-BL$1>計算!$B$26,BL$2,($BG28-BL$1)/計算!$B$26*BL$2))","v":-0.80365187452039688},{"$f":"IF($BG28<BM$1,0,IF($BG28-BM$1>計算!$B$26,BM$2,($BG28-BM$1)/計算!$B$26*BM$2))","v":0.19584279483276745},{"$f":"IF($BG28<BN$1,0,IF($BG28-BN$1>計算!$B$26,BN$2,($BG28-BN$1)/計算!$B$26*BN$2))","v":0.10422894063720944},{"$f":"IF($BG28<BO$1,0,IF($BG28-BO$1>計算!$B$26,BO$2,($BG28-BO$1)/計算!$B$26*BO$2))","v":-0.4423266906583132},{"$f":"IF($BG28<BP$1,0,IF($BG28-BP$1>計算!$B$26,BP$2,($BG28-BP$1)/計算!$B$26*BP$2))","v":0.16377391940418873},{"$f":"IF($BG28<BQ$1,0,IF($BG28-BQ$1>計算!$B$26,BQ$2,($BG28-BQ$1)/計算!$B$26*BQ$2))","v":0.47754805534168732},{"$f":"IF($BG28<BR$1,0,IF($BG28-BR$1>計算!$B$26,BR$2,($BG28-BR$1)/計算!$B$26*BR$2))","v":-0.21471923432841411},{"$f":"IF($BG28<BS$1,0,IF($BG28-BS$1>計算!$B$26,BS$2,($BG28-BS$1)/計算!$B$26*BS$2))","v":1.8435751369704434E-2},{"$f":"IF($BG28<BT$1,0,IF($BG28-BT$1>計算!$B$26,BT$2,($BG28-BT$1)/計算!$B$26*BT$2))","v":0},{"$f":"IF($BG28<BU$1,0,IF($BG28-BU$1>計算!$B$26,BU$2,($BG28-BU$1)/計算!$B$26*BU$2))","v":0},{"$f":"IF($BG28<BV$1,0,IF($BG28-BV$1>計算!$B$26,BV$2,($BG28-BV$1)/計算!$B$26*BV$2))","v":0},{"$f":"IF($BG28<BW$1,0,IF($BG28-BW$1>計算!$B$26,BW$2,($BG28-BW$1)/計算!$B$26*BW$2))","v":0},{"$f":"IF($BG28<BX$1,0,IF($BG28-BX$1>計算!$B$26,BX$2,($BG28-BX$1)/計算!$B$26*BX$2))","v":0},{"$f":"IF($BG28<BY$1,0,IF($BG28-BY$1>計算!$B$26,BY$2,($BG28-BY$1)/計算!$B$26*BY$2))","v":0},{"$f":"IF($BG28<BZ$1,0,IF($BG28-BZ$1>計算!$B$26,BZ$2,($BG28-BZ$1)/計算!$B$26*BZ$2))","v":0},{"$f":"IF($BG28<CA$1,0,IF($BG28-CA$1>計算!$B$26,CA$2,($BG28-CA$1)/計算!$B$26*CA$2))","v":0},{"$f":"IF($BG28<CB$1,0,IF($BG28-CB$1>計算!$B$26,CB$2,($BG28-CB$1)/計算!$B$26*CB$2))","v":0},{"$f":"IF($BG28<CC$1,0,IF($BG28-CC$1>計算!$B$26,CC$2,($BG28-CC$1)/計算!$B$26*CC$2))","v":0},{"$f":"IF($BG28<CD$1,0,IF($BG28-CD$1>計算!$B$26,CD$2,($BG28-CD$1)/計算!$B$26*CD$2))","v":0},{"$f":"IF($BG28<CE$1,0,IF($BG28-CE$1>計算!$B$26,CE$2,($BG28-CE$1)/計算!$B$26*CE$2))","v":0},{"$f":"IF($BG28<CF$1,0,IF($BG28-CF$1>計算!$B$26,CF$2,($BG28-CF$1)/計算!$B$26*CF$2))","v":0},{"$f":"IF($BG28<CG$1,0,IF($BG28-CG$1>計算!$B$26,CG$2,($BG28-CG$1)/計算!$B$26*CG$2))","v":0},{"$f":"IF($BG28<CH$1,0,IF($BG28-CH$1>計算!$B$26,CH$2,($BG28-CH$1)/計算!$B$26*CH$2))","v":0},{"$f":"IF($BG28<CI$1,0,IF($BG28-CI$1>計算!$B$26,CI$2,($BG28-CI$1)/計算!$B$26*CI$2))","v":0},{"$f":"IF($BG28<CJ$1,0,IF($BG28-CJ$1>計算!$B$26,CJ$2,($BG28-CJ$1)/計算!$B$26*CJ$2))","v":0},{"$f":"IF($BG28<CK$1,0,IF($BG28-CK$1>計算!$B$26,CK$2,($BG28-CK$1)/計算!$B$26*CK$2))","v":0},3.3101271569851187,null,null,5.9371016240789478,3.6262420030636955E-2,-3.6262420030636955E-2]
["r2",{"$f":"(B3-B17)/(B3+B17)","v":0.99990023228582225},null,null,null,63,{"$f":"準備!J28","v":9.635781268043992},{"$f":"準備!O28-準備!O27","v":-9.5309021548120043E-3},{"$f":"準備!P28-準備!P27","v":3.3649864854785494E-2},null,26,6.2641762214650001,{"$f":"IF($L29<M$1,0,IF($L29-M$1>計算!$B$26,M$2,($L29-M$1)/計算!$B$26*M$2))","v":1.9890005284157226},{"$f":"IF($L29<N$1,0,IF($L29-N$1>計算!$B$26,N$2,($L29-N$1)/計算!$B$26*N$2))","v":0.32752179487645394},{"$f":"IF($L29<O$1,0,IF($L29-O$1>計算!$B$26,O$2,($L29-O$1)/計算!$B$26*O$2))","v":0.93101299851738872},{"$f":"IF($L29<P$1,0,IF($L29-P$1>計算!$B$26,P$2,($L29-P$1)/計算!$B$26*P$2))","v":0.27879940541488013},{"$f":"IF($L29<Q$1,0,IF($L29-Q$1>計算!$B$26,Q$2,($L29-Q$1)/計算!$B$26*Q$2))","v":7.7879229924124438E-2},{"$f":"IF($L29<R$1,0,IF($L29-R$1>計算!$B$26,R$2,($L29-R$1)/計算!$B$26*R$2))","v":-1.1192377066933545E-2},{"$f":"IF($L29<S$1,0,IF($L29-S$1>計算!$B$26,S$2,($L29-S$1)/計算!$B$26*S$2))","v":-0.23935531082328287},{"$f":"IF($L29<T$1,0,IF($L29-T$1>計算!$B$26,T$2,($L29-T$1)/計算!$B$26*T$2))","v":-0.11033288008978959},{"$f":"IF($L29<U$1,0,IF($L29-U$1>計算!$B$26,U$2,($L29-U$1)/計算!$B$26*U$2))","v":2.6244909978123232E-2},{"$f":"IF($L29<V$1,0,IF($L29-V$1>計算!$B$26,V$2,($L29-V$1)/計算!$B$26*V$2))","v":1.8518384267717458E-2},{"$f":"IF($L29<W$1,0,IF($L29-W$1>計算!$B$26,W$2,($L29-W$1)/計算!$B$26*W$2))","v":-5.4621960419920741E-2},{"$f":"IF($L29<X$1,0,IF($L29-X$1>計算!$B$26,X$2,($L29-X$1)/計算!$B$26*X$2))","v":-4.9065039359624758E-2},{"$f":"IF($L29<Y$1,0,IF($L29-Y$1>計算!$B$26,Y$2,($L29-Y$1)/計算!$B$26*Y$2))","v":8.5506280205242841E-2},{"$f":"IF($L29<Z$1,0,IF($L29-Z$1>計算!$B$26,Z$2,($L29-Z$1)/計算!$B$26*Z$2))","v":3.8694231577774386E-2},{"$f":"IF($L29<AA$1,0,IF($L29-AA$1>計算!$B$26,AA$2,($L29-AA$1)/計算!$B$26*AA$2))","v":-2.0658046698910207E-2},{"$f":"IF($L29<AB$1,0,IF($L29-AB$1>計算!$B$26,AB$2,($L29-AB$1)/計算!$B$26*AB$2))","v":1.6161257231888538E-3},{"$f":"IF($L29<AC$1,0,IF($L29-AC$1>計算!$B$26,AC$2,($L29-AC$1)/計算!$B$26*AC$2))","v":0},{"$f":"IF($L29<AD$1,0,IF($L29-AD$1>計算!$B$26,AD$2,($L29-AD$1)/計算!$B$26*AD$2))","v":0},{"$f":"IF($L29<AE$1,0,IF($L29-AE$1>計算!$B$26,AE$2,($L29-AE$1)/計算!$B$26*AE$2))","v":0},{"$f":"IF($L29<AF$1,0,IF($L29-AF$1>計算!$B$26,AF$2,($L29-AF$1)/計算!$B$26*AF$2))","v":0},{"$f":"IF($L29<AG$1,0,IF($L29-AG$1>計算!$B$26,AG$2,($L29-AG$1)/計算!$B$26*AG$2))","v":0},{"$f":"IF($L29<AH$1,0,IF($L29-AH$1>計算!$B$26,AH$2,($L29-AH$1)/計算!$B$26*AH$2))","v":0},{"$f":"IF($L29<AI$1,0,IF($L29-AI$1>計算!$B$26,AI$2,($L29-AI$1)/計算!$B$26*AI$2))","v":0},{"$f":"IF($L29<AJ$1,0,IF($L29-AJ$1>計算!$B$26,AJ$2,($L29-AJ$1)/計算!$B$26*AJ$2))","v":0},{"$f":"IF($L29<AK$1,0,IF($L29-AK$1>計算!$B$26,AK$2,($L29-AK$1)/計算!$B$26*AK$2))","v":0},{"$f":"IF($L29<AL$1,0,IF($L29-AL$1>計算!$B$26,AL$2,($L29-AL$1)/計算!$B$26*AL$2))","v":0},{"$f":"IF($L29<AM$1,0,IF($L29-AM$1>計算!$B$26,AM$2,($L29-AM$1)/計算!$B$26*AM$2))","v":0},{"$f":"IF($L29<AN$1,0,IF($L29-AN$1>計算!$B$26,AN$2,($L29-AN$1)/計算!$B$26*AN$2))","v":0},{"$f":"IF($L29<AO$1,0,IF($L29-AO$1>計算!$B$26,AO$2,($L29-AO$1)/計算!$B$26*AO$2))","v":0},{"$f":"IF($L29<AP$1,0,IF($L29-AP$1>計算!$B$26,AP$2,($L29-AP$1)/計算!$B$26*AP$2))","v":0},{"$f":"IF($L29<AQ$1,0,IF($L29-AQ$1>計算!$B$26,AQ$2,($L29-AQ$1)/計算!$B$26*AQ$2))","v":0},{"$f":"IF($L29<AR$1,0,IF($L29-AR$1>計算!$B$26,AR$2,($L29-AR$1)/計算!$B$26*AR$2))","v":0},{"$f":"IF($L29<AS$1,0,IF($L29-AS$1>計算!$B$26,AS$2,($L29-AS$1)/計算!$B$26*AS$2))","v":0},{"$f":"IF($L29<AT$1,0,IF($L29-AT$1>計算!$B$26,AT$2,($L29-AT$1)/計算!$B$26*AT$2))","v":0},{"$f":"IF($L29<AU$1,0,IF($L29-AU$1>計算!$B$26,AU$2,($L29-AU$1)/計算!$B$26*AU$2))","v":0},{"$f":"IF($L29<AV$1,0,IF($L29-AV$1>計算!$B$26,AV$2,($L29-AV$1)/計算!$B$26*AV$2))","v":0},3.2895682744421548,null,null,1.6000000000000003E-7,47,{"$f":"IF(準備!T28>=準備!$T$33,準備!$T$33,準備!T28)+AZ29","v":8.8191898943114477},{"$f":"準備!Y28-準備!Y27","v":-0.16837567462758729},{"$f":"準備!Z28-準備!Z27","v":-2.9551036348403725E-2},null,25,6.7248722572091664,{"$f":"IF($BG29<BH$1,0,IF($BG29-BH$1>計算!$B$26,BH$2,($BG29-BH$1)/計算!$B$26*BH$2))","v":1.8434248486289773},{"$f":"IF($BG29<BI$1,0,IF($BG29-BI$1>計算!$B$26,BI$2,($BG29-BI$1)/計算!$B$26*BI$2))","v":2.0804359702386828},{"$f":"IF($BG29<BJ$1,0,IF($BG29-BJ$1>計算!$B$26,BJ$2,($BG29-BJ$1)/計算!$B$26*BJ$2))","v":0.43833573789608726},{"$f":"IF($BG29<BK$1,0,IF($BG29-BK$1>計算!$B$26,BK$2,($BG29-BK$1)/計算!$B$26*BK$2))","v":-0.55120106185706153},{"$f":"IF($BG29<BL$1,0,IF($BG29-BL$1>計算!$B$26,BL$2,($BG29-BL$1)/計算!$B$26*BL$2))","v":-0.80365187452039688},{"$f":"IF($BG29<BM$1,0,IF($BG29-BM$1>計算!$B$26,BM$2,($BG29-BM$1)/計算!$B$26*BM$2))","v":0.19584279483276745},{"$f":"IF($BG29<BN$1,0,IF($BG29-BN$1>計算!$B$26,BN$2,($BG29-BN$1)/計算!$B$26*BN$2))","v":0.10422894063720944},{"$f":"IF($BG29<BO$1,0,IF($BG29-BO$1>計算!$B$26,BO$2,($BG29-BO$1)/計算!$B$26*BO$2))","v":-0.4423266906583132},{"$f":"IF($BG29<BP$1,0,IF($BG29-BP$1>計算!$B$26,BP$2,($BG29-BP$1)/計算!$B$26*BP$2))","v":0.16377391940418873},{"$f":"IF($BG29<BQ$1,0,IF($BG29-BQ$1>計算!$B$26,BQ$2,($BG29-BQ$1)/計算!$B$26*BQ$2))","v":0.47754805534168732},{"$f":"IF($BG29<BR$1,0,IF($BG29-BR$1>計算!$B$26,BR$2,($BG29-BR$1)/計算!$B$26*BR$2))","v":-0.21471923432841411},{"$f":"IF($BG29<BS$1,0,IF($BG29-BS$1>計算!$B$26,BS$2,($BG29-BS$1)/計算!$B$26*BS$2))","v":1.8435751369704434E-2},{"$f":"IF($BG29<BT$1,0,IF($BG29-BT$1>計算!$B$26,BT$2,($BG29-BT$1)/計算!$B$26*BT$2))","v":0},{"$f":"IF($BG29<BU$1,0,IF($BG29-BU$1>計算!$B$26,BU$2,($BG29-BU$1)/計算!$B$26*BU$2))","v":0},{"$f":"IF($BG29<BV$1,0,IF($BG29-BV$1>計算!$B$26,BV$2,($BG29-BV$1)/計算!$B$26*BV$2))","v":0},{"$f":"IF($BG29<BW$1,0,IF($BG29-BW$1>計算!$B$26,BW$2,($BG29-BW$1)/計算!$B$26*BW$2))","v":0},{"$f":"IF($BG29<BX$1,0,IF($BG29-BX$1>計算!$B$26,BX$2,($BG29-BX$1)/計算!$B$26*BX$2))","v":0},{"$f":"IF($BG29<BY$1,0,IF($BG29-BY$1>計算!$B$26,BY$2,($BG29-BY$1)/計算!$B$26*BY$2))","v":0},{"$f":"IF($BG29<BZ$1,0,IF($BG29-BZ$1>計算!$B$26,BZ$2,($BG29-BZ$1)/計算!$B$26*BZ$2))","v":0},{"$f":"IF($BG29<CA$1,0,IF($BG29-CA$1>計算!$B$26,CA$2,($BG29-CA$1)/計算!$B$26*CA$2))","v":0},{"$f":"IF($BG29<CB$1,0,IF($BG29-CB$1>計算!$B$26,CB$2,($BG29-CB$1)/計算!$B$26*CB$2))","v":0},{"$f":"IF($BG29<CC$1,0,IF($BG29-CC$1>計算!$B$26,CC$2,($BG29-CC$1)/計算!$B$26*CC$2))","v":0},{"$f":"IF($BG29<CD$1,0,IF($BG29-CD$1>計算!$B$26,CD$2,($BG29-CD$1)/計算!$B$26*CD$2))","v":0},{"$f":"IF($BG29<CE$1,0,IF($BG29-CE$1>計算!$B$26,CE$2,($BG29-CE$1)/計算!$B$26*CE$2))","v":0},{"$f":"IF($BG29<CF$1,0,IF($BG29-CF$1>計算!$B$26,CF$2,($BG29-CF$1)/計算!$B$26*CF$2))","v":0},{"$f":"IF($BG29<CG$1,0,IF($BG29-CG$1>計算!$B$26,CG$2,($BG29-CG$1)/計算!$B$26*CG$2))","v":0},{"$f":"IF($BG29<CH$1,0,IF($BG29-CH$1>計算!$B$26,CH$2,($BG29-CH$1)/計算!$B$26*CH$2))","v":0},{"$f":"IF($BG29<CI$1,0,IF($BG29-CI$1>計算!$B$26,CI$2,($BG29-CI$1)/計算!$B$26*CI$2))","v":0},{"$f":"IF($BG29<CJ$1,0,IF($BG29-CJ$1>計算!$B$26,CJ$2,($BG29-CJ$1)/計算!$B$26*CJ$2))","v":0},{"$f":"IF($BG29<CK$1,0,IF($BG29-CK$1>計算!$B$26,CK$2,($BG29-CK$1)/計算!$B$26*CK$2))","v":0},3.3101271569851187,null,null,6.2641762214650001,-6.9412897415311748E-3,6.9412897415311748E-3]
["rN",{"$f":"(B4-B18)/(B4+B18)","v":0.99990023228582225},null,null,null,64,{"$f":"準備!J29","v":9.6646021686463151},{"$f":"準備!O29-準備!O28","v":2.5041887412857733E-2},{"$f":"準備!P29-準備!P28","v":-0.14109767299563569},null,27,6.292997122167324,{"$f":"IF($L30<M$1,0,IF($L30-M$1>計算!$B$26,M$2,($L30-M$1)/計算!$B$26*M$2))","v":1.9890005284157226},{"$f":"IF($L30<N$1,0,IF($L30-N$1>計算!$B$26,N$2,($L30-N$1)/計算!$B$26*N$2))","v":0.32752179487645394},{"$f":"IF($L30<O$1,0,IF($L30-O$1>計算!$B$26,O$2,($L30-O$1)/計算!$B$26*O$2))","v":0.93101299851738872},{"$f":"IF($L30<P$1,0,IF($L30-P$1>計算!$B$26,P$2,($L30-P$1)/計算!$B$26*P$2))","v":0.27879940541488013},{"$f":"IF($L30<Q$1,0,IF($L30-Q$1>計算!$B$26,Q$2,($L30-Q$1)/計算!$B$26*Q$2))","v":7.7879229924124438E-2},{"$f":"IF($L30<R$1,0,IF($L30-R$1>計算!$B$26,R$2,($L30-R$1)/計算!$B$26*R$2))","v":-1.1192377066933545E-2},{"$f":"IF($L30<S$1,0,IF($L30-S$1>計算!$B$26,S$2,($L30-S$1)/計算!$B$26*S$2))","v":-0.23935531082328287},{"$f":"IF($L30<T$1,0,IF($L30-T$1>計算!$B$26,T$2,($L30-T$1)/計算!$B$26*T$2))","v":-0.11033288008978959},{"$f":"IF($L30<U$1,0,IF($L30-U$1>計算!$B$26,U$2,($L30-U$1)/計算!$B$26*U$2))","v":2.6244909978123232E-2},{"$f":"IF($L30<V$1,0,IF($L30-V$1>計算!$B$26,V$2,($L30-V$1)/計算!$B$26*V$2))","v":1.8518384267717458E-2},{"$f":"IF($L30<W$1,0,IF($L30-W$1>計算!$B$26,W$2,($L30-W$1)/計算!$B$26*W$2))","v":-5.7963055209600434E-2},{"$f":"IF($L30<X$1,0,IF($L30-X$1>計算!$B$26,X$2,($L30-X$1)/計算!$B$26*X$2))","v":-5.2261766871386867E-2},{"$f":"IF($L30<Y$1,0,IF($L30-Y$1>計算!$B$26,Y$2,($L30-Y$1)/計算!$B$26*Y$2))","v":9.1465520196482672E-2},{"$f":"IF($L30<Z$1,0,IF($L30-Z$1>計算!$B$26,Z$2,($L30-Z$1)/計算!$B$26*Z$2))","v":4.1592997032381951E-2},{"$f":"IF($L30<AA$1,0,IF($L30-AA$1>計算!$B$26,AA$2,($L30-AA$1)/計算!$B$26*AA$2))","v":-2.2330963372424028E-2},{"$f":"IF($L30<AB$1,0,IF($L30-AB$1>計算!$B$26,AB$2,($L30-AB$1)/計算!$B$26*AB$2))","v":1.7585342115359944E-3},{"$f":"IF($L30<AC$1,0,IF($L30-AC$1>計算!$B$26,AC$2,($L30-AC$1)/計算!$B$26*AC$2))","v":0},{"$f":"IF($L30<AD$1,0,IF($L30-AD$1>計算!$B$26,AD$2,($L30-AD$1)/計算!$B$26*AD$2))","v":0},{"$f":"IF($L30<AE$1,0,IF($L30-AE$1>計算!$B$26,AE$2,($L30-AE$1)/計算!$B$26*AE$2))","v":0},{"$f":"IF($L30<AF$1,0,IF($L30-AF$1>計算!$B$26,AF$2,($L30-AF$1)/計算!$B$26*AF$2))","v":0},{"$f":"IF($L30<AG$1,0,IF($L30-AG$1>計算!$B$26,AG$2,($L30-AG$1)/計算!$B$26*AG$2))","v":0},{"$f":"IF($L30<AH$1,0,IF($L30-AH$1>計算!$B$26,AH$2,($L30-AH$1)/計算!$B$26*AH$2))","v":0},{"$f":"IF($L30<AI$1,0,IF($L30-AI$1>計算!$B$26,AI$2,($L30-AI$1)/計算!$B$26*AI$2))","v":0},{"$f":"IF($L30<AJ$1,0,IF($L30-AJ$1>計算!$B$26,AJ$2,($L30-AJ$1)/計算!$B$26*AJ$2))","v":0},{"$f":"IF($L30<AK$1,0,IF($L30-AK$1>計算!$B$26,AK$2,($L30-AK$1)/計算!$B$26*AK$2))","v":0},{"$f":"IF($L30<AL$1,0,IF($L30-AL$1>計算!$B$26,AL$2,($L30-AL$1)/計算!$B$26*AL$2))","v":0},{"$f":"IF($L30<AM$1,0,IF($L30-AM$1>計算!$B$26,AM$2,($L30-AM$1)/計算!$B$26*AM$2))","v":0},{"$f":"IF($L30<AN$1,0,IF($L30-AN$1>計算!$B$26,AN$2,($L30-AN$1)/計算!$B$26*AN$2))","v":0},{"$f":"IF($L30<AO$1,0,IF($L30-AO$1>計算!$B$26,AO$2,($L30-AO$1)/計算!$B$26*AO$2))","v":0},{"$f":"IF($L30<AP$1,0,IF($L30-AP$1>計算!$B$26,AP$2,($L30-AP$1)/計算!$B$26*AP$2))","v":0},{"$f":"IF($L30<AQ$1,0,IF($L30-AQ$1>計算!$B$26,AQ$2,($L30-AQ$1)/計算!$B$26*AQ$2))","v":0},{"$f":"IF($L30<AR$1,0,IF($L30-AR$1>計算!$B$26,AR$2,($L30-AR$1)/計算!$B$26*AR$2))","v":0},{"$f":"IF($L30<AS$1,0,IF($L30-AS$1>計算!$B$26,AS$2,($L30-AS$1)/計算!$B$26*AS$2))","v":0},{"$f":"IF($L30<AT$1,0,IF($L30-AT$1>計算!$B$26,AT$2,($L30-AT$1)/計算!$B$26*AT$2))","v":0},{"$f":"IF($L30<AU$1,0,IF($L30-AU$1>計算!$B$26,AU$2,($L30-AU$1)/計算!$B$26*AU$2))","v":0},{"$f":"IF($L30<AV$1,0,IF($L30-AV$1>計算!$B$26,AV$2,($L30-AV$1)/計算!$B$26*AV$2))","v":0},3.2903579494013937,null,null,1.7000000000000004E-7,48,{"$f":"IF(準備!T29>=準備!$T$33,準備!$T$33,準備!T29)+AZ30","v":8.8480108049137716},{"$f":"準備!Y29-準備!Y28","v":4.1502847092517836E-2},{"$f":"準備!Z29-準備!Z28","v":1.2220324932807003E-2},null,26,6.7536931578114912,{"$f":"IF($BG30<BH$1,0,IF($BG30-BH$1>計算!$B$26,BH$2,($BG30-BH$1)/計算!$B$26*BH$2))","v":1.8434248486289773},{"$f":"IF($BG30<BI$1,0,IF($BG30-BI$1>計算!$B$26,BI$2,($BG30-BI$1)/計算!$B$26*BI$2))","v":2.0804359702386828},{"$f":"IF($BG30<BJ$1,0,IF($BG30-BJ$1>計算!$B$26,BJ$2,($BG30-BJ$1)/計算!$B$26*BJ$2))","v":0.43833573789608726},{"$f":"IF($BG30<BK$1,0,IF($BG30-BK$1>計算!$B$26,BK$2,($BG30-BK$1)/計算!$B$26*BK$2))","v":-0.55120106185706153},{"$f":"IF($BG30<BL$1,0,IF($BG30-BL$1>計算!$B$26,BL$2,($BG30-BL$1)/計算!$B$26*BL$2))","v":-0.80365187452039688},{"$f":"IF($BG30<BM$1,0,IF($BG30-BM$1>計算!$B$26,BM$2,($BG30-BM$1)/計算!$B$26*BM$2))","v":0.19584279483276745},{"$f":"IF($BG30<BN$1,0,IF($BG30-BN$1>計算!$B$26,BN$2,($BG30-BN$1)/計算!$B$26*BN$2))","v":0.10422894063720944},{"$f":"IF($BG30<BO$1,0,IF($BG30-BO$1>計算!$B$26,BO$2,($BG30-BO$1)/計算!$B$26*BO$2))","v":-0.4423266906583132},{"$f":"IF($BG30<BP$1,0,IF($BG30-BP$1>計算!$B$26,BP$2,($BG30-BP$1)/計算!$B$26*BP$2))","v":0.16377391940418873},{"$f":"IF($BG30<BQ$1,0,IF($BG30-BQ$1>計算!$B$26,BQ$2,($BG30-BQ$1)/計算!$B$26*BQ$2))","v":0.47754805534168732},{"$f":"IF($BG30<BR$1,0,IF($BG30-BR$1>計算!$B$26,BR$2,($BG30-BR$1)/計算!$B$26*BR$2))","v":-0.21471923432841411},{"$f":"IF($BG30<BS$1,0,IF($BG30-BS$1>計算!$B$26,BS$2,($BG30-BS$1)/計算!$B$26*BS$2))","v":1.8435751369704434E-2},{"$f":"IF($BG30<BT$1,0,IF($BG30-BT$1>計算!$B$26,BT$2,($BG30-BT$1)/計算!$B$26*BT$2))","v":1.4285890276867492E-3},{"$f":"IF($BG30<BU$1,0,IF($BG30-BU$1>計算!$B$26,BU$2,($BG30-BU$1)/計算!$B$26*BU$2))","v":0},{"$f":"IF($BG30<BV$1,0,IF($BG30-BV$1>計算!$B$26,BV$2,($BG30-BV$1)/計算!$B$26*BV$2))","v":0},{"$f":"IF($BG30<BW$1,0,IF($BG30-BW$1>計算!$B$26,BW$2,($BG30-BW$1)/計算!$B$26*BW$2))","v":0},{"$f":"IF($BG30<BX$1,0,IF($BG30-BX$1>計算!$B$26,BX$2,($BG30-BX$1)/計算!$B$26*BX$2))","v":0},{"$f":"IF($BG30<BY$1,0,IF($BG30-BY$1>計算!$B$26,BY$2,($BG30-BY$1)/計算!$B$26*BY$2))","v":0},{"$f":"IF($BG30<BZ$1,0,IF($BG30-BZ$1>計算!$B$26,BZ$2,($BG30-BZ$1)/計算!$B$26*BZ$2))","v":0},{"$f":"IF($BG30<CA$1,0,IF($BG30-CA$1>計算!$B$26,CA$2,($BG30-CA$1)/計算!$B$26*CA$2))","v":0},{"$f":"IF($BG30<CB$1,0,IF($BG30-CB$1>計算!$B$26,CB$2,($BG30-CB$1)/計算!$B$26*CB$2))","v":0},{"$f":"IF($BG30<CC$1,0,IF($BG30-CC$1>計算!$B$26,CC$2,($BG30-CC$1)/計算!$B$26*CC$2))","v":0},{"$f":"IF($BG30<CD$1,0,IF($BG30-CD$1>計算!$B$26,CD$2,($BG30-CD$1)/計算!$B$26*CD$2))","v":0},{"$f":"IF($BG30<CE$1,0,IF($BG30-CE$1>計算!$B$26,CE$2,($BG30-CE$1)/計算!$B$26*CE$2))","v":0},{"$f":"IF($BG30<CF$1,0,IF($BG30-CF$1>計算!$B$26,CF$2,($BG30-CF$1)/計算!$B$26*CF$2))","v":0},{"$f":"IF($BG30<CG$1,0,IF($BG30-CG$1>計算!$B$26,CG$2,($BG30-CG$1)/計算!$B$26*CG$2))","v":0},{"$f":"IF($BG30<CH$1,0,IF($BG30-CH$1>計算!$B$26,CH$2,($BG30-CH$1)/計算!$B$26*CH$2))","v":0},{"$f":"IF($BG30<CI$1,0,IF($BG30-CI$1>計算!$B$26,CI$2,($BG30-CI$1)/計算!$B$26*CI$2))","v":0},{"$f":"IF($BG30<CJ$1,0,IF($BG30-CJ$1>計算!$B$26,CJ$2,($BG30-CJ$1)/計算!$B$26*CJ$2))","v":0},{"$f":"IF($BG30<CK$1,0,IF($BG30-CK$1>計算!$B$26,CK$2,($BG30-CK$1)/計算!$B$26*CK$2))","v":0},3.3115557460128056,null,null,6.292997122167324,-7.8186249807723207E-3,7.8186249807723207E-3]
["rF",{"$f":"(B5-B19)/(B5+B19)","v":-0.20545486570649835},null,null,null,65,{"$f":"準備!J30","v":9.6934230692486398},{"$f":"準備!O30-準備!O29","v":-4.8314900164316832E-3},{"$f":"準備!P30-準備!P29","v":0.24243109658490569},null,28,6.3218180228696488,{"$f":"IF($L31<M$1,0,IF($L31-M$1>計算!$B$26,M$2,($L31-M$1)/計算!$B$26*M$2))","v":1.9890005284157226},{"$f":"IF($L31<N$1,0,IF($L31-N$1>計算!$B$26,N$2,($L31-N$1)/計算!$B$26*N$2))","v":0.32752179487645394},{"$f":"IF($L31<O$1,0,IF($L31-O$1>計算!$B$26,O$2,($L31-O$1)/計算!$B$26*O$2))","v":0.93101299851738872},{"$f":"IF($L31<P$1,0,IF($L31-P$1>計算!$B$26,P$2,($L31-P$1)/計算!$B$26*P$2))","v":0.27879940541488013},{"$f":"IF($L31<Q$1,0,IF($L31-Q$1>計算!$B$26,Q$2,($L31-Q$1)/計算!$B$26*Q$2))","v":7.7879229924124438E-2},{"$f":"IF($L31<R$1,0,IF($L31-R$1>計算!$B$26,R$2,($L31-R$1)/計算!$B$26*R$2))","v":-1.1192377066933545E-2},{"$f":"IF($L31<S$1,0,IF($L31-S$1>計算!$B$26,S$2,($L31-S$1)/計算!$B$26*S$2))","v":-0.23935531082328287},{"$f":"IF($L31<T$1,0,IF($L31-T$1>計算!$B$26,T$2,($L31-T$1)/計算!$B$26*T$2))","v":-0.11033288008978959},{"$f":"IF($L31<U$1,0,IF($L31-U$1>計算!$B$26,U$2,($L31-U$1)/計算!$B$26*U$2))","v":2.6244909978123232E-2},{"$f":"IF($L31<V$1,0,IF($L31-V$1>計算!$B$26,V$2,($L31-V$1)/計算!$B$26*V$2))","v":1.8518384267717458E-2},{"$f":"IF($L31<W$1,0,IF($L31-W$1>計算!$B$26,W$2,($L31-W$1)/計算!$B$26*W$2))","v":-5.7963055209600434E-2},{"$f":"IF($L31<X$1,0,IF($L31-X$1>計算!$B$26,X$2,($L31-X$1)/計算!$B$26*X$2))","v":-5.5458494250048673E-2},{"$f":"IF($L31<Y$1,0,IF($L31-Y$1>計算!$B$26,Y$2,($L31-Y$1)/計算!$B$26*Y$2))","v":9.742476018772267E-2},{"$f":"IF($L31<Z$1,0,IF($L31-Z$1>計算!$B$26,Z$2,($L31-Z$1)/計算!$B$26*Z$2))","v":4.4491762486989606E-2},{"$f":"IF($L31<AA$1,0,IF($L31-AA$1>計算!$B$26,AA$2,($L31-AA$1)/計算!$B$26*AA$2))","v":-2.4003880045937905E-2},{"$f":"IF($L31<AB$1,0,IF($L31-AB$1>計算!$B$26,AB$2,($L31-AB$1)/計算!$B$26*AB$2))","v":1.9009426998831396E-3},{"$f":"IF($L31<AC$1,0,IF($L31-AC$1>計算!$B$26,AC$2,($L31-AC$1)/計算!$B$26*AC$2))","v":0},{"$f":"IF($L31<AD$1,0,IF($L31-AD$1>計算!$B$26,AD$2,($L31-AD$1)/計算!$B$26*AD$2))","v":0},{"$f":"IF($L31<AE$1,0,IF($L31-AE$1>計算!$B$26,AE$2,($L31-AE$1)/計算!$B$26*AE$2))","v":0},{"$f":"IF($L31<AF$1,0,IF($L31-AF$1>計算!$B$26,AF$2,($L31-AF$1)/計算!$B$26*AF$2))","v":0},{"$f":"IF($L31<AG$1,0,IF($L31-AG$1>計算!$B$26,AG$2,($L31-AG$1)/計算!$B$26*AG$2))","v":0},{"$f":"IF($L31<AH$1,0,IF($L31-AH$1>計算!$B$26,AH$2,($L31-AH$1)/計算!$B$26*AH$2))","v":0},{"$f":"IF($L31<AI$1,0,IF($L31-AI$1>計算!$B$26,AI$2,($L31-AI$1)/計算!$B$26*AI$2))","v":0},{"$f":"IF($L31<AJ$1,0,IF($L31-AJ$1>計算!$B$26,AJ$2,($L31-AJ$1)/計算!$B$26*AJ$2))","v":0},{"$f":"IF($L31<AK$1,0,IF($L31-AK$1>計算!$B$26,AK$2,($L31-AK$1)/計算!$B$26*AK$2))","v":0},{"$f":"IF($L31<AL$1,0,IF($L31-AL$1>計算!$B$26,AL$2,($L31-AL$1)/計算!$B$26*AL$2))","v":0},{"$f":"IF($L31<AM$1,0,IF($L31-AM$1>計算!$B$26,AM$2,($L31-AM$1)/計算!$B$26*AM$2))","v":0},{"$f":"IF($L31<AN$1,0,IF($L31-AN$1>計算!$B$26,AN$2,($L31-AN$1)/計算!$B$26*AN$2))","v":0},{"$f":"IF($L31<AO$1,0,IF($L31-AO$1>計算!$B$26,AO$2,($L31-AO$1)/計算!$B$26*AO$2))","v":0},{"$f":"IF($L31<AP$1,0,IF($L31-AP$1>計算!$B$26,AP$2,($L31-AP$1)/計算!$B$26*AP$2))","v":0},{"$f":"IF($L31<AQ$1,0,IF($L31-AQ$1>計算!$B$26,AQ$2,($L31-AQ$1)/計算!$B$26*AQ$2))","v":0},{"$f":"IF($L31<AR$1,0,IF($L31-AR$1>計算!$B$26,AR$2,($L31-AR$1)/計算!$B$26*AR$2))","v":0},{"$f":"IF($L31<AS$1,0,IF($L31-AS$1>計算!$B$26,AS$2,($L31-AS$1)/計算!$B$26*AS$2))","v":0},{"$f":"IF($L31<AT$1,0,IF($L31-AT$1>計算!$B$26,AT$2,($L31-AT$1)/計算!$B$26*AT$2))","v":0},{"$f":"IF($L31<AU$1,0,IF($L31-AU$1>計算!$B$26,AU$2,($L31-AU$1)/計算!$B$26*AU$2))","v":0},{"$f":"IF($L31<AV$1,0,IF($L31-AV$1>計算!$B$26,AV$2,($L31-AV$1)/計算!$B$26*AV$2))","v":0},3.2944887192834131,null,null,1.8000000000000005E-7,49,{"$f":"IF(準備!T30>=準備!$T$33,準備!$T$33,準備!T30)+AZ31","v":8.8768317155160972},{"$f":"準備!Y30-準備!Y29","v":-4.3674130665682931E-3},{"$f":"準備!Z30-準備!Z29","v":-1.6456259443792254E-3},null,27,6.7825140584138151,{"$f":"IF($BG31<BH$1,0,IF($BG31-BH$1>計算!$B$26,BH$2,($BG31-BH$1)/計算!$B$26*BH$2))","v":1.8434248486289773},{"$f":"IF($BG31<BI$1,0,IF($BG31-BI$1>計算!$B$26,BI$2,($BG31-BI$1)/計算!$B$26*BI$2))","v":2.0804359702386828},{"$f":"IF($BG31<BJ$1,0,IF($BG31-BJ$1>計算!$B$26,BJ$2,($BG31-BJ$1)/計算!$B$26*BJ$2))","v":0.43833573789608726},{"$f":"IF($BG31<BK$1,0,IF($BG31-BK$1>計算!$B$26,BK$2,($BG31-BK$1)/計算!$B$26*BK$2))","v":-0.55120106185706153},{"$f":"IF($BG31<BL$1,0,IF($BG31-BL$1>計算!$B$26,BL$2,($BG31-BL$1)/計算!$B$26*BL$2))","v":-0.80365187452039688},{"$f":"IF($BG31<BM$1,0,IF($BG31-BM$1>計算!$B$26,BM$2,($BG31-BM$1)/計算!$B$26*BM$2))","v":0.19584279483276745},{"$f":"IF($BG31<BN$1,0,IF($BG31-BN$1>計算!$B$26,BN$2,($BG31-BN$1)/計算!$B$26*BN$2))","v":0.10422894063720944},{"$f":"IF($BG31<BO$1,0,IF($BG31-BO$1>計算!$B$26,BO$2,($BG31-BO$1)/計算!$B$26*BO$2))","v":-0.4423266906583132},{"$f":"IF($BG31<BP$1,0,IF($BG31-BP$1>計算!$B$26,BP$2,($BG31-BP$1)/計算!$B$26*BP$2))","v":0.16377391940418873},{"$f":"IF($BG31<BQ$1,0,IF($BG31-BQ$1>計算!$B$26,BQ$2,($BG31-BQ$1)/計算!$B$26*BQ$2))","v":0.47754805534168732},{"$f":"IF($BG31<BR$1,0,IF($BG31-BR$1>計算!$B$26,BR$2,($BG31-BR$1)/計算!$B$26*BR$2))","v":-0.21471923432841411},{"$f":"IF($BG31<BS$1,0,IF($BG31-BS$1>計算!$B$26,BS$2,($BG31-BS$1)/計算!$B$26*BS$2))","v":1.8435751369704434E-2},{"$f":"IF($BG31<BT$1,0,IF($BG31-BT$1>計算!$B$26,BT$2,($BG31-BT$1)/計算!$B$26*BT$2))","v":2.8571780553734542E-3},{"$f":"IF($BG31<BU$1,0,IF($BG31-BU$1>計算!$B$26,BU$2,($BG31-BU$1)/計算!$B$26*BU$2))","v":-1.0328859100925476E-2},{"$f":"IF($BG31<BV$1,0,IF($BG31-BV$1>計算!$B$26,BV$2,($BG31-BV$1)/計算!$B$26*BV$2))","v":0},{"$f":"IF($BG31<BW$1,0,IF($BG31-BW$1>計算!$B$26,BW$2,($BG31-BW$1)/計算!$B$26*BW$2))","v":0},{"$f":"IF($BG31<BX$1,0,IF($BG31-BX$1>計算!$B$26,BX$2,($BG31-BX$1)/計算!$B$26*BX$2))","v":0},{"$f":"IF($BG31<BY$1,0,IF($BG31-BY$1>計算!$B$26,BY$2,($BG31-BY$1)/計算!$B$26*BY$2))","v":0},{"$f":"IF($BG31<BZ$1,0,IF($BG31-BZ$1>計算!$B$26,BZ$2,($BG31-BZ$1)/計算!$B$26*BZ$2))","v":0},{"$f":"IF($BG31<CA$1,0,IF($BG31-CA$1>計算!$B$26,CA$2,($BG31-CA$1)/計算!$B$26*CA$2))","v":0},{"$f":"IF($BG31<CB$1,0,IF($BG31-CB$1>計算!$B$26,CB$2,($BG31-CB$1)/計算!$B$26*CB$2))","v":0},{"$f":"IF($BG31<CC$1,0,IF($BG31-CC$1>計算!$B$26,CC$2,($BG31-CC$1)/計算!$B$26*CC$2))","v":0},{"$f":"IF($BG31<CD$1,0,IF($BG31-CD$1>計算!$B$26,CD$2,($BG31-CD$1)/計算!$B$26*CD$2))","v":0},{"$f":"IF($BG31<CE$1,0,IF($BG31-CE$1>計算!$B$26,CE$2,($BG31-CE$1)/計算!$B$26*CE$2))","v":0},{"$f":"IF($BG31<CF$1,0,IF($BG31-CF$1>計算!$B$26,CF$2,($BG31-CF$1)/計算!$B$26*CF$2))","v":0},{"$f":"IF($BG31<CG$1,0,IF($BG31-CG$1>計算!$B$26,CG$2,($BG31-CG$1)/計算!$B$26*CG$2))","v":0},{"$f":"IF($BG31<CH$1,0,IF($BG31-CH$1>計算!$B$26,CH$2,($BG31-CH$1)/計算!$B$26*CH$2))","v":0},{"$f":"IF($BG31<CI$1,0,IF($BG31-CI$1>計算!$B$26,CI$2,($BG31-CI$1)/計算!$B$26*CI$2))","v":0},{"$f":"IF($BG31<CJ$1,0,IF($BG31-CJ$1>計算!$B$26,CJ$2,($BG31-CJ$1)/計算!$B$26*CJ$2))","v":0},{"$f":"IF($BG31<CK$1,0,IF($BG31-CK$1>計算!$B$26,CK$2,($BG31-CK$1)/計算!$B$26*CK$2))","v":0},3.302655475939567,null,null,6.3218180228696488,-2.5503264059812236E-2,2.5503264059812236E-2]
[null,null,null,null,null,66,{"$f":"準備!J31","v":9.7222439698509646},{"$f":"準備!O31-準備!O30","v":-5.0505102127822887E-2},{"$f":"準備!P31-準備!P30","v":-9.4256471226553673E-2},null,29,6.3506389235719745,{"$f":"IF($L32<M$1,0,IF($L32-M$1>計算!$B$26,M$2,($L32-M$1)/計算!$B$26*M$2))","v":1.9890005284157226},{"$f":"IF($L32<N$1,0,IF($L32-N$1>計算!$B$26,N$2,($L32-N$1)/計算!$B$26*N$2))","v":0.32752179487645394},{"$f":"IF($L32<O$1,0,IF($L32-O$1>計算!$B$26,O$2,($L32-O$1)/計算!$B$26*O$2))","v":0.93101299851738872},{"$f":"IF($L32<P$1,0,IF($L32-P$1>計算!$B$26,P$2,($L32-P$1)/計算!$B$26*P$2))","v":0.27879940541488013},{"$f":"IF($L32<Q$1,0,IF($L32-Q$1>計算!$B$26,Q$2,($L32-Q$1)/計算!$B$26*Q$2))","v":7.7879229924124438E-2},{"$f":"IF($L32<R$1,0,IF($L32-R$1>計算!$B$26,R$2,($L32-R$1)/計算!$B$26*R$2))","v":-1.1192377066933545E-2},{"$f":"IF($L32<S$1,0,IF($L32-S$1>計算!$B$26,S$2,($L32-S$1)/計算!$B$26*S$2))","v":-0.23935531082328287},{"$f":"IF($L32<T$1,0,IF($L32-T$1>計算!$B$26,T$2,($L32-T$1)/計算!$B$26*T$2))","v":-0.11033288008978959},{"$f":"IF($L32<U$1,0,IF($L32-U$1>計算!$B$26,U$2,($L32-U$1)/計算!$B$26*U$2))","v":2.6244909978123232E-2},{"$f":"IF($L32<V$1,0,IF($L32-V$1>計算!$B$26,V$2,($L32-V$1)/計算!$B$26*V$2))","v":1.8518384267717458E-2},{"$f":"IF($L32<W$1,0,IF($L32-W$1>計算!$B$26,W$2,($L32-W$1)/計算!$B$26*W$2))","v":-5.7963055209600434E-2},{"$f":"IF($L32<X$1,0,IF($L32-X$1>計算!$B$26,X$2,($L32-X$1)/計算!$B$26*X$2))","v":-5.5458494250048673E-2},{"$f":"IF($L32<Y$1,0,IF($L32-Y$1>計算!$B$26,Y$2,($L32-Y$1)/計算!$B$26*Y$2))","v":0.10338399991016445},{"$f":"IF($L32<Z$1,0,IF($L32-Z$1>計算!$B$26,Z$2,($L32-Z$1)/計算!$B$26*Z$2))","v":4.739052794159735E-2},{"$f":"IF($L32<AA$1,0,IF($L32-AA$1>計算!$B$26,AA$2,($L32-AA$1)/計算!$B$26*AA$2))","v":-2.567679671945183E-2},{"$f":"IF($L32<AB$1,0,IF($L32-AB$1>計算!$B$26,AB$2,($L32-AB$1)/計算!$B$26*AB$2))","v":2.0433511882302891E-3},{"$f":"IF($L32<AC$1,0,IF($L32-AC$1>計算!$B$26,AC$2,($L32-AC$1)/計算!$B$26*AC$2))","v":0},{"$f":"IF($L32<AD$1,0,IF($L32-AD$1>計算!$B$26,AD$2,($L32-AD$1)/計算!$B$26*AD$2))","v":0},{"$f":"IF($L32<AE$1,0,IF($L32-AE$1>計算!$B$26,AE$2,($L32-AE$1)/計算!$B$26*AE$2))","v":0},{"$f":"IF($L32<AF$1,0,IF($L32-AF$1>計算!$B$26,AF$2,($L32-AF$1)/計算!$B$26*AF$2))","v":0},{"$f":"IF($L32<AG$1,0,IF($L32-AG$1>計算!$B$26,AG$2,($L32-AG$1)/計算!$B$26*AG$2))","v":0},{"$f":"IF($L32<AH$1,0,IF($L32-AH$1>計算!$B$26,AH$2,($L32-AH$1)/計算!$B$26*AH$2))","v":0},{"$f":"IF($L32<AI$1,0,IF($L32-AI$1>計算!$B$26,AI$2,($L32-AI$1)/計算!$B$26*AI$2))","v":0},{"$f":"IF($L32<AJ$1,0,IF($L32-AJ$1>計算!$B$26,AJ$2,($L32-AJ$1)/計算!$B$26*AJ$2))","v":0},{"$f":"IF($L32<AK$1,0,IF($L32-AK$1>計算!$B$26,AK$2,($L32-AK$1)/計算!$B$26*AK$2))","v":0},{"$f":"IF($L32<AL$1,0,IF($L32-AL$1>計算!$B$26,AL$2,($L32-AL$1)/計算!$B$26*AL$2))","v":0},{"$f":"IF($L32<AM$1,0,IF($L32-AM$1>計算!$B$26,AM$2,($L32-AM$1)/計算!$B$26*AM$2))","v":0},{"$f":"IF($L32<AN$1,0,IF($L32-AN$1>計算!$B$26,AN$2,($L32-AN$1)/計算!$B$26*AN$2))","v":0},{"$f":"IF($L32<AO$1,0,IF($L32-AO$1>計算!$B$26,AO$2,($L32-AO$1)/計算!$B$26*AO$2))","v":0},{"$f":"IF($L32<AP$1,0,IF($L32-AP$1>計算!$B$26,AP$2,($L32-AP$1)/計算!$B$26*AP$2))","v":0},{"$f":"IF($L32<AQ$1,0,IF($L32-AQ$1>計算!$B$26,AQ$2,($L32-AQ$1)/計算!$B$26*AQ$2))","v":0},{"$f":"IF($L32<AR$1,0,IF($L32-AR$1>計算!$B$26,AR$2,($L32-AR$1)/計算!$B$26*AR$2))","v":0},{"$f":"IF($L32<AS$1,0,IF($L32-AS$1>計算!$B$26,AS$2,($L32-AS$1)/計算!$B$26*AS$2))","v":0},{"$f":"IF($L32<AT$1,0,IF($L32-AT$1>計算!$B$26,AT$2,($L32-AT$1)/計算!$B$26*AT$2))","v":0},{"$f":"IF($L32<AU$1,0,IF($L32-AU$1>計算!$B$26,AU$2,($L32-AU$1)/計算!$B$26*AU$2))","v":0},{"$f":"IF($L32<AV$1,0,IF($L32-AV$1>計算!$B$26,AV$2,($L32-AV$1)/計算!$B$26*AV$2))","v":0},3.3018162162752951,null,null,1.9000000000000006E-7,50,{"$f":"IF(準備!T31>=準備!$T$33,準備!$T$33,準備!T31)+AZ32","v":8.905652626118421},{"$f":"準備!Y31-準備!Y30","v":1.6336812736783557E-4},{"$f":"準備!Z31-準備!Z30","v":7.1355622297208932E-5},null,28,6.8113349590161398,{"$f":"IF($BG32<BH$1,0,IF($BG32-BH$1>計算!$B$26,BH$2,($BG32-BH$1)/計算!$B$26*BH$2))","v":1.8434248486289773},{"$f":"IF($BG32<BI$1,0,IF($BG32-BI$1>計算!$B$26,BI$2,($BG32-BI$1)/計算!$B$26*BI$2))","v":2.0804359702386828},{"$f":"IF($BG32<BJ$1,0,IF($BG32-BJ$1>計算!$B$26,BJ$2,($BG32-BJ$1)/計算!$B$26*BJ$2))","v":0.43833573789608726},{"$f":"IF($BG32<BK$1,0,IF($BG32-BK$1>計算!$B$26,BK$2,($BG32-BK$1)/計算!$B$26*BK$2))","v":-0.55120106185706153},{"$f":"IF($BG32<BL$1,0,IF($BG32-BL$1>計算!$B$26,BL$2,($BG32-BL$1)/計算!$B$26*BL$2))","v":-0.80365187452039688},{"$f":"IF($BG32<BM$1,0,IF($BG32-BM$1>計算!$B$26,BM$2,($BG32-BM$1)/計算!$B$26*BM$2))","v":0.19584279483276745},{"$f":"IF($BG32<BN$1,0,IF($BG32-BN$1>計算!$B$26,BN$2,($BG32-BN$1)/計算!$B$26*BN$2))","v":0.10422894063720944},{"$f":"IF($BG32<BO$1,0,IF($BG32-BO$1>計算!$B$26,BO$2,($BG32-BO$1)/計算!$B$26*BO$2))","v":-0.4423266906583132},{"$f":"IF($BG32<BP$1,0,IF($BG32-BP$1>計算!$B$26,BP$2,($BG32-BP$1)/計算!$B$26*BP$2))","v":0.16377391940418873},{"$f":"IF($BG32<BQ$1,0,IF($BG32-BQ$1>計算!$B$26,BQ$2,($BG32-BQ$1)/計算!$B$26*BQ$2))","v":0.47754805534168732},{"$f":"IF($BG32<BR$1,0,IF($BG32-BR$1>計算!$B$26,BR$2,($BG32-BR$1)/計算!$B$26*BR$2))","v":-0.21471923432841411},{"$f":"IF($BG32<BS$1,0,IF($BG32-BS$1>計算!$B$26,BS$2,($BG32-BS$1)/計算!$B$26*BS$2))","v":1.8435751369704434E-2},{"$f":"IF($BG32<BT$1,0,IF($BG32-BT$1>計算!$B$26,BT$2,($BG32-BT$1)/計算!$B$26*BT$2))","v":4.2857670830602039E-3},{"$f":"IF($BG32<BU$1,0,IF($BG32-BU$1>計算!$B$26,BU$2,($BG32-BU$1)/計算!$B$26*BU$2))","v":-2.065771820185127E-2},{"$f":"IF($BG32<BV$1,0,IF($BG32-BV$1>計算!$B$26,BV$2,($BG32-BV$1)/計算!$B$26*BV$2))","v":1.9848905909161933E-2},{"$f":"IF($BG32<BW$1,0,IF($BG32-BW$1>計算!$B$26,BW$2,($BG32-BW$1)/計算!$B$26*BW$2))","v":0},{"$f":"IF($BG32<BX$1,0,IF($BG32-BX$1>計算!$B$26,BX$2,($BG32-BX$1)/計算!$B$26*BX$2))","v":0},{"$f":"IF($BG32<BY$1,0,IF($BG32-BY$1>計算!$B$26,BY$2,($BG32-BY$1)/計算!$B$26*BY$2))","v":0},{"$f":"IF($BG32<BZ$1,0,IF($BG32-BZ$1>計算!$B$26,BZ$2,($BG32-BZ$1)/計算!$B$26*BZ$2))","v":0},{"$f":"IF($BG32<CA$1,0,IF($BG32-CA$1>計算!$B$26,CA$2,($BG32-CA$1)/計算!$B$26*CA$2))","v":0},{"$f":"IF($BG32<CB$1,0,IF($BG32-CB$1>計算!$B$26,CB$2,($BG32-CB$1)/計算!$B$26*CB$2))","v":0},{"$f":"IF($BG32<CC$1,0,IF($BG32-CC$1>計算!$B$26,CC$2,($BG32-CC$1)/計算!$B$26*CC$2))","v":0},{"$f":"IF($BG32<CD$1,0,IF($BG32-CD$1>計算!$B$26,CD$2,($BG32-CD$1)/計算!$B$26*CD$2))","v":0},{"$f":"IF($BG32<CE$1,0,IF($BG32-CE$1>計算!$B$26,CE$2,($BG32-CE$1)/計算!$B$26*CE$2))","v":0},{"$f":"IF($BG32<CF$1,0,IF($BG32-CF$1>計算!$B$26,CF$2,($BG32-CF$1)/計算!$B$26*CF$2))","v":0},{"$f":"IF($BG32<CG$1,0,IF($BG32-CG$1>計算!$B$26,CG$2,($BG32-CG$1)/計算!$B$26*CG$2))","v":0},{"$f":"IF($BG32<CH$1,0,IF($BG32-CH$1>計算!$B$26,CH$2,($BG32-CH$1)/計算!$B$26*CH$2))","v":0},{"$f":"IF($BG32<CI$1,0,IF($BG32-CI$1>計算!$B$26,CI$2,($BG32-CI$1)/計算!$B$26*CI$2))","v":0},{"$f":"IF($BG32<CJ$1,0,IF($BG32-CJ$1>計算!$B$26,CJ$2,($BG32-CJ$1)/計算!$B$26*CJ$2))","v":0},{"$f":"IF($BG32<CK$1,0,IF($BG32-CK$1>計算!$B$26,CK$2,($BG32-CK$1)/計算!$B$26*CK$2))","v":0},3.3136041117754895,null,null,6.3506389235719745,-2.3799680860091939E-2,2.3799680860091939E-2]
["電圧(V)",{"$f":"VLOOKUP(波形!E2,Data!U2:W8,2,1)","v":3.3},null,null,null,67,{"$f":"準備!J32","v":9.7510648704532894},{"$f":"準備!O32-準備!O31","v":3.4650582856280199E-2},{"$f":"準備!P32-準備!P31","v":-0.18492771135948727},null,30,6.3794598242742984,{"$f":"IF($L33<M$1,0,IF($L33-M$1>計算!$B$26,M$2,($L33-M$1)/計算!$B$26*M$2))","v":1.9890005284157226},{"$f":"IF($L33<N$1,0,IF($L33-N$1>計算!$B$26,N$2,($L33-N$1)/計算!$B$26*N$2))","v":0.32752179487645394},{"$f":"IF($L33<O$1,0,IF($L33-O$1>計算!$B$26,O$2,($L33-O$1)/計算!$B$26*O$2))","v":0.93101299851738872},{"$f":"IF($L33<P$1,0,IF($L33-P$1>計算!$B$26,P$2,($L33-P$1)/計算!$B$26*P$2))","v":0.27879940541488013},{"$f":"IF($L33<Q$1,0,IF($L33-Q$1>計算!$B$26,Q$2,($L33-Q$1)/計算!$B$26*Q$2))","v":7.7879229924124438E-2},{"$f":"IF($L33<R$1,0,IF($L33-R$1>計算!$B$26,R$2,($L33-R$1)/計算!$B$26*R$2))","v":-1.1192377066933545E-2},{"$f":"IF($L33<S$1,0,IF($L33-S$1>計算!$B$26,S$2,($L33-S$1)/計算!$B$26*S$2))","v":-0.23935531082328287},{"$f":"IF($L33<T$1,0,IF($L33-T$1>計算!$B$26,T$2,($L33-T$1)/計算!$B$26*T$2))","v":-0.11033288008978959},{"$f":"IF($L33<U$1,0,IF($L33-U$1>計算!$B$26,U$2,($L33-U$1)/計算!$B$26*U$2))","v":2.6244909978123232E-2},{"$f":"IF($L33<V$1,0,IF($L33-V$1>計算!$B$26,V$2,($L33-V$1)/計算!$B$26*V$2))","v":1.8518384267717458E-2},{"$f":"IF($L33<W$1,0,IF($L33-W$1>計算!$B$26,W$2,($L33-W$1)/計算!$B$26*W$2))","v":-5.7963055209600434E-2},{"$f":"IF($L33<X$1,0,IF($L33-X$1>計算!$B$26,X$2,($L33-X$1)/計算!$B$26*X$2))","v":-5.5458494250048673E-2},{"$f":"IF($L33<Y$1,0,IF($L33-Y$1>計算!$B$26,Y$2,($L33-Y$1)/計算!$B$26*Y$2))","v":0.10338399991016445},{"$f":"IF($L33<Z$1,0,IF($L33-Z$1>計算!$B$26,Z$2,($L33-Z$1)/計算!$B$26*Z$2))","v":5.0289293255394885E-2},{"$f":"IF($L33<AA$1,0,IF($L33-AA$1>計算!$B$26,AA$2,($L33-AA$1)/計算!$B$26*AA$2))","v":-2.7349713392965651E-2},{"$f":"IF($L33<AB$1,0,IF($L33-AB$1>計算!$B$26,AB$2,($L33-AB$1)/計算!$B$26*AB$2))","v":2.1857596765774297E-3},{"$f":"IF($L33<AC$1,0,IF($L33-AC$1>計算!$B$26,AC$2,($L33-AC$1)/計算!$B$26*AC$2))","v":0},{"$f":"IF($L33<AD$1,0,IF($L33-AD$1>計算!$B$26,AD$2,($L33-AD$1)/計算!$B$26*AD$2))","v":0},{"$f":"IF($L33<AE$1,0,IF($L33-AE$1>計算!$B$26,AE$2,($L33-AE$1)/計算!$B$26*AE$2))","v":0},{"$f":"IF($L33<AF$1,0,IF($L33-AF$1>計算!$B$26,AF$2,($L33-AF$1)/計算!$B$26*AF$2))","v":0},{"$f":"IF($L33<AG$1,0,IF($L33-AG$1>計算!$B$26,AG$2,($L33-AG$1)/計算!$B$26*AG$2))","v":0},{"$f":"IF($L33<AH$1,0,IF($L33-AH$1>計算!$B$26,AH$2,($L33-AH$1)/計算!$B$26*AH$2))","v":0},{"$f":"IF($L33<AI$1,0,IF($L33-AI$1>計算!$B$26,AI$2,($L33-AI$1)/計算!$B$26*AI$2))","v":0},{"$f":"IF($L33<AJ$1,0,IF($L33-AJ$1>計算!$B$26,AJ$2,($L33-AJ$1)/計算!$B$26*AJ$2))","v":0},{"$f":"IF($L33<AK$1,0,IF($L33-AK$1>計算!$B$26,AK$2,($L33-AK$1)/計算!$B$26*AK$2))","v":0},{"$f":"IF($L33<AL$1,0,IF($L33-AL$1>計算!$B$26,AL$2,($L33-AL$1)/計算!$B$26*AL$2))","v":0},{"$f":"IF($L33<AM$1,0,IF($L33-AM$1>計算!$B$26,AM$2,($L33-AM$1)/計算!$B$26*AM$2))","v":0},{"$f":"IF($L33<AN$1,0,IF($L33-AN$1>計算!$B$26,AN$2,($L33-AN$1)/計算!$B$26*AN$2))","v":0},{"$f":"IF($L33<AO$1,0,IF($L33-AO$1>計算!$B$26,AO$2,($L33-AO$1)/計算!$B$26*AO$2))","v":0},{"$f":"IF($L33<AP$1,0,IF($L33-AP$1>計算!$B$26,AP$2,($L33-AP$1)/計算!$B$26*AP$2))","v":0},{"$f":"IF($L33<AQ$1,0,IF($L33-AQ$1>計算!$B$26,AQ$2,($L33-AQ$1)/計算!$B$26*AQ$2))","v":0},{"$f":"IF($L33<AR$1,0,IF($L33-AR$1>計算!$B$26,AR$2,($L33-AR$1)/計算!$B$26*AR$2))","v":0},{"$f":"IF($L33<AS$1,0,IF($L33-AS$1>計算!$B$26,AS$2,($L33-AS$1)/計算!$B$26*AS$2))","v":0},{"$f":"IF($L33<AT$1,0,IF($L33-AT$1>計算!$B$26,AT$2,($L33-AT$1)/計算!$B$26*AT$2))","v":0},{"$f":"IF($L33<AU$1,0,IF($L33-AU$1>計算!$B$26,AU$2,($L33-AU$1)/計算!$B$26*AU$2))","v":0},{"$f":"IF($L33<AV$1,0,IF($L33-AV$1>計算!$B$26,AV$2,($L33-AV$1)/計算!$B$26*AV$2))","v":0},3.3031844734039266,null,null,1E-8,3,{"$f":"IF(BB3+計算!$B$26>=準備!$T$33,準備!$T$33,BB3+計算!$B$26)+AZ33","v":1.4606960467441665},null,null,null,29,6.8401558596184646,{"$f":"IF($BG33<BH$1,0,IF($BG33-BH$1>計算!$B$26,BH$2,($BG33-BH$1)/計算!$B$26*BH$2))","v":1.8434248486289773},{"$f":"IF($BG33<BI$1,0,IF($BG33-BI$1>計算!$B$26,BI$2,($BG33-BI$1)/計算!$B$26*BI$2))","v":2.0804359702386828},{"$f":"IF($BG33<BJ$1,0,IF($BG33-BJ$1>計算!$B$26,BJ$2,($BG33-BJ$1)/計算!$B$26*BJ$2))","v":0.43833573789608726},{"$f":"IF($BG33<BK$1,0,IF($BG33-BK$1>計算!$B$26,BK$2,($BG33-BK$1)/計算!$B$26*BK$2))","v":-0.55120106185706153},{"$f":"IF($BG33<BL$1,0,IF($BG33-BL$1>計算!$B$26,BL$2,($BG33-BL$1)/計算!$B$26*BL$2))","v":-0.80365187452039688},{"$f":"IF($BG33<BM$1,0,IF($BG33-BM$1>計算!$B$26,BM$2,($BG33-BM$1)/計算!$B$26*BM$2))","v":0.19584279483276745},{"$f":"IF($BG33<BN$1,0,IF($BG33-BN$1>計算!$B$26,BN$2,($BG33-BN$1)/計算!$B$26*BN$2))","v":0.10422894063720944},{"$f":"IF($BG33<BO$1,0,IF($BG33-BO$1>計算!$B$26,BO$2,($BG33-BO$1)/計算!$B$26*BO$2))","v":-0.4423266906583132},{"$f":"IF($BG33<BP$1,0,IF($BG33-BP$1>計算!$B$26,BP$2,($BG33-BP$1)/計算!$B$26*BP$2))","v":0.16377391940418873},{"$f":"IF($BG33<BQ$1,0,IF($BG33-BQ$1>計算!$B$26,BQ$2,($BG33-BQ$1)/計算!$B$26*BQ$2))","v":0.47754805534168732},{"$f":"IF($BG33<BR$1,0,IF($BG33-BR$1>計算!$B$26,BR$2,($BG33-BR$1)/計算!$B$26*BR$2))","v":-0.21471923432841411},{"$f":"IF($BG33<BS$1,0,IF($BG33-BS$1>計算!$B$26,BS$2,($BG33-BS$1)/計算!$B$26*BS$2))","v":1.8435751369704434E-2},{"$f":"IF($BG33<BT$1,0,IF($BG33-BT$1>計算!$B$26,BT$2,($BG33-BT$1)/計算!$B$26*BT$2))","v":5.7143561107469527E-3},{"$f":"IF($BG33<BU$1,0,IF($BG33-BU$1>計算!$B$26,BU$2,($BG33-BU$1)/計算!$B$26*BU$2))","v":-3.0986577302777065E-2},{"$f":"IF($BG33<BV$1,0,IF($BG33-BV$1>計算!$B$26,BV$2,($BG33-BV$1)/計算!$B$26*BV$2))","v":3.9697811818323867E-2},{"$f":"IF($BG33<BW$1,0,IF($BG33-BW$1>計算!$B$26,BW$2,($BG33-BW$1)/計算!$B$26*BW$2))","v":-1.2172818953439066E-3},{"$f":"IF($BG33<BX$1,0,IF($BG33-BX$1>計算!$B$26,BX$2,($BG33-BX$1)/計算!$B$26*BX$2))","v":0},{"$f":"IF($BG33<BY$1,0,IF($BG33-BY$1>計算!$B$26,BY$2,($BG33-BY$1)/計算!$B$26*BY$2))","v":0},{"$f":"IF($BG33<BZ$1,0,IF($BG33-BZ$1>計算!$B$26,BZ$2,($BG33-BZ$1)/計算!$B$26*BZ$2))","v":0},{"$f":"IF($BG33<CA$1,0,IF($BG33-CA$1>計算!$B$26,CA$2,($BG33-CA$1)/計算!$B$26*CA$2))","v":0},{"$f":"IF($BG33<CB$1,0,IF($BG33-CB$1>計算!$B$26,CB$2,($BG33-CB$1)/計算!$B$26*CB$2))","v":0},{"$f":"IF($BG33<CC$1,0,IF($BG33-CC$1>計算!$B$26,CC$2,($BG33-CC$1)/計算!$B$26*CC$2))","v":0},{"$f":"IF($BG33<CD$1,0,IF($BG33-CD$1>計算!$B$26,CD$2,($BG33-CD$1)/計算!$B$26*CD$2))","v":0},{"$f":"IF($BG33<CE$1,0,IF($BG33-CE$1>計算!$B$26,CE$2,($BG33-CE$1)/計算!$B$26*CE$2))","v":0},{"$f":"IF($BG33<CF$1,0,IF($BG33-CF$1>計算!$B$26,CF$2,($BG33-CF$1)/計算!$B$26*CF$2))","v":0},{"$f":"IF($BG33<CG$1,0,IF($BG33-CG$1>計算!$B$26,CG$2,($BG33-CG$1)/計算!$B$26*CG$2))","v":0},{"$f":"IF($BG33<CH$1,0,IF($BG33-CH$1>計算!$B$26,CH$2,($BG33-CH$1)/計算!$B$26*CH$2))","v":0},{"$f":"IF($BG33<CI$1,0,IF($BG33-CI$1>計算!$B$26,CI$2,($BG33-CI$1)/計算!$B$26*CI$2))","v":0},{"$f":"IF($BG33<CJ$1,0,IF($BG33-CJ$1>計算!$B$26,CJ$2,($BG33-CJ$1)/計算!$B$26*CJ$2))","v":0},{"$f":"IF($BG33<CK$1,0,IF($BG33-CK$1>計算!$B$26,CK$2,($BG33-CK$1)/計算!$B$26*CK$2))","v":0},3.3233354657160685,null,null,6.3794598242742984,-8.4163255740782247E-3,8.4163255740782247E-3]
[null,null,null,null,null,68,{"$f":"準備!J33","v":9.7798857710556142},{"$f":"準備!O33-準備!O32","v":1.8495295770842635E-2},{"$f":"準備!P33-準備!P32","v":0.21926336098012911},null,31,6.4082807249766232,{"$f":"IF($L34<M$1,0,IF($L34-M$1>計算!$B$26,M$2,($L34-M$1)/計算!$B$26*M$2))","v":1.9890005284157226},{"$f":"IF($L34<N$1,0,IF($L34-N$1>計算!$B$26,N$2,($L34-N$1)/計算!$B$26*N$2))","v":0.32752179487645394},{"$f":"IF($L34<O$1,0,IF($L34-O$1>計算!$B$26,O$2,($L34-O$1)/計算!$B$26*O$2))","v":0.93101299851738872},{"$f":"IF($L34<P$1,0,IF($L34-P$1>計算!$B$26,P$2,($L34-P$1)/計算!$B$26*P$2))","v":0.27879940541488013},{"$f":"IF($L34<Q$1,0,IF($L34-Q$1>計算!$B$26,Q$2,($L34-Q$1)/計算!$B$26*Q$2))","v":7.7879229924124438E-2},{"$f":"IF($L34<R$1,0,IF($L34-R$1>計算!$B$26,R$2,($L34-R$1)/計算!$B$26*R$2))","v":-1.1192377066933545E-2},{"$f":"IF($L34<S$1,0,IF($L34-S$1>計算!$B$26,S$2,($L34-S$1)/計算!$B$26*S$2))","v":-0.23935531082328287},{"$f":"IF($L34<T$1,0,IF($L34-T$1>計算!$B$26,T$2,($L34-T$1)/計算!$B$26*T$2))","v":-0.11033288008978959},{"$f":"IF($L34<U$1,0,IF($L34-U$1>計算!$B$26,U$2,($L34-U$1)/計算!$B$26*U$2))","v":2.6244909978123232E-2},{"$f":"IF($L34<V$1,0,IF($L34-V$1>計算!$B$26,V$2,($L34-V$1)/計算!$B$26*V$2))","v":1.8518384267717458E-2},{"$f":"IF($L34<W$1,0,IF($L34-W$1>計算!$B$26,W$2,($L34-W$1)/計算!$B$26*W$2))","v":-5.7963055209600434E-2},{"$f":"IF($L34<X$1,0,IF($L34-X$1>計算!$B$26,X$2,($L34-X$1)/計算!$B$26*X$2))","v":-5.5458494250048673E-2},{"$f":"IF($L34<Y$1,0,IF($L34-Y$1>計算!$B$26,Y$2,($L34-Y$1)/計算!$B$26*Y$2))","v":0.10338399991016445},{"$f":"IF($L34<Z$1,0,IF($L34-Z$1>計算!$B$26,Z$2,($L34-Z$1)/計算!$B$26*Z$2))","v":5.0289293255394885E-2},{"$f":"IF($L34<AA$1,0,IF($L34-AA$1>計算!$B$26,AA$2,($L34-AA$1)/計算!$B$26*AA$2))","v":-2.9022629979411629E-2},{"$f":"IF($L34<AB$1,0,IF($L34-AB$1>計算!$B$26,AB$2,($L34-AB$1)/計算!$B$26*AB$2))","v":2.3281681649245747E-3},{"$f":"IF($L34<AC$1,0,IF($L34-AC$1>計算!$B$26,AC$2,($L34-AC$1)/計算!$B$26*AC$2))","v":0},{"$f":"IF($L34<AD$1,0,IF($L34-AD$1>計算!$B$26,AD$2,($L34-AD$1)/計算!$B$26*AD$2))","v":0},{"$f":"IF($L34<AE$1,0,IF($L34-AE$1>計算!$B$26,AE$2,($L34-AE$1)/計算!$B$26*AE$2))","v":0},{"$f":"IF($L34<AF$1,0,IF($L34-AF$1>計算!$B$26,AF$2,($L34-AF$1)/計算!$B$26*AF$2))","v":0},{"$f":"IF($L34<AG$1,0,IF($L34-AG$1>計算!$B$26,AG$2,($L34-AG$1)/計算!$B$26*AG$2))","v":0},{"$f":"IF($L34<AH$1,0,IF($L34-AH$1>計算!$B$26,AH$2,($L34-AH$1)/計算!$B$26*AH$2))","v":0},{"$f":"IF($L34<AI$1,0,IF($L34-AI$1>計算!$B$26,AI$2,($L34-AI$1)/計算!$B$26*AI$2))","v":0},{"$f":"IF($L34<AJ$1,0,IF($L34-AJ$1>計算!$B$26,AJ$2,($L34-AJ$1)/計算!$B$26*AJ$2))","v":0},{"$f":"IF($L34<AK$1,0,IF($L34-AK$1>計算!$B$26,AK$2,($L34-AK$1)/計算!$B$26*AK$2))","v":0},{"$f":"IF($L34<AL$1,0,IF($L34-AL$1>計算!$B$26,AL$2,($L34-AL$1)/計算!$B$26*AL$2))","v":0},{"$f":"IF($L34<AM$1,0,IF($L34-AM$1>計算!$B$26,AM$2,($L34-AM$1)/計算!$B$26*AM$2))","v":0},{"$f":"IF($L34<AN$1,0,IF($L34-AN$1>計算!$B$26,AN$2,($L34-AN$1)/計算!$B$26*AN$2))","v":0},{"$f":"IF($L34<AO$1,0,IF($L34-AO$1>計算!$B$26,AO$2,($L34-AO$1)/計算!$B$26*AO$2))","v":0},{"$f":"IF($L34<AP$1,0,IF($L34-AP$1>計算!$B$26,AP$2,($L34-AP$1)/計算!$B$26*AP$2))","v":0},{"$f":"IF($L34<AQ$1,0,IF($L34-AQ$1>計算!$B$26,AQ$2,($L34-AQ$1)/計算!$B$26*AQ$2))","v":0},{"$f":"IF($L34<AR$1,0,IF($L34-AR$1>計算!$B$26,AR$2,($L34-AR$1)/計算!$B$26*AR$2))","v":0},{"$f":"IF($L34<AS$1,0,IF($L34-AS$1>計算!$B$26,AS$2,($L34-AS$1)/計算!$B$26*AS$2))","v":0},{"$f":"IF($L34<AT$1,0,IF($L34-AT$1>計算!$B$26,AT$2,($L34-AT$1)/計算!$B$26*AT$2))","v":0},{"$f":"IF($L34<AU$1,0,IF($L34-AU$1>計算!$B$26,AU$2,($L34-AU$1)/計算!$B$26*AU$2))","v":0},{"$f":"IF($L34<AV$1,0,IF($L34-AV$1>計算!$B$26,AV$2,($L34-AV$1)/計算!$B$26*AV$2))","v":0},3.3016539653058277,null,null,2E-8,4,{"$f":"IF(BB4+計算!$B$26>=準備!$T$33,準備!$T$33,BB4+計算!$B$26)+AZ34","v":1.4895169573464913},null,null,null,30,6.8689767602207894,{"$f":"IF($BG34<BH$1,0,IF($BG34-BH$1>計算!$B$26,BH$2,($BG34-BH$1)/計算!$B$26*BH$2))","v":1.8434248486289773},{"$f":"IF($BG34<BI$1,0,IF($BG34-BI$1>計算!$B$26,BI$2,($BG34-BI$1)/計算!$B$26*BI$2))","v":2.0804359702386828},{"$f":"IF($BG34<BJ$1,0,IF($BG34-BJ$1>計算!$B$26,BJ$2,($BG34-BJ$1)/計算!$B$26*BJ$2))","v":0.43833573789608726},{"$f":"IF($BG34<BK$1,0,IF($BG34-BK$1>計算!$B$26,BK$2,($BG34-BK$1)/計算!$B$26*BK$2))","v":-0.55120106185706153},{"$f":"IF($BG34<BL$1,0,IF($BG34-BL$1>計算!$B$26,BL$2,($BG34-BL$1)/計算!$B$26*BL$2))","v":-0.80365187452039688},{"$f":"IF($BG34<BM$1,0,IF($BG34-BM$1>計算!$B$26,BM$2,($BG34-BM$1)/計算!$B$26*BM$2))","v":0.19584279483276745},{"$f":"IF($BG34<BN$1,0,IF($BG34-BN$1>計算!$B$26,BN$2,($BG34-BN$1)/計算!$B$26*BN$2))","v":0.10422894063720944},{"$f":"IF($BG34<BO$1,0,IF($BG34-BO$1>計算!$B$26,BO$2,($BG34-BO$1)/計算!$B$26*BO$2))","v":-0.4423266906583132},{"$f":"IF($BG34<BP$1,0,IF($BG34-BP$1>計算!$B$26,BP$2,($BG34-BP$1)/計算!$B$26*BP$2))","v":0.16377391940418873},{"$f":"IF($BG34<BQ$1,0,IF($BG34-BQ$1>計算!$B$26,BQ$2,($BG34-BQ$1)/計算!$B$26*BQ$2))","v":0.47754805534168732},{"$f":"IF($BG34<BR$1,0,IF($BG34-BR$1>計算!$B$26,BR$2,($BG34-BR$1)/計算!$B$26*BR$2))","v":-0.21471923432841411},{"$f":"IF($BG34<BS$1,0,IF($BG34-BS$1>計算!$B$26,BS$2,($BG34-BS$1)/計算!$B$26*BS$2))","v":1.8435751369704434E-2},{"$f":"IF($BG34<BT$1,0,IF($BG34-BT$1>計算!$B$26,BT$2,($BG34-BT$1)/計算!$B$26*BT$2))","v":7.1429451384337024E-3},{"$f":"IF($BG34<BU$1,0,IF($BG34-BU$1>計算!$B$26,BU$2,($BG34-BU$1)/計算!$B$26*BU$2))","v":-4.131543640370286E-2},{"$f":"IF($BG34<BV$1,0,IF($BG34-BV$1>計算!$B$26,BV$2,($BG34-BV$1)/計算!$B$26*BV$2))","v":5.95467177274858E-2},{"$f":"IF($BG34<BW$1,0,IF($BG34-BW$1>計算!$B$26,BW$2,($BG34-BW$1)/計算!$B$26*BW$2))","v":-2.4345637906878132E-3},{"$f":"IF($BG34<BX$1,0,IF($BG34-BX$1>計算!$B$26,BX$2,($BG34-BX$1)/計算!$B$26*BX$2))","v":-1.9645903420688674E-2},{"$f":"IF($BG34<BY$1,0,IF($BG34-BY$1>計算!$B$26,BY$2,($BG34-BY$1)/計算!$B$26*BY$2))","v":0},{"$f":"IF($BG34<BZ$1,0,IF($BG34-BZ$1>計算!$B$26,BZ$2,($BG34-BZ$1)/計算!$B$26*BZ$2))","v":0},{"$f":"IF($BG34<CA$1,0,IF($BG34-CA$1>計算!$B$26,CA$2,($BG34-CA$1)/計算!$B$26*CA$2))","v":0},{"$f":"IF($BG34<CB$1,0,IF($BG34-CB$1>計算!$B$26,CB$2,($BG34-CB$1)/計算!$B$26*CB$2))","v":0},{"$f":"IF($BG34<CC$1,0,IF($BG34-CC$1>計算!$B$26,CC$2,($BG34-CC$1)/計算!$B$26*CC$2))","v":0},{"$f":"IF($BG34<CD$1,0,IF($BG34-CD$1>計算!$B$26,CD$2,($BG34-CD$1)/計算!$B$26*CD$2))","v":0},{"$f":"IF($BG34<CE$1,0,IF($BG34-CE$1>計算!$B$26,CE$2,($BG34-CE$1)/計算!$B$26*CE$2))","v":0},{"$f":"IF($BG34<CF$1,0,IF($BG34-CF$1>計算!$B$26,CF$2,($BG34-CF$1)/計算!$B$26*CF$2))","v":0},{"$f":"IF($BG34<CG$1,0,IF($BG34-CG$1>計算!$B$26,CG$2,($BG34-CG$1)/計算!$B$26*CG$2))","v":0},{"$f":"IF($BG34<CH$1,0,IF($BG34-CH$1>計算!$B$26,CH$2,($BG34-CH$1)/計算!$B$26*CH$2))","v":0},{"$f":"IF($BG34<CI$1,0,IF($BG34-CI$1>計算!$B$26,CI$2,($BG34-CI$1)/計算!$B$26*CI$2))","v":0},{"$f":"IF($BG34<CJ$1,0,IF($BG34-CJ$1>計算!$B$26,CJ$2,($BG34-CJ$1)/計算!$B$26*CJ$2))","v":0},{"$f":"IF($BG34<CK$1,0,IF($BG34-CK$1>計算!$B$26,CK$2,($BG34-CK$1)/計算!$B$26*CK$2))","v":0},3.3134209162359589,null,null,6.4082807249766232,-1.3117398040468931E-2,1.3117398040468931E-2]
[null,null,null,null,null,69,{"$f":"準備!J34","v":9.808706671657939},{"$f":"準備!O34-準備!O33","v":-2.0125160748031501E-2},{"$f":"準備!P34-準備!P33","v":-9.111441097660089E-2},null,32,6.4371016256789479,{"$f":"IF($L35<M$1,0,IF($L35-M$1>計算!$B$26,M$2,($L35-M$1)/計算!$B$26*M$2))","v":1.9890005284157226},{"$f":"IF($L35<N$1,0,IF($L35-N$1>計算!$B$26,N$2,($L35-N$1)/計算!$B$26*N$2))","v":0.32752179487645394},{"$f":"IF($L35<O$1,0,IF($L35-O$1>計算!$B$26,O$2,($L35-O$1)/計算!$B$26*O$2))","v":0.93101299851738872},{"$f":"IF($L35<P$1,0,IF($L35-P$1>計算!$B$26,P$2,($L35-P$1)/計算!$B$26*P$2))","v":0.27879940541488013},{"$f":"IF($L35<Q$1,0,IF($L35-Q$1>計算!$B$26,Q$2,($L35-Q$1)/計算!$B$26*Q$2))","v":7.7879229924124438E-2},{"$f":"IF($L35<R$1,0,IF($L35-R$1>計算!$B$26,R$2,($L35-R$1)/計算!$B$26*R$2))","v":-1.1192377066933545E-2},{"$f":"IF($L35<S$1,0,IF($L35-S$1>計算!$B$26,S$2,($L35-S$1)/計算!$B$26*S$2))","v":-0.23935531082328287},{"$f":"IF($L35<T$1,0,IF($L35-T$1>計算!$B$26,T$2,($L35-T$1)/計算!$B$26*T$2))","v":-0.11033288008978959},{"$f":"IF($L35<U$1,0,IF($L35-U$1>計算!$B$26,U$2,($L35-U$1)/計算!$B$26*U$2))","v":2.6244909978123232E-2},{"$f":"IF($L35<V$1,0,IF($L35-V$1>計算!$B$26,V$2,($L35-V$1)/計算!$B$26*V$2))","v":1.8518384267717458E-2},{"$f":"IF($L35<W$1,0,IF($L35-W$1>計算!$B$26,W$2,($L35-W$1)/計算!$B$26*W$2))","v":-5.7963055209600434E-2},{"$f":"IF($L35<X$1,0,IF($L35-X$1>計算!$B$26,X$2,($L35-X$1)/計算!$B$26*X$2))","v":-5.5458494250048673E-2},{"$f":"IF($L35<Y$1,0,IF($L35-Y$1>計算!$B$26,Y$2,($L35-Y$1)/計算!$B$26*Y$2))","v":0.10338399991016445},{"$f":"IF($L35<Z$1,0,IF($L35-Z$1>計算!$B$26,Z$2,($L35-Z$1)/計算!$B$26*Z$2))","v":5.0289293255394885E-2},{"$f":"IF($L35<AA$1,0,IF($L35-AA$1>計算!$B$26,AA$2,($L35-AA$1)/計算!$B$26*AA$2))","v":-2.9022629979411629E-2},{"$f":"IF($L35<AB$1,0,IF($L35-AB$1>計算!$B$26,AB$2,($L35-AB$1)/計算!$B$26*AB$2))","v":2.470576645365874E-3},{"$f":"IF($L35<AC$1,0,IF($L35-AC$1>計算!$B$26,AC$2,($L35-AC$1)/計算!$B$26*AC$2))","v":0},{"$f":"IF($L35<AD$1,0,IF($L35-AD$1>計算!$B$26,AD$2,($L35-AD$1)/計算!$B$26*AD$2))","v":0},{"$f":"IF($L35<AE$1,0,IF($L35-AE$1>計算!$B$26,AE$2,($L35-AE$1)/計算!$B$26*AE$2))","v":0},{"$f":"IF($L35<AF$1,0,IF($L35-AF$1>計算!$B$26,AF$2,($L35-AF$1)/計算!$B$26*AF$2))","v":0},{"$f":"IF($L35<AG$1,0,IF($L35-AG$1>計算!$B$26,AG$2,($L35-AG$1)/計算!$B$26*AG$2))","v":0},{"$f":"IF($L35<AH$1,0,IF($L35-AH$1>計算!$B$26,AH$2,($L35-AH$1)/計算!$B$26*AH$2))","v":0},{"$f":"IF($L35<AI$1,0,IF($L35-AI$1>計算!$B$26,AI$2,($L35-AI$1)/計算!$B$26*AI$2))","v":0},{"$f":"IF($L35<AJ$1,0,IF($L35-AJ$1>計算!$B$26,AJ$2,($L35-AJ$1)/計算!$B$26*AJ$2))","v":0},{"$f":"IF($L35<AK$1,0,IF($L35-AK$1>計算!$B$26,AK$2,($L35-AK$1)/計算!$B$26*AK$2))","v":0},{"$f":"IF($L35<AL$1,0,IF($L35-AL$1>計算!$B$26,AL$2,($L35-AL$1)/計算!$B$26*AL$2))","v":0},{"$f":"IF($L35<AM$1,0,IF($L35-AM$1>計算!$B$26,AM$2,($L35-AM$1)/計算!$B$26*AM$2))","v":0},{"$f":"IF($L35<AN$1,0,IF($L35-AN$1>計算!$B$26,AN$2,($L35-AN$1)/計算!$B$26*AN$2))","v":0},{"$f":"IF($L35<AO$1,0,IF($L35-AO$1>計算!$B$26,AO$2,($L35-AO$1)/計算!$B$26*AO$2))","v":0},{"$f":"IF($L35<AP$1,0,IF($L35-AP$1>計算!$B$26,AP$2,($L35-AP$1)/計算!$B$26*AP$2))","v":0},{"$f":"IF($L35<AQ$1,0,IF($L35-AQ$1>計算!$B$26,AQ$2,($L35-AQ$1)/計算!$B$26*AQ$2))","v":0},{"$f":"IF($L35<AR$1,0,IF($L35-AR$1>計算!$B$26,AR$2,($L35-AR$1)/計算!$B$26*AR$2))","v":0},{"$f":"IF($L35<AS$1,0,IF($L35-AS$1>計算!$B$26,AS$2,($L35-AS$1)/計算!$B$26*AS$2))","v":0},{"$f":"IF($L35<AT$1,0,IF($L35-AT$1>計算!$B$26,AT$2,($L35-AT$1)/計算!$B$26*AT$2))","v":0},{"$f":"IF($L35<AU$1,0,IF($L35-AU$1>計算!$B$26,AU$2,($L35-AU$1)/計算!$B$26*AU$2))","v":0},{"$f":"IF($L35<AV$1,0,IF($L35-AV$1>計算!$B$26,AV$2,($L35-AV$1)/計算!$B$26*AV$2))","v":0},3.301796373786269,null,null,3.0000000000000004E-8,9,{"$f":"IF(BB5+計算!$B$26>=準備!$T$33,準備!$T$33,BB5+計算!$B$26)+AZ35","v":3.3820881402324998},null,null,null,31,6.8977976608231142,{"$f":"IF($BG35<BH$1,0,IF($BG35-BH$1>計算!$B$26,BH$2,($BG35-BH$1)/計算!$B$26*BH$2))","v":1.8434248486289773},{"$f":"IF($BG35<BI$1,0,IF($BG35-BI$1>計算!$B$26,BI$2,($BG35-BI$1)/計算!$B$26*BI$2))","v":2.0804359702386828},{"$f":"IF($BG35<BJ$1,0,IF($BG35-BJ$1>計算!$B$26,BJ$2,($BG35-BJ$1)/計算!$B$26*BJ$2))","v":0.43833573789608726},{"$f":"IF($BG35<BK$1,0,IF($BG35-BK$1>計算!$B$26,BK$2,($BG35-BK$1)/計算!$B$26*BK$2))","v":-0.55120106185706153},{"$f":"IF($BG35<BL$1,0,IF($BG35-BL$1>計算!$B$26,BL$2,($BG35-BL$1)/計算!$B$26*BL$2))","v":-0.80365187452039688},{"$f":"IF($BG35<BM$1,0,IF($BG35-BM$1>計算!$B$26,BM$2,($BG35-BM$1)/計算!$B$26*BM$2))","v":0.19584279483276745},{"$f":"IF($BG35<BN$1,0,IF($BG35-BN$1>計算!$B$26,BN$2,($BG35-BN$1)/計算!$B$26*BN$2))","v":0.10422894063720944},{"$f":"IF($BG35<BO$1,0,IF($BG35-BO$1>計算!$B$26,BO$2,($BG35-BO$1)/計算!$B$26*BO$2))","v":-0.4423266906583132},{"$f":"IF($BG35<BP$1,0,IF($BG35-BP$1>計算!$B$26,BP$2,($BG35-BP$1)/計算!$B$26*BP$2))","v":0.16377391940418873},{"$f":"IF($BG35<BQ$1,0,IF($BG35-BQ$1>計算!$B$26,BQ$2,($BG35-BQ$1)/計算!$B$26*BQ$2))","v":0.47754805534168732},{"$f":"IF($BG35<BR$1,0,IF($BG35-BR$1>計算!$B$26,BR$2,($BG35-BR$1)/計算!$B$26*BR$2))","v":-0.21471923432841411},{"$f":"IF($BG35<BS$1,0,IF($BG35-BS$1>計算!$B$26,BS$2,($BG35-BS$1)/計算!$B$26*BS$2))","v":1.8435751369704434E-2},{"$f":"IF($BG35<BT$1,0,IF($BG35-BT$1>計算!$B$26,BT$2,($BG35-BT$1)/計算!$B$26*BT$2))","v":8.5715341661204512E-3},{"$f":"IF($BG35<BU$1,0,IF($BG35-BU$1>計算!$B$26,BU$2,($BG35-BU$1)/計算!$B$26*BU$2))","v":-5.1644295504628651E-2},{"$f":"IF($BG35<BV$1,0,IF($BG35-BV$1>計算!$B$26,BV$2,($BG35-BV$1)/計算!$B$26*BV$2))","v":7.9395623636647733E-2},{"$f":"IF($BG35<BW$1,0,IF($BG35-BW$1>計算!$B$26,BW$2,($BG35-BW$1)/計算!$B$26*BW$2))","v":-3.6518456860317196E-3},{"$f":"IF($BG35<BX$1,0,IF($BG35-BX$1>計算!$B$26,BX$2,($BG35-BX$1)/計算!$B$26*BX$2))","v":-3.9291806841377348E-2},{"$f":"IF($BG35<BY$1,0,IF($BG35-BY$1>計算!$B$26,BY$2,($BG35-BY$1)/計算!$B$26*BY$2))","v":1.1156213019036234E-2},{"$f":"IF($BG35<BZ$1,0,IF($BG35-BZ$1>計算!$B$26,BZ$2,($BG35-BZ$1)/計算!$B$26*BZ$2))","v":0},{"$f":"IF($BG35<CA$1,0,IF($BG35-CA$1>計算!$B$26,CA$2,($BG35-CA$1)/計算!$B$26*CA$2))","v":0},{"$f":"IF($BG35<CB$1,0,IF($BG35-CB$1>計算!$B$26,CB$2,($BG35-CB$1)/計算!$B$26*CB$2))","v":0},{"$f":"IF($BG35<CC$1,0,IF($BG35-CC$1>計算!$B$26,CC$2,($BG35-CC$1)/計算!$B$26*CC$2))","v":0},{"$f":"IF($BG35<CD$1,0,IF($BG35-CD$1>計算!$B$26,CD$2,($BG35-CD$1)/計算!$B$26*CD$2))","v":0},{"$f":"IF($BG35<CE$1,0,IF($BG35-CE$1>計算!$B$26,CE$2,($BG35-CE$1)/計算!$B$26*CE$2))","v":0},{"$f":"IF($BG35<CF$1,0,IF($BG35-CF$1>計算!$B$26,CF$2,($BG35-CF$1)/計算!$B$26*CF$2))","v":0},{"$f":"IF($BG35<CG$1,0,IF($BG35-CG$1>計算!$B$26,CG$2,($BG35-CG$1)/計算!$B$26*CG$2))","v":0},{"$f":"IF($BG35<CH$1,0,IF($BG35-CH$1>計算!$B$26,CH$2,($BG35-CH$1)/計算!$B$26*CH$2))","v":0},{"$f":"IF($BG35<CI$1,0,IF($BG35-CI$1>計算!$B$26,CI$2,($BG35-CI$1)/計算!$B$26*CI$2))","v":0},{"$f":"IF($BG35<CJ$1,0,IF($BG35-CJ$1>計算!$B$26,CJ$2,($BG35-CJ$1)/計算!$B$26*CJ$2))","v":0},{"$f":"IF($BG35<CK$1,0,IF($BG35-CK$1>計算!$B$26,CK$2,($BG35-CK$1)/計算!$B$26*CK$2))","v":0},3.3146625797748852,null,null,6.4371016256789479,-1.2791354961844914E-2,1.2791354961844914E-2]
[null,null,null,null,null,70,{"$f":"準備!J35","v":9.8375275722602638},{"$f":"準備!O35-準備!O34","v":5.4735029024062243E-3},{"$f":"準備!P35-準備!P34","v":1.737511582623652E-2},null,33,7.6855682939533327,{"$f":"IF($L36<M$1,0,IF($L36-M$1>計算!$B$26,M$2,($L36-M$1)/計算!$B$26*M$2))","v":1.9890005284157226},{"$f":"IF($L36<N$1,0,IF($L36-N$1>計算!$B$26,N$2,($L36-N$1)/計算!$B$26*N$2))","v":0.32752179487645394},{"$f":"IF($L36<O$1,0,IF($L36-O$1>計算!$B$26,O$2,($L36-O$1)/計算!$B$26*O$2))","v":0.93101299851738872},{"$f":"IF($L36<P$1,0,IF($L36-P$1>計算!$B$26,P$2,($L36-P$1)/計算!$B$26*P$2))","v":0.27879940541488013},{"$f":"IF($L36<Q$1,0,IF($L36-Q$1>計算!$B$26,Q$2,($L36-Q$1)/計算!$B$26*Q$2))","v":7.7879229924124438E-2},{"$f":"IF($L36<R$1,0,IF($L36-R$1>計算!$B$26,R$2,($L36-R$1)/計算!$B$26*R$2))","v":-1.1192377066933545E-2},{"$f":"IF($L36<S$1,0,IF($L36-S$1>計算!$B$26,S$2,($L36-S$1)/計算!$B$26*S$2))","v":-0.23935531082328287},{"$f":"IF($L36<T$1,0,IF($L36-T$1>計算!$B$26,T$2,($L36-T$1)/計算!$B$26*T$2))","v":-0.11033288008978959},{"$f":"IF($L36<U$1,0,IF($L36-U$1>計算!$B$26,U$2,($L36-U$1)/計算!$B$26*U$2))","v":2.6244909978123232E-2},{"$f":"IF($L36<V$1,0,IF($L36-V$1>計算!$B$26,V$2,($L36-V$1)/計算!$B$26*V$2))","v":1.8518384267717458E-2},{"$f":"IF($L36<W$1,0,IF($L36-W$1>計算!$B$26,W$2,($L36-W$1)/計算!$B$26*W$2))","v":-5.7963055209600434E-2},{"$f":"IF($L36<X$1,0,IF($L36-X$1>計算!$B$26,X$2,($L36-X$1)/計算!$B$26*X$2))","v":-5.5458494250048673E-2},{"$f":"IF($L36<Y$1,0,IF($L36-Y$1>計算!$B$26,Y$2,($L36-Y$1)/計算!$B$26*Y$2))","v":0.10338399991016445},{"$f":"IF($L36<Z$1,0,IF($L36-Z$1>計算!$B$26,Z$2,($L36-Z$1)/計算!$B$26*Z$2))","v":5.0289293255394885E-2},{"$f":"IF($L36<AA$1,0,IF($L36-AA$1>計算!$B$26,AA$2,($L36-AA$1)/計算!$B$26*AA$2))","v":-2.9022629979411629E-2},{"$f":"IF($L36<AB$1,0,IF($L36-AB$1>計算!$B$26,AB$2,($L36-AB$1)/計算!$B$26*AB$2))","v":2.470576645365874E-3},{"$f":"IF($L36<AC$1,0,IF($L36-AC$1>計算!$B$26,AC$2,($L36-AC$1)/計算!$B$26*AC$2))","v":0},{"$f":"IF($L36<AD$1,0,IF($L36-AD$1>計算!$B$26,AD$2,($L36-AD$1)/計算!$B$26*AD$2))","v":0},{"$f":"IF($L36<AE$1,0,IF($L36-AE$1>計算!$B$26,AE$2,($L36-AE$1)/計算!$B$26*AE$2))","v":0},{"$f":"IF($L36<AF$1,0,IF($L36-AF$1>計算!$B$26,AF$2,($L36-AF$1)/計算!$B$26*AF$2))","v":0},{"$f":"IF($L36<AG$1,0,IF($L36-AG$1>計算!$B$26,AG$2,($L36-AG$1)/計算!$B$26*AG$2))","v":0},{"$f":"IF($L36<AH$1,0,IF($L36-AH$1>計算!$B$26,AH$2,($L36-AH$1)/計算!$B$26*AH$2))","v":0},{"$f":"IF($L36<AI$1,0,IF($L36-AI$1>計算!$B$26,AI$2,($L36-AI$1)/計算!$B$26*AI$2))","v":0},{"$f":"IF($L36<AJ$1,0,IF($L36-AJ$1>計算!$B$26,AJ$2,($L36-AJ$1)/計算!$B$26*AJ$2))","v":0},{"$f":"IF($L36<AK$1,0,IF($L36-AK$1>計算!$B$26,AK$2,($L36-AK$1)/計算!$B$26*AK$2))","v":0},{"$f":"IF($L36<AL$1,0,IF($L36-AL$1>計算!$B$26,AL$2,($L36-AL$1)/計算!$B$26*AL$2))","v":0},{"$f":"IF($L36<AM$1,0,IF($L36-AM$1>計算!$B$26,AM$2,($L36-AM$1)/計算!$B$26*AM$2))","v":0},{"$f":"IF($L36<AN$1,0,IF($L36-AN$1>計算!$B$26,AN$2,($L36-AN$1)/計算!$B$26*AN$2))","v":0},{"$f":"IF($L36<AO$1,0,IF($L36-AO$1>計算!$B$26,AO$2,($L36-AO$1)/計算!$B$26*AO$2))","v":0},{"$f":"IF($L36<AP$1,0,IF($L36-AP$1>計算!$B$26,AP$2,($L36-AP$1)/計算!$B$26*AP$2))","v":0},{"$f":"IF($L36<AQ$1,0,IF($L36-AQ$1>計算!$B$26,AQ$2,($L36-AQ$1)/計算!$B$26*AQ$2))","v":0},{"$f":"IF($L36<AR$1,0,IF($L36-AR$1>計算!$B$26,AR$2,($L36-AR$1)/計算!$B$26*AR$2))","v":0},{"$f":"IF($L36<AS$1,0,IF($L36-AS$1>計算!$B$26,AS$2,($L36-AS$1)/計算!$B$26*AS$2))","v":0},{"$f":"IF($L36<AT$1,0,IF($L36-AT$1>計算!$B$26,AT$2,($L36-AT$1)/計算!$B$26*AT$2))","v":0},{"$f":"IF($L36<AU$1,0,IF($L36-AU$1>計算!$B$26,AU$2,($L36-AU$1)/計算!$B$26*AU$2))","v":0},{"$f":"IF($L36<AV$1,0,IF($L36-AV$1>計算!$B$26,AV$2,($L36-AV$1)/計算!$B$26*AV$2))","v":0},3.301796373786269,null,null,4.0000000000000001E-8,10,{"$f":"IF(BB6+計算!$B$26>=準備!$T$33,準備!$T$33,BB6+計算!$B$26)+AZ36","v":3.4109090508348245},null,null,null,32,6.926618561425439,{"$f":"IF($BG36<BH$1,0,IF($BG36-BH$1>計算!$B$26,BH$2,($BG36-BH$1)/計算!$B$26*BH$2))","v":1.8434248486289773},{"$f":"IF($BG36<BI$1,0,IF($BG36-BI$1>計算!$B$26,BI$2,($BG36-BI$1)/計算!$B$26*BI$2))","v":2.0804359702386828},{"$f":"IF($BG36<BJ$1,0,IF($BG36-BJ$1>計算!$B$26,BJ$2,($BG36-BJ$1)/計算!$B$26*BJ$2))","v":0.43833573789608726},{"$f":"IF($BG36<BK$1,0,IF($BG36-BK$1>計算!$B$26,BK$2,($BG36-BK$1)/計算!$B$26*BK$2))","v":-0.55120106185706153},{"$f":"IF($BG36<BL$1,0,IF($BG36-BL$1>計算!$B$26,BL$2,($BG36-BL$1)/計算!$B$26*BL$2))","v":-0.80365187452039688},{"$f":"IF($BG36<BM$1,0,IF($BG36-BM$1>計算!$B$26,BM$2,($BG36-BM$1)/計算!$B$26*BM$2))","v":0.19584279483276745},{"$f":"IF($BG36<BN$1,0,IF($BG36-BN$1>計算!$B$26,BN$2,($BG36-BN$1)/計算!$B$26*BN$2))","v":0.10422894063720944},{"$f":"IF($BG36<BO$1,0,IF($BG36-BO$1>計算!$B$26,BO$2,($BG36-BO$1)/計算!$B$26*BO$2))","v":-0.4423266906583132},{"$f":"IF($BG36<BP$1,0,IF($BG36-BP$1>計算!$B$26,BP$2,($BG36-BP$1)/計算!$B$26*BP$2))","v":0.16377391940418873},{"$f":"IF($BG36<BQ$1,0,IF($BG36-BQ$1>計算!$B$26,BQ$2,($BG36-BQ$1)/計算!$B$26*BQ$2))","v":0.47754805534168732},{"$f":"IF($BG36<BR$1,0,IF($BG36-BR$1>計算!$B$26,BR$2,($BG36-BR$1)/計算!$B$26*BR$2))","v":-0.21471923432841411},{"$f":"IF($BG36<BS$1,0,IF($BG36-BS$1>計算!$B$26,BS$2,($BG36-BS$1)/計算!$B$26*BS$2))","v":1.8435751369704434E-2},{"$f":"IF($BG36<BT$1,0,IF($BG36-BT$1>計算!$B$26,BT$2,($BG36-BT$1)/計算!$B$26*BT$2))","v":1.0000123193807201E-2},{"$f":"IF($BG36<BU$1,0,IF($BG36-BU$1>計算!$B$26,BU$2,($BG36-BU$1)/計算!$B$26*BU$2))","v":-6.1973154605554442E-2},{"$f":"IF($BG36<BV$1,0,IF($BG36-BV$1>計算!$B$26,BV$2,($BG36-BV$1)/計算!$B$26*BV$2))","v":9.9244529545809659E-2},{"$f":"IF($BG36<BW$1,0,IF($BG36-BW$1>計算!$B$26,BW$2,($BG36-BW$1)/計算!$B$26*BW$2))","v":-4.8691275813756265E-3},{"$f":"IF($BG36<BX$1,0,IF($BG36-BX$1>計算!$B$26,BX$2,($BG36-BX$1)/計算!$B$26*BX$2))","v":-5.8937710262066019E-2},{"$f":"IF($BG36<BY$1,0,IF($BG36-BY$1>計算!$B$26,BY$2,($BG36-BY$1)/計算!$B$26*BY$2))","v":2.2312426038072469E-2},{"$f":"IF($BG36<BZ$1,0,IF($BG36-BZ$1>計算!$B$26,BZ$2,($BG36-BZ$1)/計算!$B$26*BZ$2))","v":-1.9196932437539125E-3},{"$f":"IF($BG36<CA$1,0,IF($BG36-CA$1>計算!$B$26,CA$2,($BG36-CA$1)/計算!$B$26*CA$2))","v":0},{"$f":"IF($BG36<CB$1,0,IF($BG36-CB$1>計算!$B$26,CB$2,($BG36-CB$1)/計算!$B$26*CB$2))","v":0},{"$f":"IF($BG36<CC$1,0,IF($BG36-CC$1>計算!$B$26,CC$2,($BG36-CC$1)/計算!$B$26*CC$2))","v":0},{"$f":"IF($BG36<CD$1,0,IF($BG36-CD$1>計算!$B$26,CD$2,($BG36-CD$1)/計算!$B$26*CD$2))","v":0},{"$f":"IF($BG36<CE$1,0,IF($BG36-CE$1>計算!$B$26,CE$2,($BG36-CE$1)/計算!$B$26*CE$2))","v":0},{"$f":"IF($BG36<CF$1,0,IF($BG36-CF$1>計算!$B$26,CF$2,($BG36-CF$1)/計算!$B$26*CF$2))","v":0},{"$f":"IF($BG36<CG$1,0,IF($BG36-CG$1>計算!$B$26,CG$2,($BG36-CG$1)/計算!$B$26*CG$2))","v":0},{"$f":"IF($BG36<CH$1,0,IF($BG36-CH$1>計算!$B$26,CH$2,($BG36-CH$1)/計算!$B$26*CH$2))","v":0},{"$f":"IF($BG36<CI$1,0,IF($BG36-CI$1>計算!$B$26,CI$2,($BG36-CI$1)/計算!$B$26*CI$2))","v":0},{"$f":"IF($BG36<CJ$1,0,IF($BG36-CJ$1>計算!$B$26,CJ$2,($BG36-CJ$1)/計算!$B$26*CJ$2))","v":0},{"$f":"IF($BG36<CK$1,0,IF($BG36-CK$1>計算!$B$26,CK$2,($BG36-CK$1)/計算!$B$26*CK$2))","v":0},3.313984550070058,null,null,7.6855682939533327,-1.2791354961844914E-2,1.2791354961844914E-2]
[null,null,null,null,null,71,{"$f":"準備!J36","v":9.8663484728625885},{"$f":"準備!O36-準備!O35","v":-5.8747582160645351E-4},{"$f":"準備!P36-準備!P35","v":-1.5290383016031139E-3},null,34,7.7143891945556575,{"$f":"IF($L37<M$1,0,IF($L37-M$1>計算!$B$26,M$2,($L37-M$1)/計算!$B$26*M$2))","v":1.9890005284157226},{"$f":"IF($L37<N$1,0,IF($L37-N$1>計算!$B$26,N$2,($L37-N$1)/計算!$B$26*N$2))","v":0.32752179487645394},{"$f":"IF($L37<O$1,0,IF($L37-O$1>計算!$B$26,O$2,($L37-O$1)/計算!$B$26*O$2))","v":0.93101299851738872},{"$f":"IF($L37<P$1,0,IF($L37-P$1>計算!$B$26,P$2,($L37-P$1)/計算!$B$26*P$2))","v":0.27879940541488013},{"$f":"IF($L37<Q$1,0,IF($L37-Q$1>計算!$B$26,Q$2,($L37-Q$1)/計算!$B$26*Q$2))","v":7.7879229924124438E-2},{"$f":"IF($L37<R$1,0,IF($L37-R$1>計算!$B$26,R$2,($L37-R$1)/計算!$B$26*R$2))","v":-1.1192377066933545E-2},{"$f":"IF($L37<S$1,0,IF($L37-S$1>計算!$B$26,S$2,($L37-S$1)/計算!$B$26*S$2))","v":-0.23935531082328287},{"$f":"IF($L37<T$1,0,IF($L37-T$1>計算!$B$26,T$2,($L37-T$1)/計算!$B$26*T$2))","v":-0.11033288008978959},{"$f":"IF($L37<U$1,0,IF($L37-U$1>計算!$B$26,U$2,($L37-U$1)/計算!$B$26*U$2))","v":2.6244909978123232E-2},{"$f":"IF($L37<V$1,0,IF($L37-V$1>計算!$B$26,V$2,($L37-V$1)/計算!$B$26*V$2))","v":1.8518384267717458E-2},{"$f":"IF($L37<W$1,0,IF($L37-W$1>計算!$B$26,W$2,($L37-W$1)/計算!$B$26*W$2))","v":-5.7963055209600434E-2},{"$f":"IF($L37<X$1,0,IF($L37-X$1>計算!$B$26,X$2,($L37-X$1)/計算!$B$26*X$2))","v":-5.5458494250048673E-2},{"$f":"IF($L37<Y$1,0,IF($L37-Y$1>計算!$B$26,Y$2,($L37-Y$1)/計算!$B$26*Y$2))","v":0.10338399991016445},{"$f":"IF($L37<Z$1,0,IF($L37-Z$1>計算!$B$26,Z$2,($L37-Z$1)/計算!$B$26*Z$2))","v":5.0289293255394885E-2},{"$f":"IF($L37<AA$1,0,IF($L37-AA$1>計算!$B$26,AA$2,($L37-AA$1)/計算!$B$26*AA$2))","v":-2.9022629979411629E-2},{"$f":"IF($L37<AB$1,0,IF($L37-AB$1>計算!$B$26,AB$2,($L37-AB$1)/計算!$B$26*AB$2))","v":2.470576645365874E-3},{"$f":"IF($L37<AC$1,0,IF($L37-AC$1>計算!$B$26,AC$2,($L37-AC$1)/計算!$B$26*AC$2))","v":2.5381780159726972E-4},{"$f":"IF($L37<AD$1,0,IF($L37-AD$1>計算!$B$26,AD$2,($L37-AD$1)/計算!$B$26*AD$2))","v":0},{"$f":"IF($L37<AE$1,0,IF($L37-AE$1>計算!$B$26,AE$2,($L37-AE$1)/計算!$B$26*AE$2))","v":0},{"$f":"IF($L37<AF$1,0,IF($L37-AF$1>計算!$B$26,AF$2,($L37-AF$1)/計算!$B$26*AF$2))","v":0},{"$f":"IF($L37<AG$1,0,IF($L37-AG$1>計算!$B$26,AG$2,($L37-AG$1)/計算!$B$26*AG$2))","v":0},{"$f":"IF($L37<AH$1,0,IF($L37-AH$1>計算!$B$26,AH$2,($L37-AH$1)/計算!$B$26*AH$2))","v":0},{"$f":"IF($L37<AI$1,0,IF($L37-AI$1>計算!$B$26,AI$2,($L37-AI$1)/計算!$B$26*AI$2))","v":0},{"$f":"IF($L37<AJ$1,0,IF($L37-AJ$1>計算!$B$26,AJ$2,($L37-AJ$1)/計算!$B$26*AJ$2))","v":0},{"$f":"IF($L37<AK$1,0,IF($L37-AK$1>計算!$B$26,AK$2,($L37-AK$1)/計算!$B$26*AK$2))","v":0},{"$f":"IF($L37<AL$1,0,IF($L37-AL$1>計算!$B$26,AL$2,($L37-AL$1)/計算!$B$26*AL$2))","v":0},{"$f":"IF($L37<AM$1,0,IF($L37-AM$1>計算!$B$26,AM$2,($L37-AM$1)/計算!$B$26*AM$2))","v":0},{"$f":"IF($L37<AN$1,0,IF($L37-AN$1>計算!$B$26,AN$2,($L37-AN$1)/計算!$B$26*AN$2))","v":0},{"$f":"IF($L37<AO$1,0,IF($L37-AO$1>計算!$B$26,AO$2,($L37-AO$1)/計算!$B$26*AO$2))","v":0},{"$f":"IF($L37<AP$1,0,IF($L37-AP$1>計算!$B$26,AP$2,($L37-AP$1)/計算!$B$26*AP$2))","v":0},{"$f":"IF($L37<AQ$1,0,IF($L37-AQ$1>計算!$B$26,AQ$2,($L37-AQ$1)/計算!$B$26*AQ$2))","v":0},{"$f":"IF($L37<AR$1,0,IF($L37-AR$1>計算!$B$26,AR$2,($L37-AR$1)/計算!$B$26*AR$2))","v":0},{"$f":"IF($L37<AS$1,0,IF($L37-AS$1>計算!$B$26,AS$2,($L37-AS$1)/計算!$B$26*AS$2))","v":0},{"$f":"IF($L37<AT$1,0,IF($L37-AT$1>計算!$B$26,AT$2,($L37-AT$1)/計算!$B$26*AT$2))","v":0},{"$f":"IF($L37<AU$1,0,IF($L37-AU$1>計算!$B$26,AU$2,($L37-AU$1)/計算!$B$26*AU$2))","v":0},{"$f":"IF($L37<AV$1,0,IF($L37-AV$1>計算!$B$26,AV$2,($L37-AV$1)/計算!$B$26*AV$2))","v":0},3.3020501915878664,null,null,4.9999999999999998E-8,11,{"$f":"IF(BB7+計算!$B$26>=準備!$T$33,準備!$T$33,BB7+計算!$B$26)+AZ37","v":3.4397299614371493},null,null,null,33,7.2248723872091665,{"$f":"IF($BG37<BH$1,0,IF($BG37-BH$1>計算!$B$26,BH$2,($BG37-BH$1)/計算!$B$26*BH$2))","v":1.8434248486289773},{"$f":"IF($BG37<BI$1,0,IF($BG37-BI$1>計算!$B$26,BI$2,($BG37-BI$1)/計算!$B$26*BI$2))","v":2.0804359702386828},{"$f":"IF($BG37<BJ$1,0,IF($BG37-BJ$1>計算!$B$26,BJ$2,($BG37-BJ$1)/計算!$B$26*BJ$2))","v":0.43833573789608726},{"$f":"IF($BG37<BK$1,0,IF($BG37-BK$1>計算!$B$26,BK$2,($BG37-BK$1)/計算!$B$26*BK$2))","v":-0.55120106185706153},{"$f":"IF($BG37<BL$1,0,IF($BG37-BL$1>計算!$B$26,BL$2,($BG37-BL$1)/計算!$B$26*BL$2))","v":-0.80365187452039688},{"$f":"IF($BG37<BM$1,0,IF($BG37-BM$1>計算!$B$26,BM$2,($BG37-BM$1)/計算!$B$26*BM$2))","v":0.19584279483276745},{"$f":"IF($BG37<BN$1,0,IF($BG37-BN$1>計算!$B$26,BN$2,($BG37-BN$1)/計算!$B$26*BN$2))","v":0.10422894063720944},{"$f":"IF($BG37<BO$1,0,IF($BG37-BO$1>計算!$B$26,BO$2,($BG37-BO$1)/計算!$B$26*BO$2))","v":-0.4423266906583132},{"$f":"IF($BG37<BP$1,0,IF($BG37-BP$1>計算!$B$26,BP$2,($BG37-BP$1)/計算!$B$26*BP$2))","v":0.16377391940418873},{"$f":"IF($BG37<BQ$1,0,IF($BG37-BQ$1>計算!$B$26,BQ$2,($BG37-BQ$1)/計算!$B$26*BQ$2))","v":0.47754805534168732},{"$f":"IF($BG37<BR$1,0,IF($BG37-BR$1>計算!$B$26,BR$2,($BG37-BR$1)/計算!$B$26*BR$2))","v":-0.21471923432841411},{"$f":"IF($BG37<BS$1,0,IF($BG37-BS$1>計算!$B$26,BS$2,($BG37-BS$1)/計算!$B$26*BS$2))","v":1.8435751369704434E-2},{"$f":"IF($BG37<BT$1,0,IF($BG37-BT$1>計算!$B$26,BT$2,($BG37-BT$1)/計算!$B$26*BT$2))","v":2.4783906779989984E-2},{"$f":"IF($BG37<BU$1,0,IF($BG37-BU$1>計算!$B$26,BU$2,($BG37-BU$1)/計算!$B$26*BU$2))","v":-0.16886161674416289},{"$f":"IF($BG37<BV$1,0,IF($BG37-BV$1>計算!$B$26,BV$2,($BG37-BV$1)/計算!$B$26*BV$2))","v":0.30465143916025994},{"$f":"IF($BG37<BW$1,0,IF($BG37-BW$1>計算!$B$26,BW$2,($BG37-BW$1)/計算!$B$26*BW$2))","v":-1.7466200356898179E-2},{"$f":"IF($BG37<BX$1,0,IF($BG37-BX$1>計算!$B$26,BX$2,($BG37-BX$1)/計算!$B$26*BX$2))","v":-0.26224384344117191},{"$f":"IF($BG37<BY$1,0,IF($BG37-BY$1>計算!$B$26,BY$2,($BG37-BY$1)/計算!$B$26*BY$2))","v":0.13776278132354849},{"$f":"IF($BG37<BZ$1,0,IF($BG37-BZ$1>計算!$B$26,BZ$2,($BG37-BZ$1)/計算!$B$26*BZ$2))","v":-2.1785687793368855E-2},{"$f":"IF($BG37<CA$1,0,IF($BG37-CA$1>計算!$B$26,CA$2,($BG37-CA$1)/計算!$B$26*CA$2))","v":1.0352139258107823E-3},{"$f":"IF($BG37<CB$1,0,IF($BG37-CB$1>計算!$B$26,CB$2,($BG37-CB$1)/計算!$B$26*CB$2))","v":0},{"$f":"IF($BG37<CC$1,0,IF($BG37-CC$1>計算!$B$26,CC$2,($BG37-CC$1)/計算!$B$26*CC$2))","v":0},{"$f":"IF($BG37<CD$1,0,IF($BG37-CD$1>計算!$B$26,CD$2,($BG37-CD$1)/計算!$B$26*CD$2))","v":0},{"$f":"IF($BG37<CE$1,0,IF($BG37-CE$1>計算!$B$26,CE$2,($BG37-CE$1)/計算!$B$26*CE$2))","v":0},{"$f":"IF($BG37<CF$1,0,IF($BG37-CF$1>計算!$B$26,CF$2,($BG37-CF$1)/計算!$B$26*CF$2))","v":0},{"$f":"IF($BG37<CG$1,0,IF($BG37-CG$1>計算!$B$26,CG$2,($BG37-CG$1)/計算!$B$26*CG$2))","v":0},{"$f":"IF($BG37<CH$1,0,IF($BG37-CH$1>計算!$B$26,CH$2,($BG37-CH$1)/計算!$B$26*CH$2))","v":0},{"$f":"IF($BG37<CI$1,0,IF($BG37-CI$1>計算!$B$26,CI$2,($BG37-CI$1)/計算!$B$26*CI$2))","v":0},{"$f":"IF($BG37<CJ$1,0,IF($BG37-CJ$1>計算!$B$26,CJ$2,($BG37-CJ$1)/計算!$B$26*CJ$2))","v":0},{"$f":"IF($BG37<CK$1,0,IF($BG37-CK$1>計算!$B$26,CK$2,($BG37-CK$1)/計算!$B$26*CK$2))","v":0},3.3080031498391258,null,null,7.7143891945556575,-1.3487978318872527E-2,1.3487978318872527E-2]
["L(nH/m)",{"$f":"(B12*B23+B13*B24)/2","v":329.48379899776762},null,null,null,72,{"$f":"準備!J37","v":9.8951693734649133},{"$f":"準備!O37-準備!O36","v":2.189297696553183E-5},{"$f":"準備!P37-準備!P36","v":5.0123795913403768E-5},null,35,7.7432100951579823,{"$f":"IF($L38<M$1,0,IF($L38-M$1>計算!$B$26,M$2,($L38-M$1)/計算!$B$26*M$2))","v":1.9890005284157226},{"$f":"IF($L38<N$1,0,IF($L38-N$1>計算!$B$26,N$2,($L38-N$1)/計算!$B$26*N$2))","v":0.32752179487645394},{"$f":"IF($L38<O$1,0,IF($L38-O$1>計算!$B$26,O$2,($L38-O$1)/計算!$B$26*O$2))","v":0.93101299851738872},{"$f":"IF($L38<P$1,0,IF($L38-P$1>計算!$B$26,P$2,($L38-P$1)/計算!$B$26*P$2))","v":0.27879940541488013},{"$f":"IF($L38<Q$1,0,IF($L38-Q$1>計算!$B$26,Q$2,($L38-Q$1)/計算!$B$26*Q$2))","v":7.7879229924124438E-2},{"$f":"IF($L38<R$1,0,IF($L38-R$1>計算!$B$26,R$2,($L38-R$1)/計算!$B$26*R$2))","v":-1.1192377066933545E-2},{"$f":"IF($L38<S$1,0,IF($L38-S$1>計算!$B$26,S$2,($L38-S$1)/計算!$B$26*S$2))","v":-0.23935531082328287},{"$f":"IF($L38<T$1,0,IF($L38-T$1>計算!$B$26,T$2,($L38-T$1)/計算!$B$26*T$2))","v":-0.11033288008978959},{"$f":"IF($L38<U$1,0,IF($L38-U$1>計算!$B$26,U$2,($L38-U$1)/計算!$B$26*U$2))","v":2.6244909978123232E-2},{"$f":"IF($L38<V$1,0,IF($L38-V$1>計算!$B$26,V$2,($L38-V$1)/計算!$B$26*V$2))","v":1.8518384267717458E-2},{"$f":"IF($L38<W$1,0,IF($L38-W$1>計算!$B$26,W$2,($L38-W$1)/計算!$B$26*W$2))","v":-5.7963055209600434E-2},{"$f":"IF($L38<X$1,0,IF($L38-X$1>計算!$B$26,X$2,($L38-X$1)/計算!$B$26*X$2))","v":-5.5458494250048673E-2},{"$f":"IF($L38<Y$1,0,IF($L38-Y$1>計算!$B$26,Y$2,($L38-Y$1)/計算!$B$26*Y$2))","v":0.10338399991016445},{"$f":"IF($L38<Z$1,0,IF($L38-Z$1>計算!$B$26,Z$2,($L38-Z$1)/計算!$B$26*Z$2))","v":5.0289293255394885E-2},{"$f":"IF($L38<AA$1,0,IF($L38-AA$1>計算!$B$26,AA$2,($L38-AA$1)/計算!$B$26*AA$2))","v":-2.9022629979411629E-2},{"$f":"IF($L38<AB$1,0,IF($L38-AB$1>計算!$B$26,AB$2,($L38-AB$1)/計算!$B$26*AB$2))","v":2.470576645365874E-3},{"$f":"IF($L38<AC$1,0,IF($L38-AC$1>計算!$B$26,AC$2,($L38-AC$1)/計算!$B$26*AC$2))","v":5.0763560319453944E-4},{"$f":"IF($L38<AD$1,0,IF($L38-AD$1>計算!$B$26,AD$2,($L38-AD$1)/計算!$B$26*AD$2))","v":-1.5524361790667624E-3},{"$f":"IF($L38<AE$1,0,IF($L38-AE$1>計算!$B$26,AE$2,($L38-AE$1)/計算!$B$26*AE$2))","v":0},{"$f":"IF($L38<AF$1,0,IF($L38-AF$1>計算!$B$26,AF$2,($L38-AF$1)/計算!$B$26*AF$2))","v":0},{"$f":"IF($L38<AG$1,0,IF($L38-AG$1>計算!$B$26,AG$2,($L38-AG$1)/計算!$B$26*AG$2))","v":0},{"$f":"IF($L38<AH$1,0,IF($L38-AH$1>計算!$B$26,AH$2,($L38-AH$1)/計算!$B$26*AH$2))","v":0},{"$f":"IF($L38<AI$1,0,IF($L38-AI$1>計算!$B$26,AI$2,($L38-AI$1)/計算!$B$26*AI$2))","v":0},{"$f":"IF($L38<AJ$1,0,IF($L38-AJ$1>計算!$B$26,AJ$2,($L38-AJ$1)/計算!$B$26*AJ$2))","v":0},{"$f":"IF($L38<AK$1,0,IF($L38-AK$1>計算!$B$26,AK$2,($L38-AK$1)/計算!$B$26*AK$2))","v":0},{"$f":"IF($L38<AL$1,0,IF($L38-AL$1>計算!$B$26,AL$2,($L38-AL$1)/計算!$B$26*AL$2))","v":0},{"$f":"IF($L38<AM$1,0,IF($L38-AM$1>計算!$B$26,AM$2,($L38-AM$1)/計算!$B$26*AM$2))","v":0},{"$f":"IF($L38<AN$1,0,IF($L38-AN$1>計算!$B$26,AN$2,($L38-AN$1)/計算!$B$26*AN$2))","v":0},{"$f":"IF($L38<AO$1,0,IF($L38-AO$1>計算!$B$26,AO$2,($L38-AO$1)/計算!$B$26*AO$2))","v":0},{"$f":"IF($L38<AP$1,0,IF($L38-AP$1>計算!$B$26,AP$2,($L38-AP$1)/計算!$B$26*AP$2))","v":0},{"$f":"IF($L38<AQ$1,0,IF($L38-AQ$1>計算!$B$26,AQ$2,($L38-AQ$1)/計算!$B$26*AQ$2))","v":0},{"$f":"IF($L38<AR$1,0,IF($L38-AR$1>計算!$B$26,AR$2,($L38-AR$1)/計算!$B$26*AR$2))","v":0},{"$f":"IF($L38<AS$1,0,IF($L38-AS$1>計算!$B$26,AS$2,($L38-AS$1)/計算!$B$26*AS$2))","v":0},{"$f":"IF($L38<AT$1,0,IF($L38-AT$1>計算!$B$26,AT$2,($L38-AT$1)/計算!$B$26*AT$2))","v":0},{"$f":"IF($L38<AU$1,0,IF($L38-AU$1>計算!$B$26,AU$2,($L38-AU$1)/計算!$B$26*AU$2))","v":0},{"$f":"IF($L38<AV$1,0,IF($L38-AV$1>計算!$B$26,AV$2,($L38-AV$1)/計算!$B$26*AV$2))","v":0},3.3007515732103965,null,null,5.9999999999999995E-8,12,{"$f":"IF(BB8+計算!$B$26>=準備!$T$33,準備!$T$33,BB8+計算!$B$26)+AZ38","v":3.468550872039474},null,null,null,34,7.2536932978114912,{"$f":"IF($BG38<BH$1,0,IF($BG38-BH$1>計算!$B$26,BH$2,($BG38-BH$1)/計算!$B$26*BH$2))","v":1.8434248486289773},{"$f":"IF($BG38<BI$1,0,IF($BG38-BI$1>計算!$B$26,BI$2,($BG38-BI$1)/計算!$B$26*BI$2))","v":2.0804359702386828},{"$f":"IF($BG38<BJ$1,0,IF($BG38-BJ$1>計算!$B$26,BJ$2,($BG38-BJ$1)/計算!$B$26*BJ$2))","v":0.43833573789608726},{"$f":"IF($BG38<BK$1,0,IF($BG38-BK$1>計算!$B$26,BK$2,($BG38-BK$1)/計算!$B$26*BK$2))","v":-0.55120106185706153},{"$f":"IF($BG38<BL$1,0,IF($BG38-BL$1>計算!$B$26,BL$2,($BG38-BL$1)/計算!$B$26*BL$2))","v":-0.80365187452039688},{"$f":"IF($BG38<BM$1,0,IF($BG38-BM$1>計算!$B$26,BM$2,($BG38-BM$1)/計算!$B$26*BM$2))","v":0.19584279483276745},{"$f":"IF($BG38<BN$1,0,IF($BG38-BN$1>計算!$B$26,BN$2,($BG38-BN$1)/計算!$B$26*BN$2))","v":0.10422894063720944},{"$f":"IF($BG38<BO$1,0,IF($BG38-BO$1>計算!$B$26,BO$2,($BG38-BO$1)/計算!$B$26*BO$2))","v":-0.4423266906583132},{"$f":"IF($BG38<BP$1,0,IF($BG38-BP$1>計算!$B$26,BP$2,($BG38-BP$1)/計算!$B$26*BP$2))","v":0.16377391940418873},{"$f":"IF($BG38<BQ$1,0,IF($BG38-BQ$1>計算!$B$26,BQ$2,($BG38-BQ$1)/計算!$B$26*BQ$2))","v":0.47754805534168732},{"$f":"IF($BG38<BR$1,0,IF($BG38-BR$1>計算!$B$26,BR$2,($BG38-BR$1)/計算!$B$26*BR$2))","v":-0.21471923432841411},{"$f":"IF($BG38<BS$1,0,IF($BG38-BS$1>計算!$B$26,BS$2,($BG38-BS$1)/計算!$B$26*BS$2))","v":1.8435751369704434E-2},{"$f":"IF($BG38<BT$1,0,IF($BG38-BT$1>計算!$B$26,BT$2,($BG38-BT$1)/計算!$B$26*BT$2))","v":2.4783906779989984E-2},{"$f":"IF($BG38<BU$1,0,IF($BG38-BU$1>計算!$B$26,BU$2,($BG38-BU$1)/計算!$B$26*BU$2))","v":-0.17919042925557704},{"$f":"IF($BG38<BV$1,0,IF($BG38-BV$1>計算!$B$26,BV$2,($BG38-BV$1)/計算!$B$26*BV$2))","v":0.32450035195640503},{"$f":"IF($BG38<BW$1,0,IF($BG38-BW$1>計算!$B$26,BW$2,($BG38-BW$1)/計算!$B$26*BW$2))","v":-1.8683482674602896E-2},{"$f":"IF($BG38<BX$1,0,IF($BG38-BX$1>計算!$B$26,BX$2,($BG38-BX$1)/計算!$B$26*BX$2))","v":-0.28188975367840791},{"$f":"IF($BG38<BY$1,0,IF($BG38-BY$1>計算!$B$26,BY$2,($BG38-BY$1)/計算!$B$26*BY$2))","v":0.14891899821346061},{"$f":"IF($BG38<BZ$1,0,IF($BG38-BZ$1>計算!$B$26,BZ$2,($BG38-BZ$1)/計算!$B$26*BZ$2))","v":-2.3705381703199538E-2},{"$f":"IF($BG38<CA$1,0,IF($BG38-CA$1>計算!$B$26,CA$2,($BG38-CA$1)/計算!$B$26*CA$2))","v":1.1352488807075856E-3},{"$f":"IF($BG38<CB$1,0,IF($BG38-CB$1>計算!$B$26,CB$2,($BG38-CB$1)/計算!$B$26*CB$2))","v":0},{"$f":"IF($BG38<CC$1,0,IF($BG38-CC$1>計算!$B$26,CC$2,($BG38-CC$1)/計算!$B$26*CC$2))","v":0},{"$f":"IF($BG38<CD$1,0,IF($BG38-CD$1>計算!$B$26,CD$2,($BG38-CD$1)/計算!$B$26*CD$2))","v":0},{"$f":"IF($BG38<CE$1,0,IF($BG38-CE$1>計算!$B$26,CE$2,($BG38-CE$1)/計算!$B$26*CE$2))","v":0},{"$f":"IF($BG38<CF$1,0,IF($BG38-CF$1>計算!$B$26,CF$2,($BG38-CF$1)/計算!$B$26*CF$2))","v":0},{"$f":"IF($BG38<CG$1,0,IF($BG38-CG$1>計算!$B$26,CG$2,($BG38-CG$1)/計算!$B$26*CG$2))","v":0},{"$f":"IF($BG38<CH$1,0,IF($BG38-CH$1>計算!$B$26,CH$2,($BG38-CH$1)/計算!$B$26*CH$2))","v":0},{"$f":"IF($BG38<CI$1,0,IF($BG38-CI$1>計算!$B$26,CI$2,($BG38-CI$1)/計算!$B$26*CI$2))","v":0},{"$f":"IF($BG38<CJ$1,0,IF($BG38-CJ$1>計算!$B$26,CJ$2,($BG38-CJ$1)/計算!$B$26*CJ$2))","v":0},{"$f":"IF($BG38<CK$1,0,IF($BG38-CK$1>計算!$B$26,CK$2,($BG38-CK$1)/計算!$B$26*CK$2))","v":0},3.3059966155038949,null,null,7.7432100951579823,-8.1077688310589625E-3,8.1077688310589625E-3]
["Lm(nH/m)",{"$f":"(B12*B23-B13*B24)/2","v":54.171706655793599},null,null,1E-10,2,{"$f":"IF(G3+計算!$B$26>=準備!$T$33,準備!$T$33,G3+計算!$B$26)+E39","v":0.50000000010000001},null,null,null,36,7.7720309957603071,{"$f":"IF($L39<M$1,0,IF($L39-M$1>計算!$B$26,M$2,($L39-M$1)/計算!$B$26*M$2))","v":1.9890005284157226},{"$f":"IF($L39<N$1,0,IF($L39-N$1>計算!$B$26,N$2,($L39-N$1)/計算!$B$26*N$2))","v":0.32752179487645394},{"$f":"IF($L39<O$1,0,IF($L39-O$1>計算!$B$26,O$2,($L39-O$1)/計算!$B$26*O$2))","v":0.93101299851738872},{"$f":"IF($L39<P$1,0,IF($L39-P$1>計算!$B$26,P$2,($L39-P$1)/計算!$B$26*P$2))","v":0.27879940541488013},{"$f":"IF($L39<Q$1,0,IF($L39-Q$1>計算!$B$26,Q$2,($L39-Q$1)/計算!$B$26*Q$2))","v":7.7879229924124438E-2},{"$f":"IF($L39<R$1,0,IF($L39-R$1>計算!$B$26,R$2,($L39-R$1)/計算!$B$26*R$2))","v":-1.1192377066933545E-2},{"$f":"IF($L39<S$1,0,IF($L39-S$1>計算!$B$26,S$2,($L39-S$1)/計算!$B$26*S$2))","v":-0.23935531082328287},{"$f":"IF($L39<T$1,0,IF($L39-T$1>計算!$B$26,T$2,($L39-T$1)/計算!$B$26*T$2))","v":-0.11033288008978959},{"$f":"IF($L39<U$1,0,IF($L39-U$1>計算!$B$26,U$2,($L39-U$1)/計算!$B$26*U$2))","v":2.6244909978123232E-2},{"$f":"IF($L39<V$1,0,IF($L39-V$1>計算!$B$26,V$2,($L39-V$1)/計算!$B$26*V$2))","v":1.8518384267717458E-2},{"$f":"IF($L39<W$1,0,IF($L39-W$1>計算!$B$26,W$2,($L39-W$1)/計算!$B$26*W$2))","v":-5.7963055209600434E-2},{"$f":"IF($L39<X$1,0,IF($L39-X$1>計算!$B$26,X$2,($L39-X$1)/計算!$B$26*X$2))","v":-5.5458494250048673E-2},{"$f":"IF($L39<Y$1,0,IF($L39-Y$1>計算!$B$26,Y$2,($L39-Y$1)/計算!$B$26*Y$2))","v":0.10338399991016445},{"$f":"IF($L39<Z$1,0,IF($L39-Z$1>計算!$B$26,Z$2,($L39-Z$1)/計算!$B$26*Z$2))","v":5.0289293255394885E-2},{"$f":"IF($L39<AA$1,0,IF($L39-AA$1>計算!$B$26,AA$2,($L39-AA$1)/計算!$B$26*AA$2))","v":-2.9022629979411629E-2},{"$f":"IF($L39<AB$1,0,IF($L39-AB$1>計算!$B$26,AB$2,($L39-AB$1)/計算!$B$26*AB$2))","v":2.470576645365874E-3},{"$f":"IF($L39<AC$1,0,IF($L39-AC$1>計算!$B$26,AC$2,($L39-AC$1)/計算!$B$26*AC$2))","v":7.6145340479180927E-4},{"$f":"IF($L39<AD$1,0,IF($L39-AD$1>計算!$B$26,AD$2,($L39-AD$1)/計算!$B$26*AD$2))","v":-3.1048723581335248E-3},{"$f":"IF($L39<AE$1,0,IF($L39-AE$1>計算!$B$26,AE$2,($L39-AE$1)/計算!$B$26*AE$2))","v":1.5233946173052236E-3},{"$f":"IF($L39<AF$1,0,IF($L39-AF$1>計算!$B$26,AF$2,($L39-AF$1)/計算!$B$26*AF$2))","v":0},{"$f":"IF($L39<AG$1,0,IF($L39-AG$1>計算!$B$26,AG$2,($L39-AG$1)/計算!$B$26*AG$2))","v":0},{"$f":"IF($L39<AH$1,0,IF($L39-AH$1>計算!$B$26,AH$2,($L39-AH$1)/計算!$B$26*AH$2))","v":0},{"$f":"IF($L39<AI$1,0,IF($L39-AI$1>計算!$B$26,AI$2,($L39-AI$1)/計算!$B$26*AI$2))","v":0},{"$f":"IF($L39<AJ$1,0,IF($L39-AJ$1>計算!$B$26,AJ$2,($L39-AJ$1)/計算!$B$26*AJ$2))","v":0},{"$f":"IF($L39<AK$1,0,IF($L39-AK$1>計算!$B$26,AK$2,($L39-AK$1)/計算!$B$26*AK$2))","v":0},{"$f":"IF($L39<AL$1,0,IF($L39-AL$1>計算!$B$26,AL$2,($L39-AL$1)/計算!$B$26*AL$2))","v":0},{"$f":"IF($L39<AM$1,0,IF($L39-AM$1>計算!$B$26,AM$2,($L39-AM$1)/計算!$B$26*AM$2))","v":0},{"$f":"IF($L39<AN$1,0,IF($L39-AN$1>計算!$B$26,AN$2,($L39-AN$1)/計算!$B$26*AN$2))","v":0},{"$f":"IF($L39<AO$1,0,IF($L39-AO$1>計算!$B$26,AO$2,($L39-AO$1)/計算!$B$26*AO$2))","v":0},{"$f":"IF($L39<AP$1,0,IF($L39-AP$1>計算!$B$26,AP$2,($L39-AP$1)/計算!$B$26*AP$2))","v":0},{"$f":"IF($L39<AQ$1,0,IF($L39-AQ$1>計算!$B$26,AQ$2,($L39-AQ$1)/計算!$B$26*AQ$2))","v":0},{"$f":"IF($L39<AR$1,0,IF($L39-AR$1>計算!$B$26,AR$2,($L39-AR$1)/計算!$B$26*AR$2))","v":0},{"$f":"IF($L39<AS$1,0,IF($L39-AS$1>計算!$B$26,AS$2,($L39-AS$1)/計算!$B$26*AS$2))","v":0},{"$f":"IF($L39<AT$1,0,IF($L39-AT$1>計算!$B$26,AT$2,($L39-AT$1)/計算!$B$26*AT$2))","v":0},{"$f":"IF($L39<AU$1,0,IF($L39-AU$1>計算!$B$26,AU$2,($L39-AU$1)/計算!$B$26*AU$2))","v":0},{"$f":"IF($L39<AV$1,0,IF($L39-AV$1>計算!$B$26,AV$2,($L39-AV$1)/計算!$B$26*AV$2))","v":0},3.3009763494502322,null,null,6.9999999999999992E-8,19,{"$f":"IF(BB9+計算!$B$26>=準備!$T$33,準備!$T$33,BB9+計算!$B$26)+AZ39","v":5.3034802537208323},null,null,null,35,7.282514208413815,{"$f":"IF($BG39<BH$1,0,IF($BG39-BH$1>計算!$B$26,BH$2,($BG39-BH$1)/計算!$B$26*BH$2))","v":1.8434248486289773},{"$f":"IF($BG39<BI$1,0,IF($BG39-BI$1>計算!$B$26,BI$2,($BG39-BI$1)/計算!$B$26*BI$2))","v":2.0804359702386828},{"$f":"IF($BG39<BJ$1,0,IF($BG39-BJ$1>計算!$B$26,BJ$2,($BG39-BJ$1)/計算!$B$26*BJ$2))","v":0.43833573789608726},{"$f":"IF($BG39<BK$1,0,IF($BG39-BK$1>計算!$B$26,BK$2,($BG39-BK$1)/計算!$B$26*BK$2))","v":-0.55120106185706153},{"$f":"IF($BG39<BL$1,0,IF($BG39-BL$1>計算!$B$26,BL$2,($BG39-BL$1)/計算!$B$26*BL$2))","v":-0.80365187452039688},{"$f":"IF($BG39<BM$1,0,IF($BG39-BM$1>計算!$B$26,BM$2,($BG39-BM$1)/計算!$B$26*BM$2))","v":0.19584279483276745},{"$f":"IF($BG39<BN$1,0,IF($BG39-BN$1>計算!$B$26,BN$2,($BG39-BN$1)/計算!$B$26*BN$2))","v":0.10422894063720944},{"$f":"IF($BG39<BO$1,0,IF($BG39-BO$1>計算!$B$26,BO$2,($BG39-BO$1)/計算!$B$26*BO$2))","v":-0.4423266906583132},{"$f":"IF($BG39<BP$1,0,IF($BG39-BP$1>計算!$B$26,BP$2,($BG39-BP$1)/計算!$B$26*BP$2))","v":0.16377391940418873},{"$f":"IF($BG39<BQ$1,0,IF($BG39-BQ$1>計算!$B$26,BQ$2,($BG39-BQ$1)/計算!$B$26*BQ$2))","v":0.47754805534168732},{"$f":"IF($BG39<BR$1,0,IF($BG39-BR$1>計算!$B$26,BR$2,($BG39-BR$1)/計算!$B$26*BR$2))","v":-0.21471923432841411},{"$f":"IF($BG39<BS$1,0,IF($BG39-BS$1>計算!$B$26,BS$2,($BG39-BS$1)/計算!$B$26*BS$2))","v":1.8435751369704434E-2},{"$f":"IF($BG39<BT$1,0,IF($BG39-BT$1>計算!$B$26,BT$2,($BG39-BT$1)/計算!$B$26*BT$2))","v":2.4783906779989984E-2},{"$f":"IF($BG39<BU$1,0,IF($BG39-BU$1>計算!$B$26,BU$2,($BG39-BU$1)/計算!$B$26*BU$2))","v":-0.17919042925557704},{"$f":"IF($BG39<BV$1,0,IF($BG39-BV$1>計算!$B$26,BV$2,($BG39-BV$1)/計算!$B$26*BV$2))","v":0.34434916144780114},{"$f":"IF($BG39<BW$1,0,IF($BG39-BW$1>計算!$B$26,BW$2,($BG39-BW$1)/計算!$B$26*BW$2))","v":-1.9900764992307574E-2},{"$f":"IF($BG39<BX$1,0,IF($BG39-BX$1>計算!$B$26,BX$2,($BG39-BX$1)/計算!$B$26*BX$2))","v":-0.30153566391564329},{"$f":"IF($BG39<BY$1,0,IF($BG39-BY$1>計算!$B$26,BY$2,($BG39-BY$1)/計算!$B$26*BY$2))","v":0.16007521510337241},{"$f":"IF($BG39<BZ$1,0,IF($BG39-BZ$1>計算!$B$26,BZ$2,($BG39-BZ$1)/計算!$B$26*BZ$2))","v":-2.5625075613030159E-2},{"$f":"IF($BG39<CA$1,0,IF($BG39-CA$1>計算!$B$26,CA$2,($BG39-CA$1)/計算!$B$26*CA$2))","v":1.2352838356043856E-3},{"$f":"IF($BG39<CB$1,0,IF($BG39-CB$1>計算!$B$26,CB$2,($BG39-CB$1)/計算!$B$26*CB$2))","v":0},{"$f":"IF($BG39<CC$1,0,IF($BG39-CC$1>計算!$B$26,CC$2,($BG39-CC$1)/計算!$B$26*CC$2))","v":0},{"$f":"IF($BG39<CD$1,0,IF($BG39-CD$1>計算!$B$26,CD$2,($BG39-CD$1)/計算!$B$26*CD$2))","v":0},{"$f":"IF($BG39<CE$1,0,IF($BG39-CE$1>計算!$B$26,CE$2,($BG39-CE$1)/計算!$B$26*CE$2))","v":0},{"$f":"IF($BG39<CF$1,0,IF($BG39-CF$1>計算!$B$26,CF$2,($BG39-CF$1)/計算!$B$26*CF$2))","v":0},{"$f":"IF($BG39<CG$1,0,IF($BG39-CG$1>計算!$B$26,CG$2,($BG39-CG$1)/計算!$B$26*CG$2))","v":0},{"$f":"IF($BG39<CH$1,0,IF($BG39-CH$1>計算!$B$26,CH$2,($BG39-CH$1)/計算!$B$26*CH$2))","v":0},{"$f":"IF($BG39<CI$1,0,IF($BG39-CI$1>計算!$B$26,CI$2,($BG39-CI$1)/計算!$B$26*CI$2))","v":0},{"$f":"IF($BG39<CJ$1,0,IF($BG39-CJ$1>計算!$B$26,CJ$2,($BG39-CJ$1)/計算!$B$26*CJ$2))","v":0},{"$f":"IF($BG39<CK$1,0,IF($BG39-CK$1>計算!$B$26,CK$2,($BG39-CK$1)/計算!$B$26*CK$2))","v":0},3.3143187903753284,null,null,7.7720309957603071,-1.9028353727137903E-2,1.9028353727137903E-2]
["C(pF/m)",{"$f":"(B23/B12+B24/B13)/2*1000","v":131.21050536203759},null,null,2.0000000000000001E-10,6,{"$f":"IF(G4+計算!$B$26>=準備!$T$33,準備!$T$33,G4+計算!$B$26)+E40","v":2.4213920736883332},null,null,null,37,7.8008518963626319,{"$f":"IF($L40<M$1,0,IF($L40-M$1>計算!$B$26,M$2,($L40-M$1)/計算!$B$26*M$2))","v":1.9890005284157226},{"$f":"IF($L40<N$1,0,IF($L40-N$1>計算!$B$26,N$2,($L40-N$1)/計算!$B$26*N$2))","v":0.32752179487645394},{"$f":"IF($L40<O$1,0,IF($L40-O$1>計算!$B$26,O$2,($L40-O$1)/計算!$B$26*O$2))","v":0.93101299851738872},{"$f":"IF($L40<P$1,0,IF($L40-P$1>計算!$B$26,P$2,($L40-P$1)/計算!$B$26*P$2))","v":0.27879940541488013},{"$f":"IF($L40<Q$1,0,IF($L40-Q$1>計算!$B$26,Q$2,($L40-Q$1)/計算!$B$26*Q$2))","v":7.7879229924124438E-2},{"$f":"IF($L40<R$1,0,IF($L40-R$1>計算!$B$26,R$2,($L40-R$1)/計算!$B$26*R$2))","v":-1.1192377066933545E-2},{"$f":"IF($L40<S$1,0,IF($L40-S$1>計算!$B$26,S$2,($L40-S$1)/計算!$B$26*S$2))","v":-0.23935531082328287},{"$f":"IF($L40<T$1,0,IF($L40-T$1>計算!$B$26,T$2,($L40-T$1)/計算!$B$26*T$2))","v":-0.11033288008978959},{"$f":"IF($L40<U$1,0,IF($L40-U$1>計算!$B$26,U$2,($L40-U$1)/計算!$B$26*U$2))","v":2.6244909978123232E-2},{"$f":"IF($L40<V$1,0,IF($L40-V$1>計算!$B$26,V$2,($L40-V$1)/計算!$B$26*V$2))","v":1.8518384267717458E-2},{"$f":"IF($L40<W$1,0,IF($L40-W$1>計算!$B$26,W$2,($L40-W$1)/計算!$B$26*W$2))","v":-5.7963055209600434E-2},{"$f":"IF($L40<X$1,0,IF($L40-X$1>計算!$B$26,X$2,($L40-X$1)/計算!$B$26*X$2))","v":-5.5458494250048673E-2},{"$f":"IF($L40<Y$1,0,IF($L40-Y$1>計算!$B$26,Y$2,($L40-Y$1)/計算!$B$26*Y$2))","v":0.10338399991016445},{"$f":"IF($L40<Z$1,0,IF($L40-Z$1>計算!$B$26,Z$2,($L40-Z$1)/計算!$B$26*Z$2))","v":5.0289293255394885E-2},{"$f":"IF($L40<AA$1,0,IF($L40-AA$1>計算!$B$26,AA$2,($L40-AA$1)/計算!$B$26*AA$2))","v":-2.9022629979411629E-2},{"$f":"IF($L40<AB$1,0,IF($L40-AB$1>計算!$B$26,AB$2,($L40-AB$1)/計算!$B$26*AB$2))","v":2.470576645365874E-3},{"$f":"IF($L40<AC$1,0,IF($L40-AC$1>計算!$B$26,AC$2,($L40-AC$1)/計算!$B$26*AC$2))","v":1.0152712063890789E-3},{"$f":"IF($L40<AD$1,0,IF($L40-AD$1>計算!$B$26,AD$2,($L40-AD$1)/計算!$B$26*AD$2))","v":-4.6573085372002875E-3},{"$f":"IF($L40<AE$1,0,IF($L40-AE$1>計算!$B$26,AE$2,($L40-AE$1)/計算!$B$26*AE$2))","v":3.0467892346104472E-3},{"$f":"IF($L40<AF$1,0,IF($L40-AF$1>計算!$B$26,AF$2,($L40-AF$1)/計算!$B$26*AF$2))","v":3.3997021900538582E-3},{"$f":"IF($L40<AG$1,0,IF($L40-AG$1>計算!$B$26,AG$2,($L40-AG$1)/計算!$B$26*AG$2))","v":0},{"$f":"IF($L40<AH$1,0,IF($L40-AH$1>計算!$B$26,AH$2,($L40-AH$1)/計算!$B$26*AH$2))","v":0},{"$f":"IF($L40<AI$1,0,IF($L40-AI$1>計算!$B$26,AI$2,($L40-AI$1)/計算!$B$26*AI$2))","v":0},{"$f":"IF($L40<AJ$1,0,IF($L40-AJ$1>計算!$B$26,AJ$2,($L40-AJ$1)/計算!$B$26*AJ$2))","v":0},{"$f":"IF($L40<AK$1,0,IF($L40-AK$1>計算!$B$26,AK$2,($L40-AK$1)/計算!$B$26*AK$2))","v":0},{"$f":"IF($L40<AL$1,0,IF($L40-AL$1>計算!$B$26,AL$2,($L40-AL$1)/計算!$B$26*AL$2))","v":0},{"$f":"IF($L40<AM$1,0,IF($L40-AM$1>計算!$B$26,AM$2,($L40-AM$1)/計算!$B$26*AM$2))","v":0},{"$f":"IF($L40<AN$1,0,IF($L40-AN$1>計算!$B$26,AN$2,($L40-AN$1)/計算!$B$26*AN$2))","v":0},{"$f":"IF($L40<AO$1,0,IF($L40-AO$1>計算!$B$26,AO$2,($L40-AO$1)/計算!$B$26*AO$2))","v":0},{"$f":"IF($L40<AP$1,0,IF($L40-AP$1>計算!$B$26,AP$2,($L40-AP$1)/計算!$B$26*AP$2))","v":0},{"$f":"IF($L40<AQ$1,0,IF($L40-AQ$1>計算!$B$26,AQ$2,($L40-AQ$1)/計算!$B$26*AQ$2))","v":0},{"$f":"IF($L40<AR$1,0,IF($L40-AR$1>計算!$B$26,AR$2,($L40-AR$1)/計算!$B$26*AR$2))","v":0},{"$f":"IF($L40<AS$1,0,IF($L40-AS$1>計算!$B$26,AS$2,($L40-AS$1)/計算!$B$26*AS$2))","v":0},{"$f":"IF($L40<AT$1,0,IF($L40-AT$1>計算!$B$26,AT$2,($L40-AT$1)/計算!$B$26*AT$2))","v":0},{"$f":"IF($L40<AU$1,0,IF($L40-AU$1>計算!$B$26,AU$2,($L40-AU$1)/計算!$B$26*AU$2))","v":0},{"$f":"IF($L40<AV$1,0,IF($L40-AV$1>計算!$B$26,AV$2,($L40-AV$1)/計算!$B$26*AV$2))","v":0},3.3046008278801224,null,null,7.9999999999999988E-8,20,{"$f":"IF(BB10+計算!$B$26>=準備!$T$33,準備!$T$33,BB10+計算!$B$26)+AZ40","v":5.3323011643231579},null,null,null,36,7.3113351190161397,{"$f":"IF($BG40<BH$1,0,IF($BG40-BH$1>計算!$B$26,BH$2,($BG40-BH$1)/計算!$B$26*BH$2))","v":1.8434248486289773},{"$f":"IF($BG40<BI$1,0,IF($BG40-BI$1>計算!$B$26,BI$2,($BG40-BI$1)/計算!$B$26*BI$2))","v":2.0804359702386828},{"$f":"IF($BG40<BJ$1,0,IF($BG40-BJ$1>計算!$B$26,BJ$2,($BG40-BJ$1)/計算!$B$26*BJ$2))","v":0.43833573789608726},{"$f":"IF($BG40<BK$1,0,IF($BG40-BK$1>計算!$B$26,BK$2,($BG40-BK$1)/計算!$B$26*BK$2))","v":-0.55120106185706153},{"$f":"IF($BG40<BL$1,0,IF($BG40-BL$1>計算!$B$26,BL$2,($BG40-BL$1)/計算!$B$26*BL$2))","v":-0.80365187452039688},{"$f":"IF($BG40<BM$1,0,IF($BG40-BM$1>計算!$B$26,BM$2,($BG40-BM$1)/計算!$B$26*BM$2))","v":0.19584279483276745},{"$f":"IF($BG40<BN$1,0,IF($BG40-BN$1>計算!$B$26,BN$2,($BG40-BN$1)/計算!$B$26*BN$2))","v":0.10422894063720944},{"$f":"IF($BG40<BO$1,0,IF($BG40-BO$1>計算!$B$26,BO$2,($BG40-BO$1)/計算!$B$26*BO$2))","v":-0.4423266906583132},{"$f":"IF($BG40<BP$1,0,IF($BG40-BP$1>計算!$B$26,BP$2,($BG40-BP$1)/計算!$B$26*BP$2))","v":0.16377391940418873},{"$f":"IF($BG40<BQ$1,0,IF($BG40-BQ$1>計算!$B$26,BQ$2,($BG40-BQ$1)/計算!$B$26*BQ$2))","v":0.47754805534168732},{"$f":"IF($BG40<BR$1,0,IF($BG40-BR$1>計算!$B$26,BR$2,($BG40-BR$1)/計算!$B$26*BR$2))","v":-0.21471923432841411},{"$f":"IF($BG40<BS$1,0,IF($BG40-BS$1>計算!$B$26,BS$2,($BG40-BS$1)/計算!$B$26*BS$2))","v":1.8435751369704434E-2},{"$f":"IF($BG40<BT$1,0,IF($BG40-BT$1>計算!$B$26,BT$2,($BG40-BT$1)/計算!$B$26*BT$2))","v":2.4783906779989984E-2},{"$f":"IF($BG40<BU$1,0,IF($BG40-BU$1>計算!$B$26,BU$2,($BG40-BU$1)/計算!$B$26*BU$2))","v":-0.17919042925557704},{"$f":"IF($BG40<BV$1,0,IF($BG40-BV$1>計算!$B$26,BV$2,($BG40-BV$1)/計算!$B$26*BV$2))","v":0.34434916144780114},{"$f":"IF($BG40<BW$1,0,IF($BG40-BW$1>計算!$B$26,BW$2,($BG40-BW$1)/計算!$B$26*BW$2))","v":-2.1118040552239314E-2},{"$f":"IF($BG40<BX$1,0,IF($BG40-BX$1>計算!$B$26,BX$2,($BG40-BX$1)/計算!$B$26*BX$2))","v":-0.32118157415287929},{"$f":"IF($BG40<BY$1,0,IF($BG40-BY$1>計算!$B$26,BY$2,($BG40-BY$1)/計算!$B$26*BY$2))","v":0.17123143199328453},{"$f":"IF($BG40<BZ$1,0,IF($BG40-BZ$1>計算!$B$26,BZ$2,($BG40-BZ$1)/計算!$B$26*BZ$2))","v":-2.7544769522860838E-2},{"$f":"IF($BG40<CA$1,0,IF($BG40-CA$1>計算!$B$26,CA$2,($BG40-CA$1)/計算!$B$26*CA$2))","v":1.3353187905011889E-3},{"$f":"IF($BG40<CB$1,0,IF($BG40-CB$1>計算!$B$26,CB$2,($BG40-CB$1)/計算!$B$26*CB$2))","v":0},{"$f":"IF($BG40<CC$1,0,IF($BG40-CC$1>計算!$B$26,CC$2,($BG40-CC$1)/計算!$B$26*CC$2))","v":0},{"$f":"IF($BG40<CD$1,0,IF($BG40-CD$1>計算!$B$26,CD$2,($BG40-CD$1)/計算!$B$26*CD$2))","v":0},{"$f":"IF($BG40<CE$1,0,IF($BG40-CE$1>計算!$B$26,CE$2,($BG40-CE$1)/計算!$B$26*CE$2))","v":0},{"$f":"IF($BG40<CF$1,0,IF($BG40-CF$1>計算!$B$26,CF$2,($BG40-CF$1)/計算!$B$26*CF$2))","v":0},{"$f":"IF($BG40<CG$1,0,IF($BG40-CG$1>計算!$B$26,CG$2,($BG40-CG$1)/計算!$B$26*CG$2))","v":0},{"$f":"IF($BG40<CH$1,0,IF($BG40-CH$1>計算!$B$26,CH$2,($BG40-CH$1)/計算!$B$26*CH$2))","v":0},{"$f":"IF($BG40<CI$1,0,IF($BG40-CI$1>計算!$B$26,CI$2,($BG40-CI$1)/計算!$B$26*CI$2))","v":0},{"$f":"IF($BG40<CJ$1,0,IF($BG40-CJ$1>計算!$B$26,CJ$2,($BG40-CJ$1)/計算!$B$26*CJ$2))","v":0},{"$f":"IF($BG40<CK$1,0,IF($BG40-CK$1>計算!$B$26,CK$2,($BG40-CK$1)/計算!$B$26*CK$2))","v":0},3.3027921625131391,null,null,7.8008518963626319,-1.9282384150707627E-2,1.9282384150707627E-2]
["Cm(pF/m)",{"$f":"(B23/B12-B24/B13)/2*1000","v":-17.781921081854232},null,null,3E-10,7,{"$f":"IF(G5+計算!$B$26>=準備!$T$33,準備!$T$33,G5+計算!$B$26)+E41","v":2.450212974390658},null,null,null,38,7.8296727969649567,{"$f":"IF($L41<M$1,0,IF($L41-M$1>計算!$B$26,M$2,($L41-M$1)/計算!$B$26*M$2))","v":1.9890005284157226},{"$f":"IF($L41<N$1,0,IF($L41-N$1>計算!$B$26,N$2,($L41-N$1)/計算!$B$26*N$2))","v":0.32752179487645394},{"$f":"IF($L41<O$1,0,IF($L41-O$1>計算!$B$26,O$2,($L41-O$1)/計算!$B$26*O$2))","v":0.93101299851738872},{"$f":"IF($L41<P$1,0,IF($L41-P$1>計算!$B$26,P$2,($L41-P$1)/計算!$B$26*P$2))","v":0.27879940541488013},{"$f":"IF($L41<Q$1,0,IF($L41-Q$1>計算!$B$26,Q$2,($L41-Q$1)/計算!$B$26*Q$2))","v":7.7879229924124438E-2},{"$f":"IF($L41<R$1,0,IF($L41-R$1>計算!$B$26,R$2,($L41-R$1)/計算!$B$26*R$2))","v":-1.1192377066933545E-2},{"$f":"IF($L41<S$1,0,IF($L41-S$1>計算!$B$26,S$2,($L41-S$1)/計算!$B$26*S$2))","v":-0.23935531082328287},{"$f":"IF($L41<T$1,0,IF($L41-T$1>計算!$B$26,T$2,($L41-T$1)/計算!$B$26*T$2))","v":-0.11033288008978959},{"$f":"IF($L41<U$1,0,IF($L41-U$1>計算!$B$26,U$2,($L41-U$1)/計算!$B$26*U$2))","v":2.6244909978123232E-2},{"$f":"IF($L41<V$1,0,IF($L41-V$1>計算!$B$26,V$2,($L41-V$1)/計算!$B$26*V$2))","v":1.8518384267717458E-2},{"$f":"IF($L41<W$1,0,IF($L41-W$1>計算!$B$26,W$2,($L41-W$1)/計算!$B$26*W$2))","v":-5.7963055209600434E-2},{"$f":"IF($L41<X$1,0,IF($L41-X$1>計算!$B$26,X$2,($L41-X$1)/計算!$B$26*X$2))","v":-5.5458494250048673E-2},{"$f":"IF($L41<Y$1,0,IF($L41-Y$1>計算!$B$26,Y$2,($L41-Y$1)/計算!$B$26*Y$2))","v":0.10338399991016445},{"$f":"IF($L41<Z$1,0,IF($L41-Z$1>計算!$B$26,Z$2,($L41-Z$1)/計算!$B$26*Z$2))","v":5.0289293255394885E-2},{"$f":"IF($L41<AA$1,0,IF($L41-AA$1>計算!$B$26,AA$2,($L41-AA$1)/計算!$B$26*AA$2))","v":-2.9022629979411629E-2},{"$f":"IF($L41<AB$1,0,IF($L41-AB$1>計算!$B$26,AB$2,($L41-AB$1)/計算!$B$26*AB$2))","v":2.470576645365874E-3},{"$f":"IF($L41<AC$1,0,IF($L41-AC$1>計算!$B$26,AC$2,($L41-AC$1)/計算!$B$26*AC$2))","v":1.2690890079863487E-3},{"$f":"IF($L41<AD$1,0,IF($L41-AD$1>計算!$B$26,AD$2,($L41-AD$1)/計算!$B$26*AD$2))","v":-6.2097447162670497E-3},{"$f":"IF($L41<AE$1,0,IF($L41-AE$1>計算!$B$26,AE$2,($L41-AE$1)/計算!$B$26*AE$2))","v":4.5701838519156702E-3},{"$f":"IF($L41<AF$1,0,IF($L41-AF$1>計算!$B$26,AF$2,($L41-AF$1)/計算!$B$26*AF$2))","v":6.7994043801077163E-3},{"$f":"IF($L41<AG$1,0,IF($L41-AG$1>計算!$B$26,AG$2,($L41-AG$1)/計算!$B$26*AG$2))","v":-3.2609976177393968E-3},{"$f":"IF($L41<AH$1,0,IF($L41-AH$1>計算!$B$26,AH$2,($L41-AH$1)/計算!$B$26*AH$2))","v":0},{"$f":"IF($L41<AI$1,0,IF($L41-AI$1>計算!$B$26,AI$2,($L41-AI$1)/計算!$B$26*AI$2))","v":0},{"$f":"IF($L41<AJ$1,0,IF($L41-AJ$1>計算!$B$26,AJ$2,($L41-AJ$1)/計算!$B$26*AJ$2))","v":0},{"$f":"IF($L41<AK$1,0,IF($L41-AK$1>計算!$B$26,AK$2,($L41-AK$1)/計算!$B$26*AK$2))","v":0},{"$f":"IF($L41<AL$1,0,IF($L41-AL$1>計算!$B$26,AL$2,($L41-AL$1)/計算!$B$26*AL$2))","v":0},{"$f":"IF($L41<AM$1,0,IF($L41-AM$1>計算!$B$26,AM$2,($L41-AM$1)/計算!$B$26*AM$2))","v":0},{"$f":"IF($L41<AN$1,0,IF($L41-AN$1>計算!$B$26,AN$2,($L41-AN$1)/計算!$B$26*AN$2))","v":0},{"$f":"IF($L41<AO$1,0,IF($L41-AO$1>計算!$B$26,AO$2,($L41-AO$1)/計算!$B$26*AO$2))","v":0},{"$f":"IF($L41<AP$1,0,IF($L41-AP$1>計算!$B$26,AP$2,($L41-AP$1)/計算!$B$26*AP$2))","v":0},{"$f":"IF($L41<AQ$1,0,IF($L41-AQ$1>計算!$B$26,AQ$2,($L41-AQ$1)/計算!$B$26*AQ$2))","v":0},{"$f":"IF($L41<AR$1,0,IF($L41-AR$1>計算!$B$26,AR$2,($L41-AR$1)/計算!$B$26*AR$2))","v":0},{"$f":"IF($L41<AS$1,0,IF($L41-AS$1>計算!$B$26,AS$2,($L41-AS$1)/計算!$B$26*AS$2))","v":0},{"$f":"IF($L41<AT$1,0,IF($L41-AT$1>計算!$B$26,AT$2,($L41-AT$1)/計算!$B$26*AT$2))","v":0},{"$f":"IF($L41<AU$1,0,IF($L41-AU$1>計算!$B$26,AU$2,($L41-AU$1)/計算!$B$26*AU$2))","v":0},{"$f":"IF($L41<AV$1,0,IF($L41-AV$1>計算!$B$26,AV$2,($L41-AV$1)/計算!$B$26*AV$2))","v":0},3.3049643086922722,null,null,8.9999999999999985E-8,21,{"$f":"IF(BB11+計算!$B$26>=準備!$T$33,準備!$T$33,BB11+計算!$B$26)+AZ41","v":5.3611220749254827},null,null,null,37,7.3401560296184645,{"$f":"IF($BG41<BH$1,0,IF($BG41-BH$1>計算!$B$26,BH$2,($BG41-BH$1)/計算!$B$26*BH$2))","v":1.8434248486289773},{"$f":"IF($BG41<BI$1,0,IF($BG41-BI$1>計算!$B$26,BI$2,($BG41-BI$1)/計算!$B$26*BI$2))","v":2.0804359702386828},{"$f":"IF($BG41<BJ$1,0,IF($BG41-BJ$1>計算!$B$26,BJ$2,($BG41-BJ$1)/計算!$B$26*BJ$2))","v":0.43833573789608726},{"$f":"IF($BG41<BK$1,0,IF($BG41-BK$1>計算!$B$26,BK$2,($BG41-BK$1)/計算!$B$26*BK$2))","v":-0.55120106185706153},{"$f":"IF($BG41<BL$1,0,IF($BG41-BL$1>計算!$B$26,BL$2,($BG41-BL$1)/計算!$B$26*BL$2))","v":-0.80365187452039688},{"$f":"IF($BG41<BM$1,0,IF($BG41-BM$1>計算!$B$26,BM$2,($BG41-BM$1)/計算!$B$26*BM$2))","v":0.19584279483276745},{"$f":"IF($BG41<BN$1,0,IF($BG41-BN$1>計算!$B$26,BN$2,($BG41-BN$1)/計算!$B$26*BN$2))","v":0.10422894063720944},{"$f":"IF($BG41<BO$1,0,IF($BG41-BO$1>計算!$B$26,BO$2,($BG41-BO$1)/計算!$B$26*BO$2))","v":-0.4423266906583132},{"$f":"IF($BG41<BP$1,0,IF($BG41-BP$1>計算!$B$26,BP$2,($BG41-BP$1)/計算!$B$26*BP$2))","v":0.16377391940418873},{"$f":"IF($BG41<BQ$1,0,IF($BG41-BQ$1>計算!$B$26,BQ$2,($BG41-BQ$1)/計算!$B$26*BQ$2))","v":0.47754805534168732},{"$f":"IF($BG41<BR$1,0,IF($BG41-BR$1>計算!$B$26,BR$2,($BG41-BR$1)/計算!$B$26*BR$2))","v":-0.21471923432841411},{"$f":"IF($BG41<BS$1,0,IF($BG41-BS$1>計算!$B$26,BS$2,($BG41-BS$1)/計算!$B$26*BS$2))","v":1.8435751369704434E-2},{"$f":"IF($BG41<BT$1,0,IF($BG41-BT$1>計算!$B$26,BT$2,($BG41-BT$1)/計算!$B$26*BT$2))","v":2.4783906779989984E-2},{"$f":"IF($BG41<BU$1,0,IF($BG41-BU$1>計算!$B$26,BU$2,($BG41-BU$1)/計算!$B$26*BU$2))","v":-0.17919042925557704},{"$f":"IF($BG41<BV$1,0,IF($BG41-BV$1>計算!$B$26,BV$2,($BG41-BV$1)/計算!$B$26*BV$2))","v":0.34434916144780114},{"$f":"IF($BG41<BW$1,0,IF($BG41-BW$1>計算!$B$26,BW$2,($BG41-BW$1)/計算!$B$26*BW$2))","v":-2.1118040552239314E-2},{"$f":"IF($BG41<BX$1,0,IF($BG41-BX$1>計算!$B$26,BX$2,($BG41-BX$1)/計算!$B$26*BX$2))","v":-0.34082736850881012},{"$f":"IF($BG41<BY$1,0,IF($BG41-BY$1>計算!$B$26,BY$2,($BG41-BY$1)/計算!$B$26*BY$2))","v":0.18238764888319667},{"$f":"IF($BG41<BZ$1,0,IF($BG41-BZ$1>計算!$B$26,BZ$2,($BG41-BZ$1)/計算!$B$26*BZ$2))","v":-2.9464463432691518E-2},{"$f":"IF($BG41<CA$1,0,IF($BG41-CA$1>計算!$B$26,CA$2,($BG41-CA$1)/計算!$B$26*CA$2))","v":1.4353537453979919E-3},{"$f":"IF($BG41<CB$1,0,IF($BG41-CB$1>計算!$B$26,CB$2,($BG41-CB$1)/計算!$B$26*CB$2))","v":0},{"$f":"IF($BG41<CC$1,0,IF($BG41-CC$1>計算!$B$26,CC$2,($BG41-CC$1)/計算!$B$26*CC$2))","v":0},{"$f":"IF($BG41<CD$1,0,IF($BG41-CD$1>計算!$B$26,CD$2,($BG41-CD$1)/計算!$B$26*CD$2))","v":0},{"$f":"IF($BG41<CE$1,0,IF($BG41-CE$1>計算!$B$26,CE$2,($BG41-CE$1)/計算!$B$26*CE$2))","v":0},{"$f":"IF($BG41<CF$1,0,IF($BG41-CF$1>計算!$B$26,CF$2,($BG41-CF$1)/計算!$B$26*CF$2))","v":0},{"$f":"IF($BG41<CG$1,0,IF($BG41-CG$1>計算!$B$26,CG$2,($BG41-CG$1)/計算!$B$26*CG$2))","v":0},{"$f":"IF($BG41<CH$1,0,IF($BG41-CH$1>計算!$B$26,CH$2,($BG41-CH$1)/計算!$B$26*CH$2))","v":0},{"$f":"IF($BG41<CI$1,0,IF($BG41-CI$1>計算!$B$26,CI$2,($BG41-CI$1)/計算!$B$26*CI$2))","v":0},{"$f":"IF($BG41<CJ$1,0,IF($BG41-CJ$1>計算!$B$26,CJ$2,($BG41-CJ$1)/計算!$B$26*CJ$2))","v":0},{"$f":"IF($BG41<CK$1,0,IF($BG41-CK$1>計算!$B$26,CK$2,($BG41-CK$1)/計算!$B$26*CK$2))","v":0},3.2924829260921866,null,null,7.8296727969649567,-7.5196457752372513E-3,7.5196457752372513E-3]
[null,null,null,null,4.0000000000000001E-10,8,{"$f":"IF(G6+計算!$B$26>=準備!$T$33,準備!$T$33,G6+計算!$B$26)+E42","v":2.4790338750929823},null,null,null,39,7.8584936975672814,{"$f":"IF($L42<M$1,0,IF($L42-M$1>計算!$B$26,M$2,($L42-M$1)/計算!$B$26*M$2))","v":1.9890005284157226},{"$f":"IF($L42<N$1,0,IF($L42-N$1>計算!$B$26,N$2,($L42-N$1)/計算!$B$26*N$2))","v":0.32752179487645394},{"$f":"IF($L42<O$1,0,IF($L42-O$1>計算!$B$26,O$2,($L42-O$1)/計算!$B$26*O$2))","v":0.93101299851738872},{"$f":"IF($L42<P$1,0,IF($L42-P$1>計算!$B$26,P$2,($L42-P$1)/計算!$B$26*P$2))","v":0.27879940541488013},{"$f":"IF($L42<Q$1,0,IF($L42-Q$1>計算!$B$26,Q$2,($L42-Q$1)/計算!$B$26*Q$2))","v":7.7879229924124438E-2},{"$f":"IF($L42<R$1,0,IF($L42-R$1>計算!$B$26,R$2,($L42-R$1)/計算!$B$26*R$2))","v":-1.1192377066933545E-2},{"$f":"IF($L42<S$1,0,IF($L42-S$1>計算!$B$26,S$2,($L42-S$1)/計算!$B$26*S$2))","v":-0.23935531082328287},{"$f":"IF($L42<T$1,0,IF($L42-T$1>計算!$B$26,T$2,($L42-T$1)/計算!$B$26*T$2))","v":-0.11033288008978959},{"$f":"IF($L42<U$1,0,IF($L42-U$1>計算!$B$26,U$2,($L42-U$1)/計算!$B$26*U$2))","v":2.6244909978123232E-2},{"$f":"IF($L42<V$1,0,IF($L42-V$1>計算!$B$26,V$2,($L42-V$1)/計算!$B$26*V$2))","v":1.8518384267717458E-2},{"$f":"IF($L42<W$1,0,IF($L42-W$1>計算!$B$26,W$2,($L42-W$1)/計算!$B$26*W$2))","v":-5.7963055209600434E-2},{"$f":"IF($L42<X$1,0,IF($L42-X$1>計算!$B$26,X$2,($L42-X$1)/計算!$B$26*X$2))","v":-5.5458494250048673E-2},{"$f":"IF($L42<Y$1,0,IF($L42-Y$1>計算!$B$26,Y$2,($L42-Y$1)/計算!$B$26*Y$2))","v":0.10338399991016445},{"$f":"IF($L42<Z$1,0,IF($L42-Z$1>計算!$B$26,Z$2,($L42-Z$1)/計算!$B$26*Z$2))","v":5.0289293255394885E-2},{"$f":"IF($L42<AA$1,0,IF($L42-AA$1>計算!$B$26,AA$2,($L42-AA$1)/計算!$B$26*AA$2))","v":-2.9022629979411629E-2},{"$f":"IF($L42<AB$1,0,IF($L42-AB$1>計算!$B$26,AB$2,($L42-AB$1)/計算!$B$26*AB$2))","v":2.470576645365874E-3},{"$f":"IF($L42<AC$1,0,IF($L42-AC$1>計算!$B$26,AC$2,($L42-AC$1)/計算!$B$26*AC$2))","v":1.5229068095836185E-3},{"$f":"IF($L42<AD$1,0,IF($L42-AD$1>計算!$B$26,AD$2,($L42-AD$1)/計算!$B$26*AD$2))","v":-7.7621808953338119E-3},{"$f":"IF($L42<AE$1,0,IF($L42-AE$1>計算!$B$26,AE$2,($L42-AE$1)/計算!$B$26*AE$2))","v":6.0935784692208944E-3},{"$f":"IF($L42<AF$1,0,IF($L42-AF$1>計算!$B$26,AF$2,($L42-AF$1)/計算!$B$26*AF$2))","v":1.0199106570161574E-2},{"$f":"IF($L42<AG$1,0,IF($L42-AG$1>計算!$B$26,AG$2,($L42-AG$1)/計算!$B$26*AG$2))","v":-6.5219952354787936E-3},{"$f":"IF($L42<AH$1,0,IF($L42-AH$1>計算!$B$26,AH$2,($L42-AH$1)/計算!$B$26*AH$2))","v":-1.6268097011027437E-3},{"$f":"IF($L42<AI$1,0,IF($L42-AI$1>計算!$B$26,AI$2,($L42-AI$1)/計算!$B$26*AI$2))","v":0},{"$f":"IF($L42<AJ$1,0,IF($L42-AJ$1>計算!$B$26,AJ$2,($L42-AJ$1)/計算!$B$26*AJ$2))","v":0},{"$f":"IF($L42<AK$1,0,IF($L42-AK$1>計算!$B$26,AK$2,($L42-AK$1)/計算!$B$26*AK$2))","v":0},{"$f":"IF($L42<AL$1,0,IF($L42-AL$1>計算!$B$26,AL$2,($L42-AL$1)/計算!$B$26*AL$2))","v":0},{"$f":"IF($L42<AM$1,0,IF($L42-AM$1>計算!$B$26,AM$2,($L42-AM$1)/計算!$B$26*AM$2))","v":0},{"$f":"IF($L42<AN$1,0,IF($L42-AN$1>計算!$B$26,AN$2,($L42-AN$1)/計算!$B$26*AN$2))","v":0},{"$f":"IF($L42<AO$1,0,IF($L42-AO$1>計算!$B$26,AO$2,($L42-AO$1)/計算!$B$26*AO$2))","v":0},{"$f":"IF($L42<AP$1,0,IF($L42-AP$1>計算!$B$26,AP$2,($L42-AP$1)/計算!$B$26*AP$2))","v":0},{"$f":"IF($L42<AQ$1,0,IF($L42-AQ$1>計算!$B$26,AQ$2,($L42-AQ$1)/計算!$B$26*AQ$2))","v":0},{"$f":"IF($L42<AR$1,0,IF($L42-AR$1>計算!$B$26,AR$2,($L42-AR$1)/計算!$B$26*AR$2))","v":0},{"$f":"IF($L42<AS$1,0,IF($L42-AS$1>計算!$B$26,AS$2,($L42-AS$1)/計算!$B$26*AS$2))","v":0},{"$f":"IF($L42<AT$1,0,IF($L42-AT$1>計算!$B$26,AT$2,($L42-AT$1)/計算!$B$26*AT$2))","v":0},{"$f":"IF($L42<AU$1,0,IF($L42-AU$1>計算!$B$26,AU$2,($L42-AU$1)/計算!$B$26*AU$2))","v":0},{"$f":"IF($L42<AV$1,0,IF($L42-AV$1>計算!$B$26,AV$2,($L42-AV$1)/計算!$B$26*AV$2))","v":0},3.3037009798033194,null,null,9.9999999999999982E-8,22,{"$f":"IF(BB12+計算!$B$26>=準備!$T$33,準備!$T$33,BB12+計算!$B$26)+AZ42","v":5.3899429855278074},null,null,null,38,7.3689769402207892,{"$f":"IF($BG42<BH$1,0,IF($BG42-BH$1>計算!$B$26,BH$2,($BG42-BH$1)/計算!$B$26*BH$2))","v":1.8434248486289773},{"$f":"IF($BG42<BI$1,0,IF($BG42-BI$1>計算!$B$26,BI$2,($BG42-BI$1)/計算!$B$26*BI$2))","v":2.0804359702386828},{"$f":"IF($BG42<BJ$1,0,IF($BG42-BJ$1>計算!$B$26,BJ$2,($BG42-BJ$1)/計算!$B$26*BJ$2))","v":0.43833573789608726},{"$f":"IF($BG42<BK$1,0,IF($BG42-BK$1>計算!$B$26,BK$2,($BG42-BK$1)/計算!$B$26*BK$2))","v":-0.55120106185706153},{"$f":"IF($BG42<BL$1,0,IF($BG42-BL$1>計算!$B$26,BL$2,($BG42-BL$1)/計算!$B$26*BL$2))","v":-0.80365187452039688},{"$f":"IF($BG42<BM$1,0,IF($BG42-BM$1>計算!$B$26,BM$2,($BG42-BM$1)/計算!$B$26*BM$2))","v":0.19584279483276745},{"$f":"IF($BG42<BN$1,0,IF($BG42-BN$1>計算!$B$26,BN$2,($BG42-BN$1)/計算!$B$26*BN$2))","v":0.10422894063720944},{"$f":"IF($BG42<BO$1,0,IF($BG42-BO$1>計算!$B$26,BO$2,($BG42-BO$1)/計算!$B$26*BO$2))","v":-0.4423266906583132},{"$f":"IF($BG42<BP$1,0,IF($BG42-BP$1>計算!$B$26,BP$2,($BG42-BP$1)/計算!$B$26*BP$2))","v":0.16377391940418873},{"$f":"IF($BG42<BQ$1,0,IF($BG42-BQ$1>計算!$B$26,BQ$2,($BG42-BQ$1)/計算!$B$26*BQ$2))","v":0.47754805534168732},{"$f":"IF($BG42<BR$1,0,IF($BG42-BR$1>計算!$B$26,BR$2,($BG42-BR$1)/計算!$B$26*BR$2))","v":-0.21471923432841411},{"$f":"IF($BG42<BS$1,0,IF($BG42-BS$1>計算!$B$26,BS$2,($BG42-BS$1)/計算!$B$26*BS$2))","v":1.8435751369704434E-2},{"$f":"IF($BG42<BT$1,0,IF($BG42-BT$1>計算!$B$26,BT$2,($BG42-BT$1)/計算!$B$26*BT$2))","v":2.4783906779989984E-2},{"$f":"IF($BG42<BU$1,0,IF($BG42-BU$1>計算!$B$26,BU$2,($BG42-BU$1)/計算!$B$26*BU$2))","v":-0.17919042925557704},{"$f":"IF($BG42<BV$1,0,IF($BG42-BV$1>計算!$B$26,BV$2,($BG42-BV$1)/計算!$B$26*BV$2))","v":0.34434916144780114},{"$f":"IF($BG42<BW$1,0,IF($BG42-BW$1>計算!$B$26,BW$2,($BG42-BW$1)/計算!$B$26*BW$2))","v":-2.1118040552239314E-2},{"$f":"IF($BG42<BX$1,0,IF($BG42-BX$1>計算!$B$26,BX$2,($BG42-BX$1)/計算!$B$26*BX$2))","v":-0.34082736850881012},{"$f":"IF($BG42<BY$1,0,IF($BG42-BY$1>計算!$B$26,BY$2,($BG42-BY$1)/計算!$B$26*BY$2))","v":0.19354379609734229},{"$f":"IF($BG42<BZ$1,0,IF($BG42-BZ$1>計算!$B$26,BZ$2,($BG42-BZ$1)/計算!$B$26*BZ$2))","v":-3.1384157342522201E-2},{"$f":"IF($BG42<CA$1,0,IF($BG42-CA$1>計算!$B$26,CA$2,($BG42-CA$1)/計算!$B$26*CA$2))","v":1.5353887002947952E-3},{"$f":"IF($BG42<CB$1,0,IF($BG42-CB$1>計算!$B$26,CB$2,($BG42-CB$1)/計算!$B$26*CB$2))","v":0},{"$f":"IF($BG42<CC$1,0,IF($BG42-CC$1>計算!$B$26,CC$2,($BG42-CC$1)/計算!$B$26*CC$2))","v":0},{"$f":"IF($BG42<CD$1,0,IF($BG42-CD$1>計算!$B$26,CD$2,($BG42-CD$1)/計算!$B$26*CD$2))","v":0},{"$f":"IF($BG42<CE$1,0,IF($BG42-CE$1>計算!$B$26,CE$2,($BG42-CE$1)/計算!$B$26*CE$2))","v":0},{"$f":"IF($BG42<CF$1,0,IF($BG42-CF$1>計算!$B$26,CF$2,($BG42-CF$1)/計算!$B$26*CF$2))","v":0},{"$f":"IF($BG42<CG$1,0,IF($BG42-CG$1>計算!$B$26,CG$2,($BG42-CG$1)/計算!$B$26*CG$2))","v":0},{"$f":"IF($BG42<CH$1,0,IF($BG42-CH$1>計算!$B$26,CH$2,($BG42-CH$1)/計算!$B$26*CH$2))","v":0},{"$f":"IF($BG42<CI$1,0,IF($BG42-CI$1>計算!$B$26,CI$2,($BG42-CI$1)/計算!$B$26*CI$2))","v":0},{"$f":"IF($BG42<CJ$1,0,IF($BG42-CJ$1>計算!$B$26,CJ$2,($BG42-CJ$1)/計算!$B$26*CJ$2))","v":0},{"$f":"IF($BG42<CK$1,0,IF($BG42-CK$1>計算!$B$26,CK$2,($BG42-CK$1)/計算!$B$26*CK$2))","v":0},3.3018194143513981,null,null,7.8584936975672814,-1.1350727552707414E-2,1.1350727552707414E-2]
[null,{"$f":"VLOOKUP(波形!N7,Data!R2:S8,2,0)","v":15},null,null,5.0000000000000003E-10,14,{"$f":"IF(G7+計算!$B$26>=準備!$T$33,準備!$T$33,G7+計算!$B$26)+E43","v":4.3427841474766664},null,null,null,40,7.8873145981696053,{"$f":"IF($L43<M$1,0,IF($L43-M$1>計算!$B$26,M$2,($L43-M$1)/計算!$B$26*M$2))","v":1.9890005284157226},{"$f":"IF($L43<N$1,0,IF($L43-N$1>計算!$B$26,N$2,($L43-N$1)/計算!$B$26*N$2))","v":0.32752179487645394},{"$f":"IF($L43<O$1,0,IF($L43-O$1>計算!$B$26,O$2,($L43-O$1)/計算!$B$26*O$2))","v":0.93101299851738872},{"$f":"IF($L43<P$1,0,IF($L43-P$1>計算!$B$26,P$2,($L43-P$1)/計算!$B$26*P$2))","v":0.27879940541488013},{"$f":"IF($L43<Q$1,0,IF($L43-Q$1>計算!$B$26,Q$2,($L43-Q$1)/計算!$B$26*Q$2))","v":7.7879229924124438E-2},{"$f":"IF($L43<R$1,0,IF($L43-R$1>計算!$B$26,R$2,($L43-R$1)/計算!$B$26*R$2))","v":-1.1192377066933545E-2},{"$f":"IF($L43<S$1,0,IF($L43-S$1>計算!$B$26,S$2,($L43-S$1)/計算!$B$26*S$2))","v":-0.23935531082328287},{"$f":"IF($L43<T$1,0,IF($L43-T$1>計算!$B$26,T$2,($L43-T$1)/計算!$B$26*T$2))","v":-0.11033288008978959},{"$f":"IF($L43<U$1,0,IF($L43-U$1>計算!$B$26,U$2,($L43-U$1)/計算!$B$26*U$2))","v":2.6244909978123232E-2},{"$f":"IF($L43<V$1,0,IF($L43-V$1>計算!$B$26,V$2,($L43-V$1)/計算!$B$26*V$2))","v":1.8518384267717458E-2},{"$f":"IF($L43<W$1,0,IF($L43-W$1>計算!$B$26,W$2,($L43-W$1)/計算!$B$26*W$2))","v":-5.7963055209600434E-2},{"$f":"IF($L43<X$1,0,IF($L43-X$1>計算!$B$26,X$2,($L43-X$1)/計算!$B$26*X$2))","v":-5.5458494250048673E-2},{"$f":"IF($L43<Y$1,0,IF($L43-Y$1>計算!$B$26,Y$2,($L43-Y$1)/計算!$B$26*Y$2))","v":0.10338399991016445},{"$f":"IF($L43<Z$1,0,IF($L43-Z$1>計算!$B$26,Z$2,($L43-Z$1)/計算!$B$26*Z$2))","v":5.0289293255394885E-2},{"$f":"IF($L43<AA$1,0,IF($L43-AA$1>計算!$B$26,AA$2,($L43-AA$1)/計算!$B$26*AA$2))","v":-2.9022629979411629E-2},{"$f":"IF($L43<AB$1,0,IF($L43-AB$1>計算!$B$26,AB$2,($L43-AB$1)/計算!$B$26*AB$2))","v":2.470576645365874E-3},{"$f":"IF($L43<AC$1,0,IF($L43-AC$1>計算!$B$26,AC$2,($L43-AC$1)/計算!$B$26*AC$2))","v":1.7767246111808804E-3},{"$f":"IF($L43<AD$1,0,IF($L43-AD$1>計算!$B$26,AD$2,($L43-AD$1)/計算!$B$26*AD$2))","v":-9.3146170744005264E-3},{"$f":"IF($L43<AE$1,0,IF($L43-AE$1>計算!$B$26,AE$2,($L43-AE$1)/計算!$B$26*AE$2))","v":7.616973086526071E-3},{"$f":"IF($L43<AF$1,0,IF($L43-AF$1>計算!$B$26,AF$2,($L43-AF$1)/計算!$B$26*AF$2))","v":1.3598808760215327E-2},{"$f":"IF($L43<AG$1,0,IF($L43-AG$1>計算!$B$26,AG$2,($L43-AG$1)/計算!$B$26*AG$2))","v":-9.782992853218089E-3},{"$f":"IF($L43<AH$1,0,IF($L43-AH$1>計算!$B$26,AH$2,($L43-AH$1)/計算!$B$26*AH$2))","v":-3.2536194022054375E-3},{"$f":"IF($L43<AI$1,0,IF($L43-AI$1>計算!$B$26,AI$2,($L43-AI$1)/計算!$B$26*AI$2))","v":1.4308236947370794E-3},{"$f":"IF($L43<AJ$1,0,IF($L43-AJ$1>計算!$B$26,AJ$2,($L43-AJ$1)/計算!$B$26*AJ$2))","v":0},{"$f":"IF($L43<AK$1,0,IF($L43-AK$1>計算!$B$26,AK$2,($L43-AK$1)/計算!$B$26*AK$2))","v":0},{"$f":"IF($L43<AL$1,0,IF($L43-AL$1>計算!$B$26,AL$2,($L43-AL$1)/計算!$B$26*AL$2))","v":0},{"$f":"IF($L43<AM$1,0,IF($L43-AM$1>計算!$B$26,AM$2,($L43-AM$1)/計算!$B$26*AM$2))","v":0},{"$f":"IF($L43<AN$1,0,IF($L43-AN$1>計算!$B$26,AN$2,($L43-AN$1)/計算!$B$26*AN$2))","v":0},{"$f":"IF($L43<AO$1,0,IF($L43-AO$1>計算!$B$26,AO$2,($L43-AO$1)/計算!$B$26*AO$2))","v":0},{"$f":"IF($L43<AP$1,0,IF($L43-AP$1>計算!$B$26,AP$2,($L43-AP$1)/計算!$B$26*AP$2))","v":0},{"$f":"IF($L43<AQ$1,0,IF($L43-AQ$1>計算!$B$26,AQ$2,($L43-AQ$1)/計算!$B$26*AQ$2))","v":0},{"$f":"IF($L43<AR$1,0,IF($L43-AR$1>計算!$B$26,AR$2,($L43-AR$1)/計算!$B$26*AR$2))","v":0},{"$f":"IF($L43<AS$1,0,IF($L43-AS$1>計算!$B$26,AS$2,($L43-AS$1)/計算!$B$26*AS$2))","v":0},{"$f":"IF($L43<AT$1,0,IF($L43-AT$1>計算!$B$26,AT$2,($L43-AT$1)/計算!$B$26*AT$2))","v":0},{"$f":"IF($L43<AU$1,0,IF($L43-AU$1>計算!$B$26,AU$2,($L43-AU$1)/計算!$B$26*AU$2))","v":0},{"$f":"IF($L43<AV$1,0,IF($L43-AV$1>計算!$B$26,AV$2,($L43-AV$1)/計算!$B$26*AV$2))","v":0},3.3038684746091036,null,null,1.0999999999999998E-7,23,{"$f":"IF(BB13+計算!$B$26>=準備!$T$33,準備!$T$33,BB13+計算!$B$26)+AZ43","v":5.4187638961301321},null,null,null,39,7.3977978508231139,{"$f":"IF($BG43<BH$1,0,IF($BG43-BH$1>計算!$B$26,BH$2,($BG43-BH$1)/計算!$B$26*BH$2))","v":1.8434248486289773},{"$f":"IF($BG43<BI$1,0,IF($BG43-BI$1>計算!$B$26,BI$2,($BG43-BI$1)/計算!$B$26*BI$2))","v":2.0804359702386828},{"$f":"IF($BG43<BJ$1,0,IF($BG43-BJ$1>計算!$B$26,BJ$2,($BG43-BJ$1)/計算!$B$26*BJ$2))","v":0.43833573789608726},{"$f":"IF($BG43<BK$1,0,IF($BG43-BK$1>計算!$B$26,BK$2,($BG43-BK$1)/計算!$B$26*BK$2))","v":-0.55120106185706153},{"$f":"IF($BG43<BL$1,0,IF($BG43-BL$1>計算!$B$26,BL$2,($BG43-BL$1)/計算!$B$26*BL$2))","v":-0.80365187452039688},{"$f":"IF($BG43<BM$1,0,IF($BG43-BM$1>計算!$B$26,BM$2,($BG43-BM$1)/計算!$B$26*BM$2))","v":0.19584279483276745},{"$f":"IF($BG43<BN$1,0,IF($BG43-BN$1>計算!$B$26,BN$2,($BG43-BN$1)/計算!$B$26*BN$2))","v":0.10422894063720944},{"$f":"IF($BG43<BO$1,0,IF($BG43-BO$1>計算!$B$26,BO$2,($BG43-BO$1)/計算!$B$26*BO$2))","v":-0.4423266906583132},{"$f":"IF($BG43<BP$1,0,IF($BG43-BP$1>計算!$B$26,BP$2,($BG43-BP$1)/計算!$B$26*BP$2))","v":0.16377391940418873},{"$f":"IF($BG43<BQ$1,0,IF($BG43-BQ$1>計算!$B$26,BQ$2,($BG43-BQ$1)/計算!$B$26*BQ$2))","v":0.47754805534168732},{"$f":"IF($BG43<BR$1,0,IF($BG43-BR$1>計算!$B$26,BR$2,($BG43-BR$1)/計算!$B$26*BR$2))","v":-0.21471923432841411},{"$f":"IF($BG43<BS$1,0,IF($BG43-BS$1>計算!$B$26,BS$2,($BG43-BS$1)/計算!$B$26*BS$2))","v":1.8435751369704434E-2},{"$f":"IF($BG43<BT$1,0,IF($BG43-BT$1>計算!$B$26,BT$2,($BG43-BT$1)/計算!$B$26*BT$2))","v":2.4783906779989984E-2},{"$f":"IF($BG43<BU$1,0,IF($BG43-BU$1>計算!$B$26,BU$2,($BG43-BU$1)/計算!$B$26*BU$2))","v":-0.17919042925557704},{"$f":"IF($BG43<BV$1,0,IF($BG43-BV$1>計算!$B$26,BV$2,($BG43-BV$1)/計算!$B$26*BV$2))","v":0.34434916144780114},{"$f":"IF($BG43<BW$1,0,IF($BG43-BW$1>計算!$B$26,BW$2,($BG43-BW$1)/計算!$B$26*BW$2))","v":-2.1118040552239314E-2},{"$f":"IF($BG43<BX$1,0,IF($BG43-BX$1>計算!$B$26,BX$2,($BG43-BX$1)/計算!$B$26*BX$2))","v":-0.34082736850881012},{"$f":"IF($BG43<BY$1,0,IF($BG43-BY$1>計算!$B$26,BY$2,($BG43-BY$1)/計算!$B$26*BY$2))","v":0.19354379609734229},{"$f":"IF($BG43<BZ$1,0,IF($BG43-BZ$1>計算!$B$26,BZ$2,($BG43-BZ$1)/計算!$B$26*BZ$2))","v":-3.3303838596894231E-2},{"$f":"IF($BG43<CA$1,0,IF($BG43-CA$1>計算!$B$26,CA$2,($BG43-CA$1)/計算!$B$26*CA$2))","v":1.6354236551915985E-3},{"$f":"IF($BG43<CB$1,0,IF($BG43-CB$1>計算!$B$26,CB$2,($BG43-CB$1)/計算!$B$26*CB$2))","v":0},{"$f":"IF($BG43<CC$1,0,IF($BG43-CC$1>計算!$B$26,CC$2,($BG43-CC$1)/計算!$B$26*CC$2))","v":0},{"$f":"IF($BG43<CD$1,0,IF($BG43-CD$1>計算!$B$26,CD$2,($BG43-CD$1)/計算!$B$26*CD$2))","v":0},{"$f":"IF($BG43<CE$1,0,IF($BG43-CE$1>計算!$B$26,CE$2,($BG43-CE$1)/計算!$B$26*CE$2))","v":0},{"$f":"IF($BG43<CF$1,0,IF($BG43-CF$1>計算!$B$26,CF$2,($BG43-CF$1)/計算!$B$26*CF$2))","v":0},{"$f":"IF($BG43<CG$1,0,IF($BG43-CG$1>計算!$B$26,CG$2,($BG43-CG$1)/計算!$B$26*CG$2))","v":0},{"$f":"IF($BG43<CH$1,0,IF($BG43-CH$1>計算!$B$26,CH$2,($BG43-CH$1)/計算!$B$26*CH$2))","v":0},{"$f":"IF($BG43<CI$1,0,IF($BG43-CI$1>計算!$B$26,CI$2,($BG43-CI$1)/計算!$B$26*CI$2))","v":0},{"$f":"IF($BG43<CJ$1,0,IF($BG43-CJ$1>計算!$B$26,CJ$2,($BG43-CJ$1)/計算!$B$26*CJ$2))","v":0},{"$f":"IF($BG43<CK$1,0,IF($BG43-CK$1>計算!$B$26,CK$2,($BG43-CK$1)/計算!$B$26*CK$2))","v":0},3.2999997680519231,null,null,7.8873145981696053,-9.7900670545549781E-3,9.7900670545549781E-3]
[null,null,null,null,6E-10,15,{"$f":"IF(G8+計算!$B$26>=準備!$T$33,準備!$T$33,G8+計算!$B$26)+E44","v":4.3716050481789912},null,null,null,41,7.9161354987719301,{"$f":"IF($L44<M$1,0,IF($L44-M$1>計算!$B$26,M$2,($L44-M$1)/計算!$B$26*M$2))","v":1.9890005284157226},{"$f":"IF($L44<N$1,0,IF($L44-N$1>計算!$B$26,N$2,($L44-N$1)/計算!$B$26*N$2))","v":0.32752179487645394},{"$f":"IF($L44<O$1,0,IF($L44-O$1>計算!$B$26,O$2,($L44-O$1)/計算!$B$26*O$2))","v":0.93101299851738872},{"$f":"IF($L44<P$1,0,IF($L44-P$1>計算!$B$26,P$2,($L44-P$1)/計算!$B$26*P$2))","v":0.27879940541488013},{"$f":"IF($L44<Q$1,0,IF($L44-Q$1>計算!$B$26,Q$2,($L44-Q$1)/計算!$B$26*Q$2))","v":7.7879229924124438E-2},{"$f":"IF($L44<R$1,0,IF($L44-R$1>計算!$B$26,R$2,($L44-R$1)/計算!$B$26*R$2))","v":-1.1192377066933545E-2},{"$f":"IF($L44<S$1,0,IF($L44-S$1>計算!$B$26,S$2,($L44-S$1)/計算!$B$26*S$2))","v":-0.23935531082328287},{"$f":"IF($L44<T$1,0,IF($L44-T$1>計算!$B$26,T$2,($L44-T$1)/計算!$B$26*T$2))","v":-0.11033288008978959},{"$f":"IF($L44<U$1,0,IF($L44-U$1>計算!$B$26,U$2,($L44-U$1)/計算!$B$26*U$2))","v":2.6244909978123232E-2},{"$f":"IF($L44<V$1,0,IF($L44-V$1>計算!$B$26,V$2,($L44-V$1)/計算!$B$26*V$2))","v":1.8518384267717458E-2},{"$f":"IF($L44<W$1,0,IF($L44-W$1>計算!$B$26,W$2,($L44-W$1)/計算!$B$26*W$2))","v":-5.7963055209600434E-2},{"$f":"IF($L44<X$1,0,IF($L44-X$1>計算!$B$26,X$2,($L44-X$1)/計算!$B$26*X$2))","v":-5.5458494250048673E-2},{"$f":"IF($L44<Y$1,0,IF($L44-Y$1>計算!$B$26,Y$2,($L44-Y$1)/計算!$B$26*Y$2))","v":0.10338399991016445},{"$f":"IF($L44<Z$1,0,IF($L44-Z$1>計算!$B$26,Z$2,($L44-Z$1)/計算!$B$26*Z$2))","v":5.0289293255394885E-2},{"$f":"IF($L44<AA$1,0,IF($L44-AA$1>計算!$B$26,AA$2,($L44-AA$1)/計算!$B$26*AA$2))","v":-2.9022629979411629E-2},{"$f":"IF($L44<AB$1,0,IF($L44-AB$1>計算!$B$26,AB$2,($L44-AB$1)/計算!$B$26*AB$2))","v":2.470576645365874E-3},{"$f":"IF($L44<AC$1,0,IF($L44-AC$1>計算!$B$26,AC$2,($L44-AC$1)/計算!$B$26*AC$2))","v":2.03054241277815E-3},{"$f":"IF($L44<AD$1,0,IF($L44-AD$1>計算!$B$26,AD$2,($L44-AD$1)/計算!$B$26*AD$2))","v":-1.0867053253467289E-2},{"$f":"IF($L44<AE$1,0,IF($L44-AE$1>計算!$B$26,AE$2,($L44-AE$1)/計算!$B$26*AE$2))","v":9.1403677038312935E-3},{"$f":"IF($L44<AF$1,0,IF($L44-AF$1>計算!$B$26,AF$2,($L44-AF$1)/計算!$B$26*AF$2))","v":1.6998510950269184E-2},{"$f":"IF($L44<AG$1,0,IF($L44-AG$1>計算!$B$26,AG$2,($L44-AG$1)/計算!$B$26*AG$2))","v":-1.3043990470957487E-2},{"$f":"IF($L44<AH$1,0,IF($L44-AH$1>計算!$B$26,AH$2,($L44-AH$1)/計算!$B$26*AH$2))","v":-4.880429103308181E-3},{"$f":"IF($L44<AI$1,0,IF($L44-AI$1>計算!$B$26,AI$2,($L44-AI$1)/計算!$B$26*AI$2))","v":2.8616473894742026E-3},{"$f":"IF($L44<AJ$1,0,IF($L44-AJ$1>計算!$B$26,AJ$2,($L44-AJ$1)/計算!$B$26*AJ$2))","v":-2.5860441118417482E-4},{"$f":"IF($L44<AK$1,0,IF($L44-AK$1>計算!$B$26,AK$2,($L44-AK$1)/計算!$B$26*AK$2))","v":0},{"$f":"IF($L44<AL$1,0,IF($L44-AL$1>計算!$B$26,AL$2,($L44-AL$1)/計算!$B$26*AL$2))","v":0},{"$f":"IF($L44<AM$1,0,IF($L44-AM$1>計算!$B$26,AM$2,($L44-AM$1)/計算!$B$26*AM$2))","v":0},{"$f":"IF($L44<AN$1,0,IF($L44-AN$1>計算!$B$26,AN$2,($L44-AN$1)/計算!$B$26*AN$2))","v":0},{"$f":"IF($L44<AO$1,0,IF($L44-AO$1>計算!$B$26,AO$2,($L44-AO$1)/計算!$B$26*AO$2))","v":0},{"$f":"IF($L44<AP$1,0,IF($L44-AP$1>計算!$B$26,AP$2,($L44-AP$1)/計算!$B$26*AP$2))","v":0},{"$f":"IF($L44<AQ$1,0,IF($L44-AQ$1>計算!$B$26,AQ$2,($L44-AQ$1)/計算!$B$26*AQ$2))","v":0},{"$f":"IF($L44<AR$1,0,IF($L44-AR$1>計算!$B$26,AR$2,($L44-AR$1)/計算!$B$26*AR$2))","v":0},{"$f":"IF($L44<AS$1,0,IF($L44-AS$1>計算!$B$26,AS$2,($L44-AS$1)/計算!$B$26*AS$2))","v":0},{"$f":"IF($L44<AT$1,0,IF($L44-AT$1>計算!$B$26,AT$2,($L44-AT$1)/計算!$B$26*AT$2))","v":0},{"$f":"IF($L44<AU$1,0,IF($L44-AU$1>計算!$B$26,AU$2,($L44-AU$1)/計算!$B$26*AU$2))","v":0},{"$f":"IF($L44<AV$1,0,IF($L44-AV$1>計算!$B$26,AV$2,($L44-AV$1)/計算!$B$26*AV$2))","v":0},3.3037773650037052,null,null,1.1999999999999999E-7,24,{"$f":"IF(BB14+計算!$B$26>=準備!$T$33,準備!$T$33,BB14+計算!$B$26)+AZ44","v":5.4475848067324568},null,null,null,40,7.4266187614254386,{"$f":"IF($BG44<BH$1,0,IF($BG44-BH$1>計算!$B$26,BH$2,($BG44-BH$1)/計算!$B$26*BH$2))","v":1.8434248486289773},{"$f":"IF($BG44<BI$1,0,IF($BG44-BI$1>計算!$B$26,BI$2,($BG44-BI$1)/計算!$B$26*BI$2))","v":2.0804359702386828},{"$f":"IF($BG44<BJ$1,0,IF($BG44-BJ$1>計算!$B$26,BJ$2,($BG44-BJ$1)/計算!$B$26*BJ$2))","v":0.43833573789608726},{"$f":"IF($BG44<BK$1,0,IF($BG44-BK$1>計算!$B$26,BK$2,($BG44-BK$1)/計算!$B$26*BK$2))","v":-0.55120106185706153},{"$f":"IF($BG44<BL$1,0,IF($BG44-BL$1>計算!$B$26,BL$2,($BG44-BL$1)/計算!$B$26*BL$2))","v":-0.80365187452039688},{"$f":"IF($BG44<BM$1,0,IF($BG44-BM$1>計算!$B$26,BM$2,($BG44-BM$1)/計算!$B$26*BM$2))","v":0.19584279483276745},{"$f":"IF($BG44<BN$1,0,IF($BG44-BN$1>計算!$B$26,BN$2,($BG44-BN$1)/計算!$B$26*BN$2))","v":0.10422894063720944},{"$f":"IF($BG44<BO$1,0,IF($BG44-BO$1>計算!$B$26,BO$2,($BG44-BO$1)/計算!$B$26*BO$2))","v":-0.4423266906583132},{"$f":"IF($BG44<BP$1,0,IF($BG44-BP$1>計算!$B$26,BP$2,($BG44-BP$1)/計算!$B$26*BP$2))","v":0.16377391940418873},{"$f":"IF($BG44<BQ$1,0,IF($BG44-BQ$1>計算!$B$26,BQ$2,($BG44-BQ$1)/計算!$B$26*BQ$2))","v":0.47754805534168732},{"$f":"IF($BG44<BR$1,0,IF($BG44-BR$1>計算!$B$26,BR$2,($BG44-BR$1)/計算!$B$26*BR$2))","v":-0.21471923432841411},{"$f":"IF($BG44<BS$1,0,IF($BG44-BS$1>計算!$B$26,BS$2,($BG44-BS$1)/計算!$B$26*BS$2))","v":1.8435751369704434E-2},{"$f":"IF($BG44<BT$1,0,IF($BG44-BT$1>計算!$B$26,BT$2,($BG44-BT$1)/計算!$B$26*BT$2))","v":2.4783906779989984E-2},{"$f":"IF($BG44<BU$1,0,IF($BG44-BU$1>計算!$B$26,BU$2,($BG44-BU$1)/計算!$B$26*BU$2))","v":-0.17919042925557704},{"$f":"IF($BG44<BV$1,0,IF($BG44-BV$1>計算!$B$26,BV$2,($BG44-BV$1)/計算!$B$26*BV$2))","v":0.34434916144780114},{"$f":"IF($BG44<BW$1,0,IF($BG44-BW$1>計算!$B$26,BW$2,($BG44-BW$1)/計算!$B$26*BW$2))","v":-2.1118040552239314E-2},{"$f":"IF($BG44<BX$1,0,IF($BG44-BX$1>計算!$B$26,BX$2,($BG44-BX$1)/計算!$B$26*BX$2))","v":-0.34082736850881012},{"$f":"IF($BG44<BY$1,0,IF($BG44-BY$1>計算!$B$26,BY$2,($BG44-BY$1)/計算!$B$26*BY$2))","v":0.19354379609734229},{"$f":"IF($BG44<BZ$1,0,IF($BG44-BZ$1>計算!$B$26,BZ$2,($BG44-BZ$1)/計算!$B$26*BZ$2))","v":-3.3303838596894231E-2},{"$f":"IF($BG44<CA$1,0,IF($BG44-CA$1>計算!$B$26,CA$2,($BG44-CA$1)/計算!$B$26*CA$2))","v":1.7354579159052363E-3},{"$f":"IF($BG44<CB$1,0,IF($BG44-CB$1>計算!$B$26,CB$2,($BG44-CB$1)/計算!$B$26*CB$2))","v":0},{"$f":"IF($BG44<CC$1,0,IF($BG44-CC$1>計算!$B$26,CC$2,($BG44-CC$1)/計算!$B$26*CC$2))","v":0},{"$f":"IF($BG44<CD$1,0,IF($BG44-CD$1>計算!$B$26,CD$2,($BG44-CD$1)/計算!$B$26*CD$2))","v":0},{"$f":"IF($BG44<CE$1,0,IF($BG44-CE$1>計算!$B$26,CE$2,($BG44-CE$1)/計算!$B$26*CE$2))","v":0},{"$f":"IF($BG44<CF$1,0,IF($BG44-CF$1>計算!$B$26,CF$2,($BG44-CF$1)/計算!$B$26*CF$2))","v":0},{"$f":"IF($BG44<CG$1,0,IF($BG44-CG$1>計算!$B$26,CG$2,($BG44-CG$1)/計算!$B$26*CG$2))","v":0},{"$f":"IF($BG44<CH$1,0,IF($BG44-CH$1>計算!$B$26,CH$2,($BG44-CH$1)/計算!$B$26*CH$2))","v":0},{"$f":"IF($BG44<CI$1,0,IF($BG44-CI$1>計算!$B$26,CI$2,($BG44-CI$1)/計算!$B$26*CI$2))","v":0},{"$f":"IF($BG44<CJ$1,0,IF($BG44-CJ$1>計算!$B$26,CJ$2,($BG44-CJ$1)/計算!$B$26*CJ$2))","v":0},{"$f":"IF($BG44<CK$1,0,IF($BG44-CK$1>計算!$B$26,CK$2,($BG44-CK$1)/計算!$B$26*CK$2))","v":0},3.3000998023126367,null,null,7.9161354987719301,-8.9341581599584573E-3,8.9341581599584573E-3]
[null,null,null,null,6.9999999999999996E-10,16,{"$f":"IF(G9+計算!$B$26>=準備!$T$33,準備!$T$33,G9+計算!$B$26)+E45","v":4.400425948881316},null,null,null,42,8.1855682956533329,{"$f":"IF($L45<M$1,0,IF($L45-M$1>計算!$B$26,M$2,($L45-M$1)/計算!$B$26*M$2))","v":1.9890005284157226},{"$f":"IF($L45<N$1,0,IF($L45-N$1>計算!$B$26,N$2,($L45-N$1)/計算!$B$26*N$2))","v":0.32752179487645394},{"$f":"IF($L45<O$1,0,IF($L45-O$1>計算!$B$26,O$2,($L45-O$1)/計算!$B$26*O$2))","v":0.93101299851738872},{"$f":"IF($L45<P$1,0,IF($L45-P$1>計算!$B$26,P$2,($L45-P$1)/計算!$B$26*P$2))","v":0.27879940541488013},{"$f":"IF($L45<Q$1,0,IF($L45-Q$1>計算!$B$26,Q$2,($L45-Q$1)/計算!$B$26*Q$2))","v":7.7879229924124438E-2},{"$f":"IF($L45<R$1,0,IF($L45-R$1>計算!$B$26,R$2,($L45-R$1)/計算!$B$26*R$2))","v":-1.1192377066933545E-2},{"$f":"IF($L45<S$1,0,IF($L45-S$1>計算!$B$26,S$2,($L45-S$1)/計算!$B$26*S$2))","v":-0.23935531082328287},{"$f":"IF($L45<T$1,0,IF($L45-T$1>計算!$B$26,T$2,($L45-T$1)/計算!$B$26*T$2))","v":-0.11033288008978959},{"$f":"IF($L45<U$1,0,IF($L45-U$1>計算!$B$26,U$2,($L45-U$1)/計算!$B$26*U$2))","v":2.6244909978123232E-2},{"$f":"IF($L45<V$1,0,IF($L45-V$1>計算!$B$26,V$2,($L45-V$1)/計算!$B$26*V$2))","v":1.8518384267717458E-2},{"$f":"IF($L45<W$1,0,IF($L45-W$1>計算!$B$26,W$2,($L45-W$1)/計算!$B$26*W$2))","v":-5.7963055209600434E-2},{"$f":"IF($L45<X$1,0,IF($L45-X$1>計算!$B$26,X$2,($L45-X$1)/計算!$B$26*X$2))","v":-5.5458494250048673E-2},{"$f":"IF($L45<Y$1,0,IF($L45-Y$1>計算!$B$26,Y$2,($L45-Y$1)/計算!$B$26*Y$2))","v":0.10338399991016445},{"$f":"IF($L45<Z$1,0,IF($L45-Z$1>計算!$B$26,Z$2,($L45-Z$1)/計算!$B$26*Z$2))","v":5.0289293255394885E-2},{"$f":"IF($L45<AA$1,0,IF($L45-AA$1>計算!$B$26,AA$2,($L45-AA$1)/計算!$B$26*AA$2))","v":-2.9022629979411629E-2},{"$f":"IF($L45<AB$1,0,IF($L45-AB$1>計算!$B$26,AB$2,($L45-AB$1)/計算!$B$26*AB$2))","v":2.470576645365874E-3},{"$f":"IF($L45<AC$1,0,IF($L45-AC$1>計算!$B$26,AC$2,($L45-AC$1)/計算!$B$26*AC$2))","v":4.4033634670110899E-3},{"$f":"IF($L45<AD$1,0,IF($L45-AD$1>計算!$B$26,AD$2,($L45-AD$1)/計算!$B$26*AD$2))","v":-2.5380035601843192E-2},{"$f":"IF($L45<AE$1,0,IF($L45-AE$1>計算!$B$26,AE$2,($L45-AE$1)/計算!$B$26*AE$2))","v":2.3381854399826915E-2},{"$f":"IF($L45<AF$1,0,IF($L45-AF$1>計算!$B$26,AF$2,($L45-AF$1)/計算!$B$26*AF$2))","v":4.878069854631379E-2},{"$f":"IF($L45<AG$1,0,IF($L45-AG$1>計算!$B$26,AG$2,($L45-AG$1)/計算!$B$26*AG$2))","v":-4.3529495448558532E-2},{"$f":"IF($L45<AH$1,0,IF($L45-AH$1>計算!$B$26,AH$2,($L45-AH$1)/計算!$B$26*AH$2))","v":-2.0088693890375771E-2},{"$f":"IF($L45<AI$1,0,IF($L45-AI$1>計算!$B$26,AI$2,($L45-AI$1)/計算!$B$26*AI$2))","v":1.6237732864267072E-2},{"$f":"IF($L45<AJ$1,0,IF($L45-AJ$1>計算!$B$26,AJ$2,($L45-AJ$1)/計算!$B$26*AJ$2))","v":-2.6761732010227618E-3},{"$f":"IF($L45<AK$1,0,IF($L45-AK$1>計算!$B$26,AK$2,($L45-AK$1)/計算!$B$26*AK$2))","v":1.2532336024712173E-4},{"$f":"IF($L45<AL$1,0,IF($L45-AL$1>計算!$B$26,AL$2,($L45-AL$1)/計算!$B$26*AL$2))","v":0},{"$f":"IF($L45<AM$1,0,IF($L45-AM$1>計算!$B$26,AM$2,($L45-AM$1)/計算!$B$26*AM$2))","v":0},{"$f":"IF($L45<AN$1,0,IF($L45-AN$1>計算!$B$26,AN$2,($L45-AN$1)/計算!$B$26*AN$2))","v":0},{"$f":"IF($L45<AO$1,0,IF($L45-AO$1>計算!$B$26,AO$2,($L45-AO$1)/計算!$B$26*AO$2))","v":0},{"$f":"IF($L45<AP$1,0,IF($L45-AP$1>計算!$B$26,AP$2,($L45-AP$1)/計算!$B$26*AP$2))","v":0},{"$f":"IF($L45<AQ$1,0,IF($L45-AQ$1>計算!$B$26,AQ$2,($L45-AQ$1)/計算!$B$26*AQ$2))","v":0},{"$f":"IF($L45<AR$1,0,IF($L45-AR$1>計算!$B$26,AR$2,($L45-AR$1)/計算!$B$26*AR$2))","v":0},{"$f":"IF($L45<AS$1,0,IF($L45-AS$1>計算!$B$26,AS$2,($L45-AS$1)/計算!$B$26*AS$2))","v":0},{"$f":"IF($L45<AT$1,0,IF($L45-AT$1>計算!$B$26,AT$2,($L45-AT$1)/計算!$B$26*AT$2))","v":0},{"$f":"IF($L45<AU$1,0,IF($L45-AU$1>計算!$B$26,AU$2,($L45-AU$1)/計算!$B$26*AU$2))","v":0},{"$f":"IF($L45<AV$1,0,IF($L45-AV$1>計算!$B$26,AV$2,($L45-AV$1)/計算!$B$26*AV$2))","v":0},3.3030509482821349,null,null,1.3E-7,33,{"$f":"IF(BB15+計算!$B$26>=準備!$T$33,準備!$T$33,BB15+計算!$B$26)+AZ45","v":7.2248723872091665},null,null,null,41,8.6462644306974994,{"$f":"IF($BG45<BH$1,0,IF($BG45-BH$1>計算!$B$26,BH$2,($BG45-BH$1)/計算!$B$26*BH$2))","v":1.8434248486289773},{"$f":"IF($BG45<BI$1,0,IF($BG45-BI$1>計算!$B$26,BI$2,($BG45-BI$1)/計算!$B$26*BI$2))","v":2.0804359702386828},{"$f":"IF($BG45<BJ$1,0,IF($BG45-BJ$1>計算!$B$26,BJ$2,($BG45-BJ$1)/計算!$B$26*BJ$2))","v":0.43833573789608726},{"$f":"IF($BG45<BK$1,0,IF($BG45-BK$1>計算!$B$26,BK$2,($BG45-BK$1)/計算!$B$26*BK$2))","v":-0.55120106185706153},{"$f":"IF($BG45<BL$1,0,IF($BG45-BL$1>計算!$B$26,BL$2,($BG45-BL$1)/計算!$B$26*BL$2))","v":-0.80365187452039688},{"$f":"IF($BG45<BM$1,0,IF($BG45-BM$1>計算!$B$26,BM$2,($BG45-BM$1)/計算!$B$26*BM$2))","v":0.19584279483276745},{"$f":"IF($BG45<BN$1,0,IF($BG45-BN$1>計算!$B$26,BN$2,($BG45-BN$1)/計算!$B$26*BN$2))","v":0.10422894063720944},{"$f":"IF($BG45<BO$1,0,IF($BG45-BO$1>計算!$B$26,BO$2,($BG45-BO$1)/計算!$B$26*BO$2))","v":-0.4423266906583132},{"$f":"IF($BG45<BP$1,0,IF($BG45-BP$1>計算!$B$26,BP$2,($BG45-BP$1)/計算!$B$26*BP$2))","v":0.16377391940418873},{"$f":"IF($BG45<BQ$1,0,IF($BG45-BQ$1>計算!$B$26,BQ$2,($BG45-BQ$1)/計算!$B$26*BQ$2))","v":0.47754805534168732},{"$f":"IF($BG45<BR$1,0,IF($BG45-BR$1>計算!$B$26,BR$2,($BG45-BR$1)/計算!$B$26*BR$2))","v":-0.21471923432841411},{"$f":"IF($BG45<BS$1,0,IF($BG45-BS$1>計算!$B$26,BS$2,($BG45-BS$1)/計算!$B$26*BS$2))","v":1.8435751369704434E-2},{"$f":"IF($BG45<BT$1,0,IF($BG45-BT$1>計算!$B$26,BT$2,($BG45-BT$1)/計算!$B$26*BT$2))","v":2.4783906779989984E-2},{"$f":"IF($BG45<BU$1,0,IF($BG45-BU$1>計算!$B$26,BU$2,($BG45-BU$1)/計算!$B$26*BU$2))","v":-0.17919042925557704},{"$f":"IF($BG45<BV$1,0,IF($BG45-BV$1>計算!$B$26,BV$2,($BG45-BV$1)/計算!$B$26*BV$2))","v":0.34434916144780114},{"$f":"IF($BG45<BW$1,0,IF($BG45-BW$1>計算!$B$26,BW$2,($BG45-BW$1)/計算!$B$26*BW$2))","v":-2.1118040552239314E-2},{"$f":"IF($BG45<BX$1,0,IF($BG45-BX$1>計算!$B$26,BX$2,($BG45-BX$1)/計算!$B$26*BX$2))","v":-0.34082736850881012},{"$f":"IF($BG45<BY$1,0,IF($BG45-BY$1>計算!$B$26,BY$2,($BG45-BY$1)/計算!$B$26*BY$2))","v":0.19354379609734229},{"$f":"IF($BG45<BZ$1,0,IF($BG45-BZ$1>計算!$B$26,BZ$2,($BG45-BZ$1)/計算!$B$26*BZ$2))","v":-3.3303838596894231E-2},{"$f":"IF($BG45<CA$1,0,IF($BG45-CA$1>計算!$B$26,CA$2,($BG45-CA$1)/計算!$B$26*CA$2))","v":1.7354579159052363E-3},{"$f":"IF($BG45<CB$1,0,IF($BG45-CB$1>計算!$B$26,CB$2,($BG45-CB$1)/計算!$B$26*CB$2))","v":0},{"$f":"IF($BG45<CC$1,0,IF($BG45-CC$1>計算!$B$26,CC$2,($BG45-CC$1)/計算!$B$26*CC$2))","v":0},{"$f":"IF($BG45<CD$1,0,IF($BG45-CD$1>計算!$B$26,CD$2,($BG45-CD$1)/計算!$B$26*CD$2))","v":0},{"$f":"IF($BG45<CE$1,0,IF($BG45-CE$1>計算!$B$26,CE$2,($BG45-CE$1)/計算!$B$26*CE$2))","v":0},{"$f":"IF($BG45<CF$1,0,IF($BG45-CF$1>計算!$B$26,CF$2,($BG45-CF$1)/計算!$B$26*CF$2))","v":0},{"$f":"IF($BG45<CG$1,0,IF($BG45-CG$1>計算!$B$26,CG$2,($BG45-CG$1)/計算!$B$26*CG$2))","v":0},{"$f":"IF($BG45<CH$1,0,IF($BG45-CH$1>計算!$B$26,CH$2,($BG45-CH$1)/計算!$B$26*CH$2))","v":0},{"$f":"IF($BG45<CI$1,0,IF($BG45-CI$1>計算!$B$26,CI$2,($BG45-CI$1)/計算!$B$26*CI$2))","v":0},{"$f":"IF($BG45<CJ$1,0,IF($BG45-CJ$1>計算!$B$26,CJ$2,($BG45-CJ$1)/計算!$B$26*CJ$2))","v":0},{"$f":"IF($BG45<CK$1,0,IF($BG45-CK$1>計算!$B$26,CK$2,($BG45-CK$1)/計算!$B$26*CK$2))","v":0},3.3000998023126367,null,null,8.1855682956533329,-6.4574894112007838E-4,6.4574894112007838E-4]
[null,null,null,null,7.9999999999999993E-10,17,{"$f":"IF(G10+計算!$B$26>=準備!$T$33,準備!$T$33,G10+計算!$B$26)+E46","v":4.4292468495836408},null,null,null,43,8.2143891963556577,{"$f":"IF($L46<M$1,0,IF($L46-M$1>計算!$B$26,M$2,($L46-M$1)/計算!$B$26*M$2))","v":1.9890005284157226},{"$f":"IF($L46<N$1,0,IF($L46-N$1>計算!$B$26,N$2,($L46-N$1)/計算!$B$26*N$2))","v":0.32752179487645394},{"$f":"IF($L46<O$1,0,IF($L46-O$1>計算!$B$26,O$2,($L46-O$1)/計算!$B$26*O$2))","v":0.93101299851738872},{"$f":"IF($L46<P$1,0,IF($L46-P$1>計算!$B$26,P$2,($L46-P$1)/計算!$B$26*P$2))","v":0.27879940541488013},{"$f":"IF($L46<Q$1,0,IF($L46-Q$1>計算!$B$26,Q$2,($L46-Q$1)/計算!$B$26*Q$2))","v":7.7879229924124438E-2},{"$f":"IF($L46<R$1,0,IF($L46-R$1>計算!$B$26,R$2,($L46-R$1)/計算!$B$26*R$2))","v":-1.1192377066933545E-2},{"$f":"IF($L46<S$1,0,IF($L46-S$1>計算!$B$26,S$2,($L46-S$1)/計算!$B$26*S$2))","v":-0.23935531082328287},{"$f":"IF($L46<T$1,0,IF($L46-T$1>計算!$B$26,T$2,($L46-T$1)/計算!$B$26*T$2))","v":-0.11033288008978959},{"$f":"IF($L46<U$1,0,IF($L46-U$1>計算!$B$26,U$2,($L46-U$1)/計算!$B$26*U$2))","v":2.6244909978123232E-2},{"$f":"IF($L46<V$1,0,IF($L46-V$1>計算!$B$26,V$2,($L46-V$1)/計算!$B$26*V$2))","v":1.8518384267717458E-2},{"$f":"IF($L46<W$1,0,IF($L46-W$1>計算!$B$26,W$2,($L46-W$1)/計算!$B$26*W$2))","v":-5.7963055209600434E-2},{"$f":"IF($L46<X$1,0,IF($L46-X$1>計算!$B$26,X$2,($L46-X$1)/計算!$B$26*X$2))","v":-5.5458494250048673E-2},{"$f":"IF($L46<Y$1,0,IF($L46-Y$1>計算!$B$26,Y$2,($L46-Y$1)/計算!$B$26*Y$2))","v":0.10338399991016445},{"$f":"IF($L46<Z$1,0,IF($L46-Z$1>計算!$B$26,Z$2,($L46-Z$1)/計算!$B$26*Z$2))","v":5.0289293255394885E-2},{"$f":"IF($L46<AA$1,0,IF($L46-AA$1>計算!$B$26,AA$2,($L46-AA$1)/計算!$B$26*AA$2))","v":-2.9022629979411629E-2},{"$f":"IF($L46<AB$1,0,IF($L46-AB$1>計算!$B$26,AB$2,($L46-AB$1)/計算!$B$26*AB$2))","v":2.470576645365874E-3},{"$f":"IF($L46<AC$1,0,IF($L46-AC$1>計算!$B$26,AC$2,($L46-AC$1)/計算!$B$26*AC$2))","v":4.4033634670110899E-3},{"$f":"IF($L46<AD$1,0,IF($L46-AD$1>計算!$B$26,AD$2,($L46-AD$1)/計算!$B$26*AD$2))","v":-2.6932471689339543E-2},{"$f":"IF($L46<AE$1,0,IF($L46-AE$1>計算!$B$26,AE$2,($L46-AE$1)/計算!$B$26*AE$2))","v":2.4905249022417867E-2},{"$f":"IF($L46<AF$1,0,IF($L46-AF$1>計算!$B$26,AF$2,($L46-AF$1)/計算!$B$26*AF$2))","v":5.2180400748163609E-2},{"$f":"IF($L46<AG$1,0,IF($L46-AG$1>計算!$B$26,AG$2,($L46-AG$1)/計算!$B$26*AG$2))","v":-4.6790493077612627E-2},{"$f":"IF($L46<AH$1,0,IF($L46-AH$1>計算!$B$26,AH$2,($L46-AH$1)/計算!$B$26*AH$2))","v":-2.1715503597123063E-2},{"$f":"IF($L46<AI$1,0,IF($L46-AI$1>計算!$B$26,AI$2,($L46-AI$1)/計算!$B$26*AI$2))","v":1.7668556563968731E-2},{"$f":"IF($L46<AJ$1,0,IF($L46-AJ$1>計算!$B$26,AJ$2,($L46-AJ$1)/計算!$B$26*AJ$2))","v":-2.9347776131042175E-3},{"$f":"IF($L46<AK$1,0,IF($L46-AK$1>計算!$B$26,AK$2,($L46-AK$1)/計算!$B$26*AK$2))","v":1.3872904865317668E-4},{"$f":"IF($L46<AL$1,0,IF($L46-AL$1>計算!$B$26,AL$2,($L46-AL$1)/計算!$B$26*AL$2))","v":0},{"$f":"IF($L46<AM$1,0,IF($L46-AM$1>計算!$B$26,AM$2,($L46-AM$1)/計算!$B$26*AM$2))","v":0},{"$f":"IF($L46<AN$1,0,IF($L46-AN$1>計算!$B$26,AN$2,($L46-AN$1)/計算!$B$26*AN$2))","v":0},{"$f":"IF($L46<AO$1,0,IF($L46-AO$1>計算!$B$26,AO$2,($L46-AO$1)/計算!$B$26*AO$2))","v":0},{"$f":"IF($L46<AP$1,0,IF($L46-AP$1>計算!$B$26,AP$2,($L46-AP$1)/計算!$B$26*AP$2))","v":0},{"$f":"IF($L46<AQ$1,0,IF($L46-AQ$1>計算!$B$26,AQ$2,($L46-AQ$1)/計算!$B$26*AQ$2))","v":0},{"$f":"IF($L46<AR$1,0,IF($L46-AR$1>計算!$B$26,AR$2,($L46-AR$1)/計算!$B$26*AR$2))","v":0},{"$f":"IF($L46<AS$1,0,IF($L46-AS$1>計算!$B$26,AS$2,($L46-AS$1)/計算!$B$26*AS$2))","v":0},{"$f":"IF($L46<AT$1,0,IF($L46-AT$1>計算!$B$26,AT$2,($L46-AT$1)/計算!$B$26*AT$2))","v":0},{"$f":"IF($L46<AU$1,0,IF($L46-AU$1>計算!$B$26,AU$2,($L46-AU$1)/計算!$B$26*AU$2))","v":0},{"$f":"IF($L46<AV$1,0,IF($L46-AV$1>計算!$B$26,AV$2,($L46-AV$1)/計算!$B$26*AV$2))","v":0},3.3027194266593036,null,null,1.4000000000000001E-7,34,{"$f":"IF(BB16+計算!$B$26>=準備!$T$33,準備!$T$33,BB16+計算!$B$26)+AZ46","v":7.2536932978114912},null,null,null,42,8.675085341299825,{"$f":"IF($BG46<BH$1,0,IF($BG46-BH$1>計算!$B$26,BH$2,($BG46-BH$1)/計算!$B$26*BH$2))","v":1.8434248486289773},{"$f":"IF($BG46<BI$1,0,IF($BG46-BI$1>計算!$B$26,BI$2,($BG46-BI$1)/計算!$B$26*BI$2))","v":2.0804359702386828},{"$f":"IF($BG46<BJ$1,0,IF($BG46-BJ$1>計算!$B$26,BJ$2,($BG46-BJ$1)/計算!$B$26*BJ$2))","v":0.43833573789608726},{"$f":"IF($BG46<BK$1,0,IF($BG46-BK$1>計算!$B$26,BK$2,($BG46-BK$1)/計算!$B$26*BK$2))","v":-0.55120106185706153},{"$f":"IF($BG46<BL$1,0,IF($BG46-BL$1>計算!$B$26,BL$2,($BG46-BL$1)/計算!$B$26*BL$2))","v":-0.80365187452039688},{"$f":"IF($BG46<BM$1,0,IF($BG46-BM$1>計算!$B$26,BM$2,($BG46-BM$1)/計算!$B$26*BM$2))","v":0.19584279483276745},{"$f":"IF($BG46<BN$1,0,IF($BG46-BN$1>計算!$B$26,BN$2,($BG46-BN$1)/計算!$B$26*BN$2))","v":0.10422894063720944},{"$f":"IF($BG46<BO$1,0,IF($BG46-BO$1>計算!$B$26,BO$2,($BG46-BO$1)/計算!$B$26*BO$2))","v":-0.4423266906583132},{"$f":"IF($BG46<BP$1,0,IF($BG46-BP$1>計算!$B$26,BP$2,($BG46-BP$1)/計算!$B$26*BP$2))","v":0.16377391940418873},{"$f":"IF($BG46<BQ$1,0,IF($BG46-BQ$1>計算!$B$26,BQ$2,($BG46-BQ$1)/計算!$B$26*BQ$2))","v":0.47754805534168732},{"$f":"IF($BG46<BR$1,0,IF($BG46-BR$1>計算!$B$26,BR$2,($BG46-BR$1)/計算!$B$26*BR$2))","v":-0.21471923432841411},{"$f":"IF($BG46<BS$1,0,IF($BG46-BS$1>計算!$B$26,BS$2,($BG46-BS$1)/計算!$B$26*BS$2))","v":1.8435751369704434E-2},{"$f":"IF($BG46<BT$1,0,IF($BG46-BT$1>計算!$B$26,BT$2,($BG46-BT$1)/計算!$B$26*BT$2))","v":2.4783906779989984E-2},{"$f":"IF($BG46<BU$1,0,IF($BG46-BU$1>計算!$B$26,BU$2,($BG46-BU$1)/計算!$B$26*BU$2))","v":-0.17919042925557704},{"$f":"IF($BG46<BV$1,0,IF($BG46-BV$1>計算!$B$26,BV$2,($BG46-BV$1)/計算!$B$26*BV$2))","v":0.34434916144780114},{"$f":"IF($BG46<BW$1,0,IF($BG46-BW$1>計算!$B$26,BW$2,($BG46-BW$1)/計算!$B$26*BW$2))","v":-2.1118040552239314E-2},{"$f":"IF($BG46<BX$1,0,IF($BG46-BX$1>計算!$B$26,BX$2,($BG46-BX$1)/計算!$B$26*BX$2))","v":-0.34082736850881012},{"$f":"IF($BG46<BY$1,0,IF($BG46-BY$1>計算!$B$26,BY$2,($BG46-BY$1)/計算!$B$26*BY$2))","v":0.19354379609734229},{"$f":"IF($BG46<BZ$1,0,IF($BG46-BZ$1>計算!$B$26,BZ$2,($BG46-BZ$1)/計算!$B$26*BZ$2))","v":-3.3303838596894231E-2},{"$f":"IF($BG46<CA$1,0,IF($BG46-CA$1>計算!$B$26,CA$2,($BG46-CA$1)/計算!$B$26*CA$2))","v":1.7354579159052363E-3},{"$f":"IF($BG46<CB$1,0,IF($BG46-CB$1>計算!$B$26,CB$2,($BG46-CB$1)/計算!$B$26*CB$2))","v":3.3969480412532755E-4},{"$f":"IF($BG46<CC$1,0,IF($BG46-CC$1>計算!$B$26,CC$2,($BG46-CC$1)/計算!$B$26*CC$2))","v":0},{"$f":"IF($BG46<CD$1,0,IF($BG46-CD$1>計算!$B$26,CD$2,($BG46-CD$1)/計算!$B$26*CD$2))","v":0},{"$f":"IF($BG46<CE$1,0,IF($BG46-CE$1>計算!$B$26,CE$2,($BG46-CE$1)/計算!$B$26*CE$2))","v":0},{"$f":"IF($BG46<CF$1,0,IF($BG46-CF$1>計算!$B$26,CF$2,($BG46-CF$1)/計算!$B$26*CF$2))","v":0},{"$f":"IF($BG46<CG$1,0,IF($BG46-CG$1>計算!$B$26,CG$2,($BG46-CG$1)/計算!$B$26*CG$2))","v":0},{"$f":"IF($BG46<CH$1,0,IF($BG46-CH$1>計算!$B$26,CH$2,($BG46-CH$1)/計算!$B$26*CH$2))","v":0},{"$f":"IF($BG46<CI$1,0,IF($BG46-CI$1>計算!$B$26,CI$2,($BG46-CI$1)/計算!$B$26*CI$2))","v":0},{"$f":"IF($BG46<CJ$1,0,IF($BG46-CJ$1>計算!$B$26,CJ$2,($BG46-CJ$1)/計算!$B$26*CJ$2))","v":0},{"$f":"IF($BG46<CK$1,0,IF($BG46-CK$1>計算!$B$26,CK$2,($BG46-CK$1)/計算!$B$26*CK$2))","v":0},3.3004394971167619,null,null,8.2143891963556577,9.3747515290527298E-4,-9.3747515290527298E-4]
[null,null,null,null,8.9999999999999989E-10,18,{"$f":"IF(G11+計算!$B$26>=準備!$T$33,準備!$T$33,G11+計算!$B$26)+E47","v":4.4580677502859647},null,null,null,44,8.2432100970579825,{"$f":"IF($L47<M$1,0,IF($L47-M$1>計算!$B$26,M$2,($L47-M$1)/計算!$B$26*M$2))","v":1.9890005284157226},{"$f":"IF($L47<N$1,0,IF($L47-N$1>計算!$B$26,N$2,($L47-N$1)/計算!$B$26*N$2))","v":0.32752179487645394},{"$f":"IF($L47<O$1,0,IF($L47-O$1>計算!$B$26,O$2,($L47-O$1)/計算!$B$26*O$2))","v":0.93101299851738872},{"$f":"IF($L47<P$1,0,IF($L47-P$1>計算!$B$26,P$2,($L47-P$1)/計算!$B$26*P$2))","v":0.27879940541488013},{"$f":"IF($L47<Q$1,0,IF($L47-Q$1>計算!$B$26,Q$2,($L47-Q$1)/計算!$B$26*Q$2))","v":7.7879229924124438E-2},{"$f":"IF($L47<R$1,0,IF($L47-R$1>計算!$B$26,R$2,($L47-R$1)/計算!$B$26*R$2))","v":-1.1192377066933545E-2},{"$f":"IF($L47<S$1,0,IF($L47-S$1>計算!$B$26,S$2,($L47-S$1)/計算!$B$26*S$2))","v":-0.23935531082328287},{"$f":"IF($L47<T$1,0,IF($L47-T$1>計算!$B$26,T$2,($L47-T$1)/計算!$B$26*T$2))","v":-0.11033288008978959},{"$f":"IF($L47<U$1,0,IF($L47-U$1>計算!$B$26,U$2,($L47-U$1)/計算!$B$26*U$2))","v":2.6244909978123232E-2},{"$f":"IF($L47<V$1,0,IF($L47-V$1>計算!$B$26,V$2,($L47-V$1)/計算!$B$26*V$2))","v":1.8518384267717458E-2},{"$f":"IF($L47<W$1,0,IF($L47-W$1>計算!$B$26,W$2,($L47-W$1)/計算!$B$26*W$2))","v":-5.7963055209600434E-2},{"$f":"IF($L47<X$1,0,IF($L47-X$1>計算!$B$26,X$2,($L47-X$1)/計算!$B$26*X$2))","v":-5.5458494250048673E-2},{"$f":"IF($L47<Y$1,0,IF($L47-Y$1>計算!$B$26,Y$2,($L47-Y$1)/計算!$B$26*Y$2))","v":0.10338399991016445},{"$f":"IF($L47<Z$1,0,IF($L47-Z$1>計算!$B$26,Z$2,($L47-Z$1)/計算!$B$26*Z$2))","v":5.0289293255394885E-2},{"$f":"IF($L47<AA$1,0,IF($L47-AA$1>計算!$B$26,AA$2,($L47-AA$1)/計算!$B$26*AA$2))","v":-2.9022629979411629E-2},{"$f":"IF($L47<AB$1,0,IF($L47-AB$1>計算!$B$26,AB$2,($L47-AB$1)/計算!$B$26*AB$2))","v":2.470576645365874E-3},{"$f":"IF($L47<AC$1,0,IF($L47-AC$1>計算!$B$26,AC$2,($L47-AC$1)/計算!$B$26*AC$2))","v":4.4033634670110899E-3},{"$f":"IF($L47<AD$1,0,IF($L47-AD$1>計算!$B$26,AD$2,($L47-AD$1)/計算!$B$26*AD$2))","v":-2.6932471689339543E-2},{"$f":"IF($L47<AE$1,0,IF($L47-AE$1>計算!$B$26,AE$2,($L47-AE$1)/計算!$B$26*AE$2))","v":2.6428643544579966E-2},{"$f":"IF($L47<AF$1,0,IF($L47-AF$1>計算!$B$26,AF$2,($L47-AF$1)/計算!$B$26*AF$2))","v":5.5580102950013428E-2},{"$f":"IF($L47<AG$1,0,IF($L47-AG$1>計算!$B$26,AG$2,($L47-AG$1)/計算!$B$26*AG$2))","v":-5.0051490706666722E-2},{"$f":"IF($L47<AH$1,0,IF($L47-AH$1>計算!$B$26,AH$2,($L47-AH$1)/計算!$B$26*AH$2))","v":-2.3342313303870356E-2},{"$f":"IF($L47<AI$1,0,IF($L47-AI$1>計算!$B$26,AI$2,($L47-AI$1)/計算!$B$26*AI$2))","v":1.909938026367039E-2},{"$f":"IF($L47<AJ$1,0,IF($L47-AJ$1>計算!$B$26,AJ$2,($L47-AJ$1)/計算!$B$26*AJ$2))","v":-3.1933820251856732E-3},{"$f":"IF($L47<AK$1,0,IF($L47-AK$1>計算!$B$26,AK$2,($L47-AK$1)/計算!$B$26*AK$2))","v":1.521347370592316E-4},{"$f":"IF($L47<AL$1,0,IF($L47-AL$1>計算!$B$26,AL$2,($L47-AL$1)/計算!$B$26*AL$2))","v":0},{"$f":"IF($L47<AM$1,0,IF($L47-AM$1>計算!$B$26,AM$2,($L47-AM$1)/計算!$B$26*AM$2))","v":0},{"$f":"IF($L47<AN$1,0,IF($L47-AN$1>計算!$B$26,AN$2,($L47-AN$1)/計算!$B$26*AN$2))","v":0},{"$f":"IF($L47<AO$1,0,IF($L47-AO$1>計算!$B$26,AO$2,($L47-AO$1)/計算!$B$26*AO$2))","v":0},{"$f":"IF($L47<AP$1,0,IF($L47-AP$1>計算!$B$26,AP$2,($L47-AP$1)/計算!$B$26*AP$2))","v":0},{"$f":"IF($L47<AQ$1,0,IF($L47-AQ$1>計算!$B$26,AQ$2,($L47-AQ$1)/計算!$B$26*AQ$2))","v":0},{"$f":"IF($L47<AR$1,0,IF($L47-AR$1>計算!$B$26,AR$2,($L47-AR$1)/計算!$B$26*AR$2))","v":0},{"$f":"IF($L47<AS$1,0,IF($L47-AS$1>計算!$B$26,AS$2,($L47-AS$1)/計算!$B$26*AS$2))","v":0},{"$f":"IF($L47<AT$1,0,IF($L47-AT$1>計算!$B$26,AT$2,($L47-AT$1)/計算!$B$26*AT$2))","v":0},{"$f":"IF($L47<AU$1,0,IF($L47-AU$1>計算!$B$26,AU$2,($L47-AU$1)/計算!$B$26*AU$2))","v":0},{"$f":"IF($L47<AV$1,0,IF($L47-AV$1>計算!$B$26,AV$2,($L47-AV$1)/計算!$B$26*AV$2))","v":0},3.3039403410235408,null,null,1.5000000000000002E-7,35,{"$f":"IF(BB17+計算!$B$26>=準備!$T$33,準備!$T$33,BB17+計算!$B$26)+AZ47","v":7.282514208413815},null,null,null,43,8.7039062519021488,{"$f":"IF($BG47<BH$1,0,IF($BG47-BH$1>計算!$B$26,BH$2,($BG47-BH$1)/計算!$B$26*BH$2))","v":1.8434248486289773},{"$f":"IF($BG47<BI$1,0,IF($BG47-BI$1>計算!$B$26,BI$2,($BG47-BI$1)/計算!$B$26*BI$2))","v":2.0804359702386828},{"$f":"IF($BG47<BJ$1,0,IF($BG47-BJ$1>計算!$B$26,BJ$2,($BG47-BJ$1)/計算!$B$26*BJ$2))","v":0.43833573789608726},{"$f":"IF($BG47<BK$1,0,IF($BG47-BK$1>計算!$B$26,BK$2,($BG47-BK$1)/計算!$B$26*BK$2))","v":-0.55120106185706153},{"$f":"IF($BG47<BL$1,0,IF($BG47-BL$1>計算!$B$26,BL$2,($BG47-BL$1)/計算!$B$26*BL$2))","v":-0.80365187452039688},{"$f":"IF($BG47<BM$1,0,IF($BG47-BM$1>計算!$B$26,BM$2,($BG47-BM$1)/計算!$B$26*BM$2))","v":0.19584279483276745},{"$f":"IF($BG47<BN$1,0,IF($BG47-BN$1>計算!$B$26,BN$2,($BG47-BN$1)/計算!$B$26*BN$2))","v":0.10422894063720944},{"$f":"IF($BG47<BO$1,0,IF($BG47-BO$1>計算!$B$26,BO$2,($BG47-BO$1)/計算!$B$26*BO$2))","v":-0.4423266906583132},{"$f":"IF($BG47<BP$1,0,IF($BG47-BP$1>計算!$B$26,BP$2,($BG47-BP$1)/計算!$B$26*BP$2))","v":0.16377391940418873},{"$f":"IF($BG47<BQ$1,0,IF($BG47-BQ$1>計算!$B$26,BQ$2,($BG47-BQ$1)/計算!$B$26*BQ$2))","v":0.47754805534168732},{"$f":"IF($BG47<BR$1,0,IF($BG47-BR$1>計算!$B$26,BR$2,($BG47-BR$1)/計算!$B$26*BR$2))","v":-0.21471923432841411},{"$f":"IF($BG47<BS$1,0,IF($BG47-BS$1>計算!$B$26,BS$2,($BG47-BS$1)/計算!$B$26*BS$2))","v":1.8435751369704434E-2},{"$f":"IF($BG47<BT$1,0,IF($BG47-BT$1>計算!$B$26,BT$2,($BG47-BT$1)/計算!$B$26*BT$2))","v":2.4783906779989984E-2},{"$f":"IF($BG47<BU$1,0,IF($BG47-BU$1>計算!$B$26,BU$2,($BG47-BU$1)/計算!$B$26*BU$2))","v":-0.17919042925557704},{"$f":"IF($BG47<BV$1,0,IF($BG47-BV$1>計算!$B$26,BV$2,($BG47-BV$1)/計算!$B$26*BV$2))","v":0.34434916144780114},{"$f":"IF($BG47<BW$1,0,IF($BG47-BW$1>計算!$B$26,BW$2,($BG47-BW$1)/計算!$B$26*BW$2))","v":-2.1118040552239314E-2},{"$f":"IF($BG47<BX$1,0,IF($BG47-BX$1>計算!$B$26,BX$2,($BG47-BX$1)/計算!$B$26*BX$2))","v":-0.34082736850881012},{"$f":"IF($BG47<BY$1,0,IF($BG47-BY$1>計算!$B$26,BY$2,($BG47-BY$1)/計算!$B$26*BY$2))","v":0.19354379609734229},{"$f":"IF($BG47<BZ$1,0,IF($BG47-BZ$1>計算!$B$26,BZ$2,($BG47-BZ$1)/計算!$B$26*BZ$2))","v":-3.3303838596894231E-2},{"$f":"IF($BG47<CA$1,0,IF($BG47-CA$1>計算!$B$26,CA$2,($BG47-CA$1)/計算!$B$26*CA$2))","v":1.7354579159052363E-3},{"$f":"IF($BG47<CB$1,0,IF($BG47-CB$1>計算!$B$26,CB$2,($BG47-CB$1)/計算!$B$26*CB$2))","v":6.7938960825063418E-4},{"$f":"IF($BG47<CC$1,0,IF($BG47-CC$1>計算!$B$26,CC$2,($BG47-CC$1)/計算!$B$26*CC$2))","v":-3.4704666390116957E-3},{"$f":"IF($BG47<CD$1,0,IF($BG47-CD$1>計算!$B$26,CD$2,($BG47-CD$1)/計算!$B$26*CD$2))","v":0},{"$f":"IF($BG47<CE$1,0,IF($BG47-CE$1>計算!$B$26,CE$2,($BG47-CE$1)/計算!$B$26*CE$2))","v":0},{"$f":"IF($BG47<CF$1,0,IF($BG47-CF$1>計算!$B$26,CF$2,($BG47-CF$1)/計算!$B$26*CF$2))","v":0},{"$f":"IF($BG47<CG$1,0,IF($BG47-CG$1>計算!$B$26,CG$2,($BG47-CG$1)/計算!$B$26*CG$2))","v":0},{"$f":"IF($BG47<CH$1,0,IF($BG47-CH$1>計算!$B$26,CH$2,($BG47-CH$1)/計算!$B$26*CH$2))","v":0},{"$f":"IF($BG47<CI$1,0,IF($BG47-CI$1>計算!$B$26,CI$2,($BG47-CI$1)/計算!$B$26*CI$2))","v":0},{"$f":"IF($BG47<CJ$1,0,IF($BG47-CJ$1>計算!$B$26,CJ$2,($BG47-CJ$1)/計算!$B$26*CJ$2))","v":0},{"$f":"IF($BG47<CK$1,0,IF($BG47-CK$1>計算!$B$26,CK$2,($BG47-CK$1)/計算!$B$26*CK$2))","v":0},3.2973087252818756,null,null,8.2432100970579825,-3.5561321648487749E-3,3.5561321648487749E-3]
[null,null,null,null,9.9999999999999986E-10,26,{"$f":"IF(G12+計算!$B$26>=準備!$T$33,準備!$T$33,G12+計算!$B$26)+E48","v":6.2641762214650001},null,null,null,45,8.2720309977603073,{"$f":"IF($L48<M$1,0,IF($L48-M$1>計算!$B$26,M$2,($L48-M$1)/計算!$B$26*M$2))","v":1.9890005284157226},{"$f":"IF($L48<N$1,0,IF($L48-N$1>計算!$B$26,N$2,($L48-N$1)/計算!$B$26*N$2))","v":0.32752179487645394},{"$f":"IF($L48<O$1,0,IF($L48-O$1>計算!$B$26,O$2,($L48-O$1)/計算!$B$26*O$2))","v":0.93101299851738872},{"$f":"IF($L48<P$1,0,IF($L48-P$1>計算!$B$26,P$2,($L48-P$1)/計算!$B$26*P$2))","v":0.27879940541488013},{"$f":"IF($L48<Q$1,0,IF($L48-Q$1>計算!$B$26,Q$2,($L48-Q$1)/計算!$B$26*Q$2))","v":7.7879229924124438E-2},{"$f":"IF($L48<R$1,0,IF($L48-R$1>計算!$B$26,R$2,($L48-R$1)/計算!$B$26*R$2))","v":-1.1192377066933545E-2},{"$f":"IF($L48<S$1,0,IF($L48-S$1>計算!$B$26,S$2,($L48-S$1)/計算!$B$26*S$2))","v":-0.23935531082328287},{"$f":"IF($L48<T$1,0,IF($L48-T$1>計算!$B$26,T$2,($L48-T$1)/計算!$B$26*T$2))","v":-0.11033288008978959},{"$f":"IF($L48<U$1,0,IF($L48-U$1>計算!$B$26,U$2,($L48-U$1)/計算!$B$26*U$2))","v":2.6244909978123232E-2},{"$f":"IF($L48<V$1,0,IF($L48-V$1>計算!$B$26,V$2,($L48-V$1)/計算!$B$26*V$2))","v":1.8518384267717458E-2},{"$f":"IF($L48<W$1,0,IF($L48-W$1>計算!$B$26,W$2,($L48-W$1)/計算!$B$26*W$2))","v":-5.7963055209600434E-2},{"$f":"IF($L48<X$1,0,IF($L48-X$1>計算!$B$26,X$2,($L48-X$1)/計算!$B$26*X$2))","v":-5.5458494250048673E-2},{"$f":"IF($L48<Y$1,0,IF($L48-Y$1>計算!$B$26,Y$2,($L48-Y$1)/計算!$B$26*Y$2))","v":0.10338399991016445},{"$f":"IF($L48<Z$1,0,IF($L48-Z$1>計算!$B$26,Z$2,($L48-Z$1)/計算!$B$26*Z$2))","v":5.0289293255394885E-2},{"$f":"IF($L48<AA$1,0,IF($L48-AA$1>計算!$B$26,AA$2,($L48-AA$1)/計算!$B$26*AA$2))","v":-2.9022629979411629E-2},{"$f":"IF($L48<AB$1,0,IF($L48-AB$1>計算!$B$26,AB$2,($L48-AB$1)/計算!$B$26*AB$2))","v":2.470576645365874E-3},{"$f":"IF($L48<AC$1,0,IF($L48-AC$1>計算!$B$26,AC$2,($L48-AC$1)/計算!$B$26*AC$2))","v":4.4033634670110899E-3},{"$f":"IF($L48<AD$1,0,IF($L48-AD$1>計算!$B$26,AD$2,($L48-AD$1)/計算!$B$26*AD$2))","v":-2.6932471689339543E-2},{"$f":"IF($L48<AE$1,0,IF($L48-AE$1>計算!$B$26,AE$2,($L48-AE$1)/計算!$B$26*AE$2))","v":2.6428643544579966E-2},{"$f":"IF($L48<AF$1,0,IF($L48-AF$1>計算!$B$26,AF$2,($L48-AF$1)/計算!$B$26*AF$2))","v":5.8979804915944012E-2},{"$f":"IF($L48<AG$1,0,IF($L48-AG$1>計算!$B$26,AG$2,($L48-AG$1)/計算!$B$26*AG$2))","v":-5.3312488335720817E-2},{"$f":"IF($L48<AH$1,0,IF($L48-AH$1>計算!$B$26,AH$2,($L48-AH$1)/計算!$B$26*AH$2))","v":-2.4969123010617648E-2},{"$f":"IF($L48<AI$1,0,IF($L48-AI$1>計算!$B$26,AI$2,($L48-AI$1)/計算!$B$26*AI$2))","v":2.0530203963372049E-2},{"$f":"IF($L48<AJ$1,0,IF($L48-AJ$1>計算!$B$26,AJ$2,($L48-AJ$1)/計算!$B$26*AJ$2))","v":-3.451986437267129E-3},{"$f":"IF($L48<AK$1,0,IF($L48-AK$1>計算!$B$26,AK$2,($L48-AK$1)/計算!$B$26*AK$2))","v":1.6554042546528653E-4},{"$f":"IF($L48<AL$1,0,IF($L48-AL$1>計算!$B$26,AL$2,($L48-AL$1)/計算!$B$26*AL$2))","v":0},{"$f":"IF($L48<AM$1,0,IF($L48-AM$1>計算!$B$26,AM$2,($L48-AM$1)/計算!$B$26*AM$2))","v":0},{"$f":"IF($L48<AN$1,0,IF($L48-AN$1>計算!$B$26,AN$2,($L48-AN$1)/計算!$B$26*AN$2))","v":0},{"$f":"IF($L48<AO$1,0,IF($L48-AO$1>計算!$B$26,AO$2,($L48-AO$1)/計算!$B$26*AO$2))","v":0},{"$f":"IF($L48<AP$1,0,IF($L48-AP$1>計算!$B$26,AP$2,($L48-AP$1)/計算!$B$26*AP$2))","v":0},{"$f":"IF($L48<AQ$1,0,IF($L48-AQ$1>計算!$B$26,AQ$2,($L48-AQ$1)/計算!$B$26*AQ$2))","v":0},{"$f":"IF($L48<AR$1,0,IF($L48-AR$1>計算!$B$26,AR$2,($L48-AR$1)/計算!$B$26*AR$2))","v":0},{"$f":"IF($L48<AS$1,0,IF($L48-AS$1>計算!$B$26,AS$2,($L48-AS$1)/計算!$B$26*AS$2))","v":0},{"$f":"IF($L48<AT$1,0,IF($L48-AT$1>計算!$B$26,AT$2,($L48-AT$1)/計算!$B$26*AT$2))","v":0},{"$f":"IF($L48<AU$1,0,IF($L48-AU$1>計算!$B$26,AU$2,($L48-AU$1)/計算!$B$26*AU$2))","v":0},{"$f":"IF($L48<AV$1,0,IF($L48-AV$1>計算!$B$26,AV$2,($L48-AV$1)/計算!$B$26*AV$2))","v":0},3.3036378606296961,null,null,1.6000000000000003E-7,36,{"$f":"IF(BB18+計算!$B$26>=準備!$T$33,準備!$T$33,BB18+計算!$B$26)+AZ48","v":7.3113351190161397},null,null,null,44,8.7327271625044744,{"$f":"IF($BG48<BH$1,0,IF($BG48-BH$1>計算!$B$26,BH$2,($BG48-BH$1)/計算!$B$26*BH$2))","v":1.8434248486289773},{"$f":"IF($BG48<BI$1,0,IF($BG48-BI$1>計算!$B$26,BI$2,($BG48-BI$1)/計算!$B$26*BI$2))","v":2.0804359702386828},{"$f":"IF($BG48<BJ$1,0,IF($BG48-BJ$1>計算!$B$26,BJ$2,($BG48-BJ$1)/計算!$B$26*BJ$2))","v":0.43833573789608726},{"$f":"IF($BG48<BK$1,0,IF($BG48-BK$1>計算!$B$26,BK$2,($BG48-BK$1)/計算!$B$26*BK$2))","v":-0.55120106185706153},{"$f":"IF($BG48<BL$1,0,IF($BG48-BL$1>計算!$B$26,BL$2,($BG48-BL$1)/計算!$B$26*BL$2))","v":-0.80365187452039688},{"$f":"IF($BG48<BM$1,0,IF($BG48-BM$1>計算!$B$26,BM$2,($BG48-BM$1)/計算!$B$26*BM$2))","v":0.19584279483276745},{"$f":"IF($BG48<BN$1,0,IF($BG48-BN$1>計算!$B$26,BN$2,($BG48-BN$1)/計算!$B$26*BN$2))","v":0.10422894063720944},{"$f":"IF($BG48<BO$1,0,IF($BG48-BO$1>計算!$B$26,BO$2,($BG48-BO$1)/計算!$B$26*BO$2))","v":-0.4423266906583132},{"$f":"IF($BG48<BP$1,0,IF($BG48-BP$1>計算!$B$26,BP$2,($BG48-BP$1)/計算!$B$26*BP$2))","v":0.16377391940418873},{"$f":"IF($BG48<BQ$1,0,IF($BG48-BQ$1>計算!$B$26,BQ$2,($BG48-BQ$1)/計算!$B$26*BQ$2))","v":0.47754805534168732},{"$f":"IF($BG48<BR$1,0,IF($BG48-BR$1>計算!$B$26,BR$2,($BG48-BR$1)/計算!$B$26*BR$2))","v":-0.21471923432841411},{"$f":"IF($BG48<BS$1,0,IF($BG48-BS$1>計算!$B$26,BS$2,($BG48-BS$1)/計算!$B$26*BS$2))","v":1.8435751369704434E-2},{"$f":"IF($BG48<BT$1,0,IF($BG48-BT$1>計算!$B$26,BT$2,($BG48-BT$1)/計算!$B$26*BT$2))","v":2.4783906779989984E-2},{"$f":"IF($BG48<BU$1,0,IF($BG48-BU$1>計算!$B$26,BU$2,($BG48-BU$1)/計算!$B$26*BU$2))","v":-0.17919042925557704},{"$f":"IF($BG48<BV$1,0,IF($BG48-BV$1>計算!$B$26,BV$2,($BG48-BV$1)/計算!$B$26*BV$2))","v":0.34434916144780114},{"$f":"IF($BG48<BW$1,0,IF($BG48-BW$1>計算!$B$26,BW$2,($BG48-BW$1)/計算!$B$26*BW$2))","v":-2.1118040552239314E-2},{"$f":"IF($BG48<BX$1,0,IF($BG48-BX$1>計算!$B$26,BX$2,($BG48-BX$1)/計算!$B$26*BX$2))","v":-0.34082736850881012},{"$f":"IF($BG48<BY$1,0,IF($BG48-BY$1>計算!$B$26,BY$2,($BG48-BY$1)/計算!$B$26*BY$2))","v":0.19354379609734229},{"$f":"IF($BG48<BZ$1,0,IF($BG48-BZ$1>計算!$B$26,BZ$2,($BG48-BZ$1)/計算!$B$26*BZ$2))","v":-3.3303838596894231E-2},{"$f":"IF($BG48<CA$1,0,IF($BG48-CA$1>計算!$B$26,CA$2,($BG48-CA$1)/計算!$B$26*CA$2))","v":1.7354579159052363E-3},{"$f":"IF($BG48<CB$1,0,IF($BG48-CB$1>計算!$B$26,CB$2,($BG48-CB$1)/計算!$B$26*CB$2))","v":1.0190844123759617E-3},{"$f":"IF($BG48<CC$1,0,IF($BG48-CC$1>計算!$B$26,CC$2,($BG48-CC$1)/計算!$B$26*CC$2))","v":-6.9409332780236057E-3},{"$f":"IF($BG48<CD$1,0,IF($BG48-CD$1>計算!$B$26,CD$2,($BG48-CD$1)/計算!$B$26*CD$2))","v":1.1935143603062094E-2},{"$f":"IF($BG48<CE$1,0,IF($BG48-CE$1>計算!$B$26,CE$2,($BG48-CE$1)/計算!$B$26*CE$2))","v":0},{"$f":"IF($BG48<CF$1,0,IF($BG48-CF$1>計算!$B$26,CF$2,($BG48-CF$1)/計算!$B$26*CF$2))","v":0},{"$f":"IF($BG48<CG$1,0,IF($BG48-CG$1>計算!$B$26,CG$2,($BG48-CG$1)/計算!$B$26*CG$2))","v":0},{"$f":"IF($BG48<CH$1,0,IF($BG48-CH$1>計算!$B$26,CH$2,($BG48-CH$1)/計算!$B$26*CH$2))","v":0},{"$f":"IF($BG48<CI$1,0,IF($BG48-CI$1>計算!$B$26,CI$2,($BG48-CI$1)/計算!$B$26*CI$2))","v":0},{"$f":"IF($BG48<CJ$1,0,IF($BG48-CJ$1>計算!$B$26,CJ$2,($BG48-CJ$1)/計算!$B$26*CJ$2))","v":0},{"$f":"IF($BG48<CK$1,0,IF($BG48-CK$1>計算!$B$26,CK$2,($BG48-CK$1)/計算!$B$26*CK$2))","v":0},3.3061130970500514,null,null,8.2720309977603073,8.2510531430329097E-3,-8.2510531430329097E-3]
[null,null,null,null,1.0999999999999999E-9,27,{"$f":"IF(G13+計算!$B$26>=準備!$T$33,準備!$T$33,G13+計算!$B$26)+E49","v":6.292997122167324},null,null,null,46,8.3008518984626321,{"$f":"IF($L49<M$1,0,IF($L49-M$1>計算!$B$26,M$2,($L49-M$1)/計算!$B$26*M$2))","v":1.9890005284157226},{"$f":"IF($L49<N$1,0,IF($L49-N$1>計算!$B$26,N$2,($L49-N$1)/計算!$B$26*N$2))","v":0.32752179487645394},{"$f":"IF($L49<O$1,0,IF($L49-O$1>計算!$B$26,O$2,($L49-O$1)/計算!$B$26*O$2))","v":0.93101299851738872},{"$f":"IF($L49<P$1,0,IF($L49-P$1>計算!$B$26,P$2,($L49-P$1)/計算!$B$26*P$2))","v":0.27879940541488013},{"$f":"IF($L49<Q$1,0,IF($L49-Q$1>計算!$B$26,Q$2,($L49-Q$1)/計算!$B$26*Q$2))","v":7.7879229924124438E-2},{"$f":"IF($L49<R$1,0,IF($L49-R$1>計算!$B$26,R$2,($L49-R$1)/計算!$B$26*R$2))","v":-1.1192377066933545E-2},{"$f":"IF($L49<S$1,0,IF($L49-S$1>計算!$B$26,S$2,($L49-S$1)/計算!$B$26*S$2))","v":-0.23935531082328287},{"$f":"IF($L49<T$1,0,IF($L49-T$1>計算!$B$26,T$2,($L49-T$1)/計算!$B$26*T$2))","v":-0.11033288008978959},{"$f":"IF($L49<U$1,0,IF($L49-U$1>計算!$B$26,U$2,($L49-U$1)/計算!$B$26*U$2))","v":2.6244909978123232E-2},{"$f":"IF($L49<V$1,0,IF($L49-V$1>計算!$B$26,V$2,($L49-V$1)/計算!$B$26*V$2))","v":1.8518384267717458E-2},{"$f":"IF($L49<W$1,0,IF($L49-W$1>計算!$B$26,W$2,($L49-W$1)/計算!$B$26*W$2))","v":-5.7963055209600434E-2},{"$f":"IF($L49<X$1,0,IF($L49-X$1>計算!$B$26,X$2,($L49-X$1)/計算!$B$26*X$2))","v":-5.5458494250048673E-2},{"$f":"IF($L49<Y$1,0,IF($L49-Y$1>計算!$B$26,Y$2,($L49-Y$1)/計算!$B$26*Y$2))","v":0.10338399991016445},{"$f":"IF($L49<Z$1,0,IF($L49-Z$1>計算!$B$26,Z$2,($L49-Z$1)/計算!$B$26*Z$2))","v":5.0289293255394885E-2},{"$f":"IF($L49<AA$1,0,IF($L49-AA$1>計算!$B$26,AA$2,($L49-AA$1)/計算!$B$26*AA$2))","v":-2.9022629979411629E-2},{"$f":"IF($L49<AB$1,0,IF($L49-AB$1>計算!$B$26,AB$2,($L49-AB$1)/計算!$B$26*AB$2))","v":2.470576645365874E-3},{"$f":"IF($L49<AC$1,0,IF($L49-AC$1>計算!$B$26,AC$2,($L49-AC$1)/計算!$B$26*AC$2))","v":4.4033634670110899E-3},{"$f":"IF($L49<AD$1,0,IF($L49-AD$1>計算!$B$26,AD$2,($L49-AD$1)/計算!$B$26*AD$2))","v":-2.6932471689339543E-2},{"$f":"IF($L49<AE$1,0,IF($L49-AE$1>計算!$B$26,AE$2,($L49-AE$1)/計算!$B$26*AE$2))","v":2.6428643544579966E-2},{"$f":"IF($L49<AF$1,0,IF($L49-AF$1>計算!$B$26,AF$2,($L49-AF$1)/計算!$B$26*AF$2))","v":5.8979804915944012E-2},{"$f":"IF($L49<AG$1,0,IF($L49-AG$1>計算!$B$26,AG$2,($L49-AG$1)/計算!$B$26*AG$2))","v":-5.6573485727166251E-2},{"$f":"IF($L49<AH$1,0,IF($L49-AH$1>計算!$B$26,AH$2,($L49-AH$1)/計算!$B$26*AH$2))","v":-2.6595932717364941E-2},{"$f":"IF($L49<AI$1,0,IF($L49-AI$1>計算!$B$26,AI$2,($L49-AI$1)/計算!$B$26*AI$2))","v":2.1961027663073708E-2},{"$f":"IF($L49<AJ$1,0,IF($L49-AJ$1>計算!$B$26,AJ$2,($L49-AJ$1)/計算!$B$26*AJ$2))","v":-3.7105908493485847E-3},{"$f":"IF($L49<AK$1,0,IF($L49-AK$1>計算!$B$26,AK$2,($L49-AK$1)/計算!$B$26*AK$2))","v":1.7894611387134145E-4},{"$f":"IF($L49<AL$1,0,IF($L49-AL$1>計算!$B$26,AL$2,($L49-AL$1)/計算!$B$26*AL$2))","v":0},{"$f":"IF($L49<AM$1,0,IF($L49-AM$1>計算!$B$26,AM$2,($L49-AM$1)/計算!$B$26*AM$2))","v":0},{"$f":"IF($L49<AN$1,0,IF($L49-AN$1>計算!$B$26,AN$2,($L49-AN$1)/計算!$B$26*AN$2))","v":0},{"$f":"IF($L49<AO$1,0,IF($L49-AO$1>計算!$B$26,AO$2,($L49-AO$1)/計算!$B$26*AO$2))","v":0},{"$f":"IF($L49<AP$1,0,IF($L49-AP$1>計算!$B$26,AP$2,($L49-AP$1)/計算!$B$26*AP$2))","v":0},{"$f":"IF($L49<AQ$1,0,IF($L49-AQ$1>計算!$B$26,AQ$2,($L49-AQ$1)/計算!$B$26*AQ$2))","v":0},{"$f":"IF($L49<AR$1,0,IF($L49-AR$1>計算!$B$26,AR$2,($L49-AR$1)/計算!$B$26*AR$2))","v":0},{"$f":"IF($L49<AS$1,0,IF($L49-AS$1>計算!$B$26,AS$2,($L49-AS$1)/計算!$B$26*AS$2))","v":0},{"$f":"IF($L49<AT$1,0,IF($L49-AT$1>計算!$B$26,AT$2,($L49-AT$1)/計算!$B$26*AT$2))","v":0},{"$f":"IF($L49<AU$1,0,IF($L49-AU$1>計算!$B$26,AU$2,($L49-AU$1)/計算!$B$26*AU$2))","v":0},{"$f":"IF($L49<AV$1,0,IF($L49-AV$1>計算!$B$26,AV$2,($L49-AV$1)/計算!$B$26*AV$2))","v":0},3.2999356785075298,null,null,1.7000000000000004E-7,37,{"$f":"IF(BB19+計算!$B$26>=準備!$T$33,準備!$T$33,BB19+計算!$B$26)+AZ49","v":7.3401560296184645},null,null,null,45,8.7615480731067965,{"$f":"IF($BG49<BH$1,0,IF($BG49-BH$1>計算!$B$26,BH$2,($BG49-BH$1)/計算!$B$26*BH$2))","v":1.8434248486289773},{"$f":"IF($BG49<BI$1,0,IF($BG49-BI$1>計算!$B$26,BI$2,($BG49-BI$1)/計算!$B$26*BI$2))","v":2.0804359702386828},{"$f":"IF($BG49<BJ$1,0,IF($BG49-BJ$1>計算!$B$26,BJ$2,($BG49-BJ$1)/計算!$B$26*BJ$2))","v":0.43833573789608726},{"$f":"IF($BG49<BK$1,0,IF($BG49-BK$1>計算!$B$26,BK$2,($BG49-BK$1)/計算!$B$26*BK$2))","v":-0.55120106185706153},{"$f":"IF($BG49<BL$1,0,IF($BG49-BL$1>計算!$B$26,BL$2,($BG49-BL$1)/計算!$B$26*BL$2))","v":-0.80365187452039688},{"$f":"IF($BG49<BM$1,0,IF($BG49-BM$1>計算!$B$26,BM$2,($BG49-BM$1)/計算!$B$26*BM$2))","v":0.19584279483276745},{"$f":"IF($BG49<BN$1,0,IF($BG49-BN$1>計算!$B$26,BN$2,($BG49-BN$1)/計算!$B$26*BN$2))","v":0.10422894063720944},{"$f":"IF($BG49<BO$1,0,IF($BG49-BO$1>計算!$B$26,BO$2,($BG49-BO$1)/計算!$B$26*BO$2))","v":-0.4423266906583132},{"$f":"IF($BG49<BP$1,0,IF($BG49-BP$1>計算!$B$26,BP$2,($BG49-BP$1)/計算!$B$26*BP$2))","v":0.16377391940418873},{"$f":"IF($BG49<BQ$1,0,IF($BG49-BQ$1>計算!$B$26,BQ$2,($BG49-BQ$1)/計算!$B$26*BQ$2))","v":0.47754805534168732},{"$f":"IF($BG49<BR$1,0,IF($BG49-BR$1>計算!$B$26,BR$2,($BG49-BR$1)/計算!$B$26*BR$2))","v":-0.21471923432841411},{"$f":"IF($BG49<BS$1,0,IF($BG49-BS$1>計算!$B$26,BS$2,($BG49-BS$1)/計算!$B$26*BS$2))","v":1.8435751369704434E-2},{"$f":"IF($BG49<BT$1,0,IF($BG49-BT$1>計算!$B$26,BT$2,($BG49-BT$1)/計算!$B$26*BT$2))","v":2.4783906779989984E-2},{"$f":"IF($BG49<BU$1,0,IF($BG49-BU$1>計算!$B$26,BU$2,($BG49-BU$1)/計算!$B$26*BU$2))","v":-0.17919042925557704},{"$f":"IF($BG49<BV$1,0,IF($BG49-BV$1>計算!$B$26,BV$2,($BG49-BV$1)/計算!$B$26*BV$2))","v":0.34434916144780114},{"$f":"IF($BG49<BW$1,0,IF($BG49-BW$1>計算!$B$26,BW$2,($BG49-BW$1)/計算!$B$26*BW$2))","v":-2.1118040552239314E-2},{"$f":"IF($BG49<BX$1,0,IF($BG49-BX$1>計算!$B$26,BX$2,($BG49-BX$1)/計算!$B$26*BX$2))","v":-0.34082736850881012},{"$f":"IF($BG49<BY$1,0,IF($BG49-BY$1>計算!$B$26,BY$2,($BG49-BY$1)/計算!$B$26*BY$2))","v":0.19354379609734229},{"$f":"IF($BG49<BZ$1,0,IF($BG49-BZ$1>計算!$B$26,BZ$2,($BG49-BZ$1)/計算!$B$26*BZ$2))","v":-3.3303838596894231E-2},{"$f":"IF($BG49<CA$1,0,IF($BG49-CA$1>計算!$B$26,CA$2,($BG49-CA$1)/計算!$B$26*CA$2))","v":1.7354579159052363E-3},{"$f":"IF($BG49<CB$1,0,IF($BG49-CB$1>計算!$B$26,CB$2,($BG49-CB$1)/計算!$B$26*CB$2))","v":1.3587792165012473E-3},{"$f":"IF($BG49<CC$1,0,IF($BG49-CC$1>計算!$B$26,CC$2,($BG49-CC$1)/計算!$B$26*CC$2))","v":-1.0411399917035088E-2},{"$f":"IF($BG49<CD$1,0,IF($BG49-CD$1>計算!$B$26,CD$2,($BG49-CD$1)/計算!$B$26*CD$2))","v":2.3870287206122717E-2},{"$f":"IF($BG49<CE$1,0,IF($BG49-CE$1>計算!$B$26,CE$2,($BG49-CE$1)/計算!$B$26*CE$2))","v":-1.4280338256178528E-2},{"$f":"IF($BG49<CF$1,0,IF($BG49-CF$1>計算!$B$26,CF$2,($BG49-CF$1)/計算!$B$26*CF$2))","v":0},{"$f":"IF($BG49<CG$1,0,IF($BG49-CG$1>計算!$B$26,CG$2,($BG49-CG$1)/計算!$B$26*CG$2))","v":0},{"$f":"IF($BG49<CH$1,0,IF($BG49-CH$1>計算!$B$26,CH$2,($BG49-CH$1)/計算!$B$26*CH$2))","v":0},{"$f":"IF($BG49<CI$1,0,IF($BG49-CI$1>計算!$B$26,CI$2,($BG49-CI$1)/計算!$B$26*CI$2))","v":0},{"$f":"IF($BG49<CJ$1,0,IF($BG49-CJ$1>計算!$B$26,CJ$2,($BG49-CJ$1)/計算!$B$26*CJ$2))","v":0},{"$f":"IF($BG49<CK$1,0,IF($BG49-CK$1>計算!$B$26,CK$2,($BG49-CK$1)/計算!$B$26*CK$2))","v":0},3.300637130562047,null,null,8.3008518984626321,9.3916838060040427E-3,-9.3916838060040427E-3]
[null,null,null,null,1.2E-9,28,{"$f":"IF(G14+計算!$B$26>=準備!$T$33,準備!$T$33,G14+計算!$B$26)+E50","v":6.3218180228696488},null,null,null,47,8.3296727991649568,{"$f":"IF($L50<M$1,0,IF($L50-M$1>計算!$B$26,M$2,($L50-M$1)/計算!$B$26*M$2))","v":1.9890005284157226},{"$f":"IF($L50<N$1,0,IF($L50-N$1>計算!$B$26,N$2,($L50-N$1)/計算!$B$26*N$2))","v":0.32752179487645394},{"$f":"IF($L50<O$1,0,IF($L50-O$1>計算!$B$26,O$2,($L50-O$1)/計算!$B$26*O$2))","v":0.93101299851738872},{"$f":"IF($L50<P$1,0,IF($L50-P$1>計算!$B$26,P$2,($L50-P$1)/計算!$B$26*P$2))","v":0.27879940541488013},{"$f":"IF($L50<Q$1,0,IF($L50-Q$1>計算!$B$26,Q$2,($L50-Q$1)/計算!$B$26*Q$2))","v":7.7879229924124438E-2},{"$f":"IF($L50<R$1,0,IF($L50-R$1>計算!$B$26,R$2,($L50-R$1)/計算!$B$26*R$2))","v":-1.1192377066933545E-2},{"$f":"IF($L50<S$1,0,IF($L50-S$1>計算!$B$26,S$2,($L50-S$1)/計算!$B$26*S$2))","v":-0.23935531082328287},{"$f":"IF($L50<T$1,0,IF($L50-T$1>計算!$B$26,T$2,($L50-T$1)/計算!$B$26*T$2))","v":-0.11033288008978959},{"$f":"IF($L50<U$1,0,IF($L50-U$1>計算!$B$26,U$2,($L50-U$1)/計算!$B$26*U$2))","v":2.6244909978123232E-2},{"$f":"IF($L50<V$1,0,IF($L50-V$1>計算!$B$26,V$2,($L50-V$1)/計算!$B$26*V$2))","v":1.8518384267717458E-2},{"$f":"IF($L50<W$1,0,IF($L50-W$1>計算!$B$26,W$2,($L50-W$1)/計算!$B$26*W$2))","v":-5.7963055209600434E-2},{"$f":"IF($L50<X$1,0,IF($L50-X$1>計算!$B$26,X$2,($L50-X$1)/計算!$B$26*X$2))","v":-5.5458494250048673E-2},{"$f":"IF($L50<Y$1,0,IF($L50-Y$1>計算!$B$26,Y$2,($L50-Y$1)/計算!$B$26*Y$2))","v":0.10338399991016445},{"$f":"IF($L50<Z$1,0,IF($L50-Z$1>計算!$B$26,Z$2,($L50-Z$1)/計算!$B$26*Z$2))","v":5.0289293255394885E-2},{"$f":"IF($L50<AA$1,0,IF($L50-AA$1>計算!$B$26,AA$2,($L50-AA$1)/計算!$B$26*AA$2))","v":-2.9022629979411629E-2},{"$f":"IF($L50<AB$1,0,IF($L50-AB$1>計算!$B$26,AB$2,($L50-AB$1)/計算!$B$26*AB$2))","v":2.470576645365874E-3},{"$f":"IF($L50<AC$1,0,IF($L50-AC$1>計算!$B$26,AC$2,($L50-AC$1)/計算!$B$26*AC$2))","v":4.4033634670110899E-3},{"$f":"IF($L50<AD$1,0,IF($L50-AD$1>計算!$B$26,AD$2,($L50-AD$1)/計算!$B$26*AD$2))","v":-2.6932471689339543E-2},{"$f":"IF($L50<AE$1,0,IF($L50-AE$1>計算!$B$26,AE$2,($L50-AE$1)/計算!$B$26*AE$2))","v":2.6428643544579966E-2},{"$f":"IF($L50<AF$1,0,IF($L50-AF$1>計算!$B$26,AF$2,($L50-AF$1)/計算!$B$26*AF$2))","v":5.8979804915944012E-2},{"$f":"IF($L50<AG$1,0,IF($L50-AG$1>計算!$B$26,AG$2,($L50-AG$1)/計算!$B$26*AG$2))","v":-5.6573485727166251E-2},{"$f":"IF($L50<AH$1,0,IF($L50-AH$1>計算!$B$26,AH$2,($L50-AH$1)/計算!$B$26*AH$2))","v":-2.8222742299932158E-2},{"$f":"IF($L50<AI$1,0,IF($L50-AI$1>計算!$B$26,AI$2,($L50-AI$1)/計算!$B$26*AI$2))","v":2.3391851362775367E-2},{"$f":"IF($L50<AJ$1,0,IF($L50-AJ$1>計算!$B$26,AJ$2,($L50-AJ$1)/計算!$B$26*AJ$2))","v":-3.9691952614300408E-3},{"$f":"IF($L50<AK$1,0,IF($L50-AK$1>計算!$B$26,AK$2,($L50-AK$1)/計算!$B$26*AK$2))","v":1.923518022773964E-4},{"$f":"IF($L50<AL$1,0,IF($L50-AL$1>計算!$B$26,AL$2,($L50-AL$1)/計算!$B$26*AL$2))","v":0},{"$f":"IF($L50<AM$1,0,IF($L50-AM$1>計算!$B$26,AM$2,($L50-AM$1)/計算!$B$26*AM$2))","v":0},{"$f":"IF($L50<AN$1,0,IF($L50-AN$1>計算!$B$26,AN$2,($L50-AN$1)/計算!$B$26*AN$2))","v":0},{"$f":"IF($L50<AO$1,0,IF($L50-AO$1>計算!$B$26,AO$2,($L50-AO$1)/計算!$B$26*AO$2))","v":0},{"$f":"IF($L50<AP$1,0,IF($L50-AP$1>計算!$B$26,AP$2,($L50-AP$1)/計算!$B$26*AP$2))","v":0},{"$f":"IF($L50<AQ$1,0,IF($L50-AQ$1>計算!$B$26,AQ$2,($L50-AQ$1)/計算!$B$26*AQ$2))","v":0},{"$f":"IF($L50<AR$1,0,IF($L50-AR$1>計算!$B$26,AR$2,($L50-AR$1)/計算!$B$26*AR$2))","v":0},{"$f":"IF($L50<AS$1,0,IF($L50-AS$1>計算!$B$26,AS$2,($L50-AS$1)/計算!$B$26*AS$2))","v":0},{"$f":"IF($L50<AT$1,0,IF($L50-AT$1>計算!$B$26,AT$2,($L50-AT$1)/計算!$B$26*AT$2))","v":0},{"$f":"IF($L50<AU$1,0,IF($L50-AU$1>計算!$B$26,AU$2,($L50-AU$1)/計算!$B$26*AU$2))","v":0},{"$f":"IF($L50<AV$1,0,IF($L50-AV$1>計算!$B$26,AV$2,($L50-AV$1)/計算!$B$26*AV$2))","v":0},3.2994944939009887,null,null,1.8000000000000005E-7,38,{"$f":"IF(BB20+計算!$B$26>=準備!$T$33,準備!$T$33,BB20+計算!$B$26)+AZ50","v":7.3689769402207892},null,null,null,46,8.7903689837091239,{"$f":"IF($BG50<BH$1,0,IF($BG50-BH$1>計算!$B$26,BH$2,($BG50-BH$1)/計算!$B$26*BH$2))","v":1.8434248486289773},{"$f":"IF($BG50<BI$1,0,IF($BG50-BI$1>計算!$B$26,BI$2,($BG50-BI$1)/計算!$B$26*BI$2))","v":2.0804359702386828},{"$f":"IF($BG50<BJ$1,0,IF($BG50-BJ$1>計算!$B$26,BJ$2,($BG50-BJ$1)/計算!$B$26*BJ$2))","v":0.43833573789608726},{"$f":"IF($BG50<BK$1,0,IF($BG50-BK$1>計算!$B$26,BK$2,($BG50-BK$1)/計算!$B$26*BK$2))","v":-0.55120106185706153},{"$f":"IF($BG50<BL$1,0,IF($BG50-BL$1>計算!$B$26,BL$2,($BG50-BL$1)/計算!$B$26*BL$2))","v":-0.80365187452039688},{"$f":"IF($BG50<BM$1,0,IF($BG50-BM$1>計算!$B$26,BM$2,($BG50-BM$1)/計算!$B$26*BM$2))","v":0.19584279483276745},{"$f":"IF($BG50<BN$1,0,IF($BG50-BN$1>計算!$B$26,BN$2,($BG50-BN$1)/計算!$B$26*BN$2))","v":0.10422894063720944},{"$f":"IF($BG50<BO$1,0,IF($BG50-BO$1>計算!$B$26,BO$2,($BG50-BO$1)/計算!$B$26*BO$2))","v":-0.4423266906583132},{"$f":"IF($BG50<BP$1,0,IF($BG50-BP$1>計算!$B$26,BP$2,($BG50-BP$1)/計算!$B$26*BP$2))","v":0.16377391940418873},{"$f":"IF($BG50<BQ$1,0,IF($BG50-BQ$1>計算!$B$26,BQ$2,($BG50-BQ$1)/計算!$B$26*BQ$2))","v":0.47754805534168732},{"$f":"IF($BG50<BR$1,0,IF($BG50-BR$1>計算!$B$26,BR$2,($BG50-BR$1)/計算!$B$26*BR$2))","v":-0.21471923432841411},{"$f":"IF($BG50<BS$1,0,IF($BG50-BS$1>計算!$B$26,BS$2,($BG50-BS$1)/計算!$B$26*BS$2))","v":1.8435751369704434E-2},{"$f":"IF($BG50<BT$1,0,IF($BG50-BT$1>計算!$B$26,BT$2,($BG50-BT$1)/計算!$B$26*BT$2))","v":2.4783906779989984E-2},{"$f":"IF($BG50<BU$1,0,IF($BG50-BU$1>計算!$B$26,BU$2,($BG50-BU$1)/計算!$B$26*BU$2))","v":-0.17919042925557704},{"$f":"IF($BG50<BV$1,0,IF($BG50-BV$1>計算!$B$26,BV$2,($BG50-BV$1)/計算!$B$26*BV$2))","v":0.34434916144780114},{"$f":"IF($BG50<BW$1,0,IF($BG50-BW$1>計算!$B$26,BW$2,($BG50-BW$1)/計算!$B$26*BW$2))","v":-2.1118040552239314E-2},{"$f":"IF($BG50<BX$1,0,IF($BG50-BX$1>計算!$B$26,BX$2,($BG50-BX$1)/計算!$B$26*BX$2))","v":-0.34082736850881012},{"$f":"IF($BG50<BY$1,0,IF($BG50-BY$1>計算!$B$26,BY$2,($BG50-BY$1)/計算!$B$26*BY$2))","v":0.19354379609734229},{"$f":"IF($BG50<BZ$1,0,IF($BG50-BZ$1>計算!$B$26,BZ$2,($BG50-BZ$1)/計算!$B$26*BZ$2))","v":-3.3303838596894231E-2},{"$f":"IF($BG50<CA$1,0,IF($BG50-CA$1>計算!$B$26,CA$2,($BG50-CA$1)/計算!$B$26*CA$2))","v":1.7354579159052363E-3},{"$f":"IF($BG50<CB$1,0,IF($BG50-CB$1>計算!$B$26,CB$2,($BG50-CB$1)/計算!$B$26*CB$2))","v":1.6984740206265959E-3},{"$f":"IF($BG50<CC$1,0,IF($BG50-CC$1>計算!$B$26,CC$2,($BG50-CC$1)/計算!$B$26*CC$2))","v":-1.3881866556047211E-2},{"$f":"IF($BG50<CD$1,0,IF($BG50-CD$1>計算!$B$26,CD$2,($BG50-CD$1)/計算!$B$26*CD$2))","v":3.5805430809185544E-2},{"$f":"IF($BG50<CE$1,0,IF($BG50-CE$1>計算!$B$26,CE$2,($BG50-CE$1)/計算!$B$26*CE$2))","v":-2.8560676512359696E-2},{"$f":"IF($BG50<CF$1,0,IF($BG50-CF$1>計算!$B$26,CF$2,($BG50-CF$1)/計算!$B$26*CF$2))","v":-2.3370098680929158E-3},{"$f":"IF($BG50<CG$1,0,IF($BG50-CG$1>計算!$B$26,CG$2,($BG50-CG$1)/計算!$B$26*CG$2))","v":0},{"$f":"IF($BG50<CH$1,0,IF($BG50-CH$1>計算!$B$26,CH$2,($BG50-CH$1)/計算!$B$26*CH$2))","v":0},{"$f":"IF($BG50<CI$1,0,IF($BG50-CI$1>計算!$B$26,CI$2,($BG50-CI$1)/計算!$B$26*CI$2))","v":0},{"$f":"IF($BG50<CJ$1,0,IF($BG50-CJ$1>計算!$B$26,CJ$2,($BG50-CJ$1)/計算!$B$26*CJ$2))","v":0},{"$f":"IF($BG50<CK$1,0,IF($BG50-CK$1>計算!$B$26,CK$2,($BG50-CK$1)/計算!$B$26*CK$2))","v":0},3.2928241542059489,null,null,8.3296727991649568,-1.4844523058413525E-3,1.4844523058413525E-3]
[null,null,null,null,1.3000000000000001E-9,29,{"$f":"IF(G15+計算!$B$26>=準備!$T$33,準備!$T$33,G15+計算!$B$26)+E51","v":6.3506389235719745},null,null,null,48,8.3584936998672816,{"$f":"IF($L51<M$1,0,IF($L51-M$1>計算!$B$26,M$2,($L51-M$1)/計算!$B$26*M$2))","v":1.9890005284157226},{"$f":"IF($L51<N$1,0,IF($L51-N$1>計算!$B$26,N$2,($L51-N$1)/計算!$B$26*N$2))","v":0.32752179487645394},{"$f":"IF($L51<O$1,0,IF($L51-O$1>計算!$B$26,O$2,($L51-O$1)/計算!$B$26*O$2))","v":0.93101299851738872},{"$f":"IF($L51<P$1,0,IF($L51-P$1>計算!$B$26,P$2,($L51-P$1)/計算!$B$26*P$2))","v":0.27879940541488013},{"$f":"IF($L51<Q$1,0,IF($L51-Q$1>計算!$B$26,Q$2,($L51-Q$1)/計算!$B$26*Q$2))","v":7.7879229924124438E-2},{"$f":"IF($L51<R$1,0,IF($L51-R$1>計算!$B$26,R$2,($L51-R$1)/計算!$B$26*R$2))","v":-1.1192377066933545E-2},{"$f":"IF($L51<S$1,0,IF($L51-S$1>計算!$B$26,S$2,($L51-S$1)/計算!$B$26*S$2))","v":-0.23935531082328287},{"$f":"IF($L51<T$1,0,IF($L51-T$1>計算!$B$26,T$2,($L51-T$1)/計算!$B$26*T$2))","v":-0.11033288008978959},{"$f":"IF($L51<U$1,0,IF($L51-U$1>計算!$B$26,U$2,($L51-U$1)/計算!$B$26*U$2))","v":2.6244909978123232E-2},{"$f":"IF($L51<V$1,0,IF($L51-V$1>計算!$B$26,V$2,($L51-V$1)/計算!$B$26*V$2))","v":1.8518384267717458E-2},{"$f":"IF($L51<W$1,0,IF($L51-W$1>計算!$B$26,W$2,($L51-W$1)/計算!$B$26*W$2))","v":-5.7963055209600434E-2},{"$f":"IF($L51<X$1,0,IF($L51-X$1>計算!$B$26,X$2,($L51-X$1)/計算!$B$26*X$2))","v":-5.5458494250048673E-2},{"$f":"IF($L51<Y$1,0,IF($L51-Y$1>計算!$B$26,Y$2,($L51-Y$1)/計算!$B$26*Y$2))","v":0.10338399991016445},{"$f":"IF($L51<Z$1,0,IF($L51-Z$1>計算!$B$26,Z$2,($L51-Z$1)/計算!$B$26*Z$2))","v":5.0289293255394885E-2},{"$f":"IF($L51<AA$1,0,IF($L51-AA$1>計算!$B$26,AA$2,($L51-AA$1)/計算!$B$26*AA$2))","v":-2.9022629979411629E-2},{"$f":"IF($L51<AB$1,0,IF($L51-AB$1>計算!$B$26,AB$2,($L51-AB$1)/計算!$B$26*AB$2))","v":2.470576645365874E-3},{"$f":"IF($L51<AC$1,0,IF($L51-AC$1>計算!$B$26,AC$2,($L51-AC$1)/計算!$B$26*AC$2))","v":4.4033634670110899E-3},{"$f":"IF($L51<AD$1,0,IF($L51-AD$1>計算!$B$26,AD$2,($L51-AD$1)/計算!$B$26*AD$2))","v":-2.6932471689339543E-2},{"$f":"IF($L51<AE$1,0,IF($L51-AE$1>計算!$B$26,AE$2,($L51-AE$1)/計算!$B$26*AE$2))","v":2.6428643544579966E-2},{"$f":"IF($L51<AF$1,0,IF($L51-AF$1>計算!$B$26,AF$2,($L51-AF$1)/計算!$B$26*AF$2))","v":5.8979804915944012E-2},{"$f":"IF($L51<AG$1,0,IF($L51-AG$1>計算!$B$26,AG$2,($L51-AG$1)/計算!$B$26*AG$2))","v":-5.6573485727166251E-2},{"$f":"IF($L51<AH$1,0,IF($L51-AH$1>計算!$B$26,AH$2,($L51-AH$1)/計算!$B$26*AH$2))","v":-2.8222742299932158E-2},{"$f":"IF($L51<AI$1,0,IF($L51-AI$1>計算!$B$26,AI$2,($L51-AI$1)/計算!$B$26*AI$2))","v":2.4822674948292711E-2},{"$f":"IF($L51<AJ$1,0,IF($L51-AJ$1>計算!$B$26,AJ$2,($L51-AJ$1)/計算!$B$26*AJ$2))","v":-4.2277996735114965E-3},{"$f":"IF($L51<AK$1,0,IF($L51-AK$1>計算!$B$26,AK$2,($L51-AK$1)/計算!$B$26*AK$2))","v":2.0575749068345132E-4},{"$f":"IF($L51<AL$1,0,IF($L51-AL$1>計算!$B$26,AL$2,($L51-AL$1)/計算!$B$26*AL$2))","v":0},{"$f":"IF($L51<AM$1,0,IF($L51-AM$1>計算!$B$26,AM$2,($L51-AM$1)/計算!$B$26*AM$2))","v":0},{"$f":"IF($L51<AN$1,0,IF($L51-AN$1>計算!$B$26,AN$2,($L51-AN$1)/計算!$B$26*AN$2))","v":0},{"$f":"IF($L51<AO$1,0,IF($L51-AO$1>計算!$B$26,AO$2,($L51-AO$1)/計算!$B$26*AO$2))","v":0},{"$f":"IF($L51<AP$1,0,IF($L51-AP$1>計算!$B$26,AP$2,($L51-AP$1)/計算!$B$26*AP$2))","v":0},{"$f":"IF($L51<AQ$1,0,IF($L51-AQ$1>計算!$B$26,AQ$2,($L51-AQ$1)/計算!$B$26*AQ$2))","v":0},{"$f":"IF($L51<AR$1,0,IF($L51-AR$1>計算!$B$26,AR$2,($L51-AR$1)/計算!$B$26*AR$2))","v":0},{"$f":"IF($L51<AS$1,0,IF($L51-AS$1>計算!$B$26,AS$2,($L51-AS$1)/計算!$B$26*AS$2))","v":0},{"$f":"IF($L51<AT$1,0,IF($L51-AT$1>計算!$B$26,AT$2,($L51-AT$1)/計算!$B$26*AT$2))","v":0},{"$f":"IF($L51<AU$1,0,IF($L51-AU$1>計算!$B$26,AU$2,($L51-AU$1)/計算!$B$26*AU$2))","v":0},{"$f":"IF($L51<AV$1,0,IF($L51-AV$1>計算!$B$26,AV$2,($L51-AV$1)/計算!$B$26*AV$2))","v":0},3.3006801187628305,null,null,1.9000000000000006E-7,39,{"$f":"IF(BB21+計算!$B$26>=準備!$T$33,準備!$T$33,BB21+計算!$B$26)+AZ51","v":7.3977978508231139},null,null,null,47,{"$f":"OFFSET(BB$2,MATCH(BF51,BA$3:BA$62,0),0,1,1)","v":8.8191898943114477},{"$f":"IF($BG51<BH$1,0,IF($BG51-BH$1>計算!$B$26,BH$2,($BG51-BH$1)/計算!$B$26*BH$2))","v":1.8434248486289773},{"$f":"IF($BG51<BI$1,0,IF($BG51-BI$1>計算!$B$26,BI$2,($BG51-BI$1)/計算!$B$26*BI$2))","v":2.0804359702386828},{"$f":"IF($BG51<BJ$1,0,IF($BG51-BJ$1>計算!$B$26,BJ$2,($BG51-BJ$1)/計算!$B$26*BJ$2))","v":0.43833573789608726},{"$f":"IF($BG51<BK$1,0,IF($BG51-BK$1>計算!$B$26,BK$2,($BG51-BK$1)/計算!$B$26*BK$2))","v":-0.55120106185706153},{"$f":"IF($BG51<BL$1,0,IF($BG51-BL$1>計算!$B$26,BL$2,($BG51-BL$1)/計算!$B$26*BL$2))","v":-0.80365187452039688},{"$f":"IF($BG51<BM$1,0,IF($BG51-BM$1>計算!$B$26,BM$2,($BG51-BM$1)/計算!$B$26*BM$2))","v":0.19584279483276745},{"$f":"IF($BG51<BN$1,0,IF($BG51-BN$1>計算!$B$26,BN$2,($BG51-BN$1)/計算!$B$26*BN$2))","v":0.10422894063720944},{"$f":"IF($BG51<BO$1,0,IF($BG51-BO$1>計算!$B$26,BO$2,($BG51-BO$1)/計算!$B$26*BO$2))","v":-0.4423266906583132},{"$f":"IF($BG51<BP$1,0,IF($BG51-BP$1>計算!$B$26,BP$2,($BG51-BP$1)/計算!$B$26*BP$2))","v":0.16377391940418873},{"$f":"IF($BG51<BQ$1,0,IF($BG51-BQ$1>計算!$B$26,BQ$2,($BG51-BQ$1)/計算!$B$26*BQ$2))","v":0.47754805534168732},{"$f":"IF($BG51<BR$1,0,IF($BG51-BR$1>計算!$B$26,BR$2,($BG51-BR$1)/計算!$B$26*BR$2))","v":-0.21471923432841411},{"$f":"IF($BG51<BS$1,0,IF($BG51-BS$1>計算!$B$26,BS$2,($BG51-BS$1)/計算!$B$26*BS$2))","v":1.8435751369704434E-2},{"$f":"IF($BG51<BT$1,0,IF($BG51-BT$1>計算!$B$26,BT$2,($BG51-BT$1)/計算!$B$26*BT$2))","v":2.4783906779989984E-2},{"$f":"IF($BG51<BU$1,0,IF($BG51-BU$1>計算!$B$26,BU$2,($BG51-BU$1)/計算!$B$26*BU$2))","v":-0.17919042925557704},{"$f":"IF($BG51<BV$1,0,IF($BG51-BV$1>計算!$B$26,BV$2,($BG51-BV$1)/計算!$B$26*BV$2))","v":0.34434916144780114},{"$f":"IF($BG51<BW$1,0,IF($BG51-BW$1>計算!$B$26,BW$2,($BG51-BW$1)/計算!$B$26*BW$2))","v":-2.1118040552239314E-2},{"$f":"IF($BG51<BX$1,0,IF($BG51-BX$1>計算!$B$26,BX$2,($BG51-BX$1)/計算!$B$26*BX$2))","v":-0.34082736850881012},{"$f":"IF($BG51<BY$1,0,IF($BG51-BY$1>計算!$B$26,BY$2,($BG51-BY$1)/計算!$B$26*BY$2))","v":0.19354379609734229},{"$f":"IF($BG51<BZ$1,0,IF($BG51-BZ$1>計算!$B$26,BZ$2,($BG51-BZ$1)/計算!$B$26*BZ$2))","v":-3.3303838596894231E-2},{"$f":"IF($BG51<CA$1,0,IF($BG51-CA$1>計算!$B$26,CA$2,($BG51-CA$1)/計算!$B$26*CA$2))","v":1.7354579159052363E-3},{"$f":"IF($BG51<CB$1,0,IF($BG51-CB$1>計算!$B$26,CB$2,($BG51-CB$1)/計算!$B$26*CB$2))","v":2.0381688247519025E-3},{"$f":"IF($BG51<CC$1,0,IF($BG51-CC$1>計算!$B$26,CC$2,($BG51-CC$1)/計算!$B$26*CC$2))","v":-1.7352333195058908E-2},{"$f":"IF($BG51<CD$1,0,IF($BG51-CD$1>計算!$B$26,CD$2,($BG51-CD$1)/計算!$B$26*CD$2))","v":4.7740574412246904E-2},{"$f":"IF($BG51<CE$1,0,IF($BG51-CE$1>計算!$B$26,CE$2,($BG51-CE$1)/計算!$B$26*CE$2))","v":-4.2841014768539104E-2},{"$f":"IF($BG51<CF$1,0,IF($BG51-CF$1>計算!$B$26,CF$2,($BG51-CF$1)/計算!$B$26*CF$2))","v":-4.6740197361855428E-3},{"$f":"IF($BG51<CG$1,0,IF($BG51-CG$1>計算!$B$26,CG$2,($BG51-CG$1)/計算!$B$26*CG$2))","v":1.5326915549609337E-2},{"$f":"IF($BG51<CH$1,0,IF($BG51-CH$1>計算!$B$26,CH$2,($BG51-CH$1)/計算!$B$26*CH$2))","v":0},{"$f":"IF($BG51<CI$1,0,IF($BG51-CI$1>計算!$B$26,CI$2,($BG51-CI$1)/計算!$B$26*CI$2))","v":0},{"$f":"IF($BG51<CJ$1,0,IF($BG51-CJ$1>計算!$B$26,CJ$2,($BG51-CJ$1)/計算!$B$26*CJ$2))","v":0},{"$f":"IF($BG51<CK$1,0,IF($BG51-CK$1>計算!$B$26,CK$2,($BG51-CK$1)/計算!$B$26*CK$2))","v":0},3.300338093399461,null,null,8.3584936998672816,3.2332301687505918E-3,-3.2332301687505918E-3]
[null,null,null,null,1.4000000000000001E-9,30,{"$f":"IF(G16+計算!$B$26>=準備!$T$33,準備!$T$33,G16+計算!$B$26)+E52","v":6.3794598242742984},null,null,null,49,8.3873146005696064,{"$f":"IF($L52<M$1,0,IF($L52-M$1>計算!$B$26,M$2,($L52-M$1)/計算!$B$26*M$2))","v":1.9890005284157226},{"$f":"IF($L52<N$1,0,IF($L52-N$1>計算!$B$26,N$2,($L52-N$1)/計算!$B$26*N$2))","v":0.32752179487645394},{"$f":"IF($L52<O$1,0,IF($L52-O$1>計算!$B$26,O$2,($L52-O$1)/計算!$B$26*O$2))","v":0.93101299851738872},{"$f":"IF($L52<P$1,0,IF($L52-P$1>計算!$B$26,P$2,($L52-P$1)/計算!$B$26*P$2))","v":0.27879940541488013},{"$f":"IF($L52<Q$1,0,IF($L52-Q$1>計算!$B$26,Q$2,($L52-Q$1)/計算!$B$26*Q$2))","v":7.7879229924124438E-2},{"$f":"IF($L52<R$1,0,IF($L52-R$1>計算!$B$26,R$2,($L52-R$1)/計算!$B$26*R$2))","v":-1.1192377066933545E-2},{"$f":"IF($L52<S$1,0,IF($L52-S$1>計算!$B$26,S$2,($L52-S$1)/計算!$B$26*S$2))","v":-0.23935531082328287},{"$f":"IF($L52<T$1,0,IF($L52-T$1>計算!$B$26,T$2,($L52-T$1)/計算!$B$26*T$2))","v":-0.11033288008978959},{"$f":"IF($L52<U$1,0,IF($L52-U$1>計算!$B$26,U$2,($L52-U$1)/計算!$B$26*U$2))","v":2.6244909978123232E-2},{"$f":"IF($L52<V$1,0,IF($L52-V$1>計算!$B$26,V$2,($L52-V$1)/計算!$B$26*V$2))","v":1.8518384267717458E-2},{"$f":"IF($L52<W$1,0,IF($L52-W$1>計算!$B$26,W$2,($L52-W$1)/計算!$B$26*W$2))","v":-5.7963055209600434E-2},{"$f":"IF($L52<X$1,0,IF($L52-X$1>計算!$B$26,X$2,($L52-X$1)/計算!$B$26*X$2))","v":-5.5458494250048673E-2},{"$f":"IF($L52<Y$1,0,IF($L52-Y$1>計算!$B$26,Y$2,($L52-Y$1)/計算!$B$26*Y$2))","v":0.10338399991016445},{"$f":"IF($L52<Z$1,0,IF($L52-Z$1>計算!$B$26,Z$2,($L52-Z$1)/計算!$B$26*Z$2))","v":5.0289293255394885E-2},{"$f":"IF($L52<AA$1,0,IF($L52-AA$1>計算!$B$26,AA$2,($L52-AA$1)/計算!$B$26*AA$2))","v":-2.9022629979411629E-2},{"$f":"IF($L52<AB$1,0,IF($L52-AB$1>計算!$B$26,AB$2,($L52-AB$1)/計算!$B$26*AB$2))","v":2.470576645365874E-3},{"$f":"IF($L52<AC$1,0,IF($L52-AC$1>計算!$B$26,AC$2,($L52-AC$1)/計算!$B$26*AC$2))","v":4.4033634670110899E-3},{"$f":"IF($L52<AD$1,0,IF($L52-AD$1>計算!$B$26,AD$2,($L52-AD$1)/計算!$B$26*AD$2))","v":-2.6932471689339543E-2},{"$f":"IF($L52<AE$1,0,IF($L52-AE$1>計算!$B$26,AE$2,($L52-AE$1)/計算!$B$26*AE$2))","v":2.6428643544579966E-2},{"$f":"IF($L52<AF$1,0,IF($L52-AF$1>計算!$B$26,AF$2,($L52-AF$1)/計算!$B$26*AF$2))","v":5.8979804915944012E-2},{"$f":"IF($L52<AG$1,0,IF($L52-AG$1>計算!$B$26,AG$2,($L52-AG$1)/計算!$B$26*AG$2))","v":-5.6573485727166251E-2},{"$f":"IF($L52<AH$1,0,IF($L52-AH$1>計算!$B$26,AH$2,($L52-AH$1)/計算!$B$26*AH$2))","v":-2.8222742299932158E-2},{"$f":"IF($L52<AI$1,0,IF($L52-AI$1>計算!$B$26,AI$2,($L52-AI$1)/計算!$B$26*AI$2))","v":2.4822674948292711E-2},{"$f":"IF($L52<AJ$1,0,IF($L52-AJ$1>計算!$B$26,AJ$2,($L52-AJ$1)/計算!$B$26*AJ$2))","v":-4.4864040640582026E-3},{"$f":"IF($L52<AK$1,0,IF($L52-AK$1>計算!$B$26,AK$2,($L52-AK$1)/計算!$B$26*AK$2))","v":2.1916317908950625E-4},{"$f":"IF($L52<AL$1,0,IF($L52-AL$1>計算!$B$26,AL$2,($L52-AL$1)/計算!$B$26*AL$2))","v":0},{"$f":"IF($L52<AM$1,0,IF($L52-AM$1>計算!$B$26,AM$2,($L52-AM$1)/計算!$B$26*AM$2))","v":0},{"$f":"IF($L52<AN$1,0,IF($L52-AN$1>計算!$B$26,AN$2,($L52-AN$1)/計算!$B$26*AN$2))","v":0},{"$f":"IF($L52<AO$1,0,IF($L52-AO$1>計算!$B$26,AO$2,($L52-AO$1)/計算!$B$26*AO$2))","v":0},{"$f":"IF($L52<AP$1,0,IF($L52-AP$1>計算!$B$26,AP$2,($L52-AP$1)/計算!$B$26*AP$2))","v":0},{"$f":"IF($L52<AQ$1,0,IF($L52-AQ$1>計算!$B$26,AQ$2,($L52-AQ$1)/計算!$B$26*AQ$2))","v":0},{"$f":"IF($L52<AR$1,0,IF($L52-AR$1>計算!$B$26,AR$2,($L52-AR$1)/計算!$B$26*AR$2))","v":0},{"$f":"IF($L52<AS$1,0,IF($L52-AS$1>計算!$B$26,AS$2,($L52-AS$1)/計算!$B$26*AS$2))","v":0},{"$f":"IF($L52<AT$1,0,IF($L52-AT$1>計算!$B$26,AT$2,($L52-AT$1)/計算!$B$26*AT$2))","v":0},{"$f":"IF($L52<AU$1,0,IF($L52-AU$1>計算!$B$26,AU$2,($L52-AU$1)/計算!$B$26*AU$2))","v":0},{"$f":"IF($L52<AV$1,0,IF($L52-AV$1>計算!$B$26,AV$2,($L52-AV$1)/計算!$B$26*AV$2))","v":0},3.3004349200606899,null,null,2.0000000000000007E-7,40,{"$f":"IF(BB22+計算!$B$26>=準備!$T$33,準備!$T$33,BB22+計算!$B$26)+AZ52","v":7.4266187614254386},null,null,null,48,{"$f":"OFFSET(BB$2,MATCH(BF52,BA$3:BA$62,0),0,1,1)","v":8.8480108049137716},{"$f":"IF($BG52<BH$1,0,IF($BG52-BH$1>計算!$B$26,BH$2,($BG52-BH$1)/計算!$B$26*BH$2))","v":1.8434248486289773},{"$f":"IF($BG52<BI$1,0,IF($BG52-BI$1>計算!$B$26,BI$2,($BG52-BI$1)/計算!$B$26*BI$2))","v":2.0804359702386828},{"$f":"IF($BG52<BJ$1,0,IF($BG52-BJ$1>計算!$B$26,BJ$2,($BG52-BJ$1)/計算!$B$26*BJ$2))","v":0.43833573789608726},{"$f":"IF($BG52<BK$1,0,IF($BG52-BK$1>計算!$B$26,BK$2,($BG52-BK$1)/計算!$B$26*BK$2))","v":-0.55120106185706153},{"$f":"IF($BG52<BL$1,0,IF($BG52-BL$1>計算!$B$26,BL$2,($BG52-BL$1)/計算!$B$26*BL$2))","v":-0.80365187452039688},{"$f":"IF($BG52<BM$1,0,IF($BG52-BM$1>計算!$B$26,BM$2,($BG52-BM$1)/計算!$B$26*BM$2))","v":0.19584279483276745},{"$f":"IF($BG52<BN$1,0,IF($BG52-BN$1>計算!$B$26,BN$2,($BG52-BN$1)/計算!$B$26*BN$2))","v":0.10422894063720944},{"$f":"IF($BG52<BO$1,0,IF($BG52-BO$1>計算!$B$26,BO$2,($BG52-BO$1)/計算!$B$26*BO$2))","v":-0.4423266906583132},{"$f":"IF($BG52<BP$1,0,IF($BG52-BP$1>計算!$B$26,BP$2,($BG52-BP$1)/計算!$B$26*BP$2))","v":0.16377391940418873},{"$f":"IF($BG52<BQ$1,0,IF($BG52-BQ$1>計算!$B$26,BQ$2,($BG52-BQ$1)/計算!$B$26*BQ$2))","v":0.47754805534168732},{"$f":"IF($BG52<BR$1,0,IF($BG52-BR$1>計算!$B$26,BR$2,($BG52-BR$1)/計算!$B$26*BR$2))","v":-0.21471923432841411},{"$f":"IF($BG52<BS$1,0,IF($BG52-BS$1>計算!$B$26,BS$2,($BG52-BS$1)/計算!$B$26*BS$2))","v":1.8435751369704434E-2},{"$f":"IF($BG52<BT$1,0,IF($BG52-BT$1>計算!$B$26,BT$2,($BG52-BT$1)/計算!$B$26*BT$2))","v":2.4783906779989984E-2},{"$f":"IF($BG52<BU$1,0,IF($BG52-BU$1>計算!$B$26,BU$2,($BG52-BU$1)/計算!$B$26*BU$2))","v":-0.17919042925557704},{"$f":"IF($BG52<BV$1,0,IF($BG52-BV$1>計算!$B$26,BV$2,($BG52-BV$1)/計算!$B$26*BV$2))","v":0.34434916144780114},{"$f":"IF($BG52<BW$1,0,IF($BG52-BW$1>計算!$B$26,BW$2,($BG52-BW$1)/計算!$B$26*BW$2))","v":-2.1118040552239314E-2},{"$f":"IF($BG52<BX$1,0,IF($BG52-BX$1>計算!$B$26,BX$2,($BG52-BX$1)/計算!$B$26*BX$2))","v":-0.34082736850881012},{"$f":"IF($BG52<BY$1,0,IF($BG52-BY$1>計算!$B$26,BY$2,($BG52-BY$1)/計算!$B$26*BY$2))","v":0.19354379609734229},{"$f":"IF($BG52<BZ$1,0,IF($BG52-BZ$1>計算!$B$26,BZ$2,($BG52-BZ$1)/計算!$B$26*BZ$2))","v":-3.3303838596894231E-2},{"$f":"IF($BG52<CA$1,0,IF($BG52-CA$1>計算!$B$26,CA$2,($BG52-CA$1)/計算!$B$26*CA$2))","v":1.7354579159052363E-3},{"$f":"IF($BG52<CB$1,0,IF($BG52-CB$1>計算!$B$26,CB$2,($BG52-CB$1)/計算!$B$26*CB$2))","v":2.377863628877209E-3},{"$f":"IF($BG52<CC$1,0,IF($BG52-CC$1>計算!$B$26,CC$2,($BG52-CC$1)/計算!$B$26*CC$2))","v":-2.0822799834070604E-2},{"$f":"IF($BG52<CD$1,0,IF($BG52-CD$1>計算!$B$26,CD$2,($BG52-CD$1)/計算!$B$26*CD$2))","v":5.9675718015308264E-2},{"$f":"IF($BG52<CE$1,0,IF($BG52-CE$1>計算!$B$26,CE$2,($BG52-CE$1)/計算!$B$26*CE$2))","v":-5.7121353024718512E-2},{"$f":"IF($BG52<CF$1,0,IF($BG52-CF$1>計算!$B$26,CF$2,($BG52-CF$1)/計算!$B$26*CF$2))","v":-7.0110296042781711E-3},{"$f":"IF($BG52<CG$1,0,IF($BG52-CG$1>計算!$B$26,CG$2,($BG52-CG$1)/計算!$B$26*CG$2))","v":3.0653831099218674E-2},{"$f":"IF($BG52<CH$1,0,IF($BG52-CH$1>計算!$B$26,CH$2,($BG52-CH$1)/計算!$B$26*CH$2))","v":-9.7054805320953182E-3},{"$f":"IF($BG52<CI$1,0,IF($BG52-CI$1>計算!$B$26,CI$2,($BG52-CI$1)/計算!$B$26*CI$2))","v":0},{"$f":"IF($BG52<CJ$1,0,IF($BG52-CJ$1>計算!$B$26,CJ$2,($BG52-CJ$1)/計算!$B$26*CJ$2))","v":0},{"$f":"IF($BG52<CK$1,0,IF($BG52-CK$1>計算!$B$26,CK$2,($BG52-CK$1)/計算!$B$26*CK$2))","v":0},3.2981465520608793,null,null,8.3873146005696064,2.5591708379771724E-3,-2.5591708379771724E-3]
[null,null,null,null,1.5000000000000002E-9,31,{"$f":"IF(G17+計算!$B$26>=準備!$T$33,準備!$T$33,G17+計算!$B$26)+E53","v":6.4082807249766232},null,null,null,50,8.4161355012719294,{"$f":"IF($L53<M$1,0,IF($L53-M$1>計算!$B$26,M$2,($L53-M$1)/計算!$B$26*M$2))","v":1.9890005284157226},{"$f":"IF($L53<N$1,0,IF($L53-N$1>計算!$B$26,N$2,($L53-N$1)/計算!$B$26*N$2))","v":0.32752179487645394},{"$f":"IF($L53<O$1,0,IF($L53-O$1>計算!$B$26,O$2,($L53-O$1)/計算!$B$26*O$2))","v":0.93101299851738872},{"$f":"IF($L53<P$1,0,IF($L53-P$1>計算!$B$26,P$2,($L53-P$1)/計算!$B$26*P$2))","v":0.27879940541488013},{"$f":"IF($L53<Q$1,0,IF($L53-Q$1>計算!$B$26,Q$2,($L53-Q$1)/計算!$B$26*Q$2))","v":7.7879229924124438E-2},{"$f":"IF($L53<R$1,0,IF($L53-R$1>計算!$B$26,R$2,($L53-R$1)/計算!$B$26*R$2))","v":-1.1192377066933545E-2},{"$f":"IF($L53<S$1,0,IF($L53-S$1>計算!$B$26,S$2,($L53-S$1)/計算!$B$26*S$2))","v":-0.23935531082328287},{"$f":"IF($L53<T$1,0,IF($L53-T$1>計算!$B$26,T$2,($L53-T$1)/計算!$B$26*T$2))","v":-0.11033288008978959},{"$f":"IF($L53<U$1,0,IF($L53-U$1>計算!$B$26,U$2,($L53-U$1)/計算!$B$26*U$2))","v":2.6244909978123232E-2},{"$f":"IF($L53<V$1,0,IF($L53-V$1>計算!$B$26,V$2,($L53-V$1)/計算!$B$26*V$2))","v":1.8518384267717458E-2},{"$f":"IF($L53<W$1,0,IF($L53-W$1>計算!$B$26,W$2,($L53-W$1)/計算!$B$26*W$2))","v":-5.7963055209600434E-2},{"$f":"IF($L53<X$1,0,IF($L53-X$1>計算!$B$26,X$2,($L53-X$1)/計算!$B$26*X$2))","v":-5.5458494250048673E-2},{"$f":"IF($L53<Y$1,0,IF($L53-Y$1>計算!$B$26,Y$2,($L53-Y$1)/計算!$B$26*Y$2))","v":0.10338399991016445},{"$f":"IF($L53<Z$1,0,IF($L53-Z$1>計算!$B$26,Z$2,($L53-Z$1)/計算!$B$26*Z$2))","v":5.0289293255394885E-2},{"$f":"IF($L53<AA$1,0,IF($L53-AA$1>計算!$B$26,AA$2,($L53-AA$1)/計算!$B$26*AA$2))","v":-2.9022629979411629E-2},{"$f":"IF($L53<AB$1,0,IF($L53-AB$1>計算!$B$26,AB$2,($L53-AB$1)/計算!$B$26*AB$2))","v":2.470576645365874E-3},{"$f":"IF($L53<AC$1,0,IF($L53-AC$1>計算!$B$26,AC$2,($L53-AC$1)/計算!$B$26*AC$2))","v":4.4033634670110899E-3},{"$f":"IF($L53<AD$1,0,IF($L53-AD$1>計算!$B$26,AD$2,($L53-AD$1)/計算!$B$26*AD$2))","v":-2.6932471689339543E-2},{"$f":"IF($L53<AE$1,0,IF($L53-AE$1>計算!$B$26,AE$2,($L53-AE$1)/計算!$B$26*AE$2))","v":2.6428643544579966E-2},{"$f":"IF($L53<AF$1,0,IF($L53-AF$1>計算!$B$26,AF$2,($L53-AF$1)/計算!$B$26*AF$2))","v":5.8979804915944012E-2},{"$f":"IF($L53<AG$1,0,IF($L53-AG$1>計算!$B$26,AG$2,($L53-AG$1)/計算!$B$26*AG$2))","v":-5.6573485727166251E-2},{"$f":"IF($L53<AH$1,0,IF($L53-AH$1>計算!$B$26,AH$2,($L53-AH$1)/計算!$B$26*AH$2))","v":-2.8222742299932158E-2},{"$f":"IF($L53<AI$1,0,IF($L53-AI$1>計算!$B$26,AI$2,($L53-AI$1)/計算!$B$26*AI$2))","v":2.4822674948292711E-2},{"$f":"IF($L53<AJ$1,0,IF($L53-AJ$1>計算!$B$26,AJ$2,($L53-AJ$1)/計算!$B$26*AJ$2))","v":-4.4864040640582026E-3},{"$f":"IF($L53<AK$1,0,IF($L53-AK$1>計算!$B$26,AK$2,($L53-AK$1)/計算!$B$26*AK$2))","v":2.3256886633271634E-4},{"$f":"IF($L53<AL$1,0,IF($L53-AL$1>計算!$B$26,AL$2,($L53-AL$1)/計算!$B$26*AL$2))","v":0},{"$f":"IF($L53<AM$1,0,IF($L53-AM$1>計算!$B$26,AM$2,($L53-AM$1)/計算!$B$26*AM$2))","v":0},{"$f":"IF($L53<AN$1,0,IF($L53-AN$1>計算!$B$26,AN$2,($L53-AN$1)/計算!$B$26*AN$2))","v":0},{"$f":"IF($L53<AO$1,0,IF($L53-AO$1>計算!$B$26,AO$2,($L53-AO$1)/計算!$B$26*AO$2))","v":0},{"$f":"IF($L53<AP$1,0,IF($L53-AP$1>計算!$B$26,AP$2,($L53-AP$1)/計算!$B$26*AP$2))","v":0},{"$f":"IF($L53<AQ$1,0,IF($L53-AQ$1>計算!$B$26,AQ$2,($L53-AQ$1)/計算!$B$26*AQ$2))","v":0},{"$f":"IF($L53<AR$1,0,IF($L53-AR$1>計算!$B$26,AR$2,($L53-AR$1)/計算!$B$26*AR$2))","v":0},{"$f":"IF($L53<AS$1,0,IF($L53-AS$1>計算!$B$26,AS$2,($L53-AS$1)/計算!$B$26*AS$2))","v":0},{"$f":"IF($L53<AT$1,0,IF($L53-AT$1>計算!$B$26,AT$2,($L53-AT$1)/計算!$B$26*AT$2))","v":0},{"$f":"IF($L53<AU$1,0,IF($L53-AU$1>計算!$B$26,AU$2,($L53-AU$1)/計算!$B$26*AU$2))","v":0},{"$f":"IF($L53<AV$1,0,IF($L53-AV$1>計算!$B$26,AV$2,($L53-AV$1)/計算!$B$26*AV$2))","v":0},3.3004483257479333,null,null,2.1000000000000008E-7,51,{"$f":"IF(BB23+計算!$B$26>=準備!$T$33,準備!$T$33,BB23+計算!$B$26)+AZ53","v":9.146264640697499},null,null,null,49,8.8768317155160972,{"$f":"IF($BG53<BH$1,0,IF($BG53-BH$1>計算!$B$26,BH$2,($BG53-BH$1)/計算!$B$26*BH$2))","v":1.8434248486289773},{"$f":"IF($BG53<BI$1,0,IF($BG53-BI$1>計算!$B$26,BI$2,($BG53-BI$1)/計算!$B$26*BI$2))","v":2.0804359702386828},{"$f":"IF($BG53<BJ$1,0,IF($BG53-BJ$1>計算!$B$26,BJ$2,($BG53-BJ$1)/計算!$B$26*BJ$2))","v":0.43833573789608726},{"$f":"IF($BG53<BK$1,0,IF($BG53-BK$1>計算!$B$26,BK$2,($BG53-BK$1)/計算!$B$26*BK$2))","v":-0.55120106185706153},{"$f":"IF($BG53<BL$1,0,IF($BG53-BL$1>計算!$B$26,BL$2,($BG53-BL$1)/計算!$B$26*BL$2))","v":-0.80365187452039688},{"$f":"IF($BG53<BM$1,0,IF($BG53-BM$1>計算!$B$26,BM$2,($BG53-BM$1)/計算!$B$26*BM$2))","v":0.19584279483276745},{"$f":"IF($BG53<BN$1,0,IF($BG53-BN$1>計算!$B$26,BN$2,($BG53-BN$1)/計算!$B$26*BN$2))","v":0.10422894063720944},{"$f":"IF($BG53<BO$1,0,IF($BG53-BO$1>計算!$B$26,BO$2,($BG53-BO$1)/計算!$B$26*BO$2))","v":-0.4423266906583132},{"$f":"IF($BG53<BP$1,0,IF($BG53-BP$1>計算!$B$26,BP$2,($BG53-BP$1)/計算!$B$26*BP$2))","v":0.16377391940418873},{"$f":"IF($BG53<BQ$1,0,IF($BG53-BQ$1>計算!$B$26,BQ$2,($BG53-BQ$1)/計算!$B$26*BQ$2))","v":0.47754805534168732},{"$f":"IF($BG53<BR$1,0,IF($BG53-BR$1>計算!$B$26,BR$2,($BG53-BR$1)/計算!$B$26*BR$2))","v":-0.21471923432841411},{"$f":"IF($BG53<BS$1,0,IF($BG53-BS$1>計算!$B$26,BS$2,($BG53-BS$1)/計算!$B$26*BS$2))","v":1.8435751369704434E-2},{"$f":"IF($BG53<BT$1,0,IF($BG53-BT$1>計算!$B$26,BT$2,($BG53-BT$1)/計算!$B$26*BT$2))","v":2.4783906779989984E-2},{"$f":"IF($BG53<BU$1,0,IF($BG53-BU$1>計算!$B$26,BU$2,($BG53-BU$1)/計算!$B$26*BU$2))","v":-0.17919042925557704},{"$f":"IF($BG53<BV$1,0,IF($BG53-BV$1>計算!$B$26,BV$2,($BG53-BV$1)/計算!$B$26*BV$2))","v":0.34434916144780114},{"$f":"IF($BG53<BW$1,0,IF($BG53-BW$1>計算!$B$26,BW$2,($BG53-BW$1)/計算!$B$26*BW$2))","v":-2.1118040552239314E-2},{"$f":"IF($BG53<BX$1,0,IF($BG53-BX$1>計算!$B$26,BX$2,($BG53-BX$1)/計算!$B$26*BX$2))","v":-0.34082736850881012},{"$f":"IF($BG53<BY$1,0,IF($BG53-BY$1>計算!$B$26,BY$2,($BG53-BY$1)/計算!$B$26*BY$2))","v":0.19354379609734229},{"$f":"IF($BG53<BZ$1,0,IF($BG53-BZ$1>計算!$B$26,BZ$2,($BG53-BZ$1)/計算!$B$26*BZ$2))","v":-3.3303838596894231E-2},{"$f":"IF($BG53<CA$1,0,IF($BG53-CA$1>計算!$B$26,CA$2,($BG53-CA$1)/計算!$B$26*CA$2))","v":1.7354579159052363E-3},{"$f":"IF($BG53<CB$1,0,IF($BG53-CB$1>計算!$B$26,CB$2,($BG53-CB$1)/計算!$B$26*CB$2))","v":2.7175584330025367E-3},{"$f":"IF($BG53<CC$1,0,IF($BG53-CC$1>計算!$B$26,CC$2,($BG53-CC$1)/計算!$B$26*CC$2))","v":-2.4293266473082515E-2},{"$f":"IF($BG53<CD$1,0,IF($BG53-CD$1>計算!$B$26,CD$2,($BG53-CD$1)/計算!$B$26*CD$2))","v":7.1610861618370353E-2},{"$f":"IF($BG53<CE$1,0,IF($BG53-CE$1>計算!$B$26,CE$2,($BG53-CE$1)/計算!$B$26*CE$2))","v":-7.1401691280898807E-2},{"$f":"IF($BG53<CF$1,0,IF($BG53-CF$1>計算!$B$26,CF$2,($BG53-CF$1)/計算!$B$26*CF$2))","v":-9.3480394723709417E-3},{"$f":"IF($BG53<CG$1,0,IF($BG53-CG$1>計算!$B$26,CG$2,($BG53-CG$1)/計算!$B$26*CG$2))","v":4.5980746648828952E-2},{"$f":"IF($BG53<CH$1,0,IF($BG53-CH$1>計算!$B$26,CH$2,($BG53-CH$1)/計算!$B$26*CH$2))","v":-1.9410961064191233E-2},{"$f":"IF($BG53<CI$1,0,IF($BG53-CI$1>計算!$B$26,CI$2,($BG53-CI$1)/計算!$B$26*CI$2))","v":2.3922996915908918E-3},{"$f":"IF($BG53<CJ$1,0,IF($BG53-CJ$1>計算!$B$26,CJ$2,($BG53-CJ$1)/計算!$B$26*CJ$2))","v":0},{"$f":"IF($BG53<CK$1,0,IF($BG53-CK$1>計算!$B$26,CK$2,($BG53-CK$1)/計算!$B$26*CK$2))","v":0},3.2983473104138863,null,null,8.4161355012719294,2.589863051855934E-3,-2.589863051855934E-3]
[null,null,null,null,1.6000000000000003E-9,32,{"$f":"IF(G18+計算!$B$26>=準備!$T$33,準備!$T$33,G18+計算!$B$26)+E54","v":6.4371016256789479},null,null,null,51,9.4056524387184215,{"$f":"IF($L54<M$1,0,IF($L54-M$1>計算!$B$26,M$2,($L54-M$1)/計算!$B$26*M$2))","v":1.9890005284157226},{"$f":"IF($L54<N$1,0,IF($L54-N$1>計算!$B$26,N$2,($L54-N$1)/計算!$B$26*N$2))","v":0.32752179487645394},{"$f":"IF($L54<O$1,0,IF($L54-O$1>計算!$B$26,O$2,($L54-O$1)/計算!$B$26*O$2))","v":0.93101299851738872},{"$f":"IF($L54<P$1,0,IF($L54-P$1>計算!$B$26,P$2,($L54-P$1)/計算!$B$26*P$2))","v":0.27879940541488013},{"$f":"IF($L54<Q$1,0,IF($L54-Q$1>計算!$B$26,Q$2,($L54-Q$1)/計算!$B$26*Q$2))","v":7.7879229924124438E-2},{"$f":"IF($L54<R$1,0,IF($L54-R$1>計算!$B$26,R$2,($L54-R$1)/計算!$B$26*R$2))","v":-1.1192377066933545E-2},{"$f":"IF($L54<S$1,0,IF($L54-S$1>計算!$B$26,S$2,($L54-S$1)/計算!$B$26*S$2))","v":-0.23935531082328287},{"$f":"IF($L54<T$1,0,IF($L54-T$1>計算!$B$26,T$2,($L54-T$1)/計算!$B$26*T$2))","v":-0.11033288008978959},{"$f":"IF($L54<U$1,0,IF($L54-U$1>計算!$B$26,U$2,($L54-U$1)/計算!$B$26*U$2))","v":2.6244909978123232E-2},{"$f":"IF($L54<V$1,0,IF($L54-V$1>計算!$B$26,V$2,($L54-V$1)/計算!$B$26*V$2))","v":1.8518384267717458E-2},{"$f":"IF($L54<W$1,0,IF($L54-W$1>計算!$B$26,W$2,($L54-W$1)/計算!$B$26*W$2))","v":-5.7963055209600434E-2},{"$f":"IF($L54<X$1,0,IF($L54-X$1>計算!$B$26,X$2,($L54-X$1)/計算!$B$26*X$2))","v":-5.5458494250048673E-2},{"$f":"IF($L54<Y$1,0,IF($L54-Y$1>計算!$B$26,Y$2,($L54-Y$1)/計算!$B$26*Y$2))","v":0.10338399991016445},{"$f":"IF($L54<Z$1,0,IF($L54-Z$1>計算!$B$26,Z$2,($L54-Z$1)/計算!$B$26*Z$2))","v":5.0289293255394885E-2},{"$f":"IF($L54<AA$1,0,IF($L54-AA$1>計算!$B$26,AA$2,($L54-AA$1)/計算!$B$26*AA$2))","v":-2.9022629979411629E-2},{"$f":"IF($L54<AB$1,0,IF($L54-AB$1>計算!$B$26,AB$2,($L54-AB$1)/計算!$B$26*AB$2))","v":2.470576645365874E-3},{"$f":"IF($L54<AC$1,0,IF($L54-AC$1>計算!$B$26,AC$2,($L54-AC$1)/計算!$B$26*AC$2))","v":4.4033634670110899E-3},{"$f":"IF($L54<AD$1,0,IF($L54-AD$1>計算!$B$26,AD$2,($L54-AD$1)/計算!$B$26*AD$2))","v":-2.6932471689339543E-2},{"$f":"IF($L54<AE$1,0,IF($L54-AE$1>計算!$B$26,AE$2,($L54-AE$1)/計算!$B$26*AE$2))","v":2.6428643544579966E-2},{"$f":"IF($L54<AF$1,0,IF($L54-AF$1>計算!$B$26,AF$2,($L54-AF$1)/計算!$B$26*AF$2))","v":5.8979804915944012E-2},{"$f":"IF($L54<AG$1,0,IF($L54-AG$1>計算!$B$26,AG$2,($L54-AG$1)/計算!$B$26*AG$2))","v":-5.6573485727166251E-2},{"$f":"IF($L54<AH$1,0,IF($L54-AH$1>計算!$B$26,AH$2,($L54-AH$1)/計算!$B$26*AH$2))","v":-2.8222742299932158E-2},{"$f":"IF($L54<AI$1,0,IF($L54-AI$1>計算!$B$26,AI$2,($L54-AI$1)/計算!$B$26*AI$2))","v":2.4822674948292711E-2},{"$f":"IF($L54<AJ$1,0,IF($L54-AJ$1>計算!$B$26,AJ$2,($L54-AJ$1)/計算!$B$26*AJ$2))","v":-4.4864040640582026E-3},{"$f":"IF($L54<AK$1,0,IF($L54-AK$1>計算!$B$26,AK$2,($L54-AK$1)/計算!$B$26*AK$2))","v":2.3256886633271634E-4},{"$f":"IF($L54<AL$1,0,IF($L54-AL$1>計算!$B$26,AL$2,($L54-AL$1)/計算!$B$26*AL$2))","v":0},{"$f":"IF($L54<AM$1,0,IF($L54-AM$1>計算!$B$26,AM$2,($L54-AM$1)/計算!$B$26*AM$2))","v":0},{"$f":"IF($L54<AN$1,0,IF($L54-AN$1>計算!$B$26,AN$2,($L54-AN$1)/計算!$B$26*AN$2))","v":0},{"$f":"IF($L54<AO$1,0,IF($L54-AO$1>計算!$B$26,AO$2,($L54-AO$1)/計算!$B$26*AO$2))","v":0},{"$f":"IF($L54<AP$1,0,IF($L54-AP$1>計算!$B$26,AP$2,($L54-AP$1)/計算!$B$26*AP$2))","v":0},{"$f":"IF($L54<AQ$1,0,IF($L54-AQ$1>計算!$B$26,AQ$2,($L54-AQ$1)/計算!$B$26*AQ$2))","v":0},{"$f":"IF($L54<AR$1,0,IF($L54-AR$1>計算!$B$26,AR$2,($L54-AR$1)/計算!$B$26*AR$2))","v":0},{"$f":"IF($L54<AS$1,0,IF($L54-AS$1>計算!$B$26,AS$2,($L54-AS$1)/計算!$B$26*AS$2))","v":0},{"$f":"IF($L54<AT$1,0,IF($L54-AT$1>計算!$B$26,AT$2,($L54-AT$1)/計算!$B$26*AT$2))","v":0},{"$f":"IF($L54<AU$1,0,IF($L54-AU$1>計算!$B$26,AU$2,($L54-AU$1)/計算!$B$26*AU$2))","v":0},{"$f":"IF($L54<AV$1,0,IF($L54-AV$1>計算!$B$26,AV$2,($L54-AV$1)/計算!$B$26*AV$2))","v":0},3.3004483257479333,null,null,2.2000000000000009E-7,52,{"$f":"IF(BB24+計算!$B$26>=準備!$T$33,準備!$T$33,BB24+計算!$B$26)+AZ54","v":9.1750855612998254},null,null,null,50,8.905652626118421,{"$f":"IF($BG54<BH$1,0,IF($BG54-BH$1>計算!$B$26,BH$2,($BG54-BH$1)/計算!$B$26*BH$2))","v":1.8434248486289773},{"$f":"IF($BG54<BI$1,0,IF($BG54-BI$1>計算!$B$26,BI$2,($BG54-BI$1)/計算!$B$26*BI$2))","v":2.0804359702386828},{"$f":"IF($BG54<BJ$1,0,IF($BG54-BJ$1>計算!$B$26,BJ$2,($BG54-BJ$1)/計算!$B$26*BJ$2))","v":0.43833573789608726},{"$f":"IF($BG54<BK$1,0,IF($BG54-BK$1>計算!$B$26,BK$2,($BG54-BK$1)/計算!$B$26*BK$2))","v":-0.55120106185706153},{"$f":"IF($BG54<BL$1,0,IF($BG54-BL$1>計算!$B$26,BL$2,($BG54-BL$1)/計算!$B$26*BL$2))","v":-0.80365187452039688},{"$f":"IF($BG54<BM$1,0,IF($BG54-BM$1>計算!$B$26,BM$2,($BG54-BM$1)/計算!$B$26*BM$2))","v":0.19584279483276745},{"$f":"IF($BG54<BN$1,0,IF($BG54-BN$1>計算!$B$26,BN$2,($BG54-BN$1)/計算!$B$26*BN$2))","v":0.10422894063720944},{"$f":"IF($BG54<BO$1,0,IF($BG54-BO$1>計算!$B$26,BO$2,($BG54-BO$1)/計算!$B$26*BO$2))","v":-0.4423266906583132},{"$f":"IF($BG54<BP$1,0,IF($BG54-BP$1>計算!$B$26,BP$2,($BG54-BP$1)/計算!$B$26*BP$2))","v":0.16377391940418873},{"$f":"IF($BG54<BQ$1,0,IF($BG54-BQ$1>計算!$B$26,BQ$2,($BG54-BQ$1)/計算!$B$26*BQ$2))","v":0.47754805534168732},{"$f":"IF($BG54<BR$1,0,IF($BG54-BR$1>計算!$B$26,BR$2,($BG54-BR$1)/計算!$B$26*BR$2))","v":-0.21471923432841411},{"$f":"IF($BG54<BS$1,0,IF($BG54-BS$1>計算!$B$26,BS$2,($BG54-BS$1)/計算!$B$26*BS$2))","v":1.8435751369704434E-2},{"$f":"IF($BG54<BT$1,0,IF($BG54-BT$1>計算!$B$26,BT$2,($BG54-BT$1)/計算!$B$26*BT$2))","v":2.4783906779989984E-2},{"$f":"IF($BG54<BU$1,0,IF($BG54-BU$1>計算!$B$26,BU$2,($BG54-BU$1)/計算!$B$26*BU$2))","v":-0.17919042925557704},{"$f":"IF($BG54<BV$1,0,IF($BG54-BV$1>計算!$B$26,BV$2,($BG54-BV$1)/計算!$B$26*BV$2))","v":0.34434916144780114},{"$f":"IF($BG54<BW$1,0,IF($BG54-BW$1>計算!$B$26,BW$2,($BG54-BW$1)/計算!$B$26*BW$2))","v":-2.1118040552239314E-2},{"$f":"IF($BG54<BX$1,0,IF($BG54-BX$1>計算!$B$26,BX$2,($BG54-BX$1)/計算!$B$26*BX$2))","v":-0.34082736850881012},{"$f":"IF($BG54<BY$1,0,IF($BG54-BY$1>計算!$B$26,BY$2,($BG54-BY$1)/計算!$B$26*BY$2))","v":0.19354379609734229},{"$f":"IF($BG54<BZ$1,0,IF($BG54-BZ$1>計算!$B$26,BZ$2,($BG54-BZ$1)/計算!$B$26*BZ$2))","v":-3.3303838596894231E-2},{"$f":"IF($BG54<CA$1,0,IF($BG54-CA$1>計算!$B$26,CA$2,($BG54-CA$1)/計算!$B$26*CA$2))","v":1.7354579159052363E-3},{"$f":"IF($BG54<CB$1,0,IF($BG54-CB$1>計算!$B$26,CB$2,($BG54-CB$1)/計算!$B$26*CB$2))","v":3.0572532371278432E-3},{"$f":"IF($BG54<CC$1,0,IF($BG54-CC$1>計算!$B$26,CC$2,($BG54-CC$1)/計算!$B$26*CC$2))","v":-2.7763733112094208E-2},{"$f":"IF($BG54<CD$1,0,IF($BG54-CD$1>計算!$B$26,CD$2,($BG54-CD$1)/計算!$B$26*CD$2))","v":8.3546005221431713E-2},{"$f":"IF($BG54<CE$1,0,IF($BG54-CE$1>計算!$B$26,CE$2,($BG54-CE$1)/計算!$B$26*CE$2))","v":-8.5682029537078208E-2},{"$f":"IF($BG54<CF$1,0,IF($BG54-CF$1>計算!$B$26,CF$2,($BG54-CF$1)/計算!$B$26*CF$2))","v":-1.168504934046357E-2},{"$f":"IF($BG54<CG$1,0,IF($BG54-CG$1>計算!$B$26,CG$2,($BG54-CG$1)/計算!$B$26*CG$2))","v":6.1307662198438292E-2},{"$f":"IF($BG54<CH$1,0,IF($BG54-CH$1>計算!$B$26,CH$2,($BG54-CH$1)/計算!$B$26*CH$2))","v":-2.9116441596286551E-2},{"$f":"IF($BG54<CI$1,0,IF($BG54-CI$1>計算!$B$26,CI$2,($BG54-CI$1)/計算!$B$26*CI$2))","v":4.7845993831816362E-3},{"$f":"IF($BG54<CJ$1,0,IF($BG54-CJ$1>計算!$B$26,CJ$2,($BG54-CJ$1)/計算!$B$26*CJ$2))","v":-2.5174564310997152E-4},{"$f":"IF($BG54<CK$1,0,IF($BG54-CK$1>計算!$B$26,CK$2,($BG54-CK$1)/計算!$B$26*CK$2))","v":0},3.2982963231237834,null,null,9.4056524387184215,2.589863051855934E-3,-2.589863051855934E-3]
[null,null,null,null,1.7000000000000003E-9,42,{"$f":"IF(G19+計算!$B$26>=準備!$T$33,準備!$T$33,G19+計算!$B$26)+E55","v":8.1855682956533329},null,null,null,52,9.4056524388184215,{"$f":"IF($L55<M$1,0,IF($L55-M$1>計算!$B$26,M$2,($L55-M$1)/計算!$B$26*M$2))","v":1.9890005284157226},{"$f":"IF($L55<N$1,0,IF($L55-N$1>計算!$B$26,N$2,($L55-N$1)/計算!$B$26*N$2))","v":0.32752179487645394},{"$f":"IF($L55<O$1,0,IF($L55-O$1>計算!$B$26,O$2,($L55-O$1)/計算!$B$26*O$2))","v":0.93101299851738872},{"$f":"IF($L55<P$1,0,IF($L55-P$1>計算!$B$26,P$2,($L55-P$1)/計算!$B$26*P$2))","v":0.27879940541488013},{"$f":"IF($L55<Q$1,0,IF($L55-Q$1>計算!$B$26,Q$2,($L55-Q$1)/計算!$B$26*Q$2))","v":7.7879229924124438E-2},{"$f":"IF($L55<R$1,0,IF($L55-R$1>計算!$B$26,R$2,($L55-R$1)/計算!$B$26*R$2))","v":-1.1192377066933545E-2},{"$f":"IF($L55<S$1,0,IF($L55-S$1>計算!$B$26,S$2,($L55-S$1)/計算!$B$26*S$2))","v":-0.23935531082328287},{"$f":"IF($L55<T$1,0,IF($L55-T$1>計算!$B$26,T$2,($L55-T$1)/計算!$B$26*T$2))","v":-0.11033288008978959},{"$f":"IF($L55<U$1,0,IF($L55-U$1>計算!$B$26,U$2,($L55-U$1)/計算!$B$26*U$2))","v":2.6244909978123232E-2},{"$f":"IF($L55<V$1,0,IF($L55-V$1>計算!$B$26,V$2,($L55-V$1)/計算!$B$26*V$2))","v":1.8518384267717458E-2},{"$f":"IF($L55<W$1,0,IF($L55-W$1>計算!$B$26,W$2,($L55-W$1)/計算!$B$26*W$2))","v":-5.7963055209600434E-2},{"$f":"IF($L55<X$1,0,IF($L55-X$1>計算!$B$26,X$2,($L55-X$1)/計算!$B$26*X$2))","v":-5.5458494250048673E-2},{"$f":"IF($L55<Y$1,0,IF($L55-Y$1>計算!$B$26,Y$2,($L55-Y$1)/計算!$B$26*Y$2))","v":0.10338399991016445},{"$f":"IF($L55<Z$1,0,IF($L55-Z$1>計算!$B$26,Z$2,($L55-Z$1)/計算!$B$26*Z$2))","v":5.0289293255394885E-2},{"$f":"IF($L55<AA$1,0,IF($L55-AA$1>計算!$B$26,AA$2,($L55-AA$1)/計算!$B$26*AA$2))","v":-2.9022629979411629E-2},{"$f":"IF($L55<AB$1,0,IF($L55-AB$1>計算!$B$26,AB$2,($L55-AB$1)/計算!$B$26*AB$2))","v":2.470576645365874E-3},{"$f":"IF($L55<AC$1,0,IF($L55-AC$1>計算!$B$26,AC$2,($L55-AC$1)/計算!$B$26*AC$2))","v":4.4033634670110899E-3},{"$f":"IF($L55<AD$1,0,IF($L55-AD$1>計算!$B$26,AD$2,($L55-AD$1)/計算!$B$26*AD$2))","v":-2.6932471689339543E-2},{"$f":"IF($L55<AE$1,0,IF($L55-AE$1>計算!$B$26,AE$2,($L55-AE$1)/計算!$B$26*AE$2))","v":2.6428643544579966E-2},{"$f":"IF($L55<AF$1,0,IF($L55-AF$1>計算!$B$26,AF$2,($L55-AF$1)/計算!$B$26*AF$2))","v":5.8979804915944012E-2},{"$f":"IF($L55<AG$1,0,IF($L55-AG$1>計算!$B$26,AG$2,($L55-AG$1)/計算!$B$26*AG$2))","v":-5.6573485727166251E-2},{"$f":"IF($L55<AH$1,0,IF($L55-AH$1>計算!$B$26,AH$2,($L55-AH$1)/計算!$B$26*AH$2))","v":-2.8222742299932158E-2},{"$f":"IF($L55<AI$1,0,IF($L55-AI$1>計算!$B$26,AI$2,($L55-AI$1)/計算!$B$26*AI$2))","v":2.4822674948292711E-2},{"$f":"IF($L55<AJ$1,0,IF($L55-AJ$1>計算!$B$26,AJ$2,($L55-AJ$1)/計算!$B$26*AJ$2))","v":-4.4864040640582026E-3},{"$f":"IF($L55<AK$1,0,IF($L55-AK$1>計算!$B$26,AK$2,($L55-AK$1)/計算!$B$26*AK$2))","v":2.3256886633271634E-4},{"$f":"IF($L55<AL$1,0,IF($L55-AL$1>計算!$B$26,AL$2,($L55-AL$1)/計算!$B$26*AL$2))","v":0},{"$f":"IF($L55<AM$1,0,IF($L55-AM$1>計算!$B$26,AM$2,($L55-AM$1)/計算!$B$26*AM$2))","v":0},{"$f":"IF($L55<AN$1,0,IF($L55-AN$1>計算!$B$26,AN$2,($L55-AN$1)/計算!$B$26*AN$2))","v":0},{"$f":"IF($L55<AO$1,0,IF($L55-AO$1>計算!$B$26,AO$2,($L55-AO$1)/計算!$B$26*AO$2))","v":0},{"$f":"IF($L55<AP$1,0,IF($L55-AP$1>計算!$B$26,AP$2,($L55-AP$1)/計算!$B$26*AP$2))","v":0},{"$f":"IF($L55<AQ$1,0,IF($L55-AQ$1>計算!$B$26,AQ$2,($L55-AQ$1)/計算!$B$26*AQ$2))","v":0},{"$f":"IF($L55<AR$1,0,IF($L55-AR$1>計算!$B$26,AR$2,($L55-AR$1)/計算!$B$26*AR$2))","v":0},{"$f":"IF($L55<AS$1,0,IF($L55-AS$1>計算!$B$26,AS$2,($L55-AS$1)/計算!$B$26*AS$2))","v":0},{"$f":"IF($L55<AT$1,0,IF($L55-AT$1>計算!$B$26,AT$2,($L55-AT$1)/計算!$B$26*AT$2))","v":0},{"$f":"IF($L55<AU$1,0,IF($L55-AU$1>計算!$B$26,AU$2,($L55-AU$1)/計算!$B$26*AU$2))","v":0},{"$f":"IF($L55<AV$1,0,IF($L55-AV$1>計算!$B$26,AV$2,($L55-AV$1)/計算!$B$26*AV$2))","v":0},3.3004483257479333,null,null,2.300000000000001E-7,53,{"$f":"IF(BB25+計算!$B$26>=準備!$T$33,準備!$T$33,BB25+計算!$B$26)+AZ55","v":9.2039064819021483},null,null,null,51,9.146264640697499,{"$f":"IF($BG55<BH$1,0,IF($BG55-BH$1>計算!$B$26,BH$2,($BG55-BH$1)/計算!$B$26*BH$2))","v":1.8434248486289773},{"$f":"IF($BG55<BI$1,0,IF($BG55-BI$1>計算!$B$26,BI$2,($BG55-BI$1)/計算!$B$26*BI$2))","v":2.0804359702386828},{"$f":"IF($BG55<BJ$1,0,IF($BG55-BJ$1>計算!$B$26,BJ$2,($BG55-BJ$1)/計算!$B$26*BJ$2))","v":0.43833573789608726},{"$f":"IF($BG55<BK$1,0,IF($BG55-BK$1>計算!$B$26,BK$2,($BG55-BK$1)/計算!$B$26*BK$2))","v":-0.55120106185706153},{"$f":"IF($BG55<BL$1,0,IF($BG55-BL$1>計算!$B$26,BL$2,($BG55-BL$1)/計算!$B$26*BL$2))","v":-0.80365187452039688},{"$f":"IF($BG55<BM$1,0,IF($BG55-BM$1>計算!$B$26,BM$2,($BG55-BM$1)/計算!$B$26*BM$2))","v":0.19584279483276745},{"$f":"IF($BG55<BN$1,0,IF($BG55-BN$1>計算!$B$26,BN$2,($BG55-BN$1)/計算!$B$26*BN$2))","v":0.10422894063720944},{"$f":"IF($BG55<BO$1,0,IF($BG55-BO$1>計算!$B$26,BO$2,($BG55-BO$1)/計算!$B$26*BO$2))","v":-0.4423266906583132},{"$f":"IF($BG55<BP$1,0,IF($BG55-BP$1>計算!$B$26,BP$2,($BG55-BP$1)/計算!$B$26*BP$2))","v":0.16377391940418873},{"$f":"IF($BG55<BQ$1,0,IF($BG55-BQ$1>計算!$B$26,BQ$2,($BG55-BQ$1)/計算!$B$26*BQ$2))","v":0.47754805534168732},{"$f":"IF($BG55<BR$1,0,IF($BG55-BR$1>計算!$B$26,BR$2,($BG55-BR$1)/計算!$B$26*BR$2))","v":-0.21471923432841411},{"$f":"IF($BG55<BS$1,0,IF($BG55-BS$1>計算!$B$26,BS$2,($BG55-BS$1)/計算!$B$26*BS$2))","v":1.8435751369704434E-2},{"$f":"IF($BG55<BT$1,0,IF($BG55-BT$1>計算!$B$26,BT$2,($BG55-BT$1)/計算!$B$26*BT$2))","v":2.4783906779989984E-2},{"$f":"IF($BG55<BU$1,0,IF($BG55-BU$1>計算!$B$26,BU$2,($BG55-BU$1)/計算!$B$26*BU$2))","v":-0.17919042925557704},{"$f":"IF($BG55<BV$1,0,IF($BG55-BV$1>計算!$B$26,BV$2,($BG55-BV$1)/計算!$B$26*BV$2))","v":0.34434916144780114},{"$f":"IF($BG55<BW$1,0,IF($BG55-BW$1>計算!$B$26,BW$2,($BG55-BW$1)/計算!$B$26*BW$2))","v":-2.1118040552239314E-2},{"$f":"IF($BG55<BX$1,0,IF($BG55-BX$1>計算!$B$26,BX$2,($BG55-BX$1)/計算!$B$26*BX$2))","v":-0.34082736850881012},{"$f":"IF($BG55<BY$1,0,IF($BG55-BY$1>計算!$B$26,BY$2,($BG55-BY$1)/計算!$B$26*BY$2))","v":0.19354379609734229},{"$f":"IF($BG55<BZ$1,0,IF($BG55-BZ$1>計算!$B$26,BZ$2,($BG55-BZ$1)/計算!$B$26*BZ$2))","v":-3.3303838596894231E-2},{"$f":"IF($BG55<CA$1,0,IF($BG55-CA$1>計算!$B$26,CA$2,($BG55-CA$1)/計算!$B$26*CA$2))","v":1.7354579159052363E-3},{"$f":"IF($BG55<CB$1,0,IF($BG55-CB$1>計算!$B$26,CB$2,($BG55-CB$1)/計算!$B$26*CB$2))","v":5.8932004059912835E-3},{"$f":"IF($BG55<CC$1,0,IF($BG55-CC$1>計算!$B$26,CC$2,($BG55-CC$1)/計算!$B$26*CC$2))","v":-5.6737001204281309E-2},{"$f":"IF($BG55<CD$1,0,IF($BG55-CD$1>計算!$B$26,CD$2,($BG55-CD$1)/計算!$B$26*CD$2))","v":0.18318681762489686},{"$f":"IF($BG55<CE$1,0,IF($BG55-CE$1>計算!$B$26,CE$2,($BG55-CE$1)/計算!$B$26*CE$2))","v":-0.20490175177628317},{"$f":"IF($BG55<CF$1,0,IF($BG55-CF$1>計算!$B$26,CF$2,($BG55-CF$1)/計算!$B$26*CF$2))","v":-3.1195628315980502E-2},{"$f":"IF($BG55<CG$1,0,IF($BG55-CG$1>計算!$B$26,CG$2,($BG55-CG$1)/計算!$B$26*CG$2))","v":0.18926475829995937},{"$f":"IF($BG55<CH$1,0,IF($BG55-CH$1>計算!$B$26,CH$2,($BG55-CH$1)/計算!$B$26*CH$2))","v":-0.1101428621527968},{"$f":"IF($BG55<CI$1,0,IF($BG55-CI$1>計算!$B$26,CI$2,($BG55-CI$1)/計算!$B$26*CI$2))","v":2.4756766682577928E-2},{"$f":"IF($BG55<CJ$1,0,IF($BG55-CJ$1>計算!$B$26,CJ$2,($BG55-CJ$1)/計算!$B$26*CJ$2))","v":-2.3534497560019434E-3},{"$f":"IF($BG55<CK$1,0,IF($BG55-CK$1>計算!$B$26,CK$2,($BG55-CK$1)/計算!$B$26*CK$2))","v":7.861666848797264E-5},3.2979492687892065,null,null,9.4056524388184215,2.589863051855934E-3,-2.589863051855934E-3]
[null,null,null,null,1.8000000000000004E-9,43,{"$f":"IF(G20+計算!$B$26>=準備!$T$33,準備!$T$33,G20+計算!$B$26)+E56","v":8.2143891963556577},null,null,null,53,9.4056524389184215,{"$f":"IF($L56<M$1,0,IF($L56-M$1>計算!$B$26,M$2,($L56-M$1)/計算!$B$26*M$2))","v":1.9890005284157226},{"$f":"IF($L56<N$1,0,IF($L56-N$1>計算!$B$26,N$2,($L56-N$1)/計算!$B$26*N$2))","v":0.32752179487645394},{"$f":"IF($L56<O$1,0,IF($L56-O$1>計算!$B$26,O$2,($L56-O$1)/計算!$B$26*O$2))","v":0.93101299851738872},{"$f":"IF($L56<P$1,0,IF($L56-P$1>計算!$B$26,P$2,($L56-P$1)/計算!$B$26*P$2))","v":0.27879940541488013},{"$f":"IF($L56<Q$1,0,IF($L56-Q$1>計算!$B$26,Q$2,($L56-Q$1)/計算!$B$26*Q$2))","v":7.7879229924124438E-2},{"$f":"IF($L56<R$1,0,IF($L56-R$1>計算!$B$26,R$2,($L56-R$1)/計算!$B$26*R$2))","v":-1.1192377066933545E-2},{"$f":"IF($L56<S$1,0,IF($L56-S$1>計算!$B$26,S$2,($L56-S$1)/計算!$B$26*S$2))","v":-0.23935531082328287},{"$f":"IF($L56<T$1,0,IF($L56-T$1>計算!$B$26,T$2,($L56-T$1)/計算!$B$26*T$2))","v":-0.11033288008978959},{"$f":"IF($L56<U$1,0,IF($L56-U$1>計算!$B$26,U$2,($L56-U$1)/計算!$B$26*U$2))","v":2.6244909978123232E-2},{"$f":"IF($L56<V$1,0,IF($L56-V$1>計算!$B$26,V$2,($L56-V$1)/計算!$B$26*V$2))","v":1.8518384267717458E-2},{"$f":"IF($L56<W$1,0,IF($L56-W$1>計算!$B$26,W$2,($L56-W$1)/計算!$B$26*W$2))","v":-5.7963055209600434E-2},{"$f":"IF($L56<X$1,0,IF($L56-X$1>計算!$B$26,X$2,($L56-X$1)/計算!$B$26*X$2))","v":-5.5458494250048673E-2},{"$f":"IF($L56<Y$1,0,IF($L56-Y$1>計算!$B$26,Y$2,($L56-Y$1)/計算!$B$26*Y$2))","v":0.10338399991016445},{"$f":"IF($L56<Z$1,0,IF($L56-Z$1>計算!$B$26,Z$2,($L56-Z$1)/計算!$B$26*Z$2))","v":5.0289293255394885E-2},{"$f":"IF($L56<AA$1,0,IF($L56-AA$1>計算!$B$26,AA$2,($L56-AA$1)/計算!$B$26*AA$2))","v":-2.9022629979411629E-2},{"$f":"IF($L56<AB$1,0,IF($L56-AB$1>計算!$B$26,AB$2,($L56-AB$1)/計算!$B$26*AB$2))","v":2.470576645365874E-3},{"$f":"IF($L56<AC$1,0,IF($L56-AC$1>計算!$B$26,AC$2,($L56-AC$1)/計算!$B$26*AC$2))","v":4.4033634670110899E-3},{"$f":"IF($L56<AD$1,0,IF($L56-AD$1>計算!$B$26,AD$2,($L56-AD$1)/計算!$B$26*AD$2))","v":-2.6932471689339543E-2},{"$f":"IF($L56<AE$1,0,IF($L56-AE$1>計算!$B$26,AE$2,($L56-AE$1)/計算!$B$26*AE$2))","v":2.6428643544579966E-2},{"$f":"IF($L56<AF$1,0,IF($L56-AF$1>計算!$B$26,AF$2,($L56-AF$1)/計算!$B$26*AF$2))","v":5.8979804915944012E-2},{"$f":"IF($L56<AG$1,0,IF($L56-AG$1>計算!$B$26,AG$2,($L56-AG$1)/計算!$B$26*AG$2))","v":-5.6573485727166251E-2},{"$f":"IF($L56<AH$1,0,IF($L56-AH$1>計算!$B$26,AH$2,($L56-AH$1)/計算!$B$26*AH$2))","v":-2.8222742299932158E-2},{"$f":"IF($L56<AI$1,0,IF($L56-AI$1>計算!$B$26,AI$2,($L56-AI$1)/計算!$B$26*AI$2))","v":2.4822674948292711E-2},{"$f":"IF($L56<AJ$1,0,IF($L56-AJ$1>計算!$B$26,AJ$2,($L56-AJ$1)/計算!$B$26*AJ$2))","v":-4.4864040640582026E-3},{"$f":"IF($L56<AK$1,0,IF($L56-AK$1>計算!$B$26,AK$2,($L56-AK$1)/計算!$B$26*AK$2))","v":2.3256886633271634E-4},{"$f":"IF($L56<AL$1,0,IF($L56-AL$1>計算!$B$26,AL$2,($L56-AL$1)/計算!$B$26*AL$2))","v":0},{"$f":"IF($L56<AM$1,0,IF($L56-AM$1>計算!$B$26,AM$2,($L56-AM$1)/計算!$B$26*AM$2))","v":0},{"$f":"IF($L56<AN$1,0,IF($L56-AN$1>計算!$B$26,AN$2,($L56-AN$1)/計算!$B$26*AN$2))","v":0},{"$f":"IF($L56<AO$1,0,IF($L56-AO$1>計算!$B$26,AO$2,($L56-AO$1)/計算!$B$26*AO$2))","v":0},{"$f":"IF($L56<AP$1,0,IF($L56-AP$1>計算!$B$26,AP$2,($L56-AP$1)/計算!$B$26*AP$2))","v":0},{"$f":"IF($L56<AQ$1,0,IF($L56-AQ$1>計算!$B$26,AQ$2,($L56-AQ$1)/計算!$B$26*AQ$2))","v":0},{"$f":"IF($L56<AR$1,0,IF($L56-AR$1>計算!$B$26,AR$2,($L56-AR$1)/計算!$B$26*AR$2))","v":0},{"$f":"IF($L56<AS$1,0,IF($L56-AS$1>計算!$B$26,AS$2,($L56-AS$1)/計算!$B$26*AS$2))","v":0},{"$f":"IF($L56<AT$1,0,IF($L56-AT$1>計算!$B$26,AT$2,($L56-AT$1)/計算!$B$26*AT$2))","v":0},{"$f":"IF($L56<AU$1,0,IF($L56-AU$1>計算!$B$26,AU$2,($L56-AU$1)/計算!$B$26*AU$2))","v":0},{"$f":"IF($L56<AV$1,0,IF($L56-AV$1>計算!$B$26,AV$2,($L56-AV$1)/計算!$B$26*AV$2))","v":0},3.3004483257479333,null,null,2.4000000000000008E-7,54,{"$f":"IF(BB26+計算!$B$26>=準備!$T$33,準備!$T$33,BB26+計算!$B$26)+AZ56","v":9.2327274025044748},null,null,null,52,9.1750855612998254,{"$f":"IF($BG56<BH$1,0,IF($BG56-BH$1>計算!$B$26,BH$2,($BG56-BH$1)/計算!$B$26*BH$2))","v":1.8434248486289773},{"$f":"IF($BG56<BI$1,0,IF($BG56-BI$1>計算!$B$26,BI$2,($BG56-BI$1)/計算!$B$26*BI$2))","v":2.0804359702386828},{"$f":"IF($BG56<BJ$1,0,IF($BG56-BJ$1>計算!$B$26,BJ$2,($BG56-BJ$1)/計算!$B$26*BJ$2))","v":0.43833573789608726},{"$f":"IF($BG56<BK$1,0,IF($BG56-BK$1>計算!$B$26,BK$2,($BG56-BK$1)/計算!$B$26*BK$2))","v":-0.55120106185706153},{"$f":"IF($BG56<BL$1,0,IF($BG56-BL$1>計算!$B$26,BL$2,($BG56-BL$1)/計算!$B$26*BL$2))","v":-0.80365187452039688},{"$f":"IF($BG56<BM$1,0,IF($BG56-BM$1>計算!$B$26,BM$2,($BG56-BM$1)/計算!$B$26*BM$2))","v":0.19584279483276745},{"$f":"IF($BG56<BN$1,0,IF($BG56-BN$1>計算!$B$26,BN$2,($BG56-BN$1)/計算!$B$26*BN$2))","v":0.10422894063720944},{"$f":"IF($BG56<BO$1,0,IF($BG56-BO$1>計算!$B$26,BO$2,($BG56-BO$1)/計算!$B$26*BO$2))","v":-0.4423266906583132},{"$f":"IF($BG56<BP$1,0,IF($BG56-BP$1>計算!$B$26,BP$2,($BG56-BP$1)/計算!$B$26*BP$2))","v":0.16377391940418873},{"$f":"IF($BG56<BQ$1,0,IF($BG56-BQ$1>計算!$B$26,BQ$2,($BG56-BQ$1)/計算!$B$26*BQ$2))","v":0.47754805534168732},{"$f":"IF($BG56<BR$1,0,IF($BG56-BR$1>計算!$B$26,BR$2,($BG56-BR$1)/計算!$B$26*BR$2))","v":-0.21471923432841411},{"$f":"IF($BG56<BS$1,0,IF($BG56-BS$1>計算!$B$26,BS$2,($BG56-BS$1)/計算!$B$26*BS$2))","v":1.8435751369704434E-2},{"$f":"IF($BG56<BT$1,0,IF($BG56-BT$1>計算!$B$26,BT$2,($BG56-BT$1)/計算!$B$26*BT$2))","v":2.4783906779989984E-2},{"$f":"IF($BG56<BU$1,0,IF($BG56-BU$1>計算!$B$26,BU$2,($BG56-BU$1)/計算!$B$26*BU$2))","v":-0.17919042925557704},{"$f":"IF($BG56<BV$1,0,IF($BG56-BV$1>計算!$B$26,BV$2,($BG56-BV$1)/計算!$B$26*BV$2))","v":0.34434916144780114},{"$f":"IF($BG56<BW$1,0,IF($BG56-BW$1>計算!$B$26,BW$2,($BG56-BW$1)/計算!$B$26*BW$2))","v":-2.1118040552239314E-2},{"$f":"IF($BG56<BX$1,0,IF($BG56-BX$1>計算!$B$26,BX$2,($BG56-BX$1)/計算!$B$26*BX$2))","v":-0.34082736850881012},{"$f":"IF($BG56<BY$1,0,IF($BG56-BY$1>計算!$B$26,BY$2,($BG56-BY$1)/計算!$B$26*BY$2))","v":0.19354379609734229},{"$f":"IF($BG56<BZ$1,0,IF($BG56-BZ$1>計算!$B$26,BZ$2,($BG56-BZ$1)/計算!$B$26*BZ$2))","v":-3.3303838596894231E-2},{"$f":"IF($BG56<CA$1,0,IF($BG56-CA$1>計算!$B$26,CA$2,($BG56-CA$1)/計算!$B$26*CA$2))","v":1.7354579159052363E-3},{"$f":"IF($BG56<CB$1,0,IF($BG56-CB$1>計算!$B$26,CB$2,($BG56-CB$1)/計算!$B$26*CB$2))","v":5.8932004059912835E-3},{"$f":"IF($BG56<CC$1,0,IF($BG56-CC$1>計算!$B$26,CC$2,($BG56-CC$1)/計算!$B$26*CC$2))","v":-6.020744255616739E-2},{"$f":"IF($BG56<CD$1,0,IF($BG56-CD$1>計算!$B$26,CD$2,($BG56-CD$1)/計算!$B$26*CD$2))","v":0.19512196536909968},{"$f":"IF($BG56<CE$1,0,IF($BG56-CE$1>計算!$B$26,CE$2,($BG56-CE$1)/計算!$B$26*CE$2))","v":-0.21918209498731714},{"$f":"IF($BG56<CF$1,0,IF($BG56-CF$1>計算!$B$26,CF$2,($BG56-CF$1)/計算!$B$26*CF$2))","v":-3.3532638994946358E-2},{"$f":"IF($BG56<CG$1,0,IF($BG56-CG$1>計算!$B$26,CG$2,($BG56-CG$1)/計算!$B$26*CG$2))","v":0.20459167916755458},{"$f":"IF($BG56<CH$1,0,IF($BG56-CH$1>計算!$B$26,CH$2,($BG56-CH$1)/計算!$B$26*CH$2))","v":-0.11984834605240649},{"$f":"IF($BG56<CI$1,0,IF($BG56-CI$1>計算!$B$26,CI$2,($BG56-CI$1)/計算!$B$26*CI$2))","v":2.7149067204225833E-2},{"$f":"IF($BG56<CJ$1,0,IF($BG56-CJ$1>計算!$B$26,CJ$2,($BG56-CJ$1)/計算!$B$26*CJ$2))","v":-2.6051954864601988E-3},{"$f":"IF($BG56<CK$1,0,IF($BG56-CK$1>計算!$B$26,CK$2,($BG56-CK$1)/計算!$B$26*CK$2))","v":8.8033508143610931E-5},3.2975680298903538,null,null,9.4056524389184215,2.589863051855934E-3,-2.589863051855934E-3]
[null,null,null,null,1.9000000000000005E-9,44,{"$f":"IF(G21+計算!$B$26>=準備!$T$33,準備!$T$33,G21+計算!$B$26)+E57","v":8.2432100970579825},null,null,null,54,9.4056524390184215,{"$f":"IF($L57<M$1,0,IF($L57-M$1>計算!$B$26,M$2,($L57-M$1)/計算!$B$26*M$2))","v":1.9890005284157226},{"$f":"IF($L57<N$1,0,IF($L57-N$1>計算!$B$26,N$2,($L57-N$1)/計算!$B$26*N$2))","v":0.32752179487645394},{"$f":"IF($L57<O$1,0,IF($L57-O$1>計算!$B$26,O$2,($L57-O$1)/計算!$B$26*O$2))","v":0.93101299851738872},{"$f":"IF($L57<P$1,0,IF($L57-P$1>計算!$B$26,P$2,($L57-P$1)/計算!$B$26*P$2))","v":0.27879940541488013},{"$f":"IF($L57<Q$1,0,IF($L57-Q$1>計算!$B$26,Q$2,($L57-Q$1)/計算!$B$26*Q$2))","v":7.7879229924124438E-2},{"$f":"IF($L57<R$1,0,IF($L57-R$1>計算!$B$26,R$2,($L57-R$1)/計算!$B$26*R$2))","v":-1.1192377066933545E-2},{"$f":"IF($L57<S$1,0,IF($L57-S$1>計算!$B$26,S$2,($L57-S$1)/計算!$B$26*S$2))","v":-0.23935531082328287},{"$f":"IF($L57<T$1,0,IF($L57-T$1>計算!$B$26,T$2,($L57-T$1)/計算!$B$26*T$2))","v":-0.11033288008978959},{"$f":"IF($L57<U$1,0,IF($L57-U$1>計算!$B$26,U$2,($L57-U$1)/計算!$B$26*U$2))","v":2.6244909978123232E-2},{"$f":"IF($L57<V$1,0,IF($L57-V$1>計算!$B$26,V$2,($L57-V$1)/計算!$B$26*V$2))","v":1.8518384267717458E-2},{"$f":"IF($L57<W$1,0,IF($L57-W$1>計算!$B$26,W$2,($L57-W$1)/計算!$B$26*W$2))","v":-5.7963055209600434E-2},{"$f":"IF($L57<X$1,0,IF($L57-X$1>計算!$B$26,X$2,($L57-X$1)/計算!$B$26*X$2))","v":-5.5458494250048673E-2},{"$f":"IF($L57<Y$1,0,IF($L57-Y$1>計算!$B$26,Y$2,($L57-Y$1)/計算!$B$26*Y$2))","v":0.10338399991016445},{"$f":"IF($L57<Z$1,0,IF($L57-Z$1>計算!$B$26,Z$2,($L57-Z$1)/計算!$B$26*Z$2))","v":5.0289293255394885E-2},{"$f":"IF($L57<AA$1,0,IF($L57-AA$1>計算!$B$26,AA$2,($L57-AA$1)/計算!$B$26*AA$2))","v":-2.9022629979411629E-2},{"$f":"IF($L57<AB$1,0,IF($L57-AB$1>計算!$B$26,AB$2,($L57-AB$1)/計算!$B$26*AB$2))","v":2.470576645365874E-3},{"$f":"IF($L57<AC$1,0,IF($L57-AC$1>計算!$B$26,AC$2,($L57-AC$1)/計算!$B$26*AC$2))","v":4.4033634670110899E-3},{"$f":"IF($L57<AD$1,0,IF($L57-AD$1>計算!$B$26,AD$2,($L57-AD$1)/計算!$B$26*AD$2))","v":-2.6932471689339543E-2},{"$f":"IF($L57<AE$1,0,IF($L57-AE$1>計算!$B$26,AE$2,($L57-AE$1)/計算!$B$26*AE$2))","v":2.6428643544579966E-2},{"$f":"IF($L57<AF$1,0,IF($L57-AF$1>計算!$B$26,AF$2,($L57-AF$1)/計算!$B$26*AF$2))","v":5.8979804915944012E-2},{"$f":"IF($L57<AG$1,0,IF($L57-AG$1>計算!$B$26,AG$2,($L57-AG$1)/計算!$B$26*AG$2))","v":-5.6573485727166251E-2},{"$f":"IF($L57<AH$1,0,IF($L57-AH$1>計算!$B$26,AH$2,($L57-AH$1)/計算!$B$26*AH$2))","v":-2.8222742299932158E-2},{"$f":"IF($L57<AI$1,0,IF($L57-AI$1>計算!$B$26,AI$2,($L57-AI$1)/計算!$B$26*AI$2))","v":2.4822674948292711E-2},{"$f":"IF($L57<AJ$1,0,IF($L57-AJ$1>計算!$B$26,AJ$2,($L57-AJ$1)/計算!$B$26*AJ$2))","v":-4.4864040640582026E-3},{"$f":"IF($L57<AK$1,0,IF($L57-AK$1>計算!$B$26,AK$2,($L57-AK$1)/計算!$B$26*AK$2))","v":2.3256886633271634E-4},{"$f":"IF($L57<AL$1,0,IF($L57-AL$1>計算!$B$26,AL$2,($L57-AL$1)/計算!$B$26*AL$2))","v":0},{"$f":"IF($L57<AM$1,0,IF($L57-AM$1>計算!$B$26,AM$2,($L57-AM$1)/計算!$B$26*AM$2))","v":0},{"$f":"IF($L57<AN$1,0,IF($L57-AN$1>計算!$B$26,AN$2,($L57-AN$1)/計算!$B$26*AN$2))","v":0},{"$f":"IF($L57<AO$1,0,IF($L57-AO$1>計算!$B$26,AO$2,($L57-AO$1)/計算!$B$26*AO$2))","v":0},{"$f":"IF($L57<AP$1,0,IF($L57-AP$1>計算!$B$26,AP$2,($L57-AP$1)/計算!$B$26*AP$2))","v":0},{"$f":"IF($L57<AQ$1,0,IF($L57-AQ$1>計算!$B$26,AQ$2,($L57-AQ$1)/計算!$B$26*AQ$2))","v":0},{"$f":"IF($L57<AR$1,0,IF($L57-AR$1>計算!$B$26,AR$2,($L57-AR$1)/計算!$B$26*AR$2))","v":0},{"$f":"IF($L57<AS$1,0,IF($L57-AS$1>計算!$B$26,AS$2,($L57-AS$1)/計算!$B$26*AS$2))","v":0},{"$f":"IF($L57<AT$1,0,IF($L57-AT$1>計算!$B$26,AT$2,($L57-AT$1)/計算!$B$26*AT$2))","v":0},{"$f":"IF($L57<AU$1,0,IF($L57-AU$1>計算!$B$26,AU$2,($L57-AU$1)/計算!$B$26*AU$2))","v":0},{"$f":"IF($L57<AV$1,0,IF($L57-AV$1>計算!$B$26,AV$2,($L57-AV$1)/計算!$B$26*AV$2))","v":0},3.3004483257479333,null,null,2.5000000000000009E-7,55,{"$f":"IF(BB27+計算!$B$26>=準備!$T$33,準備!$T$33,BB27+計算!$B$26)+AZ57","v":9.2615483231067959},null,null,null,53,9.2039064819021483,{"$f":"IF($BG57<BH$1,0,IF($BG57-BH$1>計算!$B$26,BH$2,($BG57-BH$1)/計算!$B$26*BH$2))","v":1.8434248486289773},{"$f":"IF($BG57<BI$1,0,IF($BG57-BI$1>計算!$B$26,BI$2,($BG57-BI$1)/計算!$B$26*BI$2))","v":2.0804359702386828},{"$f":"IF($BG57<BJ$1,0,IF($BG57-BJ$1>計算!$B$26,BJ$2,($BG57-BJ$1)/計算!$B$26*BJ$2))","v":0.43833573789608726},{"$f":"IF($BG57<BK$1,0,IF($BG57-BK$1>計算!$B$26,BK$2,($BG57-BK$1)/計算!$B$26*BK$2))","v":-0.55120106185706153},{"$f":"IF($BG57<BL$1,0,IF($BG57-BL$1>計算!$B$26,BL$2,($BG57-BL$1)/計算!$B$26*BL$2))","v":-0.80365187452039688},{"$f":"IF($BG57<BM$1,0,IF($BG57-BM$1>計算!$B$26,BM$2,($BG57-BM$1)/計算!$B$26*BM$2))","v":0.19584279483276745},{"$f":"IF($BG57<BN$1,0,IF($BG57-BN$1>計算!$B$26,BN$2,($BG57-BN$1)/計算!$B$26*BN$2))","v":0.10422894063720944},{"$f":"IF($BG57<BO$1,0,IF($BG57-BO$1>計算!$B$26,BO$2,($BG57-BO$1)/計算!$B$26*BO$2))","v":-0.4423266906583132},{"$f":"IF($BG57<BP$1,0,IF($BG57-BP$1>計算!$B$26,BP$2,($BG57-BP$1)/計算!$B$26*BP$2))","v":0.16377391940418873},{"$f":"IF($BG57<BQ$1,0,IF($BG57-BQ$1>計算!$B$26,BQ$2,($BG57-BQ$1)/計算!$B$26*BQ$2))","v":0.47754805534168732},{"$f":"IF($BG57<BR$1,0,IF($BG57-BR$1>計算!$B$26,BR$2,($BG57-BR$1)/計算!$B$26*BR$2))","v":-0.21471923432841411},{"$f":"IF($BG57<BS$1,0,IF($BG57-BS$1>計算!$B$26,BS$2,($BG57-BS$1)/計算!$B$26*BS$2))","v":1.8435751369704434E-2},{"$f":"IF($BG57<BT$1,0,IF($BG57-BT$1>計算!$B$26,BT$2,($BG57-BT$1)/計算!$B$26*BT$2))","v":2.4783906779989984E-2},{"$f":"IF($BG57<BU$1,0,IF($BG57-BU$1>計算!$B$26,BU$2,($BG57-BU$1)/計算!$B$26*BU$2))","v":-0.17919042925557704},{"$f":"IF($BG57<BV$1,0,IF($BG57-BV$1>計算!$B$26,BV$2,($BG57-BV$1)/計算!$B$26*BV$2))","v":0.34434916144780114},{"$f":"IF($BG57<BW$1,0,IF($BG57-BW$1>計算!$B$26,BW$2,($BG57-BW$1)/計算!$B$26*BW$2))","v":-2.1118040552239314E-2},{"$f":"IF($BG57<BX$1,0,IF($BG57-BX$1>計算!$B$26,BX$2,($BG57-BX$1)/計算!$B$26*BX$2))","v":-0.34082736850881012},{"$f":"IF($BG57<BY$1,0,IF($BG57-BY$1>計算!$B$26,BY$2,($BG57-BY$1)/計算!$B$26*BY$2))","v":0.19354379609734229},{"$f":"IF($BG57<BZ$1,0,IF($BG57-BZ$1>計算!$B$26,BZ$2,($BG57-BZ$1)/計算!$B$26*BZ$2))","v":-3.3303838596894231E-2},{"$f":"IF($BG57<CA$1,0,IF($BG57-CA$1>計算!$B$26,CA$2,($BG57-CA$1)/計算!$B$26*CA$2))","v":1.7354579159052363E-3},{"$f":"IF($BG57<CB$1,0,IF($BG57-CB$1>計算!$B$26,CB$2,($BG57-CB$1)/計算!$B$26*CB$2))","v":5.8932004059912835E-3},{"$f":"IF($BG57<CC$1,0,IF($BG57-CC$1>計算!$B$26,CC$2,($BG57-CC$1)/計算!$B$26*CC$2))","v":-6.020744255616739E-2},{"$f":"IF($BG57<CD$1,0,IF($BG57-CD$1>計算!$B$26,CD$2,($BG57-CD$1)/計算!$B$26*CD$2))","v":0.20705701786707298},{"$f":"IF($BG57<CE$1,0,IF($BG57-CE$1>計算!$B$26,CE$2,($BG57-CE$1)/計算!$B$26*CE$2))","v":-0.2334624381983493},{"$f":"IF($BG57<CF$1,0,IF($BG57-CF$1>計算!$B$26,CF$2,($BG57-CF$1)/計算!$B$26*CF$2))","v":-3.5869649673911923E-2},{"$f":"IF($BG57<CG$1,0,IF($BG57-CG$1>計算!$B$26,CG$2,($BG57-CG$1)/計算!$B$26*CG$2))","v":0.2199186000351479},{"$f":"IF($BG57<CH$1,0,IF($BG57-CH$1>計算!$B$26,CH$2,($BG57-CH$1)/計算!$B$26*CH$2))","v":-0.12955382995201498},{"$f":"IF($BG57<CI$1,0,IF($BG57-CI$1>計算!$B$26,CI$2,($BG57-CI$1)/計算!$B$26*CI$2))","v":2.954136772587344E-2},{"$f":"IF($BG57<CJ$1,0,IF($BG57-CJ$1>計算!$B$26,CJ$2,($BG57-CJ$1)/計算!$B$26*CJ$2))","v":-2.8569412169184233E-3},{"$f":"IF($BG57<CK$1,0,IF($BG57-CK$1>計算!$B$26,CK$2,($BG57-CK$1)/計算!$B$26*CK$2))","v":9.7450347799248057E-5},3.3006571370971591,null,null,9.4056524390184215,2.589863051855934E-3,-2.589863051855934E-3]
[null,null,null,null,2.0000000000000005E-9,45,{"$f":"IF(G22+計算!$B$26>=準備!$T$33,準備!$T$33,G22+計算!$B$26)+E58","v":8.2720309977603073},null,null,null,55,9.4056524391184215,{"$f":"IF($L58<M$1,0,IF($L58-M$1>計算!$B$26,M$2,($L58-M$1)/計算!$B$26*M$2))","v":1.9890005284157226},{"$f":"IF($L58<N$1,0,IF($L58-N$1>計算!$B$26,N$2,($L58-N$1)/計算!$B$26*N$2))","v":0.32752179487645394},{"$f":"IF($L58<O$1,0,IF($L58-O$1>計算!$B$26,O$2,($L58-O$1)/計算!$B$26*O$2))","v":0.93101299851738872},{"$f":"IF($L58<P$1,0,IF($L58-P$1>計算!$B$26,P$2,($L58-P$1)/計算!$B$26*P$2))","v":0.27879940541488013},{"$f":"IF($L58<Q$1,0,IF($L58-Q$1>計算!$B$26,Q$2,($L58-Q$1)/計算!$B$26*Q$2))","v":7.7879229924124438E-2},{"$f":"IF($L58<R$1,0,IF($L58-R$1>計算!$B$26,R$2,($L58-R$1)/計算!$B$26*R$2))","v":-1.1192377066933545E-2},{"$f":"IF($L58<S$1,0,IF($L58-S$1>計算!$B$26,S$2,($L58-S$1)/計算!$B$26*S$2))","v":-0.23935531082328287},{"$f":"IF($L58<T$1,0,IF($L58-T$1>計算!$B$26,T$2,($L58-T$1)/計算!$B$26*T$2))","v":-0.11033288008978959},{"$f":"IF($L58<U$1,0,IF($L58-U$1>計算!$B$26,U$2,($L58-U$1)/計算!$B$26*U$2))","v":2.6244909978123232E-2},{"$f":"IF($L58<V$1,0,IF($L58-V$1>計算!$B$26,V$2,($L58-V$1)/計算!$B$26*V$2))","v":1.8518384267717458E-2},{"$f":"IF($L58<W$1,0,IF($L58-W$1>計算!$B$26,W$2,($L58-W$1)/計算!$B$26*W$2))","v":-5.7963055209600434E-2},{"$f":"IF($L58<X$1,0,IF($L58-X$1>計算!$B$26,X$2,($L58-X$1)/計算!$B$26*X$2))","v":-5.5458494250048673E-2},{"$f":"IF($L58<Y$1,0,IF($L58-Y$1>計算!$B$26,Y$2,($L58-Y$1)/計算!$B$26*Y$2))","v":0.10338399991016445},{"$f":"IF($L58<Z$1,0,IF($L58-Z$1>計算!$B$26,Z$2,($L58-Z$1)/計算!$B$26*Z$2))","v":5.0289293255394885E-2},{"$f":"IF($L58<AA$1,0,IF($L58-AA$1>計算!$B$26,AA$2,($L58-AA$1)/計算!$B$26*AA$2))","v":-2.9022629979411629E-2},{"$f":"IF($L58<AB$1,0,IF($L58-AB$1>計算!$B$26,AB$2,($L58-AB$1)/計算!$B$26*AB$2))","v":2.470576645365874E-3},{"$f":"IF($L58<AC$1,0,IF($L58-AC$1>計算!$B$26,AC$2,($L58-AC$1)/計算!$B$26*AC$2))","v":4.4033634670110899E-3},{"$f":"IF($L58<AD$1,0,IF($L58-AD$1>計算!$B$26,AD$2,($L58-AD$1)/計算!$B$26*AD$2))","v":-2.6932471689339543E-2},{"$f":"IF($L58<AE$1,0,IF($L58-AE$1>計算!$B$26,AE$2,($L58-AE$1)/計算!$B$26*AE$2))","v":2.6428643544579966E-2},{"$f":"IF($L58<AF$1,0,IF($L58-AF$1>計算!$B$26,AF$2,($L58-AF$1)/計算!$B$26*AF$2))","v":5.8979804915944012E-2},{"$f":"IF($L58<AG$1,0,IF($L58-AG$1>計算!$B$26,AG$2,($L58-AG$1)/計算!$B$26*AG$2))","v":-5.6573485727166251E-2},{"$f":"IF($L58<AH$1,0,IF($L58-AH$1>計算!$B$26,AH$2,($L58-AH$1)/計算!$B$26*AH$2))","v":-2.8222742299932158E-2},{"$f":"IF($L58<AI$1,0,IF($L58-AI$1>計算!$B$26,AI$2,($L58-AI$1)/計算!$B$26*AI$2))","v":2.4822674948292711E-2},{"$f":"IF($L58<AJ$1,0,IF($L58-AJ$1>計算!$B$26,AJ$2,($L58-AJ$1)/計算!$B$26*AJ$2))","v":-4.4864040640582026E-3},{"$f":"IF($L58<AK$1,0,IF($L58-AK$1>計算!$B$26,AK$2,($L58-AK$1)/計算!$B$26*AK$2))","v":2.3256886633271634E-4},{"$f":"IF($L58<AL$1,0,IF($L58-AL$1>計算!$B$26,AL$2,($L58-AL$1)/計算!$B$26*AL$2))","v":0},{"$f":"IF($L58<AM$1,0,IF($L58-AM$1>計算!$B$26,AM$2,($L58-AM$1)/計算!$B$26*AM$2))","v":0},{"$f":"IF($L58<AN$1,0,IF($L58-AN$1>計算!$B$26,AN$2,($L58-AN$1)/計算!$B$26*AN$2))","v":0},{"$f":"IF($L58<AO$1,0,IF($L58-AO$1>計算!$B$26,AO$2,($L58-AO$1)/計算!$B$26*AO$2))","v":0},{"$f":"IF($L58<AP$1,0,IF($L58-AP$1>計算!$B$26,AP$2,($L58-AP$1)/計算!$B$26*AP$2))","v":0},{"$f":"IF($L58<AQ$1,0,IF($L58-AQ$1>計算!$B$26,AQ$2,($L58-AQ$1)/計算!$B$26*AQ$2))","v":0},{"$f":"IF($L58<AR$1,0,IF($L58-AR$1>計算!$B$26,AR$2,($L58-AR$1)/計算!$B$26*AR$2))","v":0},{"$f":"IF($L58<AS$1,0,IF($L58-AS$1>計算!$B$26,AS$2,($L58-AS$1)/計算!$B$26*AS$2))","v":0},{"$f":"IF($L58<AT$1,0,IF($L58-AT$1>計算!$B$26,AT$2,($L58-AT$1)/計算!$B$26*AT$2))","v":0},{"$f":"IF($L58<AU$1,0,IF($L58-AU$1>計算!$B$26,AU$2,($L58-AU$1)/計算!$B$26*AU$2))","v":0},{"$f":"IF($L58<AV$1,0,IF($L58-AV$1>計算!$B$26,AV$2,($L58-AV$1)/計算!$B$26*AV$2))","v":0},3.3004483257479333,null,null,2.600000000000001E-7,56,{"$f":"IF(BB28+計算!$B$26>=準備!$T$33,準備!$T$33,BB28+計算!$B$26)+AZ58","v":9.2903692437091241},null,null,null,54,9.2327274025044748,{"$f":"IF($BG58<BH$1,0,IF($BG58-BH$1>計算!$B$26,BH$2,($BG58-BH$1)/計算!$B$26*BH$2))","v":1.8434248486289773},{"$f":"IF($BG58<BI$1,0,IF($BG58-BI$1>計算!$B$26,BI$2,($BG58-BI$1)/計算!$B$26*BI$2))","v":2.0804359702386828},{"$f":"IF($BG58<BJ$1,0,IF($BG58-BJ$1>計算!$B$26,BJ$2,($BG58-BJ$1)/計算!$B$26*BJ$2))","v":0.43833573789608726},{"$f":"IF($BG58<BK$1,0,IF($BG58-BK$1>計算!$B$26,BK$2,($BG58-BK$1)/計算!$B$26*BK$2))","v":-0.55120106185706153},{"$f":"IF($BG58<BL$1,0,IF($BG58-BL$1>計算!$B$26,BL$2,($BG58-BL$1)/計算!$B$26*BL$2))","v":-0.80365187452039688},{"$f":"IF($BG58<BM$1,0,IF($BG58-BM$1>計算!$B$26,BM$2,($BG58-BM$1)/計算!$B$26*BM$2))","v":0.19584279483276745},{"$f":"IF($BG58<BN$1,0,IF($BG58-BN$1>計算!$B$26,BN$2,($BG58-BN$1)/計算!$B$26*BN$2))","v":0.10422894063720944},{"$f":"IF($BG58<BO$1,0,IF($BG58-BO$1>計算!$B$26,BO$2,($BG58-BO$1)/計算!$B$26*BO$2))","v":-0.4423266906583132},{"$f":"IF($BG58<BP$1,0,IF($BG58-BP$1>計算!$B$26,BP$2,($BG58-BP$1)/計算!$B$26*BP$2))","v":0.16377391940418873},{"$f":"IF($BG58<BQ$1,0,IF($BG58-BQ$1>計算!$B$26,BQ$2,($BG58-BQ$1)/計算!$B$26*BQ$2))","v":0.47754805534168732},{"$f":"IF($BG58<BR$1,0,IF($BG58-BR$1>計算!$B$26,BR$2,($BG58-BR$1)/計算!$B$26*BR$2))","v":-0.21471923432841411},{"$f":"IF($BG58<BS$1,0,IF($BG58-BS$1>計算!$B$26,BS$2,($BG58-BS$1)/計算!$B$26*BS$2))","v":1.8435751369704434E-2},{"$f":"IF($BG58<BT$1,0,IF($BG58-BT$1>計算!$B$26,BT$2,($BG58-BT$1)/計算!$B$26*BT$2))","v":2.4783906779989984E-2},{"$f":"IF($BG58<BU$1,0,IF($BG58-BU$1>計算!$B$26,BU$2,($BG58-BU$1)/計算!$B$26*BU$2))","v":-0.17919042925557704},{"$f":"IF($BG58<BV$1,0,IF($BG58-BV$1>計算!$B$26,BV$2,($BG58-BV$1)/計算!$B$26*BV$2))","v":0.34434916144780114},{"$f":"IF($BG58<BW$1,0,IF($BG58-BW$1>計算!$B$26,BW$2,($BG58-BW$1)/計算!$B$26*BW$2))","v":-2.1118040552239314E-2},{"$f":"IF($BG58<BX$1,0,IF($BG58-BX$1>計算!$B$26,BX$2,($BG58-BX$1)/計算!$B$26*BX$2))","v":-0.34082736850881012},{"$f":"IF($BG58<BY$1,0,IF($BG58-BY$1>計算!$B$26,BY$2,($BG58-BY$1)/計算!$B$26*BY$2))","v":0.19354379609734229},{"$f":"IF($BG58<BZ$1,0,IF($BG58-BZ$1>計算!$B$26,BZ$2,($BG58-BZ$1)/計算!$B$26*BZ$2))","v":-3.3303838596894231E-2},{"$f":"IF($BG58<CA$1,0,IF($BG58-CA$1>計算!$B$26,CA$2,($BG58-CA$1)/計算!$B$26*CA$2))","v":1.7354579159052363E-3},{"$f":"IF($BG58<CB$1,0,IF($BG58-CB$1>計算!$B$26,CB$2,($BG58-CB$1)/計算!$B$26*CB$2))","v":5.8932004059912835E-3},{"$f":"IF($BG58<CC$1,0,IF($BG58-CC$1>計算!$B$26,CC$2,($BG58-CC$1)/計算!$B$26*CC$2))","v":-6.020744255616739E-2},{"$f":"IF($BG58<CD$1,0,IF($BG58-CD$1>計算!$B$26,CD$2,($BG58-CD$1)/計算!$B$26*CD$2))","v":0.20705701786707298},{"$f":"IF($BG58<CE$1,0,IF($BG58-CE$1>計算!$B$26,CE$2,($BG58-CE$1)/計算!$B$26*CE$2))","v":-0.24774266249290511},{"$f":"IF($BG58<CF$1,0,IF($BG58-CF$1>計算!$B$26,CF$2,($BG58-CF$1)/計算!$B$26*CF$2))","v":-3.8206660352877779E-2},{"$f":"IF($BG58<CG$1,0,IF($BG58-CG$1>計算!$B$26,CG$2,($BG58-CG$1)/計算!$B$26*CG$2))","v":0.23524552090274312},{"$f":"IF($BG58<CH$1,0,IF($BG58-CH$1>計算!$B$26,CH$2,($BG58-CH$1)/計算!$B$26*CH$2))","v":-0.13925931385162466},{"$f":"IF($BG58<CI$1,0,IF($BG58-CI$1>計算!$B$26,CI$2,($BG58-CI$1)/計算!$B$26*CI$2))","v":3.1933668247521342E-2},{"$f":"IF($BG58<CJ$1,0,IF($BG58-CJ$1>計算!$B$26,CJ$2,($BG58-CJ$1)/計算!$B$26*CJ$2))","v":-3.1086869473766791E-3},{"$f":"IF($BG58<CK$1,0,IF($BG58-CK$1>計算!$B$26,CK$2,($BG58-CK$1)/計算!$B$26*CK$2))","v":1.0686718745488634E-4},3.2918113107224682,null,null,9.4056524391184215,2.589863051855934E-3,-2.589863051855934E-3]
[null,null,null,null,2.1000000000000006E-9,46,{"$f":"IF(G23+計算!$B$26>=準備!$T$33,準備!$T$33,G23+計算!$B$26)+E59","v":8.3008518984626321},null,null,null,56,9.4056524392184215,{"$f":"IF($L59<M$1,0,IF($L59-M$1>計算!$B$26,M$2,($L59-M$1)/計算!$B$26*M$2))","v":1.9890005284157226},{"$f":"IF($L59<N$1,0,IF($L59-N$1>計算!$B$26,N$2,($L59-N$1)/計算!$B$26*N$2))","v":0.32752179487645394},{"$f":"IF($L59<O$1,0,IF($L59-O$1>計算!$B$26,O$2,($L59-O$1)/計算!$B$26*O$2))","v":0.93101299851738872},{"$f":"IF($L59<P$1,0,IF($L59-P$1>計算!$B$26,P$2,($L59-P$1)/計算!$B$26*P$2))","v":0.27879940541488013},{"$f":"IF($L59<Q$1,0,IF($L59-Q$1>計算!$B$26,Q$2,($L59-Q$1)/計算!$B$26*Q$2))","v":7.7879229924124438E-2},{"$f":"IF($L59<R$1,0,IF($L59-R$1>計算!$B$26,R$2,($L59-R$1)/計算!$B$26*R$2))","v":-1.1192377066933545E-2},{"$f":"IF($L59<S$1,0,IF($L59-S$1>計算!$B$26,S$2,($L59-S$1)/計算!$B$26*S$2))","v":-0.23935531082328287},{"$f":"IF($L59<T$1,0,IF($L59-T$1>計算!$B$26,T$2,($L59-T$1)/計算!$B$26*T$2))","v":-0.11033288008978959},{"$f":"IF($L59<U$1,0,IF($L59-U$1>計算!$B$26,U$2,($L59-U$1)/計算!$B$26*U$2))","v":2.6244909978123232E-2},{"$f":"IF($L59<V$1,0,IF($L59-V$1>計算!$B$26,V$2,($L59-V$1)/計算!$B$26*V$2))","v":1.8518384267717458E-2},{"$f":"IF($L59<W$1,0,IF($L59-W$1>計算!$B$26,W$2,($L59-W$1)/計算!$B$26*W$2))","v":-5.7963055209600434E-2},{"$f":"IF($L59<X$1,0,IF($L59-X$1>計算!$B$26,X$2,($L59-X$1)/計算!$B$26*X$2))","v":-5.5458494250048673E-2},{"$f":"IF($L59<Y$1,0,IF($L59-Y$1>計算!$B$26,Y$2,($L59-Y$1)/計算!$B$26*Y$2))","v":0.10338399991016445},{"$f":"IF($L59<Z$1,0,IF($L59-Z$1>計算!$B$26,Z$2,($L59-Z$1)/計算!$B$26*Z$2))","v":5.0289293255394885E-2},{"$f":"IF($L59<AA$1,0,IF($L59-AA$1>計算!$B$26,AA$2,($L59-AA$1)/計算!$B$26*AA$2))","v":-2.9022629979411629E-2},{"$f":"IF($L59<AB$1,0,IF($L59-AB$1>計算!$B$26,AB$2,($L59-AB$1)/計算!$B$26*AB$2))","v":2.470576645365874E-3},{"$f":"IF($L59<AC$1,0,IF($L59-AC$1>計算!$B$26,AC$2,($L59-AC$1)/計算!$B$26*AC$2))","v":4.4033634670110899E-3},{"$f":"IF($L59<AD$1,0,IF($L59-AD$1>計算!$B$26,AD$2,($L59-AD$1)/計算!$B$26*AD$2))","v":-2.6932471689339543E-2},{"$f":"IF($L59<AE$1,0,IF($L59-AE$1>計算!$B$26,AE$2,($L59-AE$1)/計算!$B$26*AE$2))","v":2.6428643544579966E-2},{"$f":"IF($L59<AF$1,0,IF($L59-AF$1>計算!$B$26,AF$2,($L59-AF$1)/計算!$B$26*AF$2))","v":5.8979804915944012E-2},{"$f":"IF($L59<AG$1,0,IF($L59-AG$1>計算!$B$26,AG$2,($L59-AG$1)/計算!$B$26*AG$2))","v":-5.6573485727166251E-2},{"$f":"IF($L59<AH$1,0,IF($L59-AH$1>計算!$B$26,AH$2,($L59-AH$1)/計算!$B$26*AH$2))","v":-2.8222742299932158E-2},{"$f":"IF($L59<AI$1,0,IF($L59-AI$1>計算!$B$26,AI$2,($L59-AI$1)/計算!$B$26*AI$2))","v":2.4822674948292711E-2},{"$f":"IF($L59<AJ$1,0,IF($L59-AJ$1>計算!$B$26,AJ$2,($L59-AJ$1)/計算!$B$26*AJ$2))","v":-4.4864040640582026E-3},{"$f":"IF($L59<AK$1,0,IF($L59-AK$1>計算!$B$26,AK$2,($L59-AK$1)/計算!$B$26*AK$2))","v":2.3256886633271634E-4},{"$f":"IF($L59<AL$1,0,IF($L59-AL$1>計算!$B$26,AL$2,($L59-AL$1)/計算!$B$26*AL$2))","v":0},{"$f":"IF($L59<AM$1,0,IF($L59-AM$1>計算!$B$26,AM$2,($L59-AM$1)/計算!$B$26*AM$2))","v":0},{"$f":"IF($L59<AN$1,0,IF($L59-AN$1>計算!$B$26,AN$2,($L59-AN$1)/計算!$B$26*AN$2))","v":0},{"$f":"IF($L59<AO$1,0,IF($L59-AO$1>計算!$B$26,AO$2,($L59-AO$1)/計算!$B$26*AO$2))","v":0},{"$f":"IF($L59<AP$1,0,IF($L59-AP$1>計算!$B$26,AP$2,($L59-AP$1)/計算!$B$26*AP$2))","v":0},{"$f":"IF($L59<AQ$1,0,IF($L59-AQ$1>計算!$B$26,AQ$2,($L59-AQ$1)/計算!$B$26*AQ$2))","v":0},{"$f":"IF($L59<AR$1,0,IF($L59-AR$1>計算!$B$26,AR$2,($L59-AR$1)/計算!$B$26*AR$2))","v":0},{"$f":"IF($L59<AS$1,0,IF($L59-AS$1>計算!$B$26,AS$2,($L59-AS$1)/計算!$B$26*AS$2))","v":0},{"$f":"IF($L59<AT$1,0,IF($L59-AT$1>計算!$B$26,AT$2,($L59-AT$1)/計算!$B$26*AT$2))","v":0},{"$f":"IF($L59<AU$1,0,IF($L59-AU$1>計算!$B$26,AU$2,($L59-AU$1)/計算!$B$26*AU$2))","v":0},{"$f":"IF($L59<AV$1,0,IF($L59-AV$1>計算!$B$26,AV$2,($L59-AV$1)/計算!$B$26*AV$2))","v":0},3.3004483257479333,null,null,2.7000000000000011E-7,57,{"$f":"IF(BB29+計算!$B$26>=準備!$T$33,準備!$T$33,BB29+計算!$B$26)+AZ59","v":9.319190164311447},null,null,null,55,9.2615483231067959,{"$f":"IF($BG59<BH$1,0,IF($BG59-BH$1>計算!$B$26,BH$2,($BG59-BH$1)/計算!$B$26*BH$2))","v":1.8434248486289773},{"$f":"IF($BG59<BI$1,0,IF($BG59-BI$1>計算!$B$26,BI$2,($BG59-BI$1)/計算!$B$26*BI$2))","v":2.0804359702386828},{"$f":"IF($BG59<BJ$1,0,IF($BG59-BJ$1>計算!$B$26,BJ$2,($BG59-BJ$1)/計算!$B$26*BJ$2))","v":0.43833573789608726},{"$f":"IF($BG59<BK$1,0,IF($BG59-BK$1>計算!$B$26,BK$2,($BG59-BK$1)/計算!$B$26*BK$2))","v":-0.55120106185706153},{"$f":"IF($BG59<BL$1,0,IF($BG59-BL$1>計算!$B$26,BL$2,($BG59-BL$1)/計算!$B$26*BL$2))","v":-0.80365187452039688},{"$f":"IF($BG59<BM$1,0,IF($BG59-BM$1>計算!$B$26,BM$2,($BG59-BM$1)/計算!$B$26*BM$2))","v":0.19584279483276745},{"$f":"IF($BG59<BN$1,0,IF($BG59-BN$1>計算!$B$26,BN$2,($BG59-BN$1)/計算!$B$26*BN$2))","v":0.10422894063720944},{"$f":"IF($BG59<BO$1,0,IF($BG59-BO$1>計算!$B$26,BO$2,($BG59-BO$1)/計算!$B$26*BO$2))","v":-0.4423266906583132},{"$f":"IF($BG59<BP$1,0,IF($BG59-BP$1>計算!$B$26,BP$2,($BG59-BP$1)/計算!$B$26*BP$2))","v":0.16377391940418873},{"$f":"IF($BG59<BQ$1,0,IF($BG59-BQ$1>計算!$B$26,BQ$2,($BG59-BQ$1)/計算!$B$26*BQ$2))","v":0.47754805534168732},{"$f":"IF($BG59<BR$1,0,IF($BG59-BR$1>計算!$B$26,BR$2,($BG59-BR$1)/計算!$B$26*BR$2))","v":-0.21471923432841411},{"$f":"IF($BG59<BS$1,0,IF($BG59-BS$1>計算!$B$26,BS$2,($BG59-BS$1)/計算!$B$26*BS$2))","v":1.8435751369704434E-2},{"$f":"IF($BG59<BT$1,0,IF($BG59-BT$1>計算!$B$26,BT$2,($BG59-BT$1)/計算!$B$26*BT$2))","v":2.4783906779989984E-2},{"$f":"IF($BG59<BU$1,0,IF($BG59-BU$1>計算!$B$26,BU$2,($BG59-BU$1)/計算!$B$26*BU$2))","v":-0.17919042925557704},{"$f":"IF($BG59<BV$1,0,IF($BG59-BV$1>計算!$B$26,BV$2,($BG59-BV$1)/計算!$B$26*BV$2))","v":0.34434916144780114},{"$f":"IF($BG59<BW$1,0,IF($BG59-BW$1>計算!$B$26,BW$2,($BG59-BW$1)/計算!$B$26*BW$2))","v":-2.1118040552239314E-2},{"$f":"IF($BG59<BX$1,0,IF($BG59-BX$1>計算!$B$26,BX$2,($BG59-BX$1)/計算!$B$26*BX$2))","v":-0.34082736850881012},{"$f":"IF($BG59<BY$1,0,IF($BG59-BY$1>計算!$B$26,BY$2,($BG59-BY$1)/計算!$B$26*BY$2))","v":0.19354379609734229},{"$f":"IF($BG59<BZ$1,0,IF($BG59-BZ$1>計算!$B$26,BZ$2,($BG59-BZ$1)/計算!$B$26*BZ$2))","v":-3.3303838596894231E-2},{"$f":"IF($BG59<CA$1,0,IF($BG59-CA$1>計算!$B$26,CA$2,($BG59-CA$1)/計算!$B$26*CA$2))","v":1.7354579159052363E-3},{"$f":"IF($BG59<CB$1,0,IF($BG59-CB$1>計算!$B$26,CB$2,($BG59-CB$1)/計算!$B$26*CB$2))","v":5.8932004059912835E-3},{"$f":"IF($BG59<CC$1,0,IF($BG59-CC$1>計算!$B$26,CC$2,($BG59-CC$1)/計算!$B$26*CC$2))","v":-6.020744255616739E-2},{"$f":"IF($BG59<CD$1,0,IF($BG59-CD$1>計算!$B$26,CD$2,($BG59-CD$1)/計算!$B$26*CD$2))","v":0.20705701786707298},{"$f":"IF($BG59<CE$1,0,IF($BG59-CE$1>計算!$B$26,CE$2,($BG59-CE$1)/計算!$B$26*CE$2))","v":-0.24774266249290511},{"$f":"IF($BG59<CF$1,0,IF($BG59-CF$1>計算!$B$26,CF$2,($BG59-CF$1)/計算!$B$26*CF$2))","v":-4.0543650760017869E-2},{"$f":"IF($BG59<CG$1,0,IF($BG59-CG$1>計算!$B$26,CG$2,($BG59-CG$1)/計算!$B$26*CG$2))","v":0.2505724417703355},{"$f":"IF($BG59<CH$1,0,IF($BG59-CH$1>計算!$B$26,CH$2,($BG59-CH$1)/計算!$B$26*CH$2))","v":-0.14896479775123256},{"$f":"IF($BG59<CI$1,0,IF($BG59-CI$1>計算!$B$26,CI$2,($BG59-CI$1)/計算!$B$26*CI$2))","v":3.4325968769168803E-2},{"$f":"IF($BG59<CJ$1,0,IF($BG59-CJ$1>計算!$B$26,CJ$2,($BG59-CJ$1)/計算!$B$26*CJ$2))","v":-3.360432677834888E-3},{"$f":"IF($BG59<CK$1,0,IF($BG59-CK$1>計算!$B$26,CK$2,($BG59-CK$1)/計算!$B$26*CK$2))","v":1.1628402711052288E-4},3.2972457289141581,null,null,9.4056524392184215,2.589863051855934E-3,-2.589863051855934E-3]
[null,null,null,null,2.2000000000000007E-9,47,{"$f":"IF(G24+計算!$B$26>=準備!$T$33,準備!$T$33,G24+計算!$B$26)+E60","v":8.3296727991649568},null,null,null,57,9.4056524393184215,{"$f":"IF($L60<M$1,0,IF($L60-M$1>計算!$B$26,M$2,($L60-M$1)/計算!$B$26*M$2))","v":1.9890005284157226},{"$f":"IF($L60<N$1,0,IF($L60-N$1>計算!$B$26,N$2,($L60-N$1)/計算!$B$26*N$2))","v":0.32752179487645394},{"$f":"IF($L60<O$1,0,IF($L60-O$1>計算!$B$26,O$2,($L60-O$1)/計算!$B$26*O$2))","v":0.93101299851738872},{"$f":"IF($L60<P$1,0,IF($L60-P$1>計算!$B$26,P$2,($L60-P$1)/計算!$B$26*P$2))","v":0.27879940541488013},{"$f":"IF($L60<Q$1,0,IF($L60-Q$1>計算!$B$26,Q$2,($L60-Q$1)/計算!$B$26*Q$2))","v":7.7879229924124438E-2},{"$f":"IF($L60<R$1,0,IF($L60-R$1>計算!$B$26,R$2,($L60-R$1)/計算!$B$26*R$2))","v":-1.1192377066933545E-2},{"$f":"IF($L60<S$1,0,IF($L60-S$1>計算!$B$26,S$2,($L60-S$1)/計算!$B$26*S$2))","v":-0.23935531082328287},{"$f":"IF($L60<T$1,0,IF($L60-T$1>計算!$B$26,T$2,($L60-T$1)/計算!$B$26*T$2))","v":-0.11033288008978959},{"$f":"IF($L60<U$1,0,IF($L60-U$1>計算!$B$26,U$2,($L60-U$1)/計算!$B$26*U$2))","v":2.6244909978123232E-2},{"$f":"IF($L60<V$1,0,IF($L60-V$1>計算!$B$26,V$2,($L60-V$1)/計算!$B$26*V$2))","v":1.8518384267717458E-2},{"$f":"IF($L60<W$1,0,IF($L60-W$1>計算!$B$26,W$2,($L60-W$1)/計算!$B$26*W$2))","v":-5.7963055209600434E-2},{"$f":"IF($L60<X$1,0,IF($L60-X$1>計算!$B$26,X$2,($L60-X$1)/計算!$B$26*X$2))","v":-5.5458494250048673E-2},{"$f":"IF($L60<Y$1,0,IF($L60-Y$1>計算!$B$26,Y$2,($L60-Y$1)/計算!$B$26*Y$2))","v":0.10338399991016445},{"$f":"IF($L60<Z$1,0,IF($L60-Z$1>計算!$B$26,Z$2,($L60-Z$1)/計算!$B$26*Z$2))","v":5.0289293255394885E-2},{"$f":"IF($L60<AA$1,0,IF($L60-AA$1>計算!$B$26,AA$2,($L60-AA$1)/計算!$B$26*AA$2))","v":-2.9022629979411629E-2},{"$f":"IF($L60<AB$1,0,IF($L60-AB$1>計算!$B$26,AB$2,($L60-AB$1)/計算!$B$26*AB$2))","v":2.470576645365874E-3},{"$f":"IF($L60<AC$1,0,IF($L60-AC$1>計算!$B$26,AC$2,($L60-AC$1)/計算!$B$26*AC$2))","v":4.4033634670110899E-3},{"$f":"IF($L60<AD$1,0,IF($L60-AD$1>計算!$B$26,AD$2,($L60-AD$1)/計算!$B$26*AD$2))","v":-2.6932471689339543E-2},{"$f":"IF($L60<AE$1,0,IF($L60-AE$1>計算!$B$26,AE$2,($L60-AE$1)/計算!$B$26*AE$2))","v":2.6428643544579966E-2},{"$f":"IF($L60<AF$1,0,IF($L60-AF$1>計算!$B$26,AF$2,($L60-AF$1)/計算!$B$26*AF$2))","v":5.8979804915944012E-2},{"$f":"IF($L60<AG$1,0,IF($L60-AG$1>計算!$B$26,AG$2,($L60-AG$1)/計算!$B$26*AG$2))","v":-5.6573485727166251E-2},{"$f":"IF($L60<AH$1,0,IF($L60-AH$1>計算!$B$26,AH$2,($L60-AH$1)/計算!$B$26*AH$2))","v":-2.8222742299932158E-2},{"$f":"IF($L60<AI$1,0,IF($L60-AI$1>計算!$B$26,AI$2,($L60-AI$1)/計算!$B$26*AI$2))","v":2.4822674948292711E-2},{"$f":"IF($L60<AJ$1,0,IF($L60-AJ$1>計算!$B$26,AJ$2,($L60-AJ$1)/計算!$B$26*AJ$2))","v":-4.4864040640582026E-3},{"$f":"IF($L60<AK$1,0,IF($L60-AK$1>計算!$B$26,AK$2,($L60-AK$1)/計算!$B$26*AK$2))","v":2.3256886633271634E-4},{"$f":"IF($L60<AL$1,0,IF($L60-AL$1>計算!$B$26,AL$2,($L60-AL$1)/計算!$B$26*AL$2))","v":0},{"$f":"IF($L60<AM$1,0,IF($L60-AM$1>計算!$B$26,AM$2,($L60-AM$1)/計算!$B$26*AM$2))","v":0},{"$f":"IF($L60<AN$1,0,IF($L60-AN$1>計算!$B$26,AN$2,($L60-AN$1)/計算!$B$26*AN$2))","v":0},{"$f":"IF($L60<AO$1,0,IF($L60-AO$1>計算!$B$26,AO$2,($L60-AO$1)/計算!$B$26*AO$2))","v":0},{"$f":"IF($L60<AP$1,0,IF($L60-AP$1>計算!$B$26,AP$2,($L60-AP$1)/計算!$B$26*AP$2))","v":0},{"$f":"IF($L60<AQ$1,0,IF($L60-AQ$1>計算!$B$26,AQ$2,($L60-AQ$1)/計算!$B$26*AQ$2))","v":0},{"$f":"IF($L60<AR$1,0,IF($L60-AR$1>計算!$B$26,AR$2,($L60-AR$1)/計算!$B$26*AR$2))","v":0},{"$f":"IF($L60<AS$1,0,IF($L60-AS$1>計算!$B$26,AS$2,($L60-AS$1)/計算!$B$26*AS$2))","v":0},{"$f":"IF($L60<AT$1,0,IF($L60-AT$1>計算!$B$26,AT$2,($L60-AT$1)/計算!$B$26*AT$2))","v":0},{"$f":"IF($L60<AU$1,0,IF($L60-AU$1>計算!$B$26,AU$2,($L60-AU$1)/計算!$B$26*AU$2))","v":0},{"$f":"IF($L60<AV$1,0,IF($L60-AV$1>計算!$B$26,AV$2,($L60-AV$1)/計算!$B$26*AV$2))","v":0},3.3004483257479333,null,null,2.8000000000000012E-7,58,{"$f":"IF(BB30+計算!$B$26>=準備!$T$33,準備!$T$33,BB30+計算!$B$26)+AZ60","v":9.3480110849137716},null,null,null,56,9.2903692437091241,{"$f":"IF($BG60<BH$1,0,IF($BG60-BH$1>計算!$B$26,BH$2,($BG60-BH$1)/計算!$B$26*BH$2))","v":1.8434248486289773},{"$f":"IF($BG60<BI$1,0,IF($BG60-BI$1>計算!$B$26,BI$2,($BG60-BI$1)/計算!$B$26*BI$2))","v":2.0804359702386828},{"$f":"IF($BG60<BJ$1,0,IF($BG60-BJ$1>計算!$B$26,BJ$2,($BG60-BJ$1)/計算!$B$26*BJ$2))","v":0.43833573789608726},{"$f":"IF($BG60<BK$1,0,IF($BG60-BK$1>計算!$B$26,BK$2,($BG60-BK$1)/計算!$B$26*BK$2))","v":-0.55120106185706153},{"$f":"IF($BG60<BL$1,0,IF($BG60-BL$1>計算!$B$26,BL$2,($BG60-BL$1)/計算!$B$26*BL$2))","v":-0.80365187452039688},{"$f":"IF($BG60<BM$1,0,IF($BG60-BM$1>計算!$B$26,BM$2,($BG60-BM$1)/計算!$B$26*BM$2))","v":0.19584279483276745},{"$f":"IF($BG60<BN$1,0,IF($BG60-BN$1>計算!$B$26,BN$2,($BG60-BN$1)/計算!$B$26*BN$2))","v":0.10422894063720944},{"$f":"IF($BG60<BO$1,0,IF($BG60-BO$1>計算!$B$26,BO$2,($BG60-BO$1)/計算!$B$26*BO$2))","v":-0.4423266906583132},{"$f":"IF($BG60<BP$1,0,IF($BG60-BP$1>計算!$B$26,BP$2,($BG60-BP$1)/計算!$B$26*BP$2))","v":0.16377391940418873},{"$f":"IF($BG60<BQ$1,0,IF($BG60-BQ$1>計算!$B$26,BQ$2,($BG60-BQ$1)/計算!$B$26*BQ$2))","v":0.47754805534168732},{"$f":"IF($BG60<BR$1,0,IF($BG60-BR$1>計算!$B$26,BR$2,($BG60-BR$1)/計算!$B$26*BR$2))","v":-0.21471923432841411},{"$f":"IF($BG60<BS$1,0,IF($BG60-BS$1>計算!$B$26,BS$2,($BG60-BS$1)/計算!$B$26*BS$2))","v":1.8435751369704434E-2},{"$f":"IF($BG60<BT$1,0,IF($BG60-BT$1>計算!$B$26,BT$2,($BG60-BT$1)/計算!$B$26*BT$2))","v":2.4783906779989984E-2},{"$f":"IF($BG60<BU$1,0,IF($BG60-BU$1>計算!$B$26,BU$2,($BG60-BU$1)/計算!$B$26*BU$2))","v":-0.17919042925557704},{"$f":"IF($BG60<BV$1,0,IF($BG60-BV$1>計算!$B$26,BV$2,($BG60-BV$1)/計算!$B$26*BV$2))","v":0.34434916144780114},{"$f":"IF($BG60<BW$1,0,IF($BG60-BW$1>計算!$B$26,BW$2,($BG60-BW$1)/計算!$B$26*BW$2))","v":-2.1118040552239314E-2},{"$f":"IF($BG60<BX$1,0,IF($BG60-BX$1>計算!$B$26,BX$2,($BG60-BX$1)/計算!$B$26*BX$2))","v":-0.34082736850881012},{"$f":"IF($BG60<BY$1,0,IF($BG60-BY$1>計算!$B$26,BY$2,($BG60-BY$1)/計算!$B$26*BY$2))","v":0.19354379609734229},{"$f":"IF($BG60<BZ$1,0,IF($BG60-BZ$1>計算!$B$26,BZ$2,($BG60-BZ$1)/計算!$B$26*BZ$2))","v":-3.3303838596894231E-2},{"$f":"IF($BG60<CA$1,0,IF($BG60-CA$1>計算!$B$26,CA$2,($BG60-CA$1)/計算!$B$26*CA$2))","v":1.7354579159052363E-3},{"$f":"IF($BG60<CB$1,0,IF($BG60-CB$1>計算!$B$26,CB$2,($BG60-CB$1)/計算!$B$26*CB$2))","v":5.8932004059912835E-3},{"$f":"IF($BG60<CC$1,0,IF($BG60-CC$1>計算!$B$26,CC$2,($BG60-CC$1)/計算!$B$26*CC$2))","v":-6.020744255616739E-2},{"$f":"IF($BG60<CD$1,0,IF($BG60-CD$1>計算!$B$26,CD$2,($BG60-CD$1)/計算!$B$26*CD$2))","v":0.20705701786707298},{"$f":"IF($BG60<CE$1,0,IF($BG60-CE$1>計算!$B$26,CE$2,($BG60-CE$1)/計算!$B$26*CE$2))","v":-0.24774266249290511},{"$f":"IF($BG60<CF$1,0,IF($BG60-CF$1>計算!$B$26,CF$2,($BG60-CF$1)/計算!$B$26*CF$2))","v":-4.0543650760017869E-2},{"$f":"IF($BG60<CG$1,0,IF($BG60-CG$1>計算!$B$26,CG$2,($BG60-CG$1)/計算!$B$26*CG$2))","v":0.26589922437033486},{"$f":"IF($BG60<CH$1,0,IF($BG60-CH$1>計算!$B$26,CH$2,($BG60-CH$1)/計算!$B$26*CH$2))","v":-0.15867028165084285},{"$f":"IF($BG60<CI$1,0,IF($BG60-CI$1>計算!$B$26,CI$2,($BG60-CI$1)/計算!$B$26*CI$2))","v":3.6718269290816855E-2},{"$f":"IF($BG60<CJ$1,0,IF($BG60-CJ$1>計算!$B$26,CJ$2,($BG60-CJ$1)/計算!$B$26*CJ$2))","v":-3.6121784082931594E-3},{"$f":"IF($BG60<CK$1,0,IF($BG60-CK$1>計算!$B$26,CK$2,($BG60-CK$1)/計算!$B$26*CK$2))","v":1.2570086676616174E-4},3.3050169992453924,null,null,9.4056524393184215,2.589863051855934E-3,-2.589863051855934E-3]
[null,null,null,null,2.3000000000000007E-9,48,{"$f":"IF(G25+計算!$B$26>=準備!$T$33,準備!$T$33,G25+計算!$B$26)+E61","v":8.3584936998672816},null,null,null,58,9.4056524394184216,{"$f":"IF($L61<M$1,0,IF($L61-M$1>計算!$B$26,M$2,($L61-M$1)/計算!$B$26*M$2))","v":1.9890005284157226},{"$f":"IF($L61<N$1,0,IF($L61-N$1>計算!$B$26,N$2,($L61-N$1)/計算!$B$26*N$2))","v":0.32752179487645394},{"$f":"IF($L61<O$1,0,IF($L61-O$1>計算!$B$26,O$2,($L61-O$1)/計算!$B$26*O$2))","v":0.93101299851738872},{"$f":"IF($L61<P$1,0,IF($L61-P$1>計算!$B$26,P$2,($L61-P$1)/計算!$B$26*P$2))","v":0.27879940541488013},{"$f":"IF($L61<Q$1,0,IF($L61-Q$1>計算!$B$26,Q$2,($L61-Q$1)/計算!$B$26*Q$2))","v":7.7879229924124438E-2},{"$f":"IF($L61<R$1,0,IF($L61-R$1>計算!$B$26,R$2,($L61-R$1)/計算!$B$26*R$2))","v":-1.1192377066933545E-2},{"$f":"IF($L61<S$1,0,IF($L61-S$1>計算!$B$26,S$2,($L61-S$1)/計算!$B$26*S$2))","v":-0.23935531082328287},{"$f":"IF($L61<T$1,0,IF($L61-T$1>計算!$B$26,T$2,($L61-T$1)/計算!$B$26*T$2))","v":-0.11033288008978959},{"$f":"IF($L61<U$1,0,IF($L61-U$1>計算!$B$26,U$2,($L61-U$1)/計算!$B$26*U$2))","v":2.6244909978123232E-2},{"$f":"IF($L61<V$1,0,IF($L61-V$1>計算!$B$26,V$2,($L61-V$1)/計算!$B$26*V$2))","v":1.8518384267717458E-2},{"$f":"IF($L61<W$1,0,IF($L61-W$1>計算!$B$26,W$2,($L61-W$1)/計算!$B$26*W$2))","v":-5.7963055209600434E-2},{"$f":"IF($L61<X$1,0,IF($L61-X$1>計算!$B$26,X$2,($L61-X$1)/計算!$B$26*X$2))","v":-5.5458494250048673E-2},{"$f":"IF($L61<Y$1,0,IF($L61-Y$1>計算!$B$26,Y$2,($L61-Y$1)/計算!$B$26*Y$2))","v":0.10338399991016445},{"$f":"IF($L61<Z$1,0,IF($L61-Z$1>計算!$B$26,Z$2,($L61-Z$1)/計算!$B$26*Z$2))","v":5.0289293255394885E-2},{"$f":"IF($L61<AA$1,0,IF($L61-AA$1>計算!$B$26,AA$2,($L61-AA$1)/計算!$B$26*AA$2))","v":-2.9022629979411629E-2},{"$f":"IF($L61<AB$1,0,IF($L61-AB$1>計算!$B$26,AB$2,($L61-AB$1)/計算!$B$26*AB$2))","v":2.470576645365874E-3},{"$f":"IF($L61<AC$1,0,IF($L61-AC$1>計算!$B$26,AC$2,($L61-AC$1)/計算!$B$26*AC$2))","v":4.4033634670110899E-3},{"$f":"IF($L61<AD$1,0,IF($L61-AD$1>計算!$B$26,AD$2,($L61-AD$1)/計算!$B$26*AD$2))","v":-2.6932471689339543E-2},{"$f":"IF($L61<AE$1,0,IF($L61-AE$1>計算!$B$26,AE$2,($L61-AE$1)/計算!$B$26*AE$2))","v":2.6428643544579966E-2},{"$f":"IF($L61<AF$1,0,IF($L61-AF$1>計算!$B$26,AF$2,($L61-AF$1)/計算!$B$26*AF$2))","v":5.8979804915944012E-2},{"$f":"IF($L61<AG$1,0,IF($L61-AG$1>計算!$B$26,AG$2,($L61-AG$1)/計算!$B$26*AG$2))","v":-5.6573485727166251E-2},{"$f":"IF($L61<AH$1,0,IF($L61-AH$1>計算!$B$26,AH$2,($L61-AH$1)/計算!$B$26*AH$2))","v":-2.8222742299932158E-2},{"$f":"IF($L61<AI$1,0,IF($L61-AI$1>計算!$B$26,AI$2,($L61-AI$1)/計算!$B$26*AI$2))","v":2.4822674948292711E-2},{"$f":"IF($L61<AJ$1,0,IF($L61-AJ$1>計算!$B$26,AJ$2,($L61-AJ$1)/計算!$B$26*AJ$2))","v":-4.4864040640582026E-3},{"$f":"IF($L61<AK$1,0,IF($L61-AK$1>計算!$B$26,AK$2,($L61-AK$1)/計算!$B$26*AK$2))","v":2.3256886633271634E-4},{"$f":"IF($L61<AL$1,0,IF($L61-AL$1>計算!$B$26,AL$2,($L61-AL$1)/計算!$B$26*AL$2))","v":0},{"$f":"IF($L61<AM$1,0,IF($L61-AM$1>計算!$B$26,AM$2,($L61-AM$1)/計算!$B$26*AM$2))","v":0},{"$f":"IF($L61<AN$1,0,IF($L61-AN$1>計算!$B$26,AN$2,($L61-AN$1)/計算!$B$26*AN$2))","v":0},{"$f":"IF($L61<AO$1,0,IF($L61-AO$1>計算!$B$26,AO$2,($L61-AO$1)/計算!$B$26*AO$2))","v":0},{"$f":"IF($L61<AP$1,0,IF($L61-AP$1>計算!$B$26,AP$2,($L61-AP$1)/計算!$B$26*AP$2))","v":0},{"$f":"IF($L61<AQ$1,0,IF($L61-AQ$1>計算!$B$26,AQ$2,($L61-AQ$1)/計算!$B$26*AQ$2))","v":0},{"$f":"IF($L61<AR$1,0,IF($L61-AR$1>計算!$B$26,AR$2,($L61-AR$1)/計算!$B$26*AR$2))","v":0},{"$f":"IF($L61<AS$1,0,IF($L61-AS$1>計算!$B$26,AS$2,($L61-AS$1)/計算!$B$26*AS$2))","v":0},{"$f":"IF($L61<AT$1,0,IF($L61-AT$1>計算!$B$26,AT$2,($L61-AT$1)/計算!$B$26*AT$2))","v":0},{"$f":"IF($L61<AU$1,0,IF($L61-AU$1>計算!$B$26,AU$2,($L61-AU$1)/計算!$B$26*AU$2))","v":0},{"$f":"IF($L61<AV$1,0,IF($L61-AV$1>計算!$B$26,AV$2,($L61-AV$1)/計算!$B$26*AV$2))","v":0},3.3004483257479333,null,null,2.9000000000000014E-7,59,{"$f":"IF(BB31+計算!$B$26>=準備!$T$33,準備!$T$33,BB31+計算!$B$26)+AZ61","v":9.3768320055160963},null,null,null,57,9.319190164311447,{"$f":"IF($BG61<BH$1,0,IF($BG61-BH$1>計算!$B$26,BH$2,($BG61-BH$1)/計算!$B$26*BH$2))","v":1.8434248486289773},{"$f":"IF($BG61<BI$1,0,IF($BG61-BI$1>計算!$B$26,BI$2,($BG61-BI$1)/計算!$B$26*BI$2))","v":2.0804359702386828},{"$f":"IF($BG61<BJ$1,0,IF($BG61-BJ$1>計算!$B$26,BJ$2,($BG61-BJ$1)/計算!$B$26*BJ$2))","v":0.43833573789608726},{"$f":"IF($BG61<BK$1,0,IF($BG61-BK$1>計算!$B$26,BK$2,($BG61-BK$1)/計算!$B$26*BK$2))","v":-0.55120106185706153},{"$f":"IF($BG61<BL$1,0,IF($BG61-BL$1>計算!$B$26,BL$2,($BG61-BL$1)/計算!$B$26*BL$2))","v":-0.80365187452039688},{"$f":"IF($BG61<BM$1,0,IF($BG61-BM$1>計算!$B$26,BM$2,($BG61-BM$1)/計算!$B$26*BM$2))","v":0.19584279483276745},{"$f":"IF($BG61<BN$1,0,IF($BG61-BN$1>計算!$B$26,BN$2,($BG61-BN$1)/計算!$B$26*BN$2))","v":0.10422894063720944},{"$f":"IF($BG61<BO$1,0,IF($BG61-BO$1>計算!$B$26,BO$2,($BG61-BO$1)/計算!$B$26*BO$2))","v":-0.4423266906583132},{"$f":"IF($BG61<BP$1,0,IF($BG61-BP$1>計算!$B$26,BP$2,($BG61-BP$1)/計算!$B$26*BP$2))","v":0.16377391940418873},{"$f":"IF($BG61<BQ$1,0,IF($BG61-BQ$1>計算!$B$26,BQ$2,($BG61-BQ$1)/計算!$B$26*BQ$2))","v":0.47754805534168732},{"$f":"IF($BG61<BR$1,0,IF($BG61-BR$1>計算!$B$26,BR$2,($BG61-BR$1)/計算!$B$26*BR$2))","v":-0.21471923432841411},{"$f":"IF($BG61<BS$1,0,IF($BG61-BS$1>計算!$B$26,BS$2,($BG61-BS$1)/計算!$B$26*BS$2))","v":1.8435751369704434E-2},{"$f":"IF($BG61<BT$1,0,IF($BG61-BT$1>計算!$B$26,BT$2,($BG61-BT$1)/計算!$B$26*BT$2))","v":2.4783906779989984E-2},{"$f":"IF($BG61<BU$1,0,IF($BG61-BU$1>計算!$B$26,BU$2,($BG61-BU$1)/計算!$B$26*BU$2))","v":-0.17919042925557704},{"$f":"IF($BG61<BV$1,0,IF($BG61-BV$1>計算!$B$26,BV$2,($BG61-BV$1)/計算!$B$26*BV$2))","v":0.34434916144780114},{"$f":"IF($BG61<BW$1,0,IF($BG61-BW$1>計算!$B$26,BW$2,($BG61-BW$1)/計算!$B$26*BW$2))","v":-2.1118040552239314E-2},{"$f":"IF($BG61<BX$1,0,IF($BG61-BX$1>計算!$B$26,BX$2,($BG61-BX$1)/計算!$B$26*BX$2))","v":-0.34082736850881012},{"$f":"IF($BG61<BY$1,0,IF($BG61-BY$1>計算!$B$26,BY$2,($BG61-BY$1)/計算!$B$26*BY$2))","v":0.19354379609734229},{"$f":"IF($BG61<BZ$1,0,IF($BG61-BZ$1>計算!$B$26,BZ$2,($BG61-BZ$1)/計算!$B$26*BZ$2))","v":-3.3303838596894231E-2},{"$f":"IF($BG61<CA$1,0,IF($BG61-CA$1>計算!$B$26,CA$2,($BG61-CA$1)/計算!$B$26*CA$2))","v":1.7354579159052363E-3},{"$f":"IF($BG61<CB$1,0,IF($BG61-CB$1>計算!$B$26,CB$2,($BG61-CB$1)/計算!$B$26*CB$2))","v":5.8932004059912835E-3},{"$f":"IF($BG61<CC$1,0,IF($BG61-CC$1>計算!$B$26,CC$2,($BG61-CC$1)/計算!$B$26*CC$2))","v":-6.020744255616739E-2},{"$f":"IF($BG61<CD$1,0,IF($BG61-CD$1>計算!$B$26,CD$2,($BG61-CD$1)/計算!$B$26*CD$2))","v":0.20705701786707298},{"$f":"IF($BG61<CE$1,0,IF($BG61-CE$1>計算!$B$26,CE$2,($BG61-CE$1)/計算!$B$26*CE$2))","v":-0.24774266249290511},{"$f":"IF($BG61<CF$1,0,IF($BG61-CF$1>計算!$B$26,CF$2,($BG61-CF$1)/計算!$B$26*CF$2))","v":-4.0543650760017869E-2},{"$f":"IF($BG61<CG$1,0,IF($BG61-CG$1>計算!$B$26,CG$2,($BG61-CG$1)/計算!$B$26*CG$2))","v":0.26589922437033486},{"$f":"IF($BG61<CH$1,0,IF($BG61-CH$1>計算!$B$26,CH$2,($BG61-CH$1)/計算!$B$26*CH$2))","v":-0.16837567462758729},{"$f":"IF($BG61<CI$1,0,IF($BG61-CI$1>計算!$B$26,CI$2,($BG61-CI$1)/計算!$B$26*CI$2))","v":3.9110569812464462E-2},{"$f":"IF($BG61<CJ$1,0,IF($BG61-CJ$1>計算!$B$26,CJ$2,($BG61-CJ$1)/計算!$B$26*CJ$2))","v":-3.863924138751384E-3},{"$f":"IF($BG61<CK$1,0,IF($BG61-CK$1>計算!$B$26,CK$2,($BG61-CK$1)/計算!$B$26*CK$2))","v":1.3511770642179885E-4},3.2974615778994929,null,null,9.4056524394184216,2.589863051855934E-3,-2.589863051855934E-3]
[null,null,null,null,2.4000000000000008E-9,49,{"$f":"IF(G26+計算!$B$26>=準備!$T$33,準備!$T$33,G26+計算!$B$26)+E62","v":8.3873146005696064},null,null,null,59,9.4056524395184216,{"$f":"IF($L62<M$1,0,IF($L62-M$1>計算!$B$26,M$2,($L62-M$1)/計算!$B$26*M$2))","v":1.9890005284157226},{"$f":"IF($L62<N$1,0,IF($L62-N$1>計算!$B$26,N$2,($L62-N$1)/計算!$B$26*N$2))","v":0.32752179487645394},{"$f":"IF($L62<O$1,0,IF($L62-O$1>計算!$B$26,O$2,($L62-O$1)/計算!$B$26*O$2))","v":0.93101299851738872},{"$f":"IF($L62<P$1,0,IF($L62-P$1>計算!$B$26,P$2,($L62-P$1)/計算!$B$26*P$2))","v":0.27879940541488013},{"$f":"IF($L62<Q$1,0,IF($L62-Q$1>計算!$B$26,Q$2,($L62-Q$1)/計算!$B$26*Q$2))","v":7.7879229924124438E-2},{"$f":"IF($L62<R$1,0,IF($L62-R$1>計算!$B$26,R$2,($L62-R$1)/計算!$B$26*R$2))","v":-1.1192377066933545E-2},{"$f":"IF($L62<S$1,0,IF($L62-S$1>計算!$B$26,S$2,($L62-S$1)/計算!$B$26*S$2))","v":-0.23935531082328287},{"$f":"IF($L62<T$1,0,IF($L62-T$1>計算!$B$26,T$2,($L62-T$1)/計算!$B$26*T$2))","v":-0.11033288008978959},{"$f":"IF($L62<U$1,0,IF($L62-U$1>計算!$B$26,U$2,($L62-U$1)/計算!$B$26*U$2))","v":2.6244909978123232E-2},{"$f":"IF($L62<V$1,0,IF($L62-V$1>計算!$B$26,V$2,($L62-V$1)/計算!$B$26*V$2))","v":1.8518384267717458E-2},{"$f":"IF($L62<W$1,0,IF($L62-W$1>計算!$B$26,W$2,($L62-W$1)/計算!$B$26*W$2))","v":-5.7963055209600434E-2},{"$f":"IF($L62<X$1,0,IF($L62-X$1>計算!$B$26,X$2,($L62-X$1)/計算!$B$26*X$2))","v":-5.5458494250048673E-2},{"$f":"IF($L62<Y$1,0,IF($L62-Y$1>計算!$B$26,Y$2,($L62-Y$1)/計算!$B$26*Y$2))","v":0.10338399991016445},{"$f":"IF($L62<Z$1,0,IF($L62-Z$1>計算!$B$26,Z$2,($L62-Z$1)/計算!$B$26*Z$2))","v":5.0289293255394885E-2},{"$f":"IF($L62<AA$1,0,IF($L62-AA$1>計算!$B$26,AA$2,($L62-AA$1)/計算!$B$26*AA$2))","v":-2.9022629979411629E-2},{"$f":"IF($L62<AB$1,0,IF($L62-AB$1>計算!$B$26,AB$2,($L62-AB$1)/計算!$B$26*AB$2))","v":2.470576645365874E-3},{"$f":"IF($L62<AC$1,0,IF($L62-AC$1>計算!$B$26,AC$2,($L62-AC$1)/計算!$B$26*AC$2))","v":4.4033634670110899E-3},{"$f":"IF($L62<AD$1,0,IF($L62-AD$1>計算!$B$26,AD$2,($L62-AD$1)/計算!$B$26*AD$2))","v":-2.6932471689339543E-2},{"$f":"IF($L62<AE$1,0,IF($L62-AE$1>計算!$B$26,AE$2,($L62-AE$1)/計算!$B$26*AE$2))","v":2.6428643544579966E-2},{"$f":"IF($L62<AF$1,0,IF($L62-AF$1>計算!$B$26,AF$2,($L62-AF$1)/計算!$B$26*AF$2))","v":5.8979804915944012E-2},{"$f":"IF($L62<AG$1,0,IF($L62-AG$1>計算!$B$26,AG$2,($L62-AG$1)/計算!$B$26*AG$2))","v":-5.6573485727166251E-2},{"$f":"IF($L62<AH$1,0,IF($L62-AH$1>計算!$B$26,AH$2,($L62-AH$1)/計算!$B$26*AH$2))","v":-2.8222742299932158E-2},{"$f":"IF($L62<AI$1,0,IF($L62-AI$1>計算!$B$26,AI$2,($L62-AI$1)/計算!$B$26*AI$2))","v":2.4822674948292711E-2},{"$f":"IF($L62<AJ$1,0,IF($L62-AJ$1>計算!$B$26,AJ$2,($L62-AJ$1)/計算!$B$26*AJ$2))","v":-4.4864040640582026E-3},{"$f":"IF($L62<AK$1,0,IF($L62-AK$1>計算!$B$26,AK$2,($L62-AK$1)/計算!$B$26*AK$2))","v":2.3256886633271634E-4},{"$f":"IF($L62<AL$1,0,IF($L62-AL$1>計算!$B$26,AL$2,($L62-AL$1)/計算!$B$26*AL$2))","v":0},{"$f":"IF($L62<AM$1,0,IF($L62-AM$1>計算!$B$26,AM$2,($L62-AM$1)/計算!$B$26*AM$2))","v":0},{"$f":"IF($L62<AN$1,0,IF($L62-AN$1>計算!$B$26,AN$2,($L62-AN$1)/計算!$B$26*AN$2))","v":0},{"$f":"IF($L62<AO$1,0,IF($L62-AO$1>計算!$B$26,AO$2,($L62-AO$1)/計算!$B$26*AO$2))","v":0},{"$f":"IF($L62<AP$1,0,IF($L62-AP$1>計算!$B$26,AP$2,($L62-AP$1)/計算!$B$26*AP$2))","v":0},{"$f":"IF($L62<AQ$1,0,IF($L62-AQ$1>計算!$B$26,AQ$2,($L62-AQ$1)/計算!$B$26*AQ$2))","v":0},{"$f":"IF($L62<AR$1,0,IF($L62-AR$1>計算!$B$26,AR$2,($L62-AR$1)/計算!$B$26*AR$2))","v":0},{"$f":"IF($L62<AS$1,0,IF($L62-AS$1>計算!$B$26,AS$2,($L62-AS$1)/計算!$B$26*AS$2))","v":0},{"$f":"IF($L62<AT$1,0,IF($L62-AT$1>計算!$B$26,AT$2,($L62-AT$1)/計算!$B$26*AT$2))","v":0},{"$f":"IF($L62<AU$1,0,IF($L62-AU$1>計算!$B$26,AU$2,($L62-AU$1)/計算!$B$26*AU$2))","v":0},{"$f":"IF($L62<AV$1,0,IF($L62-AV$1>計算!$B$26,AV$2,($L62-AV$1)/計算!$B$26*AV$2))","v":0},3.3004483257479333,null,null,3.0000000000000015E-7,60,{"$f":"IF(BB32+計算!$B$26>=準備!$T$33,準備!$T$33,BB32+計算!$B$26)+AZ62","v":9.4056527361184212},null,null,null,58,9.3480110849137716,{"$f":"IF($BG62<BH$1,0,IF($BG62-BH$1>計算!$B$26,BH$2,($BG62-BH$1)/計算!$B$26*BH$2))","v":1.8434248486289773},{"$f":"IF($BG62<BI$1,0,IF($BG62-BI$1>計算!$B$26,BI$2,($BG62-BI$1)/計算!$B$26*BI$2))","v":2.0804359702386828},{"$f":"IF($BG62<BJ$1,0,IF($BG62-BJ$1>計算!$B$26,BJ$2,($BG62-BJ$1)/計算!$B$26*BJ$2))","v":0.43833573789608726},{"$f":"IF($BG62<BK$1,0,IF($BG62-BK$1>計算!$B$26,BK$2,($BG62-BK$1)/計算!$B$26*BK$2))","v":-0.55120106185706153},{"$f":"IF($BG62<BL$1,0,IF($BG62-BL$1>計算!$B$26,BL$2,($BG62-BL$1)/計算!$B$26*BL$2))","v":-0.80365187452039688},{"$f":"IF($BG62<BM$1,0,IF($BG62-BM$1>計算!$B$26,BM$2,($BG62-BM$1)/計算!$B$26*BM$2))","v":0.19584279483276745},{"$f":"IF($BG62<BN$1,0,IF($BG62-BN$1>計算!$B$26,BN$2,($BG62-BN$1)/計算!$B$26*BN$2))","v":0.10422894063720944},{"$f":"IF($BG62<BO$1,0,IF($BG62-BO$1>計算!$B$26,BO$2,($BG62-BO$1)/計算!$B$26*BO$2))","v":-0.4423266906583132},{"$f":"IF($BG62<BP$1,0,IF($BG62-BP$1>計算!$B$26,BP$2,($BG62-BP$1)/計算!$B$26*BP$2))","v":0.16377391940418873},{"$f":"IF($BG62<BQ$1,0,IF($BG62-BQ$1>計算!$B$26,BQ$2,($BG62-BQ$1)/計算!$B$26*BQ$2))","v":0.47754805534168732},{"$f":"IF($BG62<BR$1,0,IF($BG62-BR$1>計算!$B$26,BR$2,($BG62-BR$1)/計算!$B$26*BR$2))","v":-0.21471923432841411},{"$f":"IF($BG62<BS$1,0,IF($BG62-BS$1>計算!$B$26,BS$2,($BG62-BS$1)/計算!$B$26*BS$2))","v":1.8435751369704434E-2},{"$f":"IF($BG62<BT$1,0,IF($BG62-BT$1>計算!$B$26,BT$2,($BG62-BT$1)/計算!$B$26*BT$2))","v":2.4783906779989984E-2},{"$f":"IF($BG62<BU$1,0,IF($BG62-BU$1>計算!$B$26,BU$2,($BG62-BU$1)/計算!$B$26*BU$2))","v":-0.17919042925557704},{"$f":"IF($BG62<BV$1,0,IF($BG62-BV$1>計算!$B$26,BV$2,($BG62-BV$1)/計算!$B$26*BV$2))","v":0.34434916144780114},{"$f":"IF($BG62<BW$1,0,IF($BG62-BW$1>計算!$B$26,BW$2,($BG62-BW$1)/計算!$B$26*BW$2))","v":-2.1118040552239314E-2},{"$f":"IF($BG62<BX$1,0,IF($BG62-BX$1>計算!$B$26,BX$2,($BG62-BX$1)/計算!$B$26*BX$2))","v":-0.34082736850881012},{"$f":"IF($BG62<BY$1,0,IF($BG62-BY$1>計算!$B$26,BY$2,($BG62-BY$1)/計算!$B$26*BY$2))","v":0.19354379609734229},{"$f":"IF($BG62<BZ$1,0,IF($BG62-BZ$1>計算!$B$26,BZ$2,($BG62-BZ$1)/計算!$B$26*BZ$2))","v":-3.3303838596894231E-2},{"$f":"IF($BG62<CA$1,0,IF($BG62-CA$1>計算!$B$26,CA$2,($BG62-CA$1)/計算!$B$26*CA$2))","v":1.7354579159052363E-3},{"$f":"IF($BG62<CB$1,0,IF($BG62-CB$1>計算!$B$26,CB$2,($BG62-CB$1)/計算!$B$26*CB$2))","v":5.8932004059912835E-3},{"$f":"IF($BG62<CC$1,0,IF($BG62-CC$1>計算!$B$26,CC$2,($BG62-CC$1)/計算!$B$26*CC$2))","v":-6.020744255616739E-2},{"$f":"IF($BG62<CD$1,0,IF($BG62-CD$1>計算!$B$26,CD$2,($BG62-CD$1)/計算!$B$26*CD$2))","v":0.20705701786707298},{"$f":"IF($BG62<CE$1,0,IF($BG62-CE$1>計算!$B$26,CE$2,($BG62-CE$1)/計算!$B$26*CE$2))","v":-0.24774266249290511},{"$f":"IF($BG62<CF$1,0,IF($BG62-CF$1>計算!$B$26,CF$2,($BG62-CF$1)/計算!$B$26*CF$2))","v":-4.0543650760017869E-2},{"$f":"IF($BG62<CG$1,0,IF($BG62-CG$1>計算!$B$26,CG$2,($BG62-CG$1)/計算!$B$26*CG$2))","v":0.26589922437033486},{"$f":"IF($BG62<CH$1,0,IF($BG62-CH$1>計算!$B$26,CH$2,($BG62-CH$1)/計算!$B$26*CH$2))","v":-0.16837567462758729},{"$f":"IF($BG62<CI$1,0,IF($BG62-CI$1>計算!$B$26,CI$2,($BG62-CI$1)/計算!$B$26*CI$2))","v":4.1502847092517836E-2},{"$f":"IF($BG62<CJ$1,0,IF($BG62-CJ$1>計算!$B$26,CJ$2,($BG62-CJ$1)/計算!$B$26*CJ$2))","v":-4.1156698692096242E-3},{"$f":"IF($BG62<CK$1,0,IF($BG62-CK$1>計算!$B$26,CK$2,($BG62-CK$1)/計算!$B$26*CK$2))","v":1.4453454607743656E-4},3.2996115262887438,null,null,9.4056524395184216,2.589863051855934E-3,-2.589863051855934E-3]
[null,null,null,null,2.5000000000000009E-9,50,{"$f":"IF(G27+計算!$B$26>=準備!$T$33,準備!$T$33,G27+計算!$B$26)+E63","v":8.4161355012719294},null,null,null,60,9.4056524396184216,{"$f":"IF($L63<M$1,0,IF($L63-M$1>計算!$B$26,M$2,($L63-M$1)/計算!$B$26*M$2))","v":1.9890005284157226},{"$f":"IF($L63<N$1,0,IF($L63-N$1>計算!$B$26,N$2,($L63-N$1)/計算!$B$26*N$2))","v":0.32752179487645394},{"$f":"IF($L63<O$1,0,IF($L63-O$1>計算!$B$26,O$2,($L63-O$1)/計算!$B$26*O$2))","v":0.93101299851738872},{"$f":"IF($L63<P$1,0,IF($L63-P$1>計算!$B$26,P$2,($L63-P$1)/計算!$B$26*P$2))","v":0.27879940541488013},{"$f":"IF($L63<Q$1,0,IF($L63-Q$1>計算!$B$26,Q$2,($L63-Q$1)/計算!$B$26*Q$2))","v":7.7879229924124438E-2},{"$f":"IF($L63<R$1,0,IF($L63-R$1>計算!$B$26,R$2,($L63-R$1)/計算!$B$26*R$2))","v":-1.1192377066933545E-2},{"$f":"IF($L63<S$1,0,IF($L63-S$1>計算!$B$26,S$2,($L63-S$1)/計算!$B$26*S$2))","v":-0.23935531082328287},{"$f":"IF($L63<T$1,0,IF($L63-T$1>計算!$B$26,T$2,($L63-T$1)/計算!$B$26*T$2))","v":-0.11033288008978959},{"$f":"IF($L63<U$1,0,IF($L63-U$1>計算!$B$26,U$2,($L63-U$1)/計算!$B$26*U$2))","v":2.6244909978123232E-2},{"$f":"IF($L63<V$1,0,IF($L63-V$1>計算!$B$26,V$2,($L63-V$1)/計算!$B$26*V$2))","v":1.8518384267717458E-2},{"$f":"IF($L63<W$1,0,IF($L63-W$1>計算!$B$26,W$2,($L63-W$1)/計算!$B$26*W$2))","v":-5.7963055209600434E-2},{"$f":"IF($L63<X$1,0,IF($L63-X$1>計算!$B$26,X$2,($L63-X$1)/計算!$B$26*X$2))","v":-5.5458494250048673E-2},{"$f":"IF($L63<Y$1,0,IF($L63-Y$1>計算!$B$26,Y$2,($L63-Y$1)/計算!$B$26*Y$2))","v":0.10338399991016445},{"$f":"IF($L63<Z$1,0,IF($L63-Z$1>計算!$B$26,Z$2,($L63-Z$1)/計算!$B$26*Z$2))","v":5.0289293255394885E-2},{"$f":"IF($L63<AA$1,0,IF($L63-AA$1>計算!$B$26,AA$2,($L63-AA$1)/計算!$B$26*AA$2))","v":-2.9022629979411629E-2},{"$f":"IF($L63<AB$1,0,IF($L63-AB$1>計算!$B$26,AB$2,($L63-AB$1)/計算!$B$26*AB$2))","v":2.470576645365874E-3},{"$f":"IF($L63<AC$1,0,IF($L63-AC$1>計算!$B$26,AC$2,($L63-AC$1)/計算!$B$26*AC$2))","v":4.4033634670110899E-3},{"$f":"IF($L63<AD$1,0,IF($L63-AD$1>計算!$B$26,AD$2,($L63-AD$1)/計算!$B$26*AD$2))","v":-2.6932471689339543E-2},{"$f":"IF($L63<AE$1,0,IF($L63-AE$1>計算!$B$26,AE$2,($L63-AE$1)/計算!$B$26*AE$2))","v":2.6428643544579966E-2},{"$f":"IF($L63<AF$1,0,IF($L63-AF$1>計算!$B$26,AF$2,($L63-AF$1)/計算!$B$26*AF$2))","v":5.8979804915944012E-2},{"$f":"IF($L63<AG$1,0,IF($L63-AG$1>計算!$B$26,AG$2,($L63-AG$1)/計算!$B$26*AG$2))","v":-5.6573485727166251E-2},{"$f":"IF($L63<AH$1,0,IF($L63-AH$1>計算!$B$26,AH$2,($L63-AH$1)/計算!$B$26*AH$2))","v":-2.8222742299932158E-2},{"$f":"IF($L63<AI$1,0,IF($L63-AI$1>計算!$B$26,AI$2,($L63-AI$1)/計算!$B$26*AI$2))","v":2.4822674948292711E-2},{"$f":"IF($L63<AJ$1,0,IF($L63-AJ$1>計算!$B$26,AJ$2,($L63-AJ$1)/計算!$B$26*AJ$2))","v":-4.4864040640582026E-3},{"$f":"IF($L63<AK$1,0,IF($L63-AK$1>計算!$B$26,AK$2,($L63-AK$1)/計算!$B$26*AK$2))","v":2.3256886633271634E-4},{"$f":"IF($L63<AL$1,0,IF($L63-AL$1>計算!$B$26,AL$2,($L63-AL$1)/計算!$B$26*AL$2))","v":0},{"$f":"IF($L63<AM$1,0,IF($L63-AM$1>計算!$B$26,AM$2,($L63-AM$1)/計算!$B$26*AM$2))","v":0},{"$f":"IF($L63<AN$1,0,IF($L63-AN$1>計算!$B$26,AN$2,($L63-AN$1)/計算!$B$26*AN$2))","v":0},{"$f":"IF($L63<AO$1,0,IF($L63-AO$1>計算!$B$26,AO$2,($L63-AO$1)/計算!$B$26*AO$2))","v":0},{"$f":"IF($L63<AP$1,0,IF($L63-AP$1>計算!$B$26,AP$2,($L63-AP$1)/計算!$B$26*AP$2))","v":0},{"$f":"IF($L63<AQ$1,0,IF($L63-AQ$1>計算!$B$26,AQ$2,($L63-AQ$1)/計算!$B$26*AQ$2))","v":0},{"$f":"IF($L63<AR$1,0,IF($L63-AR$1>計算!$B$26,AR$2,($L63-AR$1)/計算!$B$26*AR$2))","v":0},{"$f":"IF($L63<AS$1,0,IF($L63-AS$1>計算!$B$26,AS$2,($L63-AS$1)/計算!$B$26*AS$2))","v":0},{"$f":"IF($L63<AT$1,0,IF($L63-AT$1>計算!$B$26,AT$2,($L63-AT$1)/計算!$B$26*AT$2))","v":0},{"$f":"IF($L63<AU$1,0,IF($L63-AU$1>計算!$B$26,AU$2,($L63-AU$1)/計算!$B$26*AU$2))","v":0},{"$f":"IF($L63<AV$1,0,IF($L63-AV$1>計算!$B$26,AV$2,($L63-AV$1)/計算!$B$26*AV$2))","v":0},3.3004483257479333,null,null,null,null,null,null,null,null,59,9.3768320055160963,{"$f":"IF($BG63<BH$1,0,IF($BG63-BH$1>計算!$B$26,BH$2,($BG63-BH$1)/計算!$B$26*BH$2))","v":1.8434248486289773},{"$f":"IF($BG63<BI$1,0,IF($BG63-BI$1>計算!$B$26,BI$2,($BG63-BI$1)/計算!$B$26*BI$2))","v":2.0804359702386828},{"$f":"IF($BG63<BJ$1,0,IF($BG63-BJ$1>計算!$B$26,BJ$2,($BG63-BJ$1)/計算!$B$26*BJ$2))","v":0.43833573789608726},{"$f":"IF($BG63<BK$1,0,IF($BG63-BK$1>計算!$B$26,BK$2,($BG63-BK$1)/計算!$B$26*BK$2))","v":-0.55120106185706153},{"$f":"IF($BG63<BL$1,0,IF($BG63-BL$1>計算!$B$26,BL$2,($BG63-BL$1)/計算!$B$26*BL$2))","v":-0.80365187452039688},{"$f":"IF($BG63<BM$1,0,IF($BG63-BM$1>計算!$B$26,BM$2,($BG63-BM$1)/計算!$B$26*BM$2))","v":0.19584279483276745},{"$f":"IF($BG63<BN$1,0,IF($BG63-BN$1>計算!$B$26,BN$2,($BG63-BN$1)/計算!$B$26*BN$2))","v":0.10422894063720944},{"$f":"IF($BG63<BO$1,0,IF($BG63-BO$1>計算!$B$26,BO$2,($BG63-BO$1)/計算!$B$26*BO$2))","v":-0.4423266906583132},{"$f":"IF($BG63<BP$1,0,IF($BG63-BP$1>計算!$B$26,BP$2,($BG63-BP$1)/計算!$B$26*BP$2))","v":0.16377391940418873},{"$f":"IF($BG63<BQ$1,0,IF($BG63-BQ$1>計算!$B$26,BQ$2,($BG63-BQ$1)/計算!$B$26*BQ$2))","v":0.47754805534168732},{"$f":"IF($BG63<BR$1,0,IF($BG63-BR$1>計算!$B$26,BR$2,($BG63-BR$1)/計算!$B$26*BR$2))","v":-0.21471923432841411},{"$f":"IF($BG63<BS$1,0,IF($BG63-BS$1>計算!$B$26,BS$2,($BG63-BS$1)/計算!$B$26*BS$2))","v":1.8435751369704434E-2},{"$f":"IF($BG63<BT$1,0,IF($BG63-BT$1>計算!$B$26,BT$2,($BG63-BT$1)/計算!$B$26*BT$2))","v":2.4783906779989984E-2},{"$f":"IF($BG63<BU$1,0,IF($BG63-BU$1>計算!$B$26,BU$2,($BG63-BU$1)/計算!$B$26*BU$2))","v":-0.17919042925557704},{"$f":"IF($BG63<BV$1,0,IF($BG63-BV$1>計算!$B$26,BV$2,($BG63-BV$1)/計算!$B$26*BV$2))","v":0.34434916144780114},{"$f":"IF($BG63<BW$1,0,IF($BG63-BW$1>計算!$B$26,BW$2,($BG63-BW$1)/計算!$B$26*BW$2))","v":-2.1118040552239314E-2},{"$f":"IF($BG63<BX$1,0,IF($BG63-BX$1>計算!$B$26,BX$2,($BG63-BX$1)/計算!$B$26*BX$2))","v":-0.34082736850881012},{"$f":"IF($BG63<BY$1,0,IF($BG63-BY$1>計算!$B$26,BY$2,($BG63-BY$1)/計算!$B$26*BY$2))","v":0.19354379609734229},{"$f":"IF($BG63<BZ$1,0,IF($BG63-BZ$1>計算!$B$26,BZ$2,($BG63-BZ$1)/計算!$B$26*BZ$2))","v":-3.3303838596894231E-2},{"$f":"IF($BG63<CA$1,0,IF($BG63-CA$1>計算!$B$26,CA$2,($BG63-CA$1)/計算!$B$26*CA$2))","v":1.7354579159052363E-3},{"$f":"IF($BG63<CB$1,0,IF($BG63-CB$1>計算!$B$26,CB$2,($BG63-CB$1)/計算!$B$26*CB$2))","v":5.8932004059912835E-3},{"$f":"IF($BG63<CC$1,0,IF($BG63-CC$1>計算!$B$26,CC$2,($BG63-CC$1)/計算!$B$26*CC$2))","v":-6.020744255616739E-2},{"$f":"IF($BG63<CD$1,0,IF($BG63-CD$1>計算!$B$26,CD$2,($BG63-CD$1)/計算!$B$26*CD$2))","v":0.20705701786707298},{"$f":"IF($BG63<CE$1,0,IF($BG63-CE$1>計算!$B$26,CE$2,($BG63-CE$1)/計算!$B$26*CE$2))","v":-0.24774266249290511},{"$f":"IF($BG63<CF$1,0,IF($BG63-CF$1>計算!$B$26,CF$2,($BG63-CF$1)/計算!$B$26*CF$2))","v":-4.0543650760017869E-2},{"$f":"IF($BG63<CG$1,0,IF($BG63-CG$1>計算!$B$26,CG$2,($BG63-CG$1)/計算!$B$26*CG$2))","v":0.26589922437033486},{"$f":"IF($BG63<CH$1,0,IF($BG63-CH$1>計算!$B$26,CH$2,($BG63-CH$1)/計算!$B$26*CH$2))","v":-0.16837567462758729},{"$f":"IF($BG63<CI$1,0,IF($BG63-CI$1>計算!$B$26,CI$2,($BG63-CI$1)/計算!$B$26*CI$2))","v":4.1502847092517836E-2},{"$f":"IF($BG63<CJ$1,0,IF($BG63-CJ$1>計算!$B$26,CJ$2,($BG63-CJ$1)/計算!$B$26*CJ$2))","v":-4.3674130665682931E-3},{"$f":"IF($BG63<CK$1,0,IF($BG63-CK$1>計算!$B$26,CK$2,($BG63-CK$1)/計算!$B$26*CK$2))","v":1.5395138573307427E-4},3.2993691999310406,null,null,9.4056524396184216,2.589863051855934E-3,-2.589863051855934E-3]
[null,null,null,null,2.6000000000000009E-9,51,{"$f":"IF(G28+計算!$B$26>=準備!$T$33,準備!$T$33,G28+計算!$B$26)+E64","v":9.4056524387184215},null,null,null,61,9.4056524397184216,{"$f":"IF($L64<M$1,0,IF($L64-M$1>計算!$B$26,M$2,($L64-M$1)/計算!$B$26*M$2))","v":1.9890005284157226},{"$f":"IF($L64<N$1,0,IF($L64-N$1>計算!$B$26,N$2,($L64-N$1)/計算!$B$26*N$2))","v":0.32752179487645394},{"$f":"IF($L64<O$1,0,IF($L64-O$1>計算!$B$26,O$2,($L64-O$1)/計算!$B$26*O$2))","v":0.93101299851738872},{"$f":"IF($L64<P$1,0,IF($L64-P$1>計算!$B$26,P$2,($L64-P$1)/計算!$B$26*P$2))","v":0.27879940541488013},{"$f":"IF($L64<Q$1,0,IF($L64-Q$1>計算!$B$26,Q$2,($L64-Q$1)/計算!$B$26*Q$2))","v":7.7879229924124438E-2},{"$f":"IF($L64<R$1,0,IF($L64-R$1>計算!$B$26,R$2,($L64-R$1)/計算!$B$26*R$2))","v":-1.1192377066933545E-2},{"$f":"IF($L64<S$1,0,IF($L64-S$1>計算!$B$26,S$2,($L64-S$1)/計算!$B$26*S$2))","v":-0.23935531082328287},{"$f":"IF($L64<T$1,0,IF($L64-T$1>計算!$B$26,T$2,($L64-T$1)/計算!$B$26*T$2))","v":-0.11033288008978959},{"$f":"IF($L64<U$1,0,IF($L64-U$1>計算!$B$26,U$2,($L64-U$1)/計算!$B$26*U$2))","v":2.6244909978123232E-2},{"$f":"IF($L64<V$1,0,IF($L64-V$1>計算!$B$26,V$2,($L64-V$1)/計算!$B$26*V$2))","v":1.8518384267717458E-2},{"$f":"IF($L64<W$1,0,IF($L64-W$1>計算!$B$26,W$2,($L64-W$1)/計算!$B$26*W$2))","v":-5.7963055209600434E-2},{"$f":"IF($L64<X$1,0,IF($L64-X$1>計算!$B$26,X$2,($L64-X$1)/計算!$B$26*X$2))","v":-5.5458494250048673E-2},{"$f":"IF($L64<Y$1,0,IF($L64-Y$1>計算!$B$26,Y$2,($L64-Y$1)/計算!$B$26*Y$2))","v":0.10338399991016445},{"$f":"IF($L64<Z$1,0,IF($L64-Z$1>計算!$B$26,Z$2,($L64-Z$1)/計算!$B$26*Z$2))","v":5.0289293255394885E-2},{"$f":"IF($L64<AA$1,0,IF($L64-AA$1>計算!$B$26,AA$2,($L64-AA$1)/計算!$B$26*AA$2))","v":-2.9022629979411629E-2},{"$f":"IF($L64<AB$1,0,IF($L64-AB$1>計算!$B$26,AB$2,($L64-AB$1)/計算!$B$26*AB$2))","v":2.470576645365874E-3},{"$f":"IF($L64<AC$1,0,IF($L64-AC$1>計算!$B$26,AC$2,($L64-AC$1)/計算!$B$26*AC$2))","v":4.4033634670110899E-3},{"$f":"IF($L64<AD$1,0,IF($L64-AD$1>計算!$B$26,AD$2,($L64-AD$1)/計算!$B$26*AD$2))","v":-2.6932471689339543E-2},{"$f":"IF($L64<AE$1,0,IF($L64-AE$1>計算!$B$26,AE$2,($L64-AE$1)/計算!$B$26*AE$2))","v":2.6428643544579966E-2},{"$f":"IF($L64<AF$1,0,IF($L64-AF$1>計算!$B$26,AF$2,($L64-AF$1)/計算!$B$26*AF$2))","v":5.8979804915944012E-2},{"$f":"IF($L64<AG$1,0,IF($L64-AG$1>計算!$B$26,AG$2,($L64-AG$1)/計算!$B$26*AG$2))","v":-5.6573485727166251E-2},{"$f":"IF($L64<AH$1,0,IF($L64-AH$1>計算!$B$26,AH$2,($L64-AH$1)/計算!$B$26*AH$2))","v":-2.8222742299932158E-2},{"$f":"IF($L64<AI$1,0,IF($L64-AI$1>計算!$B$26,AI$2,($L64-AI$1)/計算!$B$26*AI$2))","v":2.4822674948292711E-2},{"$f":"IF($L64<AJ$1,0,IF($L64-AJ$1>計算!$B$26,AJ$2,($L64-AJ$1)/計算!$B$26*AJ$2))","v":-4.4864040640582026E-3},{"$f":"IF($L64<AK$1,0,IF($L64-AK$1>計算!$B$26,AK$2,($L64-AK$1)/計算!$B$26*AK$2))","v":2.3256886633271634E-4},{"$f":"IF($L64<AL$1,0,IF($L64-AL$1>計算!$B$26,AL$2,($L64-AL$1)/計算!$B$26*AL$2))","v":0},{"$f":"IF($L64<AM$1,0,IF($L64-AM$1>計算!$B$26,AM$2,($L64-AM$1)/計算!$B$26*AM$2))","v":0},{"$f":"IF($L64<AN$1,0,IF($L64-AN$1>計算!$B$26,AN$2,($L64-AN$1)/計算!$B$26*AN$2))","v":0},{"$f":"IF($L64<AO$1,0,IF($L64-AO$1>計算!$B$26,AO$2,($L64-AO$1)/計算!$B$26*AO$2))","v":0},{"$f":"IF($L64<AP$1,0,IF($L64-AP$1>計算!$B$26,AP$2,($L64-AP$1)/計算!$B$26*AP$2))","v":0},{"$f":"IF($L64<AQ$1,0,IF($L64-AQ$1>計算!$B$26,AQ$2,($L64-AQ$1)/計算!$B$26*AQ$2))","v":0},{"$f":"IF($L64<AR$1,0,IF($L64-AR$1>計算!$B$26,AR$2,($L64-AR$1)/計算!$B$26*AR$2))","v":0},{"$f":"IF($L64<AS$1,0,IF($L64-AS$1>計算!$B$26,AS$2,($L64-AS$1)/計算!$B$26*AS$2))","v":0},{"$f":"IF($L64<AT$1,0,IF($L64-AT$1>計算!$B$26,AT$2,($L64-AT$1)/計算!$B$26*AT$2))","v":0},{"$f":"IF($L64<AU$1,0,IF($L64-AU$1>計算!$B$26,AU$2,($L64-AU$1)/計算!$B$26*AU$2))","v":0},{"$f":"IF($L64<AV$1,0,IF($L64-AV$1>計算!$B$26,AV$2,($L64-AV$1)/計算!$B$26*AV$2))","v":0},3.3004483257479333,null,null,null,null,null,null,null,null,60,9.4056527361184212,{"$f":"IF($BG64<BH$1,0,IF($BG64-BH$1>計算!$B$26,BH$2,($BG64-BH$1)/計算!$B$26*BH$2))","v":1.8434248486289773},{"$f":"IF($BG64<BI$1,0,IF($BG64-BI$1>計算!$B$26,BI$2,($BG64-BI$1)/計算!$B$26*BI$2))","v":2.0804359702386828},{"$f":"IF($BG64<BJ$1,0,IF($BG64-BJ$1>計算!$B$26,BJ$2,($BG64-BJ$1)/計算!$B$26*BJ$2))","v":0.43833573789608726},{"$f":"IF($BG64<BK$1,0,IF($BG64-BK$1>計算!$B$26,BK$2,($BG64-BK$1)/計算!$B$26*BK$2))","v":-0.55120106185706153},{"$f":"IF($BG64<BL$1,0,IF($BG64-BL$1>計算!$B$26,BL$2,($BG64-BL$1)/計算!$B$26*BL$2))","v":-0.80365187452039688},{"$f":"IF($BG64<BM$1,0,IF($BG64-BM$1>計算!$B$26,BM$2,($BG64-BM$1)/計算!$B$26*BM$2))","v":0.19584279483276745},{"$f":"IF($BG64<BN$1,0,IF($BG64-BN$1>計算!$B$26,BN$2,($BG64-BN$1)/計算!$B$26*BN$2))","v":0.10422894063720944},{"$f":"IF($BG64<BO$1,0,IF($BG64-BO$1>計算!$B$26,BO$2,($BG64-BO$1)/計算!$B$26*BO$2))","v":-0.4423266906583132},{"$f":"IF($BG64<BP$1,0,IF($BG64-BP$1>計算!$B$26,BP$2,($BG64-BP$1)/計算!$B$26*BP$2))","v":0.16377391940418873},{"$f":"IF($BG64<BQ$1,0,IF($BG64-BQ$1>計算!$B$26,BQ$2,($BG64-BQ$1)/計算!$B$26*BQ$2))","v":0.47754805534168732},{"$f":"IF($BG64<BR$1,0,IF($BG64-BR$1>計算!$B$26,BR$2,($BG64-BR$1)/計算!$B$26*BR$2))","v":-0.21471923432841411},{"$f":"IF($BG64<BS$1,0,IF($BG64-BS$1>計算!$B$26,BS$2,($BG64-BS$1)/計算!$B$26*BS$2))","v":1.8435751369704434E-2},{"$f":"IF($BG64<BT$1,0,IF($BG64-BT$1>計算!$B$26,BT$2,($BG64-BT$1)/計算!$B$26*BT$2))","v":2.4783906779989984E-2},{"$f":"IF($BG64<BU$1,0,IF($BG64-BU$1>計算!$B$26,BU$2,($BG64-BU$1)/計算!$B$26*BU$2))","v":-0.17919042925557704},{"$f":"IF($BG64<BV$1,0,IF($BG64-BV$1>計算!$B$26,BV$2,($BG64-BV$1)/計算!$B$26*BV$2))","v":0.34434916144780114},{"$f":"IF($BG64<BW$1,0,IF($BG64-BW$1>計算!$B$26,BW$2,($BG64-BW$1)/計算!$B$26*BW$2))","v":-2.1118040552239314E-2},{"$f":"IF($BG64<BX$1,0,IF($BG64-BX$1>計算!$B$26,BX$2,($BG64-BX$1)/計算!$B$26*BX$2))","v":-0.34082736850881012},{"$f":"IF($BG64<BY$1,0,IF($BG64-BY$1>計算!$B$26,BY$2,($BG64-BY$1)/計算!$B$26*BY$2))","v":0.19354379609734229},{"$f":"IF($BG64<BZ$1,0,IF($BG64-BZ$1>計算!$B$26,BZ$2,($BG64-BZ$1)/計算!$B$26*BZ$2))","v":-3.3303838596894231E-2},{"$f":"IF($BG64<CA$1,0,IF($BG64-CA$1>計算!$B$26,CA$2,($BG64-CA$1)/計算!$B$26*CA$2))","v":1.7354579159052363E-3},{"$f":"IF($BG64<CB$1,0,IF($BG64-CB$1>計算!$B$26,CB$2,($BG64-CB$1)/計算!$B$26*CB$2))","v":5.8932004059912835E-3},{"$f":"IF($BG64<CC$1,0,IF($BG64-CC$1>計算!$B$26,CC$2,($BG64-CC$1)/計算!$B$26*CC$2))","v":-6.020744255616739E-2},{"$f":"IF($BG64<CD$1,0,IF($BG64-CD$1>計算!$B$26,CD$2,($BG64-CD$1)/計算!$B$26*CD$2))","v":0.20705701786707298},{"$f":"IF($BG64<CE$1,0,IF($BG64-CE$1>計算!$B$26,CE$2,($BG64-CE$1)/計算!$B$26*CE$2))","v":-0.24774266249290511},{"$f":"IF($BG64<CF$1,0,IF($BG64-CF$1>計算!$B$26,CF$2,($BG64-CF$1)/計算!$B$26*CF$2))","v":-4.0543650760017869E-2},{"$f":"IF($BG64<CG$1,0,IF($BG64-CG$1>計算!$B$26,CG$2,($BG64-CG$1)/計算!$B$26*CG$2))","v":0.26589922437033486},{"$f":"IF($BG64<CH$1,0,IF($BG64-CH$1>計算!$B$26,CH$2,($BG64-CH$1)/計算!$B$26*CH$2))","v":-0.16837567462758729},{"$f":"IF($BG64<CI$1,0,IF($BG64-CI$1>計算!$B$26,CI$2,($BG64-CI$1)/計算!$B$26*CI$2))","v":4.1502847092517836E-2},{"$f":"IF($BG64<CJ$1,0,IF($BG64-CJ$1>計算!$B$26,CJ$2,($BG64-CJ$1)/計算!$B$26*CJ$2))","v":-4.3674130665682931E-3},{"$f":"IF($BG64<CK$1,0,IF($BG64-CK$1>計算!$B$26,CK$2,($BG64-CK$1)/計算!$B$26*CK$2))","v":1.6336812736783557E-4},3.2993786166726755,null,null,9.4056524397184216,2.589863051855934E-3,-2.589863051855934E-3]
[null,null,null,null,2.700000000000001E-9,52,{"$f":"IF(G29+計算!$B$26>=準備!$T$33,準備!$T$33,G29+計算!$B$26)+E65","v":9.4056524388184215}]
[null,null,null,null,2.8000000000000011E-9,53,{"$f":"IF(G30+計算!$B$26>=準備!$T$33,準備!$T$33,G30+計算!$B$26)+E66","v":9.4056524389184215},null,null,null,"v2",null,{"$f":"$I$3","v":0.2983353312641418},{"$f":"$I$4","v":-0.89890989052282899},{"$f":"$I$5","v":-0.21184658990487348},{"$f":"$I$6","v":0.63830901206403412},{"$f":"$I$7","v":-0.21374580605087579},{"$f":"$I$8","v":0.58793831734057156},{"$f":"$I$9","v":0.26628907306790472},{"$f":"$I$10","v":-0.47320266231569752},{"$f":"$I$11","v":6.0087511789762682E-2},{"$f":"$I$12","v":-5.0825194033370491E-2},{"$f":"$I$13","v":0.29158188812572483},{"$f":"$I$14","v":-0.33635698393373026},{"$f":"$I$15","v":-0.23732384043519716},{"$f":"$I$16","v":0.3484351373522887},{"$f":"$I$17","v":-8.7213024267986938E-2},{"$f":"$I$18","v":5.6563654982872968E-3},{"$f":"$I$19","v":-1.2085384954476752E-2},{"$f":"$I$20","v":0.10542406236172575},{"$f":"$I$21","v":-0.28279467405986669},{"$f":"$I$22","v":0.18504894450884757},{"$f":"$I$23","v":0.20847316613816691},{"$f":"$I$24","v":-0.27052971675150728},{"$f":"$I$25","v":9.3538754219008258E-2},{"$f":"$I$26","v":-1.2226398010253603E-2},{"$f":"$I$27","v":5.3246456205668924E-4},{"$f":"$I$28","v":-2.8737033330751283E-3},{"$f":"$I$29","v":3.3649864854785494E-2},{"$f":"$I$30","v":-0.14109767299563569},{"$f":"$I$31","v":0.24243109658490569},{"$f":"$I$32","v":-9.4256471226553673E-2},{"$f":"$I$33","v":-0.18492771135948727},{"$f":"$I$34","v":0.21926336098012911},{"$f":"$I$35","v":-9.111441097660089E-2},{"$f":"$I$36","v":1.737511582623652E-2},{"$f":"$I$37","v":-1.5290383016031139E-3},{"$f":"$I$38","v":5.0123795913403768E-5},null,{"$f":"IF(B1=1,MAX(AW68:AX128),\"\")","v":0.2983353312641418},null,null,null,null,null,null,null,"v2",null,{"$f":"$BD$3","v":-0.67165999785768882},{"$f":"$BD$4","v":0.90868889604222969},{"$f":"$BD$5","v":-0.15970956504964062},{"$f":"$BD$6","v":-0.21551880103922261},{"$f":"$BD$7","v":-3.6979193377590036E-2},{"$f":"$BD$8","v":8.5539846253473106E-2},{"$f":"$BD$9","v":-3.7976275570530404E-2},{"$f":"$BD$10","v":6.2162268050736214E-2},{"$f":"$BD$11","v":0.15755812631518906},{"$f":"$BD$12","v":-1.203930779011364E-2},{"$f":"$BD$13","v":-6.422251715804006E-2},{"$f":"$BD$14","v":8.0523326838670695E-3},{"$f":"$BD$15","v":-9.0301260651520776E-3},{"$f":"$BD$16","v":4.1747936536487673E-2},{"$f":"$BD$17","v":-3.5110256083367153E-3},{"$f":"$BD$18","v":-9.9796700329851329E-2},{"$f":"$BD$19","v":9.6704798158792071E-3},{"$f":"$BD$20","v":4.2775407921305519E-2},{"$f":"$BD$21","v":-1.1763541698946112E-2},{"$f":"$BD$22","v":7.5801003265218991E-4},{"$f":"$BD$23","v":-2.1472136360789484E-3},{"$f":"$BD$24","v":1.6339216546086832E-2},{"$f":"$BD$25","v":-2.972720190274114E-2},{"$f":"$BD$26","v":-1.9930348423327637E-2},{"$f":"$BD$27","v":6.6184619293727209E-2},{"$f":"$BD$28","v":-5.5819893287709643E-3},{"$f":"$BD$29","v":-2.9551036348403725E-2},{"$f":"$BD$30","v":1.2220324932807003E-2},{"$f":"$BD$31","v":-1.6456259443792254E-3},{"$f":"$BD$32","v":7.1355622297208932E-5},null,{"$f":"MAX(CL68:CM128)","v":0.23702889818454087}]
[null,null,null,null,2.9000000000000012E-9,54,{"$f":"IF(G31+計算!$B$26>=準備!$T$33,準備!$T$33,G31+計算!$B$26)+E67","v":9.4056524390184215},null,null,null,null,null,null,null,null,null,null,null,null,null,null,null,null,null,null,null,null,null,null,null,null,null,null,null,null,null,null,null,null,null,null,null,null,null,null,null,null,null,0]
[null,null,null,null,3.0000000000000012E-9,{"$f":"COUNTIF(G$2:G$74,\"<\"&TEXT(G68,\"##.################\"))","v":55},{"$f":"IF(G32+計算!$B$26>=準備!$T$33,準備!$T$33,G32+計算!$B$26)+E68","v":9.4056524391184215},null,null,null,null,null,{"$f":"IF($L4<M$1,0,IF($L4-M$1>計算!$B$26,M$66,($L4-M$1)/計算!$B$26*M$66))","v":0},{"$f":"IF($L4<N$1,0,IF($L4-N$1>計算!$B$26,N$66,($L4-N$1)/計算!$B$26*N$66))","v":0},{"$f":"IF($L4<O$1,0,IF($L4-O$1>計算!$B$26,O$66,($L4-O$1)/計算!$B$26*O$66))","v":0},{"$f":"IF($L4<P$1,0,IF($L4-P$1>計算!$B$26,P$66,($L4-P$1)/計算!$B$26*P$66))","v":0},{"$f":"IF($L4<Q$1,0,IF($L4-Q$1>計算!$B$26,Q$66,($L4-Q$1)/計算!$B$26*Q$66))","v":0},{"$f":"IF($L4<R$1,0,IF($L4-R$1>計算!$B$26,R$66,($L4-R$1)/計算!$B$26*R$66))","v":0},{"$f":"IF($L4<S$1,0,IF($L4-S$1>計算!$B$26,S$66,($L4-S$1)/計算!$B$26*S$66))","v":0},{"$f":"IF($L4<T$1,0,IF($L4-T$1>計算!$B$26,T$66,($L4-T$1)/計算!$B$26*T$66))","v":0},{"$f":"IF($L4<U$1,0,IF($L4-U$1>計算!$B$26,U$66,($L4-U$1)/計算!$B$26*U$66))","v":0},{"$f":"IF($L4<V$1,0,IF($L4-V$1>計算!$B$26,V$66,($L4-V$1)/計算!$B$26*V$66))","v":0},{"$f":"IF($L4<W$1,0,IF($L4-W$1>計算!$B$26,W$66,($L4-W$1)/計算!$B$26*W$66))","v":0},{"$f":"IF($L4<X$1,0,IF($L4-X$1>計算!$B$26,X$66,($L4-X$1)/計算!$B$26*X$66))","v":0},{"$f":"IF($L4<Y$1,0,IF($L4-Y$1>計算!$B$26,Y$66,($L4-Y$1)/計算!$B$26*Y$66))","v":0},{"$f":"IF($L4<Z$1,0,IF($L4-Z$1>計算!$B$26,Z$66,($L4-Z$1)/計算!$B$26*Z$66))","v":0},{"$f":"IF($L4<AA$1,0,IF($L4-AA$1>計算!$B$26,AA$66,($L4-AA$1)/計算!$B$26*AA$66))","v":0},{"$f":"IF($L4<AB$1,0,IF($L4-AB$1>計算!$B$26,AB$66,($L4-AB$1)/計算!$B$26*AB$66))","v":0},{"$f":"IF($L4<AC$1,0,IF($L4-AC$1>計算!$B$26,AC$66,($L4-AC$1)/計算!$B$26*AC$66))","v":0},{"$f":"IF($L4<AD$1,0,IF($L4-AD$1>計算!$B$26,AD$66,($L4-AD$1)/計算!$B$26*AD$66))","v":0},{"$f":"IF($L4<AE$1,0,IF($L4-AE$1>計算!$B$26,AE$66,($L4-AE$1)/計算!$B$26*AE$66))","v":0},{"$f":"IF($L4<AF$1,0,IF($L4-AF$1>計算!$B$26,AF$66,($L4-AF$1)/計算!$B$26*AF$66))","v":0},{"$f":"IF($L4<AG$1,0,IF($L4-AG$1>計算!$B$26,AG$66,($L4-AG$1)/計算!$B$26*AG$66))","v":0},{"$f":"IF($L4<AH$1,0,IF($L4-AH$1>計算!$B$26,AH$66,($L4-AH$1)/計算!$B$26*AH$66))","v":0},{"$f":"IF($L4<AI$1,0,IF($L4-AI$1>計算!$B$26,AI$66,($L4-AI$1)/計算!$B$26*AI$66))","v":0},{"$f":"IF($L4<AJ$1,0,IF($L4-AJ$1>計算!$B$26,AJ$66,($L4-AJ$1)/計算!$B$26*AJ$66))","v":0},{"$f":"IF($L4<AK$1,0,IF($L4-AK$1>計算!$B$26,AK$66,($L4-AK$1)/計算!$B$26*AK$66))","v":0},{"$f":"IF($L4<AL$1,0,IF($L4-AL$1>計算!$B$26,AL$66,($L4-AL$1)/計算!$B$26*AL$66))","v":0},{"$f":"IF($L4<AM$1,0,IF($L4-AM$1>計算!$B$26,AM$66,($L4-AM$1)/計算!$B$26*AM$66))","v":0},{"$f":"IF($L4<AN$1,0,IF($L4-AN$1>計算!$B$26,AN$66,($L4-AN$1)/計算!$B$26*AN$66))","v":0},{"$f":"IF($L4<AO$1,0,IF($L4-AO$1>計算!$B$26,AO$66,($L4-AO$1)/計算!$B$26*AO$66))","v":0},{"$f":"IF($L4<AP$1,0,IF($L4-AP$1>計算!$B$26,AP$66,($L4-AP$1)/計算!$B$26*AP$66))","v":0},{"$f":"IF($L4<AQ$1,0,IF($L4-AQ$1>計算!$B$26,AQ$66,($L4-AQ$1)/計算!$B$26*AQ$66))","v":0},{"$f":"IF($L4<AR$1,0,IF($L4-AR$1>計算!$B$26,AR$66,($L4-AR$1)/計算!$B$26*AR$66))","v":0},{"$f":"IF($L4<AS$1,0,IF($L4-AS$1>計算!$B$26,AS$66,($L4-AS$1)/計算!$B$26*AS$66))","v":0},{"$f":"IF($L4<AT$1,0,IF($L4-AT$1>計算!$B$26,AT$66,($L4-AT$1)/計算!$B$26*AT$66))","v":0},{"$f":"IF($L4<AU$1,0,IF($L4-AU$1>計算!$B$26,AU$66,($L4-AU$1)/計算!$B$26*AU$66))","v":0},{"$f":"IF($L4<AV$1,0,IF($L4-AV$1>計算!$B$26,AV$66,($L4-AV$1)/計算!$B$26*AV$66))","v":0},{"$f":"SUM(M68:AV68)","v":0},{"$f":"-AW68","v":0},null,null,null,null,null,null,null,null,null,{"$f":"IF($BG4<BH$1,0,IF($BG4-BH$1>計算!$B$26,BH$66,($BG4-BH$1)/計算!$B$26*BH$66))","v":0},{"$f":"IF($BG4<BI$1,0,IF($BG4-BI$1>計算!$B$26,BI$66,($BG4-BI$1)/計算!$B$26*BI$66))","v":0},{"$f":"IF($BG4<BJ$1,0,IF($BG4-BJ$1>計算!$B$26,BJ$66,($BG4-BJ$1)/計算!$B$26*BJ$66))","v":0},{"$f":"IF($BG4<BK$1,0,IF($BG4-BK$1>計算!$B$26,BK$66,($BG4-BK$1)/計算!$B$26*BK$66))","v":0},{"$f":"IF($BG4<BL$1,0,IF($BG4-BL$1>計算!$B$26,BL$66,($BG4-BL$1)/計算!$B$26*BL$66))","v":0},{"$f":"IF($BG4<BM$1,0,IF($BG4-BM$1>計算!$B$26,BM$66,($BG4-BM$1)/計算!$B$26*BM$66))","v":0},{"$f":"IF($BG4<BN$1,0,IF($BG4-BN$1>計算!$B$26,BN$66,($BG4-BN$1)/計算!$B$26*BN$66))","v":0},{"$f":"IF($BG4<BO$1,0,IF($BG4-BO$1>計算!$B$26,BO$66,($BG4-BO$1)/計算!$B$26*BO$66))","v":0},{"$f":"IF($BG4<BP$1,0,IF($BG4-BP$1>計算!$B$26,BP$66,($BG4-BP$1)/計算!$B$26*BP$66))","v":0},{"$f":"IF($BG4<BQ$1,0,IF($BG4-BQ$1>計算!$B$26,BQ$66,($BG4-BQ$1)/計算!$B$26*BQ$66))","v":0},{"$f":"IF($BG4<BR$1,0,IF($BG4-BR$1>計算!$B$26,BR$66,($BG4-BR$1)/計算!$B$26*BR$66))","v":0},{"$f":"IF($BG4<BS$1,0,IF($BG4-BS$1>計算!$B$26,BS$66,($BG4-BS$1)/計算!$B$26*BS$66))","v":0},{"$f":"IF($BG4<BT$1,0,IF($BG4-BT$1>計算!$B$26,BT$66,($BG4-BT$1)/計算!$B$26*BT$66))","v":0},{"$f":"IF($BG4<BU$1,0,IF($BG4-BU$1>計算!$B$26,BU$66,($BG4-BU$1)/計算!$B$26*BU$66))","v":0},{"$f":"IF($BG4<BV$1,0,IF($BG4-BV$1>計算!$B$26,BV$66,($BG4-BV$1)/計算!$B$26*BV$66))","v":0},{"$f":"IF($BG4<BW$1,0,IF($BG4-BW$1>計算!$B$26,BW$66,($BG4-BW$1)/計算!$B$26*BW$66))","v":0},{"$f":"IF($BG4<BX$1,0,IF($BG4-BX$1>計算!$B$26,BX$66,($BG4-BX$1)/計算!$B$26*BX$66))","v":0},{"$f":"IF($BG4<BY$1,0,IF($BG4-BY$1>計算!$B$26,BY$66,($BG4-BY$1)/計算!$B$26*BY$66))","v":0},{"$f":"IF($BG4<BZ$1,0,IF($BG4-BZ$1>計算!$B$26,BZ$66,($BG4-BZ$1)/計算!$B$26*BZ$66))","v":0},{"$f":"IF($BG4<CA$1,0,IF($BG4-CA$1>計算!$B$26,CA$66,($BG4-CA$1)/計算!$B$26*CA$66))","v":0},{"$f":"IF($BG4<CB$1,0,IF($BG4-CB$1>計算!$B$26,CB$66,($BG4-CB$1)/計算!$B$26*CB$66))","v":0},{"$f":"IF($BG4<CC$1,0,IF($BG4-CC$1>計算!$B$26,CC$66,($BG4-CC$1)/計算!$B$26*CC$66))","v":0},{"$f":"IF($BG4<CD$1,0,IF($BG4-CD$1>計算!$B$26,CD$66,($BG4-CD$1)/計算!$B$26*CD$66))","v":0},{"$f":"IF($BG4<CE$1,0,IF($BG4-CE$1>計算!$B$26,CE$66,($BG4-CE$1)/計算!$B$26*CE$66))","v":0},{"$f":"IF($BG4<CF$1,0,IF($BG4-CF$1>計算!$B$26,CF$66,($BG4-CF$1)/計算!$B$26*CF$66))","v":0},{"$f":"IF($BG4<CG$1,0,IF($BG4-CG$1>計算!$B$26,CG$66,($BG4-CG$1)/計算!$B$26*CG$66))","v":0},{"$f":"IF($BG4<CH$1,0,IF($BG4-CH$1>計算!$B$26,CH$66,($BG4-CH$1)/計算!$B$26*CH$66))","v":0},{"$f":"IF($BG4<CI$1,0,IF($BG4-CI$1>計算!$B$26,CI$66,($BG4-CI$1)/計算!$B$26*CI$66))","v":0},{"$f":"IF($BG4<CJ$1,0,IF($BG4-CJ$1>計算!$B$26,CJ$66,($BG4-CJ$1)/計算!$B$26*CJ$66))","v":0},{"$f":"IF($BG4<CK$1,0,IF($BG4-CK$1>計算!$B$26,CK$66,($BG4-CK$1)/計算!$B$26*CK$66))","v":0},{"$f":"SUM(BH68:CK68)","v":0},{"$f":"-CL68","v":0}]
[null,null,null,null,3.1000000000000013E-9,56,{"$f":"IF(G33+計算!$B$26>=準備!$T$33,準備!$T$33,G33+計算!$B$26)+E69","v":9.4056524392184215},null,null,null,null,null,{"$f":"IF($L5<M$1,0,IF($L5-M$1>計算!$B$26,M$66,($L5-M$1)/計算!$B$26*M$66))","v":0.2983353312641418},{"$f":"IF($L5<N$1,0,IF($L5-N$1>計算!$B$26,N$66,($L5-N$1)/計算!$B$26*N$66))","v":0},{"$f":"IF($L5<O$1,0,IF($L5-O$1>計算!$B$26,O$66,($L5-O$1)/計算!$B$26*O$66))","v":0},{"$f":"IF($L5<P$1,0,IF($L5-P$1>計算!$B$26,P$66,($L5-P$1)/計算!$B$26*P$66))","v":0},{"$f":"IF($L5<Q$1,0,IF($L5-Q$1>計算!$B$26,Q$66,($L5-Q$1)/計算!$B$26*Q$66))","v":0},{"$f":"IF($L5<R$1,0,IF($L5-R$1>計算!$B$26,R$66,($L5-R$1)/計算!$B$26*R$66))","v":0},{"$f":"IF($L5<S$1,0,IF($L5-S$1>計算!$B$26,S$66,($L5-S$1)/計算!$B$26*S$66))","v":0},{"$f":"IF($L5<T$1,0,IF($L5-T$1>計算!$B$26,T$66,($L5-T$1)/計算!$B$26*T$66))","v":0},{"$f":"IF($L5<U$1,0,IF($L5-U$1>計算!$B$26,U$66,($L5-U$1)/計算!$B$26*U$66))","v":0},{"$f":"IF($L5<V$1,0,IF($L5-V$1>計算!$B$26,V$66,($L5-V$1)/計算!$B$26*V$66))","v":0},{"$f":"IF($L5<W$1,0,IF($L5-W$1>計算!$B$26,W$66,($L5-W$1)/計算!$B$26*W$66))","v":0},{"$f":"IF($L5<X$1,0,IF($L5-X$1>計算!$B$26,X$66,($L5-X$1)/計算!$B$26*X$66))","v":0},{"$f":"IF($L5<Y$1,0,IF($L5-Y$1>計算!$B$26,Y$66,($L5-Y$1)/計算!$B$26*Y$66))","v":0},{"$f":"IF($L5<Z$1,0,IF($L5-Z$1>計算!$B$26,Z$66,($L5-Z$1)/計算!$B$26*Z$66))","v":0},{"$f":"IF($L5<AA$1,0,IF($L5-AA$1>計算!$B$26,AA$66,($L5-AA$1)/計算!$B$26*AA$66))","v":0},{"$f":"IF($L5<AB$1,0,IF($L5-AB$1>計算!$B$26,AB$66,($L5-AB$1)/計算!$B$26*AB$66))","v":0},{"$f":"IF($L5<AC$1,0,IF($L5-AC$1>計算!$B$26,AC$66,($L5-AC$1)/計算!$B$26*AC$66))","v":0},{"$f":"IF($L5<AD$1,0,IF($L5-AD$1>計算!$B$26,AD$66,($L5-AD$1)/計算!$B$26*AD$66))","v":0},{"$f":"IF($L5<AE$1,0,IF($L5-AE$1>計算!$B$26,AE$66,($L5-AE$1)/計算!$B$26*AE$66))","v":0},{"$f":"IF($L5<AF$1,0,IF($L5-AF$1>計算!$B$26,AF$66,($L5-AF$1)/計算!$B$26*AF$66))","v":0},{"$f":"IF($L5<AG$1,0,IF($L5-AG$1>計算!$B$26,AG$66,($L5-AG$1)/計算!$B$26*AG$66))","v":0},{"$f":"IF($L5<AH$1,0,IF($L5-AH$1>計算!$B$26,AH$66,($L5-AH$1)/計算!$B$26*AH$66))","v":0},{"$f":"IF($L5<AI$1,0,IF($L5-AI$1>計算!$B$26,AI$66,($L5-AI$1)/計算!$B$26*AI$66))","v":0},{"$f":"IF($L5<AJ$1,0,IF($L5-AJ$1>計算!$B$26,AJ$66,($L5-AJ$1)/計算!$B$26*AJ$66))","v":0},{"$f":"IF($L5<AK$1,0,IF($L5-AK$1>計算!$B$26,AK$66,($L5-AK$1)/計算!$B$26*AK$66))","v":0},{"$f":"IF($L5<AL$1,0,IF($L5-AL$1>計算!$B$26,AL$66,($L5-AL$1)/計算!$B$26*AL$66))","v":0},{"$f":"IF($L5<AM$1,0,IF($L5-AM$1>計算!$B$26,AM$66,($L5-AM$1)/計算!$B$26*AM$66))","v":0},{"$f":"IF($L5<AN$1,0,IF($L5-AN$1>計算!$B$26,AN$66,($L5-AN$1)/計算!$B$26*AN$66))","v":0},{"$f":"IF($L5<AO$1,0,IF($L5-AO$1>計算!$B$26,AO$66,($L5-AO$1)/計算!$B$26*AO$66))","v":0},{"$f":"IF($L5<AP$1,0,IF($L5-AP$1>計算!$B$26,AP$66,($L5-AP$1)/計算!$B$26*AP$66))","v":0},{"$f":"IF($L5<AQ$1,0,IF($L5-AQ$1>計算!$B$26,AQ$66,($L5-AQ$1)/計算!$B$26*AQ$66))","v":0},{"$f":"IF($L5<AR$1,0,IF($L5-AR$1>計算!$B$26,AR$66,($L5-AR$1)/計算!$B$26*AR$66))","v":0},{"$f":"IF($L5<AS$1,0,IF($L5-AS$1>計算!$B$26,AS$66,($L5-AS$1)/計算!$B$26*AS$66))","v":0},{"$f":"IF($L5<AT$1,0,IF($L5-AT$1>計算!$B$26,AT$66,($L5-AT$1)/計算!$B$26*AT$66))","v":0},{"$f":"IF($L5<AU$1,0,IF($L5-AU$1>計算!$B$26,AU$66,($L5-AU$1)/計算!$B$26*AU$66))","v":0},{"$f":"IF($L5<AV$1,0,IF($L5-AV$1>計算!$B$26,AV$66,($L5-AV$1)/計算!$B$26*AV$66))","v":0},{"$f":"SUM(M69:AV69)","v":0.2983353312641418},{"$f":"-AW69","v":-0.2983353312641418},null,null,null,null,null,null,null,null,null,{"$f":"IF($BG5<BH$1,0,IF($BG5-BH$1>計算!$B$26,BH$66,($BG5-BH$1)/計算!$B$26*BH$66))","v":0},{"$f":"IF($BG5<BI$1,0,IF($BG5-BI$1>計算!$B$26,BI$66,($BG5-BI$1)/計算!$B$26*BI$66))","v":0},{"$f":"IF($BG5<BJ$1,0,IF($BG5-BJ$1>計算!$B$26,BJ$66,($BG5-BJ$1)/計算!$B$26*BJ$66))","v":0},{"$f":"IF($BG5<BK$1,0,IF($BG5-BK$1>計算!$B$26,BK$66,($BG5-BK$1)/計算!$B$26*BK$66))","v":0},{"$f":"IF($BG5<BL$1,0,IF($BG5-BL$1>計算!$B$26,BL$66,($BG5-BL$1)/計算!$B$26*BL$66))","v":0},{"$f":"IF($BG5<BM$1,0,IF($BG5-BM$1>計算!$B$26,BM$66,($BG5-BM$1)/計算!$B$26*BM$66))","v":0},{"$f":"IF($BG5<BN$1,0,IF($BG5-BN$1>計算!$B$26,BN$66,($BG5-BN$1)/計算!$B$26*BN$66))","v":0},{"$f":"IF($BG5<BO$1,0,IF($BG5-BO$1>計算!$B$26,BO$66,($BG5-BO$1)/計算!$B$26*BO$66))","v":0},{"$f":"IF($BG5<BP$1,0,IF($BG5-BP$1>計算!$B$26,BP$66,($BG5-BP$1)/計算!$B$26*BP$66))","v":0},{"$f":"IF($BG5<BQ$1,0,IF($BG5-BQ$1>計算!$B$26,BQ$66,($BG5-BQ$1)/計算!$B$26*BQ$66))","v":0},{"$f":"IF($BG5<BR$1,0,IF($BG5-BR$1>計算!$B$26,BR$66,($BG5-BR$1)/計算!$B$26*BR$66))","v":0},{"$f":"IF($BG5<BS$1,0,IF($BG5-BS$1>計算!$B$26,BS$66,($BG5-BS$1)/計算!$B$26*BS$66))","v":0},{"$f":"IF($BG5<BT$1,0,IF($BG5-BT$1>計算!$B$26,BT$66,($BG5-BT$1)/計算!$B$26*BT$66))","v":0},{"$f":"IF($BG5<BU$1,0,IF($BG5-BU$1>計算!$B$26,BU$66,($BG5-BU$1)/計算!$B$26*BU$66))","v":0},{"$f":"IF($BG5<BV$1,0,IF($BG5-BV$1>計算!$B$26,BV$66,($BG5-BV$1)/計算!$B$26*BV$66))","v":0},{"$f":"IF($BG5<BW$1,0,IF($BG5-BW$1>計算!$B$26,BW$66,($BG5-BW$1)/計算!$B$26*BW$66))","v":0},{"$f":"IF($BG5<BX$1,0,IF($BG5-BX$1>計算!$B$26,BX$66,($BG5-BX$1)/計算!$B$26*BX$66))","v":0},{"$f":"IF($BG5<BY$1,0,IF($BG5-BY$1>計算!$B$26,BY$66,($BG5-BY$1)/計算!$B$26*BY$66))","v":0},{"$f":"IF($BG5<BZ$1,0,IF($BG5-BZ$1>計算!$B$26,BZ$66,($BG5-BZ$1)/計算!$B$26*BZ$66))","v":0},{"$f":"IF($BG5<CA$1,0,IF($BG5-CA$1>計算!$B$26,CA$66,($BG5-CA$1)/計算!$B$26*CA$66))","v":0},{"$f":"IF($BG5<CB$1,0,IF($BG5-CB$1>計算!$B$26,CB$66,($BG5-CB$1)/計算!$B$26*CB$66))","v":0},{"$f":"IF($BG5<CC$1,0,IF($BG5-CC$1>計算!$B$26,CC$66,($BG5-CC$1)/計算!$B$26*CC$66))","v":0},{"$f":"IF($BG5<CD$1,0,IF($BG5-CD$1>計算!$B$26,CD$66,($BG5-CD$1)/計算!$B$26*CD$66))","v":0},{"$f":"IF($BG5<CE$1,0,IF($BG5-CE$1>計算!$B$26,CE$66,($BG5-CE$1)/計算!$B$26*CE$66))","v":0},{"$f":"IF($BG5<CF$1,0,IF($BG5-CF$1>計算!$B$26,CF$66,($BG5-CF$1)/計算!$B$26*CF$66))","v":0},{"$f":"IF($BG5<CG$1,0,IF($BG5-CG$1>計算!$B$26,CG$66,($BG5-CG$1)/計算!$B$26*CG$66))","v":0},{"$f":"IF($BG5<CH$1,0,IF($BG5-CH$1>計算!$B$26,CH$66,($BG5-CH$1)/計算!$B$26*CH$66))","v":0},{"$f":"IF($BG5<CI$1,0,IF($BG5-CI$1>計算!$B$26,CI$66,($BG5-CI$1)/計算!$B$26*CI$66))","v":0},{"$f":"IF($BG5<CJ$1,0,IF($BG5-CJ$1>計算!$B$26,CJ$66,($BG5-CJ$1)/計算!$B$26*CJ$66))","v":0},{"$f":"IF($BG5<CK$1,0,IF($BG5-CK$1>計算!$B$26,CK$66,($BG5-CK$1)/計算!$B$26*CK$66))","v":0},{"$f":"SUM(BH69:CK69)","v":0},0]
[null,null,null,null,3.2000000000000014E-9,57,{"$f":"IF(G34+計算!$B$26>=準備!$T$33,準備!$T$33,G34+計算!$B$26)+E70","v":9.4056524393184215},null,null,null,null,null,{"$f":"IF($L6<M$1,0,IF($L6-M$1>計算!$B$26,M$66,($L6-M$1)/計算!$B$26*M$66))","v":0.2983353312641418},{"$f":"IF($L6<N$1,0,IF($L6-N$1>計算!$B$26,N$66,($L6-N$1)/計算!$B$26*N$66))","v":0},{"$f":"IF($L6<O$1,0,IF($L6-O$1>計算!$B$26,O$66,($L6-O$1)/計算!$B$26*O$66))","v":0},{"$f":"IF($L6<P$1,0,IF($L6-P$1>計算!$B$26,P$66,($L6-P$1)/計算!$B$26*P$66))","v":0},{"$f":"IF($L6<Q$1,0,IF($L6-Q$1>計算!$B$26,Q$66,($L6-Q$1)/計算!$B$26*Q$66))","v":0},{"$f":"IF($L6<R$1,0,IF($L6-R$1>計算!$B$26,R$66,($L6-R$1)/計算!$B$26*R$66))","v":0},{"$f":"IF($L6<S$1,0,IF($L6-S$1>計算!$B$26,S$66,($L6-S$1)/計算!$B$26*S$66))","v":0},{"$f":"IF($L6<T$1,0,IF($L6-T$1>計算!$B$26,T$66,($L6-T$1)/計算!$B$26*T$66))","v":0},{"$f":"IF($L6<U$1,0,IF($L6-U$1>計算!$B$26,U$66,($L6-U$1)/計算!$B$26*U$66))","v":0},{"$f":"IF($L6<V$1,0,IF($L6-V$1>計算!$B$26,V$66,($L6-V$1)/計算!$B$26*V$66))","v":0},{"$f":"IF($L6<W$1,0,IF($L6-W$1>計算!$B$26,W$66,($L6-W$1)/計算!$B$26*W$66))","v":0},{"$f":"IF($L6<X$1,0,IF($L6-X$1>計算!$B$26,X$66,($L6-X$1)/計算!$B$26*X$66))","v":0},{"$f":"IF($L6<Y$1,0,IF($L6-Y$1>計算!$B$26,Y$66,($L6-Y$1)/計算!$B$26*Y$66))","v":0},{"$f":"IF($L6<Z$1,0,IF($L6-Z$1>計算!$B$26,Z$66,($L6-Z$1)/計算!$B$26*Z$66))","v":0},{"$f":"IF($L6<AA$1,0,IF($L6-AA$1>計算!$B$26,AA$66,($L6-AA$1)/計算!$B$26*AA$66))","v":0},{"$f":"IF($L6<AB$1,0,IF($L6-AB$1>計算!$B$26,AB$66,($L6-AB$1)/計算!$B$26*AB$66))","v":0},{"$f":"IF($L6<AC$1,0,IF($L6-AC$1>計算!$B$26,AC$66,($L6-AC$1)/計算!$B$26*AC$66))","v":0},{"$f":"IF($L6<AD$1,0,IF($L6-AD$1>計算!$B$26,AD$66,($L6-AD$1)/計算!$B$26*AD$66))","v":0},{"$f":"IF($L6<AE$1,0,IF($L6-AE$1>計算!$B$26,AE$66,($L6-AE$1)/計算!$B$26*AE$66))","v":0},{"$f":"IF($L6<AF$1,0,IF($L6-AF$1>計算!$B$26,AF$66,($L6-AF$1)/計算!$B$26*AF$66))","v":0},{"$f":"IF($L6<AG$1,0,IF($L6-AG$1>計算!$B$26,AG$66,($L6-AG$1)/計算!$B$26*AG$66))","v":0},{"$f":"IF($L6<AH$1,0,IF($L6-AH$1>計算!$B$26,AH$66,($L6-AH$1)/計算!$B$26*AH$66))","v":0},{"$f":"IF($L6<AI$1,0,IF($L6-AI$1>計算!$B$26,AI$66,($L6-AI$1)/計算!$B$26*AI$66))","v":0},{"$f":"IF($L6<AJ$1,0,IF($L6-AJ$1>計算!$B$26,AJ$66,($L6-AJ$1)/計算!$B$26*AJ$66))","v":0},{"$f":"IF($L6<AK$1,0,IF($L6-AK$1>計算!$B$26,AK$66,($L6-AK$1)/計算!$B$26*AK$66))","v":0},{"$f":"IF($L6<AL$1,0,IF($L6-AL$1>計算!$B$26,AL$66,($L6-AL$1)/計算!$B$26*AL$66))","v":0},{"$f":"IF($L6<AM$1,0,IF($L6-AM$1>計算!$B$26,AM$66,($L6-AM$1)/計算!$B$26*AM$66))","v":0},{"$f":"IF($L6<AN$1,0,IF($L6-AN$1>計算!$B$26,AN$66,($L6-AN$1)/計算!$B$26*AN$66))","v":0},{"$f":"IF($L6<AO$1,0,IF($L6-AO$1>計算!$B$26,AO$66,($L6-AO$1)/計算!$B$26*AO$66))","v":0},{"$f":"IF($L6<AP$1,0,IF($L6-AP$1>計算!$B$26,AP$66,($L6-AP$1)/計算!$B$26*AP$66))","v":0},{"$f":"IF($L6<AQ$1,0,IF($L6-AQ$1>計算!$B$26,AQ$66,($L6-AQ$1)/計算!$B$26*AQ$66))","v":0},{"$f":"IF($L6<AR$1,0,IF($L6-AR$1>計算!$B$26,AR$66,($L6-AR$1)/計算!$B$26*AR$66))","v":0},{"$f":"IF($L6<AS$1,0,IF($L6-AS$1>計算!$B$26,AS$66,($L6-AS$1)/計算!$B$26*AS$66))","v":0},{"$f":"IF($L6<AT$1,0,IF($L6-AT$1>計算!$B$26,AT$66,($L6-AT$1)/計算!$B$26*AT$66))","v":0},{"$f":"IF($L6<AU$1,0,IF($L6-AU$1>計算!$B$26,AU$66,($L6-AU$1)/計算!$B$26*AU$66))","v":0},{"$f":"IF($L6<AV$1,0,IF($L6-AV$1>計算!$B$26,AV$66,($L6-AV$1)/計算!$B$26*AV$66))","v":0},0.2983353312641418,-0.2983353312641418,null,null,null,null,null,null,null,null,null,{"$f":"IF($BG6<BH$1,0,IF($BG6-BH$1>計算!$B$26,BH$66,($BG6-BH$1)/計算!$B$26*BH$66))","v":-3.8715692073628107E-2},{"$f":"IF($BG6<BI$1,0,IF($BG6-BI$1>計算!$B$26,BI$66,($BG6-BI$1)/計算!$B$26*BI$66))","v":0},{"$f":"IF($BG6<BJ$1,0,IF($BG6-BJ$1>計算!$B$26,BJ$66,($BG6-BJ$1)/計算!$B$26*BJ$66))","v":0},{"$f":"IF($BG6<BK$1,0,IF($BG6-BK$1>計算!$B$26,BK$66,($BG6-BK$1)/計算!$B$26*BK$66))","v":0},{"$f":"IF($BG6<BL$1,0,IF($BG6-BL$1>計算!$B$26,BL$66,($BG6-BL$1)/計算!$B$26*BL$66))","v":0},{"$f":"IF($BG6<BM$1,0,IF($BG6-BM$1>計算!$B$26,BM$66,($BG6-BM$1)/計算!$B$26*BM$66))","v":0},{"$f":"IF($BG6<BN$1,0,IF($BG6-BN$1>計算!$B$26,BN$66,($BG6-BN$1)/計算!$B$26*BN$66))","v":0},{"$f":"IF($BG6<BO$1,0,IF($BG6-BO$1>計算!$B$26,BO$66,($BG6-BO$1)/計算!$B$26*BO$66))","v":0},{"$f":"IF($BG6<BP$1,0,IF($BG6-BP$1>計算!$B$26,BP$66,($BG6-BP$1)/計算!$B$26*BP$66))","v":0},{"$f":"IF($BG6<BQ$1,0,IF($BG6-BQ$1>計算!$B$26,BQ$66,($BG6-BQ$1)/計算!$B$26*BQ$66))","v":0},{"$f":"IF($BG6<BR$1,0,IF($BG6-BR$1>計算!$B$26,BR$66,($BG6-BR$1)/計算!$B$26*BR$66))","v":0},{"$f":"IF($BG6<BS$1,0,IF($BG6-BS$1>計算!$B$26,BS$66,($BG6-BS$1)/計算!$B$26*BS$66))","v":0},{"$f":"IF($BG6<BT$1,0,IF($BG6-BT$1>計算!$B$26,BT$66,($BG6-BT$1)/計算!$B$26*BT$66))","v":0},{"$f":"IF($BG6<BU$1,0,IF($BG6-BU$1>計算!$B$26,BU$66,($BG6-BU$1)/計算!$B$26*BU$66))","v":0},{"$f":"IF($BG6<BV$1,0,IF($BG6-BV$1>計算!$B$26,BV$66,($BG6-BV$1)/計算!$B$26*BV$66))","v":0},{"$f":"IF($BG6<BW$1,0,IF($BG6-BW$1>計算!$B$26,BW$66,($BG6-BW$1)/計算!$B$26*BW$66))","v":0},{"$f":"IF($BG6<BX$1,0,IF($BG6-BX$1>計算!$B$26,BX$66,($BG6-BX$1)/計算!$B$26*BX$66))","v":0},{"$f":"IF($BG6<BY$1,0,IF($BG6-BY$1>計算!$B$26,BY$66,($BG6-BY$1)/計算!$B$26*BY$66))","v":0},{"$f":"IF($BG6<BZ$1,0,IF($BG6-BZ$1>計算!$B$26,BZ$66,($BG6-BZ$1)/計算!$B$26*BZ$66))","v":0},{"$f":"IF($BG6<CA$1,0,IF($BG6-CA$1>計算!$B$26,CA$66,($BG6-CA$1)/計算!$B$26*CA$66))","v":0},{"$f":"IF($BG6<CB$1,0,IF($BG6-CB$1>計算!$B$26,CB$66,($BG6-CB$1)/計算!$B$26*CB$66))","v":0},{"$f":"IF($BG6<CC$1,0,IF($BG6-CC$1>計算!$B$26,CC$66,($BG6-CC$1)/計算!$B$26*CC$66))","v":0},{"$f":"IF($BG6<CD$1,0,IF($BG6-CD$1>計算!$B$26,CD$66,($BG6-CD$1)/計算!$B$26*CD$66))","v":0},{"$f":"IF($BG6<CE$1,0,IF($BG6-CE$1>計算!$B$26,CE$66,($BG6-CE$1)/計算!$B$26*CE$66))","v":0},{"$f":"IF($BG6<CF$1,0,IF($BG6-CF$1>計算!$B$26,CF$66,($BG6-CF$1)/計算!$B$26*CF$66))","v":0},{"$f":"IF($BG6<CG$1,0,IF($BG6-CG$1>計算!$B$26,CG$66,($BG6-CG$1)/計算!$B$26*CG$66))","v":0},{"$f":"IF($BG6<CH$1,0,IF($BG6-CH$1>計算!$B$26,CH$66,($BG6-CH$1)/計算!$B$26*CH$66))","v":0},{"$f":"IF($BG6<CI$1,0,IF($BG6-CI$1>計算!$B$26,CI$66,($BG6-CI$1)/計算!$B$26*CI$66))","v":0},{"$f":"IF($BG6<CJ$1,0,IF($BG6-CJ$1>計算!$B$26,CJ$66,($BG6-CJ$1)/計算!$B$26*CJ$66))","v":0},{"$f":"IF($BG6<CK$1,0,IF($BG6-CK$1>計算!$B$26,CK$66,($BG6-CK$1)/計算!$B$26*CK$66))","v":0},-3.8715692073628107E-2,3.8715692073628107E-2]
[null,null,null,null,3.3000000000000014E-9,58,{"$f":"IF(G35+計算!$B$26>=準備!$T$33,準備!$T$33,G35+計算!$B$26)+E71","v":9.4056524394184216},null,null,null,null,null,{"$f":"IF($L7<M$1,0,IF($L7-M$1>計算!$B$26,M$66,($L7-M$1)/計算!$B$26*M$66))","v":0.2983353312641418},{"$f":"IF($L7<N$1,0,IF($L7-N$1>計算!$B$26,N$66,($L7-N$1)/計算!$B$26*N$66))","v":-5.1814785210410212E-2},{"$f":"IF($L7<O$1,0,IF($L7-O$1>計算!$B$26,O$66,($L7-O$1)/計算!$B$26*O$66))","v":0},{"$f":"IF($L7<P$1,0,IF($L7-P$1>計算!$B$26,P$66,($L7-P$1)/計算!$B$26*P$66))","v":0},{"$f":"IF($L7<Q$1,0,IF($L7-Q$1>計算!$B$26,Q$66,($L7-Q$1)/計算!$B$26*Q$66))","v":0},{"$f":"IF($L7<R$1,0,IF($L7-R$1>計算!$B$26,R$66,($L7-R$1)/計算!$B$26*R$66))","v":0},{"$f":"IF($L7<S$1,0,IF($L7-S$1>計算!$B$26,S$66,($L7-S$1)/計算!$B$26*S$66))","v":0},{"$f":"IF($L7<T$1,0,IF($L7-T$1>計算!$B$26,T$66,($L7-T$1)/計算!$B$26*T$66))","v":0},{"$f":"IF($L7<U$1,0,IF($L7-U$1>計算!$B$26,U$66,($L7-U$1)/計算!$B$26*U$66))","v":0},{"$f":"IF($L7<V$1,0,IF($L7-V$1>計算!$B$26,V$66,($L7-V$1)/計算!$B$26*V$66))","v":0},{"$f":"IF($L7<W$1,0,IF($L7-W$1>計算!$B$26,W$66,($L7-W$1)/計算!$B$26*W$66))","v":0},{"$f":"IF($L7<X$1,0,IF($L7-X$1>計算!$B$26,X$66,($L7-X$1)/計算!$B$26*X$66))","v":0},{"$f":"IF($L7<Y$1,0,IF($L7-Y$1>計算!$B$26,Y$66,($L7-Y$1)/計算!$B$26*Y$66))","v":0},{"$f":"IF($L7<Z$1,0,IF($L7-Z$1>計算!$B$26,Z$66,($L7-Z$1)/計算!$B$26*Z$66))","v":0},{"$f":"IF($L7<AA$1,0,IF($L7-AA$1>計算!$B$26,AA$66,($L7-AA$1)/計算!$B$26*AA$66))","v":0},{"$f":"IF($L7<AB$1,0,IF($L7-AB$1>計算!$B$26,AB$66,($L7-AB$1)/計算!$B$26*AB$66))","v":0},{"$f":"IF($L7<AC$1,0,IF($L7-AC$1>計算!$B$26,AC$66,($L7-AC$1)/計算!$B$26*AC$66))","v":0},{"$f":"IF($L7<AD$1,0,IF($L7-AD$1>計算!$B$26,AD$66,($L7-AD$1)/計算!$B$26*AD$66))","v":0},{"$f":"IF($L7<AE$1,0,IF($L7-AE$1>計算!$B$26,AE$66,($L7-AE$1)/計算!$B$26*AE$66))","v":0},{"$f":"IF($L7<AF$1,0,IF($L7-AF$1>計算!$B$26,AF$66,($L7-AF$1)/計算!$B$26*AF$66))","v":0},{"$f":"IF($L7<AG$1,0,IF($L7-AG$1>計算!$B$26,AG$66,($L7-AG$1)/計算!$B$26*AG$66))","v":0},{"$f":"IF($L7<AH$1,0,IF($L7-AH$1>計算!$B$26,AH$66,($L7-AH$1)/計算!$B$26*AH$66))","v":0},{"$f":"IF($L7<AI$1,0,IF($L7-AI$1>計算!$B$26,AI$66,($L7-AI$1)/計算!$B$26*AI$66))","v":0},{"$f":"IF($L7<AJ$1,0,IF($L7-AJ$1>計算!$B$26,AJ$66,($L7-AJ$1)/計算!$B$26*AJ$66))","v":0},{"$f":"IF($L7<AK$1,0,IF($L7-AK$1>計算!$B$26,AK$66,($L7-AK$1)/計算!$B$26*AK$66))","v":0},{"$f":"IF($L7<AL$1,0,IF($L7-AL$1>計算!$B$26,AL$66,($L7-AL$1)/計算!$B$26*AL$66))","v":0},{"$f":"IF($L7<AM$1,0,IF($L7-AM$1>計算!$B$26,AM$66,($L7-AM$1)/計算!$B$26*AM$66))","v":0},{"$f":"IF($L7<AN$1,0,IF($L7-AN$1>計算!$B$26,AN$66,($L7-AN$1)/計算!$B$26*AN$66))","v":0},{"$f":"IF($L7<AO$1,0,IF($L7-AO$1>計算!$B$26,AO$66,($L7-AO$1)/計算!$B$26*AO$66))","v":0},{"$f":"IF($L7<AP$1,0,IF($L7-AP$1>計算!$B$26,AP$66,($L7-AP$1)/計算!$B$26*AP$66))","v":0},{"$f":"IF($L7<AQ$1,0,IF($L7-AQ$1>計算!$B$26,AQ$66,($L7-AQ$1)/計算!$B$26*AQ$66))","v":0},{"$f":"IF($L7<AR$1,0,IF($L7-AR$1>計算!$B$26,AR$66,($L7-AR$1)/計算!$B$26*AR$66))","v":0},{"$f":"IF($L7<AS$1,0,IF($L7-AS$1>計算!$B$26,AS$66,($L7-AS$1)/計算!$B$26*AS$66))","v":0},{"$f":"IF($L7<AT$1,0,IF($L7-AT$1>計算!$B$26,AT$66,($L7-AT$1)/計算!$B$26*AT$66))","v":0},{"$f":"IF($L7<AU$1,0,IF($L7-AU$1>計算!$B$26,AU$66,($L7-AU$1)/計算!$B$26*AU$66))","v":0},{"$f":"IF($L7<AV$1,0,IF($L7-AV$1>計算!$B$26,AV$66,($L7-AV$1)/計算!$B$26*AV$66))","v":0},0.24652054605373158,-0.24652054605373158,null,null,null,null,null,null,null,null,null,{"$f":"IF($BG7<BH$1,0,IF($BG7-BH$1>計算!$B$26,BH$66,($BG7-BH$1)/計算!$B$26*BH$66))","v":-0.67165999785768882},{"$f":"IF($BG7<BI$1,0,IF($BG7-BI$1>計算!$B$26,BI$66,($BG7-BI$1)/計算!$B$26*BI$66))","v":0.85631044951346902},{"$f":"IF($BG7<BJ$1,0,IF($BG7-BJ$1>計算!$B$26,BJ$66,($BG7-BJ$1)/計算!$B$26*BJ$66))","v":0},{"$f":"IF($BG7<BK$1,0,IF($BG7-BK$1>計算!$B$26,BK$66,($BG7-BK$1)/計算!$B$26*BK$66))","v":0},{"$f":"IF($BG7<BL$1,0,IF($BG7-BL$1>計算!$B$26,BL$66,($BG7-BL$1)/計算!$B$26*BL$66))","v":0},{"$f":"IF($BG7<BM$1,0,IF($BG7-BM$1>計算!$B$26,BM$66,($BG7-BM$1)/計算!$B$26*BM$66))","v":0},{"$f":"IF($BG7<BN$1,0,IF($BG7-BN$1>計算!$B$26,BN$66,($BG7-BN$1)/計算!$B$26*BN$66))","v":0},{"$f":"IF($BG7<BO$1,0,IF($BG7-BO$1>計算!$B$26,BO$66,($BG7-BO$1)/計算!$B$26*BO$66))","v":0},{"$f":"IF($BG7<BP$1,0,IF($BG7-BP$1>計算!$B$26,BP$66,($BG7-BP$1)/計算!$B$26*BP$66))","v":0},{"$f":"IF($BG7<BQ$1,0,IF($BG7-BQ$1>計算!$B$26,BQ$66,($BG7-BQ$1)/計算!$B$26*BQ$66))","v":0},{"$f":"IF($BG7<BR$1,0,IF($BG7-BR$1>計算!$B$26,BR$66,($BG7-BR$1)/計算!$B$26*BR$66))","v":0},{"$f":"IF($BG7<BS$1,0,IF($BG7-BS$1>計算!$B$26,BS$66,($BG7-BS$1)/計算!$B$26*BS$66))","v":0},{"$f":"IF($BG7<BT$1,0,IF($BG7-BT$1>計算!$B$26,BT$66,($BG7-BT$1)/計算!$B$26*BT$66))","v":0},{"$f":"IF($BG7<BU$1,0,IF($BG7-BU$1>計算!$B$26,BU$66,($BG7-BU$1)/計算!$B$26*BU$66))","v":0},{"$f":"IF($BG7<BV$1,0,IF($BG7-BV$1>計算!$B$26,BV$66,($BG7-BV$1)/計算!$B$26*BV$66))","v":0},{"$f":"IF($BG7<BW$1,0,IF($BG7-BW$1>計算!$B$26,BW$66,($BG7-BW$1)/計算!$B$26*BW$66))","v":0},{"$f":"IF($BG7<BX$1,0,IF($BG7-BX$1>計算!$B$26,BX$66,($BG7-BX$1)/計算!$B$26*BX$66))","v":0},{"$f":"IF($BG7<BY$1,0,IF($BG7-BY$1>計算!$B$26,BY$66,($BG7-BY$1)/計算!$B$26*BY$66))","v":0},{"$f":"IF($BG7<BZ$1,0,IF($BG7-BZ$1>計算!$B$26,BZ$66,($BG7-BZ$1)/計算!$B$26*BZ$66))","v":0},{"$f":"IF($BG7<CA$1,0,IF($BG7-CA$1>計算!$B$26,CA$66,($BG7-CA$1)/計算!$B$26*CA$66))","v":0},{"$f":"IF($BG7<CB$1,0,IF($BG7-CB$1>計算!$B$26,CB$66,($BG7-CB$1)/計算!$B$26*CB$66))","v":0},{"$f":"IF($BG7<CC$1,0,IF($BG7-CC$1>計算!$B$26,CC$66,($BG7-CC$1)/計算!$B$26*CC$66))","v":0},{"$f":"IF($BG7<CD$1,0,IF($BG7-CD$1>計算!$B$26,CD$66,($BG7-CD$1)/計算!$B$26*CD$66))","v":0},{"$f":"IF($BG7<CE$1,0,IF($BG7-CE$1>計算!$B$26,CE$66,($BG7-CE$1)/計算!$B$26*CE$66))","v":0},{"$f":"IF($BG7<CF$1,0,IF($BG7-CF$1>計算!$B$26,CF$66,($BG7-CF$1)/計算!$B$26*CF$66))","v":0},{"$f":"IF($BG7<CG$1,0,IF($BG7-CG$1>計算!$B$26,CG$66,($BG7-CG$1)/計算!$B$26*CG$66))","v":0},{"$f":"IF($BG7<CH$1,0,IF($BG7-CH$1>計算!$B$26,CH$66,($BG7-CH$1)/計算!$B$26*CH$66))","v":0},{"$f":"IF($BG7<CI$1,0,IF($BG7-CI$1>計算!$B$26,CI$66,($BG7-CI$1)/計算!$B$26*CI$66))","v":0},{"$f":"IF($BG7<CJ$1,0,IF($BG7-CJ$1>計算!$B$26,CJ$66,($BG7-CJ$1)/計算!$B$26*CJ$66))","v":0},{"$f":"IF($BG7<CK$1,0,IF($BG7-CK$1>計算!$B$26,CK$66,($BG7-CK$1)/計算!$B$26*CK$66))","v":0},0.1846504516557802,-0.1846504516557802]
[null,null,null,null,3.4000000000000015E-9,59,{"$f":"IF(G36+計算!$B$26>=準備!$T$33,準備!$T$33,G36+計算!$B$26)+E72","v":9.4056524395184216},null,null,null,null,null,{"$f":"IF($L8<M$1,0,IF($L8-M$1>計算!$B$26,M$66,($L8-M$1)/計算!$B$26*M$66))","v":0.2983353312641418},{"$f":"IF($L8<N$1,0,IF($L8-N$1>計算!$B$26,N$66,($L8-N$1)/計算!$B$26*N$66))","v":-0.10362957042082004},{"$f":"IF($L8<O$1,0,IF($L8-O$1>計算!$B$26,O$66,($L8-O$1)/計算!$B$26*O$66))","v":-1.2211219021179545E-2},{"$f":"IF($L8<P$1,0,IF($L8-P$1>計算!$B$26,P$66,($L8-P$1)/計算!$B$26*P$66))","v":0},{"$f":"IF($L8<Q$1,0,IF($L8-Q$1>計算!$B$26,Q$66,($L8-Q$1)/計算!$B$26*Q$66))","v":0},{"$f":"IF($L8<R$1,0,IF($L8-R$1>計算!$B$26,R$66,($L8-R$1)/計算!$B$26*R$66))","v":0},{"$f":"IF($L8<S$1,0,IF($L8-S$1>計算!$B$26,S$66,($L8-S$1)/計算!$B$26*S$66))","v":0},{"$f":"IF($L8<T$1,0,IF($L8-T$1>計算!$B$26,T$66,($L8-T$1)/計算!$B$26*T$66))","v":0},{"$f":"IF($L8<U$1,0,IF($L8-U$1>計算!$B$26,U$66,($L8-U$1)/計算!$B$26*U$66))","v":0},{"$f":"IF($L8<V$1,0,IF($L8-V$1>計算!$B$26,V$66,($L8-V$1)/計算!$B$26*V$66))","v":0},{"$f":"IF($L8<W$1,0,IF($L8-W$1>計算!$B$26,W$66,($L8-W$1)/計算!$B$26*W$66))","v":0},{"$f":"IF($L8<X$1,0,IF($L8-X$1>計算!$B$26,X$66,($L8-X$1)/計算!$B$26*X$66))","v":0},{"$f":"IF($L8<Y$1,0,IF($L8-Y$1>計算!$B$26,Y$66,($L8-Y$1)/計算!$B$26*Y$66))","v":0},{"$f":"IF($L8<Z$1,0,IF($L8-Z$1>計算!$B$26,Z$66,($L8-Z$1)/計算!$B$26*Z$66))","v":0},{"$f":"IF($L8<AA$1,0,IF($L8-AA$1>計算!$B$26,AA$66,($L8-AA$1)/計算!$B$26*AA$66))","v":0},{"$f":"IF($L8<AB$1,0,IF($L8-AB$1>計算!$B$26,AB$66,($L8-AB$1)/計算!$B$26*AB$66))","v":0},{"$f":"IF($L8<AC$1,0,IF($L8-AC$1>計算!$B$26,AC$66,($L8-AC$1)/計算!$B$26*AC$66))","v":0},{"$f":"IF($L8<AD$1,0,IF($L8-AD$1>計算!$B$26,AD$66,($L8-AD$1)/計算!$B$26*AD$66))","v":0},{"$f":"IF($L8<AE$1,0,IF($L8-AE$1>計算!$B$26,AE$66,($L8-AE$1)/計算!$B$26*AE$66))","v":0},{"$f":"IF($L8<AF$1,0,IF($L8-AF$1>計算!$B$26,AF$66,($L8-AF$1)/計算!$B$26*AF$66))","v":0},{"$f":"IF($L8<AG$1,0,IF($L8-AG$1>計算!$B$26,AG$66,($L8-AG$1)/計算!$B$26*AG$66))","v":0},{"$f":"IF($L8<AH$1,0,IF($L8-AH$1>計算!$B$26,AH$66,($L8-AH$1)/計算!$B$26*AH$66))","v":0},{"$f":"IF($L8<AI$1,0,IF($L8-AI$1>計算!$B$26,AI$66,($L8-AI$1)/計算!$B$26*AI$66))","v":0},{"$f":"IF($L8<AJ$1,0,IF($L8-AJ$1>計算!$B$26,AJ$66,($L8-AJ$1)/計算!$B$26*AJ$66))","v":0},{"$f":"IF($L8<AK$1,0,IF($L8-AK$1>計算!$B$26,AK$66,($L8-AK$1)/計算!$B$26*AK$66))","v":0},{"$f":"IF($L8<AL$1,0,IF($L8-AL$1>計算!$B$26,AL$66,($L8-AL$1)/計算!$B$26*AL$66))","v":0},{"$f":"IF($L8<AM$1,0,IF($L8-AM$1>計算!$B$26,AM$66,($L8-AM$1)/計算!$B$26*AM$66))","v":0},{"$f":"IF($L8<AN$1,0,IF($L8-AN$1>計算!$B$26,AN$66,($L8-AN$1)/計算!$B$26*AN$66))","v":0},{"$f":"IF($L8<AO$1,0,IF($L8-AO$1>計算!$B$26,AO$66,($L8-AO$1)/計算!$B$26*AO$66))","v":0},{"$f":"IF($L8<AP$1,0,IF($L8-AP$1>計算!$B$26,AP$66,($L8-AP$1)/計算!$B$26*AP$66))","v":0},{"$f":"IF($L8<AQ$1,0,IF($L8-AQ$1>計算!$B$26,AQ$66,($L8-AQ$1)/計算!$B$26*AQ$66))","v":0},{"$f":"IF($L8<AR$1,0,IF($L8-AR$1>計算!$B$26,AR$66,($L8-AR$1)/計算!$B$26*AR$66))","v":0},{"$f":"IF($L8<AS$1,0,IF($L8-AS$1>計算!$B$26,AS$66,($L8-AS$1)/計算!$B$26*AS$66))","v":0},{"$f":"IF($L8<AT$1,0,IF($L8-AT$1>計算!$B$26,AT$66,($L8-AT$1)/計算!$B$26*AT$66))","v":0},{"$f":"IF($L8<AU$1,0,IF($L8-AU$1>計算!$B$26,AU$66,($L8-AU$1)/計算!$B$26*AU$66))","v":0},{"$f":"IF($L8<AV$1,0,IF($L8-AV$1>計算!$B$26,AV$66,($L8-AV$1)/計算!$B$26*AV$66))","v":0},0.1824945418221422,-0.1824945418221422,null,null,null,null,null,null,null,null,null,{"$f":"IF($BG8<BH$1,0,IF($BG8-BH$1>計算!$B$26,BH$66,($BG8-BH$1)/計算!$B$26*BH$66))","v":-0.67165999785768882},{"$f":"IF($BG8<BI$1,0,IF($BG8-BI$1>計算!$B$26,BI$66,($BG8-BI$1)/計算!$B$26*BI$66))","v":0.90868889604222969},{"$f":"IF($BG8<BJ$1,0,IF($BG8-BJ$1>計算!$B$26,BJ$66,($BG8-BJ$1)/計算!$B$26*BJ$66))","v":0},{"$f":"IF($BG8<BK$1,0,IF($BG8-BK$1>計算!$B$26,BK$66,($BG8-BK$1)/計算!$B$26*BK$66))","v":0},{"$f":"IF($BG8<BL$1,0,IF($BG8-BL$1>計算!$B$26,BL$66,($BG8-BL$1)/計算!$B$26*BL$66))","v":0},{"$f":"IF($BG8<BM$1,0,IF($BG8-BM$1>計算!$B$26,BM$66,($BG8-BM$1)/計算!$B$26*BM$66))","v":0},{"$f":"IF($BG8<BN$1,0,IF($BG8-BN$1>計算!$B$26,BN$66,($BG8-BN$1)/計算!$B$26*BN$66))","v":0},{"$f":"IF($BG8<BO$1,0,IF($BG8-BO$1>計算!$B$26,BO$66,($BG8-BO$1)/計算!$B$26*BO$66))","v":0},{"$f":"IF($BG8<BP$1,0,IF($BG8-BP$1>計算!$B$26,BP$66,($BG8-BP$1)/計算!$B$26*BP$66))","v":0},{"$f":"IF($BG8<BQ$1,0,IF($BG8-BQ$1>計算!$B$26,BQ$66,($BG8-BQ$1)/計算!$B$26*BQ$66))","v":0},{"$f":"IF($BG8<BR$1,0,IF($BG8-BR$1>計算!$B$26,BR$66,($BG8-BR$1)/計算!$B$26*BR$66))","v":0},{"$f":"IF($BG8<BS$1,0,IF($BG8-BS$1>計算!$B$26,BS$66,($BG8-BS$1)/計算!$B$26*BS$66))","v":0},{"$f":"IF($BG8<BT$1,0,IF($BG8-BT$1>計算!$B$26,BT$66,($BG8-BT$1)/計算!$B$26*BT$66))","v":0},{"$f":"IF($BG8<BU$1,0,IF($BG8-BU$1>計算!$B$26,BU$66,($BG8-BU$1)/計算!$B$26*BU$66))","v":0},{"$f":"IF($BG8<BV$1,0,IF($BG8-BV$1>計算!$B$26,BV$66,($BG8-BV$1)/計算!$B$26*BV$66))","v":0},{"$f":"IF($BG8<BW$1,0,IF($BG8-BW$1>計算!$B$26,BW$66,($BG8-BW$1)/計算!$B$26*BW$66))","v":0},{"$f":"IF($BG8<BX$1,0,IF($BG8-BX$1>計算!$B$26,BX$66,($BG8-BX$1)/計算!$B$26*BX$66))","v":0},{"$f":"IF($BG8<BY$1,0,IF($BG8-BY$1>計算!$B$26,BY$66,($BG8-BY$1)/計算!$B$26*BY$66))","v":0},{"$f":"IF($BG8<BZ$1,0,IF($BG8-BZ$1>計算!$B$26,BZ$66,($BG8-BZ$1)/計算!$B$26*BZ$66))","v":0},{"$f":"IF($BG8<CA$1,0,IF($BG8-CA$1>計算!$B$26,CA$66,($BG8-CA$1)/計算!$B$26*CA$66))","v":0},{"$f":"IF($BG8<CB$1,0,IF($BG8-CB$1>計算!$B$26,CB$66,($BG8-CB$1)/計算!$B$26*CB$66))","v":0},{"$f":"IF($BG8<CC$1,0,IF($BG8-CC$1>計算!$B$26,CC$66,($BG8-CC$1)/計算!$B$26*CC$66))","v":0},{"$f":"IF($BG8<CD$1,0,IF($BG8-CD$1>計算!$B$26,CD$66,($BG8-CD$1)/計算!$B$26*CD$66))","v":0},{"$f":"IF($BG8<CE$1,0,IF($BG8-CE$1>計算!$B$26,CE$66,($BG8-CE$1)/計算!$B$26*CE$66))","v":0},{"$f":"IF($BG8<CF$1,0,IF($BG8-CF$1>計算!$B$26,CF$66,($BG8-CF$1)/計算!$B$26*CF$66))","v":0},{"$f":"IF($BG8<CG$1,0,IF($BG8-CG$1>計算!$B$26,CG$66,($BG8-CG$1)/計算!$B$26*CG$66))","v":0},{"$f":"IF($BG8<CH$1,0,IF($BG8-CH$1>計算!$B$26,CH$66,($BG8-CH$1)/計算!$B$26*CH$66))","v":0},{"$f":"IF($BG8<CI$1,0,IF($BG8-CI$1>計算!$B$26,CI$66,($BG8-CI$1)/計算!$B$26*CI$66))","v":0},{"$f":"IF($BG8<CJ$1,0,IF($BG8-CJ$1>計算!$B$26,CJ$66,($BG8-CJ$1)/計算!$B$26*CJ$66))","v":0},{"$f":"IF($BG8<CK$1,0,IF($BG8-CK$1>計算!$B$26,CK$66,($BG8-CK$1)/計算!$B$26*CK$66))","v":0},0.23702889818454087,-0.23702889818454087]
[null,null,null,null,3.5000000000000016E-9,60,{"$f":"IF(G37+計算!$B$26>=準備!$T$33,準備!$T$33,G37+計算!$B$26)+E73","v":9.4056524396184216},null,null,null,null,null,{"$f":"IF($L9<M$1,0,IF($L9-M$1>計算!$B$26,M$66,($L9-M$1)/計算!$B$26*M$66))","v":0.2983353312641418},{"$f":"IF($L9<N$1,0,IF($L9-N$1>計算!$B$26,N$66,($L9-N$1)/計算!$B$26*N$66))","v":-0.89890989052282899},{"$f":"IF($L9<O$1,0,IF($L9-O$1>計算!$B$26,O$66,($L9-O$1)/計算!$B$26*O$66))","v":-0.19963537096843248},{"$f":"IF($L9<P$1,0,IF($L9-P$1>計算!$B$26,P$66,($L9-P$1)/計算!$B$26*P$66))","v":0.56472244995829535},{"$f":"IF($L9<Q$1,0,IF($L9-Q$1>計算!$B$26,Q$66,($L9-Q$1)/計算!$B$26*Q$66))","v":0},{"$f":"IF($L9<R$1,0,IF($L9-R$1>計算!$B$26,R$66,($L9-R$1)/計算!$B$26*R$66))","v":0},{"$f":"IF($L9<S$1,0,IF($L9-S$1>計算!$B$26,S$66,($L9-S$1)/計算!$B$26*S$66))","v":0},{"$f":"IF($L9<T$1,0,IF($L9-T$1>計算!$B$26,T$66,($L9-T$1)/計算!$B$26*T$66))","v":0},{"$f":"IF($L9<U$1,0,IF($L9-U$1>計算!$B$26,U$66,($L9-U$1)/計算!$B$26*U$66))","v":0},{"$f":"IF($L9<V$1,0,IF($L9-V$1>計算!$B$26,V$66,($L9-V$1)/計算!$B$26*V$66))","v":0},{"$f":"IF($L9<W$1,0,IF($L9-W$1>計算!$B$26,W$66,($L9-W$1)/計算!$B$26*W$66))","v":0},{"$f":"IF($L9<X$1,0,IF($L9-X$1>計算!$B$26,X$66,($L9-X$1)/計算!$B$26*X$66))","v":0},{"$f":"IF($L9<Y$1,0,IF($L9-Y$1>計算!$B$26,Y$66,($L9-Y$1)/計算!$B$26*Y$66))","v":0},{"$f":"IF($L9<Z$1,0,IF($L9-Z$1>計算!$B$26,Z$66,($L9-Z$1)/計算!$B$26*Z$66))","v":0},{"$f":"IF($L9<AA$1,0,IF($L9-AA$1>計算!$B$26,AA$66,($L9-AA$1)/計算!$B$26*AA$66))","v":0},{"$f":"IF($L9<AB$1,0,IF($L9-AB$1>計算!$B$26,AB$66,($L9-AB$1)/計算!$B$26*AB$66))","v":0},{"$f":"IF($L9<AC$1,0,IF($L9-AC$1>計算!$B$26,AC$66,($L9-AC$1)/計算!$B$26*AC$66))","v":0},{"$f":"IF($L9<AD$1,0,IF($L9-AD$1>計算!$B$26,AD$66,($L9-AD$1)/計算!$B$26*AD$66))","v":0},{"$f":"IF($L9<AE$1,0,IF($L9-AE$1>計算!$B$26,AE$66,($L9-AE$1)/計算!$B$26*AE$66))","v":0},{"$f":"IF($L9<AF$1,0,IF($L9-AF$1>計算!$B$26,AF$66,($L9-AF$1)/計算!$B$26*AF$66))","v":0},{"$f":"IF($L9<AG$1,0,IF($L9-AG$1>計算!$B$26,AG$66,($L9-AG$1)/計算!$B$26*AG$66))","v":0},{"$f":"IF($L9<AH$1,0,IF($L9-AH$1>計算!$B$26,AH$66,($L9-AH$1)/計算!$B$26*AH$66))","v":0},{"$f":"IF($L9<AI$1,0,IF($L9-AI$1>計算!$B$26,AI$66,($L9-AI$1)/計算!$B$26*AI$66))","v":0},{"$f":"IF($L9<AJ$1,0,IF($L9-AJ$1>計算!$B$26,AJ$66,($L9-AJ$1)/計算!$B$26*AJ$66))","v":0},{"$f":"IF($L9<AK$1,0,IF($L9-AK$1>計算!$B$26,AK$66,($L9-AK$1)/計算!$B$26*AK$66))","v":0},{"$f":"IF($L9<AL$1,0,IF($L9-AL$1>計算!$B$26,AL$66,($L9-AL$1)/計算!$B$26*AL$66))","v":0},{"$f":"IF($L9<AM$1,0,IF($L9-AM$1>計算!$B$26,AM$66,($L9-AM$1)/計算!$B$26*AM$66))","v":0},{"$f":"IF($L9<AN$1,0,IF($L9-AN$1>計算!$B$26,AN$66,($L9-AN$1)/計算!$B$26*AN$66))","v":0},{"$f":"IF($L9<AO$1,0,IF($L9-AO$1>計算!$B$26,AO$66,($L9-AO$1)/計算!$B$26*AO$66))","v":0},{"$f":"IF($L9<AP$1,0,IF($L9-AP$1>計算!$B$26,AP$66,($L9-AP$1)/計算!$B$26*AP$66))","v":0},{"$f":"IF($L9<AQ$1,0,IF($L9-AQ$1>計算!$B$26,AQ$66,($L9-AQ$1)/計算!$B$26*AQ$66))","v":0},{"$f":"IF($L9<AR$1,0,IF($L9-AR$1>計算!$B$26,AR$66,($L9-AR$1)/計算!$B$26*AR$66))","v":0},{"$f":"IF($L9<AS$1,0,IF($L9-AS$1>計算!$B$26,AS$66,($L9-AS$1)/計算!$B$26*AS$66))","v":0},{"$f":"IF($L9<AT$1,0,IF($L9-AT$1>計算!$B$26,AT$66,($L9-AT$1)/計算!$B$26*AT$66))","v":0},{"$f":"IF($L9<AU$1,0,IF($L9-AU$1>計算!$B$26,AU$66,($L9-AU$1)/計算!$B$26*AU$66))","v":0},{"$f":"IF($L9<AV$1,0,IF($L9-AV$1>計算!$B$26,AV$66,($L9-AV$1)/計算!$B$26*AV$66))","v":0},-0.23548748026882438,0.23548748026882438,null,null,null,null,null,null,null,null,null,{"$f":"IF($BG9<BH$1,0,IF($BG9-BH$1>計算!$B$26,BH$66,($BG9-BH$1)/計算!$B$26*BH$66))","v":-0.67165999785768882},{"$f":"IF($BG9<BI$1,0,IF($BG9-BI$1>計算!$B$26,BI$66,($BG9-BI$1)/計算!$B$26*BI$66))","v":0.90868889604222969},{"$f":"IF($BG9<BJ$1,0,IF($BG9-BJ$1>計算!$B$26,BJ$66,($BG9-BJ$1)/計算!$B$26*BJ$66))","v":0},{"$f":"IF($BG9<BK$1,0,IF($BG9-BK$1>計算!$B$26,BK$66,($BG9-BK$1)/計算!$B$26*BK$66))","v":0},{"$f":"IF($BG9<BL$1,0,IF($BG9-BL$1>計算!$B$26,BL$66,($BG9-BL$1)/計算!$B$26*BL$66))","v":0},{"$f":"IF($BG9<BM$1,0,IF($BG9-BM$1>計算!$B$26,BM$66,($BG9-BM$1)/計算!$B$26*BM$66))","v":0},{"$f":"IF($BG9<BN$1,0,IF($BG9-BN$1>計算!$B$26,BN$66,($BG9-BN$1)/計算!$B$26*BN$66))","v":0},{"$f":"IF($BG9<BO$1,0,IF($BG9-BO$1>計算!$B$26,BO$66,($BG9-BO$1)/計算!$B$26*BO$66))","v":0},{"$f":"IF($BG9<BP$1,0,IF($BG9-BP$1>計算!$B$26,BP$66,($BG9-BP$1)/計算!$B$26*BP$66))","v":0},{"$f":"IF($BG9<BQ$1,0,IF($BG9-BQ$1>計算!$B$26,BQ$66,($BG9-BQ$1)/計算!$B$26*BQ$66))","v":0},{"$f":"IF($BG9<BR$1,0,IF($BG9-BR$1>計算!$B$26,BR$66,($BG9-BR$1)/計算!$B$26*BR$66))","v":0},{"$f":"IF($BG9<BS$1,0,IF($BG9-BS$1>計算!$B$26,BS$66,($BG9-BS$1)/計算!$B$26*BS$66))","v":0},{"$f":"IF($BG9<BT$1,0,IF($BG9-BT$1>計算!$B$26,BT$66,($BG9-BT$1)/計算!$B$26*BT$66))","v":0},{"$f":"IF($BG9<BU$1,0,IF($BG9-BU$1>計算!$B$26,BU$66,($BG9-BU$1)/計算!$B$26*BU$66))","v":0},{"$f":"IF($BG9<BV$1,0,IF($BG9-BV$1>計算!$B$26,BV$66,($BG9-BV$1)/計算!$B$26*BV$66))","v":0},{"$f":"IF($BG9<BW$1,0,IF($BG9-BW$1>計算!$B$26,BW$66,($BG9-BW$1)/計算!$B$26*BW$66))","v":0},{"$f":"IF($BG9<BX$1,0,IF($BG9-BX$1>計算!$B$26,BX$66,($BG9-BX$1)/計算!$B$26*BX$66))","v":0},{"$f":"IF($BG9<BY$1,0,IF($BG9-BY$1>計算!$B$26,BY$66,($BG9-BY$1)/計算!$B$26*BY$66))","v":0},{"$f":"IF($BG9<BZ$1,0,IF($BG9-BZ$1>計算!$B$26,BZ$66,($BG9-BZ$1)/計算!$B$26*BZ$66))","v":0},{"$f":"IF($BG9<CA$1,0,IF($BG9-CA$1>計算!$B$26,CA$66,($BG9-CA$1)/計算!$B$26*CA$66))","v":0},{"$f":"IF($BG9<CB$1,0,IF($BG9-CB$1>計算!$B$26,CB$66,($BG9-CB$1)/計算!$B$26*CB$66))","v":0},{"$f":"IF($BG9<CC$1,0,IF($BG9-CC$1>計算!$B$26,CC$66,($BG9-CC$1)/計算!$B$26*CC$66))","v":0},{"$f":"IF($BG9<CD$1,0,IF($BG9-CD$1>計算!$B$26,CD$66,($BG9-CD$1)/計算!$B$26*CD$66))","v":0},{"$f":"IF($BG9<CE$1,0,IF($BG9-CE$1>計算!$B$26,CE$66,($BG9-CE$1)/計算!$B$26*CE$66))","v":0},{"$f":"IF($BG9<CF$1,0,IF($BG9-CF$1>計算!$B$26,CF$66,($BG9-CF$1)/計算!$B$26*CF$66))","v":0},{"$f":"IF($BG9<CG$1,0,IF($BG9-CG$1>計算!$B$26,CG$66,($BG9-CG$1)/計算!$B$26*CG$66))","v":0},{"$f":"IF($BG9<CH$1,0,IF($BG9-CH$1>計算!$B$26,CH$66,($BG9-CH$1)/計算!$B$26*CH$66))","v":0},{"$f":"IF($BG9<CI$1,0,IF($BG9-CI$1>計算!$B$26,CI$66,($BG9-CI$1)/計算!$B$26*CI$66))","v":0},{"$f":"IF($BG9<CJ$1,0,IF($BG9-CJ$1>計算!$B$26,CJ$66,($BG9-CJ$1)/計算!$B$26*CJ$66))","v":0},{"$f":"IF($BG9<CK$1,0,IF($BG9-CK$1>計算!$B$26,CK$66,($BG9-CK$1)/計算!$B$26*CK$66))","v":0},0.23702889818454087,-0.23702889818454087]
[null,null,null,null,3.6000000000000016E-9,61,{"$f":"IF(G38+計算!$B$26>=準備!$T$33,準備!$T$33,G38+計算!$B$26)+E74","v":9.4056524397184216},null,null,null,null,null,{"$f":"IF($L10<M$1,0,IF($L10-M$1>計算!$B$26,M$66,($L10-M$1)/計算!$B$26*M$66))","v":0.2983353312641418},{"$f":"IF($L10<N$1,0,IF($L10-N$1>計算!$B$26,N$66,($L10-N$1)/計算!$B$26*N$66))","v":-0.89890989052282899},{"$f":"IF($L10<O$1,0,IF($L10-O$1>計算!$B$26,O$66,($L10-O$1)/計算!$B$26*O$66))","v":-0.21184658990487348},{"$f":"IF($L10<P$1,0,IF($L10-P$1>計算!$B$26,P$66,($L10-P$1)/計算!$B$26*P$66))","v":0.6015157312664885},{"$f":"IF($L10<Q$1,0,IF($L10-Q$1>計算!$B$26,Q$66,($L10-Q$1)/計算!$B$26*Q$66))","v":0},{"$f":"IF($L10<R$1,0,IF($L10-R$1>計算!$B$26,R$66,($L10-R$1)/計算!$B$26*R$66))","v":0},{"$f":"IF($L10<S$1,0,IF($L10-S$1>計算!$B$26,S$66,($L10-S$1)/計算!$B$26*S$66))","v":0},{"$f":"IF($L10<T$1,0,IF($L10-T$1>計算!$B$26,T$66,($L10-T$1)/計算!$B$26*T$66))","v":0},{"$f":"IF($L10<U$1,0,IF($L10-U$1>計算!$B$26,U$66,($L10-U$1)/計算!$B$26*U$66))","v":0},{"$f":"IF($L10<V$1,0,IF($L10-V$1>計算!$B$26,V$66,($L10-V$1)/計算!$B$26*V$66))","v":0},{"$f":"IF($L10<W$1,0,IF($L10-W$1>計算!$B$26,W$66,($L10-W$1)/計算!$B$26*W$66))","v":0},{"$f":"IF($L10<X$1,0,IF($L10-X$1>計算!$B$26,X$66,($L10-X$1)/計算!$B$26*X$66))","v":0},{"$f":"IF($L10<Y$1,0,IF($L10-Y$1>計算!$B$26,Y$66,($L10-Y$1)/計算!$B$26*Y$66))","v":0},{"$f":"IF($L10<Z$1,0,IF($L10-Z$1>計算!$B$26,Z$66,($L10-Z$1)/計算!$B$26*Z$66))","v":0},{"$f":"IF($L10<AA$1,0,IF($L10-AA$1>計算!$B$26,AA$66,($L10-AA$1)/計算!$B$26*AA$66))","v":0},{"$f":"IF($L10<AB$1,0,IF($L10-AB$1>計算!$B$26,AB$66,($L10-AB$1)/計算!$B$26*AB$66))","v":0},{"$f":"IF($L10<AC$1,0,IF($L10-AC$1>計算!$B$26,AC$66,($L10-AC$1)/計算!$B$26*AC$66))","v":0},{"$f":"IF($L10<AD$1,0,IF($L10-AD$1>計算!$B$26,AD$66,($L10-AD$1)/計算!$B$26*AD$66))","v":0},{"$f":"IF($L10<AE$1,0,IF($L10-AE$1>計算!$B$26,AE$66,($L10-AE$1)/計算!$B$26*AE$66))","v":0},{"$f":"IF($L10<AF$1,0,IF($L10-AF$1>計算!$B$26,AF$66,($L10-AF$1)/計算!$B$26*AF$66))","v":0},{"$f":"IF($L10<AG$1,0,IF($L10-AG$1>計算!$B$26,AG$66,($L10-AG$1)/計算!$B$26*AG$66))","v":0},{"$f":"IF($L10<AH$1,0,IF($L10-AH$1>計算!$B$26,AH$66,($L10-AH$1)/計算!$B$26*AH$66))","v":0},{"$f":"IF($L10<AI$1,0,IF($L10-AI$1>計算!$B$26,AI$66,($L10-AI$1)/計算!$B$26*AI$66))","v":0},{"$f":"IF($L10<AJ$1,0,IF($L10-AJ$1>計算!$B$26,AJ$66,($L10-AJ$1)/計算!$B$26*AJ$66))","v":0},{"$f":"IF($L10<AK$1,0,IF($L10-AK$1>計算!$B$26,AK$66,($L10-AK$1)/計算!$B$26*AK$66))","v":0},{"$f":"IF($L10<AL$1,0,IF($L10-AL$1>計算!$B$26,AL$66,($L10-AL$1)/計算!$B$26*AL$66))","v":0},{"$f":"IF($L10<AM$1,0,IF($L10-AM$1>計算!$B$26,AM$66,($L10-AM$1)/計算!$B$26*AM$66))","v":0},{"$f":"IF($L10<AN$1,0,IF($L10-AN$1>計算!$B$26,AN$66,($L10-AN$1)/計算!$B$26*AN$66))","v":0},{"$f":"IF($L10<AO$1,0,IF($L10-AO$1>計算!$B$26,AO$66,($L10-AO$1)/計算!$B$26*AO$66))","v":0},{"$f":"IF($L10<AP$1,0,IF($L10-AP$1>計算!$B$26,AP$66,($L10-AP$1)/計算!$B$26*AP$66))","v":0},{"$f":"IF($L10<AQ$1,0,IF($L10-AQ$1>計算!$B$26,AQ$66,($L10-AQ$1)/計算!$B$26*AQ$66))","v":0},{"$f":"IF($L10<AR$1,0,IF($L10-AR$1>計算!$B$26,AR$66,($L10-AR$1)/計算!$B$26*AR$66))","v":0},{"$f":"IF($L10<AS$1,0,IF($L10-AS$1>計算!$B$26,AS$66,($L10-AS$1)/計算!$B$26*AS$66))","v":0},{"$f":"IF($L10<AT$1,0,IF($L10-AT$1>計算!$B$26,AT$66,($L10-AT$1)/計算!$B$26*AT$66))","v":0},{"$f":"IF($L10<AU$1,0,IF($L10-AU$1>計算!$B$26,AU$66,($L10-AU$1)/計算!$B$26*AU$66))","v":0},{"$f":"IF($L10<AV$1,0,IF($L10-AV$1>計算!$B$26,AV$66,($L10-AV$1)/計算!$B$26*AV$66))","v":0},-0.21090541789707218,0.21090541789707218,null,null,null,null,null,null,null,null,null,{"$f":"IF($BG10<BH$1,0,IF($BG10-BH$1>計算!$B$26,BH$66,($BG10-BH$1)/計算!$B$26*BH$66))","v":-0.67165999785768882},{"$f":"IF($BG10<BI$1,0,IF($BG10-BI$1>計算!$B$26,BI$66,($BG10-BI$1)/計算!$B$26*BI$66))","v":0.90868889604222969},{"$f":"IF($BG10<BJ$1,0,IF($BG10-BJ$1>計算!$B$26,BJ$66,($BG10-BJ$1)/計算!$B$26*BJ$66))","v":-9.2059469990722915E-3},{"$f":"IF($BG10<BK$1,0,IF($BG10-BK$1>計算!$B$26,BK$66,($BG10-BK$1)/計算!$B$26*BK$66))","v":0},{"$f":"IF($BG10<BL$1,0,IF($BG10-BL$1>計算!$B$26,BL$66,($BG10-BL$1)/計算!$B$26*BL$66))","v":0},{"$f":"IF($BG10<BM$1,0,IF($BG10-BM$1>計算!$B$26,BM$66,($BG10-BM$1)/計算!$B$26*BM$66))","v":0},{"$f":"IF($BG10<BN$1,0,IF($BG10-BN$1>計算!$B$26,BN$66,($BG10-BN$1)/計算!$B$26*BN$66))","v":0},{"$f":"IF($BG10<BO$1,0,IF($BG10-BO$1>計算!$B$26,BO$66,($BG10-BO$1)/計算!$B$26*BO$66))","v":0},{"$f":"IF($BG10<BP$1,0,IF($BG10-BP$1>計算!$B$26,BP$66,($BG10-BP$1)/計算!$B$26*BP$66))","v":0},{"$f":"IF($BG10<BQ$1,0,IF($BG10-BQ$1>計算!$B$26,BQ$66,($BG10-BQ$1)/計算!$B$26*BQ$66))","v":0},{"$f":"IF($BG10<BR$1,0,IF($BG10-BR$1>計算!$B$26,BR$66,($BG10-BR$1)/計算!$B$26*BR$66))","v":0},{"$f":"IF($BG10<BS$1,0,IF($BG10-BS$1>計算!$B$26,BS$66,($BG10-BS$1)/計算!$B$26*BS$66))","v":0},{"$f":"IF($BG10<BT$1,0,IF($BG10-BT$1>計算!$B$26,BT$66,($BG10-BT$1)/計算!$B$26*BT$66))","v":0},{"$f":"IF($BG10<BU$1,0,IF($BG10-BU$1>計算!$B$26,BU$66,($BG10-BU$1)/計算!$B$26*BU$66))","v":0},{"$f":"IF($BG10<BV$1,0,IF($BG10-BV$1>計算!$B$26,BV$66,($BG10-BV$1)/計算!$B$26*BV$66))","v":0},{"$f":"IF($BG10<BW$1,0,IF($BG10-BW$1>計算!$B$26,BW$66,($BG10-BW$1)/計算!$B$26*BW$66))","v":0},{"$f":"IF($BG10<BX$1,0,IF($BG10-BX$1>計算!$B$26,BX$66,($BG10-BX$1)/計算!$B$26*BX$66))","v":0},{"$f":"IF($BG10<BY$1,0,IF($BG10-BY$1>計算!$B$26,BY$66,($BG10-BY$1)/計算!$B$26*BY$66))","v":0},{"$f":"IF($BG10<BZ$1,0,IF($BG10-BZ$1>計算!$B$26,BZ$66,($BG10-BZ$1)/計算!$B$26*BZ$66))","v":0},{"$f":"IF($BG10<CA$1,0,IF($BG10-CA$1>計算!$B$26,CA$66,($BG10-CA$1)/計算!$B$26*CA$66))","v":0},{"$f":"IF($BG10<CB$1,0,IF($BG10-CB$1>計算!$B$26,CB$66,($BG10-CB$1)/計算!$B$26*CB$66))","v":0},{"$f":"IF($BG10<CC$1,0,IF($BG10-CC$1>計算!$B$26,CC$66,($BG10-CC$1)/計算!$B$26*CC$66))","v":0},{"$f":"IF($BG10<CD$1,0,IF($BG10-CD$1>計算!$B$26,CD$66,($BG10-CD$1)/計算!$B$26*CD$66))","v":0},{"$f":"IF($BG10<CE$1,0,IF($BG10-CE$1>計算!$B$26,CE$66,($BG10-CE$1)/計算!$B$26*CE$66))","v":0},{"$f":"IF($BG10<CF$1,0,IF($BG10-CF$1>計算!$B$26,CF$66,($BG10-CF$1)/計算!$B$26*CF$66))","v":0},{"$f":"IF($BG10<CG$1,0,IF($BG10-CG$1>計算!$B$26,CG$66,($BG10-CG$1)/計算!$B$26*CG$66))","v":0},{"$f":"IF($BG10<CH$1,0,IF($BG10-CH$1>計算!$B$26,CH$66,($BG10-CH$1)/計算!$B$26*CH$66))","v":0},{"$f":"IF($BG10<CI$1,0,IF($BG10-CI$1>計算!$B$26,CI$66,($BG10-CI$1)/計算!$B$26*CI$66))","v":0},{"$f":"IF($BG10<CJ$1,0,IF($BG10-CJ$1>計算!$B$26,CJ$66,($BG10-CJ$1)/計算!$B$26*CJ$66))","v":0},{"$f":"IF($BG10<CK$1,0,IF($BG10-CK$1>計算!$B$26,CK$66,($BG10-CK$1)/計算!$B$26*CK$66))","v":0},0.22782295118546858,-0.22782295118546858]
[null,null,null,null,null,null,null,null,null,null,null,null,{"$f":"IF($L11<M$1,0,IF($L11-M$1>計算!$B$26,M$66,($L11-M$1)/計算!$B$26*M$66))","v":0.2983353312641418},{"$f":"IF($L11<N$1,0,IF($L11-N$1>計算!$B$26,N$66,($L11-N$1)/計算!$B$26*N$66))","v":-0.89890989052282899},{"$f":"IF($L11<O$1,0,IF($L11-O$1>計算!$B$26,O$66,($L11-O$1)/計算!$B$26*O$66))","v":-0.21184658990487348},{"$f":"IF($L11<P$1,0,IF($L11-P$1>計算!$B$26,P$66,($L11-P$1)/計算!$B$26*P$66))","v":0.63830901206403412},{"$f":"IF($L11<Q$1,0,IF($L11-Q$1>計算!$B$26,Q$66,($L11-Q$1)/計算!$B$26*Q$66))","v":0},{"$f":"IF($L11<R$1,0,IF($L11-R$1>計算!$B$26,R$66,($L11-R$1)/計算!$B$26*R$66))","v":0},{"$f":"IF($L11<S$1,0,IF($L11-S$1>計算!$B$26,S$66,($L11-S$1)/計算!$B$26*S$66))","v":0},{"$f":"IF($L11<T$1,0,IF($L11-T$1>計算!$B$26,T$66,($L11-T$1)/計算!$B$26*T$66))","v":0},{"$f":"IF($L11<U$1,0,IF($L11-U$1>計算!$B$26,U$66,($L11-U$1)/計算!$B$26*U$66))","v":0},{"$f":"IF($L11<V$1,0,IF($L11-V$1>計算!$B$26,V$66,($L11-V$1)/計算!$B$26*V$66))","v":0},{"$f":"IF($L11<W$1,0,IF($L11-W$1>計算!$B$26,W$66,($L11-W$1)/計算!$B$26*W$66))","v":0},{"$f":"IF($L11<X$1,0,IF($L11-X$1>計算!$B$26,X$66,($L11-X$1)/計算!$B$26*X$66))","v":0},{"$f":"IF($L11<Y$1,0,IF($L11-Y$1>計算!$B$26,Y$66,($L11-Y$1)/計算!$B$26*Y$66))","v":0},{"$f":"IF($L11<Z$1,0,IF($L11-Z$1>計算!$B$26,Z$66,($L11-Z$1)/計算!$B$26*Z$66))","v":0},{"$f":"IF($L11<AA$1,0,IF($L11-AA$1>計算!$B$26,AA$66,($L11-AA$1)/計算!$B$26*AA$66))","v":0},{"$f":"IF($L11<AB$1,0,IF($L11-AB$1>計算!$B$26,AB$66,($L11-AB$1)/計算!$B$26*AB$66))","v":0},{"$f":"IF($L11<AC$1,0,IF($L11-AC$1>計算!$B$26,AC$66,($L11-AC$1)/計算!$B$26*AC$66))","v":0},{"$f":"IF($L11<AD$1,0,IF($L11-AD$1>計算!$B$26,AD$66,($L11-AD$1)/計算!$B$26*AD$66))","v":0},{"$f":"IF($L11<AE$1,0,IF($L11-AE$1>計算!$B$26,AE$66,($L11-AE$1)/計算!$B$26*AE$66))","v":0},{"$f":"IF($L11<AF$1,0,IF($L11-AF$1>計算!$B$26,AF$66,($L11-AF$1)/計算!$B$26*AF$66))","v":0},{"$f":"IF($L11<AG$1,0,IF($L11-AG$1>計算!$B$26,AG$66,($L11-AG$1)/計算!$B$26*AG$66))","v":0},{"$f":"IF($L11<AH$1,0,IF($L11-AH$1>計算!$B$26,AH$66,($L11-AH$1)/計算!$B$26*AH$66))","v":0},{"$f":"IF($L11<AI$1,0,IF($L11-AI$1>計算!$B$26,AI$66,($L11-AI$1)/計算!$B$26*AI$66))","v":0},{"$f":"IF($L11<AJ$1,0,IF($L11-AJ$1>計算!$B$26,AJ$66,($L11-AJ$1)/計算!$B$26*AJ$66))","v":0},{"$f":"IF($L11<AK$1,0,IF($L11-AK$1>計算!$B$26,AK$66,($L11-AK$1)/計算!$B$26*AK$66))","v":0},{"$f":"IF($L11<AL$1,0,IF($L11-AL$1>計算!$B$26,AL$66,($L11-AL$1)/計算!$B$26*AL$66))","v":0},{"$f":"IF($L11<AM$1,0,IF($L11-AM$1>計算!$B$26,AM$66,($L11-AM$1)/計算!$B$26*AM$66))","v":0},{"$f":"IF($L11<AN$1,0,IF($L11-AN$1>計算!$B$26,AN$66,($L11-AN$1)/計算!$B$26*AN$66))","v":0},{"$f":"IF($L11<AO$1,0,IF($L11-AO$1>計算!$B$26,AO$66,($L11-AO$1)/計算!$B$26*AO$66))","v":0},{"$f":"IF($L11<AP$1,0,IF($L11-AP$1>計算!$B$26,AP$66,($L11-AP$1)/計算!$B$26*AP$66))","v":0},{"$f":"IF($L11<AQ$1,0,IF($L11-AQ$1>計算!$B$26,AQ$66,($L11-AQ$1)/計算!$B$26*AQ$66))","v":0},{"$f":"IF($L11<AR$1,0,IF($L11-AR$1>計算!$B$26,AR$66,($L11-AR$1)/計算!$B$26*AR$66))","v":0},{"$f":"IF($L11<AS$1,0,IF($L11-AS$1>計算!$B$26,AS$66,($L11-AS$1)/計算!$B$26*AS$66))","v":0},{"$f":"IF($L11<AT$1,0,IF($L11-AT$1>計算!$B$26,AT$66,($L11-AT$1)/計算!$B$26*AT$66))","v":0},{"$f":"IF($L11<AU$1,0,IF($L11-AU$1>計算!$B$26,AU$66,($L11-AU$1)/計算!$B$26*AU$66))","v":0},{"$f":"IF($L11<AV$1,0,IF($L11-AV$1>計算!$B$26,AV$66,($L11-AV$1)/計算!$B$26*AV$66))","v":0},-0.17411213709952655,0.17411213709952655,null,null,null,null,null,null,null,null,null,{"$f":"IF($BG11<BH$1,0,IF($BG11-BH$1>計算!$B$26,BH$66,($BG11-BH$1)/計算!$B$26*BH$66))","v":-0.67165999785768882},{"$f":"IF($BG11<BI$1,0,IF($BG11-BI$1>計算!$B$26,BI$66,($BG11-BI$1)/計算!$B$26*BI$66))","v":0.90868889604222969},{"$f":"IF($BG11<BJ$1,0,IF($BG11-BJ$1>計算!$B$26,BJ$66,($BG11-BJ$1)/計算!$B$26*BJ$66))","v":-1.8411893998144725E-2},{"$f":"IF($BG11<BK$1,0,IF($BG11-BK$1>計算!$B$26,BK$66,($BG11-BK$1)/計算!$B$26*BK$66))","v":-1.2422891885367292E-2},{"$f":"IF($BG11<BL$1,0,IF($BG11-BL$1>計算!$B$26,BL$66,($BG11-BL$1)/計算!$B$26*BL$66))","v":0},{"$f":"IF($BG11<BM$1,0,IF($BG11-BM$1>計算!$B$26,BM$66,($BG11-BM$1)/計算!$B$26*BM$66))","v":0},{"$f":"IF($BG11<BN$1,0,IF($BG11-BN$1>計算!$B$26,BN$66,($BG11-BN$1)/計算!$B$26*BN$66))","v":0},{"$f":"IF($BG11<BO$1,0,IF($BG11-BO$1>計算!$B$26,BO$66,($BG11-BO$1)/計算!$B$26*BO$66))","v":0},{"$f":"IF($BG11<BP$1,0,IF($BG11-BP$1>計算!$B$26,BP$66,($BG11-BP$1)/計算!$B$26*BP$66))","v":0},{"$f":"IF($BG11<BQ$1,0,IF($BG11-BQ$1>計算!$B$26,BQ$66,($BG11-BQ$1)/計算!$B$26*BQ$66))","v":0},{"$f":"IF($BG11<BR$1,0,IF($BG11-BR$1>計算!$B$26,BR$66,($BG11-BR$1)/計算!$B$26*BR$66))","v":0},{"$f":"IF($BG11<BS$1,0,IF($BG11-BS$1>計算!$B$26,BS$66,($BG11-BS$1)/計算!$B$26*BS$66))","v":0},{"$f":"IF($BG11<BT$1,0,IF($BG11-BT$1>計算!$B$26,BT$66,($BG11-BT$1)/計算!$B$26*BT$66))","v":0},{"$f":"IF($BG11<BU$1,0,IF($BG11-BU$1>計算!$B$26,BU$66,($BG11-BU$1)/計算!$B$26*BU$66))","v":0},{"$f":"IF($BG11<BV$1,0,IF($BG11-BV$1>計算!$B$26,BV$66,($BG11-BV$1)/計算!$B$26*BV$66))","v":0},{"$f":"IF($BG11<BW$1,0,IF($BG11-BW$1>計算!$B$26,BW$66,($BG11-BW$1)/計算!$B$26*BW$66))","v":0},{"$f":"IF($BG11<BX$1,0,IF($BG11-BX$1>計算!$B$26,BX$66,($BG11-BX$1)/計算!$B$26*BX$66))","v":0},{"$f":"IF($BG11<BY$1,0,IF($BG11-BY$1>計算!$B$26,BY$66,($BG11-BY$1)/計算!$B$26*BY$66))","v":0},{"$f":"IF($BG11<BZ$1,0,IF($BG11-BZ$1>計算!$B$26,BZ$66,($BG11-BZ$1)/計算!$B$26*BZ$66))","v":0},{"$f":"IF($BG11<CA$1,0,IF($BG11-CA$1>計算!$B$26,CA$66,($BG11-CA$1)/計算!$B$26*CA$66))","v":0},{"$f":"IF($BG11<CB$1,0,IF($BG11-CB$1>計算!$B$26,CB$66,($BG11-CB$1)/計算!$B$26*CB$66))","v":0},{"$f":"IF($BG11<CC$1,0,IF($BG11-CC$1>計算!$B$26,CC$66,($BG11-CC$1)/計算!$B$26*CC$66))","v":0},{"$f":"IF($BG11<CD$1,0,IF($BG11-CD$1>計算!$B$26,CD$66,($BG11-CD$1)/計算!$B$26*CD$66))","v":0},{"$f":"IF($BG11<CE$1,0,IF($BG11-CE$1>計算!$B$26,CE$66,($BG11-CE$1)/計算!$B$26*CE$66))","v":0},{"$f":"IF($BG11<CF$1,0,IF($BG11-CF$1>計算!$B$26,CF$66,($BG11-CF$1)/計算!$B$26*CF$66))","v":0},{"$f":"IF($BG11<CG$1,0,IF($BG11-CG$1>計算!$B$26,CG$66,($BG11-CG$1)/計算!$B$26*CG$66))","v":0},{"$f":"IF($BG11<CH$1,0,IF($BG11-CH$1>計算!$B$26,CH$66,($BG11-CH$1)/計算!$B$26*CH$66))","v":0},{"$f":"IF($BG11<CI$1,0,IF($BG11-CI$1>計算!$B$26,CI$66,($BG11-CI$1)/計算!$B$26*CI$66))","v":0},{"$f":"IF($BG11<CJ$1,0,IF($BG11-CJ$1>計算!$B$26,CJ$66,($BG11-CJ$1)/計算!$B$26*CJ$66))","v":0},{"$f":"IF($BG11<CK$1,0,IF($BG11-CK$1>計算!$B$26,CK$66,($BG11-CK$1)/計算!$B$26*CK$66))","v":0},0.20619411230102885,-0.20619411230102885]
[null,null,null,null,null,null,null,null,null,null,null,null,{"$f":"IF($L12<M$1,0,IF($L12-M$1>計算!$B$26,M$66,($L12-M$1)/計算!$B$26*M$66))","v":0.2983353312641418},{"$f":"IF($L12<N$1,0,IF($L12-N$1>計算!$B$26,N$66,($L12-N$1)/計算!$B$26*N$66))","v":-0.89890989052282899},{"$f":"IF($L12<O$1,0,IF($L12-O$1>計算!$B$26,O$66,($L12-O$1)/計算!$B$26*O$66))","v":-0.21184658990487348},{"$f":"IF($L12<P$1,0,IF($L12-P$1>計算!$B$26,P$66,($L12-P$1)/計算!$B$26*P$66))","v":0.63830901206403412},{"$f":"IF($L12<Q$1,0,IF($L12-Q$1>計算!$B$26,Q$66,($L12-Q$1)/計算!$B$26*Q$66))","v":0},{"$f":"IF($L12<R$1,0,IF($L12-R$1>計算!$B$26,R$66,($L12-R$1)/計算!$B$26*R$66))","v":0},{"$f":"IF($L12<S$1,0,IF($L12-S$1>計算!$B$26,S$66,($L12-S$1)/計算!$B$26*S$66))","v":0},{"$f":"IF($L12<T$1,0,IF($L12-T$1>計算!$B$26,T$66,($L12-T$1)/計算!$B$26*T$66))","v":0},{"$f":"IF($L12<U$1,0,IF($L12-U$1>計算!$B$26,U$66,($L12-U$1)/計算!$B$26*U$66))","v":0},{"$f":"IF($L12<V$1,0,IF($L12-V$1>計算!$B$26,V$66,($L12-V$1)/計算!$B$26*V$66))","v":0},{"$f":"IF($L12<W$1,0,IF($L12-W$1>計算!$B$26,W$66,($L12-W$1)/計算!$B$26*W$66))","v":0},{"$f":"IF($L12<X$1,0,IF($L12-X$1>計算!$B$26,X$66,($L12-X$1)/計算!$B$26*X$66))","v":0},{"$f":"IF($L12<Y$1,0,IF($L12-Y$1>計算!$B$26,Y$66,($L12-Y$1)/計算!$B$26*Y$66))","v":0},{"$f":"IF($L12<Z$1,0,IF($L12-Z$1>計算!$B$26,Z$66,($L12-Z$1)/計算!$B$26*Z$66))","v":0},{"$f":"IF($L12<AA$1,0,IF($L12-AA$1>計算!$B$26,AA$66,($L12-AA$1)/計算!$B$26*AA$66))","v":0},{"$f":"IF($L12<AB$1,0,IF($L12-AB$1>計算!$B$26,AB$66,($L12-AB$1)/計算!$B$26*AB$66))","v":0},{"$f":"IF($L12<AC$1,0,IF($L12-AC$1>計算!$B$26,AC$66,($L12-AC$1)/計算!$B$26*AC$66))","v":0},{"$f":"IF($L12<AD$1,0,IF($L12-AD$1>計算!$B$26,AD$66,($L12-AD$1)/計算!$B$26*AD$66))","v":0},{"$f":"IF($L12<AE$1,0,IF($L12-AE$1>計算!$B$26,AE$66,($L12-AE$1)/計算!$B$26*AE$66))","v":0},{"$f":"IF($L12<AF$1,0,IF($L12-AF$1>計算!$B$26,AF$66,($L12-AF$1)/計算!$B$26*AF$66))","v":0},{"$f":"IF($L12<AG$1,0,IF($L12-AG$1>計算!$B$26,AG$66,($L12-AG$1)/計算!$B$26*AG$66))","v":0},{"$f":"IF($L12<AH$1,0,IF($L12-AH$1>計算!$B$26,AH$66,($L12-AH$1)/計算!$B$26*AH$66))","v":0},{"$f":"IF($L12<AI$1,0,IF($L12-AI$1>計算!$B$26,AI$66,($L12-AI$1)/計算!$B$26*AI$66))","v":0},{"$f":"IF($L12<AJ$1,0,IF($L12-AJ$1>計算!$B$26,AJ$66,($L12-AJ$1)/計算!$B$26*AJ$66))","v":0},{"$f":"IF($L12<AK$1,0,IF($L12-AK$1>計算!$B$26,AK$66,($L12-AK$1)/計算!$B$26*AK$66))","v":0},{"$f":"IF($L12<AL$1,0,IF($L12-AL$1>計算!$B$26,AL$66,($L12-AL$1)/計算!$B$26*AL$66))","v":0},{"$f":"IF($L12<AM$1,0,IF($L12-AM$1>計算!$B$26,AM$66,($L12-AM$1)/計算!$B$26*AM$66))","v":0},{"$f":"IF($L12<AN$1,0,IF($L12-AN$1>計算!$B$26,AN$66,($L12-AN$1)/計算!$B$26*AN$66))","v":0},{"$f":"IF($L12<AO$1,0,IF($L12-AO$1>計算!$B$26,AO$66,($L12-AO$1)/計算!$B$26*AO$66))","v":0},{"$f":"IF($L12<AP$1,0,IF($L12-AP$1>計算!$B$26,AP$66,($L12-AP$1)/計算!$B$26*AP$66))","v":0},{"$f":"IF($L12<AQ$1,0,IF($L12-AQ$1>計算!$B$26,AQ$66,($L12-AQ$1)/計算!$B$26*AQ$66))","v":0},{"$f":"IF($L12<AR$1,0,IF($L12-AR$1>計算!$B$26,AR$66,($L12-AR$1)/計算!$B$26*AR$66))","v":0},{"$f":"IF($L12<AS$1,0,IF($L12-AS$1>計算!$B$26,AS$66,($L12-AS$1)/計算!$B$26*AS$66))","v":0},{"$f":"IF($L12<AT$1,0,IF($L12-AT$1>計算!$B$26,AT$66,($L12-AT$1)/計算!$B$26*AT$66))","v":0},{"$f":"IF($L12<AU$1,0,IF($L12-AU$1>計算!$B$26,AU$66,($L12-AU$1)/計算!$B$26*AU$66))","v":0},{"$f":"IF($L12<AV$1,0,IF($L12-AV$1>計算!$B$26,AV$66,($L12-AV$1)/計算!$B$26*AV$66))","v":0},-0.17411213709952655,0.17411213709952655,null,null,null,null,null,null,null,null,null,{"$f":"IF($BG12<BH$1,0,IF($BG12-BH$1>計算!$B$26,BH$66,($BG12-BH$1)/計算!$B$26*BH$66))","v":-0.67165999785768882},{"$f":"IF($BG12<BI$1,0,IF($BG12-BI$1>計算!$B$26,BI$66,($BG12-BI$1)/計算!$B$26*BI$66))","v":0.90868889604222969},{"$f":"IF($BG12<BJ$1,0,IF($BG12-BJ$1>計算!$B$26,BJ$66,($BG12-BJ$1)/計算!$B$26*BJ$66))","v":-2.7617840997217157E-2},{"$f":"IF($BG12<BK$1,0,IF($BG12-BK$1>計算!$B$26,BK$66,($BG12-BK$1)/計算!$B$26*BK$66))","v":-2.4845783770734584E-2},{"$f":"IF($BG12<BL$1,0,IF($BG12-BL$1>計算!$B$26,BL$66,($BG12-BL$1)/計算!$B$26*BL$66))","v":-2.1315473133793387E-3},{"$f":"IF($BG12<BM$1,0,IF($BG12-BM$1>計算!$B$26,BM$66,($BG12-BM$1)/計算!$B$26*BM$66))","v":0},{"$f":"IF($BG12<BN$1,0,IF($BG12-BN$1>計算!$B$26,BN$66,($BG12-BN$1)/計算!$B$26*BN$66))","v":0},{"$f":"IF($BG12<BO$1,0,IF($BG12-BO$1>計算!$B$26,BO$66,($BG12-BO$1)/計算!$B$26*BO$66))","v":0},{"$f":"IF($BG12<BP$1,0,IF($BG12-BP$1>計算!$B$26,BP$66,($BG12-BP$1)/計算!$B$26*BP$66))","v":0},{"$f":"IF($BG12<BQ$1,0,IF($BG12-BQ$1>計算!$B$26,BQ$66,($BG12-BQ$1)/計算!$B$26*BQ$66))","v":0},{"$f":"IF($BG12<BR$1,0,IF($BG12-BR$1>計算!$B$26,BR$66,($BG12-BR$1)/計算!$B$26*BR$66))","v":0},{"$f":"IF($BG12<BS$1,0,IF($BG12-BS$1>計算!$B$26,BS$66,($BG12-BS$1)/計算!$B$26*BS$66))","v":0},{"$f":"IF($BG12<BT$1,0,IF($BG12-BT$1>計算!$B$26,BT$66,($BG12-BT$1)/計算!$B$26*BT$66))","v":0},{"$f":"IF($BG12<BU$1,0,IF($BG12-BU$1>計算!$B$26,BU$66,($BG12-BU$1)/計算!$B$26*BU$66))","v":0},{"$f":"IF($BG12<BV$1,0,IF($BG12-BV$1>計算!$B$26,BV$66,($BG12-BV$1)/計算!$B$26*BV$66))","v":0},{"$f":"IF($BG12<BW$1,0,IF($BG12-BW$1>計算!$B$26,BW$66,($BG12-BW$1)/計算!$B$26*BW$66))","v":0},{"$f":"IF($BG12<BX$1,0,IF($BG12-BX$1>計算!$B$26,BX$66,($BG12-BX$1)/計算!$B$26*BX$66))","v":0},{"$f":"IF($BG12<BY$1,0,IF($BG12-BY$1>計算!$B$26,BY$66,($BG12-BY$1)/計算!$B$26*BY$66))","v":0},{"$f":"IF($BG12<BZ$1,0,IF($BG12-BZ$1>計算!$B$26,BZ$66,($BG12-BZ$1)/計算!$B$26*BZ$66))","v":0},{"$f":"IF($BG12<CA$1,0,IF($BG12-CA$1>計算!$B$26,CA$66,($BG12-CA$1)/計算!$B$26*CA$66))","v":0},{"$f":"IF($BG12<CB$1,0,IF($BG12-CB$1>計算!$B$26,CB$66,($BG12-CB$1)/計算!$B$26*CB$66))","v":0},{"$f":"IF($BG12<CC$1,0,IF($BG12-CC$1>計算!$B$26,CC$66,($BG12-CC$1)/計算!$B$26*CC$66))","v":0},{"$f":"IF($BG12<CD$1,0,IF($BG12-CD$1>計算!$B$26,CD$66,($BG12-CD$1)/計算!$B$26*CD$66))","v":0},{"$f":"IF($BG12<CE$1,0,IF($BG12-CE$1>計算!$B$26,CE$66,($BG12-CE$1)/計算!$B$26*CE$66))","v":0},{"$f":"IF($BG12<CF$1,0,IF($BG12-CF$1>計算!$B$26,CF$66,($BG12-CF$1)/計算!$B$26*CF$66))","v":0},{"$f":"IF($BG12<CG$1,0,IF($BG12-CG$1>計算!$B$26,CG$66,($BG12-CG$1)/計算!$B$26*CG$66))","v":0},{"$f":"IF($BG12<CH$1,0,IF($BG12-CH$1>計算!$B$26,CH$66,($BG12-CH$1)/計算!$B$26*CH$66))","v":0},{"$f":"IF($BG12<CI$1,0,IF($BG12-CI$1>計算!$B$26,CI$66,($BG12-CI$1)/計算!$B$26*CI$66))","v":0},{"$f":"IF($BG12<CJ$1,0,IF($BG12-CJ$1>計算!$B$26,CJ$66,($BG12-CJ$1)/計算!$B$26*CJ$66))","v":0},{"$f":"IF($BG12<CK$1,0,IF($BG12-CK$1>計算!$B$26,CK$66,($BG12-CK$1)/計算!$B$26*CK$66))","v":0},0.18243372610320979,-0.18243372610320979]
[null,null,null,null,null,null,null,null,null,null,null,null,{"$f":"IF($L13<M$1,0,IF($L13-M$1>計算!$B$26,M$66,($L13-M$1)/計算!$B$26*M$66))","v":0.2983353312641418},{"$f":"IF($L13<N$1,0,IF($L13-N$1>計算!$B$26,N$66,($L13-N$1)/計算!$B$26*N$66))","v":-0.89890989052282899},{"$f":"IF($L13<O$1,0,IF($L13-O$1>計算!$B$26,O$66,($L13-O$1)/計算!$B$26*O$66))","v":-0.21184658990487348},{"$f":"IF($L13<P$1,0,IF($L13-P$1>計算!$B$26,P$66,($L13-P$1)/計算!$B$26*P$66))","v":0.63830901206403412},{"$f":"IF($L13<Q$1,0,IF($L13-Q$1>計算!$B$26,Q$66,($L13-Q$1)/計算!$B$26*Q$66))","v":-1.2320693260712164E-2},{"$f":"IF($L13<R$1,0,IF($L13-R$1>計算!$B$26,R$66,($L13-R$1)/計算!$B$26*R$66))","v":0},{"$f":"IF($L13<S$1,0,IF($L13-S$1>計算!$B$26,S$66,($L13-S$1)/計算!$B$26*S$66))","v":0},{"$f":"IF($L13<T$1,0,IF($L13-T$1>計算!$B$26,T$66,($L13-T$1)/計算!$B$26*T$66))","v":0},{"$f":"IF($L13<U$1,0,IF($L13-U$1>計算!$B$26,U$66,($L13-U$1)/計算!$B$26*U$66))","v":0},{"$f":"IF($L13<V$1,0,IF($L13-V$1>計算!$B$26,V$66,($L13-V$1)/計算!$B$26*V$66))","v":0},{"$f":"IF($L13<W$1,0,IF($L13-W$1>計算!$B$26,W$66,($L13-W$1)/計算!$B$26*W$66))","v":0},{"$f":"IF($L13<X$1,0,IF($L13-X$1>計算!$B$26,X$66,($L13-X$1)/計算!$B$26*X$66))","v":0},{"$f":"IF($L13<Y$1,0,IF($L13-Y$1>計算!$B$26,Y$66,($L13-Y$1)/計算!$B$26*Y$66))","v":0},{"$f":"IF($L13<Z$1,0,IF($L13-Z$1>計算!$B$26,Z$66,($L13-Z$1)/計算!$B$26*Z$66))","v":0},{"$f":"IF($L13<AA$1,0,IF($L13-AA$1>計算!$B$26,AA$66,($L13-AA$1)/計算!$B$26*AA$66))","v":0},{"$f":"IF($L13<AB$1,0,IF($L13-AB$1>計算!$B$26,AB$66,($L13-AB$1)/計算!$B$26*AB$66))","v":0},{"$f":"IF($L13<AC$1,0,IF($L13-AC$1>計算!$B$26,AC$66,($L13-AC$1)/計算!$B$26*AC$66))","v":0},{"$f":"IF($L13<AD$1,0,IF($L13-AD$1>計算!$B$26,AD$66,($L13-AD$1)/計算!$B$26*AD$66))","v":0},{"$f":"IF($L13<AE$1,0,IF($L13-AE$1>計算!$B$26,AE$66,($L13-AE$1)/計算!$B$26*AE$66))","v":0},{"$f":"IF($L13<AF$1,0,IF($L13-AF$1>計算!$B$26,AF$66,($L13-AF$1)/計算!$B$26*AF$66))","v":0},{"$f":"IF($L13<AG$1,0,IF($L13-AG$1>計算!$B$26,AG$66,($L13-AG$1)/計算!$B$26*AG$66))","v":0},{"$f":"IF($L13<AH$1,0,IF($L13-AH$1>計算!$B$26,AH$66,($L13-AH$1)/計算!$B$26*AH$66))","v":0},{"$f":"IF($L13<AI$1,0,IF($L13-AI$1>計算!$B$26,AI$66,($L13-AI$1)/計算!$B$26*AI$66))","v":0},{"$f":"IF($L13<AJ$1,0,IF($L13-AJ$1>計算!$B$26,AJ$66,($L13-AJ$1)/計算!$B$26*AJ$66))","v":0},{"$f":"IF($L13<AK$1,0,IF($L13-AK$1>計算!$B$26,AK$66,($L13-AK$1)/計算!$B$26*AK$66))","v":0},{"$f":"IF($L13<AL$1,0,IF($L13-AL$1>計算!$B$26,AL$66,($L13-AL$1)/計算!$B$26*AL$66))","v":0},{"$f":"IF($L13<AM$1,0,IF($L13-AM$1>計算!$B$26,AM$66,($L13-AM$1)/計算!$B$26*AM$66))","v":0},{"$f":"IF($L13<AN$1,0,IF($L13-AN$1>計算!$B$26,AN$66,($L13-AN$1)/計算!$B$26*AN$66))","v":0},{"$f":"IF($L13<AO$1,0,IF($L13-AO$1>計算!$B$26,AO$66,($L13-AO$1)/計算!$B$26*AO$66))","v":0},{"$f":"IF($L13<AP$1,0,IF($L13-AP$1>計算!$B$26,AP$66,($L13-AP$1)/計算!$B$26*AP$66))","v":0},{"$f":"IF($L13<AQ$1,0,IF($L13-AQ$1>計算!$B$26,AQ$66,($L13-AQ$1)/計算!$B$26*AQ$66))","v":0},{"$f":"IF($L13<AR$1,0,IF($L13-AR$1>計算!$B$26,AR$66,($L13-AR$1)/計算!$B$26*AR$66))","v":0},{"$f":"IF($L13<AS$1,0,IF($L13-AS$1>計算!$B$26,AS$66,($L13-AS$1)/計算!$B$26*AS$66))","v":0},{"$f":"IF($L13<AT$1,0,IF($L13-AT$1>計算!$B$26,AT$66,($L13-AT$1)/計算!$B$26*AT$66))","v":0},{"$f":"IF($L13<AU$1,0,IF($L13-AU$1>計算!$B$26,AU$66,($L13-AU$1)/計算!$B$26*AU$66))","v":0},{"$f":"IF($L13<AV$1,0,IF($L13-AV$1>計算!$B$26,AV$66,($L13-AV$1)/計算!$B$26*AV$66))","v":0},-0.18643283036023872,0.18643283036023872,null,null,null,null,null,null,null,null,null,{"$f":"IF($BG13<BH$1,0,IF($BG13-BH$1>計算!$B$26,BH$66,($BG13-BH$1)/計算!$B$26*BH$66))","v":-0.67165999785768882},{"$f":"IF($BG13<BI$1,0,IF($BG13-BI$1>計算!$B$26,BI$66,($BG13-BI$1)/計算!$B$26*BI$66))","v":0.90868889604222969},{"$f":"IF($BG13<BJ$1,0,IF($BG13-BJ$1>計算!$B$26,BJ$66,($BG13-BJ$1)/計算!$B$26*BJ$66))","v":-0.15970956504964062},{"$f":"IF($BG13<BK$1,0,IF($BG13-BK$1>計算!$B$26,BK$66,($BG13-BK$1)/計算!$B$26*BK$66))","v":-0.20309592208498348},{"$f":"IF($BG13<BL$1,0,IF($BG13-BL$1>計算!$B$26,BL$66,($BG13-BL$1)/計算!$B$26*BL$66))","v":-3.2716100969582981E-2},{"$f":"IF($BG13<BM$1,0,IF($BG13-BM$1>計算!$B$26,BM$66,($BG13-BM$1)/計算!$B$26*BM$66))","v":7.0747838947406966E-2},{"$f":"IF($BG13<BN$1,0,IF($BG13-BN$1>計算!$B$26,BN$66,($BG13-BN$1)/計算!$B$26*BN$66))","v":0},{"$f":"IF($BG13<BO$1,0,IF($BG13-BO$1>計算!$B$26,BO$66,($BG13-BO$1)/計算!$B$26*BO$66))","v":0},{"$f":"IF($BG13<BP$1,0,IF($BG13-BP$1>計算!$B$26,BP$66,($BG13-BP$1)/計算!$B$26*BP$66))","v":0},{"$f":"IF($BG13<BQ$1,0,IF($BG13-BQ$1>計算!$B$26,BQ$66,($BG13-BQ$1)/計算!$B$26*BQ$66))","v":0},{"$f":"IF($BG13<BR$1,0,IF($BG13-BR$1>計算!$B$26,BR$66,($BG13-BR$1)/計算!$B$26*BR$66))","v":0},{"$f":"IF($BG13<BS$1,0,IF($BG13-BS$1>計算!$B$26,BS$66,($BG13-BS$1)/計算!$B$26*BS$66))","v":0},{"$f":"IF($BG13<BT$1,0,IF($BG13-BT$1>計算!$B$26,BT$66,($BG13-BT$1)/計算!$B$26*BT$66))","v":0},{"$f":"IF($BG13<BU$1,0,IF($BG13-BU$1>計算!$B$26,BU$66,($BG13-BU$1)/計算!$B$26*BU$66))","v":0},{"$f":"IF($BG13<BV$1,0,IF($BG13-BV$1>計算!$B$26,BV$66,($BG13-BV$1)/計算!$B$26*BV$66))","v":0},{"$f":"IF($BG13<BW$1,0,IF($BG13-BW$1>計算!$B$26,BW$66,($BG13-BW$1)/計算!$B$26*BW$66))","v":0},{"$f":"IF($BG13<BX$1,0,IF($BG13-BX$1>計算!$B$26,BX$66,($BG13-BX$1)/計算!$B$26*BX$66))","v":0},{"$f":"IF($BG13<BY$1,0,IF($BG13-BY$1>計算!$B$26,BY$66,($BG13-BY$1)/計算!$B$26*BY$66))","v":0},{"$f":"IF($BG13<BZ$1,0,IF($BG13-BZ$1>計算!$B$26,BZ$66,($BG13-BZ$1)/計算!$B$26*BZ$66))","v":0},{"$f":"IF($BG13<CA$1,0,IF($BG13-CA$1>計算!$B$26,CA$66,($BG13-CA$1)/計算!$B$26*CA$66))","v":0},{"$f":"IF($BG13<CB$1,0,IF($BG13-CB$1>計算!$B$26,CB$66,($BG13-CB$1)/計算!$B$26*CB$66))","v":0},{"$f":"IF($BG13<CC$1,0,IF($BG13-CC$1>計算!$B$26,CC$66,($BG13-CC$1)/計算!$B$26*CC$66))","v":0},{"$f":"IF($BG13<CD$1,0,IF($BG13-CD$1>計算!$B$26,CD$66,($BG13-CD$1)/計算!$B$26*CD$66))","v":0},{"$f":"IF($BG13<CE$1,0,IF($BG13-CE$1>計算!$B$26,CE$66,($BG13-CE$1)/計算!$B$26*CE$66))","v":0},{"$f":"IF($BG13<CF$1,0,IF($BG13-CF$1>計算!$B$26,CF$66,($BG13-CF$1)/計算!$B$26*CF$66))","v":0},{"$f":"IF($BG13<CG$1,0,IF($BG13-CG$1>計算!$B$26,CG$66,($BG13-CG$1)/計算!$B$26*CG$66))","v":0},{"$f":"IF($BG13<CH$1,0,IF($BG13-CH$1>計算!$B$26,CH$66,($BG13-CH$1)/計算!$B$26*CH$66))","v":0},{"$f":"IF($BG13<CI$1,0,IF($BG13-CI$1>計算!$B$26,CI$66,($BG13-CI$1)/計算!$B$26*CI$66))","v":0},{"$f":"IF($BG13<CJ$1,0,IF($BG13-CJ$1>計算!$B$26,CJ$66,($BG13-CJ$1)/計算!$B$26*CJ$66))","v":0},{"$f":"IF($BG13<CK$1,0,IF($BG13-CK$1>計算!$B$26,CK$66,($BG13-CK$1)/計算!$B$26*CK$66))","v":0},-8.7744850972259231E-2,8.7744850972259231E-2]
[null,null,null,null,null,null,null,null,null,null,null,null,{"$f":"IF($L14<M$1,0,IF($L14-M$1>計算!$B$26,M$66,($L14-M$1)/計算!$B$26*M$66))","v":0.2983353312641418},{"$f":"IF($L14<N$1,0,IF($L14-N$1>計算!$B$26,N$66,($L14-N$1)/計算!$B$26*N$66))","v":-0.89890989052282899},{"$f":"IF($L14<O$1,0,IF($L14-O$1>計算!$B$26,O$66,($L14-O$1)/計算!$B$26*O$66))","v":-0.21184658990487348},{"$f":"IF($L14<P$1,0,IF($L14-P$1>計算!$B$26,P$66,($L14-P$1)/計算!$B$26*P$66))","v":0.63830901206403412},{"$f":"IF($L14<Q$1,0,IF($L14-Q$1>計算!$B$26,Q$66,($L14-Q$1)/計算!$B$26*Q$66))","v":-2.4641386521424329E-2},{"$f":"IF($L14<R$1,0,IF($L14-R$1>計算!$B$26,R$66,($L14-R$1)/計算!$B$26*R$66))","v":3.3889823608741397E-2},{"$f":"IF($L14<S$1,0,IF($L14-S$1>計算!$B$26,S$66,($L14-S$1)/計算!$B$26*S$66))","v":0},{"$f":"IF($L14<T$1,0,IF($L14-T$1>計算!$B$26,T$66,($L14-T$1)/計算!$B$26*T$66))","v":0},{"$f":"IF($L14<U$1,0,IF($L14-U$1>計算!$B$26,U$66,($L14-U$1)/計算!$B$26*U$66))","v":0},{"$f":"IF($L14<V$1,0,IF($L14-V$1>計算!$B$26,V$66,($L14-V$1)/計算!$B$26*V$66))","v":0},{"$f":"IF($L14<W$1,0,IF($L14-W$1>計算!$B$26,W$66,($L14-W$1)/計算!$B$26*W$66))","v":0},{"$f":"IF($L14<X$1,0,IF($L14-X$1>計算!$B$26,X$66,($L14-X$1)/計算!$B$26*X$66))","v":0},{"$f":"IF($L14<Y$1,0,IF($L14-Y$1>計算!$B$26,Y$66,($L14-Y$1)/計算!$B$26*Y$66))","v":0},{"$f":"IF($L14<Z$1,0,IF($L14-Z$1>計算!$B$26,Z$66,($L14-Z$1)/計算!$B$26*Z$66))","v":0},{"$f":"IF($L14<AA$1,0,IF($L14-AA$1>計算!$B$26,AA$66,($L14-AA$1)/計算!$B$26*AA$66))","v":0},{"$f":"IF($L14<AB$1,0,IF($L14-AB$1>計算!$B$26,AB$66,($L14-AB$1)/計算!$B$26*AB$66))","v":0},{"$f":"IF($L14<AC$1,0,IF($L14-AC$1>計算!$B$26,AC$66,($L14-AC$1)/計算!$B$26*AC$66))","v":0},{"$f":"IF($L14<AD$1,0,IF($L14-AD$1>計算!$B$26,AD$66,($L14-AD$1)/計算!$B$26*AD$66))","v":0},{"$f":"IF($L14<AE$1,0,IF($L14-AE$1>計算!$B$26,AE$66,($L14-AE$1)/計算!$B$26*AE$66))","v":0},{"$f":"IF($L14<AF$1,0,IF($L14-AF$1>計算!$B$26,AF$66,($L14-AF$1)/計算!$B$26*AF$66))","v":0},{"$f":"IF($L14<AG$1,0,IF($L14-AG$1>計算!$B$26,AG$66,($L14-AG$1)/計算!$B$26*AG$66))","v":0},{"$f":"IF($L14<AH$1,0,IF($L14-AH$1>計算!$B$26,AH$66,($L14-AH$1)/計算!$B$26*AH$66))","v":0},{"$f":"IF($L14<AI$1,0,IF($L14-AI$1>計算!$B$26,AI$66,($L14-AI$1)/計算!$B$26*AI$66))","v":0},{"$f":"IF($L14<AJ$1,0,IF($L14-AJ$1>計算!$B$26,AJ$66,($L14-AJ$1)/計算!$B$26*AJ$66))","v":0},{"$f":"IF($L14<AK$1,0,IF($L14-AK$1>計算!$B$26,AK$66,($L14-AK$1)/計算!$B$26*AK$66))","v":0},{"$f":"IF($L14<AL$1,0,IF($L14-AL$1>計算!$B$26,AL$66,($L14-AL$1)/計算!$B$26*AL$66))","v":0},{"$f":"IF($L14<AM$1,0,IF($L14-AM$1>計算!$B$26,AM$66,($L14-AM$1)/計算!$B$26*AM$66))","v":0},{"$f":"IF($L14<AN$1,0,IF($L14-AN$1>計算!$B$26,AN$66,($L14-AN$1)/計算!$B$26*AN$66))","v":0},{"$f":"IF($L14<AO$1,0,IF($L14-AO$1>計算!$B$26,AO$66,($L14-AO$1)/計算!$B$26*AO$66))","v":0},{"$f":"IF($L14<AP$1,0,IF($L14-AP$1>計算!$B$26,AP$66,($L14-AP$1)/計算!$B$26*AP$66))","v":0},{"$f":"IF($L14<AQ$1,0,IF($L14-AQ$1>計算!$B$26,AQ$66,($L14-AQ$1)/計算!$B$26*AQ$66))","v":0},{"$f":"IF($L14<AR$1,0,IF($L14-AR$1>計算!$B$26,AR$66,($L14-AR$1)/計算!$B$26*AR$66))","v":0},{"$f":"IF($L14<AS$1,0,IF($L14-AS$1>計算!$B$26,AS$66,($L14-AS$1)/計算!$B$26*AS$66))","v":0},{"$f":"IF($L14<AT$1,0,IF($L14-AT$1>計算!$B$26,AT$66,($L14-AT$1)/計算!$B$26*AT$66))","v":0},{"$f":"IF($L14<AU$1,0,IF($L14-AU$1>計算!$B$26,AU$66,($L14-AU$1)/計算!$B$26*AU$66))","v":0},{"$f":"IF($L14<AV$1,0,IF($L14-AV$1>計算!$B$26,AV$66,($L14-AV$1)/計算!$B$26*AV$66))","v":0},-0.16486370001220949,0.16486370001220949,null,null,null,null,null,null,null,null,null,{"$f":"IF($BG14<BH$1,0,IF($BG14-BH$1>計算!$B$26,BH$66,($BG14-BH$1)/計算!$B$26*BH$66))","v":-0.67165999785768882},{"$f":"IF($BG14<BI$1,0,IF($BG14-BI$1>計算!$B$26,BI$66,($BG14-BI$1)/計算!$B$26*BI$66))","v":0.90868889604222969},{"$f":"IF($BG14<BJ$1,0,IF($BG14-BJ$1>計算!$B$26,BJ$66,($BG14-BJ$1)/計算!$B$26*BJ$66))","v":-0.15970956504964062},{"$f":"IF($BG14<BK$1,0,IF($BG14-BK$1>計算!$B$26,BK$66,($BG14-BK$1)/計算!$B$26*BK$66))","v":-0.21551880103922261},{"$f":"IF($BG14<BL$1,0,IF($BG14-BL$1>計算!$B$26,BL$66,($BG14-BL$1)/計算!$B$26*BL$66))","v":-3.4847649022546182E-2},{"$f":"IF($BG14<BM$1,0,IF($BG14-BM$1>計算!$B$26,BM$66,($BG14-BM$1)/計算!$B$26*BM$66))","v":7.5678511471022877E-2},{"$f":"IF($BG14<BN$1,0,IF($BG14-BN$1>計算!$B$26,BN$66,($BG14-BN$1)/計算!$B$26*BN$66))","v":0},{"$f":"IF($BG14<BO$1,0,IF($BG14-BO$1>計算!$B$26,BO$66,($BG14-BO$1)/計算!$B$26*BO$66))","v":0},{"$f":"IF($BG14<BP$1,0,IF($BG14-BP$1>計算!$B$26,BP$66,($BG14-BP$1)/計算!$B$26*BP$66))","v":0},{"$f":"IF($BG14<BQ$1,0,IF($BG14-BQ$1>計算!$B$26,BQ$66,($BG14-BQ$1)/計算!$B$26*BQ$66))","v":0},{"$f":"IF($BG14<BR$1,0,IF($BG14-BR$1>計算!$B$26,BR$66,($BG14-BR$1)/計算!$B$26*BR$66))","v":0},{"$f":"IF($BG14<BS$1,0,IF($BG14-BS$1>計算!$B$26,BS$66,($BG14-BS$1)/計算!$B$26*BS$66))","v":0},{"$f":"IF($BG14<BT$1,0,IF($BG14-BT$1>計算!$B$26,BT$66,($BG14-BT$1)/計算!$B$26*BT$66))","v":0},{"$f":"IF($BG14<BU$1,0,IF($BG14-BU$1>計算!$B$26,BU$66,($BG14-BU$1)/計算!$B$26*BU$66))","v":0},{"$f":"IF($BG14<BV$1,0,IF($BG14-BV$1>計算!$B$26,BV$66,($BG14-BV$1)/計算!$B$26*BV$66))","v":0},{"$f":"IF($BG14<BW$1,0,IF($BG14-BW$1>計算!$B$26,BW$66,($BG14-BW$1)/計算!$B$26*BW$66))","v":0},{"$f":"IF($BG14<BX$1,0,IF($BG14-BX$1>計算!$B$26,BX$66,($BG14-BX$1)/計算!$B$26*BX$66))","v":0},{"$f":"IF($BG14<BY$1,0,IF($BG14-BY$1>計算!$B$26,BY$66,($BG14-BY$1)/計算!$B$26*BY$66))","v":0},{"$f":"IF($BG14<BZ$1,0,IF($BG14-BZ$1>計算!$B$26,BZ$66,($BG14-BZ$1)/計算!$B$26*BZ$66))","v":0},{"$f":"IF($BG14<CA$1,0,IF($BG14-CA$1>計算!$B$26,CA$66,($BG14-CA$1)/計算!$B$26*CA$66))","v":0},{"$f":"IF($BG14<CB$1,0,IF($BG14-CB$1>計算!$B$26,CB$66,($BG14-CB$1)/計算!$B$26*CB$66))","v":0},{"$f":"IF($BG14<CC$1,0,IF($BG14-CC$1>計算!$B$26,CC$66,($BG14-CC$1)/計算!$B$26*CC$66))","v":0},{"$f":"IF($BG14<CD$1,0,IF($BG14-CD$1>計算!$B$26,CD$66,($BG14-CD$1)/計算!$B$26*CD$66))","v":0},{"$f":"IF($BG14<CE$1,0,IF($BG14-CE$1>計算!$B$26,CE$66,($BG14-CE$1)/計算!$B$26*CE$66))","v":0},{"$f":"IF($BG14<CF$1,0,IF($BG14-CF$1>計算!$B$26,CF$66,($BG14-CF$1)/計算!$B$26*CF$66))","v":0},{"$f":"IF($BG14<CG$1,0,IF($BG14-CG$1>計算!$B$26,CG$66,($BG14-CG$1)/計算!$B$26*CG$66))","v":0},{"$f":"IF($BG14<CH$1,0,IF($BG14-CH$1>計算!$B$26,CH$66,($BG14-CH$1)/計算!$B$26*CH$66))","v":0},{"$f":"IF($BG14<CI$1,0,IF($BG14-CI$1>計算!$B$26,CI$66,($BG14-CI$1)/計算!$B$26*CI$66))","v":0},{"$f":"IF($BG14<CJ$1,0,IF($BG14-CJ$1>計算!$B$26,CJ$66,($BG14-CJ$1)/計算!$B$26*CJ$66))","v":0},{"$f":"IF($BG14<CK$1,0,IF($BG14-CK$1>計算!$B$26,CK$66,($BG14-CK$1)/計算!$B$26*CK$66))","v":0},-9.736860545584565E-2,9.736860545584565E-2]
[null,null,null,null,null,null,null,null,null,null,null,null,{"$f":"IF($L15<M$1,0,IF($L15-M$1>計算!$B$26,M$66,($L15-M$1)/計算!$B$26*M$66))","v":0.2983353312641418},{"$f":"IF($L15<N$1,0,IF($L15-N$1>計算!$B$26,N$66,($L15-N$1)/計算!$B$26*N$66))","v":-0.89890989052282899},{"$f":"IF($L15<O$1,0,IF($L15-O$1>計算!$B$26,O$66,($L15-O$1)/計算!$B$26*O$66))","v":-0.21184658990487348},{"$f":"IF($L15<P$1,0,IF($L15-P$1>計算!$B$26,P$66,($L15-P$1)/計算!$B$26*P$66))","v":0.63830901206403412},{"$f":"IF($L15<Q$1,0,IF($L15-Q$1>計算!$B$26,Q$66,($L15-Q$1)/計算!$B$26*Q$66))","v":-3.6962079782136496E-2},{"$f":"IF($L15<R$1,0,IF($L15-R$1>計算!$B$26,R$66,($L15-R$1)/計算!$B$26*R$66))","v":6.7779647217482794E-2},{"$f":"IF($L15<S$1,0,IF($L15-S$1>計算!$B$26,S$66,($L15-S$1)/計算!$B$26*S$66))","v":1.5349381812750567E-2},{"$f":"IF($L15<T$1,0,IF($L15-T$1>計算!$B$26,T$66,($L15-T$1)/計算!$B$26*T$66))","v":0},{"$f":"IF($L15<U$1,0,IF($L15-U$1>計算!$B$26,U$66,($L15-U$1)/計算!$B$26*U$66))","v":0},{"$f":"IF($L15<V$1,0,IF($L15-V$1>計算!$B$26,V$66,($L15-V$1)/計算!$B$26*V$66))","v":0},{"$f":"IF($L15<W$1,0,IF($L15-W$1>計算!$B$26,W$66,($L15-W$1)/計算!$B$26*W$66))","v":0},{"$f":"IF($L15<X$1,0,IF($L15-X$1>計算!$B$26,X$66,($L15-X$1)/計算!$B$26*X$66))","v":0},{"$f":"IF($L15<Y$1,0,IF($L15-Y$1>計算!$B$26,Y$66,($L15-Y$1)/計算!$B$26*Y$66))","v":0},{"$f":"IF($L15<Z$1,0,IF($L15-Z$1>計算!$B$26,Z$66,($L15-Z$1)/計算!$B$26*Z$66))","v":0},{"$f":"IF($L15<AA$1,0,IF($L15-AA$1>計算!$B$26,AA$66,($L15-AA$1)/計算!$B$26*AA$66))","v":0},{"$f":"IF($L15<AB$1,0,IF($L15-AB$1>計算!$B$26,AB$66,($L15-AB$1)/計算!$B$26*AB$66))","v":0},{"$f":"IF($L15<AC$1,0,IF($L15-AC$1>計算!$B$26,AC$66,($L15-AC$1)/計算!$B$26*AC$66))","v":0},{"$f":"IF($L15<AD$1,0,IF($L15-AD$1>計算!$B$26,AD$66,($L15-AD$1)/計算!$B$26*AD$66))","v":0},{"$f":"IF($L15<AE$1,0,IF($L15-AE$1>計算!$B$26,AE$66,($L15-AE$1)/計算!$B$26*AE$66))","v":0},{"$f":"IF($L15<AF$1,0,IF($L15-AF$1>計算!$B$26,AF$66,($L15-AF$1)/計算!$B$26*AF$66))","v":0},{"$f":"IF($L15<AG$1,0,IF($L15-AG$1>計算!$B$26,AG$66,($L15-AG$1)/計算!$B$26*AG$66))","v":0},{"$f":"IF($L15<AH$1,0,IF($L15-AH$1>計算!$B$26,AH$66,($L15-AH$1)/計算!$B$26*AH$66))","v":0},{"$f":"IF($L15<AI$1,0,IF($L15-AI$1>計算!$B$26,AI$66,($L15-AI$1)/計算!$B$26*AI$66))","v":0},{"$f":"IF($L15<AJ$1,0,IF($L15-AJ$1>計算!$B$26,AJ$66,($L15-AJ$1)/計算!$B$26*AJ$66))","v":0},{"$f":"IF($L15<AK$1,0,IF($L15-AK$1>計算!$B$26,AK$66,($L15-AK$1)/計算!$B$26*AK$66))","v":0},{"$f":"IF($L15<AL$1,0,IF($L15-AL$1>計算!$B$26,AL$66,($L15-AL$1)/計算!$B$26*AL$66))","v":0},{"$f":"IF($L15<AM$1,0,IF($L15-AM$1>計算!$B$26,AM$66,($L15-AM$1)/計算!$B$26*AM$66))","v":0},{"$f":"IF($L15<AN$1,0,IF($L15-AN$1>計算!$B$26,AN$66,($L15-AN$1)/計算!$B$26*AN$66))","v":0},{"$f":"IF($L15<AO$1,0,IF($L15-AO$1>計算!$B$26,AO$66,($L15-AO$1)/計算!$B$26*AO$66))","v":0},{"$f":"IF($L15<AP$1,0,IF($L15-AP$1>計算!$B$26,AP$66,($L15-AP$1)/計算!$B$26*AP$66))","v":0},{"$f":"IF($L15<AQ$1,0,IF($L15-AQ$1>計算!$B$26,AQ$66,($L15-AQ$1)/計算!$B$26*AQ$66))","v":0},{"$f":"IF($L15<AR$1,0,IF($L15-AR$1>計算!$B$26,AR$66,($L15-AR$1)/計算!$B$26*AR$66))","v":0},{"$f":"IF($L15<AS$1,0,IF($L15-AS$1>計算!$B$26,AS$66,($L15-AS$1)/計算!$B$26*AS$66))","v":0},{"$f":"IF($L15<AT$1,0,IF($L15-AT$1>計算!$B$26,AT$66,($L15-AT$1)/計算!$B$26*AT$66))","v":0},{"$f":"IF($L15<AU$1,0,IF($L15-AU$1>計算!$B$26,AU$66,($L15-AU$1)/計算!$B$26*AU$66))","v":0},{"$f":"IF($L15<AV$1,0,IF($L15-AV$1>計算!$B$26,AV$66,($L15-AV$1)/計算!$B$26*AV$66))","v":0},-0.12794518785142969,0.12794518785142969,null,null,null,null,null,null,null,null,null,{"$f":"IF($BG15<BH$1,0,IF($BG15-BH$1>計算!$B$26,BH$66,($BG15-BH$1)/計算!$B$26*BH$66))","v":-0.67165999785768882},{"$f":"IF($BG15<BI$1,0,IF($BG15-BI$1>計算!$B$26,BI$66,($BG15-BI$1)/計算!$B$26*BI$66))","v":0.90868889604222969},{"$f":"IF($BG15<BJ$1,0,IF($BG15-BJ$1>計算!$B$26,BJ$66,($BG15-BJ$1)/計算!$B$26*BJ$66))","v":-0.15970956504964062},{"$f":"IF($BG15<BK$1,0,IF($BG15-BK$1>計算!$B$26,BK$66,($BG15-BK$1)/計算!$B$26*BK$66))","v":-0.21551880103922261},{"$f":"IF($BG15<BL$1,0,IF($BG15-BL$1>計算!$B$26,BL$66,($BG15-BL$1)/計算!$B$26*BL$66))","v":-3.6979193377590036E-2},{"$f":"IF($BG15<BM$1,0,IF($BG15-BM$1>計算!$B$26,BM$66,($BG15-BM$1)/計算!$B$26*BM$66))","v":8.0609183994638775E-2},{"$f":"IF($BG15<BN$1,0,IF($BG15-BN$1>計算!$B$26,BN$66,($BG15-BN$1)/計算!$B$26*BN$66))","v":0},{"$f":"IF($BG15<BO$1,0,IF($BG15-BO$1>計算!$B$26,BO$66,($BG15-BO$1)/計算!$B$26*BO$66))","v":0},{"$f":"IF($BG15<BP$1,0,IF($BG15-BP$1>計算!$B$26,BP$66,($BG15-BP$1)/計算!$B$26*BP$66))","v":0},{"$f":"IF($BG15<BQ$1,0,IF($BG15-BQ$1>計算!$B$26,BQ$66,($BG15-BQ$1)/計算!$B$26*BQ$66))","v":0},{"$f":"IF($BG15<BR$1,0,IF($BG15-BR$1>計算!$B$26,BR$66,($BG15-BR$1)/計算!$B$26*BR$66))","v":0},{"$f":"IF($BG15<BS$1,0,IF($BG15-BS$1>計算!$B$26,BS$66,($BG15-BS$1)/計算!$B$26*BS$66))","v":0},{"$f":"IF($BG15<BT$1,0,IF($BG15-BT$1>計算!$B$26,BT$66,($BG15-BT$1)/計算!$B$26*BT$66))","v":0},{"$f":"IF($BG15<BU$1,0,IF($BG15-BU$1>計算!$B$26,BU$66,($BG15-BU$1)/計算!$B$26*BU$66))","v":0},{"$f":"IF($BG15<BV$1,0,IF($BG15-BV$1>計算!$B$26,BV$66,($BG15-BV$1)/計算!$B$26*BV$66))","v":0},{"$f":"IF($BG15<BW$1,0,IF($BG15-BW$1>計算!$B$26,BW$66,($BG15-BW$1)/計算!$B$26*BW$66))","v":0},{"$f":"IF($BG15<BX$1,0,IF($BG15-BX$1>計算!$B$26,BX$66,($BG15-BX$1)/計算!$B$26*BX$66))","v":0},{"$f":"IF($BG15<BY$1,0,IF($BG15-BY$1>計算!$B$26,BY$66,($BG15-BY$1)/計算!$B$26*BY$66))","v":0},{"$f":"IF($BG15<BZ$1,0,IF($BG15-BZ$1>計算!$B$26,BZ$66,($BG15-BZ$1)/計算!$B$26*BZ$66))","v":0},{"$f":"IF($BG15<CA$1,0,IF($BG15-CA$1>計算!$B$26,CA$66,($BG15-CA$1)/計算!$B$26*CA$66))","v":0},{"$f":"IF($BG15<CB$1,0,IF($BG15-CB$1>計算!$B$26,CB$66,($BG15-CB$1)/計算!$B$26*CB$66))","v":0},{"$f":"IF($BG15<CC$1,0,IF($BG15-CC$1>計算!$B$26,CC$66,($BG15-CC$1)/計算!$B$26*CC$66))","v":0},{"$f":"IF($BG15<CD$1,0,IF($BG15-CD$1>計算!$B$26,CD$66,($BG15-CD$1)/計算!$B$26*CD$66))","v":0},{"$f":"IF($BG15<CE$1,0,IF($BG15-CE$1>計算!$B$26,CE$66,($BG15-CE$1)/計算!$B$26*CE$66))","v":0},{"$f":"IF($BG15<CF$1,0,IF($BG15-CF$1>計算!$B$26,CF$66,($BG15-CF$1)/計算!$B$26*CF$66))","v":0},{"$f":"IF($BG15<CG$1,0,IF($BG15-CG$1>計算!$B$26,CG$66,($BG15-CG$1)/計算!$B$26*CG$66))","v":0},{"$f":"IF($BG15<CH$1,0,IF($BG15-CH$1>計算!$B$26,CH$66,($BG15-CH$1)/計算!$B$26*CH$66))","v":0},{"$f":"IF($BG15<CI$1,0,IF($BG15-CI$1>計算!$B$26,CI$66,($BG15-CI$1)/計算!$B$26*CI$66))","v":0},{"$f":"IF($BG15<CJ$1,0,IF($BG15-CJ$1>計算!$B$26,CJ$66,($BG15-CJ$1)/計算!$B$26*CJ$66))","v":0},{"$f":"IF($BG15<CK$1,0,IF($BG15-CK$1>計算!$B$26,CK$66,($BG15-CK$1)/計算!$B$26*CK$66))","v":0},-9.4569477287273621E-2,9.4569477287273621E-2]
[null,null,null,null,null,null,null,null,null,null,null,null,{"$f":"IF($L16<M$1,0,IF($L16-M$1>計算!$B$26,M$66,($L16-M$1)/計算!$B$26*M$66))","v":0.2983353312641418},{"$f":"IF($L16<N$1,0,IF($L16-N$1>計算!$B$26,N$66,($L16-N$1)/計算!$B$26*N$66))","v":-0.89890989052282899},{"$f":"IF($L16<O$1,0,IF($L16-O$1>計算!$B$26,O$66,($L16-O$1)/計算!$B$26*O$66))","v":-0.21184658990487348},{"$f":"IF($L16<P$1,0,IF($L16-P$1>計算!$B$26,P$66,($L16-P$1)/計算!$B$26*P$66))","v":0.63830901206403412},{"$f":"IF($L16<Q$1,0,IF($L16-Q$1>計算!$B$26,Q$66,($L16-Q$1)/計算!$B$26*Q$66))","v":-4.928277304284847E-2},{"$f":"IF($L16<R$1,0,IF($L16-R$1>計算!$B$26,R$66,($L16-R$1)/計算!$B$26*R$66))","v":0.10166947082622367},{"$f":"IF($L16<S$1,0,IF($L16-S$1>計算!$B$26,S$66,($L16-S$1)/計算!$B$26*S$66))","v":3.0698763625500898E-2},{"$f":"IF($L16<T$1,0,IF($L16-T$1>計算!$B$26,T$66,($L16-T$1)/計算!$B$26*T$66))","v":-2.7276253790711937E-2},{"$f":"IF($L16<U$1,0,IF($L16-U$1>計算!$B$26,U$66,($L16-U$1)/計算!$B$26*U$66))","v":0},{"$f":"IF($L16<V$1,0,IF($L16-V$1>計算!$B$26,V$66,($L16-V$1)/計算!$B$26*V$66))","v":0},{"$f":"IF($L16<W$1,0,IF($L16-W$1>計算!$B$26,W$66,($L16-W$1)/計算!$B$26*W$66))","v":0},{"$f":"IF($L16<X$1,0,IF($L16-X$1>計算!$B$26,X$66,($L16-X$1)/計算!$B$26*X$66))","v":0},{"$f":"IF($L16<Y$1,0,IF($L16-Y$1>計算!$B$26,Y$66,($L16-Y$1)/計算!$B$26*Y$66))","v":0},{"$f":"IF($L16<Z$1,0,IF($L16-Z$1>計算!$B$26,Z$66,($L16-Z$1)/計算!$B$26*Z$66))","v":0},{"$f":"IF($L16<AA$1,0,IF($L16-AA$1>計算!$B$26,AA$66,($L16-AA$1)/計算!$B$26*AA$66))","v":0},{"$f":"IF($L16<AB$1,0,IF($L16-AB$1>計算!$B$26,AB$66,($L16-AB$1)/計算!$B$26*AB$66))","v":0},{"$f":"IF($L16<AC$1,0,IF($L16-AC$1>計算!$B$26,AC$66,($L16-AC$1)/計算!$B$26*AC$66))","v":0},{"$f":"IF($L16<AD$1,0,IF($L16-AD$1>計算!$B$26,AD$66,($L16-AD$1)/計算!$B$26*AD$66))","v":0},{"$f":"IF($L16<AE$1,0,IF($L16-AE$1>計算!$B$26,AE$66,($L16-AE$1)/計算!$B$26*AE$66))","v":0},{"$f":"IF($L16<AF$1,0,IF($L16-AF$1>計算!$B$26,AF$66,($L16-AF$1)/計算!$B$26*AF$66))","v":0},{"$f":"IF($L16<AG$1,0,IF($L16-AG$1>計算!$B$26,AG$66,($L16-AG$1)/計算!$B$26*AG$66))","v":0},{"$f":"IF($L16<AH$1,0,IF($L16-AH$1>計算!$B$26,AH$66,($L16-AH$1)/計算!$B$26*AH$66))","v":0},{"$f":"IF($L16<AI$1,0,IF($L16-AI$1>計算!$B$26,AI$66,($L16-AI$1)/計算!$B$26*AI$66))","v":0},{"$f":"IF($L16<AJ$1,0,IF($L16-AJ$1>計算!$B$26,AJ$66,($L16-AJ$1)/計算!$B$26*AJ$66))","v":0},{"$f":"IF($L16<AK$1,0,IF($L16-AK$1>計算!$B$26,AK$66,($L16-AK$1)/計算!$B$26*AK$66))","v":0},{"$f":"IF($L16<AL$1,0,IF($L16-AL$1>計算!$B$26,AL$66,($L16-AL$1)/計算!$B$26*AL$66))","v":0},{"$f":"IF($L16<AM$1,0,IF($L16-AM$1>計算!$B$26,AM$66,($L16-AM$1)/計算!$B$26*AM$66))","v":0},{"$f":"IF($L16<AN$1,0,IF($L16-AN$1>計算!$B$26,AN$66,($L16-AN$1)/計算!$B$26*AN$66))","v":0},{"$f":"IF($L16<AO$1,0,IF($L16-AO$1>計算!$B$26,AO$66,($L16-AO$1)/計算!$B$26*AO$66))","v":0},{"$f":"IF($L16<AP$1,0,IF($L16-AP$1>計算!$B$26,AP$66,($L16-AP$1)/計算!$B$26*AP$66))","v":0},{"$f":"IF($L16<AQ$1,0,IF($L16-AQ$1>計算!$B$26,AQ$66,($L16-AQ$1)/計算!$B$26*AQ$66))","v":0},{"$f":"IF($L16<AR$1,0,IF($L16-AR$1>計算!$B$26,AR$66,($L16-AR$1)/計算!$B$26*AR$66))","v":0},{"$f":"IF($L16<AS$1,0,IF($L16-AS$1>計算!$B$26,AS$66,($L16-AS$1)/計算!$B$26*AS$66))","v":0},{"$f":"IF($L16<AT$1,0,IF($L16-AT$1>計算!$B$26,AT$66,($L16-AT$1)/計算!$B$26*AT$66))","v":0},{"$f":"IF($L16<AU$1,0,IF($L16-AU$1>計算!$B$26,AU$66,($L16-AU$1)/計算!$B$26*AU$66))","v":0},{"$f":"IF($L16<AV$1,0,IF($L16-AV$1>計算!$B$26,AV$66,($L16-AV$1)/計算!$B$26*AV$66))","v":0},-0.1183029294813624,0.1183029294813624,null,null,null,null,null,null,null,null,null,{"$f":"IF($BG16<BH$1,0,IF($BG16-BH$1>計算!$B$26,BH$66,($BG16-BH$1)/計算!$B$26*BH$66))","v":-0.67165999785768882},{"$f":"IF($BG16<BI$1,0,IF($BG16-BI$1>計算!$B$26,BI$66,($BG16-BI$1)/計算!$B$26*BI$66))","v":0.90868889604222969},{"$f":"IF($BG16<BJ$1,0,IF($BG16-BJ$1>計算!$B$26,BJ$66,($BG16-BJ$1)/計算!$B$26*BJ$66))","v":-0.15970956504964062},{"$f":"IF($BG16<BK$1,0,IF($BG16-BK$1>計算!$B$26,BK$66,($BG16-BK$1)/計算!$B$26*BK$66))","v":-0.21551880103922261},{"$f":"IF($BG16<BL$1,0,IF($BG16-BL$1>計算!$B$26,BL$66,($BG16-BL$1)/計算!$B$26*BL$66))","v":-3.6979193377590036E-2},{"$f":"IF($BG16<BM$1,0,IF($BG16-BM$1>計算!$B$26,BM$66,($BG16-BM$1)/計算!$B$26*BM$66))","v":8.5539846253473106E-2},{"$f":"IF($BG16<BN$1,0,IF($BG16-BN$1>計算!$B$26,BN$66,($BG16-BN$1)/計算!$B$26*BN$66))","v":0},{"$f":"IF($BG16<BO$1,0,IF($BG16-BO$1>計算!$B$26,BO$66,($BG16-BO$1)/計算!$B$26*BO$66))","v":0},{"$f":"IF($BG16<BP$1,0,IF($BG16-BP$1>計算!$B$26,BP$66,($BG16-BP$1)/計算!$B$26*BP$66))","v":0},{"$f":"IF($BG16<BQ$1,0,IF($BG16-BQ$1>計算!$B$26,BQ$66,($BG16-BQ$1)/計算!$B$26*BQ$66))","v":0},{"$f":"IF($BG16<BR$1,0,IF($BG16-BR$1>計算!$B$26,BR$66,($BG16-BR$1)/計算!$B$26*BR$66))","v":0},{"$f":"IF($BG16<BS$1,0,IF($BG16-BS$1>計算!$B$26,BS$66,($BG16-BS$1)/計算!$B$26*BS$66))","v":0},{"$f":"IF($BG16<BT$1,0,IF($BG16-BT$1>計算!$B$26,BT$66,($BG16-BT$1)/計算!$B$26*BT$66))","v":0},{"$f":"IF($BG16<BU$1,0,IF($BG16-BU$1>計算!$B$26,BU$66,($BG16-BU$1)/計算!$B$26*BU$66))","v":0},{"$f":"IF($BG16<BV$1,0,IF($BG16-BV$1>計算!$B$26,BV$66,($BG16-BV$1)/計算!$B$26*BV$66))","v":0},{"$f":"IF($BG16<BW$1,0,IF($BG16-BW$1>計算!$B$26,BW$66,($BG16-BW$1)/計算!$B$26*BW$66))","v":0},{"$f":"IF($BG16<BX$1,0,IF($BG16-BX$1>計算!$B$26,BX$66,($BG16-BX$1)/計算!$B$26*BX$66))","v":0},{"$f":"IF($BG16<BY$1,0,IF($BG16-BY$1>計算!$B$26,BY$66,($BG16-BY$1)/計算!$B$26*BY$66))","v":0},{"$f":"IF($BG16<BZ$1,0,IF($BG16-BZ$1>計算!$B$26,BZ$66,($BG16-BZ$1)/計算!$B$26*BZ$66))","v":0},{"$f":"IF($BG16<CA$1,0,IF($BG16-CA$1>計算!$B$26,CA$66,($BG16-CA$1)/計算!$B$26*CA$66))","v":0},{"$f":"IF($BG16<CB$1,0,IF($BG16-CB$1>計算!$B$26,CB$66,($BG16-CB$1)/計算!$B$26*CB$66))","v":0},{"$f":"IF($BG16<CC$1,0,IF($BG16-CC$1>計算!$B$26,CC$66,($BG16-CC$1)/計算!$B$26*CC$66))","v":0},{"$f":"IF($BG16<CD$1,0,IF($BG16-CD$1>計算!$B$26,CD$66,($BG16-CD$1)/計算!$B$26*CD$66))","v":0},{"$f":"IF($BG16<CE$1,0,IF($BG16-CE$1>計算!$B$26,CE$66,($BG16-CE$1)/計算!$B$26*CE$66))","v":0},{"$f":"IF($BG16<CF$1,0,IF($BG16-CF$1>計算!$B$26,CF$66,($BG16-CF$1)/計算!$B$26*CF$66))","v":0},{"$f":"IF($BG16<CG$1,0,IF($BG16-CG$1>計算!$B$26,CG$66,($BG16-CG$1)/計算!$B$26*CG$66))","v":0},{"$f":"IF($BG16<CH$1,0,IF($BG16-CH$1>計算!$B$26,CH$66,($BG16-CH$1)/計算!$B$26*CH$66))","v":0},{"$f":"IF($BG16<CI$1,0,IF($BG16-CI$1>計算!$B$26,CI$66,($BG16-CI$1)/計算!$B$26*CI$66))","v":0},{"$f":"IF($BG16<CJ$1,0,IF($BG16-CJ$1>計算!$B$26,CJ$66,($BG16-CJ$1)/計算!$B$26*CJ$66))","v":0},{"$f":"IF($BG16<CK$1,0,IF($BG16-CK$1>計算!$B$26,CK$66,($BG16-CK$1)/計算!$B$26*CK$66))","v":0},-8.9638815028439289E-2,8.9638815028439289E-2]
[null,null,null,null,null,null,null,null,null,null,null,null,{"$f":"IF($L17<M$1,0,IF($L17-M$1>計算!$B$26,M$66,($L17-M$1)/計算!$B$26*M$66))","v":0.2983353312641418},{"$f":"IF($L17<N$1,0,IF($L17-N$1>計算!$B$26,N$66,($L17-N$1)/計算!$B$26*N$66))","v":-0.89890989052282899},{"$f":"IF($L17<O$1,0,IF($L17-O$1>計算!$B$26,O$66,($L17-O$1)/計算!$B$26*O$66))","v":-0.21184658990487348},{"$f":"IF($L17<P$1,0,IF($L17-P$1>計算!$B$26,P$66,($L17-P$1)/計算!$B$26*P$66))","v":0.63830901206403412},{"$f":"IF($L17<Q$1,0,IF($L17-Q$1>計算!$B$26,Q$66,($L17-Q$1)/計算!$B$26*Q$66))","v":-0.21374580605087579},{"$f":"IF($L17<R$1,0,IF($L17-R$1>計算!$B$26,R$66,($L17-R$1)/計算!$B$26*R$66))","v":0.55404849431976855},{"$f":"IF($L17<S$1,0,IF($L17-S$1>計算!$B$26,S$66,($L17-S$1)/計算!$B$26*S$66))","v":0.23559030970869269},{"$f":"IF($L17<T$1,0,IF($L17-T$1>計算!$B$26,T$66,($L17-T$1)/計算!$B$26*T$66))","v":-0.39137390141676315},{"$f":"IF($L17<U$1,0,IF($L17-U$1>計算!$B$26,U$66,($L17-U$1)/計算!$B$26*U$66))","v":4.6233302211980104E-2},{"$f":"IF($L17<V$1,0,IF($L17-V$1>計算!$B$26,V$66,($L17-V$1)/計算!$B$26*V$66))","v":0},{"$f":"IF($L17<W$1,0,IF($L17-W$1>計算!$B$26,W$66,($L17-W$1)/計算!$B$26*W$66))","v":0},{"$f":"IF($L17<X$1,0,IF($L17-X$1>計算!$B$26,X$66,($L17-X$1)/計算!$B$26*X$66))","v":0},{"$f":"IF($L17<Y$1,0,IF($L17-Y$1>計算!$B$26,Y$66,($L17-Y$1)/計算!$B$26*Y$66))","v":0},{"$f":"IF($L17<Z$1,0,IF($L17-Z$1>計算!$B$26,Z$66,($L17-Z$1)/計算!$B$26*Z$66))","v":0},{"$f":"IF($L17<AA$1,0,IF($L17-AA$1>計算!$B$26,AA$66,($L17-AA$1)/計算!$B$26*AA$66))","v":0},{"$f":"IF($L17<AB$1,0,IF($L17-AB$1>計算!$B$26,AB$66,($L17-AB$1)/計算!$B$26*AB$66))","v":0},{"$f":"IF($L17<AC$1,0,IF($L17-AC$1>計算!$B$26,AC$66,($L17-AC$1)/計算!$B$26*AC$66))","v":0},{"$f":"IF($L17<AD$1,0,IF($L17-AD$1>計算!$B$26,AD$66,($L17-AD$1)/計算!$B$26*AD$66))","v":0},{"$f":"IF($L17<AE$1,0,IF($L17-AE$1>計算!$B$26,AE$66,($L17-AE$1)/計算!$B$26*AE$66))","v":0},{"$f":"IF($L17<AF$1,0,IF($L17-AF$1>計算!$B$26,AF$66,($L17-AF$1)/計算!$B$26*AF$66))","v":0},{"$f":"IF($L17<AG$1,0,IF($L17-AG$1>計算!$B$26,AG$66,($L17-AG$1)/計算!$B$26*AG$66))","v":0},{"$f":"IF($L17<AH$1,0,IF($L17-AH$1>計算!$B$26,AH$66,($L17-AH$1)/計算!$B$26*AH$66))","v":0},{"$f":"IF($L17<AI$1,0,IF($L17-AI$1>計算!$B$26,AI$66,($L17-AI$1)/計算!$B$26*AI$66))","v":0},{"$f":"IF($L17<AJ$1,0,IF($L17-AJ$1>計算!$B$26,AJ$66,($L17-AJ$1)/計算!$B$26*AJ$66))","v":0},{"$f":"IF($L17<AK$1,0,IF($L17-AK$1>計算!$B$26,AK$66,($L17-AK$1)/計算!$B$26*AK$66))","v":0},{"$f":"IF($L17<AL$1,0,IF($L17-AL$1>計算!$B$26,AL$66,($L17-AL$1)/計算!$B$26*AL$66))","v":0},{"$f":"IF($L17<AM$1,0,IF($L17-AM$1>計算!$B$26,AM$66,($L17-AM$1)/計算!$B$26*AM$66))","v":0},{"$f":"IF($L17<AN$1,0,IF($L17-AN$1>計算!$B$26,AN$66,($L17-AN$1)/計算!$B$26*AN$66))","v":0},{"$f":"IF($L17<AO$1,0,IF($L17-AO$1>計算!$B$26,AO$66,($L17-AO$1)/計算!$B$26*AO$66))","v":0},{"$f":"IF($L17<AP$1,0,IF($L17-AP$1>計算!$B$26,AP$66,($L17-AP$1)/計算!$B$26*AP$66))","v":0},{"$f":"IF($L17<AQ$1,0,IF($L17-AQ$1>計算!$B$26,AQ$66,($L17-AQ$1)/計算!$B$26*AQ$66))","v":0},{"$f":"IF($L17<AR$1,0,IF($L17-AR$1>計算!$B$26,AR$66,($L17-AR$1)/計算!$B$26*AR$66))","v":0},{"$f":"IF($L17<AS$1,0,IF($L17-AS$1>計算!$B$26,AS$66,($L17-AS$1)/計算!$B$26*AS$66))","v":0},{"$f":"IF($L17<AT$1,0,IF($L17-AT$1>計算!$B$26,AT$66,($L17-AT$1)/計算!$B$26*AT$66))","v":0},{"$f":"IF($L17<AU$1,0,IF($L17-AU$1>計算!$B$26,AU$66,($L17-AU$1)/計算!$B$26*AU$66))","v":0},{"$f":"IF($L17<AV$1,0,IF($L17-AV$1>計算!$B$26,AV$66,($L17-AV$1)/計算!$B$26*AV$66))","v":0},5.6640261673275821E-2,-5.6640261673275821E-2,null,null,null,null,null,null,null,null,null,{"$f":"IF($BG17<BH$1,0,IF($BG17-BH$1>計算!$B$26,BH$66,($BG17-BH$1)/計算!$B$26*BH$66))","v":-0.67165999785768882},{"$f":"IF($BG17<BI$1,0,IF($BG17-BI$1>計算!$B$26,BI$66,($BG17-BI$1)/計算!$B$26*BI$66))","v":0.90868889604222969},{"$f":"IF($BG17<BJ$1,0,IF($BG17-BJ$1>計算!$B$26,BJ$66,($BG17-BJ$1)/計算!$B$26*BJ$66))","v":-0.15970956504964062},{"$f":"IF($BG17<BK$1,0,IF($BG17-BK$1>計算!$B$26,BK$66,($BG17-BK$1)/計算!$B$26*BK$66))","v":-0.21551880103922261},{"$f":"IF($BG17<BL$1,0,IF($BG17-BL$1>計算!$B$26,BL$66,($BG17-BL$1)/計算!$B$26*BL$66))","v":-3.6979193377590036E-2},{"$f":"IF($BG17<BM$1,0,IF($BG17-BM$1>計算!$B$26,BM$66,($BG17-BM$1)/計算!$B$26*BM$66))","v":8.5539846253473106E-2},{"$f":"IF($BG17<BN$1,0,IF($BG17-BN$1>計算!$B$26,BN$66,($BG17-BN$1)/計算!$B$26*BN$66))","v":0},{"$f":"IF($BG17<BO$1,0,IF($BG17-BO$1>計算!$B$26,BO$66,($BG17-BO$1)/計算!$B$26*BO$66))","v":0},{"$f":"IF($BG17<BP$1,0,IF($BG17-BP$1>計算!$B$26,BP$66,($BG17-BP$1)/計算!$B$26*BP$66))","v":0},{"$f":"IF($BG17<BQ$1,0,IF($BG17-BQ$1>計算!$B$26,BQ$66,($BG17-BQ$1)/計算!$B$26*BQ$66))","v":0},{"$f":"IF($BG17<BR$1,0,IF($BG17-BR$1>計算!$B$26,BR$66,($BG17-BR$1)/計算!$B$26*BR$66))","v":0},{"$f":"IF($BG17<BS$1,0,IF($BG17-BS$1>計算!$B$26,BS$66,($BG17-BS$1)/計算!$B$26*BS$66))","v":0},{"$f":"IF($BG17<BT$1,0,IF($BG17-BT$1>計算!$B$26,BT$66,($BG17-BT$1)/計算!$B$26*BT$66))","v":0},{"$f":"IF($BG17<BU$1,0,IF($BG17-BU$1>計算!$B$26,BU$66,($BG17-BU$1)/計算!$B$26*BU$66))","v":0},{"$f":"IF($BG17<BV$1,0,IF($BG17-BV$1>計算!$B$26,BV$66,($BG17-BV$1)/計算!$B$26*BV$66))","v":0},{"$f":"IF($BG17<BW$1,0,IF($BG17-BW$1>計算!$B$26,BW$66,($BG17-BW$1)/計算!$B$26*BW$66))","v":0},{"$f":"IF($BG17<BX$1,0,IF($BG17-BX$1>計算!$B$26,BX$66,($BG17-BX$1)/計算!$B$26*BX$66))","v":0},{"$f":"IF($BG17<BY$1,0,IF($BG17-BY$1>計算!$B$26,BY$66,($BG17-BY$1)/計算!$B$26*BY$66))","v":0},{"$f":"IF($BG17<BZ$1,0,IF($BG17-BZ$1>計算!$B$26,BZ$66,($BG17-BZ$1)/計算!$B$26*BZ$66))","v":0},{"$f":"IF($BG17<CA$1,0,IF($BG17-CA$1>計算!$B$26,CA$66,($BG17-CA$1)/計算!$B$26*CA$66))","v":0},{"$f":"IF($BG17<CB$1,0,IF($BG17-CB$1>計算!$B$26,CB$66,($BG17-CB$1)/計算!$B$26*CB$66))","v":0},{"$f":"IF($BG17<CC$1,0,IF($BG17-CC$1>計算!$B$26,CC$66,($BG17-CC$1)/計算!$B$26*CC$66))","v":0},{"$f":"IF($BG17<CD$1,0,IF($BG17-CD$1>計算!$B$26,CD$66,($BG17-CD$1)/計算!$B$26*CD$66))","v":0},{"$f":"IF($BG17<CE$1,0,IF($BG17-CE$1>計算!$B$26,CE$66,($BG17-CE$1)/計算!$B$26*CE$66))","v":0},{"$f":"IF($BG17<CF$1,0,IF($BG17-CF$1>計算!$B$26,CF$66,($BG17-CF$1)/計算!$B$26*CF$66))","v":0},{"$f":"IF($BG17<CG$1,0,IF($BG17-CG$1>計算!$B$26,CG$66,($BG17-CG$1)/計算!$B$26*CG$66))","v":0},{"$f":"IF($BG17<CH$1,0,IF($BG17-CH$1>計算!$B$26,CH$66,($BG17-CH$1)/計算!$B$26*CH$66))","v":0},{"$f":"IF($BG17<CI$1,0,IF($BG17-CI$1>計算!$B$26,CI$66,($BG17-CI$1)/計算!$B$26*CI$66))","v":0},{"$f":"IF($BG17<CJ$1,0,IF($BG17-CJ$1>計算!$B$26,CJ$66,($BG17-CJ$1)/計算!$B$26*CJ$66))","v":0},{"$f":"IF($BG17<CK$1,0,IF($BG17-CK$1>計算!$B$26,CK$66,($BG17-CK$1)/計算!$B$26*CK$66))","v":0},-8.9638815028439289E-2,8.9638815028439289E-2]
[null,null,null,null,null,null,null,null,null,null,null,null,{"$f":"IF($L18<M$1,0,IF($L18-M$1>計算!$B$26,M$66,($L18-M$1)/計算!$B$26*M$66))","v":0.2983353312641418},{"$f":"IF($L18<N$1,0,IF($L18-N$1>計算!$B$26,N$66,($L18-N$1)/計算!$B$26*N$66))","v":-0.89890989052282899},{"$f":"IF($L18<O$1,0,IF($L18-O$1>計算!$B$26,O$66,($L18-O$1)/計算!$B$26*O$66))","v":-0.21184658990487348},{"$f":"IF($L18<P$1,0,IF($L18-P$1>計算!$B$26,P$66,($L18-P$1)/計算!$B$26*P$66))","v":0.63830901206403412},{"$f":"IF($L18<Q$1,0,IF($L18-Q$1>計算!$B$26,Q$66,($L18-Q$1)/計算!$B$26*Q$66))","v":-0.21374580605087579},{"$f":"IF($L18<R$1,0,IF($L18-R$1>計算!$B$26,R$66,($L18-R$1)/計算!$B$26*R$66))","v":0.58793831734057156},{"$f":"IF($L18<S$1,0,IF($L18-S$1>計算!$B$26,S$66,($L18-S$1)/計算!$B$26*S$66))","v":0.25093969157470108},{"$f":"IF($L18<T$1,0,IF($L18-T$1>計算!$B$26,T$66,($L18-T$1)/計算!$B$26*T$66))","v":-0.41865015530211602},{"$f":"IF($L18<U$1,0,IF($L18-U$1>計算!$B$26,U$66,($L18-U$1)/計算!$B$26*U$66))","v":4.969685463346514E-2},{"$f":"IF($L18<V$1,0,IF($L18-V$1>計算!$B$26,V$66,($L18-V$1)/計算!$B$26*V$66))","v":0},{"$f":"IF($L18<W$1,0,IF($L18-W$1>計算!$B$26,W$66,($L18-W$1)/計算!$B$26*W$66))","v":0},{"$f":"IF($L18<X$1,0,IF($L18-X$1>計算!$B$26,X$66,($L18-X$1)/計算!$B$26*X$66))","v":0},{"$f":"IF($L18<Y$1,0,IF($L18-Y$1>計算!$B$26,Y$66,($L18-Y$1)/計算!$B$26*Y$66))","v":0},{"$f":"IF($L18<Z$1,0,IF($L18-Z$1>計算!$B$26,Z$66,($L18-Z$1)/計算!$B$26*Z$66))","v":0},{"$f":"IF($L18<AA$1,0,IF($L18-AA$1>計算!$B$26,AA$66,($L18-AA$1)/計算!$B$26*AA$66))","v":0},{"$f":"IF($L18<AB$1,0,IF($L18-AB$1>計算!$B$26,AB$66,($L18-AB$1)/計算!$B$26*AB$66))","v":0},{"$f":"IF($L18<AC$1,0,IF($L18-AC$1>計算!$B$26,AC$66,($L18-AC$1)/計算!$B$26*AC$66))","v":0},{"$f":"IF($L18<AD$1,0,IF($L18-AD$1>計算!$B$26,AD$66,($L18-AD$1)/計算!$B$26*AD$66))","v":0},{"$f":"IF($L18<AE$1,0,IF($L18-AE$1>計算!$B$26,AE$66,($L18-AE$1)/計算!$B$26*AE$66))","v":0},{"$f":"IF($L18<AF$1,0,IF($L18-AF$1>計算!$B$26,AF$66,($L18-AF$1)/計算!$B$26*AF$66))","v":0},{"$f":"IF($L18<AG$1,0,IF($L18-AG$1>計算!$B$26,AG$66,($L18-AG$1)/計算!$B$26*AG$66))","v":0},{"$f":"IF($L18<AH$1,0,IF($L18-AH$1>計算!$B$26,AH$66,($L18-AH$1)/計算!$B$26*AH$66))","v":0},{"$f":"IF($L18<AI$1,0,IF($L18-AI$1>計算!$B$26,AI$66,($L18-AI$1)/計算!$B$26*AI$66))","v":0},{"$f":"IF($L18<AJ$1,0,IF($L18-AJ$1>計算!$B$26,AJ$66,($L18-AJ$1)/計算!$B$26*AJ$66))","v":0},{"$f":"IF($L18<AK$1,0,IF($L18-AK$1>計算!$B$26,AK$66,($L18-AK$1)/計算!$B$26*AK$66))","v":0},{"$f":"IF($L18<AL$1,0,IF($L18-AL$1>計算!$B$26,AL$66,($L18-AL$1)/計算!$B$26*AL$66))","v":0},{"$f":"IF($L18<AM$1,0,IF($L18-AM$1>計算!$B$26,AM$66,($L18-AM$1)/計算!$B$26*AM$66))","v":0},{"$f":"IF($L18<AN$1,0,IF($L18-AN$1>計算!$B$26,AN$66,($L18-AN$1)/計算!$B$26*AN$66))","v":0},{"$f":"IF($L18<AO$1,0,IF($L18-AO$1>計算!$B$26,AO$66,($L18-AO$1)/計算!$B$26*AO$66))","v":0},{"$f":"IF($L18<AP$1,0,IF($L18-AP$1>計算!$B$26,AP$66,($L18-AP$1)/計算!$B$26*AP$66))","v":0},{"$f":"IF($L18<AQ$1,0,IF($L18-AQ$1>計算!$B$26,AQ$66,($L18-AQ$1)/計算!$B$26*AQ$66))","v":0},{"$f":"IF($L18<AR$1,0,IF($L18-AR$1>計算!$B$26,AR$66,($L18-AR$1)/計算!$B$26*AR$66))","v":0},{"$f":"IF($L18<AS$1,0,IF($L18-AS$1>計算!$B$26,AS$66,($L18-AS$1)/計算!$B$26*AS$66))","v":0},{"$f":"IF($L18<AT$1,0,IF($L18-AT$1>計算!$B$26,AT$66,($L18-AT$1)/計算!$B$26*AT$66))","v":0},{"$f":"IF($L18<AU$1,0,IF($L18-AU$1>計算!$B$26,AU$66,($L18-AU$1)/計算!$B$26*AU$66))","v":0},{"$f":"IF($L18<AV$1,0,IF($L18-AV$1>計算!$B$26,AV$66,($L18-AV$1)/計算!$B$26*AV$66))","v":0},8.2066765096219421E-2,-8.2066765096219421E-2,null,null,null,null,null,null,null,null,null,{"$f":"IF($BG18<BH$1,0,IF($BG18-BH$1>計算!$B$26,BH$66,($BG18-BH$1)/計算!$B$26*BH$66))","v":-0.67165999785768882},{"$f":"IF($BG18<BI$1,0,IF($BG18-BI$1>計算!$B$26,BI$66,($BG18-BI$1)/計算!$B$26*BI$66))","v":0.90868889604222969},{"$f":"IF($BG18<BJ$1,0,IF($BG18-BJ$1>計算!$B$26,BJ$66,($BG18-BJ$1)/計算!$B$26*BJ$66))","v":-0.15970956504964062},{"$f":"IF($BG18<BK$1,0,IF($BG18-BK$1>計算!$B$26,BK$66,($BG18-BK$1)/計算!$B$26*BK$66))","v":-0.21551880103922261},{"$f":"IF($BG18<BL$1,0,IF($BG18-BL$1>計算!$B$26,BL$66,($BG18-BL$1)/計算!$B$26*BL$66))","v":-3.6979193377590036E-2},{"$f":"IF($BG18<BM$1,0,IF($BG18-BM$1>計算!$B$26,BM$66,($BG18-BM$1)/計算!$B$26*BM$66))","v":8.5539846253473106E-2},{"$f":"IF($BG18<BN$1,0,IF($BG18-BN$1>計算!$B$26,BN$66,($BG18-BN$1)/計算!$B$26*BN$66))","v":-2.1890209269295035E-3},{"$f":"IF($BG18<BO$1,0,IF($BG18-BO$1>計算!$B$26,BO$66,($BG18-BO$1)/計算!$B$26*BO$66))","v":0},{"$f":"IF($BG18<BP$1,0,IF($BG18-BP$1>計算!$B$26,BP$66,($BG18-BP$1)/計算!$B$26*BP$66))","v":0},{"$f":"IF($BG18<BQ$1,0,IF($BG18-BQ$1>計算!$B$26,BQ$66,($BG18-BQ$1)/計算!$B$26*BQ$66))","v":0},{"$f":"IF($BG18<BR$1,0,IF($BG18-BR$1>計算!$B$26,BR$66,($BG18-BR$1)/計算!$B$26*BR$66))","v":0},{"$f":"IF($BG18<BS$1,0,IF($BG18-BS$1>計算!$B$26,BS$66,($BG18-BS$1)/計算!$B$26*BS$66))","v":0},{"$f":"IF($BG18<BT$1,0,IF($BG18-BT$1>計算!$B$26,BT$66,($BG18-BT$1)/計算!$B$26*BT$66))","v":0},{"$f":"IF($BG18<BU$1,0,IF($BG18-BU$1>計算!$B$26,BU$66,($BG18-BU$1)/計算!$B$26*BU$66))","v":0},{"$f":"IF($BG18<BV$1,0,IF($BG18-BV$1>計算!$B$26,BV$66,($BG18-BV$1)/計算!$B$26*BV$66))","v":0},{"$f":"IF($BG18<BW$1,0,IF($BG18-BW$1>計算!$B$26,BW$66,($BG18-BW$1)/計算!$B$26*BW$66))","v":0},{"$f":"IF($BG18<BX$1,0,IF($BG18-BX$1>計算!$B$26,BX$66,($BG18-BX$1)/計算!$B$26*BX$66))","v":0},{"$f":"IF($BG18<BY$1,0,IF($BG18-BY$1>計算!$B$26,BY$66,($BG18-BY$1)/計算!$B$26*BY$66))","v":0},{"$f":"IF($BG18<BZ$1,0,IF($BG18-BZ$1>計算!$B$26,BZ$66,($BG18-BZ$1)/計算!$B$26*BZ$66))","v":0},{"$f":"IF($BG18<CA$1,0,IF($BG18-CA$1>計算!$B$26,CA$66,($BG18-CA$1)/計算!$B$26*CA$66))","v":0},{"$f":"IF($BG18<CB$1,0,IF($BG18-CB$1>計算!$B$26,CB$66,($BG18-CB$1)/計算!$B$26*CB$66))","v":0},{"$f":"IF($BG18<CC$1,0,IF($BG18-CC$1>計算!$B$26,CC$66,($BG18-CC$1)/計算!$B$26*CC$66))","v":0},{"$f":"IF($BG18<CD$1,0,IF($BG18-CD$1>計算!$B$26,CD$66,($BG18-CD$1)/計算!$B$26*CD$66))","v":0},{"$f":"IF($BG18<CE$1,0,IF($BG18-CE$1>計算!$B$26,CE$66,($BG18-CE$1)/計算!$B$26*CE$66))","v":0},{"$f":"IF($BG18<CF$1,0,IF($BG18-CF$1>計算!$B$26,CF$66,($BG18-CF$1)/計算!$B$26*CF$66))","v":0},{"$f":"IF($BG18<CG$1,0,IF($BG18-CG$1>計算!$B$26,CG$66,($BG18-CG$1)/計算!$B$26*CG$66))","v":0},{"$f":"IF($BG18<CH$1,0,IF($BG18-CH$1>計算!$B$26,CH$66,($BG18-CH$1)/計算!$B$26*CH$66))","v":0},{"$f":"IF($BG18<CI$1,0,IF($BG18-CI$1>計算!$B$26,CI$66,($BG18-CI$1)/計算!$B$26*CI$66))","v":0},{"$f":"IF($BG18<CJ$1,0,IF($BG18-CJ$1>計算!$B$26,CJ$66,($BG18-CJ$1)/計算!$B$26*CJ$66))","v":0},{"$f":"IF($BG18<CK$1,0,IF($BG18-CK$1>計算!$B$26,CK$66,($BG18-CK$1)/計算!$B$26*CK$66))","v":0},-9.1827835955368795E-2,9.1827835955368795E-2]
[null,null,null,null,null,null,null,null,null,null,null,null,{"$f":"IF($L19<M$1,0,IF($L19-M$1>計算!$B$26,M$66,($L19-M$1)/計算!$B$26*M$66))","v":0.2983353312641418},{"$f":"IF($L19<N$1,0,IF($L19-N$1>計算!$B$26,N$66,($L19-N$1)/計算!$B$26*N$66))","v":-0.89890989052282899},{"$f":"IF($L19<O$1,0,IF($L19-O$1>計算!$B$26,O$66,($L19-O$1)/計算!$B$26*O$66))","v":-0.21184658990487348},{"$f":"IF($L19<P$1,0,IF($L19-P$1>計算!$B$26,P$66,($L19-P$1)/計算!$B$26*P$66))","v":0.63830901206403412},{"$f":"IF($L19<Q$1,0,IF($L19-Q$1>計算!$B$26,Q$66,($L19-Q$1)/計算!$B$26*Q$66))","v":-0.21374580605087579},{"$f":"IF($L19<R$1,0,IF($L19-R$1>計算!$B$26,R$66,($L19-R$1)/計算!$B$26*R$66))","v":0.58793831734057156},{"$f":"IF($L19<S$1,0,IF($L19-S$1>計算!$B$26,S$66,($L19-S$1)/計算!$B$26*S$66))","v":0.26628907306790472},{"$f":"IF($L19<T$1,0,IF($L19-T$1>計算!$B$26,T$66,($L19-T$1)/計算!$B$26*T$66))","v":-0.44592640918746895},{"$f":"IF($L19<U$1,0,IF($L19-U$1>計算!$B$26,U$66,($L19-U$1)/計算!$B$26*U$66))","v":5.3160407054950183E-2},{"$f":"IF($L19<V$1,0,IF($L19-V$1>計算!$B$26,V$66,($L19-V$1)/計算!$B$26*V$66))","v":0},{"$f":"IF($L19<W$1,0,IF($L19-W$1>計算!$B$26,W$66,($L19-W$1)/計算!$B$26*W$66))","v":0},{"$f":"IF($L19<X$1,0,IF($L19-X$1>計算!$B$26,X$66,($L19-X$1)/計算!$B$26*X$66))","v":0},{"$f":"IF($L19<Y$1,0,IF($L19-Y$1>計算!$B$26,Y$66,($L19-Y$1)/計算!$B$26*Y$66))","v":0},{"$f":"IF($L19<Z$1,0,IF($L19-Z$1>計算!$B$26,Z$66,($L19-Z$1)/計算!$B$26*Z$66))","v":0},{"$f":"IF($L19<AA$1,0,IF($L19-AA$1>計算!$B$26,AA$66,($L19-AA$1)/計算!$B$26*AA$66))","v":0},{"$f":"IF($L19<AB$1,0,IF($L19-AB$1>計算!$B$26,AB$66,($L19-AB$1)/計算!$B$26*AB$66))","v":0},{"$f":"IF($L19<AC$1,0,IF($L19-AC$1>計算!$B$26,AC$66,($L19-AC$1)/計算!$B$26*AC$66))","v":0},{"$f":"IF($L19<AD$1,0,IF($L19-AD$1>計算!$B$26,AD$66,($L19-AD$1)/計算!$B$26*AD$66))","v":0},{"$f":"IF($L19<AE$1,0,IF($L19-AE$1>計算!$B$26,AE$66,($L19-AE$1)/計算!$B$26*AE$66))","v":0},{"$f":"IF($L19<AF$1,0,IF($L19-AF$1>計算!$B$26,AF$66,($L19-AF$1)/計算!$B$26*AF$66))","v":0},{"$f":"IF($L19<AG$1,0,IF($L19-AG$1>計算!$B$26,AG$66,($L19-AG$1)/計算!$B$26*AG$66))","v":0},{"$f":"IF($L19<AH$1,0,IF($L19-AH$1>計算!$B$26,AH$66,($L19-AH$1)/計算!$B$26*AH$66))","v":0},{"$f":"IF($L19<AI$1,0,IF($L19-AI$1>計算!$B$26,AI$66,($L19-AI$1)/計算!$B$26*AI$66))","v":0},{"$f":"IF($L19<AJ$1,0,IF($L19-AJ$1>計算!$B$26,AJ$66,($L19-AJ$1)/計算!$B$26*AJ$66))","v":0},{"$f":"IF($L19<AK$1,0,IF($L19-AK$1>計算!$B$26,AK$66,($L19-AK$1)/計算!$B$26*AK$66))","v":0},{"$f":"IF($L19<AL$1,0,IF($L19-AL$1>計算!$B$26,AL$66,($L19-AL$1)/計算!$B$26*AL$66))","v":0},{"$f":"IF($L19<AM$1,0,IF($L19-AM$1>計算!$B$26,AM$66,($L19-AM$1)/計算!$B$26*AM$66))","v":0},{"$f":"IF($L19<AN$1,0,IF($L19-AN$1>計算!$B$26,AN$66,($L19-AN$1)/計算!$B$26*AN$66))","v":0},{"$f":"IF($L19<AO$1,0,IF($L19-AO$1>計算!$B$26,AO$66,($L19-AO$1)/計算!$B$26*AO$66))","v":0},{"$f":"IF($L19<AP$1,0,IF($L19-AP$1>計算!$B$26,AP$66,($L19-AP$1)/計算!$B$26*AP$66))","v":0},{"$f":"IF($L19<AQ$1,0,IF($L19-AQ$1>計算!$B$26,AQ$66,($L19-AQ$1)/計算!$B$26*AQ$66))","v":0},{"$f":"IF($L19<AR$1,0,IF($L19-AR$1>計算!$B$26,AR$66,($L19-AR$1)/計算!$B$26*AR$66))","v":0},{"$f":"IF($L19<AS$1,0,IF($L19-AS$1>計算!$B$26,AS$66,($L19-AS$1)/計算!$B$26*AS$66))","v":0},{"$f":"IF($L19<AT$1,0,IF($L19-AT$1>計算!$B$26,AT$66,($L19-AT$1)/計算!$B$26*AT$66))","v":0},{"$f":"IF($L19<AU$1,0,IF($L19-AU$1>計算!$B$26,AU$66,($L19-AU$1)/計算!$B$26*AU$66))","v":0},{"$f":"IF($L19<AV$1,0,IF($L19-AV$1>計算!$B$26,AV$66,($L19-AV$1)/計算!$B$26*AV$66))","v":0},7.3603445125555167E-2,-7.3603445125555167E-2,null,null,null,null,null,null,null,null,null,{"$f":"IF($BG19<BH$1,0,IF($BG19-BH$1>計算!$B$26,BH$66,($BG19-BH$1)/計算!$B$26*BH$66))","v":-0.67165999785768882},{"$f":"IF($BG19<BI$1,0,IF($BG19-BI$1>計算!$B$26,BI$66,($BG19-BI$1)/計算!$B$26*BI$66))","v":0.90868889604222969},{"$f":"IF($BG19<BJ$1,0,IF($BG19-BJ$1>計算!$B$26,BJ$66,($BG19-BJ$1)/計算!$B$26*BJ$66))","v":-0.15970956504964062},{"$f":"IF($BG19<BK$1,0,IF($BG19-BK$1>計算!$B$26,BK$66,($BG19-BK$1)/計算!$B$26*BK$66))","v":-0.21551880103922261},{"$f":"IF($BG19<BL$1,0,IF($BG19-BL$1>計算!$B$26,BL$66,($BG19-BL$1)/計算!$B$26*BL$66))","v":-3.6979193377590036E-2},{"$f":"IF($BG19<BM$1,0,IF($BG19-BM$1>計算!$B$26,BM$66,($BG19-BM$1)/計算!$B$26*BM$66))","v":8.5539846253473106E-2},{"$f":"IF($BG19<BN$1,0,IF($BG19-BN$1>計算!$B$26,BN$66,($BG19-BN$1)/計算!$B$26*BN$66))","v":-4.378041853859007E-3},{"$f":"IF($BG19<BO$1,0,IF($BG19-BO$1>計算!$B$26,BO$66,($BG19-BO$1)/計算!$B$26*BO$66))","v":3.5831450974106761E-3},{"$f":"IF($BG19<BP$1,0,IF($BG19-BP$1>計算!$B$26,BP$66,($BG19-BP$1)/計算!$B$26*BP$66))","v":0},{"$f":"IF($BG19<BQ$1,0,IF($BG19-BQ$1>計算!$B$26,BQ$66,($BG19-BQ$1)/計算!$B$26*BQ$66))","v":0},{"$f":"IF($BG19<BR$1,0,IF($BG19-BR$1>計算!$B$26,BR$66,($BG19-BR$1)/計算!$B$26*BR$66))","v":0},{"$f":"IF($BG19<BS$1,0,IF($BG19-BS$1>計算!$B$26,BS$66,($BG19-BS$1)/計算!$B$26*BS$66))","v":0},{"$f":"IF($BG19<BT$1,0,IF($BG19-BT$1>計算!$B$26,BT$66,($BG19-BT$1)/計算!$B$26*BT$66))","v":0},{"$f":"IF($BG19<BU$1,0,IF($BG19-BU$1>計算!$B$26,BU$66,($BG19-BU$1)/計算!$B$26*BU$66))","v":0},{"$f":"IF($BG19<BV$1,0,IF($BG19-BV$1>計算!$B$26,BV$66,($BG19-BV$1)/計算!$B$26*BV$66))","v":0},{"$f":"IF($BG19<BW$1,0,IF($BG19-BW$1>計算!$B$26,BW$66,($BG19-BW$1)/計算!$B$26*BW$66))","v":0},{"$f":"IF($BG19<BX$1,0,IF($BG19-BX$1>計算!$B$26,BX$66,($BG19-BX$1)/計算!$B$26*BX$66))","v":0},{"$f":"IF($BG19<BY$1,0,IF($BG19-BY$1>計算!$B$26,BY$66,($BG19-BY$1)/計算!$B$26*BY$66))","v":0},{"$f":"IF($BG19<BZ$1,0,IF($BG19-BZ$1>計算!$B$26,BZ$66,($BG19-BZ$1)/計算!$B$26*BZ$66))","v":0},{"$f":"IF($BG19<CA$1,0,IF($BG19-CA$1>計算!$B$26,CA$66,($BG19-CA$1)/計算!$B$26*CA$66))","v":0},{"$f":"IF($BG19<CB$1,0,IF($BG19-CB$1>計算!$B$26,CB$66,($BG19-CB$1)/計算!$B$26*CB$66))","v":0},{"$f":"IF($BG19<CC$1,0,IF($BG19-CC$1>計算!$B$26,CC$66,($BG19-CC$1)/計算!$B$26*CC$66))","v":0},{"$f":"IF($BG19<CD$1,0,IF($BG19-CD$1>計算!$B$26,CD$66,($BG19-CD$1)/計算!$B$26*CD$66))","v":0},{"$f":"IF($BG19<CE$1,0,IF($BG19-CE$1>計算!$B$26,CE$66,($BG19-CE$1)/計算!$B$26*CE$66))","v":0},{"$f":"IF($BG19<CF$1,0,IF($BG19-CF$1>計算!$B$26,CF$66,($BG19-CF$1)/計算!$B$26*CF$66))","v":0},{"$f":"IF($BG19<CG$1,0,IF($BG19-CG$1>計算!$B$26,CG$66,($BG19-CG$1)/計算!$B$26*CG$66))","v":0},{"$f":"IF($BG19<CH$1,0,IF($BG19-CH$1>計算!$B$26,CH$66,($BG19-CH$1)/計算!$B$26*CH$66))","v":0},{"$f":"IF($BG19<CI$1,0,IF($BG19-CI$1>計算!$B$26,CI$66,($BG19-CI$1)/計算!$B$26*CI$66))","v":0},{"$f":"IF($BG19<CJ$1,0,IF($BG19-CJ$1>計算!$B$26,CJ$66,($BG19-CJ$1)/計算!$B$26*CJ$66))","v":0},{"$f":"IF($BG19<CK$1,0,IF($BG19-CK$1>計算!$B$26,CK$66,($BG19-CK$1)/計算!$B$26*CK$66))","v":0},-9.0433711784887627E-2,9.0433711784887627E-2]
[null,null,null,null,null,null,null,null,null,null,null,null,{"$f":"IF($L20<M$1,0,IF($L20-M$1>計算!$B$26,M$66,($L20-M$1)/計算!$B$26*M$66))","v":0.2983353312641418},{"$f":"IF($L20<N$1,0,IF($L20-N$1>計算!$B$26,N$66,($L20-N$1)/計算!$B$26*N$66))","v":-0.89890989052282899},{"$f":"IF($L20<O$1,0,IF($L20-O$1>計算!$B$26,O$66,($L20-O$1)/計算!$B$26*O$66))","v":-0.21184658990487348},{"$f":"IF($L20<P$1,0,IF($L20-P$1>計算!$B$26,P$66,($L20-P$1)/計算!$B$26*P$66))","v":0.63830901206403412},{"$f":"IF($L20<Q$1,0,IF($L20-Q$1>計算!$B$26,Q$66,($L20-Q$1)/計算!$B$26*Q$66))","v":-0.21374580605087579},{"$f":"IF($L20<R$1,0,IF($L20-R$1>計算!$B$26,R$66,($L20-R$1)/計算!$B$26*R$66))","v":0.58793831734057156},{"$f":"IF($L20<S$1,0,IF($L20-S$1>計算!$B$26,S$66,($L20-S$1)/計算!$B$26*S$66))","v":0.26628907306790472},{"$f":"IF($L20<T$1,0,IF($L20-T$1>計算!$B$26,T$66,($L20-T$1)/計算!$B$26*T$66))","v":-0.47320266231569752},{"$f":"IF($L20<U$1,0,IF($L20-U$1>計算!$B$26,U$66,($L20-U$1)/計算!$B$26*U$66))","v":5.6623959476435226E-2},{"$f":"IF($L20<V$1,0,IF($L20-V$1>計算!$B$26,V$66,($L20-V$1)/計算!$B$26*V$66))","v":0},{"$f":"IF($L20<W$1,0,IF($L20-W$1>計算!$B$26,W$66,($L20-W$1)/計算!$B$26*W$66))","v":0},{"$f":"IF($L20<X$1,0,IF($L20-X$1>計算!$B$26,X$66,($L20-X$1)/計算!$B$26*X$66))","v":0},{"$f":"IF($L20<Y$1,0,IF($L20-Y$1>計算!$B$26,Y$66,($L20-Y$1)/計算!$B$26*Y$66))","v":0},{"$f":"IF($L20<Z$1,0,IF($L20-Z$1>計算!$B$26,Z$66,($L20-Z$1)/計算!$B$26*Z$66))","v":0},{"$f":"IF($L20<AA$1,0,IF($L20-AA$1>計算!$B$26,AA$66,($L20-AA$1)/計算!$B$26*AA$66))","v":0},{"$f":"IF($L20<AB$1,0,IF($L20-AB$1>計算!$B$26,AB$66,($L20-AB$1)/計算!$B$26*AB$66))","v":0},{"$f":"IF($L20<AC$1,0,IF($L20-AC$1>計算!$B$26,AC$66,($L20-AC$1)/計算!$B$26*AC$66))","v":0},{"$f":"IF($L20<AD$1,0,IF($L20-AD$1>計算!$B$26,AD$66,($L20-AD$1)/計算!$B$26*AD$66))","v":0},{"$f":"IF($L20<AE$1,0,IF($L20-AE$1>計算!$B$26,AE$66,($L20-AE$1)/計算!$B$26*AE$66))","v":0},{"$f":"IF($L20<AF$1,0,IF($L20-AF$1>計算!$B$26,AF$66,($L20-AF$1)/計算!$B$26*AF$66))","v":0},{"$f":"IF($L20<AG$1,0,IF($L20-AG$1>計算!$B$26,AG$66,($L20-AG$1)/計算!$B$26*AG$66))","v":0},{"$f":"IF($L20<AH$1,0,IF($L20-AH$1>計算!$B$26,AH$66,($L20-AH$1)/計算!$B$26*AH$66))","v":0},{"$f":"IF($L20<AI$1,0,IF($L20-AI$1>計算!$B$26,AI$66,($L20-AI$1)/計算!$B$26*AI$66))","v":0},{"$f":"IF($L20<AJ$1,0,IF($L20-AJ$1>計算!$B$26,AJ$66,($L20-AJ$1)/計算!$B$26*AJ$66))","v":0},{"$f":"IF($L20<AK$1,0,IF($L20-AK$1>計算!$B$26,AK$66,($L20-AK$1)/計算!$B$26*AK$66))","v":0},{"$f":"IF($L20<AL$1,0,IF($L20-AL$1>計算!$B$26,AL$66,($L20-AL$1)/計算!$B$26*AL$66))","v":0},{"$f":"IF($L20<AM$1,0,IF($L20-AM$1>計算!$B$26,AM$66,($L20-AM$1)/計算!$B$26*AM$66))","v":0},{"$f":"IF($L20<AN$1,0,IF($L20-AN$1>計算!$B$26,AN$66,($L20-AN$1)/計算!$B$26*AN$66))","v":0},{"$f":"IF($L20<AO$1,0,IF($L20-AO$1>計算!$B$26,AO$66,($L20-AO$1)/計算!$B$26*AO$66))","v":0},{"$f":"IF($L20<AP$1,0,IF($L20-AP$1>計算!$B$26,AP$66,($L20-AP$1)/計算!$B$26*AP$66))","v":0},{"$f":"IF($L20<AQ$1,0,IF($L20-AQ$1>計算!$B$26,AQ$66,($L20-AQ$1)/計算!$B$26*AQ$66))","v":0},{"$f":"IF($L20<AR$1,0,IF($L20-AR$1>計算!$B$26,AR$66,($L20-AR$1)/計算!$B$26*AR$66))","v":0},{"$f":"IF($L20<AS$1,0,IF($L20-AS$1>計算!$B$26,AS$66,($L20-AS$1)/計算!$B$26*AS$66))","v":0},{"$f":"IF($L20<AT$1,0,IF($L20-AT$1>計算!$B$26,AT$66,($L20-AT$1)/計算!$B$26*AT$66))","v":0},{"$f":"IF($L20<AU$1,0,IF($L20-AU$1>計算!$B$26,AU$66,($L20-AU$1)/計算!$B$26*AU$66))","v":0},{"$f":"IF($L20<AV$1,0,IF($L20-AV$1>計算!$B$26,AV$66,($L20-AV$1)/計算!$B$26*AV$66))","v":0},4.979074441881165E-2,-4.979074441881165E-2,null,null,null,null,null,null,null,null,null,{"$f":"IF($BG20<BH$1,0,IF($BG20-BH$1>計算!$B$26,BH$66,($BG20-BH$1)/計算!$B$26*BH$66))","v":-0.67165999785768882},{"$f":"IF($BG20<BI$1,0,IF($BG20-BI$1>計算!$B$26,BI$66,($BG20-BI$1)/計算!$B$26*BI$66))","v":0.90868889604222969},{"$f":"IF($BG20<BJ$1,0,IF($BG20-BJ$1>計算!$B$26,BJ$66,($BG20-BJ$1)/計算!$B$26*BJ$66))","v":-0.15970956504964062},{"$f":"IF($BG20<BK$1,0,IF($BG20-BK$1>計算!$B$26,BK$66,($BG20-BK$1)/計算!$B$26*BK$66))","v":-0.21551880103922261},{"$f":"IF($BG20<BL$1,0,IF($BG20-BL$1>計算!$B$26,BL$66,($BG20-BL$1)/計算!$B$26*BL$66))","v":-3.6979193377590036E-2},{"$f":"IF($BG20<BM$1,0,IF($BG20-BM$1>計算!$B$26,BM$66,($BG20-BM$1)/計算!$B$26*BM$66))","v":8.5539846253473106E-2},{"$f":"IF($BG20<BN$1,0,IF($BG20-BN$1>計算!$B$26,BN$66,($BG20-BN$1)/計算!$B$26*BN$66))","v":-6.5670627807885105E-3},{"$f":"IF($BG20<BO$1,0,IF($BG20-BO$1>計算!$B$26,BO$66,($BG20-BO$1)/計算!$B$26*BO$66))","v":7.1662901948213523E-3},{"$f":"IF($BG20<BP$1,0,IF($BG20-BP$1>計算!$B$26,BP$66,($BG20-BP$1)/計算!$B$26*BP$66))","v":9.0819341952371943E-3},{"$f":"IF($BG20<BQ$1,0,IF($BG20-BQ$1>計算!$B$26,BQ$66,($BG20-BQ$1)/計算!$B$26*BQ$66))","v":0},{"$f":"IF($BG20<BR$1,0,IF($BG20-BR$1>計算!$B$26,BR$66,($BG20-BR$1)/計算!$B$26*BR$66))","v":0},{"$f":"IF($BG20<BS$1,0,IF($BG20-BS$1>計算!$B$26,BS$66,($BG20-BS$1)/計算!$B$26*BS$66))","v":0},{"$f":"IF($BG20<BT$1,0,IF($BG20-BT$1>計算!$B$26,BT$66,($BG20-BT$1)/計算!$B$26*BT$66))","v":0},{"$f":"IF($BG20<BU$1,0,IF($BG20-BU$1>計算!$B$26,BU$66,($BG20-BU$1)/計算!$B$26*BU$66))","v":0},{"$f":"IF($BG20<BV$1,0,IF($BG20-BV$1>計算!$B$26,BV$66,($BG20-BV$1)/計算!$B$26*BV$66))","v":0},{"$f":"IF($BG20<BW$1,0,IF($BG20-BW$1>計算!$B$26,BW$66,($BG20-BW$1)/計算!$B$26*BW$66))","v":0},{"$f":"IF($BG20<BX$1,0,IF($BG20-BX$1>計算!$B$26,BX$66,($BG20-BX$1)/計算!$B$26*BX$66))","v":0},{"$f":"IF($BG20<BY$1,0,IF($BG20-BY$1>計算!$B$26,BY$66,($BG20-BY$1)/計算!$B$26*BY$66))","v":0},{"$f":"IF($BG20<BZ$1,0,IF($BG20-BZ$1>計算!$B$26,BZ$66,($BG20-BZ$1)/計算!$B$26*BZ$66))","v":0},{"$f":"IF($BG20<CA$1,0,IF($BG20-CA$1>計算!$B$26,CA$66,($BG20-CA$1)/計算!$B$26*CA$66))","v":0},{"$f":"IF($BG20<CB$1,0,IF($BG20-CB$1>計算!$B$26,CB$66,($BG20-CB$1)/計算!$B$26*CB$66))","v":0},{"$f":"IF($BG20<CC$1,0,IF($BG20-CC$1>計算!$B$26,CC$66,($BG20-CC$1)/計算!$B$26*CC$66))","v":0},{"$f":"IF($BG20<CD$1,0,IF($BG20-CD$1>計算!$B$26,CD$66,($BG20-CD$1)/計算!$B$26*CD$66))","v":0},{"$f":"IF($BG20<CE$1,0,IF($BG20-CE$1>計算!$B$26,CE$66,($BG20-CE$1)/計算!$B$26*CE$66))","v":0},{"$f":"IF($BG20<CF$1,0,IF($BG20-CF$1>計算!$B$26,CF$66,($BG20-CF$1)/計算!$B$26*CF$66))","v":0},{"$f":"IF($BG20<CG$1,0,IF($BG20-CG$1>計算!$B$26,CG$66,($BG20-CG$1)/計算!$B$26*CG$66))","v":0},{"$f":"IF($BG20<CH$1,0,IF($BG20-CH$1>計算!$B$26,CH$66,($BG20-CH$1)/計算!$B$26*CH$66))","v":0},{"$f":"IF($BG20<CI$1,0,IF($BG20-CI$1>計算!$B$26,CI$66,($BG20-CI$1)/計算!$B$26*CI$66))","v":0},{"$f":"IF($BG20<CJ$1,0,IF($BG20-CJ$1>計算!$B$26,CJ$66,($BG20-CJ$1)/計算!$B$26*CJ$66))","v":0},{"$f":"IF($BG20<CK$1,0,IF($BG20-CK$1>計算!$B$26,CK$66,($BG20-CK$1)/計算!$B$26*CK$66))","v":0},-7.9957653419169245E-2,7.9957653419169245E-2]
[null,null,null,null,null,null,null,null,null,null,null,null,{"$f":"IF($L21<M$1,0,IF($L21-M$1>計算!$B$26,M$66,($L21-M$1)/計算!$B$26*M$66))","v":0.2983353312641418},{"$f":"IF($L21<N$1,0,IF($L21-N$1>計算!$B$26,N$66,($L21-N$1)/計算!$B$26*N$66))","v":-0.89890989052282899},{"$f":"IF($L21<O$1,0,IF($L21-O$1>計算!$B$26,O$66,($L21-O$1)/計算!$B$26*O$66))","v":-0.21184658990487348},{"$f":"IF($L21<P$1,0,IF($L21-P$1>計算!$B$26,P$66,($L21-P$1)/計算!$B$26*P$66))","v":0.63830901206403412},{"$f":"IF($L21<Q$1,0,IF($L21-Q$1>計算!$B$26,Q$66,($L21-Q$1)/計算!$B$26*Q$66))","v":-0.21374580605087579},{"$f":"IF($L21<R$1,0,IF($L21-R$1>計算!$B$26,R$66,($L21-R$1)/計算!$B$26*R$66))","v":0.58793831734057156},{"$f":"IF($L21<S$1,0,IF($L21-S$1>計算!$B$26,S$66,($L21-S$1)/計算!$B$26*S$66))","v":0.26628907306790472},{"$f":"IF($L21<T$1,0,IF($L21-T$1>計算!$B$26,T$66,($L21-T$1)/計算!$B$26*T$66))","v":-0.47320266231569752},{"$f":"IF($L21<U$1,0,IF($L21-U$1>計算!$B$26,U$66,($L21-U$1)/計算!$B$26*U$66))","v":6.0087511789762682E-2},{"$f":"IF($L21<V$1,0,IF($L21-V$1>計算!$B$26,V$66,($L21-V$1)/計算!$B$26*V$66))","v":0},{"$f":"IF($L21<W$1,0,IF($L21-W$1>計算!$B$26,W$66,($L21-W$1)/計算!$B$26*W$66))","v":0},{"$f":"IF($L21<X$1,0,IF($L21-X$1>計算!$B$26,X$66,($L21-X$1)/計算!$B$26*X$66))","v":0},{"$f":"IF($L21<Y$1,0,IF($L21-Y$1>計算!$B$26,Y$66,($L21-Y$1)/計算!$B$26*Y$66))","v":0},{"$f":"IF($L21<Z$1,0,IF($L21-Z$1>計算!$B$26,Z$66,($L21-Z$1)/計算!$B$26*Z$66))","v":0},{"$f":"IF($L21<AA$1,0,IF($L21-AA$1>計算!$B$26,AA$66,($L21-AA$1)/計算!$B$26*AA$66))","v":0},{"$f":"IF($L21<AB$1,0,IF($L21-AB$1>計算!$B$26,AB$66,($L21-AB$1)/計算!$B$26*AB$66))","v":0},{"$f":"IF($L21<AC$1,0,IF($L21-AC$1>計算!$B$26,AC$66,($L21-AC$1)/計算!$B$26*AC$66))","v":0},{"$f":"IF($L21<AD$1,0,IF($L21-AD$1>計算!$B$26,AD$66,($L21-AD$1)/計算!$B$26*AD$66))","v":0},{"$f":"IF($L21<AE$1,0,IF($L21-AE$1>計算!$B$26,AE$66,($L21-AE$1)/計算!$B$26*AE$66))","v":0},{"$f":"IF($L21<AF$1,0,IF($L21-AF$1>計算!$B$26,AF$66,($L21-AF$1)/計算!$B$26*AF$66))","v":0},{"$f":"IF($L21<AG$1,0,IF($L21-AG$1>計算!$B$26,AG$66,($L21-AG$1)/計算!$B$26*AG$66))","v":0},{"$f":"IF($L21<AH$1,0,IF($L21-AH$1>計算!$B$26,AH$66,($L21-AH$1)/計算!$B$26*AH$66))","v":0},{"$f":"IF($L21<AI$1,0,IF($L21-AI$1>計算!$B$26,AI$66,($L21-AI$1)/計算!$B$26*AI$66))","v":0},{"$f":"IF($L21<AJ$1,0,IF($L21-AJ$1>計算!$B$26,AJ$66,($L21-AJ$1)/計算!$B$26*AJ$66))","v":0},{"$f":"IF($L21<AK$1,0,IF($L21-AK$1>計算!$B$26,AK$66,($L21-AK$1)/計算!$B$26*AK$66))","v":0},{"$f":"IF($L21<AL$1,0,IF($L21-AL$1>計算!$B$26,AL$66,($L21-AL$1)/計算!$B$26*AL$66))","v":0},{"$f":"IF($L21<AM$1,0,IF($L21-AM$1>計算!$B$26,AM$66,($L21-AM$1)/計算!$B$26*AM$66))","v":0},{"$f":"IF($L21<AN$1,0,IF($L21-AN$1>計算!$B$26,AN$66,($L21-AN$1)/計算!$B$26*AN$66))","v":0},{"$f":"IF($L21<AO$1,0,IF($L21-AO$1>計算!$B$26,AO$66,($L21-AO$1)/計算!$B$26*AO$66))","v":0},{"$f":"IF($L21<AP$1,0,IF($L21-AP$1>計算!$B$26,AP$66,($L21-AP$1)/計算!$B$26*AP$66))","v":0},{"$f":"IF($L21<AQ$1,0,IF($L21-AQ$1>計算!$B$26,AQ$66,($L21-AQ$1)/計算!$B$26*AQ$66))","v":0},{"$f":"IF($L21<AR$1,0,IF($L21-AR$1>計算!$B$26,AR$66,($L21-AR$1)/計算!$B$26*AR$66))","v":0},{"$f":"IF($L21<AS$1,0,IF($L21-AS$1>計算!$B$26,AS$66,($L21-AS$1)/計算!$B$26*AS$66))","v":0},{"$f":"IF($L21<AT$1,0,IF($L21-AT$1>計算!$B$26,AT$66,($L21-AT$1)/計算!$B$26*AT$66))","v":0},{"$f":"IF($L21<AU$1,0,IF($L21-AU$1>計算!$B$26,AU$66,($L21-AU$1)/計算!$B$26*AU$66))","v":0},{"$f":"IF($L21<AV$1,0,IF($L21-AV$1>計算!$B$26,AV$66,($L21-AV$1)/計算!$B$26*AV$66))","v":0},5.3254296732139106E-2,-5.3254296732139106E-2,null,null,null,null,null,null,null,null,null,{"$f":"IF($BG21<BH$1,0,IF($BG21-BH$1>計算!$B$26,BH$66,($BG21-BH$1)/計算!$B$26*BH$66))","v":-0.67165999785768882},{"$f":"IF($BG21<BI$1,0,IF($BG21-BI$1>計算!$B$26,BI$66,($BG21-BI$1)/計算!$B$26*BI$66))","v":0.90868889604222969},{"$f":"IF($BG21<BJ$1,0,IF($BG21-BJ$1>計算!$B$26,BJ$66,($BG21-BJ$1)/計算!$B$26*BJ$66))","v":-0.15970956504964062},{"$f":"IF($BG21<BK$1,0,IF($BG21-BK$1>計算!$B$26,BK$66,($BG21-BK$1)/計算!$B$26*BK$66))","v":-0.21551880103922261},{"$f":"IF($BG21<BL$1,0,IF($BG21-BL$1>計算!$B$26,BL$66,($BG21-BL$1)/計算!$B$26*BL$66))","v":-3.6979193377590036E-2},{"$f":"IF($BG21<BM$1,0,IF($BG21-BM$1>計算!$B$26,BM$66,($BG21-BM$1)/計算!$B$26*BM$66))","v":8.5539846253473106E-2},{"$f":"IF($BG21<BN$1,0,IF($BG21-BN$1>計算!$B$26,BN$66,($BG21-BN$1)/計算!$B$26*BN$66))","v":-8.756083707718014E-3},{"$f":"IF($BG21<BO$1,0,IF($BG21-BO$1>計算!$B$26,BO$66,($BG21-BO$1)/計算!$B$26*BO$66))","v":1.0749435292232028E-2},{"$f":"IF($BG21<BP$1,0,IF($BG21-BP$1>計算!$B$26,BP$66,($BG21-BP$1)/計算!$B$26*BP$66))","v":1.8163868390474389E-2},{"$f":"IF($BG21<BQ$1,0,IF($BG21-BQ$1>計算!$B$26,BQ$66,($BG21-BQ$1)/計算!$B$26*BQ$66))","v":-6.9396738627931938E-4},{"$f":"IF($BG21<BR$1,0,IF($BG21-BR$1>計算!$B$26,BR$66,($BG21-BR$1)/計算!$B$26*BR$66))","v":0},{"$f":"IF($BG21<BS$1,0,IF($BG21-BS$1>計算!$B$26,BS$66,($BG21-BS$1)/計算!$B$26*BS$66))","v":0},{"$f":"IF($BG21<BT$1,0,IF($BG21-BT$1>計算!$B$26,BT$66,($BG21-BT$1)/計算!$B$26*BT$66))","v":0},{"$f":"IF($BG21<BU$1,0,IF($BG21-BU$1>計算!$B$26,BU$66,($BG21-BU$1)/計算!$B$26*BU$66))","v":0},{"$f":"IF($BG21<BV$1,0,IF($BG21-BV$1>計算!$B$26,BV$66,($BG21-BV$1)/計算!$B$26*BV$66))","v":0},{"$f":"IF($BG21<BW$1,0,IF($BG21-BW$1>計算!$B$26,BW$66,($BG21-BW$1)/計算!$B$26*BW$66))","v":0},{"$f":"IF($BG21<BX$1,0,IF($BG21-BX$1>計算!$B$26,BX$66,($BG21-BX$1)/計算!$B$26*BX$66))","v":0},{"$f":"IF($BG21<BY$1,0,IF($BG21-BY$1>計算!$B$26,BY$66,($BG21-BY$1)/計算!$B$26*BY$66))","v":0},{"$f":"IF($BG21<BZ$1,0,IF($BG21-BZ$1>計算!$B$26,BZ$66,($BG21-BZ$1)/計算!$B$26*BZ$66))","v":0},{"$f":"IF($BG21<CA$1,0,IF($BG21-CA$1>計算!$B$26,CA$66,($BG21-CA$1)/計算!$B$26*CA$66))","v":0},{"$f":"IF($BG21<CB$1,0,IF($BG21-CB$1>計算!$B$26,CB$66,($BG21-CB$1)/計算!$B$26*CB$66))","v":0},{"$f":"IF($BG21<CC$1,0,IF($BG21-CC$1>計算!$B$26,CC$66,($BG21-CC$1)/計算!$B$26*CC$66))","v":0},{"$f":"IF($BG21<CD$1,0,IF($BG21-CD$1>計算!$B$26,CD$66,($BG21-CD$1)/計算!$B$26*CD$66))","v":0},{"$f":"IF($BG21<CE$1,0,IF($BG21-CE$1>計算!$B$26,CE$66,($BG21-CE$1)/計算!$B$26*CE$66))","v":0},{"$f":"IF($BG21<CF$1,0,IF($BG21-CF$1>計算!$B$26,CF$66,($BG21-CF$1)/計算!$B$26*CF$66))","v":0},{"$f":"IF($BG21<CG$1,0,IF($BG21-CG$1>計算!$B$26,CG$66,($BG21-CG$1)/計算!$B$26*CG$66))","v":0},{"$f":"IF($BG21<CH$1,0,IF($BG21-CH$1>計算!$B$26,CH$66,($BG21-CH$1)/計算!$B$26*CH$66))","v":0},{"$f":"IF($BG21<CI$1,0,IF($BG21-CI$1>計算!$B$26,CI$66,($BG21-CI$1)/計算!$B$26*CI$66))","v":0},{"$f":"IF($BG21<CJ$1,0,IF($BG21-CJ$1>計算!$B$26,CJ$66,($BG21-CJ$1)/計算!$B$26*CJ$66))","v":0},{"$f":"IF($BG21<CK$1,0,IF($BG21-CK$1>計算!$B$26,CK$66,($BG21-CK$1)/計算!$B$26*CK$66))","v":0},-7.0175562439730207E-2,7.0175562439730207E-2]
[null,null,null,null,null,null,null,null,null,null,null,null,{"$f":"IF($L22<M$1,0,IF($L22-M$1>計算!$B$26,M$66,($L22-M$1)/計算!$B$26*M$66))","v":0.2983353312641418},{"$f":"IF($L22<N$1,0,IF($L22-N$1>計算!$B$26,N$66,($L22-N$1)/計算!$B$26*N$66))","v":-0.89890989052282899},{"$f":"IF($L22<O$1,0,IF($L22-O$1>計算!$B$26,O$66,($L22-O$1)/計算!$B$26*O$66))","v":-0.21184658990487348},{"$f":"IF($L22<P$1,0,IF($L22-P$1>計算!$B$26,P$66,($L22-P$1)/計算!$B$26*P$66))","v":0.63830901206403412},{"$f":"IF($L22<Q$1,0,IF($L22-Q$1>計算!$B$26,Q$66,($L22-Q$1)/計算!$B$26*Q$66))","v":-0.21374580605087579},{"$f":"IF($L22<R$1,0,IF($L22-R$1>計算!$B$26,R$66,($L22-R$1)/計算!$B$26*R$66))","v":0.58793831734057156},{"$f":"IF($L22<S$1,0,IF($L22-S$1>計算!$B$26,S$66,($L22-S$1)/計算!$B$26*S$66))","v":0.26628907306790472},{"$f":"IF($L22<T$1,0,IF($L22-T$1>計算!$B$26,T$66,($L22-T$1)/計算!$B$26*T$66))","v":-0.47320266231569752},{"$f":"IF($L22<U$1,0,IF($L22-U$1>計算!$B$26,U$66,($L22-U$1)/計算!$B$26*U$66))","v":6.0087511789762682E-2},{"$f":"IF($L22<V$1,0,IF($L22-V$1>計算!$B$26,V$66,($L22-V$1)/計算!$B$26*V$66))","v":0},{"$f":"IF($L22<W$1,0,IF($L22-W$1>計算!$B$26,W$66,($L22-W$1)/計算!$B$26*W$66))","v":0},{"$f":"IF($L22<X$1,0,IF($L22-X$1>計算!$B$26,X$66,($L22-X$1)/計算!$B$26*X$66))","v":0},{"$f":"IF($L22<Y$1,0,IF($L22-Y$1>計算!$B$26,Y$66,($L22-Y$1)/計算!$B$26*Y$66))","v":0},{"$f":"IF($L22<Z$1,0,IF($L22-Z$1>計算!$B$26,Z$66,($L22-Z$1)/計算!$B$26*Z$66))","v":0},{"$f":"IF($L22<AA$1,0,IF($L22-AA$1>計算!$B$26,AA$66,($L22-AA$1)/計算!$B$26*AA$66))","v":0},{"$f":"IF($L22<AB$1,0,IF($L22-AB$1>計算!$B$26,AB$66,($L22-AB$1)/計算!$B$26*AB$66))","v":0},{"$f":"IF($L22<AC$1,0,IF($L22-AC$1>計算!$B$26,AC$66,($L22-AC$1)/計算!$B$26*AC$66))","v":0},{"$f":"IF($L22<AD$1,0,IF($L22-AD$1>計算!$B$26,AD$66,($L22-AD$1)/計算!$B$26*AD$66))","v":0},{"$f":"IF($L22<AE$1,0,IF($L22-AE$1>計算!$B$26,AE$66,($L22-AE$1)/計算!$B$26*AE$66))","v":0},{"$f":"IF($L22<AF$1,0,IF($L22-AF$1>計算!$B$26,AF$66,($L22-AF$1)/計算!$B$26*AF$66))","v":0},{"$f":"IF($L22<AG$1,0,IF($L22-AG$1>計算!$B$26,AG$66,($L22-AG$1)/計算!$B$26*AG$66))","v":0},{"$f":"IF($L22<AH$1,0,IF($L22-AH$1>計算!$B$26,AH$66,($L22-AH$1)/計算!$B$26*AH$66))","v":0},{"$f":"IF($L22<AI$1,0,IF($L22-AI$1>計算!$B$26,AI$66,($L22-AI$1)/計算!$B$26*AI$66))","v":0},{"$f":"IF($L22<AJ$1,0,IF($L22-AJ$1>計算!$B$26,AJ$66,($L22-AJ$1)/計算!$B$26*AJ$66))","v":0},{"$f":"IF($L22<AK$1,0,IF($L22-AK$1>計算!$B$26,AK$66,($L22-AK$1)/計算!$B$26*AK$66))","v":0},{"$f":"IF($L22<AL$1,0,IF($L22-AL$1>計算!$B$26,AL$66,($L22-AL$1)/計算!$B$26*AL$66))","v":0},{"$f":"IF($L22<AM$1,0,IF($L22-AM$1>計算!$B$26,AM$66,($L22-AM$1)/計算!$B$26*AM$66))","v":0},{"$f":"IF($L22<AN$1,0,IF($L22-AN$1>計算!$B$26,AN$66,($L22-AN$1)/計算!$B$26*AN$66))","v":0},{"$f":"IF($L22<AO$1,0,IF($L22-AO$1>計算!$B$26,AO$66,($L22-AO$1)/計算!$B$26*AO$66))","v":0},{"$f":"IF($L22<AP$1,0,IF($L22-AP$1>計算!$B$26,AP$66,($L22-AP$1)/計算!$B$26*AP$66))","v":0},{"$f":"IF($L22<AQ$1,0,IF($L22-AQ$1>計算!$B$26,AQ$66,($L22-AQ$1)/計算!$B$26*AQ$66))","v":0},{"$f":"IF($L22<AR$1,0,IF($L22-AR$1>計算!$B$26,AR$66,($L22-AR$1)/計算!$B$26*AR$66))","v":0},{"$f":"IF($L22<AS$1,0,IF($L22-AS$1>計算!$B$26,AS$66,($L22-AS$1)/計算!$B$26*AS$66))","v":0},{"$f":"IF($L22<AT$1,0,IF($L22-AT$1>計算!$B$26,AT$66,($L22-AT$1)/計算!$B$26*AT$66))","v":0},{"$f":"IF($L22<AU$1,0,IF($L22-AU$1>計算!$B$26,AU$66,($L22-AU$1)/計算!$B$26*AU$66))","v":0},{"$f":"IF($L22<AV$1,0,IF($L22-AV$1>計算!$B$26,AV$66,($L22-AV$1)/計算!$B$26*AV$66))","v":0},5.3254296732139106E-2,-5.3254296732139106E-2,null,null,null,null,null,null,null,null,null,{"$f":"IF($BG22<BH$1,0,IF($BG22-BH$1>計算!$B$26,BH$66,($BG22-BH$1)/計算!$B$26*BH$66))","v":-0.67165999785768882},{"$f":"IF($BG22<BI$1,0,IF($BG22-BI$1>計算!$B$26,BI$66,($BG22-BI$1)/計算!$B$26*BI$66))","v":0.90868889604222969},{"$f":"IF($BG22<BJ$1,0,IF($BG22-BJ$1>計算!$B$26,BJ$66,($BG22-BJ$1)/計算!$B$26*BJ$66))","v":-0.15970956504964062},{"$f":"IF($BG22<BK$1,0,IF($BG22-BK$1>計算!$B$26,BK$66,($BG22-BK$1)/計算!$B$26*BK$66))","v":-0.21551880103922261},{"$f":"IF($BG22<BL$1,0,IF($BG22-BL$1>計算!$B$26,BL$66,($BG22-BL$1)/計算!$B$26*BL$66))","v":-3.6979193377590036E-2},{"$f":"IF($BG22<BM$1,0,IF($BG22-BM$1>計算!$B$26,BM$66,($BG22-BM$1)/計算!$B$26*BM$66))","v":8.5539846253473106E-2},{"$f":"IF($BG22<BN$1,0,IF($BG22-BN$1>計算!$B$26,BN$66,($BG22-BN$1)/計算!$B$26*BN$66))","v":-1.0945104634647517E-2},{"$f":"IF($BG22<BO$1,0,IF($BG22-BO$1>計算!$B$26,BO$66,($BG22-BO$1)/計算!$B$26*BO$66))","v":1.4332580389642705E-2},{"$f":"IF($BG22<BP$1,0,IF($BG22-BP$1>計算!$B$26,BP$66,($BG22-BP$1)/計算!$B$26*BP$66))","v":2.7245802585711579E-2},{"$f":"IF($BG22<BQ$1,0,IF($BG22-BQ$1>計算!$B$26,BQ$66,($BG22-BQ$1)/計算!$B$26*BQ$66))","v":-1.3879347725586388E-3},{"$f":"IF($BG22<BR$1,0,IF($BG22-BR$1>計算!$B$26,BR$66,($BG22-BR$1)/計算!$B$26*BR$66))","v":-3.701901566885941E-3},{"$f":"IF($BG22<BS$1,0,IF($BG22-BS$1>計算!$B$26,BS$66,($BG22-BS$1)/計算!$B$26*BS$66))","v":0},{"$f":"IF($BG22<BT$1,0,IF($BG22-BT$1>計算!$B$26,BT$66,($BG22-BT$1)/計算!$B$26*BT$66))","v":0},{"$f":"IF($BG22<BU$1,0,IF($BG22-BU$1>計算!$B$26,BU$66,($BG22-BU$1)/計算!$B$26*BU$66))","v":0},{"$f":"IF($BG22<BV$1,0,IF($BG22-BV$1>計算!$B$26,BV$66,($BG22-BV$1)/計算!$B$26*BV$66))","v":0},{"$f":"IF($BG22<BW$1,0,IF($BG22-BW$1>計算!$B$26,BW$66,($BG22-BW$1)/計算!$B$26*BW$66))","v":0},{"$f":"IF($BG22<BX$1,0,IF($BG22-BX$1>計算!$B$26,BX$66,($BG22-BX$1)/計算!$B$26*BX$66))","v":0},{"$f":"IF($BG22<BY$1,0,IF($BG22-BY$1>計算!$B$26,BY$66,($BG22-BY$1)/計算!$B$26*BY$66))","v":0},{"$f":"IF($BG22<BZ$1,0,IF($BG22-BZ$1>計算!$B$26,BZ$66,($BG22-BZ$1)/計算!$B$26*BZ$66))","v":0},{"$f":"IF($BG22<CA$1,0,IF($BG22-CA$1>計算!$B$26,CA$66,($BG22-CA$1)/計算!$B$26*CA$66))","v":0},{"$f":"IF($BG22<CB$1,0,IF($BG22-CB$1>計算!$B$26,CB$66,($BG22-CB$1)/計算!$B$26*CB$66))","v":0},{"$f":"IF($BG22<CC$1,0,IF($BG22-CC$1>計算!$B$26,CC$66,($BG22-CC$1)/計算!$B$26*CC$66))","v":0},{"$f":"IF($BG22<CD$1,0,IF($BG22-CD$1>計算!$B$26,CD$66,($BG22-CD$1)/計算!$B$26*CD$66))","v":0},{"$f":"IF($BG22<CE$1,0,IF($BG22-CE$1>計算!$B$26,CE$66,($BG22-CE$1)/計算!$B$26*CE$66))","v":0},{"$f":"IF($BG22<CF$1,0,IF($BG22-CF$1>計算!$B$26,CF$66,($BG22-CF$1)/計算!$B$26*CF$66))","v":0},{"$f":"IF($BG22<CG$1,0,IF($BG22-CG$1>計算!$B$26,CG$66,($BG22-CG$1)/計算!$B$26*CG$66))","v":0},{"$f":"IF($BG22<CH$1,0,IF($BG22-CH$1>計算!$B$26,CH$66,($BG22-CH$1)/計算!$B$26*CH$66))","v":0},{"$f":"IF($BG22<CI$1,0,IF($BG22-CI$1>計算!$B$26,CI$66,($BG22-CI$1)/計算!$B$26*CI$66))","v":0},{"$f":"IF($BG22<CJ$1,0,IF($BG22-CJ$1>計算!$B$26,CJ$66,($BG22-CJ$1)/計算!$B$26*CJ$66))","v":0},{"$f":"IF($BG22<CK$1,0,IF($BG22-CK$1>計算!$B$26,CK$66,($BG22-CK$1)/計算!$B$26*CK$66))","v":0},-6.4095373027177091E-2,6.4095373027177091E-2]
[null,null,null,null,null,null,null,null,null,null,null,null,{"$f":"IF($L23<M$1,0,IF($L23-M$1>計算!$B$26,M$66,($L23-M$1)/計算!$B$26*M$66))","v":0.2983353312641418},{"$f":"IF($L23<N$1,0,IF($L23-N$1>計算!$B$26,N$66,($L23-N$1)/計算!$B$26*N$66))","v":-0.89890989052282899},{"$f":"IF($L23<O$1,0,IF($L23-O$1>計算!$B$26,O$66,($L23-O$1)/計算!$B$26*O$66))","v":-0.21184658990487348},{"$f":"IF($L23<P$1,0,IF($L23-P$1>計算!$B$26,P$66,($L23-P$1)/計算!$B$26*P$66))","v":0.63830901206403412},{"$f":"IF($L23<Q$1,0,IF($L23-Q$1>計算!$B$26,Q$66,($L23-Q$1)/計算!$B$26*Q$66))","v":-0.21374580605087579},{"$f":"IF($L23<R$1,0,IF($L23-R$1>計算!$B$26,R$66,($L23-R$1)/計算!$B$26*R$66))","v":0.58793831734057156},{"$f":"IF($L23<S$1,0,IF($L23-S$1>計算!$B$26,S$66,($L23-S$1)/計算!$B$26*S$66))","v":0.26628907306790472},{"$f":"IF($L23<T$1,0,IF($L23-T$1>計算!$B$26,T$66,($L23-T$1)/計算!$B$26*T$66))","v":-0.47320266231569752},{"$f":"IF($L23<U$1,0,IF($L23-U$1>計算!$B$26,U$66,($L23-U$1)/計算!$B$26*U$66))","v":6.0087511789762682E-2},{"$f":"IF($L23<V$1,0,IF($L23-V$1>計算!$B$26,V$66,($L23-V$1)/計算!$B$26*V$66))","v":-2.9296557306591931E-3},{"$f":"IF($L23<W$1,0,IF($L23-W$1>計算!$B$26,W$66,($L23-W$1)/計算!$B$26*W$66))","v":0},{"$f":"IF($L23<X$1,0,IF($L23-X$1>計算!$B$26,X$66,($L23-X$1)/計算!$B$26*X$66))","v":0},{"$f":"IF($L23<Y$1,0,IF($L23-Y$1>計算!$B$26,Y$66,($L23-Y$1)/計算!$B$26*Y$66))","v":0},{"$f":"IF($L23<Z$1,0,IF($L23-Z$1>計算!$B$26,Z$66,($L23-Z$1)/計算!$B$26*Z$66))","v":0},{"$f":"IF($L23<AA$1,0,IF($L23-AA$1>計算!$B$26,AA$66,($L23-AA$1)/計算!$B$26*AA$66))","v":0},{"$f":"IF($L23<AB$1,0,IF($L23-AB$1>計算!$B$26,AB$66,($L23-AB$1)/計算!$B$26*AB$66))","v":0},{"$f":"IF($L23<AC$1,0,IF($L23-AC$1>計算!$B$26,AC$66,($L23-AC$1)/計算!$B$26*AC$66))","v":0},{"$f":"IF($L23<AD$1,0,IF($L23-AD$1>計算!$B$26,AD$66,($L23-AD$1)/計算!$B$26*AD$66))","v":0},{"$f":"IF($L23<AE$1,0,IF($L23-AE$1>計算!$B$26,AE$66,($L23-AE$1)/計算!$B$26*AE$66))","v":0},{"$f":"IF($L23<AF$1,0,IF($L23-AF$1>計算!$B$26,AF$66,($L23-AF$1)/計算!$B$26*AF$66))","v":0},{"$f":"IF($L23<AG$1,0,IF($L23-AG$1>計算!$B$26,AG$66,($L23-AG$1)/計算!$B$26*AG$66))","v":0},{"$f":"IF($L23<AH$1,0,IF($L23-AH$1>計算!$B$26,AH$66,($L23-AH$1)/計算!$B$26*AH$66))","v":0},{"$f":"IF($L23<AI$1,0,IF($L23-AI$1>計算!$B$26,AI$66,($L23-AI$1)/計算!$B$26*AI$66))","v":0},{"$f":"IF($L23<AJ$1,0,IF($L23-AJ$1>計算!$B$26,AJ$66,($L23-AJ$1)/計算!$B$26*AJ$66))","v":0},{"$f":"IF($L23<AK$1,0,IF($L23-AK$1>計算!$B$26,AK$66,($L23-AK$1)/計算!$B$26*AK$66))","v":0},{"$f":"IF($L23<AL$1,0,IF($L23-AL$1>計算!$B$26,AL$66,($L23-AL$1)/計算!$B$26*AL$66))","v":0},{"$f":"IF($L23<AM$1,0,IF($L23-AM$1>計算!$B$26,AM$66,($L23-AM$1)/計算!$B$26*AM$66))","v":0},{"$f":"IF($L23<AN$1,0,IF($L23-AN$1>計算!$B$26,AN$66,($L23-AN$1)/計算!$B$26*AN$66))","v":0},{"$f":"IF($L23<AO$1,0,IF($L23-AO$1>計算!$B$26,AO$66,($L23-AO$1)/計算!$B$26*AO$66))","v":0},{"$f":"IF($L23<AP$1,0,IF($L23-AP$1>計算!$B$26,AP$66,($L23-AP$1)/計算!$B$26*AP$66))","v":0},{"$f":"IF($L23<AQ$1,0,IF($L23-AQ$1>計算!$B$26,AQ$66,($L23-AQ$1)/計算!$B$26*AQ$66))","v":0},{"$f":"IF($L23<AR$1,0,IF($L23-AR$1>計算!$B$26,AR$66,($L23-AR$1)/計算!$B$26*AR$66))","v":0},{"$f":"IF($L23<AS$1,0,IF($L23-AS$1>計算!$B$26,AS$66,($L23-AS$1)/計算!$B$26*AS$66))","v":0},{"$f":"IF($L23<AT$1,0,IF($L23-AT$1>計算!$B$26,AT$66,($L23-AT$1)/計算!$B$26*AT$66))","v":0},{"$f":"IF($L23<AU$1,0,IF($L23-AU$1>計算!$B$26,AU$66,($L23-AU$1)/計算!$B$26*AU$66))","v":0},{"$f":"IF($L23<AV$1,0,IF($L23-AV$1>計算!$B$26,AV$66,($L23-AV$1)/計算!$B$26*AV$66))","v":0},5.032464100147991E-2,-5.032464100147991E-2,null,null,null,null,null,null,null,null,null,{"$f":"IF($BG23<BH$1,0,IF($BG23-BH$1>計算!$B$26,BH$66,($BG23-BH$1)/計算!$B$26*BH$66))","v":-0.67165999785768882},{"$f":"IF($BG23<BI$1,0,IF($BG23-BI$1>計算!$B$26,BI$66,($BG23-BI$1)/計算!$B$26*BI$66))","v":0.90868889604222969},{"$f":"IF($BG23<BJ$1,0,IF($BG23-BJ$1>計算!$B$26,BJ$66,($BG23-BJ$1)/計算!$B$26*BJ$66))","v":-0.15970956504964062},{"$f":"IF($BG23<BK$1,0,IF($BG23-BK$1>計算!$B$26,BK$66,($BG23-BK$1)/計算!$B$26*BK$66))","v":-0.21551880103922261},{"$f":"IF($BG23<BL$1,0,IF($BG23-BL$1>計算!$B$26,BL$66,($BG23-BL$1)/計算!$B$26*BL$66))","v":-3.6979193377590036E-2},{"$f":"IF($BG23<BM$1,0,IF($BG23-BM$1>計算!$B$26,BM$66,($BG23-BM$1)/計算!$B$26*BM$66))","v":8.5539846253473106E-2},{"$f":"IF($BG23<BN$1,0,IF($BG23-BN$1>計算!$B$26,BN$66,($BG23-BN$1)/計算!$B$26*BN$66))","v":-3.7976275570530404E-2},{"$f":"IF($BG23<BO$1,0,IF($BG23-BO$1>計算!$B$26,BO$66,($BG23-BO$1)/計算!$B$26*BO$66))","v":5.8579131656043011E-2},{"$f":"IF($BG23<BP$1,0,IF($BG23-BP$1>計算!$B$26,BP$66,($BG23-BP$1)/計算!$B$26*BP$66))","v":0.13939427998285223},{"$f":"IF($BG23<BQ$1,0,IF($BG23-BQ$1>計算!$B$26,BQ$66,($BG23-BQ$1)/計算!$B$26*BQ$66))","v":-9.9574073167787627E-3},{"$f":"IF($BG23<BR$1,0,IF($BG23-BR$1>計算!$B$26,BR$66,($BG23-BR$1)/計算!$B$26*BR$66))","v":-4.9414919881648645E-2},{"$f":"IF($BG23<BS$1,0,IF($BG23-BS$1>計算!$B$26,BS$66,($BG23-BS$1)/計算!$B$26*BS$66))","v":5.7315790122077987E-3},{"$f":"IF($BG23<BT$1,0,IF($BG23-BT$1>計算!$B$26,BT$66,($BG23-BT$1)/計算!$B$26*BT$66))","v":0},{"$f":"IF($BG23<BU$1,0,IF($BG23-BU$1>計算!$B$26,BU$66,($BG23-BU$1)/計算!$B$26*BU$66))","v":0},{"$f":"IF($BG23<BV$1,0,IF($BG23-BV$1>計算!$B$26,BV$66,($BG23-BV$1)/計算!$B$26*BV$66))","v":0},{"$f":"IF($BG23<BW$1,0,IF($BG23-BW$1>計算!$B$26,BW$66,($BG23-BW$1)/計算!$B$26*BW$66))","v":0},{"$f":"IF($BG23<BX$1,0,IF($BG23-BX$1>計算!$B$26,BX$66,($BG23-BX$1)/計算!$B$26*BX$66))","v":0},{"$f":"IF($BG23<BY$1,0,IF($BG23-BY$1>計算!$B$26,BY$66,($BG23-BY$1)/計算!$B$26*BY$66))","v":0},{"$f":"IF($BG23<BZ$1,0,IF($BG23-BZ$1>計算!$B$26,BZ$66,($BG23-BZ$1)/計算!$B$26*BZ$66))","v":0},{"$f":"IF($BG23<CA$1,0,IF($BG23-CA$1>計算!$B$26,CA$66,($BG23-CA$1)/計算!$B$26*CA$66))","v":0},{"$f":"IF($BG23<CB$1,0,IF($BG23-CB$1>計算!$B$26,CB$66,($BG23-CB$1)/計算!$B$26*CB$66))","v":0},{"$f":"IF($BG23<CC$1,0,IF($BG23-CC$1>計算!$B$26,CC$66,($BG23-CC$1)/計算!$B$26*CC$66))","v":0},{"$f":"IF($BG23<CD$1,0,IF($BG23-CD$1>計算!$B$26,CD$66,($BG23-CD$1)/計算!$B$26*CD$66))","v":0},{"$f":"IF($BG23<CE$1,0,IF($BG23-CE$1>計算!$B$26,CE$66,($BG23-CE$1)/計算!$B$26*CE$66))","v":0},{"$f":"IF($BG23<CF$1,0,IF($BG23-CF$1>計算!$B$26,CF$66,($BG23-CF$1)/計算!$B$26*CF$66))","v":0},{"$f":"IF($BG23<CG$1,0,IF($BG23-CG$1>計算!$B$26,CG$66,($BG23-CG$1)/計算!$B$26*CG$66))","v":0},{"$f":"IF($BG23<CH$1,0,IF($BG23-CH$1>計算!$B$26,CH$66,($BG23-CH$1)/計算!$B$26*CH$66))","v":0},{"$f":"IF($BG23<CI$1,0,IF($BG23-CI$1>計算!$B$26,CI$66,($BG23-CI$1)/計算!$B$26*CI$66))","v":0},{"$f":"IF($BG23<CJ$1,0,IF($BG23-CJ$1>計算!$B$26,CJ$66,($BG23-CJ$1)/計算!$B$26*CJ$66))","v":0},{"$f":"IF($BG23<CK$1,0,IF($BG23-CK$1>計算!$B$26,CK$66,($BG23-CK$1)/計算!$B$26*CK$66))","v":0},1.6717572853705925E-2,-1.6717572853705925E-2]
[null,null,null,null,null,null,null,null,null,null,null,null,{"$f":"IF($L24<M$1,0,IF($L24-M$1>計算!$B$26,M$66,($L24-M$1)/計算!$B$26*M$66))","v":0.2983353312641418},{"$f":"IF($L24<N$1,0,IF($L24-N$1>計算!$B$26,N$66,($L24-N$1)/計算!$B$26*N$66))","v":-0.89890989052282899},{"$f":"IF($L24<O$1,0,IF($L24-O$1>計算!$B$26,O$66,($L24-O$1)/計算!$B$26*O$66))","v":-0.21184658990487348},{"$f":"IF($L24<P$1,0,IF($L24-P$1>計算!$B$26,P$66,($L24-P$1)/計算!$B$26*P$66))","v":0.63830901206403412},{"$f":"IF($L24<Q$1,0,IF($L24-Q$1>計算!$B$26,Q$66,($L24-Q$1)/計算!$B$26*Q$66))","v":-0.21374580605087579},{"$f":"IF($L24<R$1,0,IF($L24-R$1>計算!$B$26,R$66,($L24-R$1)/計算!$B$26*R$66))","v":0.58793831734057156},{"$f":"IF($L24<S$1,0,IF($L24-S$1>計算!$B$26,S$66,($L24-S$1)/計算!$B$26*S$66))","v":0.26628907306790472},{"$f":"IF($L24<T$1,0,IF($L24-T$1>計算!$B$26,T$66,($L24-T$1)/計算!$B$26*T$66))","v":-0.47320266231569752},{"$f":"IF($L24<U$1,0,IF($L24-U$1>計算!$B$26,U$66,($L24-U$1)/計算!$B$26*U$66))","v":6.0087511789762682E-2},{"$f":"IF($L24<V$1,0,IF($L24-V$1>計算!$B$26,V$66,($L24-V$1)/計算!$B$26*V$66))","v":-5.8593114613184763E-3},{"$f":"IF($L24<W$1,0,IF($L24-W$1>計算!$B$26,W$66,($L24-W$1)/計算!$B$26*W$66))","v":1.6807305230219401E-2},{"$f":"IF($L24<X$1,0,IF($L24-X$1>計算!$B$26,X$66,($L24-X$1)/計算!$B$26*X$66))","v":0},{"$f":"IF($L24<Y$1,0,IF($L24-Y$1>計算!$B$26,Y$66,($L24-Y$1)/計算!$B$26*Y$66))","v":0},{"$f":"IF($L24<Z$1,0,IF($L24-Z$1>計算!$B$26,Z$66,($L24-Z$1)/計算!$B$26*Z$66))","v":0},{"$f":"IF($L24<AA$1,0,IF($L24-AA$1>計算!$B$26,AA$66,($L24-AA$1)/計算!$B$26*AA$66))","v":0},{"$f":"IF($L24<AB$1,0,IF($L24-AB$1>計算!$B$26,AB$66,($L24-AB$1)/計算!$B$26*AB$66))","v":0},{"$f":"IF($L24<AC$1,0,IF($L24-AC$1>計算!$B$26,AC$66,($L24-AC$1)/計算!$B$26*AC$66))","v":0},{"$f":"IF($L24<AD$1,0,IF($L24-AD$1>計算!$B$26,AD$66,($L24-AD$1)/計算!$B$26*AD$66))","v":0},{"$f":"IF($L24<AE$1,0,IF($L24-AE$1>計算!$B$26,AE$66,($L24-AE$1)/計算!$B$26*AE$66))","v":0},{"$f":"IF($L24<AF$1,0,IF($L24-AF$1>計算!$B$26,AF$66,($L24-AF$1)/計算!$B$26*AF$66))","v":0},{"$f":"IF($L24<AG$1,0,IF($L24-AG$1>計算!$B$26,AG$66,($L24-AG$1)/計算!$B$26*AG$66))","v":0},{"$f":"IF($L24<AH$1,0,IF($L24-AH$1>計算!$B$26,AH$66,($L24-AH$1)/計算!$B$26*AH$66))","v":0},{"$f":"IF($L24<AI$1,0,IF($L24-AI$1>計算!$B$26,AI$66,($L24-AI$1)/計算!$B$26*AI$66))","v":0},{"$f":"IF($L24<AJ$1,0,IF($L24-AJ$1>計算!$B$26,AJ$66,($L24-AJ$1)/計算!$B$26*AJ$66))","v":0},{"$f":"IF($L24<AK$1,0,IF($L24-AK$1>計算!$B$26,AK$66,($L24-AK$1)/計算!$B$26*AK$66))","v":0},{"$f":"IF($L24<AL$1,0,IF($L24-AL$1>計算!$B$26,AL$66,($L24-AL$1)/計算!$B$26*AL$66))","v":0},{"$f":"IF($L24<AM$1,0,IF($L24-AM$1>計算!$B$26,AM$66,($L24-AM$1)/計算!$B$26*AM$66))","v":0},{"$f":"IF($L24<AN$1,0,IF($L24-AN$1>計算!$B$26,AN$66,($L24-AN$1)/計算!$B$26*AN$66))","v":0},{"$f":"IF($L24<AO$1,0,IF($L24-AO$1>計算!$B$26,AO$66,($L24-AO$1)/計算!$B$26*AO$66))","v":0},{"$f":"IF($L24<AP$1,0,IF($L24-AP$1>計算!$B$26,AP$66,($L24-AP$1)/計算!$B$26*AP$66))","v":0},{"$f":"IF($L24<AQ$1,0,IF($L24-AQ$1>計算!$B$26,AQ$66,($L24-AQ$1)/計算!$B$26*AQ$66))","v":0},{"$f":"IF($L24<AR$1,0,IF($L24-AR$1>計算!$B$26,AR$66,($L24-AR$1)/計算!$B$26*AR$66))","v":0},{"$f":"IF($L24<AS$1,0,IF($L24-AS$1>計算!$B$26,AS$66,($L24-AS$1)/計算!$B$26*AS$66))","v":0},{"$f":"IF($L24<AT$1,0,IF($L24-AT$1>計算!$B$26,AT$66,($L24-AT$1)/計算!$B$26*AT$66))","v":0},{"$f":"IF($L24<AU$1,0,IF($L24-AU$1>計算!$B$26,AU$66,($L24-AU$1)/計算!$B$26*AU$66))","v":0},{"$f":"IF($L24<AV$1,0,IF($L24-AV$1>計算!$B$26,AV$66,($L24-AV$1)/計算!$B$26*AV$66))","v":0},6.4202290501040038E-2,-6.4202290501040038E-2,null,null,null,null,null,null,null,null,null,{"$f":"IF($BG24<BH$1,0,IF($BG24-BH$1>計算!$B$26,BH$66,($BG24-BH$1)/計算!$B$26*BH$66))","v":-0.67165999785768882},{"$f":"IF($BG24<BI$1,0,IF($BG24-BI$1>計算!$B$26,BI$66,($BG24-BI$1)/計算!$B$26*BI$66))","v":0.90868889604222969},{"$f":"IF($BG24<BJ$1,0,IF($BG24-BJ$1>計算!$B$26,BJ$66,($BG24-BJ$1)/計算!$B$26*BJ$66))","v":-0.15970956504964062},{"$f":"IF($BG24<BK$1,0,IF($BG24-BK$1>計算!$B$26,BK$66,($BG24-BK$1)/計算!$B$26*BK$66))","v":-0.21551880103922261},{"$f":"IF($BG24<BL$1,0,IF($BG24-BL$1>計算!$B$26,BL$66,($BG24-BL$1)/計算!$B$26*BL$66))","v":-3.6979193377590036E-2},{"$f":"IF($BG24<BM$1,0,IF($BG24-BM$1>計算!$B$26,BM$66,($BG24-BM$1)/計算!$B$26*BM$66))","v":8.5539846253473106E-2},{"$f":"IF($BG24<BN$1,0,IF($BG24-BN$1>計算!$B$26,BN$66,($BG24-BN$1)/計算!$B$26*BN$66))","v":-3.7976275570530404E-2},{"$f":"IF($BG24<BO$1,0,IF($BG24-BO$1>計算!$B$26,BO$66,($BG24-BO$1)/計算!$B$26*BO$66))","v":6.2162268050736214E-2},{"$f":"IF($BG24<BP$1,0,IF($BG24-BP$1>計算!$B$26,BP$66,($BG24-BP$1)/計算!$B$26*BP$66))","v":0.1484762173292522},{"$f":"IF($BG24<BQ$1,0,IF($BG24-BQ$1>計算!$B$26,BQ$66,($BG24-BQ$1)/計算!$B$26*BQ$66))","v":-1.0651374943844258E-2},{"$f":"IF($BG24<BR$1,0,IF($BG24-BR$1>計算!$B$26,BR$66,($BG24-BR$1)/計算!$B$26*BR$66))","v":-5.3116822732985035E-2},{"$f":"IF($BG24<BS$1,0,IF($BG24-BS$1>計算!$B$26,BS$66,($BG24-BS$1)/計算!$B$26*BS$66))","v":6.1957301330516339E-3},{"$f":"IF($BG24<BT$1,0,IF($BG24-BT$1>計算!$B$26,BT$66,($BG24-BT$1)/計算!$B$26*BT$66))","v":0},{"$f":"IF($BG24<BU$1,0,IF($BG24-BU$1>計算!$B$26,BU$66,($BG24-BU$1)/計算!$B$26*BU$66))","v":0},{"$f":"IF($BG24<BV$1,0,IF($BG24-BV$1>計算!$B$26,BV$66,($BG24-BV$1)/計算!$B$26*BV$66))","v":0},{"$f":"IF($BG24<BW$1,0,IF($BG24-BW$1>計算!$B$26,BW$66,($BG24-BW$1)/計算!$B$26*BW$66))","v":0},{"$f":"IF($BG24<BX$1,0,IF($BG24-BX$1>計算!$B$26,BX$66,($BG24-BX$1)/計算!$B$26*BX$66))","v":0},{"$f":"IF($BG24<BY$1,0,IF($BG24-BY$1>計算!$B$26,BY$66,($BG24-BY$1)/計算!$B$26*BY$66))","v":0},{"$f":"IF($BG24<BZ$1,0,IF($BG24-BZ$1>計算!$B$26,BZ$66,($BG24-BZ$1)/計算!$B$26*BZ$66))","v":0},{"$f":"IF($BG24<CA$1,0,IF($BG24-CA$1>計算!$B$26,CA$66,($BG24-CA$1)/計算!$B$26*CA$66))","v":0},{"$f":"IF($BG24<CB$1,0,IF($BG24-CB$1>計算!$B$26,CB$66,($BG24-CB$1)/計算!$B$26*CB$66))","v":0},{"$f":"IF($BG24<CC$1,0,IF($BG24-CC$1>計算!$B$26,CC$66,($BG24-CC$1)/計算!$B$26*CC$66))","v":0},{"$f":"IF($BG24<CD$1,0,IF($BG24-CD$1>計算!$B$26,CD$66,($BG24-CD$1)/計算!$B$26*CD$66))","v":0},{"$f":"IF($BG24<CE$1,0,IF($BG24-CE$1>計算!$B$26,CE$66,($BG24-CE$1)/計算!$B$26*CE$66))","v":0},{"$f":"IF($BG24<CF$1,0,IF($BG24-CF$1>計算!$B$26,CF$66,($BG24-CF$1)/計算!$B$26*CF$66))","v":0},{"$f":"IF($BG24<CG$1,0,IF($BG24-CG$1>計算!$B$26,CG$66,($BG24-CG$1)/計算!$B$26*CG$66))","v":0},{"$f":"IF($BG24<CH$1,0,IF($BG24-CH$1>計算!$B$26,CH$66,($BG24-CH$1)/計算!$B$26*CH$66))","v":0},{"$f":"IF($BG24<CI$1,0,IF($BG24-CI$1>計算!$B$26,CI$66,($BG24-CI$1)/計算!$B$26*CI$66))","v":0},{"$f":"IF($BG24<CJ$1,0,IF($BG24-CJ$1>計算!$B$26,CJ$66,($BG24-CJ$1)/計算!$B$26*CJ$66))","v":0},{"$f":"IF($BG24<CK$1,0,IF($BG24-CK$1>計算!$B$26,CK$66,($BG24-CK$1)/計算!$B$26*CK$66))","v":0},2.5450927237241065E-2,-2.5450927237241065E-2]
[null,null,null,null,null,null,null,null,null,null,null,null,{"$f":"IF($L25<M$1,0,IF($L25-M$1>計算!$B$26,M$66,($L25-M$1)/計算!$B$26*M$66))","v":0.2983353312641418},{"$f":"IF($L25<N$1,0,IF($L25-N$1>計算!$B$26,N$66,($L25-N$1)/計算!$B$26*N$66))","v":-0.89890989052282899},{"$f":"IF($L25<O$1,0,IF($L25-O$1>計算!$B$26,O$66,($L25-O$1)/計算!$B$26*O$66))","v":-0.21184658990487348},{"$f":"IF($L25<P$1,0,IF($L25-P$1>計算!$B$26,P$66,($L25-P$1)/計算!$B$26*P$66))","v":0.63830901206403412},{"$f":"IF($L25<Q$1,0,IF($L25-Q$1>計算!$B$26,Q$66,($L25-Q$1)/計算!$B$26*Q$66))","v":-0.21374580605087579},{"$f":"IF($L25<R$1,0,IF($L25-R$1>計算!$B$26,R$66,($L25-R$1)/計算!$B$26*R$66))","v":0.58793831734057156},{"$f":"IF($L25<S$1,0,IF($L25-S$1>計算!$B$26,S$66,($L25-S$1)/計算!$B$26*S$66))","v":0.26628907306790472},{"$f":"IF($L25<T$1,0,IF($L25-T$1>計算!$B$26,T$66,($L25-T$1)/計算!$B$26*T$66))","v":-0.47320266231569752},{"$f":"IF($L25<U$1,0,IF($L25-U$1>計算!$B$26,U$66,($L25-U$1)/計算!$B$26*U$66))","v":6.0087511789762682E-2},{"$f":"IF($L25<V$1,0,IF($L25-V$1>計算!$B$26,V$66,($L25-V$1)/計算!$B$26*V$66))","v":-8.7889671919778502E-3},{"$f":"IF($L25<W$1,0,IF($L25-W$1>計算!$B$26,W$66,($L25-W$1)/計算!$B$26*W$66))","v":3.3614610460439322E-2},{"$f":"IF($L25<X$1,0,IF($L25-X$1>計算!$B$26,X$66,($L25-X$1)/計算!$B$26*X$66))","v":-1.9388222401704184E-2},{"$f":"IF($L25<Y$1,0,IF($L25-Y$1>計算!$B$26,Y$66,($L25-Y$1)/計算!$B$26*Y$66))","v":0},{"$f":"IF($L25<Z$1,0,IF($L25-Z$1>計算!$B$26,Z$66,($L25-Z$1)/計算!$B$26*Z$66))","v":0},{"$f":"IF($L25<AA$1,0,IF($L25-AA$1>計算!$B$26,AA$66,($L25-AA$1)/計算!$B$26*AA$66))","v":0},{"$f":"IF($L25<AB$1,0,IF($L25-AB$1>計算!$B$26,AB$66,($L25-AB$1)/計算!$B$26*AB$66))","v":0},{"$f":"IF($L25<AC$1,0,IF($L25-AC$1>計算!$B$26,AC$66,($L25-AC$1)/計算!$B$26*AC$66))","v":0},{"$f":"IF($L25<AD$1,0,IF($L25-AD$1>計算!$B$26,AD$66,($L25-AD$1)/計算!$B$26*AD$66))","v":0},{"$f":"IF($L25<AE$1,0,IF($L25-AE$1>計算!$B$26,AE$66,($L25-AE$1)/計算!$B$26*AE$66))","v":0},{"$f":"IF($L25<AF$1,0,IF($L25-AF$1>計算!$B$26,AF$66,($L25-AF$1)/計算!$B$26*AF$66))","v":0},{"$f":"IF($L25<AG$1,0,IF($L25-AG$1>計算!$B$26,AG$66,($L25-AG$1)/計算!$B$26*AG$66))","v":0},{"$f":"IF($L25<AH$1,0,IF($L25-AH$1>計算!$B$26,AH$66,($L25-AH$1)/計算!$B$26*AH$66))","v":0},{"$f":"IF($L25<AI$1,0,IF($L25-AI$1>計算!$B$26,AI$66,($L25-AI$1)/計算!$B$26*AI$66))","v":0},{"$f":"IF($L25<AJ$1,0,IF($L25-AJ$1>計算!$B$26,AJ$66,($L25-AJ$1)/計算!$B$26*AJ$66))","v":0},{"$f":"IF($L25<AK$1,0,IF($L25-AK$1>計算!$B$26,AK$66,($L25-AK$1)/計算!$B$26*AK$66))","v":0},{"$f":"IF($L25<AL$1,0,IF($L25-AL$1>計算!$B$26,AL$66,($L25-AL$1)/計算!$B$26*AL$66))","v":0},{"$f":"IF($L25<AM$1,0,IF($L25-AM$1>計算!$B$26,AM$66,($L25-AM$1)/計算!$B$26*AM$66))","v":0},{"$f":"IF($L25<AN$1,0,IF($L25-AN$1>計算!$B$26,AN$66,($L25-AN$1)/計算!$B$26*AN$66))","v":0},{"$f":"IF($L25<AO$1,0,IF($L25-AO$1>計算!$B$26,AO$66,($L25-AO$1)/計算!$B$26*AO$66))","v":0},{"$f":"IF($L25<AP$1,0,IF($L25-AP$1>計算!$B$26,AP$66,($L25-AP$1)/計算!$B$26*AP$66))","v":0},{"$f":"IF($L25<AQ$1,0,IF($L25-AQ$1>計算!$B$26,AQ$66,($L25-AQ$1)/計算!$B$26*AQ$66))","v":0},{"$f":"IF($L25<AR$1,0,IF($L25-AR$1>計算!$B$26,AR$66,($L25-AR$1)/計算!$B$26*AR$66))","v":0},{"$f":"IF($L25<AS$1,0,IF($L25-AS$1>計算!$B$26,AS$66,($L25-AS$1)/計算!$B$26*AS$66))","v":0},{"$f":"IF($L25<AT$1,0,IF($L25-AT$1>計算!$B$26,AT$66,($L25-AT$1)/計算!$B$26*AT$66))","v":0},{"$f":"IF($L25<AU$1,0,IF($L25-AU$1>計算!$B$26,AU$66,($L25-AU$1)/計算!$B$26*AU$66))","v":0},{"$f":"IF($L25<AV$1,0,IF($L25-AV$1>計算!$B$26,AV$66,($L25-AV$1)/計算!$B$26*AV$66))","v":0},5.8691717598896395E-2,-5.8691717598896395E-2,null,null,null,null,null,null,null,null,null,{"$f":"IF($BG25<BH$1,0,IF($BG25-BH$1>計算!$B$26,BH$66,($BG25-BH$1)/計算!$B$26*BH$66))","v":-0.67165999785768882},{"$f":"IF($BG25<BI$1,0,IF($BG25-BI$1>計算!$B$26,BI$66,($BG25-BI$1)/計算!$B$26*BI$66))","v":0.90868889604222969},{"$f":"IF($BG25<BJ$1,0,IF($BG25-BJ$1>計算!$B$26,BJ$66,($BG25-BJ$1)/計算!$B$26*BJ$66))","v":-0.15970956504964062},{"$f":"IF($BG25<BK$1,0,IF($BG25-BK$1>計算!$B$26,BK$66,($BG25-BK$1)/計算!$B$26*BK$66))","v":-0.21551880103922261},{"$f":"IF($BG25<BL$1,0,IF($BG25-BL$1>計算!$B$26,BL$66,($BG25-BL$1)/計算!$B$26*BL$66))","v":-3.6979193377590036E-2},{"$f":"IF($BG25<BM$1,0,IF($BG25-BM$1>計算!$B$26,BM$66,($BG25-BM$1)/計算!$B$26*BM$66))","v":8.5539846253473106E-2},{"$f":"IF($BG25<BN$1,0,IF($BG25-BN$1>計算!$B$26,BN$66,($BG25-BN$1)/計算!$B$26*BN$66))","v":-3.7976275570530404E-2},{"$f":"IF($BG25<BO$1,0,IF($BG25-BO$1>計算!$B$26,BO$66,($BG25-BO$1)/計算!$B$26*BO$66))","v":6.2162268050736214E-2},{"$f":"IF($BG25<BP$1,0,IF($BG25-BP$1>計算!$B$26,BP$66,($BG25-BP$1)/計算!$B$26*BP$66))","v":0.15755812631518906},{"$f":"IF($BG25<BQ$1,0,IF($BG25-BQ$1>計算!$B$26,BQ$66,($BG25-BQ$1)/計算!$B$26*BQ$66))","v":-1.1345342570909731E-2},{"$f":"IF($BG25<BR$1,0,IF($BG25-BR$1>計算!$B$26,BR$66,($BG25-BR$1)/計算!$B$26*BR$66))","v":-5.6818725584321307E-2},{"$f":"IF($BG25<BS$1,0,IF($BG25-BS$1>計算!$B$26,BS$66,($BG25-BS$1)/計算!$B$26*BS$66))","v":6.6598812538954544E-3},{"$f":"IF($BG25<BT$1,0,IF($BG25-BT$1>計算!$B$26,BT$66,($BG25-BT$1)/計算!$B$26*BT$66))","v":0},{"$f":"IF($BG25<BU$1,0,IF($BG25-BU$1>計算!$B$26,BU$66,($BG25-BU$1)/計算!$B$26*BU$66))","v":0},{"$f":"IF($BG25<BV$1,0,IF($BG25-BV$1>計算!$B$26,BV$66,($BG25-BV$1)/計算!$B$26*BV$66))","v":0},{"$f":"IF($BG25<BW$1,0,IF($BG25-BW$1>計算!$B$26,BW$66,($BG25-BW$1)/計算!$B$26*BW$66))","v":0},{"$f":"IF($BG25<BX$1,0,IF($BG25-BX$1>計算!$B$26,BX$66,($BG25-BX$1)/計算!$B$26*BX$66))","v":0},{"$f":"IF($BG25<BY$1,0,IF($BG25-BY$1>計算!$B$26,BY$66,($BG25-BY$1)/計算!$B$26*BY$66))","v":0},{"$f":"IF($BG25<BZ$1,0,IF($BG25-BZ$1>計算!$B$26,BZ$66,($BG25-BZ$1)/計算!$B$26*BZ$66))","v":0},{"$f":"IF($BG25<CA$1,0,IF($BG25-CA$1>計算!$B$26,CA$66,($BG25-CA$1)/計算!$B$26*CA$66))","v":0},{"$f":"IF($BG25<CB$1,0,IF($BG25-CB$1>計算!$B$26,CB$66,($BG25-CB$1)/計算!$B$26*CB$66))","v":0},{"$f":"IF($BG25<CC$1,0,IF($BG25-CC$1>計算!$B$26,CC$66,($BG25-CC$1)/計算!$B$26*CC$66))","v":0},{"$f":"IF($BG25<CD$1,0,IF($BG25-CD$1>計算!$B$26,CD$66,($BG25-CD$1)/計算!$B$26*CD$66))","v":0},{"$f":"IF($BG25<CE$1,0,IF($BG25-CE$1>計算!$B$26,CE$66,($BG25-CE$1)/計算!$B$26*CE$66))","v":0},{"$f":"IF($BG25<CF$1,0,IF($BG25-CF$1>計算!$B$26,CF$66,($BG25-CF$1)/計算!$B$26*CF$66))","v":0},{"$f":"IF($BG25<CG$1,0,IF($BG25-CG$1>計算!$B$26,CG$66,($BG25-CG$1)/計算!$B$26*CG$66))","v":0},{"$f":"IF($BG25<CH$1,0,IF($BG25-CH$1>計算!$B$26,CH$66,($BG25-CH$1)/計算!$B$26*CH$66))","v":0},{"$f":"IF($BG25<CI$1,0,IF($BG25-CI$1>計算!$B$26,CI$66,($BG25-CI$1)/計算!$B$26*CI$66))","v":0},{"$f":"IF($BG25<CJ$1,0,IF($BG25-CJ$1>計算!$B$26,CJ$66,($BG25-CJ$1)/計算!$B$26*CJ$66))","v":0},{"$f":"IF($BG25<CK$1,0,IF($BG25-CK$1>計算!$B$26,CK$66,($BG25-CK$1)/計算!$B$26*CK$66))","v":0},3.0601116865619997E-2,-3.0601116865619997E-2]
[null,null,null,null,null,null,null,null,null,null,null,null,{"$f":"IF($L26<M$1,0,IF($L26-M$1>計算!$B$26,M$66,($L26-M$1)/計算!$B$26*M$66))","v":0.2983353312641418},{"$f":"IF($L26<N$1,0,IF($L26-N$1>計算!$B$26,N$66,($L26-N$1)/計算!$B$26*N$66))","v":-0.89890989052282899},{"$f":"IF($L26<O$1,0,IF($L26-O$1>計算!$B$26,O$66,($L26-O$1)/計算!$B$26*O$66))","v":-0.21184658990487348},{"$f":"IF($L26<P$1,0,IF($L26-P$1>計算!$B$26,P$66,($L26-P$1)/計算!$B$26*P$66))","v":0.63830901206403412},{"$f":"IF($L26<Q$1,0,IF($L26-Q$1>計算!$B$26,Q$66,($L26-Q$1)/計算!$B$26*Q$66))","v":-0.21374580605087579},{"$f":"IF($L26<R$1,0,IF($L26-R$1>計算!$B$26,R$66,($L26-R$1)/計算!$B$26*R$66))","v":0.58793831734057156},{"$f":"IF($L26<S$1,0,IF($L26-S$1>計算!$B$26,S$66,($L26-S$1)/計算!$B$26*S$66))","v":0.26628907306790472},{"$f":"IF($L26<T$1,0,IF($L26-T$1>計算!$B$26,T$66,($L26-T$1)/計算!$B$26*T$66))","v":-0.47320266231569752},{"$f":"IF($L26<U$1,0,IF($L26-U$1>計算!$B$26,U$66,($L26-U$1)/計算!$B$26*U$66))","v":6.0087511789762682E-2},{"$f":"IF($L26<V$1,0,IF($L26-V$1>計算!$B$26,V$66,($L26-V$1)/計算!$B$26*V$66))","v":-1.1718622922637043E-2},{"$f":"IF($L26<W$1,0,IF($L26-W$1>計算!$B$26,W$66,($L26-W$1)/計算!$B$26*W$66))","v":5.0421915690658202E-2},{"$f":"IF($L26<X$1,0,IF($L26-X$1>計算!$B$26,X$66,($L26-X$1)/計算!$B$26*X$66))","v":-3.8776444803407174E-2},{"$f":"IF($L26<Y$1,0,IF($L26-Y$1>計算!$B$26,Y$66,($L26-Y$1)/計算!$B$26*Y$66))","v":-1.3679773631489188E-2},{"$f":"IF($L26<Z$1,0,IF($L26-Z$1>計算!$B$26,Z$66,($L26-Z$1)/計算!$B$26*Z$66))","v":0},{"$f":"IF($L26<AA$1,0,IF($L26-AA$1>計算!$B$26,AA$66,($L26-AA$1)/計算!$B$26*AA$66))","v":0},{"$f":"IF($L26<AB$1,0,IF($L26-AB$1>計算!$B$26,AB$66,($L26-AB$1)/計算!$B$26*AB$66))","v":0},{"$f":"IF($L26<AC$1,0,IF($L26-AC$1>計算!$B$26,AC$66,($L26-AC$1)/計算!$B$26*AC$66))","v":0},{"$f":"IF($L26<AD$1,0,IF($L26-AD$1>計算!$B$26,AD$66,($L26-AD$1)/計算!$B$26*AD$66))","v":0},{"$f":"IF($L26<AE$1,0,IF($L26-AE$1>計算!$B$26,AE$66,($L26-AE$1)/計算!$B$26*AE$66))","v":0},{"$f":"IF($L26<AF$1,0,IF($L26-AF$1>計算!$B$26,AF$66,($L26-AF$1)/計算!$B$26*AF$66))","v":0},{"$f":"IF($L26<AG$1,0,IF($L26-AG$1>計算!$B$26,AG$66,($L26-AG$1)/計算!$B$26*AG$66))","v":0},{"$f":"IF($L26<AH$1,0,IF($L26-AH$1>計算!$B$26,AH$66,($L26-AH$1)/計算!$B$26*AH$66))","v":0},{"$f":"IF($L26<AI$1,0,IF($L26-AI$1>計算!$B$26,AI$66,($L26-AI$1)/計算!$B$26*AI$66))","v":0},{"$f":"IF($L26<AJ$1,0,IF($L26-AJ$1>計算!$B$26,AJ$66,($L26-AJ$1)/計算!$B$26*AJ$66))","v":0},{"$f":"IF($L26<AK$1,0,IF($L26-AK$1>計算!$B$26,AK$66,($L26-AK$1)/計算!$B$26*AK$66))","v":0},{"$f":"IF($L26<AL$1,0,IF($L26-AL$1>計算!$B$26,AL$66,($L26-AL$1)/計算!$B$26*AL$66))","v":0},{"$f":"IF($L26<AM$1,0,IF($L26-AM$1>計算!$B$26,AM$66,($L26-AM$1)/計算!$B$26*AM$66))","v":0},{"$f":"IF($L26<AN$1,0,IF($L26-AN$1>計算!$B$26,AN$66,($L26-AN$1)/計算!$B$26*AN$66))","v":0},{"$f":"IF($L26<AO$1,0,IF($L26-AO$1>計算!$B$26,AO$66,($L26-AO$1)/計算!$B$26*AO$66))","v":0},{"$f":"IF($L26<AP$1,0,IF($L26-AP$1>計算!$B$26,AP$66,($L26-AP$1)/計算!$B$26*AP$66))","v":0},{"$f":"IF($L26<AQ$1,0,IF($L26-AQ$1>計算!$B$26,AQ$66,($L26-AQ$1)/計算!$B$26*AQ$66))","v":0},{"$f":"IF($L26<AR$1,0,IF($L26-AR$1>計算!$B$26,AR$66,($L26-AR$1)/計算!$B$26*AR$66))","v":0},{"$f":"IF($L26<AS$1,0,IF($L26-AS$1>計算!$B$26,AS$66,($L26-AS$1)/計算!$B$26*AS$66))","v":0},{"$f":"IF($L26<AT$1,0,IF($L26-AT$1>計算!$B$26,AT$66,($L26-AT$1)/計算!$B$26*AT$66))","v":0},{"$f":"IF($L26<AU$1,0,IF($L26-AU$1>計算!$B$26,AU$66,($L26-AU$1)/計算!$B$26*AU$66))","v":0},{"$f":"IF($L26<AV$1,0,IF($L26-AV$1>計算!$B$26,AV$66,($L26-AV$1)/計算!$B$26*AV$66))","v":0},3.9501371065263906E-2,-3.9501371065263906E-2,null,null,null,null,null,null,null,null,null,{"$f":"IF($BG26<BH$1,0,IF($BG26-BH$1>計算!$B$26,BH$66,($BG26-BH$1)/計算!$B$26*BH$66))","v":-0.67165999785768882},{"$f":"IF($BG26<BI$1,0,IF($BG26-BI$1>計算!$B$26,BI$66,($BG26-BI$1)/計算!$B$26*BI$66))","v":0.90868889604222969},{"$f":"IF($BG26<BJ$1,0,IF($BG26-BJ$1>計算!$B$26,BJ$66,($BG26-BJ$1)/計算!$B$26*BJ$66))","v":-0.15970956504964062},{"$f":"IF($BG26<BK$1,0,IF($BG26-BK$1>計算!$B$26,BK$66,($BG26-BK$1)/計算!$B$26*BK$66))","v":-0.21551880103922261},{"$f":"IF($BG26<BL$1,0,IF($BG26-BL$1>計算!$B$26,BL$66,($BG26-BL$1)/計算!$B$26*BL$66))","v":-3.6979193377590036E-2},{"$f":"IF($BG26<BM$1,0,IF($BG26-BM$1>計算!$B$26,BM$66,($BG26-BM$1)/計算!$B$26*BM$66))","v":8.5539846253473106E-2},{"$f":"IF($BG26<BN$1,0,IF($BG26-BN$1>計算!$B$26,BN$66,($BG26-BN$1)/計算!$B$26*BN$66))","v":-3.7976275570530404E-2},{"$f":"IF($BG26<BO$1,0,IF($BG26-BO$1>計算!$B$26,BO$66,($BG26-BO$1)/計算!$B$26*BO$66))","v":6.2162268050736214E-2},{"$f":"IF($BG26<BP$1,0,IF($BG26-BP$1>計算!$B$26,BP$66,($BG26-BP$1)/計算!$B$26*BP$66))","v":0.15755812631518906},{"$f":"IF($BG26<BQ$1,0,IF($BG26-BQ$1>計算!$B$26,BQ$66,($BG26-BQ$1)/計算!$B$26*BQ$66))","v":-1.203930779011364E-2},{"$f":"IF($BG26<BR$1,0,IF($BG26-BR$1>計算!$B$26,BR$66,($BG26-BR$1)/計算!$B$26*BR$66))","v":-6.0520628435657586E-2},{"$f":"IF($BG26<BS$1,0,IF($BG26-BS$1>計算!$B$26,BS$66,($BG26-BS$1)/計算!$B$26*BS$66))","v":7.124032374739275E-3},{"$f":"IF($BG26<BT$1,0,IF($BG26-BT$1>計算!$B$26,BT$66,($BG26-BT$1)/計算!$B$26*BT$66))","v":0},{"$f":"IF($BG26<BU$1,0,IF($BG26-BU$1>計算!$B$26,BU$66,($BG26-BU$1)/計算!$B$26*BU$66))","v":0},{"$f":"IF($BG26<BV$1,0,IF($BG26-BV$1>計算!$B$26,BV$66,($BG26-BV$1)/計算!$B$26*BV$66))","v":0},{"$f":"IF($BG26<BW$1,0,IF($BG26-BW$1>計算!$B$26,BW$66,($BG26-BW$1)/計算!$B$26*BW$66))","v":0},{"$f":"IF($BG26<BX$1,0,IF($BG26-BX$1>計算!$B$26,BX$66,($BG26-BX$1)/計算!$B$26*BX$66))","v":0},{"$f":"IF($BG26<BY$1,0,IF($BG26-BY$1>計算!$B$26,BY$66,($BG26-BY$1)/計算!$B$26*BY$66))","v":0},{"$f":"IF($BG26<BZ$1,0,IF($BG26-BZ$1>計算!$B$26,BZ$66,($BG26-BZ$1)/計算!$B$26*BZ$66))","v":0},{"$f":"IF($BG26<CA$1,0,IF($BG26-CA$1>計算!$B$26,CA$66,($BG26-CA$1)/計算!$B$26*CA$66))","v":0},{"$f":"IF($BG26<CB$1,0,IF($BG26-CB$1>計算!$B$26,CB$66,($BG26-CB$1)/計算!$B$26*CB$66))","v":0},{"$f":"IF($BG26<CC$1,0,IF($BG26-CC$1>計算!$B$26,CC$66,($BG26-CC$1)/計算!$B$26*CC$66))","v":0},{"$f":"IF($BG26<CD$1,0,IF($BG26-CD$1>計算!$B$26,CD$66,($BG26-CD$1)/計算!$B$26*CD$66))","v":0},{"$f":"IF($BG26<CE$1,0,IF($BG26-CE$1>計算!$B$26,CE$66,($BG26-CE$1)/計算!$B$26*CE$66))","v":0},{"$f":"IF($BG26<CF$1,0,IF($BG26-CF$1>計算!$B$26,CF$66,($BG26-CF$1)/計算!$B$26*CF$66))","v":0},{"$f":"IF($BG26<CG$1,0,IF($BG26-CG$1>計算!$B$26,CG$66,($BG26-CG$1)/計算!$B$26*CG$66))","v":0},{"$f":"IF($BG26<CH$1,0,IF($BG26-CH$1>計算!$B$26,CH$66,($BG26-CH$1)/計算!$B$26*CH$66))","v":0},{"$f":"IF($BG26<CI$1,0,IF($BG26-CI$1>計算!$B$26,CI$66,($BG26-CI$1)/計算!$B$26*CI$66))","v":0},{"$f":"IF($BG26<CJ$1,0,IF($BG26-CJ$1>計算!$B$26,CJ$66,($BG26-CJ$1)/計算!$B$26*CJ$66))","v":0},{"$f":"IF($BG26<CK$1,0,IF($BG26-CK$1>計算!$B$26,CK$66,($BG26-CK$1)/計算!$B$26*CK$66))","v":0},2.6669399915923632E-2,-2.6669399915923632E-2]
[null,null,null,null,null,null,null,null,null,null,null,null,{"$f":"IF($L27<M$1,0,IF($L27-M$1>計算!$B$26,M$66,($L27-M$1)/計算!$B$26*M$66))","v":0.2983353312641418},{"$f":"IF($L27<N$1,0,IF($L27-N$1>計算!$B$26,N$66,($L27-N$1)/計算!$B$26*N$66))","v":-0.89890989052282899},{"$f":"IF($L27<O$1,0,IF($L27-O$1>計算!$B$26,O$66,($L27-O$1)/計算!$B$26*O$66))","v":-0.21184658990487348},{"$f":"IF($L27<P$1,0,IF($L27-P$1>計算!$B$26,P$66,($L27-P$1)/計算!$B$26*P$66))","v":0.63830901206403412},{"$f":"IF($L27<Q$1,0,IF($L27-Q$1>計算!$B$26,Q$66,($L27-Q$1)/計算!$B$26*Q$66))","v":-0.21374580605087579},{"$f":"IF($L27<R$1,0,IF($L27-R$1>計算!$B$26,R$66,($L27-R$1)/計算!$B$26*R$66))","v":0.58793831734057156},{"$f":"IF($L27<S$1,0,IF($L27-S$1>計算!$B$26,S$66,($L27-S$1)/計算!$B$26*S$66))","v":0.26628907306790472},{"$f":"IF($L27<T$1,0,IF($L27-T$1>計算!$B$26,T$66,($L27-T$1)/計算!$B$26*T$66))","v":-0.47320266231569752},{"$f":"IF($L27<U$1,0,IF($L27-U$1>計算!$B$26,U$66,($L27-U$1)/計算!$B$26*U$66))","v":6.0087511789762682E-2},{"$f":"IF($L27<V$1,0,IF($L27-V$1>計算!$B$26,V$66,($L27-V$1)/計算!$B$26*V$66))","v":-1.4648278653296326E-2},{"$f":"IF($L27<W$1,0,IF($L27-W$1>計算!$B$26,W$66,($L27-W$1)/計算!$B$26*W$66))","v":6.7229220920877603E-2},{"$f":"IF($L27<X$1,0,IF($L27-X$1>計算!$B$26,X$66,($L27-X$1)/計算!$B$26*X$66))","v":-5.8164667205110765E-2},{"$f":"IF($L27<Y$1,0,IF($L27-Y$1>計算!$B$26,Y$66,($L27-Y$1)/計算!$B$26*Y$66))","v":-2.7359547262978796E-2},{"$f":"IF($L27<Z$1,0,IF($L27-Z$1>計算!$B$26,Z$66,($L27-Z$1)/計算!$B$26*Z$66))","v":2.0084428919975392E-2},{"$f":"IF($L27<AA$1,0,IF($L27-AA$1>計算!$B$26,AA$66,($L27-AA$1)/計算!$B$26*AA$66))","v":0},{"$f":"IF($L27<AB$1,0,IF($L27-AB$1>計算!$B$26,AB$66,($L27-AB$1)/計算!$B$26*AB$66))","v":0},{"$f":"IF($L27<AC$1,0,IF($L27-AC$1>計算!$B$26,AC$66,($L27-AC$1)/計算!$B$26*AC$66))","v":0},{"$f":"IF($L27<AD$1,0,IF($L27-AD$1>計算!$B$26,AD$66,($L27-AD$1)/計算!$B$26*AD$66))","v":0},{"$f":"IF($L27<AE$1,0,IF($L27-AE$1>計算!$B$26,AE$66,($L27-AE$1)/計算!$B$26*AE$66))","v":0},{"$f":"IF($L27<AF$1,0,IF($L27-AF$1>計算!$B$26,AF$66,($L27-AF$1)/計算!$B$26*AF$66))","v":0},{"$f":"IF($L27<AG$1,0,IF($L27-AG$1>計算!$B$26,AG$66,($L27-AG$1)/計算!$B$26*AG$66))","v":0},{"$f":"IF($L27<AH$1,0,IF($L27-AH$1>計算!$B$26,AH$66,($L27-AH$1)/計算!$B$26*AH$66))","v":0},{"$f":"IF($L27<AI$1,0,IF($L27-AI$1>計算!$B$26,AI$66,($L27-AI$1)/計算!$B$26*AI$66))","v":0},{"$f":"IF($L27<AJ$1,0,IF($L27-AJ$1>計算!$B$26,AJ$66,($L27-AJ$1)/計算!$B$26*AJ$66))","v":0},{"$f":"IF($L27<AK$1,0,IF($L27-AK$1>計算!$B$26,AK$66,($L27-AK$1)/計算!$B$26*AK$66))","v":0},{"$f":"IF($L27<AL$1,0,IF($L27-AL$1>計算!$B$26,AL$66,($L27-AL$1)/計算!$B$26*AL$66))","v":0},{"$f":"IF($L27<AM$1,0,IF($L27-AM$1>計算!$B$26,AM$66,($L27-AM$1)/計算!$B$26*AM$66))","v":0},{"$f":"IF($L27<AN$1,0,IF($L27-AN$1>計算!$B$26,AN$66,($L27-AN$1)/計算!$B$26*AN$66))","v":0},{"$f":"IF($L27<AO$1,0,IF($L27-AO$1>計算!$B$26,AO$66,($L27-AO$1)/計算!$B$26*AO$66))","v":0},{"$f":"IF($L27<AP$1,0,IF($L27-AP$1>計算!$B$26,AP$66,($L27-AP$1)/計算!$B$26*AP$66))","v":0},{"$f":"IF($L27<AQ$1,0,IF($L27-AQ$1>計算!$B$26,AQ$66,($L27-AQ$1)/計算!$B$26*AQ$66))","v":0},{"$f":"IF($L27<AR$1,0,IF($L27-AR$1>計算!$B$26,AR$66,($L27-AR$1)/計算!$B$26*AR$66))","v":0},{"$f":"IF($L27<AS$1,0,IF($L27-AS$1>計算!$B$26,AS$66,($L27-AS$1)/計算!$B$26*AS$66))","v":0},{"$f":"IF($L27<AT$1,0,IF($L27-AT$1>計算!$B$26,AT$66,($L27-AT$1)/計算!$B$26*AT$66))","v":0},{"$f":"IF($L27<AU$1,0,IF($L27-AU$1>計算!$B$26,AU$66,($L27-AU$1)/計算!$B$26*AU$66))","v":0},{"$f":"IF($L27<AV$1,0,IF($L27-AV$1>計算!$B$26,AV$66,($L27-AV$1)/計算!$B$26*AV$66))","v":0},4.0395453451606222E-2,-4.0395453451606222E-2,null,null,null,null,null,null,null,null,null,{"$f":"IF($BG27<BH$1,0,IF($BG27-BH$1>計算!$B$26,BH$66,($BG27-BH$1)/計算!$B$26*BH$66))","v":-0.67165999785768882},{"$f":"IF($BG27<BI$1,0,IF($BG27-BI$1>計算!$B$26,BI$66,($BG27-BI$1)/計算!$B$26*BI$66))","v":0.90868889604222969},{"$f":"IF($BG27<BJ$1,0,IF($BG27-BJ$1>計算!$B$26,BJ$66,($BG27-BJ$1)/計算!$B$26*BJ$66))","v":-0.15970956504964062},{"$f":"IF($BG27<BK$1,0,IF($BG27-BK$1>計算!$B$26,BK$66,($BG27-BK$1)/計算!$B$26*BK$66))","v":-0.21551880103922261},{"$f":"IF($BG27<BL$1,0,IF($BG27-BL$1>計算!$B$26,BL$66,($BG27-BL$1)/計算!$B$26*BL$66))","v":-3.6979193377590036E-2},{"$f":"IF($BG27<BM$1,0,IF($BG27-BM$1>計算!$B$26,BM$66,($BG27-BM$1)/計算!$B$26*BM$66))","v":8.5539846253473106E-2},{"$f":"IF($BG27<BN$1,0,IF($BG27-BN$1>計算!$B$26,BN$66,($BG27-BN$1)/計算!$B$26*BN$66))","v":-3.7976275570530404E-2},{"$f":"IF($BG27<BO$1,0,IF($BG27-BO$1>計算!$B$26,BO$66,($BG27-BO$1)/計算!$B$26*BO$66))","v":6.2162268050736214E-2},{"$f":"IF($BG27<BP$1,0,IF($BG27-BP$1>計算!$B$26,BP$66,($BG27-BP$1)/計算!$B$26*BP$66))","v":0.15755812631518906},{"$f":"IF($BG27<BQ$1,0,IF($BG27-BQ$1>計算!$B$26,BQ$66,($BG27-BQ$1)/計算!$B$26*BQ$66))","v":-1.203930779011364E-2},{"$f":"IF($BG27<BR$1,0,IF($BG27-BR$1>計算!$B$26,BR$66,($BG27-BR$1)/計算!$B$26*BR$66))","v":-6.422251715804006E-2},{"$f":"IF($BG27<BS$1,0,IF($BG27-BS$1>計算!$B$26,BS$66,($BG27-BS$1)/計算!$B$26*BS$66))","v":7.5881834955830955E-3},{"$f":"IF($BG27<BT$1,0,IF($BG27-BT$1>計算!$B$26,BT$66,($BG27-BT$1)/計算!$B$26*BT$66))","v":0},{"$f":"IF($BG27<BU$1,0,IF($BG27-BU$1>計算!$B$26,BU$66,($BG27-BU$1)/計算!$B$26*BU$66))","v":0},{"$f":"IF($BG27<BV$1,0,IF($BG27-BV$1>計算!$B$26,BV$66,($BG27-BV$1)/計算!$B$26*BV$66))","v":0},{"$f":"IF($BG27<BW$1,0,IF($BG27-BW$1>計算!$B$26,BW$66,($BG27-BW$1)/計算!$B$26*BW$66))","v":0},{"$f":"IF($BG27<BX$1,0,IF($BG27-BX$1>計算!$B$26,BX$66,($BG27-BX$1)/計算!$B$26*BX$66))","v":0},{"$f":"IF($BG27<BY$1,0,IF($BG27-BY$1>計算!$B$26,BY$66,($BG27-BY$1)/計算!$B$26*BY$66))","v":0},{"$f":"IF($BG27<BZ$1,0,IF($BG27-BZ$1>計算!$B$26,BZ$66,($BG27-BZ$1)/計算!$B$26*BZ$66))","v":0},{"$f":"IF($BG27<CA$1,0,IF($BG27-CA$1>計算!$B$26,CA$66,($BG27-CA$1)/計算!$B$26*CA$66))","v":0},{"$f":"IF($BG27<CB$1,0,IF($BG27-CB$1>計算!$B$26,CB$66,($BG27-CB$1)/計算!$B$26*CB$66))","v":0},{"$f":"IF($BG27<CC$1,0,IF($BG27-CC$1>計算!$B$26,CC$66,($BG27-CC$1)/計算!$B$26*CC$66))","v":0},{"$f":"IF($BG27<CD$1,0,IF($BG27-CD$1>計算!$B$26,CD$66,($BG27-CD$1)/計算!$B$26*CD$66))","v":0},{"$f":"IF($BG27<CE$1,0,IF($BG27-CE$1>計算!$B$26,CE$66,($BG27-CE$1)/計算!$B$26*CE$66))","v":0},{"$f":"IF($BG27<CF$1,0,IF($BG27-CF$1>計算!$B$26,CF$66,($BG27-CF$1)/計算!$B$26*CF$66))","v":0},{"$f":"IF($BG27<CG$1,0,IF($BG27-CG$1>計算!$B$26,CG$66,($BG27-CG$1)/計算!$B$26*CG$66))","v":0},{"$f":"IF($BG27<CH$1,0,IF($BG27-CH$1>計算!$B$26,CH$66,($BG27-CH$1)/計算!$B$26*CH$66))","v":0},{"$f":"IF($BG27<CI$1,0,IF($BG27-CI$1>計算!$B$26,CI$66,($BG27-CI$1)/計算!$B$26*CI$66))","v":0},{"$f":"IF($BG27<CJ$1,0,IF($BG27-CJ$1>計算!$B$26,CJ$66,($BG27-CJ$1)/計算!$B$26*CJ$66))","v":0},{"$f":"IF($BG27<CK$1,0,IF($BG27-CK$1>計算!$B$26,CK$66,($BG27-CK$1)/計算!$B$26*CK$66))","v":0},2.3431662314384975E-2,-2.3431662314384975E-2]
[null,null,null,null,null,null,null,null,null,null,null,null,{"$f":"IF($L28<M$1,0,IF($L28-M$1>計算!$B$26,M$66,($L28-M$1)/計算!$B$26*M$66))","v":0.2983353312641418},{"$f":"IF($L28<N$1,0,IF($L28-N$1>計算!$B$26,N$66,($L28-N$1)/計算!$B$26*N$66))","v":-0.89890989052282899},{"$f":"IF($L28<O$1,0,IF($L28-O$1>計算!$B$26,O$66,($L28-O$1)/計算!$B$26*O$66))","v":-0.21184658990487348},{"$f":"IF($L28<P$1,0,IF($L28-P$1>計算!$B$26,P$66,($L28-P$1)/計算!$B$26*P$66))","v":0.63830901206403412},{"$f":"IF($L28<Q$1,0,IF($L28-Q$1>計算!$B$26,Q$66,($L28-Q$1)/計算!$B$26*Q$66))","v":-0.21374580605087579},{"$f":"IF($L28<R$1,0,IF($L28-R$1>計算!$B$26,R$66,($L28-R$1)/計算!$B$26*R$66))","v":0.58793831734057156},{"$f":"IF($L28<S$1,0,IF($L28-S$1>計算!$B$26,S$66,($L28-S$1)/計算!$B$26*S$66))","v":0.26628907306790472},{"$f":"IF($L28<T$1,0,IF($L28-T$1>計算!$B$26,T$66,($L28-T$1)/計算!$B$26*T$66))","v":-0.47320266231569752},{"$f":"IF($L28<U$1,0,IF($L28-U$1>計算!$B$26,U$66,($L28-U$1)/計算!$B$26*U$66))","v":6.0087511789762682E-2},{"$f":"IF($L28<V$1,0,IF($L28-V$1>計算!$B$26,V$66,($L28-V$1)/計算!$B$26*V$66))","v":-1.757793438395561E-2},{"$f":"IF($L28<W$1,0,IF($L28-W$1>計算!$B$26,W$66,($L28-W$1)/計算!$B$26*W$66))","v":8.403652615109701E-2},{"$f":"IF($L28<X$1,0,IF($L28-X$1>計算!$B$26,X$66,($L28-X$1)/計算!$B$26*X$66))","v":-7.7552889606814349E-2},{"$f":"IF($L28<Y$1,0,IF($L28-Y$1>計算!$B$26,Y$66,($L28-Y$1)/計算!$B$26*Y$66))","v":-4.1039320894468406E-2},{"$f":"IF($L28<Z$1,0,IF($L28-Z$1>計算!$B$26,Z$66,($L28-Z$1)/計算!$B$26*Z$66))","v":4.0168857839950785E-2},{"$f":"IF($L28<AA$1,0,IF($L28-AA$1>計算!$B$26,AA$66,($L28-AA$1)/計算!$B$26*AA$66))","v":-5.0271158073115817E-3},{"$f":"IF($L28<AB$1,0,IF($L28-AB$1>計算!$B$26,AB$66,($L28-AB$1)/計算!$B$26*AB$66))","v":0},{"$f":"IF($L28<AC$1,0,IF($L28-AC$1>計算!$B$26,AC$66,($L28-AC$1)/計算!$B$26*AC$66))","v":0},{"$f":"IF($L28<AD$1,0,IF($L28-AD$1>計算!$B$26,AD$66,($L28-AD$1)/計算!$B$26*AD$66))","v":0},{"$f":"IF($L28<AE$1,0,IF($L28-AE$1>計算!$B$26,AE$66,($L28-AE$1)/計算!$B$26*AE$66))","v":0},{"$f":"IF($L28<AF$1,0,IF($L28-AF$1>計算!$B$26,AF$66,($L28-AF$1)/計算!$B$26*AF$66))","v":0},{"$f":"IF($L28<AG$1,0,IF($L28-AG$1>計算!$B$26,AG$66,($L28-AG$1)/計算!$B$26*AG$66))","v":0},{"$f":"IF($L28<AH$1,0,IF($L28-AH$1>計算!$B$26,AH$66,($L28-AH$1)/計算!$B$26*AH$66))","v":0},{"$f":"IF($L28<AI$1,0,IF($L28-AI$1>計算!$B$26,AI$66,($L28-AI$1)/計算!$B$26*AI$66))","v":0},{"$f":"IF($L28<AJ$1,0,IF($L28-AJ$1>計算!$B$26,AJ$66,($L28-AJ$1)/計算!$B$26*AJ$66))","v":0},{"$f":"IF($L28<AK$1,0,IF($L28-AK$1>計算!$B$26,AK$66,($L28-AK$1)/計算!$B$26*AK$66))","v":0},{"$f":"IF($L28<AL$1,0,IF($L28-AL$1>計算!$B$26,AL$66,($L28-AL$1)/計算!$B$26*AL$66))","v":0},{"$f":"IF($L28<AM$1,0,IF($L28-AM$1>計算!$B$26,AM$66,($L28-AM$1)/計算!$B$26*AM$66))","v":0},{"$f":"IF($L28<AN$1,0,IF($L28-AN$1>計算!$B$26,AN$66,($L28-AN$1)/計算!$B$26*AN$66))","v":0},{"$f":"IF($L28<AO$1,0,IF($L28-AO$1>計算!$B$26,AO$66,($L28-AO$1)/計算!$B$26*AO$66))","v":0},{"$f":"IF($L28<AP$1,0,IF($L28-AP$1>計算!$B$26,AP$66,($L28-AP$1)/計算!$B$26*AP$66))","v":0},{"$f":"IF($L28<AQ$1,0,IF($L28-AQ$1>計算!$B$26,AQ$66,($L28-AQ$1)/計算!$B$26*AQ$66))","v":0},{"$f":"IF($L28<AR$1,0,IF($L28-AR$1>計算!$B$26,AR$66,($L28-AR$1)/計算!$B$26*AR$66))","v":0},{"$f":"IF($L28<AS$1,0,IF($L28-AS$1>計算!$B$26,AS$66,($L28-AS$1)/計算!$B$26*AS$66))","v":0},{"$f":"IF($L28<AT$1,0,IF($L28-AT$1>計算!$B$26,AT$66,($L28-AT$1)/計算!$B$26*AT$66))","v":0},{"$f":"IF($L28<AU$1,0,IF($L28-AU$1>計算!$B$26,AU$66,($L28-AU$1)/計算!$B$26*AU$66))","v":0},{"$f":"IF($L28<AV$1,0,IF($L28-AV$1>計算!$B$26,AV$66,($L28-AV$1)/計算!$B$26*AV$66))","v":0},3.6262420030636955E-2,-3.6262420030636955E-2,null,null,null,null,null,null,null,null,null,{"$f":"IF($BG28<BH$1,0,IF($BG28-BH$1>計算!$B$26,BH$66,($BG28-BH$1)/計算!$B$26*BH$66))","v":-0.67165999785768882},{"$f":"IF($BG28<BI$1,0,IF($BG28-BI$1>計算!$B$26,BI$66,($BG28-BI$1)/計算!$B$26*BI$66))","v":0.90868889604222969},{"$f":"IF($BG28<BJ$1,0,IF($BG28-BJ$1>計算!$B$26,BJ$66,($BG28-BJ$1)/計算!$B$26*BJ$66))","v":-0.15970956504964062},{"$f":"IF($BG28<BK$1,0,IF($BG28-BK$1>計算!$B$26,BK$66,($BG28-BK$1)/計算!$B$26*BK$66))","v":-0.21551880103922261},{"$f":"IF($BG28<BL$1,0,IF($BG28-BL$1>計算!$B$26,BL$66,($BG28-BL$1)/計算!$B$26*BL$66))","v":-3.6979193377590036E-2},{"$f":"IF($BG28<BM$1,0,IF($BG28-BM$1>計算!$B$26,BM$66,($BG28-BM$1)/計算!$B$26*BM$66))","v":8.5539846253473106E-2},{"$f":"IF($BG28<BN$1,0,IF($BG28-BN$1>計算!$B$26,BN$66,($BG28-BN$1)/計算!$B$26*BN$66))","v":-3.7976275570530404E-2},{"$f":"IF($BG28<BO$1,0,IF($BG28-BO$1>計算!$B$26,BO$66,($BG28-BO$1)/計算!$B$26*BO$66))","v":6.2162268050736214E-2},{"$f":"IF($BG28<BP$1,0,IF($BG28-BP$1>計算!$B$26,BP$66,($BG28-BP$1)/計算!$B$26*BP$66))","v":0.15755812631518906},{"$f":"IF($BG28<BQ$1,0,IF($BG28-BQ$1>計算!$B$26,BQ$66,($BG28-BQ$1)/計算!$B$26*BQ$66))","v":-1.203930779011364E-2},{"$f":"IF($BG28<BR$1,0,IF($BG28-BR$1>計算!$B$26,BR$66,($BG28-BR$1)/計算!$B$26*BR$66))","v":-6.422251715804006E-2},{"$f":"IF($BG28<BS$1,0,IF($BG28-BS$1>計算!$B$26,BS$66,($BG28-BS$1)/計算!$B$26*BS$66))","v":8.0523326838670695E-3},{"$f":"IF($BG28<BT$1,0,IF($BG28-BT$1>計算!$B$26,BT$66,($BG28-BT$1)/計算!$B$26*BT$66))","v":0},{"$f":"IF($BG28<BU$1,0,IF($BG28-BU$1>計算!$B$26,BU$66,($BG28-BU$1)/計算!$B$26*BU$66))","v":0},{"$f":"IF($BG28<BV$1,0,IF($BG28-BV$1>計算!$B$26,BV$66,($BG28-BV$1)/計算!$B$26*BV$66))","v":0},{"$f":"IF($BG28<BW$1,0,IF($BG28-BW$1>計算!$B$26,BW$66,($BG28-BW$1)/計算!$B$26*BW$66))","v":0},{"$f":"IF($BG28<BX$1,0,IF($BG28-BX$1>計算!$B$26,BX$66,($BG28-BX$1)/計算!$B$26*BX$66))","v":0},{"$f":"IF($BG28<BY$1,0,IF($BG28-BY$1>計算!$B$26,BY$66,($BG28-BY$1)/計算!$B$26*BY$66))","v":0},{"$f":"IF($BG28<BZ$1,0,IF($BG28-BZ$1>計算!$B$26,BZ$66,($BG28-BZ$1)/計算!$B$26*BZ$66))","v":0},{"$f":"IF($BG28<CA$1,0,IF($BG28-CA$1>計算!$B$26,CA$66,($BG28-CA$1)/計算!$B$26*CA$66))","v":0},{"$f":"IF($BG28<CB$1,0,IF($BG28-CB$1>計算!$B$26,CB$66,($BG28-CB$1)/計算!$B$26*CB$66))","v":0},{"$f":"IF($BG28<CC$1,0,IF($BG28-CC$1>計算!$B$26,CC$66,($BG28-CC$1)/計算!$B$26*CC$66))","v":0},{"$f":"IF($BG28<CD$1,0,IF($BG28-CD$1>計算!$B$26,CD$66,($BG28-CD$1)/計算!$B$26*CD$66))","v":0},{"$f":"IF($BG28<CE$1,0,IF($BG28-CE$1>計算!$B$26,CE$66,($BG28-CE$1)/計算!$B$26*CE$66))","v":0},{"$f":"IF($BG28<CF$1,0,IF($BG28-CF$1>計算!$B$26,CF$66,($BG28-CF$1)/計算!$B$26*CF$66))","v":0},{"$f":"IF($BG28<CG$1,0,IF($BG28-CG$1>計算!$B$26,CG$66,($BG28-CG$1)/計算!$B$26*CG$66))","v":0},{"$f":"IF($BG28<CH$1,0,IF($BG28-CH$1>計算!$B$26,CH$66,($BG28-CH$1)/計算!$B$26*CH$66))","v":0},{"$f":"IF($BG28<CI$1,0,IF($BG28-CI$1>計算!$B$26,CI$66,($BG28-CI$1)/計算!$B$26*CI$66))","v":0},{"$f":"IF($BG28<CJ$1,0,IF($BG28-CJ$1>計算!$B$26,CJ$66,($BG28-CJ$1)/計算!$B$26*CJ$66))","v":0},{"$f":"IF($BG28<CK$1,0,IF($BG28-CK$1>計算!$B$26,CK$66,($BG28-CK$1)/計算!$B$26*CK$66))","v":0},2.3895811502668951E-2,-2.3895811502668951E-2]
[null,null,null,null,null,null,null,null,null,null,null,null,{"$f":"IF($L29<M$1,0,IF($L29-M$1>計算!$B$26,M$66,($L29-M$1)/計算!$B$26*M$66))","v":0.2983353312641418},{"$f":"IF($L29<N$1,0,IF($L29-N$1>計算!$B$26,N$66,($L29-N$1)/計算!$B$26*N$66))","v":-0.89890989052282899},{"$f":"IF($L29<O$1,0,IF($L29-O$1>計算!$B$26,O$66,($L29-O$1)/計算!$B$26*O$66))","v":-0.21184658990487348},{"$f":"IF($L29<P$1,0,IF($L29-P$1>計算!$B$26,P$66,($L29-P$1)/計算!$B$26*P$66))","v":0.63830901206403412},{"$f":"IF($L29<Q$1,0,IF($L29-Q$1>計算!$B$26,Q$66,($L29-Q$1)/計算!$B$26*Q$66))","v":-0.21374580605087579},{"$f":"IF($L29<R$1,0,IF($L29-R$1>計算!$B$26,R$66,($L29-R$1)/計算!$B$26*R$66))","v":0.58793831734057156},{"$f":"IF($L29<S$1,0,IF($L29-S$1>計算!$B$26,S$66,($L29-S$1)/計算!$B$26*S$66))","v":0.26628907306790472},{"$f":"IF($L29<T$1,0,IF($L29-T$1>計算!$B$26,T$66,($L29-T$1)/計算!$B$26*T$66))","v":-0.47320266231569752},{"$f":"IF($L29<U$1,0,IF($L29-U$1>計算!$B$26,U$66,($L29-U$1)/計算!$B$26*U$66))","v":6.0087511789762682E-2},{"$f":"IF($L29<V$1,0,IF($L29-V$1>計算!$B$26,V$66,($L29-V$1)/計算!$B$26*V$66))","v":-5.0825194033370491E-2},{"$f":"IF($L29<W$1,0,IF($L29-W$1>計算!$B$26,W$66,($L29-W$1)/計算!$B$26*W$66))","v":0.27477458347866979},{"$f":"IF($L29<X$1,0,IF($L29-X$1>計算!$B$26,X$66,($L29-X$1)/計算!$B$26*X$66))","v":-0.29758053980303772},{"$f":"IF($L29<Y$1,0,IF($L29-Y$1>計算!$B$26,Y$66,($L29-Y$1)/計算!$B$26*Y$66))","v":-0.19628452001537605},{"$f":"IF($L29<Z$1,0,IF($L29-Z$1>計算!$B$26,Z$66,($L29-Z$1)/計算!$B$26*Z$66))","v":0.2680974223692581},{"$f":"IF($L29<AA$1,0,IF($L29-AA$1>計算!$B$26,AA$66,($L29-AA$1)/計算!$B$26*AA$66))","v":-6.2077445405855247E-2},{"$f":"IF($L29<AB$1,0,IF($L29-AB$1>計算!$B$26,AB$66,($L29-AB$1)/計算!$B$26*AB$66))","v":3.7001069360413489E-3},{"$f":"IF($L29<AC$1,0,IF($L29-AC$1>計算!$B$26,AC$66,($L29-AC$1)/計算!$B$26*AC$66))","v":0},{"$f":"IF($L29<AD$1,0,IF($L29-AD$1>計算!$B$26,AD$66,($L29-AD$1)/計算!$B$26*AD$66))","v":0},{"$f":"IF($L29<AE$1,0,IF($L29-AE$1>計算!$B$26,AE$66,($L29-AE$1)/計算!$B$26*AE$66))","v":0},{"$f":"IF($L29<AF$1,0,IF($L29-AF$1>計算!$B$26,AF$66,($L29-AF$1)/計算!$B$26*AF$66))","v":0},{"$f":"IF($L29<AG$1,0,IF($L29-AG$1>計算!$B$26,AG$66,($L29-AG$1)/計算!$B$26*AG$66))","v":0},{"$f":"IF($L29<AH$1,0,IF($L29-AH$1>計算!$B$26,AH$66,($L29-AH$1)/計算!$B$26*AH$66))","v":0},{"$f":"IF($L29<AI$1,0,IF($L29-AI$1>計算!$B$26,AI$66,($L29-AI$1)/計算!$B$26*AI$66))","v":0},{"$f":"IF($L29<AJ$1,0,IF($L29-AJ$1>計算!$B$26,AJ$66,($L29-AJ$1)/計算!$B$26*AJ$66))","v":0},{"$f":"IF($L29<AK$1,0,IF($L29-AK$1>計算!$B$26,AK$66,($L29-AK$1)/計算!$B$26*AK$66))","v":0},{"$f":"IF($L29<AL$1,0,IF($L29-AL$1>計算!$B$26,AL$66,($L29-AL$1)/計算!$B$26*AL$66))","v":0},{"$f":"IF($L29<AM$1,0,IF($L29-AM$1>計算!$B$26,AM$66,($L29-AM$1)/計算!$B$26*AM$66))","v":0},{"$f":"IF($L29<AN$1,0,IF($L29-AN$1>計算!$B$26,AN$66,($L29-AN$1)/計算!$B$26*AN$66))","v":0},{"$f":"IF($L29<AO$1,0,IF($L29-AO$1>計算!$B$26,AO$66,($L29-AO$1)/計算!$B$26*AO$66))","v":0},{"$f":"IF($L29<AP$1,0,IF($L29-AP$1>計算!$B$26,AP$66,($L29-AP$1)/計算!$B$26*AP$66))","v":0},{"$f":"IF($L29<AQ$1,0,IF($L29-AQ$1>計算!$B$26,AQ$66,($L29-AQ$1)/計算!$B$26*AQ$66))","v":0},{"$f":"IF($L29<AR$1,0,IF($L29-AR$1>計算!$B$26,AR$66,($L29-AR$1)/計算!$B$26*AR$66))","v":0},{"$f":"IF($L29<AS$1,0,IF($L29-AS$1>計算!$B$26,AS$66,($L29-AS$1)/計算!$B$26*AS$66))","v":0},{"$f":"IF($L29<AT$1,0,IF($L29-AT$1>計算!$B$26,AT$66,($L29-AT$1)/計算!$B$26*AT$66))","v":0},{"$f":"IF($L29<AU$1,0,IF($L29-AU$1>計算!$B$26,AU$66,($L29-AU$1)/計算!$B$26*AU$66))","v":0},{"$f":"IF($L29<AV$1,0,IF($L29-AV$1>計算!$B$26,AV$66,($L29-AV$1)/計算!$B$26*AV$66))","v":0},-6.9412897415311748E-3,6.9412897415311748E-3,null,null,null,null,null,null,null,null,null,{"$f":"IF($BG29<BH$1,0,IF($BG29-BH$1>計算!$B$26,BH$66,($BG29-BH$1)/計算!$B$26*BH$66))","v":-0.67165999785768882},{"$f":"IF($BG29<BI$1,0,IF($BG29-BI$1>計算!$B$26,BI$66,($BG29-BI$1)/計算!$B$26*BI$66))","v":0.90868889604222969},{"$f":"IF($BG29<BJ$1,0,IF($BG29-BJ$1>計算!$B$26,BJ$66,($BG29-BJ$1)/計算!$B$26*BJ$66))","v":-0.15970956504964062},{"$f":"IF($BG29<BK$1,0,IF($BG29-BK$1>計算!$B$26,BK$66,($BG29-BK$1)/計算!$B$26*BK$66))","v":-0.21551880103922261},{"$f":"IF($BG29<BL$1,0,IF($BG29-BL$1>計算!$B$26,BL$66,($BG29-BL$1)/計算!$B$26*BL$66))","v":-3.6979193377590036E-2},{"$f":"IF($BG29<BM$1,0,IF($BG29-BM$1>計算!$B$26,BM$66,($BG29-BM$1)/計算!$B$26*BM$66))","v":8.5539846253473106E-2},{"$f":"IF($BG29<BN$1,0,IF($BG29-BN$1>計算!$B$26,BN$66,($BG29-BN$1)/計算!$B$26*BN$66))","v":-3.7976275570530404E-2},{"$f":"IF($BG29<BO$1,0,IF($BG29-BO$1>計算!$B$26,BO$66,($BG29-BO$1)/計算!$B$26*BO$66))","v":6.2162268050736214E-2},{"$f":"IF($BG29<BP$1,0,IF($BG29-BP$1>計算!$B$26,BP$66,($BG29-BP$1)/計算!$B$26*BP$66))","v":0.15755812631518906},{"$f":"IF($BG29<BQ$1,0,IF($BG29-BQ$1>計算!$B$26,BQ$66,($BG29-BQ$1)/計算!$B$26*BQ$66))","v":-1.203930779011364E-2},{"$f":"IF($BG29<BR$1,0,IF($BG29-BR$1>計算!$B$26,BR$66,($BG29-BR$1)/計算!$B$26*BR$66))","v":-6.422251715804006E-2},{"$f":"IF($BG29<BS$1,0,IF($BG29-BS$1>計算!$B$26,BS$66,($BG29-BS$1)/計算!$B$26*BS$66))","v":8.0523326838670695E-3},{"$f":"IF($BG29<BT$1,0,IF($BG29-BT$1>計算!$B$26,BT$66,($BG29-BT$1)/計算!$B$26*BT$66))","v":0},{"$f":"IF($BG29<BU$1,0,IF($BG29-BU$1>計算!$B$26,BU$66,($BG29-BU$1)/計算!$B$26*BU$66))","v":0},{"$f":"IF($BG29<BV$1,0,IF($BG29-BV$1>計算!$B$26,BV$66,($BG29-BV$1)/計算!$B$26*BV$66))","v":0},{"$f":"IF($BG29<BW$1,0,IF($BG29-BW$1>計算!$B$26,BW$66,($BG29-BW$1)/計算!$B$26*BW$66))","v":0},{"$f":"IF($BG29<BX$1,0,IF($BG29-BX$1>計算!$B$26,BX$66,($BG29-BX$1)/計算!$B$26*BX$66))","v":0},{"$f":"IF($BG29<BY$1,0,IF($BG29-BY$1>計算!$B$26,BY$66,($BG29-BY$1)/計算!$B$26*BY$66))","v":0},{"$f":"IF($BG29<BZ$1,0,IF($BG29-BZ$1>計算!$B$26,BZ$66,($BG29-BZ$1)/計算!$B$26*BZ$66))","v":0},{"$f":"IF($BG29<CA$1,0,IF($BG29-CA$1>計算!$B$26,CA$66,($BG29-CA$1)/計算!$B$26*CA$66))","v":0},{"$f":"IF($BG29<CB$1,0,IF($BG29-CB$1>計算!$B$26,CB$66,($BG29-CB$1)/計算!$B$26*CB$66))","v":0},{"$f":"IF($BG29<CC$1,0,IF($BG29-CC$1>計算!$B$26,CC$66,($BG29-CC$1)/計算!$B$26*CC$66))","v":0},{"$f":"IF($BG29<CD$1,0,IF($BG29-CD$1>計算!$B$26,CD$66,($BG29-CD$1)/計算!$B$26*CD$66))","v":0},{"$f":"IF($BG29<CE$1,0,IF($BG29-CE$1>計算!$B$26,CE$66,($BG29-CE$1)/計算!$B$26*CE$66))","v":0},{"$f":"IF($BG29<CF$1,0,IF($BG29-CF$1>計算!$B$26,CF$66,($BG29-CF$1)/計算!$B$26*CF$66))","v":0},{"$f":"IF($BG29<CG$1,0,IF($BG29-CG$1>計算!$B$26,CG$66,($BG29-CG$1)/計算!$B$26*CG$66))","v":0},{"$f":"IF($BG29<CH$1,0,IF($BG29-CH$1>計算!$B$26,CH$66,($BG29-CH$1)/計算!$B$26*CH$66))","v":0},{"$f":"IF($BG29<CI$1,0,IF($BG29-CI$1>計算!$B$26,CI$66,($BG29-CI$1)/計算!$B$26*CI$66))","v":0},{"$f":"IF($BG29<CJ$1,0,IF($BG29-CJ$1>計算!$B$26,CJ$66,($BG29-CJ$1)/計算!$B$26*CJ$66))","v":0},{"$f":"IF($BG29<CK$1,0,IF($BG29-CK$1>計算!$B$26,CK$66,($BG29-CK$1)/計算!$B$26*CK$66))","v":0},2.3895811502668951E-2,-2.3895811502668951E-2]
[null,null,null,null,null,null,null,null,null,null,null,null,{"$f":"IF($L30<M$1,0,IF($L30-M$1>計算!$B$26,M$66,($L30-M$1)/計算!$B$26*M$66))","v":0.2983353312641418},{"$f":"IF($L30<N$1,0,IF($L30-N$1>計算!$B$26,N$66,($L30-N$1)/計算!$B$26*N$66))","v":-0.89890989052282899},{"$f":"IF($L30<O$1,0,IF($L30-O$1>計算!$B$26,O$66,($L30-O$1)/計算!$B$26*O$66))","v":-0.21184658990487348},{"$f":"IF($L30<P$1,0,IF($L30-P$1>計算!$B$26,P$66,($L30-P$1)/計算!$B$26*P$66))","v":0.63830901206403412},{"$f":"IF($L30<Q$1,0,IF($L30-Q$1>計算!$B$26,Q$66,($L30-Q$1)/計算!$B$26*Q$66))","v":-0.21374580605087579},{"$f":"IF($L30<R$1,0,IF($L30-R$1>計算!$B$26,R$66,($L30-R$1)/計算!$B$26*R$66))","v":0.58793831734057156},{"$f":"IF($L30<S$1,0,IF($L30-S$1>計算!$B$26,S$66,($L30-S$1)/計算!$B$26*S$66))","v":0.26628907306790472},{"$f":"IF($L30<T$1,0,IF($L30-T$1>計算!$B$26,T$66,($L30-T$1)/計算!$B$26*T$66))","v":-0.47320266231569752},{"$f":"IF($L30<U$1,0,IF($L30-U$1>計算!$B$26,U$66,($L30-U$1)/計算!$B$26*U$66))","v":6.0087511789762682E-2},{"$f":"IF($L30<V$1,0,IF($L30-V$1>計算!$B$26,V$66,($L30-V$1)/計算!$B$26*V$66))","v":-5.0825194033370491E-2},{"$f":"IF($L30<W$1,0,IF($L30-W$1>計算!$B$26,W$66,($L30-W$1)/計算!$B$26*W$66))","v":0.29158188812572483},{"$f":"IF($L30<X$1,0,IF($L30-X$1>計算!$B$26,X$66,($L30-X$1)/計算!$B$26*X$66))","v":-0.31696876227201209},{"$f":"IF($L30<Y$1,0,IF($L30-Y$1>計算!$B$26,Y$66,($L30-Y$1)/計算!$B$26*Y$66))","v":-0.20996429369433001},{"$f":"IF($L30<Z$1,0,IF($L30-Z$1>計算!$B$26,Z$66,($L30-Z$1)/計算!$B$26*Z$66))","v":0.28818185135891988},{"$f":"IF($L30<AA$1,0,IF($L30-AA$1>計算!$B$26,AA$66,($L30-AA$1)/計算!$B$26*AA$66))","v":-6.7104561230609275E-2},{"$f":"IF($L30<AB$1,0,IF($L30-AB$1>計算!$B$26,AB$66,($L30-AB$1)/計算!$B$26*AB$66))","v":4.0261500327657268E-3},{"$f":"IF($L30<AC$1,0,IF($L30-AC$1>計算!$B$26,AC$66,($L30-AC$1)/計算!$B$26*AC$66))","v":0},{"$f":"IF($L30<AD$1,0,IF($L30-AD$1>計算!$B$26,AD$66,($L30-AD$1)/計算!$B$26*AD$66))","v":0},{"$f":"IF($L30<AE$1,0,IF($L30-AE$1>計算!$B$26,AE$66,($L30-AE$1)/計算!$B$26*AE$66))","v":0},{"$f":"IF($L30<AF$1,0,IF($L30-AF$1>計算!$B$26,AF$66,($L30-AF$1)/計算!$B$26*AF$66))","v":0},{"$f":"IF($L30<AG$1,0,IF($L30-AG$1>計算!$B$26,AG$66,($L30-AG$1)/計算!$B$26*AG$66))","v":0},{"$f":"IF($L30<AH$1,0,IF($L30-AH$1>計算!$B$26,AH$66,($L30-AH$1)/計算!$B$26*AH$66))","v":0},{"$f":"IF($L30<AI$1,0,IF($L30-AI$1>計算!$B$26,AI$66,($L30-AI$1)/計算!$B$26*AI$66))","v":0},{"$f":"IF($L30<AJ$1,0,IF($L30-AJ$1>計算!$B$26,AJ$66,($L30-AJ$1)/計算!$B$26*AJ$66))","v":0},{"$f":"IF($L30<AK$1,0,IF($L30-AK$1>計算!$B$26,AK$66,($L30-AK$1)/計算!$B$26*AK$66))","v":0},{"$f":"IF($L30<AL$1,0,IF($L30-AL$1>計算!$B$26,AL$66,($L30-AL$1)/計算!$B$26*AL$66))","v":0},{"$f":"IF($L30<AM$1,0,IF($L30-AM$1>計算!$B$26,AM$66,($L30-AM$1)/計算!$B$26*AM$66))","v":0},{"$f":"IF($L30<AN$1,0,IF($L30-AN$1>計算!$B$26,AN$66,($L30-AN$1)/計算!$B$26*AN$66))","v":0},{"$f":"IF($L30<AO$1,0,IF($L30-AO$1>計算!$B$26,AO$66,($L30-AO$1)/計算!$B$26*AO$66))","v":0},{"$f":"IF($L30<AP$1,0,IF($L30-AP$1>計算!$B$26,AP$66,($L30-AP$1)/計算!$B$26*AP$66))","v":0},{"$f":"IF($L30<AQ$1,0,IF($L30-AQ$1>計算!$B$26,AQ$66,($L30-AQ$1)/計算!$B$26*AQ$66))","v":0},{"$f":"IF($L30<AR$1,0,IF($L30-AR$1>計算!$B$26,AR$66,($L30-AR$1)/計算!$B$26*AR$66))","v":0},{"$f":"IF($L30<AS$1,0,IF($L30-AS$1>計算!$B$26,AS$66,($L30-AS$1)/計算!$B$26*AS$66))","v":0},{"$f":"IF($L30<AT$1,0,IF($L30-AT$1>計算!$B$26,AT$66,($L30-AT$1)/計算!$B$26*AT$66))","v":0},{"$f":"IF($L30<AU$1,0,IF($L30-AU$1>計算!$B$26,AU$66,($L30-AU$1)/計算!$B$26*AU$66))","v":0},{"$f":"IF($L30<AV$1,0,IF($L30-AV$1>計算!$B$26,AV$66,($L30-AV$1)/計算!$B$26*AV$66))","v":0},-7.8186249807723207E-3,7.8186249807723207E-3,null,null,null,null,null,null,null,null,null,{"$f":"IF($BG30<BH$1,0,IF($BG30-BH$1>計算!$B$26,BH$66,($BG30-BH$1)/計算!$B$26*BH$66))","v":-0.67165999785768882},{"$f":"IF($BG30<BI$1,0,IF($BG30-BI$1>計算!$B$26,BI$66,($BG30-BI$1)/計算!$B$26*BI$66))","v":0.90868889604222969},{"$f":"IF($BG30<BJ$1,0,IF($BG30-BJ$1>計算!$B$26,BJ$66,($BG30-BJ$1)/計算!$B$26*BJ$66))","v":-0.15970956504964062},{"$f":"IF($BG30<BK$1,0,IF($BG30-BK$1>計算!$B$26,BK$66,($BG30-BK$1)/計算!$B$26*BK$66))","v":-0.21551880103922261},{"$f":"IF($BG30<BL$1,0,IF($BG30-BL$1>計算!$B$26,BL$66,($BG30-BL$1)/計算!$B$26*BL$66))","v":-3.6979193377590036E-2},{"$f":"IF($BG30<BM$1,0,IF($BG30-BM$1>計算!$B$26,BM$66,($BG30-BM$1)/計算!$B$26*BM$66))","v":8.5539846253473106E-2},{"$f":"IF($BG30<BN$1,0,IF($BG30-BN$1>計算!$B$26,BN$66,($BG30-BN$1)/計算!$B$26*BN$66))","v":-3.7976275570530404E-2},{"$f":"IF($BG30<BO$1,0,IF($BG30-BO$1>計算!$B$26,BO$66,($BG30-BO$1)/計算!$B$26*BO$66))","v":6.2162268050736214E-2},{"$f":"IF($BG30<BP$1,0,IF($BG30-BP$1>計算!$B$26,BP$66,($BG30-BP$1)/計算!$B$26*BP$66))","v":0.15755812631518906},{"$f":"IF($BG30<BQ$1,0,IF($BG30-BQ$1>計算!$B$26,BQ$66,($BG30-BQ$1)/計算!$B$26*BQ$66))","v":-1.203930779011364E-2},{"$f":"IF($BG30<BR$1,0,IF($BG30-BR$1>計算!$B$26,BR$66,($BG30-BR$1)/計算!$B$26*BR$66))","v":-6.422251715804006E-2},{"$f":"IF($BG30<BS$1,0,IF($BG30-BS$1>計算!$B$26,BS$66,($BG30-BS$1)/計算!$B$26*BS$66))","v":8.0523326838670695E-3},{"$f":"IF($BG30<BT$1,0,IF($BG30-BT$1>計算!$B$26,BT$66,($BG30-BT$1)/計算!$B$26*BT$66))","v":-5.2051273150042045E-4},{"$f":"IF($BG30<BU$1,0,IF($BG30-BU$1>計算!$B$26,BU$66,($BG30-BU$1)/計算!$B$26*BU$66))","v":0},{"$f":"IF($BG30<BV$1,0,IF($BG30-BV$1>計算!$B$26,BV$66,($BG30-BV$1)/計算!$B$26*BV$66))","v":0},{"$f":"IF($BG30<BW$1,0,IF($BG30-BW$1>計算!$B$26,BW$66,($BG30-BW$1)/計算!$B$26*BW$66))","v":0},{"$f":"IF($BG30<BX$1,0,IF($BG30-BX$1>計算!$B$26,BX$66,($BG30-BX$1)/計算!$B$26*BX$66))","v":0},{"$f":"IF($BG30<BY$1,0,IF($BG30-BY$1>計算!$B$26,BY$66,($BG30-BY$1)/計算!$B$26*BY$66))","v":0},{"$f":"IF($BG30<BZ$1,0,IF($BG30-BZ$1>計算!$B$26,BZ$66,($BG30-BZ$1)/計算!$B$26*BZ$66))","v":0},{"$f":"IF($BG30<CA$1,0,IF($BG30-CA$1>計算!$B$26,CA$66,($BG30-CA$1)/計算!$B$26*CA$66))","v":0},{"$f":"IF($BG30<CB$1,0,IF($BG30-CB$1>計算!$B$26,CB$66,($BG30-CB$1)/計算!$B$26*CB$66))","v":0},{"$f":"IF($BG30<CC$1,0,IF($BG30-CC$1>計算!$B$26,CC$66,($BG30-CC$1)/計算!$B$26*CC$66))","v":0},{"$f":"IF($BG30<CD$1,0,IF($BG30-CD$1>計算!$B$26,CD$66,($BG30-CD$1)/計算!$B$26*CD$66))","v":0},{"$f":"IF($BG30<CE$1,0,IF($BG30-CE$1>計算!$B$26,CE$66,($BG30-CE$1)/計算!$B$26*CE$66))","v":0},{"$f":"IF($BG30<CF$1,0,IF($BG30-CF$1>計算!$B$26,CF$66,($BG30-CF$1)/計算!$B$26*CF$66))","v":0},{"$f":"IF($BG30<CG$1,0,IF($BG30-CG$1>計算!$B$26,CG$66,($BG30-CG$1)/計算!$B$26*CG$66))","v":0},{"$f":"IF($BG30<CH$1,0,IF($BG30-CH$1>計算!$B$26,CH$66,($BG30-CH$1)/計算!$B$26*CH$66))","v":0},{"$f":"IF($BG30<CI$1,0,IF($BG30-CI$1>計算!$B$26,CI$66,($BG30-CI$1)/計算!$B$26*CI$66))","v":0},{"$f":"IF($BG30<CJ$1,0,IF($BG30-CJ$1>計算!$B$26,CJ$66,($BG30-CJ$1)/計算!$B$26*CJ$66))","v":0},{"$f":"IF($BG30<CK$1,0,IF($BG30-CK$1>計算!$B$26,CK$66,($BG30-CK$1)/計算!$B$26*CK$66))","v":0},2.3375298771168531E-2,-2.3375298771168531E-2]
[null,null,null,null,null,null,null,null,null,null,null,null,{"$f":"IF($L31<M$1,0,IF($L31-M$1>計算!$B$26,M$66,($L31-M$1)/計算!$B$26*M$66))","v":0.2983353312641418},{"$f":"IF($L31<N$1,0,IF($L31-N$1>計算!$B$26,N$66,($L31-N$1)/計算!$B$26*N$66))","v":-0.89890989052282899},{"$f":"IF($L31<O$1,0,IF($L31-O$1>計算!$B$26,O$66,($L31-O$1)/計算!$B$26*O$66))","v":-0.21184658990487348},{"$f":"IF($L31<P$1,0,IF($L31-P$1>計算!$B$26,P$66,($L31-P$1)/計算!$B$26*P$66))","v":0.63830901206403412},{"$f":"IF($L31<Q$1,0,IF($L31-Q$1>計算!$B$26,Q$66,($L31-Q$1)/計算!$B$26*Q$66))","v":-0.21374580605087579},{"$f":"IF($L31<R$1,0,IF($L31-R$1>計算!$B$26,R$66,($L31-R$1)/計算!$B$26*R$66))","v":0.58793831734057156},{"$f":"IF($L31<S$1,0,IF($L31-S$1>計算!$B$26,S$66,($L31-S$1)/計算!$B$26*S$66))","v":0.26628907306790472},{"$f":"IF($L31<T$1,0,IF($L31-T$1>計算!$B$26,T$66,($L31-T$1)/計算!$B$26*T$66))","v":-0.47320266231569752},{"$f":"IF($L31<U$1,0,IF($L31-U$1>計算!$B$26,U$66,($L31-U$1)/計算!$B$26*U$66))","v":6.0087511789762682E-2},{"$f":"IF($L31<V$1,0,IF($L31-V$1>計算!$B$26,V$66,($L31-V$1)/計算!$B$26*V$66))","v":-5.0825194033370491E-2},{"$f":"IF($L31<W$1,0,IF($L31-W$1>計算!$B$26,W$66,($L31-W$1)/計算!$B$26*W$66))","v":0.29158188812572483},{"$f":"IF($L31<X$1,0,IF($L31-X$1>計算!$B$26,X$66,($L31-X$1)/計算!$B$26*X$66))","v":-0.33635698393373026},{"$f":"IF($L31<Y$1,0,IF($L31-Y$1>計算!$B$26,Y$66,($L31-Y$1)/計算!$B$26*Y$66))","v":-0.22364406737328441},{"$f":"IF($L31<Z$1,0,IF($L31-Z$1>計算!$B$26,Z$66,($L31-Z$1)/計算!$B$26*Z$66))","v":0.30826628034858233},{"$f":"IF($L31<AA$1,0,IF($L31-AA$1>計算!$B$26,AA$66,($L31-AA$1)/計算!$B$26*AA$66))","v":-7.2131677055363469E-2},{"$f":"IF($L31<AB$1,0,IF($L31-AB$1>計算!$B$26,AB$66,($L31-AB$1)/計算!$B$26*AB$66))","v":4.3521931294901155E-3},{"$f":"IF($L31<AC$1,0,IF($L31-AC$1>計算!$B$26,AC$66,($L31-AC$1)/計算!$B$26*AC$66))","v":0},{"$f":"IF($L31<AD$1,0,IF($L31-AD$1>計算!$B$26,AD$66,($L31-AD$1)/計算!$B$26*AD$66))","v":0},{"$f":"IF($L31<AE$1,0,IF($L31-AE$1>計算!$B$26,AE$66,($L31-AE$1)/計算!$B$26*AE$66))","v":0},{"$f":"IF($L31<AF$1,0,IF($L31-AF$1>計算!$B$26,AF$66,($L31-AF$1)/計算!$B$26*AF$66))","v":0},{"$f":"IF($L31<AG$1,0,IF($L31-AG$1>計算!$B$26,AG$66,($L31-AG$1)/計算!$B$26*AG$66))","v":0},{"$f":"IF($L31<AH$1,0,IF($L31-AH$1>計算!$B$26,AH$66,($L31-AH$1)/計算!$B$26*AH$66))","v":0},{"$f":"IF($L31<AI$1,0,IF($L31-AI$1>計算!$B$26,AI$66,($L31-AI$1)/計算!$B$26*AI$66))","v":0},{"$f":"IF($L31<AJ$1,0,IF($L31-AJ$1>計算!$B$26,AJ$66,($L31-AJ$1)/計算!$B$26*AJ$66))","v":0},{"$f":"IF($L31<AK$1,0,IF($L31-AK$1>計算!$B$26,AK$66,($L31-AK$1)/計算!$B$26*AK$66))","v":0},{"$f":"IF($L31<AL$1,0,IF($L31-AL$1>計算!$B$26,AL$66,($L31-AL$1)/計算!$B$26*AL$66))","v":0},{"$f":"IF($L31<AM$1,0,IF($L31-AM$1>計算!$B$26,AM$66,($L31-AM$1)/計算!$B$26*AM$66))","v":0},{"$f":"IF($L31<AN$1,0,IF($L31-AN$1>計算!$B$26,AN$66,($L31-AN$1)/計算!$B$26*AN$66))","v":0},{"$f":"IF($L31<AO$1,0,IF($L31-AO$1>計算!$B$26,AO$66,($L31-AO$1)/計算!$B$26*AO$66))","v":0},{"$f":"IF($L31<AP$1,0,IF($L31-AP$1>計算!$B$26,AP$66,($L31-AP$1)/計算!$B$26*AP$66))","v":0},{"$f":"IF($L31<AQ$1,0,IF($L31-AQ$1>計算!$B$26,AQ$66,($L31-AQ$1)/計算!$B$26*AQ$66))","v":0},{"$f":"IF($L31<AR$1,0,IF($L31-AR$1>計算!$B$26,AR$66,($L31-AR$1)/計算!$B$26*AR$66))","v":0},{"$f":"IF($L31<AS$1,0,IF($L31-AS$1>計算!$B$26,AS$66,($L31-AS$1)/計算!$B$26*AS$66))","v":0},{"$f":"IF($L31<AT$1,0,IF($L31-AT$1>計算!$B$26,AT$66,($L31-AT$1)/計算!$B$26*AT$66))","v":0},{"$f":"IF($L31<AU$1,0,IF($L31-AU$1>計算!$B$26,AU$66,($L31-AU$1)/計算!$B$26*AU$66))","v":0},{"$f":"IF($L31<AV$1,0,IF($L31-AV$1>計算!$B$26,AV$66,($L31-AV$1)/計算!$B$26*AV$66))","v":0},-2.5503264059812236E-2,2.5503264059812236E-2,null,null,null,null,null,null,null,null,null,{"$f":"IF($BG31<BH$1,0,IF($BG31-BH$1>計算!$B$26,BH$66,($BG31-BH$1)/計算!$B$26*BH$66))","v":-0.67165999785768882},{"$f":"IF($BG31<BI$1,0,IF($BG31-BI$1>計算!$B$26,BI$66,($BG31-BI$1)/計算!$B$26*BI$66))","v":0.90868889604222969},{"$f":"IF($BG31<BJ$1,0,IF($BG31-BJ$1>計算!$B$26,BJ$66,($BG31-BJ$1)/計算!$B$26*BJ$66))","v":-0.15970956504964062},{"$f":"IF($BG31<BK$1,0,IF($BG31-BK$1>計算!$B$26,BK$66,($BG31-BK$1)/計算!$B$26*BK$66))","v":-0.21551880103922261},{"$f":"IF($BG31<BL$1,0,IF($BG31-BL$1>計算!$B$26,BL$66,($BG31-BL$1)/計算!$B$26*BL$66))","v":-3.6979193377590036E-2},{"$f":"IF($BG31<BM$1,0,IF($BG31-BM$1>計算!$B$26,BM$66,($BG31-BM$1)/計算!$B$26*BM$66))","v":8.5539846253473106E-2},{"$f":"IF($BG31<BN$1,0,IF($BG31-BN$1>計算!$B$26,BN$66,($BG31-BN$1)/計算!$B$26*BN$66))","v":-3.7976275570530404E-2},{"$f":"IF($BG31<BO$1,0,IF($BG31-BO$1>計算!$B$26,BO$66,($BG31-BO$1)/計算!$B$26*BO$66))","v":6.2162268050736214E-2},{"$f":"IF($BG31<BP$1,0,IF($BG31-BP$1>計算!$B$26,BP$66,($BG31-BP$1)/計算!$B$26*BP$66))","v":0.15755812631518906},{"$f":"IF($BG31<BQ$1,0,IF($BG31-BQ$1>計算!$B$26,BQ$66,($BG31-BQ$1)/計算!$B$26*BQ$66))","v":-1.203930779011364E-2},{"$f":"IF($BG31<BR$1,0,IF($BG31-BR$1>計算!$B$26,BR$66,($BG31-BR$1)/計算!$B$26*BR$66))","v":-6.422251715804006E-2},{"$f":"IF($BG31<BS$1,0,IF($BG31-BS$1>計算!$B$26,BS$66,($BG31-BS$1)/計算!$B$26*BS$66))","v":8.0523326838670695E-3},{"$f":"IF($BG31<BT$1,0,IF($BG31-BT$1>計算!$B$26,BT$66,($BG31-BT$1)/計算!$B$26*BT$66))","v":-1.0410254630008249E-3},{"$f":"IF($BG31<BU$1,0,IF($BG31-BU$1>計算!$B$26,BU$66,($BG31-BU$1)/計算!$B$26*BU$66))","v":2.4064262585404748E-3},{"$f":"IF($BG31<BV$1,0,IF($BG31-BV$1>計算!$B$26,BV$66,($BG31-BV$1)/計算!$B$26*BV$66))","v":0},{"$f":"IF($BG31<BW$1,0,IF($BG31-BW$1>計算!$B$26,BW$66,($BG31-BW$1)/計算!$B$26*BW$66))","v":0},{"$f":"IF($BG31<BX$1,0,IF($BG31-BX$1>計算!$B$26,BX$66,($BG31-BX$1)/計算!$B$26*BX$66))","v":0},{"$f":"IF($BG31<BY$1,0,IF($BG31-BY$1>計算!$B$26,BY$66,($BG31-BY$1)/計算!$B$26*BY$66))","v":0},{"$f":"IF($BG31<BZ$1,0,IF($BG31-BZ$1>計算!$B$26,BZ$66,($BG31-BZ$1)/計算!$B$26*BZ$66))","v":0},{"$f":"IF($BG31<CA$1,0,IF($BG31-CA$1>計算!$B$26,CA$66,($BG31-CA$1)/計算!$B$26*CA$66))","v":0},{"$f":"IF($BG31<CB$1,0,IF($BG31-CB$1>計算!$B$26,CB$66,($BG31-CB$1)/計算!$B$26*CB$66))","v":0},{"$f":"IF($BG31<CC$1,0,IF($BG31-CC$1>計算!$B$26,CC$66,($BG31-CC$1)/計算!$B$26*CC$66))","v":0},{"$f":"IF($BG31<CD$1,0,IF($BG31-CD$1>計算!$B$26,CD$66,($BG31-CD$1)/計算!$B$26*CD$66))","v":0},{"$f":"IF($BG31<CE$1,0,IF($BG31-CE$1>計算!$B$26,CE$66,($BG31-CE$1)/計算!$B$26*CE$66))","v":0},{"$f":"IF($BG31<CF$1,0,IF($BG31-CF$1>計算!$B$26,CF$66,($BG31-CF$1)/計算!$B$26*CF$66))","v":0},{"$f":"IF($BG31<CG$1,0,IF($BG31-CG$1>計算!$B$26,CG$66,($BG31-CG$1)/計算!$B$26*CG$66))","v":0},{"$f":"IF($BG31<CH$1,0,IF($BG31-CH$1>計算!$B$26,CH$66,($BG31-CH$1)/計算!$B$26*CH$66))","v":0},{"$f":"IF($BG31<CI$1,0,IF($BG31-CI$1>計算!$B$26,CI$66,($BG31-CI$1)/計算!$B$26*CI$66))","v":0},{"$f":"IF($BG31<CJ$1,0,IF($BG31-CJ$1>計算!$B$26,CJ$66,($BG31-CJ$1)/計算!$B$26*CJ$66))","v":0},{"$f":"IF($BG31<CK$1,0,IF($BG31-CK$1>計算!$B$26,CK$66,($BG31-CK$1)/計算!$B$26*CK$66))","v":0},2.5261212298208598E-2,-2.5261212298208598E-2]
[null,null,null,null,null,null,null,null,null,null,null,null,{"$f":"IF($L32<M$1,0,IF($L32-M$1>計算!$B$26,M$66,($L32-M$1)/計算!$B$26*M$66))","v":0.2983353312641418},{"$f":"IF($L32<N$1,0,IF($L32-N$1>計算!$B$26,N$66,($L32-N$1)/計算!$B$26*N$66))","v":-0.89890989052282899},{"$f":"IF($L32<O$1,0,IF($L32-O$1>計算!$B$26,O$66,($L32-O$1)/計算!$B$26*O$66))","v":-0.21184658990487348},{"$f":"IF($L32<P$1,0,IF($L32-P$1>計算!$B$26,P$66,($L32-P$1)/計算!$B$26*P$66))","v":0.63830901206403412},{"$f":"IF($L32<Q$1,0,IF($L32-Q$1>計算!$B$26,Q$66,($L32-Q$1)/計算!$B$26*Q$66))","v":-0.21374580605087579},{"$f":"IF($L32<R$1,0,IF($L32-R$1>計算!$B$26,R$66,($L32-R$1)/計算!$B$26*R$66))","v":0.58793831734057156},{"$f":"IF($L32<S$1,0,IF($L32-S$1>計算!$B$26,S$66,($L32-S$1)/計算!$B$26*S$66))","v":0.26628907306790472},{"$f":"IF($L32<T$1,0,IF($L32-T$1>計算!$B$26,T$66,($L32-T$1)/計算!$B$26*T$66))","v":-0.47320266231569752},{"$f":"IF($L32<U$1,0,IF($L32-U$1>計算!$B$26,U$66,($L32-U$1)/計算!$B$26*U$66))","v":6.0087511789762682E-2},{"$f":"IF($L32<V$1,0,IF($L32-V$1>計算!$B$26,V$66,($L32-V$1)/計算!$B$26*V$66))","v":-5.0825194033370491E-2},{"$f":"IF($L32<W$1,0,IF($L32-W$1>計算!$B$26,W$66,($L32-W$1)/計算!$B$26*W$66))","v":0.29158188812572483},{"$f":"IF($L32<X$1,0,IF($L32-X$1>計算!$B$26,X$66,($L32-X$1)/計算!$B$26*X$66))","v":-0.33635698393373026},{"$f":"IF($L32<Y$1,0,IF($L32-Y$1>計算!$B$26,Y$66,($L32-Y$1)/計算!$B$26*Y$66))","v":-0.23732384043519716},{"$f":"IF($L32<Z$1,0,IF($L32-Z$1>計算!$B$26,Z$66,($L32-Z$1)/計算!$B$26*Z$66))","v":0.32835070933824534},{"$f":"IF($L32<AA$1,0,IF($L32-AA$1>計算!$B$26,AA$66,($L32-AA$1)/計算!$B$26*AA$66))","v":-7.7158792880117816E-2},{"$f":"IF($L32<AB$1,0,IF($L32-AB$1>計算!$B$26,AB$66,($L32-AB$1)/計算!$B$26*AB$66))","v":4.6782362262145138E-3},{"$f":"IF($L32<AC$1,0,IF($L32-AC$1>計算!$B$26,AC$66,($L32-AC$1)/計算!$B$26*AC$66))","v":0},{"$f":"IF($L32<AD$1,0,IF($L32-AD$1>計算!$B$26,AD$66,($L32-AD$1)/計算!$B$26*AD$66))","v":0},{"$f":"IF($L32<AE$1,0,IF($L32-AE$1>計算!$B$26,AE$66,($L32-AE$1)/計算!$B$26*AE$66))","v":0},{"$f":"IF($L32<AF$1,0,IF($L32-AF$1>計算!$B$26,AF$66,($L32-AF$1)/計算!$B$26*AF$66))","v":0},{"$f":"IF($L32<AG$1,0,IF($L32-AG$1>計算!$B$26,AG$66,($L32-AG$1)/計算!$B$26*AG$66))","v":0},{"$f":"IF($L32<AH$1,0,IF($L32-AH$1>計算!$B$26,AH$66,($L32-AH$1)/計算!$B$26*AH$66))","v":0},{"$f":"IF($L32<AI$1,0,IF($L32-AI$1>計算!$B$26,AI$66,($L32-AI$1)/計算!$B$26*AI$66))","v":0},{"$f":"IF($L32<AJ$1,0,IF($L32-AJ$1>計算!$B$26,AJ$66,($L32-AJ$1)/計算!$B$26*AJ$66))","v":0},{"$f":"IF($L32<AK$1,0,IF($L32-AK$1>計算!$B$26,AK$66,($L32-AK$1)/計算!$B$26*AK$66))","v":0},{"$f":"IF($L32<AL$1,0,IF($L32-AL$1>計算!$B$26,AL$66,($L32-AL$1)/計算!$B$26*AL$66))","v":0},{"$f":"IF($L32<AM$1,0,IF($L32-AM$1>計算!$B$26,AM$66,($L32-AM$1)/計算!$B$26*AM$66))","v":0},{"$f":"IF($L32<AN$1,0,IF($L32-AN$1>計算!$B$26,AN$66,($L32-AN$1)/計算!$B$26*AN$66))","v":0},{"$f":"IF($L32<AO$1,0,IF($L32-AO$1>計算!$B$26,AO$66,($L32-AO$1)/計算!$B$26*AO$66))","v":0},{"$f":"IF($L32<AP$1,0,IF($L32-AP$1>計算!$B$26,AP$66,($L32-AP$1)/計算!$B$26*AP$66))","v":0},{"$f":"IF($L32<AQ$1,0,IF($L32-AQ$1>計算!$B$26,AQ$66,($L32-AQ$1)/計算!$B$26*AQ$66))","v":0},{"$f":"IF($L32<AR$1,0,IF($L32-AR$1>計算!$B$26,AR$66,($L32-AR$1)/計算!$B$26*AR$66))","v":0},{"$f":"IF($L32<AS$1,0,IF($L32-AS$1>計算!$B$26,AS$66,($L32-AS$1)/計算!$B$26*AS$66))","v":0},{"$f":"IF($L32<AT$1,0,IF($L32-AT$1>計算!$B$26,AT$66,($L32-AT$1)/計算!$B$26*AT$66))","v":0},{"$f":"IF($L32<AU$1,0,IF($L32-AU$1>計算!$B$26,AU$66,($L32-AU$1)/計算!$B$26*AU$66))","v":0},{"$f":"IF($L32<AV$1,0,IF($L32-AV$1>計算!$B$26,AV$66,($L32-AV$1)/計算!$B$26*AV$66))","v":0},-2.3799680860091939E-2,2.3799680860091939E-2,null,null,null,null,null,null,null,null,null,{"$f":"IF($BG32<BH$1,0,IF($BG32-BH$1>計算!$B$26,BH$66,($BG32-BH$1)/計算!$B$26*BH$66))","v":-0.67165999785768882},{"$f":"IF($BG32<BI$1,0,IF($BG32-BI$1>計算!$B$26,BI$66,($BG32-BI$1)/計算!$B$26*BI$66))","v":0.90868889604222969},{"$f":"IF($BG32<BJ$1,0,IF($BG32-BJ$1>計算!$B$26,BJ$66,($BG32-BJ$1)/計算!$B$26*BJ$66))","v":-0.15970956504964062},{"$f":"IF($BG32<BK$1,0,IF($BG32-BK$1>計算!$B$26,BK$66,($BG32-BK$1)/計算!$B$26*BK$66))","v":-0.21551880103922261},{"$f":"IF($BG32<BL$1,0,IF($BG32-BL$1>計算!$B$26,BL$66,($BG32-BL$1)/計算!$B$26*BL$66))","v":-3.6979193377590036E-2},{"$f":"IF($BG32<BM$1,0,IF($BG32-BM$1>計算!$B$26,BM$66,($BG32-BM$1)/計算!$B$26*BM$66))","v":8.5539846253473106E-2},{"$f":"IF($BG32<BN$1,0,IF($BG32-BN$1>計算!$B$26,BN$66,($BG32-BN$1)/計算!$B$26*BN$66))","v":-3.7976275570530404E-2},{"$f":"IF($BG32<BO$1,0,IF($BG32-BO$1>計算!$B$26,BO$66,($BG32-BO$1)/計算!$B$26*BO$66))","v":6.2162268050736214E-2},{"$f":"IF($BG32<BP$1,0,IF($BG32-BP$1>計算!$B$26,BP$66,($BG32-BP$1)/計算!$B$26*BP$66))","v":0.15755812631518906},{"$f":"IF($BG32<BQ$1,0,IF($BG32-BQ$1>計算!$B$26,BQ$66,($BG32-BQ$1)/計算!$B$26*BQ$66))","v":-1.203930779011364E-2},{"$f":"IF($BG32<BR$1,0,IF($BG32-BR$1>計算!$B$26,BR$66,($BG32-BR$1)/計算!$B$26*BR$66))","v":-6.422251715804006E-2},{"$f":"IF($BG32<BS$1,0,IF($BG32-BS$1>計算!$B$26,BS$66,($BG32-BS$1)/計算!$B$26*BS$66))","v":8.0523326838670695E-3},{"$f":"IF($BG32<BT$1,0,IF($BG32-BT$1>計算!$B$26,BT$66,($BG32-BT$1)/計算!$B$26*BT$66))","v":-1.5615381945012455E-3},{"$f":"IF($BG32<BU$1,0,IF($BG32-BU$1>計算!$B$26,BU$66,($BG32-BU$1)/計算!$B$26*BU$66))","v":4.8128525170810232E-3},{"$f":"IF($BG32<BV$1,0,IF($BG32-BV$1>計算!$B$26,BV$66,($BG32-BV$1)/計算!$B$26*BV$66))","v":-2.0238184014017877E-4},{"$f":"IF($BG32<BW$1,0,IF($BG32-BW$1>計算!$B$26,BW$66,($BG32-BW$1)/計算!$B$26*BW$66))","v":0},{"$f":"IF($BG32<BX$1,0,IF($BG32-BX$1>計算!$B$26,BX$66,($BG32-BX$1)/計算!$B$26*BX$66))","v":0},{"$f":"IF($BG32<BY$1,0,IF($BG32-BY$1>計算!$B$26,BY$66,($BG32-BY$1)/計算!$B$26*BY$66))","v":0},{"$f":"IF($BG32<BZ$1,0,IF($BG32-BZ$1>計算!$B$26,BZ$66,($BG32-BZ$1)/計算!$B$26*BZ$66))","v":0},{"$f":"IF($BG32<CA$1,0,IF($BG32-CA$1>計算!$B$26,CA$66,($BG32-CA$1)/計算!$B$26*CA$66))","v":0},{"$f":"IF($BG32<CB$1,0,IF($BG32-CB$1>計算!$B$26,CB$66,($BG32-CB$1)/計算!$B$26*CB$66))","v":0},{"$f":"IF($BG32<CC$1,0,IF($BG32-CC$1>計算!$B$26,CC$66,($BG32-CC$1)/計算!$B$26*CC$66))","v":0},{"$f":"IF($BG32<CD$1,0,IF($BG32-CD$1>計算!$B$26,CD$66,($BG32-CD$1)/計算!$B$26*CD$66))","v":0},{"$f":"IF($BG32<CE$1,0,IF($BG32-CE$1>計算!$B$26,CE$66,($BG32-CE$1)/計算!$B$26*CE$66))","v":0},{"$f":"IF($BG32<CF$1,0,IF($BG32-CF$1>計算!$B$26,CF$66,($BG32-CF$1)/計算!$B$26*CF$66))","v":0},{"$f":"IF($BG32<CG$1,0,IF($BG32-CG$1>計算!$B$26,CG$66,($BG32-CG$1)/計算!$B$26*CG$66))","v":0},{"$f":"IF($BG32<CH$1,0,IF($BG32-CH$1>計算!$B$26,CH$66,($BG32-CH$1)/計算!$B$26*CH$66))","v":0},{"$f":"IF($BG32<CI$1,0,IF($BG32-CI$1>計算!$B$26,CI$66,($BG32-CI$1)/計算!$B$26*CI$66))","v":0},{"$f":"IF($BG32<CJ$1,0,IF($BG32-CJ$1>計算!$B$26,CJ$66,($BG32-CJ$1)/計算!$B$26*CJ$66))","v":0},{"$f":"IF($BG32<CK$1,0,IF($BG32-CK$1>計算!$B$26,CK$66,($BG32-CK$1)/計算!$B$26*CK$66))","v":0},2.694474398510855E-2,-2.694474398510855E-2]
[null,null,null,null,null,null,null,null,null,null,null,null,{"$f":"IF($L33<M$1,0,IF($L33-M$1>計算!$B$26,M$66,($L33-M$1)/計算!$B$26*M$66))","v":0.2983353312641418},{"$f":"IF($L33<N$1,0,IF($L33-N$1>計算!$B$26,N$66,($L33-N$1)/計算!$B$26*N$66))","v":-0.89890989052282899},{"$f":"IF($L33<O$1,0,IF($L33-O$1>計算!$B$26,O$66,($L33-O$1)/計算!$B$26*O$66))","v":-0.21184658990487348},{"$f":"IF($L33<P$1,0,IF($L33-P$1>計算!$B$26,P$66,($L33-P$1)/計算!$B$26*P$66))","v":0.63830901206403412},{"$f":"IF($L33<Q$1,0,IF($L33-Q$1>計算!$B$26,Q$66,($L33-Q$1)/計算!$B$26*Q$66))","v":-0.21374580605087579},{"$f":"IF($L33<R$1,0,IF($L33-R$1>計算!$B$26,R$66,($L33-R$1)/計算!$B$26*R$66))","v":0.58793831734057156},{"$f":"IF($L33<S$1,0,IF($L33-S$1>計算!$B$26,S$66,($L33-S$1)/計算!$B$26*S$66))","v":0.26628907306790472},{"$f":"IF($L33<T$1,0,IF($L33-T$1>計算!$B$26,T$66,($L33-T$1)/計算!$B$26*T$66))","v":-0.47320266231569752},{"$f":"IF($L33<U$1,0,IF($L33-U$1>計算!$B$26,U$66,($L33-U$1)/計算!$B$26*U$66))","v":6.0087511789762682E-2},{"$f":"IF($L33<V$1,0,IF($L33-V$1>計算!$B$26,V$66,($L33-V$1)/計算!$B$26*V$66))","v":-5.0825194033370491E-2},{"$f":"IF($L33<W$1,0,IF($L33-W$1>計算!$B$26,W$66,($L33-W$1)/計算!$B$26*W$66))","v":0.29158188812572483},{"$f":"IF($L33<X$1,0,IF($L33-X$1>計算!$B$26,X$66,($L33-X$1)/計算!$B$26*X$66))","v":-0.33635698393373026},{"$f":"IF($L33<Y$1,0,IF($L33-Y$1>計算!$B$26,Y$66,($L33-Y$1)/計算!$B$26*Y$66))","v":-0.23732384043519716},{"$f":"IF($L33<Z$1,0,IF($L33-Z$1>計算!$B$26,Z$66,($L33-Z$1)/計算!$B$26*Z$66))","v":0.3484351373522887},{"$f":"IF($L33<AA$1,0,IF($L33-AA$1>計算!$B$26,AA$66,($L33-AA$1)/計算!$B$26*AA$66))","v":-8.2185908704871843E-2},{"$f":"IF($L33<AB$1,0,IF($L33-AB$1>計算!$B$26,AB$66,($L33-AB$1)/計算!$B$26*AB$66))","v":5.0042793229388913E-3},{"$f":"IF($L33<AC$1,0,IF($L33-AC$1>計算!$B$26,AC$66,($L33-AC$1)/計算!$B$26*AC$66))","v":0},{"$f":"IF($L33<AD$1,0,IF($L33-AD$1>計算!$B$26,AD$66,($L33-AD$1)/計算!$B$26*AD$66))","v":0},{"$f":"IF($L33<AE$1,0,IF($L33-AE$1>計算!$B$26,AE$66,($L33-AE$1)/計算!$B$26*AE$66))","v":0},{"$f":"IF($L33<AF$1,0,IF($L33-AF$1>計算!$B$26,AF$66,($L33-AF$1)/計算!$B$26*AF$66))","v":0},{"$f":"IF($L33<AG$1,0,IF($L33-AG$1>計算!$B$26,AG$66,($L33-AG$1)/計算!$B$26*AG$66))","v":0},{"$f":"IF($L33<AH$1,0,IF($L33-AH$1>計算!$B$26,AH$66,($L33-AH$1)/計算!$B$26*AH$66))","v":0},{"$f":"IF($L33<AI$1,0,IF($L33-AI$1>計算!$B$26,AI$66,($L33-AI$1)/計算!$B$26*AI$66))","v":0},{"$f":"IF($L33<AJ$1,0,IF($L33-AJ$1>計算!$B$26,AJ$66,($L33-AJ$1)/計算!$B$26*AJ$66))","v":0},{"$f":"IF($L33<AK$1,0,IF($L33-AK$1>計算!$B$26,AK$66,($L33-AK$1)/計算!$B$26*AK$66))","v":0},{"$f":"IF($L33<AL$1,0,IF($L33-AL$1>計算!$B$26,AL$66,($L33-AL$1)/計算!$B$26*AL$66))","v":0},{"$f":"IF($L33<AM$1,0,IF($L33-AM$1>計算!$B$26,AM$66,($L33-AM$1)/計算!$B$26*AM$66))","v":0},{"$f":"IF($L33<AN$1,0,IF($L33-AN$1>計算!$B$26,AN$66,($L33-AN$1)/計算!$B$26*AN$66))","v":0},{"$f":"IF($L33<AO$1,0,IF($L33-AO$1>計算!$B$26,AO$66,($L33-AO$1)/計算!$B$26*AO$66))","v":0},{"$f":"IF($L33<AP$1,0,IF($L33-AP$1>計算!$B$26,AP$66,($L33-AP$1)/計算!$B$26*AP$66))","v":0},{"$f":"IF($L33<AQ$1,0,IF($L33-AQ$1>計算!$B$26,AQ$66,($L33-AQ$1)/計算!$B$26*AQ$66))","v":0},{"$f":"IF($L33<AR$1,0,IF($L33-AR$1>計算!$B$26,AR$66,($L33-AR$1)/計算!$B$26*AR$66))","v":0},{"$f":"IF($L33<AS$1,0,IF($L33-AS$1>計算!$B$26,AS$66,($L33-AS$1)/計算!$B$26*AS$66))","v":0},{"$f":"IF($L33<AT$1,0,IF($L33-AT$1>計算!$B$26,AT$66,($L33-AT$1)/計算!$B$26*AT$66))","v":0},{"$f":"IF($L33<AU$1,0,IF($L33-AU$1>計算!$B$26,AU$66,($L33-AU$1)/計算!$B$26*AU$66))","v":0},{"$f":"IF($L33<AV$1,0,IF($L33-AV$1>計算!$B$26,AV$66,($L33-AV$1)/計算!$B$26*AV$66))","v":0},-8.4163255740782247E-3,8.4163255740782247E-3,null,null,null,null,null,null,null,null,null,{"$f":"IF($BG33<BH$1,0,IF($BG33-BH$1>計算!$B$26,BH$66,($BG33-BH$1)/計算!$B$26*BH$66))","v":-0.67165999785768882},{"$f":"IF($BG33<BI$1,0,IF($BG33-BI$1>計算!$B$26,BI$66,($BG33-BI$1)/計算!$B$26*BI$66))","v":0.90868889604222969},{"$f":"IF($BG33<BJ$1,0,IF($BG33-BJ$1>計算!$B$26,BJ$66,($BG33-BJ$1)/計算!$B$26*BJ$66))","v":-0.15970956504964062},{"$f":"IF($BG33<BK$1,0,IF($BG33-BK$1>計算!$B$26,BK$66,($BG33-BK$1)/計算!$B$26*BK$66))","v":-0.21551880103922261},{"$f":"IF($BG33<BL$1,0,IF($BG33-BL$1>計算!$B$26,BL$66,($BG33-BL$1)/計算!$B$26*BL$66))","v":-3.6979193377590036E-2},{"$f":"IF($BG33<BM$1,0,IF($BG33-BM$1>計算!$B$26,BM$66,($BG33-BM$1)/計算!$B$26*BM$66))","v":8.5539846253473106E-2},{"$f":"IF($BG33<BN$1,0,IF($BG33-BN$1>計算!$B$26,BN$66,($BG33-BN$1)/計算!$B$26*BN$66))","v":-3.7976275570530404E-2},{"$f":"IF($BG33<BO$1,0,IF($BG33-BO$1>計算!$B$26,BO$66,($BG33-BO$1)/計算!$B$26*BO$66))","v":6.2162268050736214E-2},{"$f":"IF($BG33<BP$1,0,IF($BG33-BP$1>計算!$B$26,BP$66,($BG33-BP$1)/計算!$B$26*BP$66))","v":0.15755812631518906},{"$f":"IF($BG33<BQ$1,0,IF($BG33-BQ$1>計算!$B$26,BQ$66,($BG33-BQ$1)/計算!$B$26*BQ$66))","v":-1.203930779011364E-2},{"$f":"IF($BG33<BR$1,0,IF($BG33-BR$1>計算!$B$26,BR$66,($BG33-BR$1)/計算!$B$26*BR$66))","v":-6.422251715804006E-2},{"$f":"IF($BG33<BS$1,0,IF($BG33-BS$1>計算!$B$26,BS$66,($BG33-BS$1)/計算!$B$26*BS$66))","v":8.0523326838670695E-3},{"$f":"IF($BG33<BT$1,0,IF($BG33-BT$1>計算!$B$26,BT$66,($BG33-BT$1)/計算!$B$26*BT$66))","v":-2.0820509260016658E-3},{"$f":"IF($BG33<BU$1,0,IF($BG33-BU$1>計算!$B$26,BU$66,($BG33-BU$1)/計算!$B$26*BU$66))","v":7.2192787756215722E-3},{"$f":"IF($BG33<BV$1,0,IF($BG33-BV$1>計算!$B$26,BV$66,($BG33-BV$1)/計算!$B$26*BV$66))","v":-4.0476368028035753E-4},{"$f":"IF($BG33<BW$1,0,IF($BG33-BW$1>計算!$B$26,BW$66,($BG33-BW$1)/計算!$B$26*BW$66))","v":-5.7524615612932761E-3},{"$f":"IF($BG33<BX$1,0,IF($BG33-BX$1>計算!$B$26,BX$66,($BG33-BX$1)/計算!$B$26*BX$66))","v":0},{"$f":"IF($BG33<BY$1,0,IF($BG33-BY$1>計算!$B$26,BY$66,($BG33-BY$1)/計算!$B$26*BY$66))","v":0},{"$f":"IF($BG33<BZ$1,0,IF($BG33-BZ$1>計算!$B$26,BZ$66,($BG33-BZ$1)/計算!$B$26*BZ$66))","v":0},{"$f":"IF($BG33<CA$1,0,IF($BG33-CA$1>計算!$B$26,CA$66,($BG33-CA$1)/計算!$B$26*CA$66))","v":0},{"$f":"IF($BG33<CB$1,0,IF($BG33-CB$1>計算!$B$26,CB$66,($BG33-CB$1)/計算!$B$26*CB$66))","v":0},{"$f":"IF($BG33<CC$1,0,IF($BG33-CC$1>計算!$B$26,CC$66,($BG33-CC$1)/計算!$B$26*CC$66))","v":0},{"$f":"IF($BG33<CD$1,0,IF($BG33-CD$1>計算!$B$26,CD$66,($BG33-CD$1)/計算!$B$26*CD$66))","v":0},{"$f":"IF($BG33<CE$1,0,IF($BG33-CE$1>計算!$B$26,CE$66,($BG33-CE$1)/計算!$B$26*CE$66))","v":0},{"$f":"IF($BG33<CF$1,0,IF($BG33-CF$1>計算!$B$26,CF$66,($BG33-CF$1)/計算!$B$26*CF$66))","v":0},{"$f":"IF($BG33<CG$1,0,IF($BG33-CG$1>計算!$B$26,CG$66,($BG33-CG$1)/計算!$B$26*CG$66))","v":0},{"$f":"IF($BG33<CH$1,0,IF($BG33-CH$1>計算!$B$26,CH$66,($BG33-CH$1)/計算!$B$26*CH$66))","v":0},{"$f":"IF($BG33<CI$1,0,IF($BG33-CI$1>計算!$B$26,CI$66,($BG33-CI$1)/計算!$B$26*CI$66))","v":0},{"$f":"IF($BG33<CJ$1,0,IF($BG33-CJ$1>計算!$B$26,CJ$66,($BG33-CJ$1)/計算!$B$26*CJ$66))","v":0},{"$f":"IF($BG33<CK$1,0,IF($BG33-CK$1>計算!$B$26,CK$66,($BG33-CK$1)/計算!$B$26*CK$66))","v":0},2.2875814110715223E-2,-2.2875814110715223E-2]
[null,null,null,null,null,null,null,null,null,null,null,null,{"$f":"IF($L34<M$1,0,IF($L34-M$1>計算!$B$26,M$66,($L34-M$1)/計算!$B$26*M$66))","v":0.2983353312641418},{"$f":"IF($L34<N$1,0,IF($L34-N$1>計算!$B$26,N$66,($L34-N$1)/計算!$B$26*N$66))","v":-0.89890989052282899},{"$f":"IF($L34<O$1,0,IF($L34-O$1>計算!$B$26,O$66,($L34-O$1)/計算!$B$26*O$66))","v":-0.21184658990487348},{"$f":"IF($L34<P$1,0,IF($L34-P$1>計算!$B$26,P$66,($L34-P$1)/計算!$B$26*P$66))","v":0.63830901206403412},{"$f":"IF($L34<Q$1,0,IF($L34-Q$1>計算!$B$26,Q$66,($L34-Q$1)/計算!$B$26*Q$66))","v":-0.21374580605087579},{"$f":"IF($L34<R$1,0,IF($L34-R$1>計算!$B$26,R$66,($L34-R$1)/計算!$B$26*R$66))","v":0.58793831734057156},{"$f":"IF($L34<S$1,0,IF($L34-S$1>計算!$B$26,S$66,($L34-S$1)/計算!$B$26*S$66))","v":0.26628907306790472},{"$f":"IF($L34<T$1,0,IF($L34-T$1>計算!$B$26,T$66,($L34-T$1)/計算!$B$26*T$66))","v":-0.47320266231569752},{"$f":"IF($L34<U$1,0,IF($L34-U$1>計算!$B$26,U$66,($L34-U$1)/計算!$B$26*U$66))","v":6.0087511789762682E-2},{"$f":"IF($L34<V$1,0,IF($L34-V$1>計算!$B$26,V$66,($L34-V$1)/計算!$B$26*V$66))","v":-5.0825194033370491E-2},{"$f":"IF($L34<W$1,0,IF($L34-W$1>計算!$B$26,W$66,($L34-W$1)/計算!$B$26*W$66))","v":0.29158188812572483},{"$f":"IF($L34<X$1,0,IF($L34-X$1>計算!$B$26,X$66,($L34-X$1)/計算!$B$26*X$66))","v":-0.33635698393373026},{"$f":"IF($L34<Y$1,0,IF($L34-Y$1>計算!$B$26,Y$66,($L34-Y$1)/計算!$B$26*Y$66))","v":-0.23732384043519716},{"$f":"IF($L34<Z$1,0,IF($L34-Z$1>計算!$B$26,Z$66,($L34-Z$1)/計算!$B$26*Z$66))","v":0.3484351373522887},{"$f":"IF($L34<AA$1,0,IF($L34-AA$1>計算!$B$26,AA$66,($L34-AA$1)/計算!$B$26*AA$66))","v":-8.7213024267986938E-2},{"$f":"IF($L34<AB$1,0,IF($L34-AB$1>計算!$B$26,AB$66,($L34-AB$1)/計算!$B$26*AB$66))","v":5.33032241966328E-3},{"$f":"IF($L34<AC$1,0,IF($L34-AC$1>計算!$B$26,AC$66,($L34-AC$1)/計算!$B$26*AC$66))","v":0},{"$f":"IF($L34<AD$1,0,IF($L34-AD$1>計算!$B$26,AD$66,($L34-AD$1)/計算!$B$26*AD$66))","v":0},{"$f":"IF($L34<AE$1,0,IF($L34-AE$1>計算!$B$26,AE$66,($L34-AE$1)/計算!$B$26*AE$66))","v":0},{"$f":"IF($L34<AF$1,0,IF($L34-AF$1>計算!$B$26,AF$66,($L34-AF$1)/計算!$B$26*AF$66))","v":0},{"$f":"IF($L34<AG$1,0,IF($L34-AG$1>計算!$B$26,AG$66,($L34-AG$1)/計算!$B$26*AG$66))","v":0},{"$f":"IF($L34<AH$1,0,IF($L34-AH$1>計算!$B$26,AH$66,($L34-AH$1)/計算!$B$26*AH$66))","v":0},{"$f":"IF($L34<AI$1,0,IF($L34-AI$1>計算!$B$26,AI$66,($L34-AI$1)/計算!$B$26*AI$66))","v":0},{"$f":"IF($L34<AJ$1,0,IF($L34-AJ$1>計算!$B$26,AJ$66,($L34-AJ$1)/計算!$B$26*AJ$66))","v":0},{"$f":"IF($L34<AK$1,0,IF($L34-AK$1>計算!$B$26,AK$66,($L34-AK$1)/計算!$B$26*AK$66))","v":0},{"$f":"IF($L34<AL$1,0,IF($L34-AL$1>計算!$B$26,AL$66,($L34-AL$1)/計算!$B$26*AL$66))","v":0},{"$f":"IF($L34<AM$1,0,IF($L34-AM$1>計算!$B$26,AM$66,($L34-AM$1)/計算!$B$26*AM$66))","v":0},{"$f":"IF($L34<AN$1,0,IF($L34-AN$1>計算!$B$26,AN$66,($L34-AN$1)/計算!$B$26*AN$66))","v":0},{"$f":"IF($L34<AO$1,0,IF($L34-AO$1>計算!$B$26,AO$66,($L34-AO$1)/計算!$B$26*AO$66))","v":0},{"$f":"IF($L34<AP$1,0,IF($L34-AP$1>計算!$B$26,AP$66,($L34-AP$1)/計算!$B$26*AP$66))","v":0},{"$f":"IF($L34<AQ$1,0,IF($L34-AQ$1>計算!$B$26,AQ$66,($L34-AQ$1)/計算!$B$26*AQ$66))","v":0},{"$f":"IF($L34<AR$1,0,IF($L34-AR$1>計算!$B$26,AR$66,($L34-AR$1)/計算!$B$26*AR$66))","v":0},{"$f":"IF($L34<AS$1,0,IF($L34-AS$1>計算!$B$26,AS$66,($L34-AS$1)/計算!$B$26*AS$66))","v":0},{"$f":"IF($L34<AT$1,0,IF($L34-AT$1>計算!$B$26,AT$66,($L34-AT$1)/計算!$B$26*AT$66))","v":0},{"$f":"IF($L34<AU$1,0,IF($L34-AU$1>計算!$B$26,AU$66,($L34-AU$1)/計算!$B$26*AU$66))","v":0},{"$f":"IF($L34<AV$1,0,IF($L34-AV$1>計算!$B$26,AV$66,($L34-AV$1)/計算!$B$26*AV$66))","v":0},-1.3117398040468931E-2,1.3117398040468931E-2,null,null,null,null,null,null,null,null,null,{"$f":"IF($BG34<BH$1,0,IF($BG34-BH$1>計算!$B$26,BH$66,($BG34-BH$1)/計算!$B$26*BH$66))","v":-0.67165999785768882},{"$f":"IF($BG34<BI$1,0,IF($BG34-BI$1>計算!$B$26,BI$66,($BG34-BI$1)/計算!$B$26*BI$66))","v":0.90868889604222969},{"$f":"IF($BG34<BJ$1,0,IF($BG34-BJ$1>計算!$B$26,BJ$66,($BG34-BJ$1)/計算!$B$26*BJ$66))","v":-0.15970956504964062},{"$f":"IF($BG34<BK$1,0,IF($BG34-BK$1>計算!$B$26,BK$66,($BG34-BK$1)/計算!$B$26*BK$66))","v":-0.21551880103922261},{"$f":"IF($BG34<BL$1,0,IF($BG34-BL$1>計算!$B$26,BL$66,($BG34-BL$1)/計算!$B$26*BL$66))","v":-3.6979193377590036E-2},{"$f":"IF($BG34<BM$1,0,IF($BG34-BM$1>計算!$B$26,BM$66,($BG34-BM$1)/計算!$B$26*BM$66))","v":8.5539846253473106E-2},{"$f":"IF($BG34<BN$1,0,IF($BG34-BN$1>計算!$B$26,BN$66,($BG34-BN$1)/計算!$B$26*BN$66))","v":-3.7976275570530404E-2},{"$f":"IF($BG34<BO$1,0,IF($BG34-BO$1>計算!$B$26,BO$66,($BG34-BO$1)/計算!$B$26*BO$66))","v":6.2162268050736214E-2},{"$f":"IF($BG34<BP$1,0,IF($BG34-BP$1>計算!$B$26,BP$66,($BG34-BP$1)/計算!$B$26*BP$66))","v":0.15755812631518906},{"$f":"IF($BG34<BQ$1,0,IF($BG34-BQ$1>計算!$B$26,BQ$66,($BG34-BQ$1)/計算!$B$26*BQ$66))","v":-1.203930779011364E-2},{"$f":"IF($BG34<BR$1,0,IF($BG34-BR$1>計算!$B$26,BR$66,($BG34-BR$1)/計算!$B$26*BR$66))","v":-6.422251715804006E-2},{"$f":"IF($BG34<BS$1,0,IF($BG34-BS$1>計算!$B$26,BS$66,($BG34-BS$1)/計算!$B$26*BS$66))","v":8.0523326838670695E-3},{"$f":"IF($BG34<BT$1,0,IF($BG34-BT$1>計算!$B$26,BT$66,($BG34-BT$1)/計算!$B$26*BT$66))","v":-2.6025636575020862E-3},{"$f":"IF($BG34<BU$1,0,IF($BG34-BU$1>計算!$B$26,BU$66,($BG34-BU$1)/計算!$B$26*BU$66))","v":9.6257050341621211E-3},{"$f":"IF($BG34<BV$1,0,IF($BG34-BV$1>計算!$B$26,BV$66,($BG34-BV$1)/計算!$B$26*BV$66))","v":-6.0714552042053622E-4},{"$f":"IF($BG34<BW$1,0,IF($BG34-BW$1>計算!$B$26,BW$66,($BG34-BW$1)/計算!$B$26*BW$66))","v":-1.1504923122586552E-2},{"$f":"IF($BG34<BX$1,0,IF($BG34-BX$1>計算!$B$26,BX$66,($BG34-BX$1)/計算!$B$26*BX$66))","v":5.5742387510048538E-4},{"$f":"IF($BG34<BY$1,0,IF($BG34-BY$1>計算!$B$26,BY$66,($BG34-BY$1)/計算!$B$26*BY$66))","v":0},{"$f":"IF($BG34<BZ$1,0,IF($BG34-BZ$1>計算!$B$26,BZ$66,($BG34-BZ$1)/計算!$B$26*BZ$66))","v":0},{"$f":"IF($BG34<CA$1,0,IF($BG34-CA$1>計算!$B$26,CA$66,($BG34-CA$1)/計算!$B$26*CA$66))","v":0},{"$f":"IF($BG34<CB$1,0,IF($BG34-CB$1>計算!$B$26,CB$66,($BG34-CB$1)/計算!$B$26*CB$66))","v":0},{"$f":"IF($BG34<CC$1,0,IF($BG34-CC$1>計算!$B$26,CC$66,($BG34-CC$1)/計算!$B$26*CC$66))","v":0},{"$f":"IF($BG34<CD$1,0,IF($BG34-CD$1>計算!$B$26,CD$66,($BG34-CD$1)/計算!$B$26*CD$66))","v":0},{"$f":"IF($BG34<CE$1,0,IF($BG34-CE$1>計算!$B$26,CE$66,($BG34-CE$1)/計算!$B$26*CE$66))","v":0},{"$f":"IF($BG34<CF$1,0,IF($BG34-CF$1>計算!$B$26,CF$66,($BG34-CF$1)/計算!$B$26*CF$66))","v":0},{"$f":"IF($BG34<CG$1,0,IF($BG34-CG$1>計算!$B$26,CG$66,($BG34-CG$1)/計算!$B$26*CG$66))","v":0},{"$f":"IF($BG34<CH$1,0,IF($BG34-CH$1>計算!$B$26,CH$66,($BG34-CH$1)/計算!$B$26*CH$66))","v":0},{"$f":"IF($BG34<CI$1,0,IF($BG34-CI$1>計算!$B$26,CI$66,($BG34-CI$1)/計算!$B$26*CI$66))","v":0},{"$f":"IF($BG34<CJ$1,0,IF($BG34-CJ$1>計算!$B$26,CJ$66,($BG34-CJ$1)/計算!$B$26*CJ$66))","v":0},{"$f":"IF($BG34<CK$1,0,IF($BG34-CK$1>計算!$B$26,CK$66,($BG34-CK$1)/計算!$B$26*CK$66))","v":0},1.9364308111422382E-2,-1.9364308111422382E-2]
[null,null,null,null,null,null,null,null,null,null,null,null,{"$f":"IF($L35<M$1,0,IF($L35-M$1>計算!$B$26,M$66,($L35-M$1)/計算!$B$26*M$66))","v":0.2983353312641418},{"$f":"IF($L35<N$1,0,IF($L35-N$1>計算!$B$26,N$66,($L35-N$1)/計算!$B$26*N$66))","v":-0.89890989052282899},{"$f":"IF($L35<O$1,0,IF($L35-O$1>計算!$B$26,O$66,($L35-O$1)/計算!$B$26*O$66))","v":-0.21184658990487348},{"$f":"IF($L35<P$1,0,IF($L35-P$1>計算!$B$26,P$66,($L35-P$1)/計算!$B$26*P$66))","v":0.63830901206403412},{"$f":"IF($L35<Q$1,0,IF($L35-Q$1>計算!$B$26,Q$66,($L35-Q$1)/計算!$B$26*Q$66))","v":-0.21374580605087579},{"$f":"IF($L35<R$1,0,IF($L35-R$1>計算!$B$26,R$66,($L35-R$1)/計算!$B$26*R$66))","v":0.58793831734057156},{"$f":"IF($L35<S$1,0,IF($L35-S$1>計算!$B$26,S$66,($L35-S$1)/計算!$B$26*S$66))","v":0.26628907306790472},{"$f":"IF($L35<T$1,0,IF($L35-T$1>計算!$B$26,T$66,($L35-T$1)/計算!$B$26*T$66))","v":-0.47320266231569752},{"$f":"IF($L35<U$1,0,IF($L35-U$1>計算!$B$26,U$66,($L35-U$1)/計算!$B$26*U$66))","v":6.0087511789762682E-2},{"$f":"IF($L35<V$1,0,IF($L35-V$1>計算!$B$26,V$66,($L35-V$1)/計算!$B$26*V$66))","v":-5.0825194033370491E-2},{"$f":"IF($L35<W$1,0,IF($L35-W$1>計算!$B$26,W$66,($L35-W$1)/計算!$B$26*W$66))","v":0.29158188812572483},{"$f":"IF($L35<X$1,0,IF($L35-X$1>計算!$B$26,X$66,($L35-X$1)/計算!$B$26*X$66))","v":-0.33635698393373026},{"$f":"IF($L35<Y$1,0,IF($L35-Y$1>計算!$B$26,Y$66,($L35-Y$1)/計算!$B$26*Y$66))","v":-0.23732384043519716},{"$f":"IF($L35<Z$1,0,IF($L35-Z$1>計算!$B$26,Z$66,($L35-Z$1)/計算!$B$26*Z$66))","v":0.3484351373522887},{"$f":"IF($L35<AA$1,0,IF($L35-AA$1>計算!$B$26,AA$66,($L35-AA$1)/計算!$B$26*AA$66))","v":-8.7213024267986938E-2},{"$f":"IF($L35<AB$1,0,IF($L35-AB$1>計算!$B$26,AB$66,($L35-AB$1)/計算!$B$26*AB$66))","v":5.6563654982872968E-3},{"$f":"IF($L35<AC$1,0,IF($L35-AC$1>計算!$B$26,AC$66,($L35-AC$1)/計算!$B$26*AC$66))","v":0},{"$f":"IF($L35<AD$1,0,IF($L35-AD$1>計算!$B$26,AD$66,($L35-AD$1)/計算!$B$26*AD$66))","v":0},{"$f":"IF($L35<AE$1,0,IF($L35-AE$1>計算!$B$26,AE$66,($L35-AE$1)/計算!$B$26*AE$66))","v":0},{"$f":"IF($L35<AF$1,0,IF($L35-AF$1>計算!$B$26,AF$66,($L35-AF$1)/計算!$B$26*AF$66))","v":0},{"$f":"IF($L35<AG$1,0,IF($L35-AG$1>計算!$B$26,AG$66,($L35-AG$1)/計算!$B$26*AG$66))","v":0},{"$f":"IF($L35<AH$1,0,IF($L35-AH$1>計算!$B$26,AH$66,($L35-AH$1)/計算!$B$26*AH$66))","v":0},{"$f":"IF($L35<AI$1,0,IF($L35-AI$1>計算!$B$26,AI$66,($L35-AI$1)/計算!$B$26*AI$66))","v":0},{"$f":"IF($L35<AJ$1,0,IF($L35-AJ$1>計算!$B$26,AJ$66,($L35-AJ$1)/計算!$B$26*AJ$66))","v":0},{"$f":"IF($L35<AK$1,0,IF($L35-AK$1>計算!$B$26,AK$66,($L35-AK$1)/計算!$B$26*AK$66))","v":0},{"$f":"IF($L35<AL$1,0,IF($L35-AL$1>計算!$B$26,AL$66,($L35-AL$1)/計算!$B$26*AL$66))","v":0},{"$f":"IF($L35<AM$1,0,IF($L35-AM$1>計算!$B$26,AM$66,($L35-AM$1)/計算!$B$26*AM$66))","v":0},{"$f":"IF($L35<AN$1,0,IF($L35-AN$1>計算!$B$26,AN$66,($L35-AN$1)/計算!$B$26*AN$66))","v":0},{"$f":"IF($L35<AO$1,0,IF($L35-AO$1>計算!$B$26,AO$66,($L35-AO$1)/計算!$B$26*AO$66))","v":0},{"$f":"IF($L35<AP$1,0,IF($L35-AP$1>計算!$B$26,AP$66,($L35-AP$1)/計算!$B$26*AP$66))","v":0},{"$f":"IF($L35<AQ$1,0,IF($L35-AQ$1>計算!$B$26,AQ$66,($L35-AQ$1)/計算!$B$26*AQ$66))","v":0},{"$f":"IF($L35<AR$1,0,IF($L35-AR$1>計算!$B$26,AR$66,($L35-AR$1)/計算!$B$26*AR$66))","v":0},{"$f":"IF($L35<AS$1,0,IF($L35-AS$1>計算!$B$26,AS$66,($L35-AS$1)/計算!$B$26*AS$66))","v":0},{"$f":"IF($L35<AT$1,0,IF($L35-AT$1>計算!$B$26,AT$66,($L35-AT$1)/計算!$B$26*AT$66))","v":0},{"$f":"IF($L35<AU$1,0,IF($L35-AU$1>計算!$B$26,AU$66,($L35-AU$1)/計算!$B$26*AU$66))","v":0},{"$f":"IF($L35<AV$1,0,IF($L35-AV$1>計算!$B$26,AV$66,($L35-AV$1)/計算!$B$26*AV$66))","v":0},-1.2791354961844914E-2,1.2791354961844914E-2,null,null,null,null,null,null,null,null,null,{"$f":"IF($BG35<BH$1,0,IF($BG35-BH$1>計算!$B$26,BH$66,($BG35-BH$1)/計算!$B$26*BH$66))","v":-0.67165999785768882},{"$f":"IF($BG35<BI$1,0,IF($BG35-BI$1>計算!$B$26,BI$66,($BG35-BI$1)/計算!$B$26*BI$66))","v":0.90868889604222969},{"$f":"IF($BG35<BJ$1,0,IF($BG35-BJ$1>計算!$B$26,BJ$66,($BG35-BJ$1)/計算!$B$26*BJ$66))","v":-0.15970956504964062},{"$f":"IF($BG35<BK$1,0,IF($BG35-BK$1>計算!$B$26,BK$66,($BG35-BK$1)/計算!$B$26*BK$66))","v":-0.21551880103922261},{"$f":"IF($BG35<BL$1,0,IF($BG35-BL$1>計算!$B$26,BL$66,($BG35-BL$1)/計算!$B$26*BL$66))","v":-3.6979193377590036E-2},{"$f":"IF($BG35<BM$1,0,IF($BG35-BM$1>計算!$B$26,BM$66,($BG35-BM$1)/計算!$B$26*BM$66))","v":8.5539846253473106E-2},{"$f":"IF($BG35<BN$1,0,IF($BG35-BN$1>計算!$B$26,BN$66,($BG35-BN$1)/計算!$B$26*BN$66))","v":-3.7976275570530404E-2},{"$f":"IF($BG35<BO$1,0,IF($BG35-BO$1>計算!$B$26,BO$66,($BG35-BO$1)/計算!$B$26*BO$66))","v":6.2162268050736214E-2},{"$f":"IF($BG35<BP$1,0,IF($BG35-BP$1>計算!$B$26,BP$66,($BG35-BP$1)/計算!$B$26*BP$66))","v":0.15755812631518906},{"$f":"IF($BG35<BQ$1,0,IF($BG35-BQ$1>計算!$B$26,BQ$66,($BG35-BQ$1)/計算!$B$26*BQ$66))","v":-1.203930779011364E-2},{"$f":"IF($BG35<BR$1,0,IF($BG35-BR$1>計算!$B$26,BR$66,($BG35-BR$1)/計算!$B$26*BR$66))","v":-6.422251715804006E-2},{"$f":"IF($BG35<BS$1,0,IF($BG35-BS$1>計算!$B$26,BS$66,($BG35-BS$1)/計算!$B$26*BS$66))","v":8.0523326838670695E-3},{"$f":"IF($BG35<BT$1,0,IF($BG35-BT$1>計算!$B$26,BT$66,($BG35-BT$1)/計算!$B$26*BT$66))","v":-3.1230763890025071E-3},{"$f":"IF($BG35<BU$1,0,IF($BG35-BU$1>計算!$B$26,BU$66,($BG35-BU$1)/計算!$B$26*BU$66))","v":1.2032131292702671E-2},{"$f":"IF($BG35<BV$1,0,IF($BG35-BV$1>計算!$B$26,BV$66,($BG35-BV$1)/計算!$B$26*BV$66))","v":-8.0952736056071506E-4},{"$f":"IF($BG35<BW$1,0,IF($BG35-BW$1>計算!$B$26,BW$66,($BG35-BW$1)/計算!$B$26*BW$66))","v":-1.7257384683879828E-2},{"$f":"IF($BG35<BX$1,0,IF($BG35-BX$1>計算!$B$26,BX$66,($BG35-BX$1)/計算!$B$26*BX$66))","v":1.1148477502009708E-3},{"$f":"IF($BG35<BY$1,0,IF($BG35-BY$1>計算!$B$26,BY$66,($BG35-BY$1)/計算!$B$26*BY$66))","v":2.4656515598476853E-3},{"$f":"IF($BG35<BZ$1,0,IF($BG35-BZ$1>計算!$B$26,BZ$66,($BG35-BZ$1)/計算!$B$26*BZ$66))","v":0},{"$f":"IF($BG35<CA$1,0,IF($BG35-CA$1>計算!$B$26,CA$66,($BG35-CA$1)/計算!$B$26*CA$66))","v":0},{"$f":"IF($BG35<CB$1,0,IF($BG35-CB$1>計算!$B$26,CB$66,($BG35-CB$1)/計算!$B$26*CB$66))","v":0},{"$f":"IF($BG35<CC$1,0,IF($BG35-CC$1>計算!$B$26,CC$66,($BG35-CC$1)/計算!$B$26*CC$66))","v":0},{"$f":"IF($BG35<CD$1,0,IF($BG35-CD$1>計算!$B$26,CD$66,($BG35-CD$1)/計算!$B$26*CD$66))","v":0},{"$f":"IF($BG35<CE$1,0,IF($BG35-CE$1>計算!$B$26,CE$66,($BG35-CE$1)/計算!$B$26*CE$66))","v":0},{"$f":"IF($BG35<CF$1,0,IF($BG35-CF$1>計算!$B$26,CF$66,($BG35-CF$1)/計算!$B$26*CF$66))","v":0},{"$f":"IF($BG35<CG$1,0,IF($BG35-CG$1>計算!$B$26,CG$66,($BG35-CG$1)/計算!$B$26*CG$66))","v":0},{"$f":"IF($BG35<CH$1,0,IF($BG35-CH$1>計算!$B$26,CH$66,($BG35-CH$1)/計算!$B$26*CH$66))","v":0},{"$f":"IF($BG35<CI$1,0,IF($BG35-CI$1>計算!$B$26,CI$66,($BG35-CI$1)/計算!$B$26*CI$66))","v":0},{"$f":"IF($BG35<CJ$1,0,IF($BG35-CJ$1>計算!$B$26,CJ$66,($BG35-CJ$1)/計算!$B$26*CJ$66))","v":0},{"$f":"IF($BG35<CK$1,0,IF($BG35-CK$1>計算!$B$26,CK$66,($BG35-CK$1)/計算!$B$26*CK$66))","v":0},1.8318453671977222E-2,-1.8318453671977222E-2]
[null,null,null,null,null,null,null,null,null,null,null,null,{"$f":"IF($L36<M$1,0,IF($L36-M$1>計算!$B$26,M$66,($L36-M$1)/計算!$B$26*M$66))","v":0.2983353312641418},{"$f":"IF($L36<N$1,0,IF($L36-N$1>計算!$B$26,N$66,($L36-N$1)/計算!$B$26*N$66))","v":-0.89890989052282899},{"$f":"IF($L36<O$1,0,IF($L36-O$1>計算!$B$26,O$66,($L36-O$1)/計算!$B$26*O$66))","v":-0.21184658990487348},{"$f":"IF($L36<P$1,0,IF($L36-P$1>計算!$B$26,P$66,($L36-P$1)/計算!$B$26*P$66))","v":0.63830901206403412},{"$f":"IF($L36<Q$1,0,IF($L36-Q$1>計算!$B$26,Q$66,($L36-Q$1)/計算!$B$26*Q$66))","v":-0.21374580605087579},{"$f":"IF($L36<R$1,0,IF($L36-R$1>計算!$B$26,R$66,($L36-R$1)/計算!$B$26*R$66))","v":0.58793831734057156},{"$f":"IF($L36<S$1,0,IF($L36-S$1>計算!$B$26,S$66,($L36-S$1)/計算!$B$26*S$66))","v":0.26628907306790472},{"$f":"IF($L36<T$1,0,IF($L36-T$1>計算!$B$26,T$66,($L36-T$1)/計算!$B$26*T$66))","v":-0.47320266231569752},{"$f":"IF($L36<U$1,0,IF($L36-U$1>計算!$B$26,U$66,($L36-U$1)/計算!$B$26*U$66))","v":6.0087511789762682E-2},{"$f":"IF($L36<V$1,0,IF($L36-V$1>計算!$B$26,V$66,($L36-V$1)/計算!$B$26*V$66))","v":-5.0825194033370491E-2},{"$f":"IF($L36<W$1,0,IF($L36-W$1>計算!$B$26,W$66,($L36-W$1)/計算!$B$26*W$66))","v":0.29158188812572483},{"$f":"IF($L36<X$1,0,IF($L36-X$1>計算!$B$26,X$66,($L36-X$1)/計算!$B$26*X$66))","v":-0.33635698393373026},{"$f":"IF($L36<Y$1,0,IF($L36-Y$1>計算!$B$26,Y$66,($L36-Y$1)/計算!$B$26*Y$66))","v":-0.23732384043519716},{"$f":"IF($L36<Z$1,0,IF($L36-Z$1>計算!$B$26,Z$66,($L36-Z$1)/計算!$B$26*Z$66))","v":0.3484351373522887},{"$f":"IF($L36<AA$1,0,IF($L36-AA$1>計算!$B$26,AA$66,($L36-AA$1)/計算!$B$26*AA$66))","v":-8.7213024267986938E-2},{"$f":"IF($L36<AB$1,0,IF($L36-AB$1>計算!$B$26,AB$66,($L36-AB$1)/計算!$B$26*AB$66))","v":5.6563654982872968E-3},{"$f":"IF($L36<AC$1,0,IF($L36-AC$1>計算!$B$26,AC$66,($L36-AC$1)/計算!$B$26*AC$66))","v":0},{"$f":"IF($L36<AD$1,0,IF($L36-AD$1>計算!$B$26,AD$66,($L36-AD$1)/計算!$B$26*AD$66))","v":0},{"$f":"IF($L36<AE$1,0,IF($L36-AE$1>計算!$B$26,AE$66,($L36-AE$1)/計算!$B$26*AE$66))","v":0},{"$f":"IF($L36<AF$1,0,IF($L36-AF$1>計算!$B$26,AF$66,($L36-AF$1)/計算!$B$26*AF$66))","v":0},{"$f":"IF($L36<AG$1,0,IF($L36-AG$1>計算!$B$26,AG$66,($L36-AG$1)/計算!$B$26*AG$66))","v":0},{"$f":"IF($L36<AH$1,0,IF($L36-AH$1>計算!$B$26,AH$66,($L36-AH$1)/計算!$B$26*AH$66))","v":0},{"$f":"IF($L36<AI$1,0,IF($L36-AI$1>計算!$B$26,AI$66,($L36-AI$1)/計算!$B$26*AI$66))","v":0},{"$f":"IF($L36<AJ$1,0,IF($L36-AJ$1>計算!$B$26,AJ$66,($L36-AJ$1)/計算!$B$26*AJ$66))","v":0},{"$f":"IF($L36<AK$1,0,IF($L36-AK$1>計算!$B$26,AK$66,($L36-AK$1)/計算!$B$26*AK$66))","v":0},{"$f":"IF($L36<AL$1,0,IF($L36-AL$1>計算!$B$26,AL$66,($L36-AL$1)/計算!$B$26*AL$66))","v":0},{"$f":"IF($L36<AM$1,0,IF($L36-AM$1>計算!$B$26,AM$66,($L36-AM$1)/計算!$B$26*AM$66))","v":0},{"$f":"IF($L36<AN$1,0,IF($L36-AN$1>計算!$B$26,AN$66,($L36-AN$1)/計算!$B$26*AN$66))","v":0},{"$f":"IF($L36<AO$1,0,IF($L36-AO$1>計算!$B$26,AO$66,($L36-AO$1)/計算!$B$26*AO$66))","v":0},{"$f":"IF($L36<AP$1,0,IF($L36-AP$1>計算!$B$26,AP$66,($L36-AP$1)/計算!$B$26*AP$66))","v":0},{"$f":"IF($L36<AQ$1,0,IF($L36-AQ$1>計算!$B$26,AQ$66,($L36-AQ$1)/計算!$B$26*AQ$66))","v":0},{"$f":"IF($L36<AR$1,0,IF($L36-AR$1>計算!$B$26,AR$66,($L36-AR$1)/計算!$B$26*AR$66))","v":0},{"$f":"IF($L36<AS$1,0,IF($L36-AS$1>計算!$B$26,AS$66,($L36-AS$1)/計算!$B$26*AS$66))","v":0},{"$f":"IF($L36<AT$1,0,IF($L36-AT$1>計算!$B$26,AT$66,($L36-AT$1)/計算!$B$26*AT$66))","v":0},{"$f":"IF($L36<AU$1,0,IF($L36-AU$1>計算!$B$26,AU$66,($L36-AU$1)/計算!$B$26*AU$66))","v":0},{"$f":"IF($L36<AV$1,0,IF($L36-AV$1>計算!$B$26,AV$66,($L36-AV$1)/計算!$B$26*AV$66))","v":0},-1.2791354961844914E-2,1.2791354961844914E-2,null,null,null,null,null,null,null,null,null,{"$f":"IF($BG36<BH$1,0,IF($BG36-BH$1>計算!$B$26,BH$66,($BG36-BH$1)/計算!$B$26*BH$66))","v":-0.67165999785768882},{"$f":"IF($BG36<BI$1,0,IF($BG36-BI$1>計算!$B$26,BI$66,($BG36-BI$1)/計算!$B$26*BI$66))","v":0.90868889604222969},{"$f":"IF($BG36<BJ$1,0,IF($BG36-BJ$1>計算!$B$26,BJ$66,($BG36-BJ$1)/計算!$B$26*BJ$66))","v":-0.15970956504964062},{"$f":"IF($BG36<BK$1,0,IF($BG36-BK$1>計算!$B$26,BK$66,($BG36-BK$1)/計算!$B$26*BK$66))","v":-0.21551880103922261},{"$f":"IF($BG36<BL$1,0,IF($BG36-BL$1>計算!$B$26,BL$66,($BG36-BL$1)/計算!$B$26*BL$66))","v":-3.6979193377590036E-2},{"$f":"IF($BG36<BM$1,0,IF($BG36-BM$1>計算!$B$26,BM$66,($BG36-BM$1)/計算!$B$26*BM$66))","v":8.5539846253473106E-2},{"$f":"IF($BG36<BN$1,0,IF($BG36-BN$1>計算!$B$26,BN$66,($BG36-BN$1)/計算!$B$26*BN$66))","v":-3.7976275570530404E-2},{"$f":"IF($BG36<BO$1,0,IF($BG36-BO$1>計算!$B$26,BO$66,($BG36-BO$1)/計算!$B$26*BO$66))","v":6.2162268050736214E-2},{"$f":"IF($BG36<BP$1,0,IF($BG36-BP$1>計算!$B$26,BP$66,($BG36-BP$1)/計算!$B$26*BP$66))","v":0.15755812631518906},{"$f":"IF($BG36<BQ$1,0,IF($BG36-BQ$1>計算!$B$26,BQ$66,($BG36-BQ$1)/計算!$B$26*BQ$66))","v":-1.203930779011364E-2},{"$f":"IF($BG36<BR$1,0,IF($BG36-BR$1>計算!$B$26,BR$66,($BG36-BR$1)/計算!$B$26*BR$66))","v":-6.422251715804006E-2},{"$f":"IF($BG36<BS$1,0,IF($BG36-BS$1>計算!$B$26,BS$66,($BG36-BS$1)/計算!$B$26*BS$66))","v":8.0523326838670695E-3},{"$f":"IF($BG36<BT$1,0,IF($BG36-BT$1>計算!$B$26,BT$66,($BG36-BT$1)/計算!$B$26*BT$66))","v":-3.6435891205029275E-3},{"$f":"IF($BG36<BU$1,0,IF($BG36-BU$1>計算!$B$26,BU$66,($BG36-BU$1)/計算!$B$26*BU$66))","v":1.4438557551243219E-2},{"$f":"IF($BG36<BV$1,0,IF($BG36-BV$1>計算!$B$26,BV$66,($BG36-BV$1)/計算!$B$26*BV$66))","v":-1.0119092007008937E-3},{"$f":"IF($BG36<BW$1,0,IF($BG36-BW$1>計算!$B$26,BW$66,($BG36-BW$1)/計算!$B$26*BW$66))","v":-2.3009846245173105E-2},{"$f":"IF($BG36<BX$1,0,IF($BG36-BX$1>計算!$B$26,BX$66,($BG36-BX$1)/計算!$B$26*BX$66))","v":1.6722716253014561E-3},{"$f":"IF($BG36<BY$1,0,IF($BG36-BY$1>計算!$B$26,BY$66,($BG36-BY$1)/計算!$B$26*BY$66))","v":4.9313031196953705E-3},{"$f":"IF($BG36<BZ$1,0,IF($BG36-BZ$1>計算!$B$26,BZ$66,($BG36-BZ$1)/計算!$B$26*BZ$66))","v":-6.7807173207325741E-4},{"$f":"IF($BG36<CA$1,0,IF($BG36-CA$1>計算!$B$26,CA$66,($BG36-CA$1)/計算!$B$26*CA$66))","v":0},{"$f":"IF($BG36<CB$1,0,IF($BG36-CB$1>計算!$B$26,CB$66,($BG36-CB$1)/計算!$B$26*CB$66))","v":0},{"$f":"IF($BG36<CC$1,0,IF($BG36-CC$1>計算!$B$26,CC$66,($BG36-CC$1)/計算!$B$26*CC$66))","v":0},{"$f":"IF($BG36<CD$1,0,IF($BG36-CD$1>計算!$B$26,CD$66,($BG36-CD$1)/計算!$B$26*CD$66))","v":0},{"$f":"IF($BG36<CE$1,0,IF($BG36-CE$1>計算!$B$26,CE$66,($BG36-CE$1)/計算!$B$26*CE$66))","v":0},{"$f":"IF($BG36<CF$1,0,IF($BG36-CF$1>計算!$B$26,CF$66,($BG36-CF$1)/計算!$B$26*CF$66))","v":0},{"$f":"IF($BG36<CG$1,0,IF($BG36-CG$1>計算!$B$26,CG$66,($BG36-CG$1)/計算!$B$26*CG$66))","v":0},{"$f":"IF($BG36<CH$1,0,IF($BG36-CH$1>計算!$B$26,CH$66,($BG36-CH$1)/計算!$B$26*CH$66))","v":0},{"$f":"IF($BG36<CI$1,0,IF($BG36-CI$1>計算!$B$26,CI$66,($BG36-CI$1)/計算!$B$26*CI$66))","v":0},{"$f":"IF($BG36<CJ$1,0,IF($BG36-CJ$1>計算!$B$26,CJ$66,($BG36-CJ$1)/計算!$B$26*CJ$66))","v":0},{"$f":"IF($BG36<CK$1,0,IF($BG36-CK$1>計算!$B$26,CK$66,($BG36-CK$1)/計算!$B$26*CK$66))","v":0},1.6594527500458815E-2,-1.6594527500458815E-2]
[null,null,null,null,null,null,null,null,null,null,null,null,{"$f":"IF($L37<M$1,0,IF($L37-M$1>計算!$B$26,M$66,($L37-M$1)/計算!$B$26*M$66))","v":0.2983353312641418},{"$f":"IF($L37<N$1,0,IF($L37-N$1>計算!$B$26,N$66,($L37-N$1)/計算!$B$26*N$66))","v":-0.89890989052282899},{"$f":"IF($L37<O$1,0,IF($L37-O$1>計算!$B$26,O$66,($L37-O$1)/計算!$B$26*O$66))","v":-0.21184658990487348},{"$f":"IF($L37<P$1,0,IF($L37-P$1>計算!$B$26,P$66,($L37-P$1)/計算!$B$26*P$66))","v":0.63830901206403412},{"$f":"IF($L37<Q$1,0,IF($L37-Q$1>計算!$B$26,Q$66,($L37-Q$1)/計算!$B$26*Q$66))","v":-0.21374580605087579},{"$f":"IF($L37<R$1,0,IF($L37-R$1>計算!$B$26,R$66,($L37-R$1)/計算!$B$26*R$66))","v":0.58793831734057156},{"$f":"IF($L37<S$1,0,IF($L37-S$1>計算!$B$26,S$66,($L37-S$1)/計算!$B$26*S$66))","v":0.26628907306790472},{"$f":"IF($L37<T$1,0,IF($L37-T$1>計算!$B$26,T$66,($L37-T$1)/計算!$B$26*T$66))","v":-0.47320266231569752},{"$f":"IF($L37<U$1,0,IF($L37-U$1>計算!$B$26,U$66,($L37-U$1)/計算!$B$26*U$66))","v":6.0087511789762682E-2},{"$f":"IF($L37<V$1,0,IF($L37-V$1>計算!$B$26,V$66,($L37-V$1)/計算!$B$26*V$66))","v":-5.0825194033370491E-2},{"$f":"IF($L37<W$1,0,IF($L37-W$1>計算!$B$26,W$66,($L37-W$1)/計算!$B$26*W$66))","v":0.29158188812572483},{"$f":"IF($L37<X$1,0,IF($L37-X$1>計算!$B$26,X$66,($L37-X$1)/計算!$B$26*X$66))","v":-0.33635698393373026},{"$f":"IF($L37<Y$1,0,IF($L37-Y$1>計算!$B$26,Y$66,($L37-Y$1)/計算!$B$26*Y$66))","v":-0.23732384043519716},{"$f":"IF($L37<Z$1,0,IF($L37-Z$1>計算!$B$26,Z$66,($L37-Z$1)/計算!$B$26*Z$66))","v":0.3484351373522887},{"$f":"IF($L37<AA$1,0,IF($L37-AA$1>計算!$B$26,AA$66,($L37-AA$1)/計算!$B$26*AA$66))","v":-8.7213024267986938E-2},{"$f":"IF($L37<AB$1,0,IF($L37-AB$1>計算!$B$26,AB$66,($L37-AB$1)/計算!$B$26*AB$66))","v":5.6563654982872968E-3},{"$f":"IF($L37<AC$1,0,IF($L37-AC$1>計算!$B$26,AC$66,($L37-AC$1)/計算!$B$26*AC$66))","v":-6.9662335702761185E-4},{"$f":"IF($L37<AD$1,0,IF($L37-AD$1>計算!$B$26,AD$66,($L37-AD$1)/計算!$B$26*AD$66))","v":0},{"$f":"IF($L37<AE$1,0,IF($L37-AE$1>計算!$B$26,AE$66,($L37-AE$1)/計算!$B$26*AE$66))","v":0},{"$f":"IF($L37<AF$1,0,IF($L37-AF$1>計算!$B$26,AF$66,($L37-AF$1)/計算!$B$26*AF$66))","v":0},{"$f":"IF($L37<AG$1,0,IF($L37-AG$1>計算!$B$26,AG$66,($L37-AG$1)/計算!$B$26*AG$66))","v":0},{"$f":"IF($L37<AH$1,0,IF($L37-AH$1>計算!$B$26,AH$66,($L37-AH$1)/計算!$B$26*AH$66))","v":0},{"$f":"IF($L37<AI$1,0,IF($L37-AI$1>計算!$B$26,AI$66,($L37-AI$1)/計算!$B$26*AI$66))","v":0},{"$f":"IF($L37<AJ$1,0,IF($L37-AJ$1>計算!$B$26,AJ$66,($L37-AJ$1)/計算!$B$26*AJ$66))","v":0},{"$f":"IF($L37<AK$1,0,IF($L37-AK$1>計算!$B$26,AK$66,($L37-AK$1)/計算!$B$26*AK$66))","v":0},{"$f":"IF($L37<AL$1,0,IF($L37-AL$1>計算!$B$26,AL$66,($L37-AL$1)/計算!$B$26*AL$66))","v":0},{"$f":"IF($L37<AM$1,0,IF($L37-AM$1>計算!$B$26,AM$66,($L37-AM$1)/計算!$B$26*AM$66))","v":0},{"$f":"IF($L37<AN$1,0,IF($L37-AN$1>計算!$B$26,AN$66,($L37-AN$1)/計算!$B$26*AN$66))","v":0},{"$f":"IF($L37<AO$1,0,IF($L37-AO$1>計算!$B$26,AO$66,($L37-AO$1)/計算!$B$26*AO$66))","v":0},{"$f":"IF($L37<AP$1,0,IF($L37-AP$1>計算!$B$26,AP$66,($L37-AP$1)/計算!$B$26*AP$66))","v":0},{"$f":"IF($L37<AQ$1,0,IF($L37-AQ$1>計算!$B$26,AQ$66,($L37-AQ$1)/計算!$B$26*AQ$66))","v":0},{"$f":"IF($L37<AR$1,0,IF($L37-AR$1>計算!$B$26,AR$66,($L37-AR$1)/計算!$B$26*AR$66))","v":0},{"$f":"IF($L37<AS$1,0,IF($L37-AS$1>計算!$B$26,AS$66,($L37-AS$1)/計算!$B$26*AS$66))","v":0},{"$f":"IF($L37<AT$1,0,IF($L37-AT$1>計算!$B$26,AT$66,($L37-AT$1)/計算!$B$26*AT$66))","v":0},{"$f":"IF($L37<AU$1,0,IF($L37-AU$1>計算!$B$26,AU$66,($L37-AU$1)/計算!$B$26*AU$66))","v":0},{"$f":"IF($L37<AV$1,0,IF($L37-AV$1>計算!$B$26,AV$66,($L37-AV$1)/計算!$B$26*AV$66))","v":0},-1.3487978318872527E-2,1.3487978318872527E-2,null,null,null,null,null,null,null,null,null,{"$f":"IF($BG37<BH$1,0,IF($BG37-BH$1>計算!$B$26,BH$66,($BG37-BH$1)/計算!$B$26*BH$66))","v":-0.67165999785768882},{"$f":"IF($BG37<BI$1,0,IF($BG37-BI$1>計算!$B$26,BI$66,($BG37-BI$1)/計算!$B$26*BI$66))","v":0.90868889604222969},{"$f":"IF($BG37<BJ$1,0,IF($BG37-BJ$1>計算!$B$26,BJ$66,($BG37-BJ$1)/計算!$B$26*BJ$66))","v":-0.15970956504964062},{"$f":"IF($BG37<BK$1,0,IF($BG37-BK$1>計算!$B$26,BK$66,($BG37-BK$1)/計算!$B$26*BK$66))","v":-0.21551880103922261},{"$f":"IF($BG37<BL$1,0,IF($BG37-BL$1>計算!$B$26,BL$66,($BG37-BL$1)/計算!$B$26*BL$66))","v":-3.6979193377590036E-2},{"$f":"IF($BG37<BM$1,0,IF($BG37-BM$1>計算!$B$26,BM$66,($BG37-BM$1)/計算!$B$26*BM$66))","v":8.5539846253473106E-2},{"$f":"IF($BG37<BN$1,0,IF($BG37-BN$1>計算!$B$26,BN$66,($BG37-BN$1)/計算!$B$26*BN$66))","v":-3.7976275570530404E-2},{"$f":"IF($BG37<BO$1,0,IF($BG37-BO$1>計算!$B$26,BO$66,($BG37-BO$1)/計算!$B$26*BO$66))","v":6.2162268050736214E-2},{"$f":"IF($BG37<BP$1,0,IF($BG37-BP$1>計算!$B$26,BP$66,($BG37-BP$1)/計算!$B$26*BP$66))","v":0.15755812631518906},{"$f":"IF($BG37<BQ$1,0,IF($BG37-BQ$1>計算!$B$26,BQ$66,($BG37-BQ$1)/計算!$B$26*BQ$66))","v":-1.203930779011364E-2},{"$f":"IF($BG37<BR$1,0,IF($BG37-BR$1>計算!$B$26,BR$66,($BG37-BR$1)/計算!$B$26*BR$66))","v":-6.422251715804006E-2},{"$f":"IF($BG37<BS$1,0,IF($BG37-BS$1>計算!$B$26,BS$66,($BG37-BS$1)/計算!$B$26*BS$66))","v":8.0523326838670695E-3},{"$f":"IF($BG37<BT$1,0,IF($BG37-BT$1>計算!$B$26,BT$66,($BG37-BT$1)/計算!$B$26*BT$66))","v":-9.0301260651520776E-3},{"$f":"IF($BG37<BU$1,0,IF($BG37-BU$1>計算!$B$26,BU$66,($BG37-BU$1)/計算!$B$26*BU$66))","v":3.9341521132410635E-2},{"$f":"IF($BG37<BV$1,0,IF($BG37-BV$1>計算!$B$26,BV$66,($BG37-BV$1)/計算!$B$26*BV$66))","v":-3.1062628409230229E-3},{"$f":"IF($BG37<BW$1,0,IF($BG37-BW$1>計算!$B$26,BW$66,($BG37-BW$1)/計算!$B$26*BW$66))","v":-8.2539341593113782E-2},{"$f":"IF($BG37<BX$1,0,IF($BG37-BX$1>計算!$B$26,BX$66,($BG37-BX$1)/計算!$B$26*BX$66))","v":7.4407868298020366E-3},{"$f":"IF($BG37<BY$1,0,IF($BG37-BY$1>計算!$B$26,BY$66,($BG37-BY$1)/計算!$B$26*BY$66))","v":3.0447161243673238E-2},{"$f":"IF($BG37<BZ$1,0,IF($BG37-BZ$1>計算!$B$26,BZ$66,($BG37-BZ$1)/計算!$B$26*BZ$66))","v":-7.6951143650274322E-3},{"$f":"IF($BG37<CA$1,0,IF($BG37-CA$1>計算!$B$26,CA$66,($BG37-CA$1)/計算!$B$26*CA$66))","v":4.5215878444192768E-4},{"$f":"IF($BG37<CB$1,0,IF($BG37-CB$1>計算!$B$26,CB$66,($BG37-CB$1)/計算!$B$26*CB$66))","v":0},{"$f":"IF($BG37<CC$1,0,IF($BG37-CC$1>計算!$B$26,CC$66,($BG37-CC$1)/計算!$B$26*CC$66))","v":0},{"$f":"IF($BG37<CD$1,0,IF($BG37-CD$1>計算!$B$26,CD$66,($BG37-CD$1)/計算!$B$26*CD$66))","v":0},{"$f":"IF($BG37<CE$1,0,IF($BG37-CE$1>計算!$B$26,CE$66,($BG37-CE$1)/計算!$B$26*CE$66))","v":0},{"$f":"IF($BG37<CF$1,0,IF($BG37-CF$1>計算!$B$26,CF$66,($BG37-CF$1)/計算!$B$26*CF$66))","v":0},{"$f":"IF($BG37<CG$1,0,IF($BG37-CG$1>計算!$B$26,CG$66,($BG37-CG$1)/計算!$B$26*CG$66))","v":0},{"$f":"IF($BG37<CH$1,0,IF($BG37-CH$1>計算!$B$26,CH$66,($BG37-CH$1)/計算!$B$26*CH$66))","v":0},{"$f":"IF($BG37<CI$1,0,IF($BG37-CI$1>計算!$B$26,CI$66,($BG37-CI$1)/計算!$B$26*CI$66))","v":0},{"$f":"IF($BG37<CJ$1,0,IF($BG37-CJ$1>計算!$B$26,CJ$66,($BG37-CJ$1)/計算!$B$26*CJ$66))","v":0},{"$f":"IF($BG37<CK$1,0,IF($BG37-CK$1>計算!$B$26,CK$66,($BG37-CK$1)/計算!$B$26*CK$66))","v":0},-7.9340537121952675E-4,7.9340537121952675E-4]
[null,null,null,null,null,null,null,null,null,null,null,null,{"$f":"IF($L38<M$1,0,IF($L38-M$1>計算!$B$26,M$66,($L38-M$1)/計算!$B$26*M$66))","v":0.2983353312641418},{"$f":"IF($L38<N$1,0,IF($L38-N$1>計算!$B$26,N$66,($L38-N$1)/計算!$B$26*N$66))","v":-0.89890989052282899},{"$f":"IF($L38<O$1,0,IF($L38-O$1>計算!$B$26,O$66,($L38-O$1)/計算!$B$26*O$66))","v":-0.21184658990487348},{"$f":"IF($L38<P$1,0,IF($L38-P$1>計算!$B$26,P$66,($L38-P$1)/計算!$B$26*P$66))","v":0.63830901206403412},{"$f":"IF($L38<Q$1,0,IF($L38-Q$1>計算!$B$26,Q$66,($L38-Q$1)/計算!$B$26*Q$66))","v":-0.21374580605087579},{"$f":"IF($L38<R$1,0,IF($L38-R$1>計算!$B$26,R$66,($L38-R$1)/計算!$B$26*R$66))","v":0.58793831734057156},{"$f":"IF($L38<S$1,0,IF($L38-S$1>計算!$B$26,S$66,($L38-S$1)/計算!$B$26*S$66))","v":0.26628907306790472},{"$f":"IF($L38<T$1,0,IF($L38-T$1>計算!$B$26,T$66,($L38-T$1)/計算!$B$26*T$66))","v":-0.47320266231569752},{"$f":"IF($L38<U$1,0,IF($L38-U$1>計算!$B$26,U$66,($L38-U$1)/計算!$B$26*U$66))","v":6.0087511789762682E-2},{"$f":"IF($L38<V$1,0,IF($L38-V$1>計算!$B$26,V$66,($L38-V$1)/計算!$B$26*V$66))","v":-5.0825194033370491E-2},{"$f":"IF($L38<W$1,0,IF($L38-W$1>計算!$B$26,W$66,($L38-W$1)/計算!$B$26*W$66))","v":0.29158188812572483},{"$f":"IF($L38<X$1,0,IF($L38-X$1>計算!$B$26,X$66,($L38-X$1)/計算!$B$26*X$66))","v":-0.33635698393373026},{"$f":"IF($L38<Y$1,0,IF($L38-Y$1>計算!$B$26,Y$66,($L38-Y$1)/計算!$B$26*Y$66))","v":-0.23732384043519716},{"$f":"IF($L38<Z$1,0,IF($L38-Z$1>計算!$B$26,Z$66,($L38-Z$1)/計算!$B$26*Z$66))","v":0.3484351373522887},{"$f":"IF($L38<AA$1,0,IF($L38-AA$1>計算!$B$26,AA$66,($L38-AA$1)/計算!$B$26*AA$66))","v":-8.7213024267986938E-2},{"$f":"IF($L38<AB$1,0,IF($L38-AB$1>計算!$B$26,AB$66,($L38-AB$1)/計算!$B$26*AB$66))","v":5.6563654982872968E-3},{"$f":"IF($L38<AC$1,0,IF($L38-AC$1>計算!$B$26,AC$66,($L38-AC$1)/計算!$B$26*AC$66))","v":-1.3932467140552237E-3},{"$f":"IF($L38<AD$1,0,IF($L38-AD$1>計算!$B$26,AD$66,($L38-AD$1)/計算!$B$26*AD$66))","v":6.0768328448411743E-3},{"$f":"IF($L38<AE$1,0,IF($L38-AE$1>計算!$B$26,AE$66,($L38-AE$1)/計算!$B$26*AE$66))","v":0},{"$f":"IF($L38<AF$1,0,IF($L38-AF$1>計算!$B$26,AF$66,($L38-AF$1)/計算!$B$26*AF$66))","v":0},{"$f":"IF($L38<AG$1,0,IF($L38-AG$1>計算!$B$26,AG$66,($L38-AG$1)/計算!$B$26*AG$66))","v":0},{"$f":"IF($L38<AH$1,0,IF($L38-AH$1>計算!$B$26,AH$66,($L38-AH$1)/計算!$B$26*AH$66))","v":0},{"$f":"IF($L38<AI$1,0,IF($L38-AI$1>計算!$B$26,AI$66,($L38-AI$1)/計算!$B$26*AI$66))","v":0},{"$f":"IF($L38<AJ$1,0,IF($L38-AJ$1>計算!$B$26,AJ$66,($L38-AJ$1)/計算!$B$26*AJ$66))","v":0},{"$f":"IF($L38<AK$1,0,IF($L38-AK$1>計算!$B$26,AK$66,($L38-AK$1)/計算!$B$26*AK$66))","v":0},{"$f":"IF($L38<AL$1,0,IF($L38-AL$1>計算!$B$26,AL$66,($L38-AL$1)/計算!$B$26*AL$66))","v":0},{"$f":"IF($L38<AM$1,0,IF($L38-AM$1>計算!$B$26,AM$66,($L38-AM$1)/計算!$B$26*AM$66))","v":0},{"$f":"IF($L38<AN$1,0,IF($L38-AN$1>計算!$B$26,AN$66,($L38-AN$1)/計算!$B$26*AN$66))","v":0},{"$f":"IF($L38<AO$1,0,IF($L38-AO$1>計算!$B$26,AO$66,($L38-AO$1)/計算!$B$26*AO$66))","v":0},{"$f":"IF($L38<AP$1,0,IF($L38-AP$1>計算!$B$26,AP$66,($L38-AP$1)/計算!$B$26*AP$66))","v":0},{"$f":"IF($L38<AQ$1,0,IF($L38-AQ$1>計算!$B$26,AQ$66,($L38-AQ$1)/計算!$B$26*AQ$66))","v":0},{"$f":"IF($L38<AR$1,0,IF($L38-AR$1>計算!$B$26,AR$66,($L38-AR$1)/計算!$B$26*AR$66))","v":0},{"$f":"IF($L38<AS$1,0,IF($L38-AS$1>計算!$B$26,AS$66,($L38-AS$1)/計算!$B$26*AS$66))","v":0},{"$f":"IF($L38<AT$1,0,IF($L38-AT$1>計算!$B$26,AT$66,($L38-AT$1)/計算!$B$26*AT$66))","v":0},{"$f":"IF($L38<AU$1,0,IF($L38-AU$1>計算!$B$26,AU$66,($L38-AU$1)/計算!$B$26*AU$66))","v":0},{"$f":"IF($L38<AV$1,0,IF($L38-AV$1>計算!$B$26,AV$66,($L38-AV$1)/計算!$B$26*AV$66))","v":0},-8.1077688310589625E-3,8.1077688310589625E-3,null,null,null,null,null,null,null,null,null,{"$f":"IF($BG38<BH$1,0,IF($BG38-BH$1>計算!$B$26,BH$66,($BG38-BH$1)/計算!$B$26*BH$66))","v":-0.67165999785768882},{"$f":"IF($BG38<BI$1,0,IF($BG38-BI$1>計算!$B$26,BI$66,($BG38-BI$1)/計算!$B$26*BI$66))","v":0.90868889604222969},{"$f":"IF($BG38<BJ$1,0,IF($BG38-BJ$1>計算!$B$26,BJ$66,($BG38-BJ$1)/計算!$B$26*BJ$66))","v":-0.15970956504964062},{"$f":"IF($BG38<BK$1,0,IF($BG38-BK$1>計算!$B$26,BK$66,($BG38-BK$1)/計算!$B$26*BK$66))","v":-0.21551880103922261},{"$f":"IF($BG38<BL$1,0,IF($BG38-BL$1>計算!$B$26,BL$66,($BG38-BL$1)/計算!$B$26*BL$66))","v":-3.6979193377590036E-2},{"$f":"IF($BG38<BM$1,0,IF($BG38-BM$1>計算!$B$26,BM$66,($BG38-BM$1)/計算!$B$26*BM$66))","v":8.5539846253473106E-2},{"$f":"IF($BG38<BN$1,0,IF($BG38-BN$1>計算!$B$26,BN$66,($BG38-BN$1)/計算!$B$26*BN$66))","v":-3.7976275570530404E-2},{"$f":"IF($BG38<BO$1,0,IF($BG38-BO$1>計算!$B$26,BO$66,($BG38-BO$1)/計算!$B$26*BO$66))","v":6.2162268050736214E-2},{"$f":"IF($BG38<BP$1,0,IF($BG38-BP$1>計算!$B$26,BP$66,($BG38-BP$1)/計算!$B$26*BP$66))","v":0.15755812631518906},{"$f":"IF($BG38<BQ$1,0,IF($BG38-BQ$1>計算!$B$26,BQ$66,($BG38-BQ$1)/計算!$B$26*BQ$66))","v":-1.203930779011364E-2},{"$f":"IF($BG38<BR$1,0,IF($BG38-BR$1>計算!$B$26,BR$66,($BG38-BR$1)/計算!$B$26*BR$66))","v":-6.422251715804006E-2},{"$f":"IF($BG38<BS$1,0,IF($BG38-BS$1>計算!$B$26,BS$66,($BG38-BS$1)/計算!$B$26*BS$66))","v":8.0523326838670695E-3},{"$f":"IF($BG38<BT$1,0,IF($BG38-BT$1>計算!$B$26,BT$66,($BG38-BT$1)/計算!$B$26*BT$66))","v":-9.0301260651520776E-3},{"$f":"IF($BG38<BU$1,0,IF($BG38-BU$1>計算!$B$26,BU$66,($BG38-BU$1)/計算!$B$26*BU$66))","v":4.1747936536487673E-2},{"$f":"IF($BG38<BV$1,0,IF($BG38-BV$1>計算!$B$26,BV$66,($BG38-BV$1)/計算!$B$26*BV$66))","v":-3.3086447512837135E-3},{"$f":"IF($BG38<BW$1,0,IF($BG38-BW$1>計算!$B$26,BW$66,($BG38-BW$1)/計算!$B$26*BW$66))","v":-8.829180515034106E-2},{"$f":"IF($BG38<BX$1,0,IF($BG38-BX$1>計算!$B$26,BX$66,($BG38-BX$1)/計算!$B$26*BX$66))","v":7.9982108983121178E-3},{"$f":"IF($BG38<BY$1,0,IF($BG38-BY$1>計算!$B$26,BY$66,($BG38-BY$1)/計算!$B$26*BY$66))","v":3.2912813659029073E-2},{"$f":"IF($BG38<BZ$1,0,IF($BG38-BZ$1>計算!$B$26,BZ$66,($BG38-BZ$1)/計算!$B$26*BZ$66))","v":-8.3731863323715221E-3},{"$f":"IF($BG38<CA$1,0,IF($BG38-CA$1>計算!$B$26,CA$66,($BG38-CA$1)/計算!$B$26*CA$66))","v":4.9585186321539571E-4},{"$f":"IF($BG38<CB$1,0,IF($BG38-CB$1>計算!$B$26,CB$66,($BG38-CB$1)/計算!$B$26*CB$66))","v":0},{"$f":"IF($BG38<CC$1,0,IF($BG38-CC$1>計算!$B$26,CC$66,($BG38-CC$1)/計算!$B$26*CC$66))","v":0},{"$f":"IF($BG38<CD$1,0,IF($BG38-CD$1>計算!$B$26,CD$66,($BG38-CD$1)/計算!$B$26*CD$66))","v":0},{"$f":"IF($BG38<CE$1,0,IF($BG38-CE$1>計算!$B$26,CE$66,($BG38-CE$1)/計算!$B$26*CE$66))","v":0},{"$f":"IF($BG38<CF$1,0,IF($BG38-CF$1>計算!$B$26,CF$66,($BG38-CF$1)/計算!$B$26*CF$66))","v":0},{"$f":"IF($BG38<CG$1,0,IF($BG38-CG$1>計算!$B$26,CG$66,($BG38-CG$1)/計算!$B$26*CG$66))","v":0},{"$f":"IF($BG38<CH$1,0,IF($BG38-CH$1>計算!$B$26,CH$66,($BG38-CH$1)/計算!$B$26*CH$66))","v":0},{"$f":"IF($BG38<CI$1,0,IF($BG38-CI$1>計算!$B$26,CI$66,($BG38-CI$1)/計算!$B$26*CI$66))","v":0},{"$f":"IF($BG38<CJ$1,0,IF($BG38-CJ$1>計算!$B$26,CJ$66,($BG38-CJ$1)/計算!$B$26*CJ$66))","v":0},{"$f":"IF($BG38<CK$1,0,IF($BG38-CK$1>計算!$B$26,CK$66,($BG38-CK$1)/計算!$B$26*CK$66))","v":0},-1.9531378394351639E-3,1.9531378394351639E-3]
[null,null,null,null,null,null,null,null,null,null,null,null,{"$f":"IF($L39<M$1,0,IF($L39-M$1>計算!$B$26,M$66,($L39-M$1)/計算!$B$26*M$66))","v":0.2983353312641418},{"$f":"IF($L39<N$1,0,IF($L39-N$1>計算!$B$26,N$66,($L39-N$1)/計算!$B$26*N$66))","v":-0.89890989052282899},{"$f":"IF($L39<O$1,0,IF($L39-O$1>計算!$B$26,O$66,($L39-O$1)/計算!$B$26*O$66))","v":-0.21184658990487348},{"$f":"IF($L39<P$1,0,IF($L39-P$1>計算!$B$26,P$66,($L39-P$1)/計算!$B$26*P$66))","v":0.63830901206403412},{"$f":"IF($L39<Q$1,0,IF($L39-Q$1>計算!$B$26,Q$66,($L39-Q$1)/計算!$B$26*Q$66))","v":-0.21374580605087579},{"$f":"IF($L39<R$1,0,IF($L39-R$1>計算!$B$26,R$66,($L39-R$1)/計算!$B$26*R$66))","v":0.58793831734057156},{"$f":"IF($L39<S$1,0,IF($L39-S$1>計算!$B$26,S$66,($L39-S$1)/計算!$B$26*S$66))","v":0.26628907306790472},{"$f":"IF($L39<T$1,0,IF($L39-T$1>計算!$B$26,T$66,($L39-T$1)/計算!$B$26*T$66))","v":-0.47320266231569752},{"$f":"IF($L39<U$1,0,IF($L39-U$1>計算!$B$26,U$66,($L39-U$1)/計算!$B$26*U$66))","v":6.0087511789762682E-2},{"$f":"IF($L39<V$1,0,IF($L39-V$1>計算!$B$26,V$66,($L39-V$1)/計算!$B$26*V$66))","v":-5.0825194033370491E-2},{"$f":"IF($L39<W$1,0,IF($L39-W$1>計算!$B$26,W$66,($L39-W$1)/計算!$B$26*W$66))","v":0.29158188812572483},{"$f":"IF($L39<X$1,0,IF($L39-X$1>計算!$B$26,X$66,($L39-X$1)/計算!$B$26*X$66))","v":-0.33635698393373026},{"$f":"IF($L39<Y$1,0,IF($L39-Y$1>計算!$B$26,Y$66,($L39-Y$1)/計算!$B$26*Y$66))","v":-0.23732384043519716},{"$f":"IF($L39<Z$1,0,IF($L39-Z$1>計算!$B$26,Z$66,($L39-Z$1)/計算!$B$26*Z$66))","v":0.3484351373522887},{"$f":"IF($L39<AA$1,0,IF($L39-AA$1>計算!$B$26,AA$66,($L39-AA$1)/計算!$B$26*AA$66))","v":-8.7213024267986938E-2},{"$f":"IF($L39<AB$1,0,IF($L39-AB$1>計算!$B$26,AB$66,($L39-AB$1)/計算!$B$26*AB$66))","v":5.6563654982872968E-3},{"$f":"IF($L39<AC$1,0,IF($L39-AC$1>計算!$B$26,AC$66,($L39-AC$1)/計算!$B$26*AC$66))","v":-2.0898700710828355E-3},{"$f":"IF($L39<AD$1,0,IF($L39-AD$1>計算!$B$26,AD$66,($L39-AD$1)/計算!$B$26*AD$66))","v":1.2153665689682349E-2},{"$f":"IF($L39<AE$1,0,IF($L39-AE$1>計算!$B$26,AE$66,($L39-AE$1)/計算!$B$26*AE$66))","v":-1.6300794383892505E-2},{"$f":"IF($L39<AF$1,0,IF($L39-AF$1>計算!$B$26,AF$66,($L39-AF$1)/計算!$B$26*AF$66))","v":0},{"$f":"IF($L39<AG$1,0,IF($L39-AG$1>計算!$B$26,AG$66,($L39-AG$1)/計算!$B$26*AG$66))","v":0},{"$f":"IF($L39<AH$1,0,IF($L39-AH$1>計算!$B$26,AH$66,($L39-AH$1)/計算!$B$26*AH$66))","v":0},{"$f":"IF($L39<AI$1,0,IF($L39-AI$1>計算!$B$26,AI$66,($L39-AI$1)/計算!$B$26*AI$66))","v":0},{"$f":"IF($L39<AJ$1,0,IF($L39-AJ$1>計算!$B$26,AJ$66,($L39-AJ$1)/計算!$B$26*AJ$66))","v":0},{"$f":"IF($L39<AK$1,0,IF($L39-AK$1>計算!$B$26,AK$66,($L39-AK$1)/計算!$B$26*AK$66))","v":0},{"$f":"IF($L39<AL$1,0,IF($L39-AL$1>計算!$B$26,AL$66,($L39-AL$1)/計算!$B$26*AL$66))","v":0},{"$f":"IF($L39<AM$1,0,IF($L39-AM$1>計算!$B$26,AM$66,($L39-AM$1)/計算!$B$26*AM$66))","v":0},{"$f":"IF($L39<AN$1,0,IF($L39-AN$1>計算!$B$26,AN$66,($L39-AN$1)/計算!$B$26*AN$66))","v":0},{"$f":"IF($L39<AO$1,0,IF($L39-AO$1>計算!$B$26,AO$66,($L39-AO$1)/計算!$B$26*AO$66))","v":0},{"$f":"IF($L39<AP$1,0,IF($L39-AP$1>計算!$B$26,AP$66,($L39-AP$1)/計算!$B$26*AP$66))","v":0},{"$f":"IF($L39<AQ$1,0,IF($L39-AQ$1>計算!$B$26,AQ$66,($L39-AQ$1)/計算!$B$26*AQ$66))","v":0},{"$f":"IF($L39<AR$1,0,IF($L39-AR$1>計算!$B$26,AR$66,($L39-AR$1)/計算!$B$26*AR$66))","v":0},{"$f":"IF($L39<AS$1,0,IF($L39-AS$1>計算!$B$26,AS$66,($L39-AS$1)/計算!$B$26*AS$66))","v":0},{"$f":"IF($L39<AT$1,0,IF($L39-AT$1>計算!$B$26,AT$66,($L39-AT$1)/計算!$B$26*AT$66))","v":0},{"$f":"IF($L39<AU$1,0,IF($L39-AU$1>計算!$B$26,AU$66,($L39-AU$1)/計算!$B$26*AU$66))","v":0},{"$f":"IF($L39<AV$1,0,IF($L39-AV$1>計算!$B$26,AV$66,($L39-AV$1)/計算!$B$26*AV$66))","v":0},-1.9028353727137903E-2,1.9028353727137903E-2,null,null,null,null,null,null,null,null,null,{"$f":"IF($BG39<BH$1,0,IF($BG39-BH$1>計算!$B$26,BH$66,($BG39-BH$1)/計算!$B$26*BH$66))","v":-0.67165999785768882},{"$f":"IF($BG39<BI$1,0,IF($BG39-BI$1>計算!$B$26,BI$66,($BG39-BI$1)/計算!$B$26*BI$66))","v":0.90868889604222969},{"$f":"IF($BG39<BJ$1,0,IF($BG39-BJ$1>計算!$B$26,BJ$66,($BG39-BJ$1)/計算!$B$26*BJ$66))","v":-0.15970956504964062},{"$f":"IF($BG39<BK$1,0,IF($BG39-BK$1>計算!$B$26,BK$66,($BG39-BK$1)/計算!$B$26*BK$66))","v":-0.21551880103922261},{"$f":"IF($BG39<BL$1,0,IF($BG39-BL$1>計算!$B$26,BL$66,($BG39-BL$1)/計算!$B$26*BL$66))","v":-3.6979193377590036E-2},{"$f":"IF($BG39<BM$1,0,IF($BG39-BM$1>計算!$B$26,BM$66,($BG39-BM$1)/計算!$B$26*BM$66))","v":8.5539846253473106E-2},{"$f":"IF($BG39<BN$1,0,IF($BG39-BN$1>計算!$B$26,BN$66,($BG39-BN$1)/計算!$B$26*BN$66))","v":-3.7976275570530404E-2},{"$f":"IF($BG39<BO$1,0,IF($BG39-BO$1>計算!$B$26,BO$66,($BG39-BO$1)/計算!$B$26*BO$66))","v":6.2162268050736214E-2},{"$f":"IF($BG39<BP$1,0,IF($BG39-BP$1>計算!$B$26,BP$66,($BG39-BP$1)/計算!$B$26*BP$66))","v":0.15755812631518906},{"$f":"IF($BG39<BQ$1,0,IF($BG39-BQ$1>計算!$B$26,BQ$66,($BG39-BQ$1)/計算!$B$26*BQ$66))","v":-1.203930779011364E-2},{"$f":"IF($BG39<BR$1,0,IF($BG39-BR$1>計算!$B$26,BR$66,($BG39-BR$1)/計算!$B$26*BR$66))","v":-6.422251715804006E-2},{"$f":"IF($BG39<BS$1,0,IF($BG39-BS$1>計算!$B$26,BS$66,($BG39-BS$1)/計算!$B$26*BS$66))","v":8.0523326838670695E-3},{"$f":"IF($BG39<BT$1,0,IF($BG39-BT$1>計算!$B$26,BT$66,($BG39-BT$1)/計算!$B$26*BT$66))","v":-9.0301260651520776E-3},{"$f":"IF($BG39<BU$1,0,IF($BG39-BU$1>計算!$B$26,BU$66,($BG39-BU$1)/計算!$B$26*BU$66))","v":4.1747936536487673E-2},{"$f":"IF($BG39<BV$1,0,IF($BG39-BV$1>計算!$B$26,BV$66,($BG39-BV$1)/計算!$B$26*BV$66))","v":-3.5110256083367153E-3},{"$f":"IF($BG39<BW$1,0,IF($BG39-BW$1>計算!$B$26,BW$66,($BG39-BW$1)/計算!$B$26*BW$66))","v":-9.4044268707568143E-2},{"$f":"IF($BG39<BX$1,0,IF($BG39-BX$1>計算!$B$26,BX$66,($BG39-BX$1)/計算!$B$26*BX$66))","v":8.5556349668221808E-3},{"$f":"IF($BG39<BY$1,0,IF($BG39-BY$1>計算!$B$26,BY$66,($BG39-BY$1)/計算!$B$26*BY$66))","v":3.5378466074384836E-2},{"$f":"IF($BG39<BZ$1,0,IF($BG39-BZ$1>計算!$B$26,BZ$66,($BG39-BZ$1)/計算!$B$26*BZ$66))","v":-9.0512582997155904E-3},{"$f":"IF($BG39<CA$1,0,IF($BG39-CA$1>計算!$B$26,CA$66,($BG39-CA$1)/計算!$B$26*CA$66))","v":5.3954494198886233E-4},{"$f":"IF($BG39<CB$1,0,IF($BG39-CB$1>計算!$B$26,CB$66,($BG39-CB$1)/計算!$B$26*CB$66))","v":0},{"$f":"IF($BG39<CC$1,0,IF($BG39-CC$1>計算!$B$26,CC$66,($BG39-CC$1)/計算!$B$26*CC$66))","v":0},{"$f":"IF($BG39<CD$1,0,IF($BG39-CD$1>計算!$B$26,CD$66,($BG39-CD$1)/計算!$B$26*CD$66))","v":0},{"$f":"IF($BG39<CE$1,0,IF($BG39-CE$1>計算!$B$26,CE$66,($BG39-CE$1)/計算!$B$26*CE$66))","v":0},{"$f":"IF($BG39<CF$1,0,IF($BG39-CF$1>計算!$B$26,CF$66,($BG39-CF$1)/計算!$B$26*CF$66))","v":0},{"$f":"IF($BG39<CG$1,0,IF($BG39-CG$1>計算!$B$26,CG$66,($BG39-CG$1)/計算!$B$26*CG$66))","v":0},{"$f":"IF($BG39<CH$1,0,IF($BG39-CH$1>計算!$B$26,CH$66,($BG39-CH$1)/計算!$B$26*CH$66))","v":0},{"$f":"IF($BG39<CI$1,0,IF($BG39-CI$1>計算!$B$26,CI$66,($BG39-CI$1)/計算!$B$26*CI$66))","v":0},{"$f":"IF($BG39<CJ$1,0,IF($BG39-CJ$1>計算!$B$26,CJ$66,($BG39-CJ$1)/計算!$B$26*CJ$66))","v":0},{"$f":"IF($BG39<CK$1,0,IF($BG39-CK$1>計算!$B$26,CK$66,($BG39-CK$1)/計算!$B$26*CK$66))","v":0},-5.5192846584200201E-3,5.5192846584200201E-3]
[null,null,null,null,null,null,null,null,null,null,null,null,{"$f":"IF($L40<M$1,0,IF($L40-M$1>計算!$B$26,M$66,($L40-M$1)/計算!$B$26*M$66))","v":0.2983353312641418},{"$f":"IF($L40<N$1,0,IF($L40-N$1>計算!$B$26,N$66,($L40-N$1)/計算!$B$26*N$66))","v":-0.89890989052282899},{"$f":"IF($L40<O$1,0,IF($L40-O$1>計算!$B$26,O$66,($L40-O$1)/計算!$B$26*O$66))","v":-0.21184658990487348},{"$f":"IF($L40<P$1,0,IF($L40-P$1>計算!$B$26,P$66,($L40-P$1)/計算!$B$26*P$66))","v":0.63830901206403412},{"$f":"IF($L40<Q$1,0,IF($L40-Q$1>計算!$B$26,Q$66,($L40-Q$1)/計算!$B$26*Q$66))","v":-0.21374580605087579},{"$f":"IF($L40<R$1,0,IF($L40-R$1>計算!$B$26,R$66,($L40-R$1)/計算!$B$26*R$66))","v":0.58793831734057156},{"$f":"IF($L40<S$1,0,IF($L40-S$1>計算!$B$26,S$66,($L40-S$1)/計算!$B$26*S$66))","v":0.26628907306790472},{"$f":"IF($L40<T$1,0,IF($L40-T$1>計算!$B$26,T$66,($L40-T$1)/計算!$B$26*T$66))","v":-0.47320266231569752},{"$f":"IF($L40<U$1,0,IF($L40-U$1>計算!$B$26,U$66,($L40-U$1)/計算!$B$26*U$66))","v":6.0087511789762682E-2},{"$f":"IF($L40<V$1,0,IF($L40-V$1>計算!$B$26,V$66,($L40-V$1)/計算!$B$26*V$66))","v":-5.0825194033370491E-2},{"$f":"IF($L40<W$1,0,IF($L40-W$1>計算!$B$26,W$66,($L40-W$1)/計算!$B$26*W$66))","v":0.29158188812572483},{"$f":"IF($L40<X$1,0,IF($L40-X$1>計算!$B$26,X$66,($L40-X$1)/計算!$B$26*X$66))","v":-0.33635698393373026},{"$f":"IF($L40<Y$1,0,IF($L40-Y$1>計算!$B$26,Y$66,($L40-Y$1)/計算!$B$26*Y$66))","v":-0.23732384043519716},{"$f":"IF($L40<Z$1,0,IF($L40-Z$1>計算!$B$26,Z$66,($L40-Z$1)/計算!$B$26*Z$66))","v":0.3484351373522887},{"$f":"IF($L40<AA$1,0,IF($L40-AA$1>計算!$B$26,AA$66,($L40-AA$1)/計算!$B$26*AA$66))","v":-8.7213024267986938E-2},{"$f":"IF($L40<AB$1,0,IF($L40-AB$1>計算!$B$26,AB$66,($L40-AB$1)/計算!$B$26*AB$66))","v":5.6563654982872968E-3},{"$f":"IF($L40<AC$1,0,IF($L40-AC$1>計算!$B$26,AC$66,($L40-AC$1)/計算!$B$26*AC$66))","v":-2.7864934281104474E-3},{"$f":"IF($L40<AD$1,0,IF($L40-AD$1>計算!$B$26,AD$66,($L40-AD$1)/計算!$B$26*AD$66))","v":1.8230498534523524E-2},{"$f":"IF($L40<AE$1,0,IF($L40-AE$1>計算!$B$26,AE$66,($L40-AE$1)/計算!$B$26*AE$66))","v":-3.260158876778501E-2},{"$f":"IF($L40<AF$1,0,IF($L40-AF$1>計算!$B$26,AF$66,($L40-AF$1)/計算!$B$26*AF$66))","v":1.0666554472509221E-2},{"$f":"IF($L40<AG$1,0,IF($L40-AG$1>計算!$B$26,AG$66,($L40-AG$1)/計算!$B$26*AG$66))","v":0},{"$f":"IF($L40<AH$1,0,IF($L40-AH$1>計算!$B$26,AH$66,($L40-AH$1)/計算!$B$26*AH$66))","v":0},{"$f":"IF($L40<AI$1,0,IF($L40-AI$1>計算!$B$26,AI$66,($L40-AI$1)/計算!$B$26*AI$66))","v":0},{"$f":"IF($L40<AJ$1,0,IF($L40-AJ$1>計算!$B$26,AJ$66,($L40-AJ$1)/計算!$B$26*AJ$66))","v":0},{"$f":"IF($L40<AK$1,0,IF($L40-AK$1>計算!$B$26,AK$66,($L40-AK$1)/計算!$B$26*AK$66))","v":0},{"$f":"IF($L40<AL$1,0,IF($L40-AL$1>計算!$B$26,AL$66,($L40-AL$1)/計算!$B$26*AL$66))","v":0},{"$f":"IF($L40<AM$1,0,IF($L40-AM$1>計算!$B$26,AM$66,($L40-AM$1)/計算!$B$26*AM$66))","v":0},{"$f":"IF($L40<AN$1,0,IF($L40-AN$1>計算!$B$26,AN$66,($L40-AN$1)/計算!$B$26*AN$66))","v":0},{"$f":"IF($L40<AO$1,0,IF($L40-AO$1>計算!$B$26,AO$66,($L40-AO$1)/計算!$B$26*AO$66))","v":0},{"$f":"IF($L40<AP$1,0,IF($L40-AP$1>計算!$B$26,AP$66,($L40-AP$1)/計算!$B$26*AP$66))","v":0},{"$f":"IF($L40<AQ$1,0,IF($L40-AQ$1>計算!$B$26,AQ$66,($L40-AQ$1)/計算!$B$26*AQ$66))","v":0},{"$f":"IF($L40<AR$1,0,IF($L40-AR$1>計算!$B$26,AR$66,($L40-AR$1)/計算!$B$26*AR$66))","v":0},{"$f":"IF($L40<AS$1,0,IF($L40-AS$1>計算!$B$26,AS$66,($L40-AS$1)/計算!$B$26*AS$66))","v":0},{"$f":"IF($L40<AT$1,0,IF($L40-AT$1>計算!$B$26,AT$66,($L40-AT$1)/計算!$B$26*AT$66))","v":0},{"$f":"IF($L40<AU$1,0,IF($L40-AU$1>計算!$B$26,AU$66,($L40-AU$1)/計算!$B$26*AU$66))","v":0},{"$f":"IF($L40<AV$1,0,IF($L40-AV$1>計算!$B$26,AV$66,($L40-AV$1)/計算!$B$26*AV$66))","v":0},-1.9282384150707627E-2,1.9282384150707627E-2,null,null,null,null,null,null,null,null,null,{"$f":"IF($BG40<BH$1,0,IF($BG40-BH$1>計算!$B$26,BH$66,($BG40-BH$1)/計算!$B$26*BH$66))","v":-0.67165999785768882},{"$f":"IF($BG40<BI$1,0,IF($BG40-BI$1>計算!$B$26,BI$66,($BG40-BI$1)/計算!$B$26*BI$66))","v":0.90868889604222969},{"$f":"IF($BG40<BJ$1,0,IF($BG40-BJ$1>計算!$B$26,BJ$66,($BG40-BJ$1)/計算!$B$26*BJ$66))","v":-0.15970956504964062},{"$f":"IF($BG40<BK$1,0,IF($BG40-BK$1>計算!$B$26,BK$66,($BG40-BK$1)/計算!$B$26*BK$66))","v":-0.21551880103922261},{"$f":"IF($BG40<BL$1,0,IF($BG40-BL$1>計算!$B$26,BL$66,($BG40-BL$1)/計算!$B$26*BL$66))","v":-3.6979193377590036E-2},{"$f":"IF($BG40<BM$1,0,IF($BG40-BM$1>計算!$B$26,BM$66,($BG40-BM$1)/計算!$B$26*BM$66))","v":8.5539846253473106E-2},{"$f":"IF($BG40<BN$1,0,IF($BG40-BN$1>計算!$B$26,BN$66,($BG40-BN$1)/計算!$B$26*BN$66))","v":-3.7976275570530404E-2},{"$f":"IF($BG40<BO$1,0,IF($BG40-BO$1>計算!$B$26,BO$66,($BG40-BO$1)/計算!$B$26*BO$66))","v":6.2162268050736214E-2},{"$f":"IF($BG40<BP$1,0,IF($BG40-BP$1>計算!$B$26,BP$66,($BG40-BP$1)/計算!$B$26*BP$66))","v":0.15755812631518906},{"$f":"IF($BG40<BQ$1,0,IF($BG40-BQ$1>計算!$B$26,BQ$66,($BG40-BQ$1)/計算!$B$26*BQ$66))","v":-1.203930779011364E-2},{"$f":"IF($BG40<BR$1,0,IF($BG40-BR$1>計算!$B$26,BR$66,($BG40-BR$1)/計算!$B$26*BR$66))","v":-6.422251715804006E-2},{"$f":"IF($BG40<BS$1,0,IF($BG40-BS$1>計算!$B$26,BS$66,($BG40-BS$1)/計算!$B$26*BS$66))","v":8.0523326838670695E-3},{"$f":"IF($BG40<BT$1,0,IF($BG40-BT$1>計算!$B$26,BT$66,($BG40-BT$1)/計算!$B$26*BT$66))","v":-9.0301260651520776E-3},{"$f":"IF($BG40<BU$1,0,IF($BG40-BU$1>計算!$B$26,BU$66,($BG40-BU$1)/計算!$B$26*BU$66))","v":4.1747936536487673E-2},{"$f":"IF($BG40<BV$1,0,IF($BG40-BV$1>計算!$B$26,BV$66,($BG40-BV$1)/計算!$B$26*BV$66))","v":-3.5110256083367153E-3},{"$f":"IF($BG40<BW$1,0,IF($BG40-BW$1>計算!$B$26,BW$66,($BG40-BW$1)/計算!$B$26*BW$66))","v":-9.9796700329851329E-2},{"$f":"IF($BG40<BX$1,0,IF($BG40-BX$1>計算!$B$26,BX$66,($BG40-BX$1)/計算!$B$26*BX$66))","v":9.1130590353322612E-3},{"$f":"IF($BG40<BY$1,0,IF($BG40-BY$1>計算!$B$26,BY$66,($BG40-BY$1)/計算!$B$26*BY$66))","v":3.7844118489740675E-2},{"$f":"IF($BG40<BZ$1,0,IF($BG40-BZ$1>計算!$B$26,BZ$66,($BG40-BZ$1)/計算!$B$26*BZ$66))","v":-9.7293302670596812E-3},{"$f":"IF($BG40<CA$1,0,IF($BG40-CA$1>計算!$B$26,CA$66,($BG40-CA$1)/計算!$B$26*CA$66))","v":5.8323802076233036E-4},{"$f":"IF($BG40<CB$1,0,IF($BG40-CB$1>計算!$B$26,CB$66,($BG40-CB$1)/計算!$B$26*CB$66))","v":0},{"$f":"IF($BG40<CC$1,0,IF($BG40-CC$1>計算!$B$26,CC$66,($BG40-CC$1)/計算!$B$26*CC$66))","v":0},{"$f":"IF($BG40<CD$1,0,IF($BG40-CD$1>計算!$B$26,CD$66,($BG40-CD$1)/計算!$B$26*CD$66))","v":0},{"$f":"IF($BG40<CE$1,0,IF($BG40-CE$1>計算!$B$26,CE$66,($BG40-CE$1)/計算!$B$26*CE$66))","v":0},{"$f":"IF($BG40<CF$1,0,IF($BG40-CF$1>計算!$B$26,CF$66,($BG40-CF$1)/計算!$B$26*CF$66))","v":0},{"$f":"IF($BG40<CG$1,0,IF($BG40-CG$1>計算!$B$26,CG$66,($BG40-CG$1)/計算!$B$26*CG$66))","v":0},{"$f":"IF($BG40<CH$1,0,IF($BG40-CH$1>計算!$B$26,CH$66,($BG40-CH$1)/計算!$B$26*CH$66))","v":0},{"$f":"IF($BG40<CI$1,0,IF($BG40-CI$1>計算!$B$26,CI$66,($BG40-CI$1)/計算!$B$26*CI$66))","v":0},{"$f":"IF($BG40<CJ$1,0,IF($BG40-CJ$1>計算!$B$26,CJ$66,($BG40-CJ$1)/計算!$B$26*CJ$66))","v":0},{"$f":"IF($BG40<CK$1,0,IF($BG40-CK$1>計算!$B$26,CK$66,($BG40-CK$1)/計算!$B$26*CK$66))","v":0},-8.8830186854079157E-3,8.8830186854079157E-3]
[null,null,null,null,null,null,null,null,null,null,null,null,{"$f":"IF($L41<M$1,0,IF($L41-M$1>計算!$B$26,M$66,($L41-M$1)/計算!$B$26*M$66))","v":0.2983353312641418},{"$f":"IF($L41<N$1,0,IF($L41-N$1>計算!$B$26,N$66,($L41-N$1)/計算!$B$26*N$66))","v":-0.89890989052282899},{"$f":"IF($L41<O$1,0,IF($L41-O$1>計算!$B$26,O$66,($L41-O$1)/計算!$B$26*O$66))","v":-0.21184658990487348},{"$f":"IF($L41<P$1,0,IF($L41-P$1>計算!$B$26,P$66,($L41-P$1)/計算!$B$26*P$66))","v":0.63830901206403412},{"$f":"IF($L41<Q$1,0,IF($L41-Q$1>計算!$B$26,Q$66,($L41-Q$1)/計算!$B$26*Q$66))","v":-0.21374580605087579},{"$f":"IF($L41<R$1,0,IF($L41-R$1>計算!$B$26,R$66,($L41-R$1)/計算!$B$26*R$66))","v":0.58793831734057156},{"$f":"IF($L41<S$1,0,IF($L41-S$1>計算!$B$26,S$66,($L41-S$1)/計算!$B$26*S$66))","v":0.26628907306790472},{"$f":"IF($L41<T$1,0,IF($L41-T$1>計算!$B$26,T$66,($L41-T$1)/計算!$B$26*T$66))","v":-0.47320266231569752},{"$f":"IF($L41<U$1,0,IF($L41-U$1>計算!$B$26,U$66,($L41-U$1)/計算!$B$26*U$66))","v":6.0087511789762682E-2},{"$f":"IF($L41<V$1,0,IF($L41-V$1>計算!$B$26,V$66,($L41-V$1)/計算!$B$26*V$66))","v":-5.0825194033370491E-2},{"$f":"IF($L41<W$1,0,IF($L41-W$1>計算!$B$26,W$66,($L41-W$1)/計算!$B$26*W$66))","v":0.29158188812572483},{"$f":"IF($L41<X$1,0,IF($L41-X$1>計算!$B$26,X$66,($L41-X$1)/計算!$B$26*X$66))","v":-0.33635698393373026},{"$f":"IF($L41<Y$1,0,IF($L41-Y$1>計算!$B$26,Y$66,($L41-Y$1)/計算!$B$26*Y$66))","v":-0.23732384043519716},{"$f":"IF($L41<Z$1,0,IF($L41-Z$1>計算!$B$26,Z$66,($L41-Z$1)/計算!$B$26*Z$66))","v":0.3484351373522887},{"$f":"IF($L41<AA$1,0,IF($L41-AA$1>計算!$B$26,AA$66,($L41-AA$1)/計算!$B$26*AA$66))","v":-8.7213024267986938E-2},{"$f":"IF($L41<AB$1,0,IF($L41-AB$1>計算!$B$26,AB$66,($L41-AB$1)/計算!$B$26*AB$66))","v":5.6563654982872968E-3},{"$f":"IF($L41<AC$1,0,IF($L41-AC$1>計算!$B$26,AC$66,($L41-AC$1)/計算!$B$26*AC$66))","v":-3.4831167851380592E-3},{"$f":"IF($L41<AD$1,0,IF($L41-AD$1>計算!$B$26,AD$66,($L41-AD$1)/計算!$B$26*AD$66))","v":2.4307331379364697E-2},{"$f":"IF($L41<AE$1,0,IF($L41-AE$1>計算!$B$26,AE$66,($L41-AE$1)/計算!$B$26*AE$66))","v":-4.8902383151677518E-2},{"$f":"IF($L41<AF$1,0,IF($L41-AF$1>計算!$B$26,AF$66,($L41-AF$1)/計算!$B$26*AF$66))","v":2.1333108945018442E-2},{"$f":"IF($L41<AG$1,0,IF($L41-AG$1>計算!$B$26,AG$66,($L41-AG$1)/計算!$B$26*AG$66))","v":1.2016768799040099E-2},{"$f":"IF($L41<AH$1,0,IF($L41-AH$1>計算!$B$26,AH$66,($L41-AH$1)/計算!$B$26*AH$66))","v":0},{"$f":"IF($L41<AI$1,0,IF($L41-AI$1>計算!$B$26,AI$66,($L41-AI$1)/計算!$B$26*AI$66))","v":0},{"$f":"IF($L41<AJ$1,0,IF($L41-AJ$1>計算!$B$26,AJ$66,($L41-AJ$1)/計算!$B$26*AJ$66))","v":0},{"$f":"IF($L41<AK$1,0,IF($L41-AK$1>計算!$B$26,AK$66,($L41-AK$1)/計算!$B$26*AK$66))","v":0},{"$f":"IF($L41<AL$1,0,IF($L41-AL$1>計算!$B$26,AL$66,($L41-AL$1)/計算!$B$26*AL$66))","v":0},{"$f":"IF($L41<AM$1,0,IF($L41-AM$1>計算!$B$26,AM$66,($L41-AM$1)/計算!$B$26*AM$66))","v":0},{"$f":"IF($L41<AN$1,0,IF($L41-AN$1>計算!$B$26,AN$66,($L41-AN$1)/計算!$B$26*AN$66))","v":0},{"$f":"IF($L41<AO$1,0,IF($L41-AO$1>計算!$B$26,AO$66,($L41-AO$1)/計算!$B$26*AO$66))","v":0},{"$f":"IF($L41<AP$1,0,IF($L41-AP$1>計算!$B$26,AP$66,($L41-AP$1)/計算!$B$26*AP$66))","v":0},{"$f":"IF($L41<AQ$1,0,IF($L41-AQ$1>計算!$B$26,AQ$66,($L41-AQ$1)/計算!$B$26*AQ$66))","v":0},{"$f":"IF($L41<AR$1,0,IF($L41-AR$1>計算!$B$26,AR$66,($L41-AR$1)/計算!$B$26*AR$66))","v":0},{"$f":"IF($L41<AS$1,0,IF($L41-AS$1>計算!$B$26,AS$66,($L41-AS$1)/計算!$B$26*AS$66))","v":0},{"$f":"IF($L41<AT$1,0,IF($L41-AT$1>計算!$B$26,AT$66,($L41-AT$1)/計算!$B$26*AT$66))","v":0},{"$f":"IF($L41<AU$1,0,IF($L41-AU$1>計算!$B$26,AU$66,($L41-AU$1)/計算!$B$26*AU$66))","v":0},{"$f":"IF($L41<AV$1,0,IF($L41-AV$1>計算!$B$26,AV$66,($L41-AV$1)/計算!$B$26*AV$66))","v":0},-7.5196457752372513E-3,7.5196457752372513E-3,null,null,null,null,null,null,null,null,null,{"$f":"IF($BG41<BH$1,0,IF($BG41-BH$1>計算!$B$26,BH$66,($BG41-BH$1)/計算!$B$26*BH$66))","v":-0.67165999785768882},{"$f":"IF($BG41<BI$1,0,IF($BG41-BI$1>計算!$B$26,BI$66,($BG41-BI$1)/計算!$B$26*BI$66))","v":0.90868889604222969},{"$f":"IF($BG41<BJ$1,0,IF($BG41-BJ$1>計算!$B$26,BJ$66,($BG41-BJ$1)/計算!$B$26*BJ$66))","v":-0.15970956504964062},{"$f":"IF($BG41<BK$1,0,IF($BG41-BK$1>計算!$B$26,BK$66,($BG41-BK$1)/計算!$B$26*BK$66))","v":-0.21551880103922261},{"$f":"IF($BG41<BL$1,0,IF($BG41-BL$1>計算!$B$26,BL$66,($BG41-BL$1)/計算!$B$26*BL$66))","v":-3.6979193377590036E-2},{"$f":"IF($BG41<BM$1,0,IF($BG41-BM$1>計算!$B$26,BM$66,($BG41-BM$1)/計算!$B$26*BM$66))","v":8.5539846253473106E-2},{"$f":"IF($BG41<BN$1,0,IF($BG41-BN$1>計算!$B$26,BN$66,($BG41-BN$1)/計算!$B$26*BN$66))","v":-3.7976275570530404E-2},{"$f":"IF($BG41<BO$1,0,IF($BG41-BO$1>計算!$B$26,BO$66,($BG41-BO$1)/計算!$B$26*BO$66))","v":6.2162268050736214E-2},{"$f":"IF($BG41<BP$1,0,IF($BG41-BP$1>計算!$B$26,BP$66,($BG41-BP$1)/計算!$B$26*BP$66))","v":0.15755812631518906},{"$f":"IF($BG41<BQ$1,0,IF($BG41-BQ$1>計算!$B$26,BQ$66,($BG41-BQ$1)/計算!$B$26*BQ$66))","v":-1.203930779011364E-2},{"$f":"IF($BG41<BR$1,0,IF($BG41-BR$1>計算!$B$26,BR$66,($BG41-BR$1)/計算!$B$26*BR$66))","v":-6.422251715804006E-2},{"$f":"IF($BG41<BS$1,0,IF($BG41-BS$1>計算!$B$26,BS$66,($BG41-BS$1)/計算!$B$26*BS$66))","v":8.0523326838670695E-3},{"$f":"IF($BG41<BT$1,0,IF($BG41-BT$1>計算!$B$26,BT$66,($BG41-BT$1)/計算!$B$26*BT$66))","v":-9.0301260651520776E-3},{"$f":"IF($BG41<BU$1,0,IF($BG41-BU$1>計算!$B$26,BU$66,($BG41-BU$1)/計算!$B$26*BU$66))","v":4.1747936536487673E-2},{"$f":"IF($BG41<BV$1,0,IF($BG41-BV$1>計算!$B$26,BV$66,($BG41-BV$1)/計算!$B$26*BV$66))","v":-3.5110256083367153E-3},{"$f":"IF($BG41<BW$1,0,IF($BG41-BW$1>計算!$B$26,BW$66,($BG41-BW$1)/計算!$B$26*BW$66))","v":-9.9796700329851329E-2},{"$f":"IF($BG41<BX$1,0,IF($BG41-BX$1>計算!$B$26,BX$66,($BG41-BX$1)/計算!$B$26*BX$66))","v":9.6704798158792071E-3},{"$f":"IF($BG41<BY$1,0,IF($BG41-BY$1>計算!$B$26,BY$66,($BG41-BY$1)/計算!$B$26*BY$66))","v":4.0309770905096513E-2},{"$f":"IF($BG41<BZ$1,0,IF($BG41-BZ$1>計算!$B$26,BZ$66,($BG41-BZ$1)/計算!$B$26*BZ$66))","v":-1.040740223440377E-2},{"$f":"IF($BG41<CA$1,0,IF($BG41-CA$1>計算!$B$26,CA$66,($BG41-CA$1)/計算!$B$26*CA$66))","v":6.2693109953579839E-4},{"$f":"IF($BG41<CB$1,0,IF($BG41-CB$1>計算!$B$26,CB$66,($BG41-CB$1)/計算!$B$26*CB$66))","v":0},{"$f":"IF($BG41<CC$1,0,IF($BG41-CC$1>計算!$B$26,CC$66,($BG41-CC$1)/計算!$B$26*CC$66))","v":0},{"$f":"IF($BG41<CD$1,0,IF($BG41-CD$1>計算!$B$26,CD$66,($BG41-CD$1)/計算!$B$26*CD$66))","v":0},{"$f":"IF($BG41<CE$1,0,IF($BG41-CE$1>計算!$B$26,CE$66,($BG41-CE$1)/計算!$B$26*CE$66))","v":0},{"$f":"IF($BG41<CF$1,0,IF($BG41-CF$1>計算!$B$26,CF$66,($BG41-CF$1)/計算!$B$26*CF$66))","v":0},{"$f":"IF($BG41<CG$1,0,IF($BG41-CG$1>計算!$B$26,CG$66,($BG41-CG$1)/計算!$B$26*CG$66))","v":0},{"$f":"IF($BG41<CH$1,0,IF($BG41-CH$1>計算!$B$26,CH$66,($BG41-CH$1)/計算!$B$26*CH$66))","v":0},{"$f":"IF($BG41<CI$1,0,IF($BG41-CI$1>計算!$B$26,CI$66,($BG41-CI$1)/計算!$B$26*CI$66))","v":0},{"$f":"IF($BG41<CJ$1,0,IF($BG41-CJ$1>計算!$B$26,CJ$66,($BG41-CJ$1)/計算!$B$26*CJ$66))","v":0},{"$f":"IF($BG41<CK$1,0,IF($BG41-CK$1>計算!$B$26,CK$66,($BG41-CK$1)/計算!$B$26*CK$66))","v":0},-6.4943243780757488E-3,6.4943243780757488E-3]
[null,null,null,null,null,null,null,null,null,null,null,null,{"$f":"IF($L42<M$1,0,IF($L42-M$1>計算!$B$26,M$66,($L42-M$1)/計算!$B$26*M$66))","v":0.2983353312641418},{"$f":"IF($L42<N$1,0,IF($L42-N$1>計算!$B$26,N$66,($L42-N$1)/計算!$B$26*N$66))","v":-0.89890989052282899},{"$f":"IF($L42<O$1,0,IF($L42-O$1>計算!$B$26,O$66,($L42-O$1)/計算!$B$26*O$66))","v":-0.21184658990487348},{"$f":"IF($L42<P$1,0,IF($L42-P$1>計算!$B$26,P$66,($L42-P$1)/計算!$B$26*P$66))","v":0.63830901206403412},{"$f":"IF($L42<Q$1,0,IF($L42-Q$1>計算!$B$26,Q$66,($L42-Q$1)/計算!$B$26*Q$66))","v":-0.21374580605087579},{"$f":"IF($L42<R$1,0,IF($L42-R$1>計算!$B$26,R$66,($L42-R$1)/計算!$B$26*R$66))","v":0.58793831734057156},{"$f":"IF($L42<S$1,0,IF($L42-S$1>計算!$B$26,S$66,($L42-S$1)/計算!$B$26*S$66))","v":0.26628907306790472},{"$f":"IF($L42<T$1,0,IF($L42-T$1>計算!$B$26,T$66,($L42-T$1)/計算!$B$26*T$66))","v":-0.47320266231569752},{"$f":"IF($L42<U$1,0,IF($L42-U$1>計算!$B$26,U$66,($L42-U$1)/計算!$B$26*U$66))","v":6.0087511789762682E-2},{"$f":"IF($L42<V$1,0,IF($L42-V$1>計算!$B$26,V$66,($L42-V$1)/計算!$B$26*V$66))","v":-5.0825194033370491E-2},{"$f":"IF($L42<W$1,0,IF($L42-W$1>計算!$B$26,W$66,($L42-W$1)/計算!$B$26*W$66))","v":0.29158188812572483},{"$f":"IF($L42<X$1,0,IF($L42-X$1>計算!$B$26,X$66,($L42-X$1)/計算!$B$26*X$66))","v":-0.33635698393373026},{"$f":"IF($L42<Y$1,0,IF($L42-Y$1>計算!$B$26,Y$66,($L42-Y$1)/計算!$B$26*Y$66))","v":-0.23732384043519716},{"$f":"IF($L42<Z$1,0,IF($L42-Z$1>計算!$B$26,Z$66,($L42-Z$1)/計算!$B$26*Z$66))","v":0.3484351373522887},{"$f":"IF($L42<AA$1,0,IF($L42-AA$1>計算!$B$26,AA$66,($L42-AA$1)/計算!$B$26*AA$66))","v":-8.7213024267986938E-2},{"$f":"IF($L42<AB$1,0,IF($L42-AB$1>計算!$B$26,AB$66,($L42-AB$1)/計算!$B$26*AB$66))","v":5.6563654982872968E-3},{"$f":"IF($L42<AC$1,0,IF($L42-AC$1>計算!$B$26,AC$66,($L42-AC$1)/計算!$B$26*AC$66))","v":-4.1797401421656711E-3},{"$f":"IF($L42<AD$1,0,IF($L42-AD$1>計算!$B$26,AD$66,($L42-AD$1)/計算!$B$26*AD$66))","v":3.0384164224205871E-2},{"$f":"IF($L42<AE$1,0,IF($L42-AE$1>計算!$B$26,AE$66,($L42-AE$1)/計算!$B$26*AE$66))","v":-6.520317753557002E-2},{"$f":"IF($L42<AF$1,0,IF($L42-AF$1>計算!$B$26,AF$66,($L42-AF$1)/計算!$B$26*AF$66))","v":3.1999663417527663E-2},{"$f":"IF($L42<AG$1,0,IF($L42-AG$1>計算!$B$26,AG$66,($L42-AG$1)/計算!$B$26*AG$66))","v":2.4033537598080197E-2},{"$f":"IF($L42<AH$1,0,IF($L42-AH$1>計算!$B$26,AH$66,($L42-AH$1)/計算!$B$26*AH$66))","v":-1.5593820152940538E-2},{"$f":"IF($L42<AI$1,0,IF($L42-AI$1>計算!$B$26,AI$66,($L42-AI$1)/計算!$B$26*AI$66))","v":0},{"$f":"IF($L42<AJ$1,0,IF($L42-AJ$1>計算!$B$26,AJ$66,($L42-AJ$1)/計算!$B$26*AJ$66))","v":0},{"$f":"IF($L42<AK$1,0,IF($L42-AK$1>計算!$B$26,AK$66,($L42-AK$1)/計算!$B$26*AK$66))","v":0},{"$f":"IF($L42<AL$1,0,IF($L42-AL$1>計算!$B$26,AL$66,($L42-AL$1)/計算!$B$26*AL$66))","v":0},{"$f":"IF($L42<AM$1,0,IF($L42-AM$1>計算!$B$26,AM$66,($L42-AM$1)/計算!$B$26*AM$66))","v":0},{"$f":"IF($L42<AN$1,0,IF($L42-AN$1>計算!$B$26,AN$66,($L42-AN$1)/計算!$B$26*AN$66))","v":0},{"$f":"IF($L42<AO$1,0,IF($L42-AO$1>計算!$B$26,AO$66,($L42-AO$1)/計算!$B$26*AO$66))","v":0},{"$f":"IF($L42<AP$1,0,IF($L42-AP$1>計算!$B$26,AP$66,($L42-AP$1)/計算!$B$26*AP$66))","v":0},{"$f":"IF($L42<AQ$1,0,IF($L42-AQ$1>計算!$B$26,AQ$66,($L42-AQ$1)/計算!$B$26*AQ$66))","v":0},{"$f":"IF($L42<AR$1,0,IF($L42-AR$1>計算!$B$26,AR$66,($L42-AR$1)/計算!$B$26*AR$66))","v":0},{"$f":"IF($L42<AS$1,0,IF($L42-AS$1>計算!$B$26,AS$66,($L42-AS$1)/計算!$B$26*AS$66))","v":0},{"$f":"IF($L42<AT$1,0,IF($L42-AT$1>計算!$B$26,AT$66,($L42-AT$1)/計算!$B$26*AT$66))","v":0},{"$f":"IF($L42<AU$1,0,IF($L42-AU$1>計算!$B$26,AU$66,($L42-AU$1)/計算!$B$26*AU$66))","v":0},{"$f":"IF($L42<AV$1,0,IF($L42-AV$1>計算!$B$26,AV$66,($L42-AV$1)/計算!$B$26*AV$66))","v":0},-1.1350727552707414E-2,1.1350727552707414E-2,null,null,null,null,null,null,null,null,null,{"$f":"IF($BG42<BH$1,0,IF($BG42-BH$1>計算!$B$26,BH$66,($BG42-BH$1)/計算!$B$26*BH$66))","v":-0.67165999785768882},{"$f":"IF($BG42<BI$1,0,IF($BG42-BI$1>計算!$B$26,BI$66,($BG42-BI$1)/計算!$B$26*BI$66))","v":0.90868889604222969},{"$f":"IF($BG42<BJ$1,0,IF($BG42-BJ$1>計算!$B$26,BJ$66,($BG42-BJ$1)/計算!$B$26*BJ$66))","v":-0.15970956504964062},{"$f":"IF($BG42<BK$1,0,IF($BG42-BK$1>計算!$B$26,BK$66,($BG42-BK$1)/計算!$B$26*BK$66))","v":-0.21551880103922261},{"$f":"IF($BG42<BL$1,0,IF($BG42-BL$1>計算!$B$26,BL$66,($BG42-BL$1)/計算!$B$26*BL$66))","v":-3.6979193377590036E-2},{"$f":"IF($BG42<BM$1,0,IF($BG42-BM$1>計算!$B$26,BM$66,($BG42-BM$1)/計算!$B$26*BM$66))","v":8.5539846253473106E-2},{"$f":"IF($BG42<BN$1,0,IF($BG42-BN$1>計算!$B$26,BN$66,($BG42-BN$1)/計算!$B$26*BN$66))","v":-3.7976275570530404E-2},{"$f":"IF($BG42<BO$1,0,IF($BG42-BO$1>計算!$B$26,BO$66,($BG42-BO$1)/計算!$B$26*BO$66))","v":6.2162268050736214E-2},{"$f":"IF($BG42<BP$1,0,IF($BG42-BP$1>計算!$B$26,BP$66,($BG42-BP$1)/計算!$B$26*BP$66))","v":0.15755812631518906},{"$f":"IF($BG42<BQ$1,0,IF($BG42-BQ$1>計算!$B$26,BQ$66,($BG42-BQ$1)/計算!$B$26*BQ$66))","v":-1.203930779011364E-2},{"$f":"IF($BG42<BR$1,0,IF($BG42-BR$1>計算!$B$26,BR$66,($BG42-BR$1)/計算!$B$26*BR$66))","v":-6.422251715804006E-2},{"$f":"IF($BG42<BS$1,0,IF($BG42-BS$1>計算!$B$26,BS$66,($BG42-BS$1)/計算!$B$26*BS$66))","v":8.0523326838670695E-3},{"$f":"IF($BG42<BT$1,0,IF($BG42-BT$1>計算!$B$26,BT$66,($BG42-BT$1)/計算!$B$26*BT$66))","v":-9.0301260651520776E-3},{"$f":"IF($BG42<BU$1,0,IF($BG42-BU$1>計算!$B$26,BU$66,($BG42-BU$1)/計算!$B$26*BU$66))","v":4.1747936536487673E-2},{"$f":"IF($BG42<BV$1,0,IF($BG42-BV$1>計算!$B$26,BV$66,($BG42-BV$1)/計算!$B$26*BV$66))","v":-3.5110256083367153E-3},{"$f":"IF($BG42<BW$1,0,IF($BG42-BW$1>計算!$B$26,BW$66,($BG42-BW$1)/計算!$B$26*BW$66))","v":-9.9796700329851329E-2},{"$f":"IF($BG42<BX$1,0,IF($BG42-BX$1>計算!$B$26,BX$66,($BG42-BX$1)/計算!$B$26*BX$66))","v":9.6704798158792071E-3},{"$f":"IF($BG42<BY$1,0,IF($BG42-BY$1>計算!$B$26,BY$66,($BG42-BY$1)/計算!$B$26*BY$66))","v":4.2775407921305519E-2},{"$f":"IF($BG42<BZ$1,0,IF($BG42-BZ$1>計算!$B$26,BZ$66,($BG42-BZ$1)/計算!$B$26*BZ$66))","v":-1.1085474201747861E-2},{"$f":"IF($BG42<CA$1,0,IF($BG42-CA$1>計算!$B$26,CA$66,($BG42-CA$1)/計算!$B$26*CA$66))","v":6.7062417830926642E-4},{"$f":"IF($BG42<CB$1,0,IF($BG42-CB$1>計算!$B$26,CB$66,($BG42-CB$1)/計算!$B$26*CB$66))","v":0},{"$f":"IF($BG42<CC$1,0,IF($BG42-CC$1>計算!$B$26,CC$66,($BG42-CC$1)/計算!$B$26*CC$66))","v":0},{"$f":"IF($BG42<CD$1,0,IF($BG42-CD$1>計算!$B$26,CD$66,($BG42-CD$1)/計算!$B$26*CD$66))","v":0},{"$f":"IF($BG42<CE$1,0,IF($BG42-CE$1>計算!$B$26,CE$66,($BG42-CE$1)/計算!$B$26*CE$66))","v":0},{"$f":"IF($BG42<CF$1,0,IF($BG42-CF$1>計算!$B$26,CF$66,($BG42-CF$1)/計算!$B$26*CF$66))","v":0},{"$f":"IF($BG42<CG$1,0,IF($BG42-CG$1>計算!$B$26,CG$66,($BG42-CG$1)/計算!$B$26*CG$66))","v":0},{"$f":"IF($BG42<CH$1,0,IF($BG42-CH$1>計算!$B$26,CH$66,($BG42-CH$1)/計算!$B$26*CH$66))","v":0},{"$f":"IF($BG42<CI$1,0,IF($BG42-CI$1>計算!$B$26,CI$66,($BG42-CI$1)/計算!$B$26*CI$66))","v":0},{"$f":"IF($BG42<CJ$1,0,IF($BG42-CJ$1>計算!$B$26,CJ$66,($BG42-CJ$1)/計算!$B$26*CJ$66))","v":0},{"$f":"IF($BG42<CK$1,0,IF($BG42-CK$1>計算!$B$26,CK$66,($BG42-CK$1)/計算!$B$26*CK$66))","v":0},-4.6630662504373657E-3,4.6630662504373657E-3]
[null,null,null,null,null,null,null,null,null,null,null,null,{"$f":"IF($L43<M$1,0,IF($L43-M$1>計算!$B$26,M$66,($L43-M$1)/計算!$B$26*M$66))","v":0.2983353312641418},{"$f":"IF($L43<N$1,0,IF($L43-N$1>計算!$B$26,N$66,($L43-N$1)/計算!$B$26*N$66))","v":-0.89890989052282899},{"$f":"IF($L43<O$1,0,IF($L43-O$1>計算!$B$26,O$66,($L43-O$1)/計算!$B$26*O$66))","v":-0.21184658990487348},{"$f":"IF($L43<P$1,0,IF($L43-P$1>計算!$B$26,P$66,($L43-P$1)/計算!$B$26*P$66))","v":0.63830901206403412},{"$f":"IF($L43<Q$1,0,IF($L43-Q$1>計算!$B$26,Q$66,($L43-Q$1)/計算!$B$26*Q$66))","v":-0.21374580605087579},{"$f":"IF($L43<R$1,0,IF($L43-R$1>計算!$B$26,R$66,($L43-R$1)/計算!$B$26*R$66))","v":0.58793831734057156},{"$f":"IF($L43<S$1,0,IF($L43-S$1>計算!$B$26,S$66,($L43-S$1)/計算!$B$26*S$66))","v":0.26628907306790472},{"$f":"IF($L43<T$1,0,IF($L43-T$1>計算!$B$26,T$66,($L43-T$1)/計算!$B$26*T$66))","v":-0.47320266231569752},{"$f":"IF($L43<U$1,0,IF($L43-U$1>計算!$B$26,U$66,($L43-U$1)/計算!$B$26*U$66))","v":6.0087511789762682E-2},{"$f":"IF($L43<V$1,0,IF($L43-V$1>計算!$B$26,V$66,($L43-V$1)/計算!$B$26*V$66))","v":-5.0825194033370491E-2},{"$f":"IF($L43<W$1,0,IF($L43-W$1>計算!$B$26,W$66,($L43-W$1)/計算!$B$26*W$66))","v":0.29158188812572483},{"$f":"IF($L43<X$1,0,IF($L43-X$1>計算!$B$26,X$66,($L43-X$1)/計算!$B$26*X$66))","v":-0.33635698393373026},{"$f":"IF($L43<Y$1,0,IF($L43-Y$1>計算!$B$26,Y$66,($L43-Y$1)/計算!$B$26*Y$66))","v":-0.23732384043519716},{"$f":"IF($L43<Z$1,0,IF($L43-Z$1>計算!$B$26,Z$66,($L43-Z$1)/計算!$B$26*Z$66))","v":0.3484351373522887},{"$f":"IF($L43<AA$1,0,IF($L43-AA$1>計算!$B$26,AA$66,($L43-AA$1)/計算!$B$26*AA$66))","v":-8.7213024267986938E-2},{"$f":"IF($L43<AB$1,0,IF($L43-AB$1>計算!$B$26,AB$66,($L43-AB$1)/計算!$B$26*AB$66))","v":5.6563654982872968E-3},{"$f":"IF($L43<AC$1,0,IF($L43-AC$1>計算!$B$26,AC$66,($L43-AC$1)/計算!$B$26*AC$66))","v":-4.8763634991932613E-3},{"$f":"IF($L43<AD$1,0,IF($L43-AD$1>計算!$B$26,AD$66,($L43-AD$1)/計算!$B$26*AD$66))","v":3.646099706904686E-2},{"$f":"IF($L43<AE$1,0,IF($L43-AE$1>計算!$B$26,AE$66,($L43-AE$1)/計算!$B$26*AE$66))","v":-8.1503971919462029E-2},{"$f":"IF($L43<AF$1,0,IF($L43-AF$1>計算!$B$26,AF$66,($L43-AF$1)/計算!$B$26*AF$66))","v":4.2666217890036558E-2},{"$f":"IF($L43<AG$1,0,IF($L43-AG$1>計算!$B$26,AG$66,($L43-AG$1)/計算!$B$26*AG$66))","v":3.6050306397119924E-2},{"$f":"IF($L43<AH$1,0,IF($L43-AH$1>計算!$B$26,AH$66,($L43-AH$1)/計算!$B$26*AH$66))","v":-3.1187640305880598E-2},{"$f":"IF($L43<AI$1,0,IF($L43-AI$1>計算!$B$26,AI$66,($L43-AI$1)/計算!$B$26*AI$66))","v":5.3917422756224838E-3},{"$f":"IF($L43<AJ$1,0,IF($L43-AJ$1>計算!$B$26,AJ$66,($L43-AJ$1)/計算!$B$26*AJ$66))","v":0},{"$f":"IF($L43<AK$1,0,IF($L43-AK$1>計算!$B$26,AK$66,($L43-AK$1)/計算!$B$26*AK$66))","v":0},{"$f":"IF($L43<AL$1,0,IF($L43-AL$1>計算!$B$26,AL$66,($L43-AL$1)/計算!$B$26*AL$66))","v":0},{"$f":"IF($L43<AM$1,0,IF($L43-AM$1>計算!$B$26,AM$66,($L43-AM$1)/計算!$B$26*AM$66))","v":0},{"$f":"IF($L43<AN$1,0,IF($L43-AN$1>計算!$B$26,AN$66,($L43-AN$1)/計算!$B$26*AN$66))","v":0},{"$f":"IF($L43<AO$1,0,IF($L43-AO$1>計算!$B$26,AO$66,($L43-AO$1)/計算!$B$26*AO$66))","v":0},{"$f":"IF($L43<AP$1,0,IF($L43-AP$1>計算!$B$26,AP$66,($L43-AP$1)/計算!$B$26*AP$66))","v":0},{"$f":"IF($L43<AQ$1,0,IF($L43-AQ$1>計算!$B$26,AQ$66,($L43-AQ$1)/計算!$B$26*AQ$66))","v":0},{"$f":"IF($L43<AR$1,0,IF($L43-AR$1>計算!$B$26,AR$66,($L43-AR$1)/計算!$B$26*AR$66))","v":0},{"$f":"IF($L43<AS$1,0,IF($L43-AS$1>計算!$B$26,AS$66,($L43-AS$1)/計算!$B$26*AS$66))","v":0},{"$f":"IF($L43<AT$1,0,IF($L43-AT$1>計算!$B$26,AT$66,($L43-AT$1)/計算!$B$26*AT$66))","v":0},{"$f":"IF($L43<AU$1,0,IF($L43-AU$1>計算!$B$26,AU$66,($L43-AU$1)/計算!$B$26*AU$66))","v":0},{"$f":"IF($L43<AV$1,0,IF($L43-AV$1>計算!$B$26,AV$66,($L43-AV$1)/計算!$B$26*AV$66))","v":0},-9.7900670545549781E-3,9.7900670545549781E-3,null,null,null,null,null,null,null,null,null,{"$f":"IF($BG43<BH$1,0,IF($BG43-BH$1>計算!$B$26,BH$66,($BG43-BH$1)/計算!$B$26*BH$66))","v":-0.67165999785768882},{"$f":"IF($BG43<BI$1,0,IF($BG43-BI$1>計算!$B$26,BI$66,($BG43-BI$1)/計算!$B$26*BI$66))","v":0.90868889604222969},{"$f":"IF($BG43<BJ$1,0,IF($BG43-BJ$1>計算!$B$26,BJ$66,($BG43-BJ$1)/計算!$B$26*BJ$66))","v":-0.15970956504964062},{"$f":"IF($BG43<BK$1,0,IF($BG43-BK$1>計算!$B$26,BK$66,($BG43-BK$1)/計算!$B$26*BK$66))","v":-0.21551880103922261},{"$f":"IF($BG43<BL$1,0,IF($BG43-BL$1>計算!$B$26,BL$66,($BG43-BL$1)/計算!$B$26*BL$66))","v":-3.6979193377590036E-2},{"$f":"IF($BG43<BM$1,0,IF($BG43-BM$1>計算!$B$26,BM$66,($BG43-BM$1)/計算!$B$26*BM$66))","v":8.5539846253473106E-2},{"$f":"IF($BG43<BN$1,0,IF($BG43-BN$1>計算!$B$26,BN$66,($BG43-BN$1)/計算!$B$26*BN$66))","v":-3.7976275570530404E-2},{"$f":"IF($BG43<BO$1,0,IF($BG43-BO$1>計算!$B$26,BO$66,($BG43-BO$1)/計算!$B$26*BO$66))","v":6.2162268050736214E-2},{"$f":"IF($BG43<BP$1,0,IF($BG43-BP$1>計算!$B$26,BP$66,($BG43-BP$1)/計算!$B$26*BP$66))","v":0.15755812631518906},{"$f":"IF($BG43<BQ$1,0,IF($BG43-BQ$1>計算!$B$26,BQ$66,($BG43-BQ$1)/計算!$B$26*BQ$66))","v":-1.203930779011364E-2},{"$f":"IF($BG43<BR$1,0,IF($BG43-BR$1>計算!$B$26,BR$66,($BG43-BR$1)/計算!$B$26*BR$66))","v":-6.422251715804006E-2},{"$f":"IF($BG43<BS$1,0,IF($BG43-BS$1>計算!$B$26,BS$66,($BG43-BS$1)/計算!$B$26*BS$66))","v":8.0523326838670695E-3},{"$f":"IF($BG43<BT$1,0,IF($BG43-BT$1>計算!$B$26,BT$66,($BG43-BT$1)/計算!$B$26*BT$66))","v":-9.0301260651520776E-3},{"$f":"IF($BG43<BU$1,0,IF($BG43-BU$1>計算!$B$26,BU$66,($BG43-BU$1)/計算!$B$26*BU$66))","v":4.1747936536487673E-2},{"$f":"IF($BG43<BV$1,0,IF($BG43-BV$1>計算!$B$26,BV$66,($BG43-BV$1)/計算!$B$26*BV$66))","v":-3.5110256083367153E-3},{"$f":"IF($BG43<BW$1,0,IF($BG43-BW$1>計算!$B$26,BW$66,($BG43-BW$1)/計算!$B$26*BW$66))","v":-9.9796700329851329E-2},{"$f":"IF($BG43<BX$1,0,IF($BG43-BX$1>計算!$B$26,BX$66,($BG43-BX$1)/計算!$B$26*BX$66))","v":9.6704798158792071E-3},{"$f":"IF($BG43<BY$1,0,IF($BG43-BY$1>計算!$B$26,BY$66,($BG43-BY$1)/計算!$B$26*BY$66))","v":4.2775407921305519E-2},{"$f":"IF($BG43<BZ$1,0,IF($BG43-BZ$1>計算!$B$26,BZ$66,($BG43-BZ$1)/計算!$B$26*BZ$66))","v":-1.1763541698946112E-2},{"$f":"IF($BG43<CA$1,0,IF($BG43-CA$1>計算!$B$26,CA$66,($BG43-CA$1)/計算!$B$26*CA$66))","v":7.1431725708273445E-4},{"$f":"IF($BG43<CB$1,0,IF($BG43-CB$1>計算!$B$26,CB$66,($BG43-CB$1)/計算!$B$26*CB$66))","v":0},{"$f":"IF($BG43<CC$1,0,IF($BG43-CC$1>計算!$B$26,CC$66,($BG43-CC$1)/計算!$B$26*CC$66))","v":0},{"$f":"IF($BG43<CD$1,0,IF($BG43-CD$1>計算!$B$26,CD$66,($BG43-CD$1)/計算!$B$26*CD$66))","v":0},{"$f":"IF($BG43<CE$1,0,IF($BG43-CE$1>計算!$B$26,CE$66,($BG43-CE$1)/計算!$B$26*CE$66))","v":0},{"$f":"IF($BG43<CF$1,0,IF($BG43-CF$1>計算!$B$26,CF$66,($BG43-CF$1)/計算!$B$26*CF$66))","v":0},{"$f":"IF($BG43<CG$1,0,IF($BG43-CG$1>計算!$B$26,CG$66,($BG43-CG$1)/計算!$B$26*CG$66))","v":0},{"$f":"IF($BG43<CH$1,0,IF($BG43-CH$1>計算!$B$26,CH$66,($BG43-CH$1)/計算!$B$26*CH$66))","v":0},{"$f":"IF($BG43<CI$1,0,IF($BG43-CI$1>計算!$B$26,CI$66,($BG43-CI$1)/計算!$B$26*CI$66))","v":0},{"$f":"IF($BG43<CJ$1,0,IF($BG43-CJ$1>計算!$B$26,CJ$66,($BG43-CJ$1)/計算!$B$26*CJ$66))","v":0},{"$f":"IF($BG43<CK$1,0,IF($BG43-CK$1>計算!$B$26,CK$66,($BG43-CK$1)/計算!$B$26*CK$66))","v":0},-5.2974406688621484E-3,5.2974406688621484E-3]
[null,null,null,null,null,null,null,null,null,null,null,null,{"$f":"IF($L44<M$1,0,IF($L44-M$1>計算!$B$26,M$66,($L44-M$1)/計算!$B$26*M$66))","v":0.2983353312641418},{"$f":"IF($L44<N$1,0,IF($L44-N$1>計算!$B$26,N$66,($L44-N$1)/計算!$B$26*N$66))","v":-0.89890989052282899},{"$f":"IF($L44<O$1,0,IF($L44-O$1>計算!$B$26,O$66,($L44-O$1)/計算!$B$26*O$66))","v":-0.21184658990487348},{"$f":"IF($L44<P$1,0,IF($L44-P$1>計算!$B$26,P$66,($L44-P$1)/計算!$B$26*P$66))","v":0.63830901206403412},{"$f":"IF($L44<Q$1,0,IF($L44-Q$1>計算!$B$26,Q$66,($L44-Q$1)/計算!$B$26*Q$66))","v":-0.21374580605087579},{"$f":"IF($L44<R$1,0,IF($L44-R$1>計算!$B$26,R$66,($L44-R$1)/計算!$B$26*R$66))","v":0.58793831734057156},{"$f":"IF($L44<S$1,0,IF($L44-S$1>計算!$B$26,S$66,($L44-S$1)/計算!$B$26*S$66))","v":0.26628907306790472},{"$f":"IF($L44<T$1,0,IF($L44-T$1>計算!$B$26,T$66,($L44-T$1)/計算!$B$26*T$66))","v":-0.47320266231569752},{"$f":"IF($L44<U$1,0,IF($L44-U$1>計算!$B$26,U$66,($L44-U$1)/計算!$B$26*U$66))","v":6.0087511789762682E-2},{"$f":"IF($L44<V$1,0,IF($L44-V$1>計算!$B$26,V$66,($L44-V$1)/計算!$B$26*V$66))","v":-5.0825194033370491E-2},{"$f":"IF($L44<W$1,0,IF($L44-W$1>計算!$B$26,W$66,($L44-W$1)/計算!$B$26*W$66))","v":0.29158188812572483},{"$f":"IF($L44<X$1,0,IF($L44-X$1>計算!$B$26,X$66,($L44-X$1)/計算!$B$26*X$66))","v":-0.33635698393373026},{"$f":"IF($L44<Y$1,0,IF($L44-Y$1>計算!$B$26,Y$66,($L44-Y$1)/計算!$B$26*Y$66))","v":-0.23732384043519716},{"$f":"IF($L44<Z$1,0,IF($L44-Z$1>計算!$B$26,Z$66,($L44-Z$1)/計算!$B$26*Z$66))","v":0.3484351373522887},{"$f":"IF($L44<AA$1,0,IF($L44-AA$1>計算!$B$26,AA$66,($L44-AA$1)/計算!$B$26*AA$66))","v":-8.7213024267986938E-2},{"$f":"IF($L44<AB$1,0,IF($L44-AB$1>計算!$B$26,AB$66,($L44-AB$1)/計算!$B$26*AB$66))","v":5.6563654982872968E-3},{"$f":"IF($L44<AC$1,0,IF($L44-AC$1>計算!$B$26,AC$66,($L44-AC$1)/計算!$B$26*AC$66))","v":-5.5729868562208731E-3},{"$f":"IF($L44<AD$1,0,IF($L44-AD$1>計算!$B$26,AD$66,($L44-AD$1)/計算!$B$26*AD$66))","v":4.2537829913888034E-2},{"$f":"IF($L44<AE$1,0,IF($L44-AE$1>計算!$B$26,AE$66,($L44-AE$1)/計算!$B$26*AE$66))","v":-9.7804766303354537E-2},{"$f":"IF($L44<AF$1,0,IF($L44-AF$1>計算!$B$26,AF$66,($L44-AF$1)/計算!$B$26*AF$66))","v":5.3332772362545772E-2},{"$f":"IF($L44<AG$1,0,IF($L44-AG$1>計算!$B$26,AG$66,($L44-AG$1)/計算!$B$26*AG$66))","v":4.8067075196160026E-2},{"$f":"IF($L44<AH$1,0,IF($L44-AH$1>計算!$B$26,AH$66,($L44-AH$1)/計算!$B$26*AH$66))","v":-4.6781460458821138E-2},{"$f":"IF($L44<AI$1,0,IF($L44-AI$1>計算!$B$26,AI$66,($L44-AI$1)/計算!$B$26*AI$66))","v":1.0783484551245134E-2},{"$f":"IF($L44<AJ$1,0,IF($L44-AJ$1>計算!$B$26,AJ$66,($L44-AJ$1)/計算!$B$26*AJ$66))","v":-7.0475160355596117E-4},{"$f":"IF($L44<AK$1,0,IF($L44-AK$1>計算!$B$26,AK$66,($L44-AK$1)/計算!$B$26*AK$66))","v":0},{"$f":"IF($L44<AL$1,0,IF($L44-AL$1>計算!$B$26,AL$66,($L44-AL$1)/計算!$B$26*AL$66))","v":0},{"$f":"IF($L44<AM$1,0,IF($L44-AM$1>計算!$B$26,AM$66,($L44-AM$1)/計算!$B$26*AM$66))","v":0},{"$f":"IF($L44<AN$1,0,IF($L44-AN$1>計算!$B$26,AN$66,($L44-AN$1)/計算!$B$26*AN$66))","v":0},{"$f":"IF($L44<AO$1,0,IF($L44-AO$1>計算!$B$26,AO$66,($L44-AO$1)/計算!$B$26*AO$66))","v":0},{"$f":"IF($L44<AP$1,0,IF($L44-AP$1>計算!$B$26,AP$66,($L44-AP$1)/計算!$B$26*AP$66))","v":0},{"$f":"IF($L44<AQ$1,0,IF($L44-AQ$1>計算!$B$26,AQ$66,($L44-AQ$1)/計算!$B$26*AQ$66))","v":0},{"$f":"IF($L44<AR$1,0,IF($L44-AR$1>計算!$B$26,AR$66,($L44-AR$1)/計算!$B$26*AR$66))","v":0},{"$f":"IF($L44<AS$1,0,IF($L44-AS$1>計算!$B$26,AS$66,($L44-AS$1)/計算!$B$26*AS$66))","v":0},{"$f":"IF($L44<AT$1,0,IF($L44-AT$1>計算!$B$26,AT$66,($L44-AT$1)/計算!$B$26*AT$66))","v":0},{"$f":"IF($L44<AU$1,0,IF($L44-AU$1>計算!$B$26,AU$66,($L44-AU$1)/計算!$B$26*AU$66))","v":0},{"$f":"IF($L44<AV$1,0,IF($L44-AV$1>計算!$B$26,AV$66,($L44-AV$1)/計算!$B$26*AV$66))","v":0},-8.9341581599584573E-3,8.9341581599584573E-3,null,null,null,null,null,null,null,null,null,{"$f":"IF($BG44<BH$1,0,IF($BG44-BH$1>計算!$B$26,BH$66,($BG44-BH$1)/計算!$B$26*BH$66))","v":-0.67165999785768882},{"$f":"IF($BG44<BI$1,0,IF($BG44-BI$1>計算!$B$26,BI$66,($BG44-BI$1)/計算!$B$26*BI$66))","v":0.90868889604222969},{"$f":"IF($BG44<BJ$1,0,IF($BG44-BJ$1>計算!$B$26,BJ$66,($BG44-BJ$1)/計算!$B$26*BJ$66))","v":-0.15970956504964062},{"$f":"IF($BG44<BK$1,0,IF($BG44-BK$1>計算!$B$26,BK$66,($BG44-BK$1)/計算!$B$26*BK$66))","v":-0.21551880103922261},{"$f":"IF($BG44<BL$1,0,IF($BG44-BL$1>計算!$B$26,BL$66,($BG44-BL$1)/計算!$B$26*BL$66))","v":-3.6979193377590036E-2},{"$f":"IF($BG44<BM$1,0,IF($BG44-BM$1>計算!$B$26,BM$66,($BG44-BM$1)/計算!$B$26*BM$66))","v":8.5539846253473106E-2},{"$f":"IF($BG44<BN$1,0,IF($BG44-BN$1>計算!$B$26,BN$66,($BG44-BN$1)/計算!$B$26*BN$66))","v":-3.7976275570530404E-2},{"$f":"IF($BG44<BO$1,0,IF($BG44-BO$1>計算!$B$26,BO$66,($BG44-BO$1)/計算!$B$26*BO$66))","v":6.2162268050736214E-2},{"$f":"IF($BG44<BP$1,0,IF($BG44-BP$1>計算!$B$26,BP$66,($BG44-BP$1)/計算!$B$26*BP$66))","v":0.15755812631518906},{"$f":"IF($BG44<BQ$1,0,IF($BG44-BQ$1>計算!$B$26,BQ$66,($BG44-BQ$1)/計算!$B$26*BQ$66))","v":-1.203930779011364E-2},{"$f":"IF($BG44<BR$1,0,IF($BG44-BR$1>計算!$B$26,BR$66,($BG44-BR$1)/計算!$B$26*BR$66))","v":-6.422251715804006E-2},{"$f":"IF($BG44<BS$1,0,IF($BG44-BS$1>計算!$B$26,BS$66,($BG44-BS$1)/計算!$B$26*BS$66))","v":8.0523326838670695E-3},{"$f":"IF($BG44<BT$1,0,IF($BG44-BT$1>計算!$B$26,BT$66,($BG44-BT$1)/計算!$B$26*BT$66))","v":-9.0301260651520776E-3},{"$f":"IF($BG44<BU$1,0,IF($BG44-BU$1>計算!$B$26,BU$66,($BG44-BU$1)/計算!$B$26*BU$66))","v":4.1747936536487673E-2},{"$f":"IF($BG44<BV$1,0,IF($BG44-BV$1>計算!$B$26,BV$66,($BG44-BV$1)/計算!$B$26*BV$66))","v":-3.5110256083367153E-3},{"$f":"IF($BG44<BW$1,0,IF($BG44-BW$1>計算!$B$26,BW$66,($BG44-BW$1)/計算!$B$26*BW$66))","v":-9.9796700329851329E-2},{"$f":"IF($BG44<BX$1,0,IF($BG44-BX$1>計算!$B$26,BX$66,($BG44-BX$1)/計算!$B$26*BX$66))","v":9.6704798158792071E-3},{"$f":"IF($BG44<BY$1,0,IF($BG44-BY$1>計算!$B$26,BY$66,($BG44-BY$1)/計算!$B$26*BY$66))","v":4.2775407921305519E-2},{"$f":"IF($BG44<BZ$1,0,IF($BG44-BZ$1>計算!$B$26,BZ$66,($BG44-BZ$1)/計算!$B$26*BZ$66))","v":-1.1763541698946112E-2},{"$f":"IF($BG44<CA$1,0,IF($BG44-CA$1>計算!$B$26,CA$66,($BG44-CA$1)/計算!$B$26*CA$66))","v":7.5801003265218991E-4},{"$f":"IF($BG44<CB$1,0,IF($BG44-CB$1>計算!$B$26,CB$66,($BG44-CB$1)/計算!$B$26*CB$66))","v":0},{"$f":"IF($BG44<CC$1,0,IF($BG44-CC$1>計算!$B$26,CC$66,($BG44-CC$1)/計算!$B$26*CC$66))","v":0},{"$f":"IF($BG44<CD$1,0,IF($BG44-CD$1>計算!$B$26,CD$66,($BG44-CD$1)/計算!$B$26*CD$66))","v":0},{"$f":"IF($BG44<CE$1,0,IF($BG44-CE$1>計算!$B$26,CE$66,($BG44-CE$1)/計算!$B$26*CE$66))","v":0},{"$f":"IF($BG44<CF$1,0,IF($BG44-CF$1>計算!$B$26,CF$66,($BG44-CF$1)/計算!$B$26*CF$66))","v":0},{"$f":"IF($BG44<CG$1,0,IF($BG44-CG$1>計算!$B$26,CG$66,($BG44-CG$1)/計算!$B$26*CG$66))","v":0},{"$f":"IF($BG44<CH$1,0,IF($BG44-CH$1>計算!$B$26,CH$66,($BG44-CH$1)/計算!$B$26*CH$66))","v":0},{"$f":"IF($BG44<CI$1,0,IF($BG44-CI$1>計算!$B$26,CI$66,($BG44-CI$1)/計算!$B$26*CI$66))","v":0},{"$f":"IF($BG44<CJ$1,0,IF($BG44-CJ$1>計算!$B$26,CJ$66,($BG44-CJ$1)/計算!$B$26*CJ$66))","v":0},{"$f":"IF($BG44<CK$1,0,IF($BG44-CK$1>計算!$B$26,CK$66,($BG44-CK$1)/計算!$B$26*CK$66))","v":0},-5.2537478932926929E-3,5.2537478932926929E-3]
[null,null,null,null,null,null,null,null,null,null,null,null,{"$f":"IF($L45<M$1,0,IF($L45-M$1>計算!$B$26,M$66,($L45-M$1)/計算!$B$26*M$66))","v":0.2983353312641418},{"$f":"IF($L45<N$1,0,IF($L45-N$1>計算!$B$26,N$66,($L45-N$1)/計算!$B$26*N$66))","v":-0.89890989052282899},{"$f":"IF($L45<O$1,0,IF($L45-O$1>計算!$B$26,O$66,($L45-O$1)/計算!$B$26*O$66))","v":-0.21184658990487348},{"$f":"IF($L45<P$1,0,IF($L45-P$1>計算!$B$26,P$66,($L45-P$1)/計算!$B$26*P$66))","v":0.63830901206403412},{"$f":"IF($L45<Q$1,0,IF($L45-Q$1>計算!$B$26,Q$66,($L45-Q$1)/計算!$B$26*Q$66))","v":-0.21374580605087579},{"$f":"IF($L45<R$1,0,IF($L45-R$1>計算!$B$26,R$66,($L45-R$1)/計算!$B$26*R$66))","v":0.58793831734057156},{"$f":"IF($L45<S$1,0,IF($L45-S$1>計算!$B$26,S$66,($L45-S$1)/計算!$B$26*S$66))","v":0.26628907306790472},{"$f":"IF($L45<T$1,0,IF($L45-T$1>計算!$B$26,T$66,($L45-T$1)/計算!$B$26*T$66))","v":-0.47320266231569752},{"$f":"IF($L45<U$1,0,IF($L45-U$1>計算!$B$26,U$66,($L45-U$1)/計算!$B$26*U$66))","v":6.0087511789762682E-2},{"$f":"IF($L45<V$1,0,IF($L45-V$1>計算!$B$26,V$66,($L45-V$1)/計算!$B$26*V$66))","v":-5.0825194033370491E-2},{"$f":"IF($L45<W$1,0,IF($L45-W$1>計算!$B$26,W$66,($L45-W$1)/計算!$B$26*W$66))","v":0.29158188812572483},{"$f":"IF($L45<X$1,0,IF($L45-X$1>計算!$B$26,X$66,($L45-X$1)/計算!$B$26*X$66))","v":-0.33635698393373026},{"$f":"IF($L45<Y$1,0,IF($L45-Y$1>計算!$B$26,Y$66,($L45-Y$1)/計算!$B$26*Y$66))","v":-0.23732384043519716},{"$f":"IF($L45<Z$1,0,IF($L45-Z$1>計算!$B$26,Z$66,($L45-Z$1)/計算!$B$26*Z$66))","v":0.3484351373522887},{"$f":"IF($L45<AA$1,0,IF($L45-AA$1>計算!$B$26,AA$66,($L45-AA$1)/計算!$B$26*AA$66))","v":-8.7213024267986938E-2},{"$f":"IF($L45<AB$1,0,IF($L45-AB$1>計算!$B$26,AB$66,($L45-AB$1)/計算!$B$26*AB$66))","v":5.6563654982872968E-3},{"$f":"IF($L45<AC$1,0,IF($L45-AC$1>計算!$B$26,AC$66,($L45-AC$1)/計算!$B$26*AC$66))","v":-1.2085384954476752E-2},{"$f":"IF($L45<AD$1,0,IF($L45-AD$1>計算!$B$26,AD$66,($L45-AD$1)/計算!$B$26*AD$66))","v":9.9347229875326418E-2},{"$f":"IF($L45<AE$1,0,IF($L45-AE$1>計算!$B$26,AE$66,($L45-AE$1)/計算!$B$26*AE$66))","v":-0.25019308625358366},{"$f":"IF($L45<AF$1,0,IF($L45-AF$1>計算!$B$26,AF$66,($L45-AF$1)/計算!$B$26*AF$66))","v":0.15304928172048637},{"$f":"IF($L45<AG$1,0,IF($L45-AG$1>計算!$B$26,AG$66,($L45-AG$1)/計算!$B$26*AG$66))","v":0.16040609165081535},{"$f":"IF($L45<AH$1,0,IF($L45-AH$1>計算!$B$26,AH$66,($L45-AH$1)/計算!$B$26*AH$66))","v":-0.1925606169066057},{"$f":"IF($L45<AI$1,0,IF($L45-AI$1>計算!$B$26,AI$66,($L45-AI$1)/計算!$B$26*AI$66))","v":6.1188300883304146E-2},{"$f":"IF($L45<AJ$1,0,IF($L45-AJ$1>計算!$B$26,AJ$66,($L45-AJ$1)/計算!$B$26*AJ$66))","v":-7.2931368269316529E-3},{"$f":"IF($L45<AK$1,0,IF($L45-AK$1>計算!$B$26,AK$66,($L45-AK$1)/計算!$B$26*AK$66))","v":2.8692683239033007E-4},{"$f":"IF($L45<AL$1,0,IF($L45-AL$1>計算!$B$26,AL$66,($L45-AL$1)/計算!$B$26*AL$66))","v":0},{"$f":"IF($L45<AM$1,0,IF($L45-AM$1>計算!$B$26,AM$66,($L45-AM$1)/計算!$B$26*AM$66))","v":0},{"$f":"IF($L45<AN$1,0,IF($L45-AN$1>計算!$B$26,AN$66,($L45-AN$1)/計算!$B$26*AN$66))","v":0},{"$f":"IF($L45<AO$1,0,IF($L45-AO$1>計算!$B$26,AO$66,($L45-AO$1)/計算!$B$26*AO$66))","v":0},{"$f":"IF($L45<AP$1,0,IF($L45-AP$1>計算!$B$26,AP$66,($L45-AP$1)/計算!$B$26*AP$66))","v":0},{"$f":"IF($L45<AQ$1,0,IF($L45-AQ$1>計算!$B$26,AQ$66,($L45-AQ$1)/計算!$B$26*AQ$66))","v":0},{"$f":"IF($L45<AR$1,0,IF($L45-AR$1>計算!$B$26,AR$66,($L45-AR$1)/計算!$B$26*AR$66))","v":0},{"$f":"IF($L45<AS$1,0,IF($L45-AS$1>計算!$B$26,AS$66,($L45-AS$1)/計算!$B$26*AS$66))","v":0},{"$f":"IF($L45<AT$1,0,IF($L45-AT$1>計算!$B$26,AT$66,($L45-AT$1)/計算!$B$26*AT$66))","v":0},{"$f":"IF($L45<AU$1,0,IF($L45-AU$1>計算!$B$26,AU$66,($L45-AU$1)/計算!$B$26*AU$66))","v":0},{"$f":"IF($L45<AV$1,0,IF($L45-AV$1>計算!$B$26,AV$66,($L45-AV$1)/計算!$B$26*AV$66))","v":0},-6.4574894112007838E-4,6.4574894112007838E-4,null,null,null,null,null,null,null,null,null,{"$f":"IF($BG45<BH$1,0,IF($BG45-BH$1>計算!$B$26,BH$66,($BG45-BH$1)/計算!$B$26*BH$66))","v":-0.67165999785768882},{"$f":"IF($BG45<BI$1,0,IF($BG45-BI$1>計算!$B$26,BI$66,($BG45-BI$1)/計算!$B$26*BI$66))","v":0.90868889604222969},{"$f":"IF($BG45<BJ$1,0,IF($BG45-BJ$1>計算!$B$26,BJ$66,($BG45-BJ$1)/計算!$B$26*BJ$66))","v":-0.15970956504964062},{"$f":"IF($BG45<BK$1,0,IF($BG45-BK$1>計算!$B$26,BK$66,($BG45-BK$1)/計算!$B$26*BK$66))","v":-0.21551880103922261},{"$f":"IF($BG45<BL$1,0,IF($BG45-BL$1>計算!$B$26,BL$66,($BG45-BL$1)/計算!$B$26*BL$66))","v":-3.6979193377590036E-2},{"$f":"IF($BG45<BM$1,0,IF($BG45-BM$1>計算!$B$26,BM$66,($BG45-BM$1)/計算!$B$26*BM$66))","v":8.5539846253473106E-2},{"$f":"IF($BG45<BN$1,0,IF($BG45-BN$1>計算!$B$26,BN$66,($BG45-BN$1)/計算!$B$26*BN$66))","v":-3.7976275570530404E-2},{"$f":"IF($BG45<BO$1,0,IF($BG45-BO$1>計算!$B$26,BO$66,($BG45-BO$1)/計算!$B$26*BO$66))","v":6.2162268050736214E-2},{"$f":"IF($BG45<BP$1,0,IF($BG45-BP$1>計算!$B$26,BP$66,($BG45-BP$1)/計算!$B$26*BP$66))","v":0.15755812631518906},{"$f":"IF($BG45<BQ$1,0,IF($BG45-BQ$1>計算!$B$26,BQ$66,($BG45-BQ$1)/計算!$B$26*BQ$66))","v":-1.203930779011364E-2},{"$f":"IF($BG45<BR$1,0,IF($BG45-BR$1>計算!$B$26,BR$66,($BG45-BR$1)/計算!$B$26*BR$66))","v":-6.422251715804006E-2},{"$f":"IF($BG45<BS$1,0,IF($BG45-BS$1>計算!$B$26,BS$66,($BG45-BS$1)/計算!$B$26*BS$66))","v":8.0523326838670695E-3},{"$f":"IF($BG45<BT$1,0,IF($BG45-BT$1>計算!$B$26,BT$66,($BG45-BT$1)/計算!$B$26*BT$66))","v":-9.0301260651520776E-3},{"$f":"IF($BG45<BU$1,0,IF($BG45-BU$1>計算!$B$26,BU$66,($BG45-BU$1)/計算!$B$26*BU$66))","v":4.1747936536487673E-2},{"$f":"IF($BG45<BV$1,0,IF($BG45-BV$1>計算!$B$26,BV$66,($BG45-BV$1)/計算!$B$26*BV$66))","v":-3.5110256083367153E-3},{"$f":"IF($BG45<BW$1,0,IF($BG45-BW$1>計算!$B$26,BW$66,($BG45-BW$1)/計算!$B$26*BW$66))","v":-9.9796700329851329E-2},{"$f":"IF($BG45<BX$1,0,IF($BG45-BX$1>計算!$B$26,BX$66,($BG45-BX$1)/計算!$B$26*BX$66))","v":9.6704798158792071E-3},{"$f":"IF($BG45<BY$1,0,IF($BG45-BY$1>計算!$B$26,BY$66,($BG45-BY$1)/計算!$B$26*BY$66))","v":4.2775407921305519E-2},{"$f":"IF($BG45<BZ$1,0,IF($BG45-BZ$1>計算!$B$26,BZ$66,($BG45-BZ$1)/計算!$B$26*BZ$66))","v":-1.1763541698946112E-2},{"$f":"IF($BG45<CA$1,0,IF($BG45-CA$1>計算!$B$26,CA$66,($BG45-CA$1)/計算!$B$26*CA$66))","v":7.5801003265218991E-4},{"$f":"IF($BG45<CB$1,0,IF($BG45-CB$1>計算!$B$26,CB$66,($BG45-CB$1)/計算!$B$26*CB$66))","v":0},{"$f":"IF($BG45<CC$1,0,IF($BG45-CC$1>計算!$B$26,CC$66,($BG45-CC$1)/計算!$B$26*CC$66))","v":0},{"$f":"IF($BG45<CD$1,0,IF($BG45-CD$1>計算!$B$26,CD$66,($BG45-CD$1)/計算!$B$26*CD$66))","v":0},{"$f":"IF($BG45<CE$1,0,IF($BG45-CE$1>計算!$B$26,CE$66,($BG45-CE$1)/計算!$B$26*CE$66))","v":0},{"$f":"IF($BG45<CF$1,0,IF($BG45-CF$1>計算!$B$26,CF$66,($BG45-CF$1)/計算!$B$26*CF$66))","v":0},{"$f":"IF($BG45<CG$1,0,IF($BG45-CG$1>計算!$B$26,CG$66,($BG45-CG$1)/計算!$B$26*CG$66))","v":0},{"$f":"IF($BG45<CH$1,0,IF($BG45-CH$1>計算!$B$26,CH$66,($BG45-CH$1)/計算!$B$26*CH$66))","v":0},{"$f":"IF($BG45<CI$1,0,IF($BG45-CI$1>計算!$B$26,CI$66,($BG45-CI$1)/計算!$B$26*CI$66))","v":0},{"$f":"IF($BG45<CJ$1,0,IF($BG45-CJ$1>計算!$B$26,CJ$66,($BG45-CJ$1)/計算!$B$26*CJ$66))","v":0},{"$f":"IF($BG45<CK$1,0,IF($BG45-CK$1>計算!$B$26,CK$66,($BG45-CK$1)/計算!$B$26*CK$66))","v":0},-5.2537478932926929E-3,5.2537478932926929E-3]
[null,null,null,null,null,null,null,null,null,null,null,null,{"$f":"IF($L46<M$1,0,IF($L46-M$1>計算!$B$26,M$66,($L46-M$1)/計算!$B$26*M$66))","v":0.2983353312641418},{"$f":"IF($L46<N$1,0,IF($L46-N$1>計算!$B$26,N$66,($L46-N$1)/計算!$B$26*N$66))","v":-0.89890989052282899},{"$f":"IF($L46<O$1,0,IF($L46-O$1>計算!$B$26,O$66,($L46-O$1)/計算!$B$26*O$66))","v":-0.21184658990487348},{"$f":"IF($L46<P$1,0,IF($L46-P$1>計算!$B$26,P$66,($L46-P$1)/計算!$B$26*P$66))","v":0.63830901206403412},{"$f":"IF($L46<Q$1,0,IF($L46-Q$1>計算!$B$26,Q$66,($L46-Q$1)/計算!$B$26*Q$66))","v":-0.21374580605087579},{"$f":"IF($L46<R$1,0,IF($L46-R$1>計算!$B$26,R$66,($L46-R$1)/計算!$B$26*R$66))","v":0.58793831734057156},{"$f":"IF($L46<S$1,0,IF($L46-S$1>計算!$B$26,S$66,($L46-S$1)/計算!$B$26*S$66))","v":0.26628907306790472},{"$f":"IF($L46<T$1,0,IF($L46-T$1>計算!$B$26,T$66,($L46-T$1)/計算!$B$26*T$66))","v":-0.47320266231569752},{"$f":"IF($L46<U$1,0,IF($L46-U$1>計算!$B$26,U$66,($L46-U$1)/計算!$B$26*U$66))","v":6.0087511789762682E-2},{"$f":"IF($L46<V$1,0,IF($L46-V$1>計算!$B$26,V$66,($L46-V$1)/計算!$B$26*V$66))","v":-5.0825194033370491E-2},{"$f":"IF($L46<W$1,0,IF($L46-W$1>計算!$B$26,W$66,($L46-W$1)/計算!$B$26*W$66))","v":0.29158188812572483},{"$f":"IF($L46<X$1,0,IF($L46-X$1>計算!$B$26,X$66,($L46-X$1)/計算!$B$26*X$66))","v":-0.33635698393373026},{"$f":"IF($L46<Y$1,0,IF($L46-Y$1>計算!$B$26,Y$66,($L46-Y$1)/計算!$B$26*Y$66))","v":-0.23732384043519716},{"$f":"IF($L46<Z$1,0,IF($L46-Z$1>計算!$B$26,Z$66,($L46-Z$1)/計算!$B$26*Z$66))","v":0.3484351373522887},{"$f":"IF($L46<AA$1,0,IF($L46-AA$1>計算!$B$26,AA$66,($L46-AA$1)/計算!$B$26*AA$66))","v":-8.7213024267986938E-2},{"$f":"IF($L46<AB$1,0,IF($L46-AB$1>計算!$B$26,AB$66,($L46-AB$1)/計算!$B$26*AB$66))","v":5.6563654982872968E-3},{"$f":"IF($L46<AC$1,0,IF($L46-AC$1>計算!$B$26,AC$66,($L46-AC$1)/計算!$B$26*AC$66))","v":-1.2085384954476752E-2},{"$f":"IF($L46<AD$1,0,IF($L46-AD$1>計算!$B$26,AD$66,($L46-AD$1)/計算!$B$26*AD$66))","v":0.10542406236172575},{"$f":"IF($L46<AE$1,0,IF($L46-AE$1>計算!$B$26,AE$66,($L46-AE$1)/計算!$B$26*AE$66))","v":-0.26649388069403512},{"$f":"IF($L46<AF$1,0,IF($L46-AF$1>計算!$B$26,AF$66,($L46-AF$1)/計算!$B$26*AF$66))","v":0.16371583623000538},{"$f":"IF($L46<AG$1,0,IF($L46-AG$1>計算!$B$26,AG$66,($L46-AG$1)/計算!$B$26*AG$66))","v":0.17242286049155006},{"$f":"IF($L46<AH$1,0,IF($L46-AH$1>計算!$B$26,AH$66,($L46-AH$1)/計算!$B$26*AH$66))","v":-0.2081544371136522},{"$f":"IF($L46<AI$1,0,IF($L46-AI$1>計算!$B$26,AI$66,($L46-AI$1)/計算!$B$26*AI$66))","v":6.6580043177634551E-2},{"$f":"IF($L46<AJ$1,0,IF($L46-AJ$1>計算!$B$26,AJ$66,($L46-AJ$1)/計算!$B$26*AJ$66))","v":-7.9978884329328943E-3},{"$f":"IF($L46<AK$1,0,IF($L46-AK$1>計算!$B$26,AK$66,($L46-AK$1)/計算!$B$26*AK$66))","v":3.1761904893141545E-4},{"$f":"IF($L46<AL$1,0,IF($L46-AL$1>計算!$B$26,AL$66,($L46-AL$1)/計算!$B$26*AL$66))","v":0},{"$f":"IF($L46<AM$1,0,IF($L46-AM$1>計算!$B$26,AM$66,($L46-AM$1)/計算!$B$26*AM$66))","v":0},{"$f":"IF($L46<AN$1,0,IF($L46-AN$1>計算!$B$26,AN$66,($L46-AN$1)/計算!$B$26*AN$66))","v":0},{"$f":"IF($L46<AO$1,0,IF($L46-AO$1>計算!$B$26,AO$66,($L46-AO$1)/計算!$B$26*AO$66))","v":0},{"$f":"IF($L46<AP$1,0,IF($L46-AP$1>計算!$B$26,AP$66,($L46-AP$1)/計算!$B$26*AP$66))","v":0},{"$f":"IF($L46<AQ$1,0,IF($L46-AQ$1>計算!$B$26,AQ$66,($L46-AQ$1)/計算!$B$26*AQ$66))","v":0},{"$f":"IF($L46<AR$1,0,IF($L46-AR$1>計算!$B$26,AR$66,($L46-AR$1)/計算!$B$26*AR$66))","v":0},{"$f":"IF($L46<AS$1,0,IF($L46-AS$1>計算!$B$26,AS$66,($L46-AS$1)/計算!$B$26*AS$66))","v":0},{"$f":"IF($L46<AT$1,0,IF($L46-AT$1>計算!$B$26,AT$66,($L46-AT$1)/計算!$B$26*AT$66))","v":0},{"$f":"IF($L46<AU$1,0,IF($L46-AU$1>計算!$B$26,AU$66,($L46-AU$1)/計算!$B$26*AU$66))","v":0},{"$f":"IF($L46<AV$1,0,IF($L46-AV$1>計算!$B$26,AV$66,($L46-AV$1)/計算!$B$26*AV$66))","v":0},9.3747515290527298E-4,-9.3747515290527298E-4,null,null,null,null,null,null,null,null,null,{"$f":"IF($BG46<BH$1,0,IF($BG46-BH$1>計算!$B$26,BH$66,($BG46-BH$1)/計算!$B$26*BH$66))","v":-0.67165999785768882},{"$f":"IF($BG46<BI$1,0,IF($BG46-BI$1>計算!$B$26,BI$66,($BG46-BI$1)/計算!$B$26*BI$66))","v":0.90868889604222969},{"$f":"IF($BG46<BJ$1,0,IF($BG46-BJ$1>計算!$B$26,BJ$66,($BG46-BJ$1)/計算!$B$26*BJ$66))","v":-0.15970956504964062},{"$f":"IF($BG46<BK$1,0,IF($BG46-BK$1>計算!$B$26,BK$66,($BG46-BK$1)/計算!$B$26*BK$66))","v":-0.21551880103922261},{"$f":"IF($BG46<BL$1,0,IF($BG46-BL$1>計算!$B$26,BL$66,($BG46-BL$1)/計算!$B$26*BL$66))","v":-3.6979193377590036E-2},{"$f":"IF($BG46<BM$1,0,IF($BG46-BM$1>計算!$B$26,BM$66,($BG46-BM$1)/計算!$B$26*BM$66))","v":8.5539846253473106E-2},{"$f":"IF($BG46<BN$1,0,IF($BG46-BN$1>計算!$B$26,BN$66,($BG46-BN$1)/計算!$B$26*BN$66))","v":-3.7976275570530404E-2},{"$f":"IF($BG46<BO$1,0,IF($BG46-BO$1>計算!$B$26,BO$66,($BG46-BO$1)/計算!$B$26*BO$66))","v":6.2162268050736214E-2},{"$f":"IF($BG46<BP$1,0,IF($BG46-BP$1>計算!$B$26,BP$66,($BG46-BP$1)/計算!$B$26*BP$66))","v":0.15755812631518906},{"$f":"IF($BG46<BQ$1,0,IF($BG46-BQ$1>計算!$B$26,BQ$66,($BG46-BQ$1)/計算!$B$26*BQ$66))","v":-1.203930779011364E-2},{"$f":"IF($BG46<BR$1,0,IF($BG46-BR$1>計算!$B$26,BR$66,($BG46-BR$1)/計算!$B$26*BR$66))","v":-6.422251715804006E-2},{"$f":"IF($BG46<BS$1,0,IF($BG46-BS$1>計算!$B$26,BS$66,($BG46-BS$1)/計算!$B$26*BS$66))","v":8.0523326838670695E-3},{"$f":"IF($BG46<BT$1,0,IF($BG46-BT$1>計算!$B$26,BT$66,($BG46-BT$1)/計算!$B$26*BT$66))","v":-9.0301260651520776E-3},{"$f":"IF($BG46<BU$1,0,IF($BG46-BU$1>計算!$B$26,BU$66,($BG46-BU$1)/計算!$B$26*BU$66))","v":4.1747936536487673E-2},{"$f":"IF($BG46<BV$1,0,IF($BG46-BV$1>計算!$B$26,BV$66,($BG46-BV$1)/計算!$B$26*BV$66))","v":-3.5110256083367153E-3},{"$f":"IF($BG46<BW$1,0,IF($BG46-BW$1>計算!$B$26,BW$66,($BG46-BW$1)/計算!$B$26*BW$66))","v":-9.9796700329851329E-2},{"$f":"IF($BG46<BX$1,0,IF($BG46-BX$1>計算!$B$26,BX$66,($BG46-BX$1)/計算!$B$26*BX$66))","v":9.6704798158792071E-3},{"$f":"IF($BG46<BY$1,0,IF($BG46-BY$1>計算!$B$26,BY$66,($BG46-BY$1)/計算!$B$26*BY$66))","v":4.2775407921305519E-2},{"$f":"IF($BG46<BZ$1,0,IF($BG46-BZ$1>計算!$B$26,BZ$66,($BG46-BZ$1)/計算!$B$26*BZ$66))","v":-1.1763541698946112E-2},{"$f":"IF($BG46<CA$1,0,IF($BG46-CA$1>計算!$B$26,CA$66,($BG46-CA$1)/計算!$B$26*CA$66))","v":7.5801003265218991E-4},{"$f":"IF($BG46<CB$1,0,IF($BG46-CB$1>計算!$B$26,CB$66,($BG46-CB$1)/計算!$B$26*CB$66))","v":-1.2376930449905179E-4},{"$f":"IF($BG46<CC$1,0,IF($BG46-CC$1>計算!$B$26,CC$66,($BG46-CC$1)/計算!$B$26*CC$66))","v":0},{"$f":"IF($BG46<CD$1,0,IF($BG46-CD$1>計算!$B$26,CD$66,($BG46-CD$1)/計算!$B$26*CD$66))","v":0},{"$f":"IF($BG46<CE$1,0,IF($BG46-CE$1>計算!$B$26,CE$66,($BG46-CE$1)/計算!$B$26*CE$66))","v":0},{"$f":"IF($BG46<CF$1,0,IF($BG46-CF$1>計算!$B$26,CF$66,($BG46-CF$1)/計算!$B$26*CF$66))","v":0},{"$f":"IF($BG46<CG$1,0,IF($BG46-CG$1>計算!$B$26,CG$66,($BG46-CG$1)/計算!$B$26*CG$66))","v":0},{"$f":"IF($BG46<CH$1,0,IF($BG46-CH$1>計算!$B$26,CH$66,($BG46-CH$1)/計算!$B$26*CH$66))","v":0},{"$f":"IF($BG46<CI$1,0,IF($BG46-CI$1>計算!$B$26,CI$66,($BG46-CI$1)/計算!$B$26*CI$66))","v":0},{"$f":"IF($BG46<CJ$1,0,IF($BG46-CJ$1>計算!$B$26,CJ$66,($BG46-CJ$1)/計算!$B$26*CJ$66))","v":0},{"$f":"IF($BG46<CK$1,0,IF($BG46-CK$1>計算!$B$26,CK$66,($BG46-CK$1)/計算!$B$26*CK$66))","v":0},-5.3775171977917448E-3,5.3775171977917448E-3]
[null,null,null,null,null,null,null,null,null,null,null,null,{"$f":"IF($L47<M$1,0,IF($L47-M$1>計算!$B$26,M$66,($L47-M$1)/計算!$B$26*M$66))","v":0.2983353312641418},{"$f":"IF($L47<N$1,0,IF($L47-N$1>計算!$B$26,N$66,($L47-N$1)/計算!$B$26*N$66))","v":-0.89890989052282899},{"$f":"IF($L47<O$1,0,IF($L47-O$1>計算!$B$26,O$66,($L47-O$1)/計算!$B$26*O$66))","v":-0.21184658990487348},{"$f":"IF($L47<P$1,0,IF($L47-P$1>計算!$B$26,P$66,($L47-P$1)/計算!$B$26*P$66))","v":0.63830901206403412},{"$f":"IF($L47<Q$1,0,IF($L47-Q$1>計算!$B$26,Q$66,($L47-Q$1)/計算!$B$26*Q$66))","v":-0.21374580605087579},{"$f":"IF($L47<R$1,0,IF($L47-R$1>計算!$B$26,R$66,($L47-R$1)/計算!$B$26*R$66))","v":0.58793831734057156},{"$f":"IF($L47<S$1,0,IF($L47-S$1>計算!$B$26,S$66,($L47-S$1)/計算!$B$26*S$66))","v":0.26628907306790472},{"$f":"IF($L47<T$1,0,IF($L47-T$1>計算!$B$26,T$66,($L47-T$1)/計算!$B$26*T$66))","v":-0.47320266231569752},{"$f":"IF($L47<U$1,0,IF($L47-U$1>計算!$B$26,U$66,($L47-U$1)/計算!$B$26*U$66))","v":6.0087511789762682E-2},{"$f":"IF($L47<V$1,0,IF($L47-V$1>計算!$B$26,V$66,($L47-V$1)/計算!$B$26*V$66))","v":-5.0825194033370491E-2},{"$f":"IF($L47<W$1,0,IF($L47-W$1>計算!$B$26,W$66,($L47-W$1)/計算!$B$26*W$66))","v":0.29158188812572483},{"$f":"IF($L47<X$1,0,IF($L47-X$1>計算!$B$26,X$66,($L47-X$1)/計算!$B$26*X$66))","v":-0.33635698393373026},{"$f":"IF($L47<Y$1,0,IF($L47-Y$1>計算!$B$26,Y$66,($L47-Y$1)/計算!$B$26*Y$66))","v":-0.23732384043519716},{"$f":"IF($L47<Z$1,0,IF($L47-Z$1>計算!$B$26,Z$66,($L47-Z$1)/計算!$B$26*Z$66))","v":0.3484351373522887},{"$f":"IF($L47<AA$1,0,IF($L47-AA$1>計算!$B$26,AA$66,($L47-AA$1)/計算!$B$26*AA$66))","v":-8.7213024267986938E-2},{"$f":"IF($L47<AB$1,0,IF($L47-AB$1>計算!$B$26,AB$66,($L47-AB$1)/計算!$B$26*AB$66))","v":5.6563654982872968E-3},{"$f":"IF($L47<AC$1,0,IF($L47-AC$1>計算!$B$26,AC$66,($L47-AC$1)/計算!$B$26*AC$66))","v":-1.2085384954476752E-2},{"$f":"IF($L47<AD$1,0,IF($L47-AD$1>計算!$B$26,AD$66,($L47-AD$1)/計算!$B$26*AD$66))","v":0.10542406236172575},{"$f":"IF($L47<AE$1,0,IF($L47-AE$1>計算!$B$26,AE$66,($L47-AE$1)/計算!$B$26*AE$66))","v":-0.28279467405986669},{"$f":"IF($L47<AF$1,0,IF($L47-AF$1>計算!$B$26,AF$66,($L47-AF$1)/計算!$B$26*AF$66))","v":0.17438239073952438},{"$f":"IF($L47<AG$1,0,IF($L47-AG$1>計算!$B$26,AG$66,($L47-AG$1)/計算!$B$26*AG$66))","v":0.1844396293322848},{"$f":"IF($L47<AH$1,0,IF($L47-AH$1>計算!$B$26,AH$66,($L47-AH$1)/計算!$B$26*AH$66))","v":-0.22374825732069867},{"$f":"IF($L47<AI$1,0,IF($L47-AI$1>計算!$B$26,AI$66,($L47-AI$1)/計算!$B$26*AI$66))","v":7.197178547196495E-2},{"$f":"IF($L47<AJ$1,0,IF($L47-AJ$1>計算!$B$26,AJ$66,($L47-AJ$1)/計算!$B$26*AJ$66))","v":-8.7026400389341348E-3},{"$f":"IF($L47<AK$1,0,IF($L47-AK$1>計算!$B$26,AK$66,($L47-AK$1)/計算!$B$26*AK$66))","v":3.4831126547250083E-4},{"$f":"IF($L47<AL$1,0,IF($L47-AL$1>計算!$B$26,AL$66,($L47-AL$1)/計算!$B$26*AL$66))","v":0},{"$f":"IF($L47<AM$1,0,IF($L47-AM$1>計算!$B$26,AM$66,($L47-AM$1)/計算!$B$26*AM$66))","v":0},{"$f":"IF($L47<AN$1,0,IF($L47-AN$1>計算!$B$26,AN$66,($L47-AN$1)/計算!$B$26*AN$66))","v":0},{"$f":"IF($L47<AO$1,0,IF($L47-AO$1>計算!$B$26,AO$66,($L47-AO$1)/計算!$B$26*AO$66))","v":0},{"$f":"IF($L47<AP$1,0,IF($L47-AP$1>計算!$B$26,AP$66,($L47-AP$1)/計算!$B$26*AP$66))","v":0},{"$f":"IF($L47<AQ$1,0,IF($L47-AQ$1>計算!$B$26,AQ$66,($L47-AQ$1)/計算!$B$26*AQ$66))","v":0},{"$f":"IF($L47<AR$1,0,IF($L47-AR$1>計算!$B$26,AR$66,($L47-AR$1)/計算!$B$26*AR$66))","v":0},{"$f":"IF($L47<AS$1,0,IF($L47-AS$1>計算!$B$26,AS$66,($L47-AS$1)/計算!$B$26*AS$66))","v":0},{"$f":"IF($L47<AT$1,0,IF($L47-AT$1>計算!$B$26,AT$66,($L47-AT$1)/計算!$B$26*AT$66))","v":0},{"$f":"IF($L47<AU$1,0,IF($L47-AU$1>計算!$B$26,AU$66,($L47-AU$1)/計算!$B$26*AU$66))","v":0},{"$f":"IF($L47<AV$1,0,IF($L47-AV$1>計算!$B$26,AV$66,($L47-AV$1)/計算!$B$26*AV$66))","v":0},-3.5561321648487749E-3,3.5561321648487749E-3,null,null,null,null,null,null,null,null,null,{"$f":"IF($BG47<BH$1,0,IF($BG47-BH$1>計算!$B$26,BH$66,($BG47-BH$1)/計算!$B$26*BH$66))","v":-0.67165999785768882},{"$f":"IF($BG47<BI$1,0,IF($BG47-BI$1>計算!$B$26,BI$66,($BG47-BI$1)/計算!$B$26*BI$66))","v":0.90868889604222969},{"$f":"IF($BG47<BJ$1,0,IF($BG47-BJ$1>計算!$B$26,BJ$66,($BG47-BJ$1)/計算!$B$26*BJ$66))","v":-0.15970956504964062},{"$f":"IF($BG47<BK$1,0,IF($BG47-BK$1>計算!$B$26,BK$66,($BG47-BK$1)/計算!$B$26*BK$66))","v":-0.21551880103922261},{"$f":"IF($BG47<BL$1,0,IF($BG47-BL$1>計算!$B$26,BL$66,($BG47-BL$1)/計算!$B$26*BL$66))","v":-3.6979193377590036E-2},{"$f":"IF($BG47<BM$1,0,IF($BG47-BM$1>計算!$B$26,BM$66,($BG47-BM$1)/計算!$B$26*BM$66))","v":8.5539846253473106E-2},{"$f":"IF($BG47<BN$1,0,IF($BG47-BN$1>計算!$B$26,BN$66,($BG47-BN$1)/計算!$B$26*BN$66))","v":-3.7976275570530404E-2},{"$f":"IF($BG47<BO$1,0,IF($BG47-BO$1>計算!$B$26,BO$66,($BG47-BO$1)/計算!$B$26*BO$66))","v":6.2162268050736214E-2},{"$f":"IF($BG47<BP$1,0,IF($BG47-BP$1>計算!$B$26,BP$66,($BG47-BP$1)/計算!$B$26*BP$66))","v":0.15755812631518906},{"$f":"IF($BG47<BQ$1,0,IF($BG47-BQ$1>計算!$B$26,BQ$66,($BG47-BQ$1)/計算!$B$26*BQ$66))","v":-1.203930779011364E-2},{"$f":"IF($BG47<BR$1,0,IF($BG47-BR$1>計算!$B$26,BR$66,($BG47-BR$1)/計算!$B$26*BR$66))","v":-6.422251715804006E-2},{"$f":"IF($BG47<BS$1,0,IF($BG47-BS$1>計算!$B$26,BS$66,($BG47-BS$1)/計算!$B$26*BS$66))","v":8.0523326838670695E-3},{"$f":"IF($BG47<BT$1,0,IF($BG47-BT$1>計算!$B$26,BT$66,($BG47-BT$1)/計算!$B$26*BT$66))","v":-9.0301260651520776E-3},{"$f":"IF($BG47<BU$1,0,IF($BG47-BU$1>計算!$B$26,BU$66,($BG47-BU$1)/計算!$B$26*BU$66))","v":4.1747936536487673E-2},{"$f":"IF($BG47<BV$1,0,IF($BG47-BV$1>計算!$B$26,BV$66,($BG47-BV$1)/計算!$B$26*BV$66))","v":-3.5110256083367153E-3},{"$f":"IF($BG47<BW$1,0,IF($BG47-BW$1>計算!$B$26,BW$66,($BG47-BW$1)/計算!$B$26*BW$66))","v":-9.9796700329851329E-2},{"$f":"IF($BG47<BX$1,0,IF($BG47-BX$1>計算!$B$26,BX$66,($BG47-BX$1)/計算!$B$26*BX$66))","v":9.6704798158792071E-3},{"$f":"IF($BG47<BY$1,0,IF($BG47-BY$1>計算!$B$26,BY$66,($BG47-BY$1)/計算!$B$26*BY$66))","v":4.2775407921305519E-2},{"$f":"IF($BG47<BZ$1,0,IF($BG47-BZ$1>計算!$B$26,BZ$66,($BG47-BZ$1)/計算!$B$26*BZ$66))","v":-1.1763541698946112E-2},{"$f":"IF($BG47<CA$1,0,IF($BG47-CA$1>計算!$B$26,CA$66,($BG47-CA$1)/計算!$B$26*CA$66))","v":7.5801003265218991E-4},{"$f":"IF($BG47<CB$1,0,IF($BG47-CB$1>計算!$B$26,CB$66,($BG47-CB$1)/計算!$B$26*CB$66))","v":-2.4753860899809593E-4},{"$f":"IF($BG47<CC$1,0,IF($BG47-CC$1>計算!$B$26,CC$66,($BG47-CC$1)/計算!$B$26*CC$66))","v":9.4182219877355798E-4},{"$f":"IF($BG47<CD$1,0,IF($BG47-CD$1>計算!$B$26,CD$66,($BG47-CD$1)/計算!$B$26*CD$66))","v":0},{"$f":"IF($BG47<CE$1,0,IF($BG47-CE$1>計算!$B$26,CE$66,($BG47-CE$1)/計算!$B$26*CE$66))","v":0},{"$f":"IF($BG47<CF$1,0,IF($BG47-CF$1>計算!$B$26,CF$66,($BG47-CF$1)/計算!$B$26*CF$66))","v":0},{"$f":"IF($BG47<CG$1,0,IF($BG47-CG$1>計算!$B$26,CG$66,($BG47-CG$1)/計算!$B$26*CG$66))","v":0},{"$f":"IF($BG47<CH$1,0,IF($BG47-CH$1>計算!$B$26,CH$66,($BG47-CH$1)/計算!$B$26*CH$66))","v":0},{"$f":"IF($BG47<CI$1,0,IF($BG47-CI$1>計算!$B$26,CI$66,($BG47-CI$1)/計算!$B$26*CI$66))","v":0},{"$f":"IF($BG47<CJ$1,0,IF($BG47-CJ$1>計算!$B$26,CJ$66,($BG47-CJ$1)/計算!$B$26*CJ$66))","v":0},{"$f":"IF($BG47<CK$1,0,IF($BG47-CK$1>計算!$B$26,CK$66,($BG47-CK$1)/計算!$B$26*CK$66))","v":0},-4.5594643035172314E-3,4.5594643035172314E-3]
[null,null,null,null,null,null,null,null,null,null,null,null,{"$f":"IF($L48<M$1,0,IF($L48-M$1>計算!$B$26,M$66,($L48-M$1)/計算!$B$26*M$66))","v":0.2983353312641418},{"$f":"IF($L48<N$1,0,IF($L48-N$1>計算!$B$26,N$66,($L48-N$1)/計算!$B$26*N$66))","v":-0.89890989052282899},{"$f":"IF($L48<O$1,0,IF($L48-O$1>計算!$B$26,O$66,($L48-O$1)/計算!$B$26*O$66))","v":-0.21184658990487348},{"$f":"IF($L48<P$1,0,IF($L48-P$1>計算!$B$26,P$66,($L48-P$1)/計算!$B$26*P$66))","v":0.63830901206403412},{"$f":"IF($L48<Q$1,0,IF($L48-Q$1>計算!$B$26,Q$66,($L48-Q$1)/計算!$B$26*Q$66))","v":-0.21374580605087579},{"$f":"IF($L48<R$1,0,IF($L48-R$1>計算!$B$26,R$66,($L48-R$1)/計算!$B$26*R$66))","v":0.58793831734057156},{"$f":"IF($L48<S$1,0,IF($L48-S$1>計算!$B$26,S$66,($L48-S$1)/計算!$B$26*S$66))","v":0.26628907306790472},{"$f":"IF($L48<T$1,0,IF($L48-T$1>計算!$B$26,T$66,($L48-T$1)/計算!$B$26*T$66))","v":-0.47320266231569752},{"$f":"IF($L48<U$1,0,IF($L48-U$1>計算!$B$26,U$66,($L48-U$1)/計算!$B$26*U$66))","v":6.0087511789762682E-2},{"$f":"IF($L48<V$1,0,IF($L48-V$1>計算!$B$26,V$66,($L48-V$1)/計算!$B$26*V$66))","v":-5.0825194033370491E-2},{"$f":"IF($L48<W$1,0,IF($L48-W$1>計算!$B$26,W$66,($L48-W$1)/計算!$B$26*W$66))","v":0.29158188812572483},{"$f":"IF($L48<X$1,0,IF($L48-X$1>計算!$B$26,X$66,($L48-X$1)/計算!$B$26*X$66))","v":-0.33635698393373026},{"$f":"IF($L48<Y$1,0,IF($L48-Y$1>計算!$B$26,Y$66,($L48-Y$1)/計算!$B$26*Y$66))","v":-0.23732384043519716},{"$f":"IF($L48<Z$1,0,IF($L48-Z$1>計算!$B$26,Z$66,($L48-Z$1)/計算!$B$26*Z$66))","v":0.3484351373522887},{"$f":"IF($L48<AA$1,0,IF($L48-AA$1>計算!$B$26,AA$66,($L48-AA$1)/計算!$B$26*AA$66))","v":-8.7213024267986938E-2},{"$f":"IF($L48<AB$1,0,IF($L48-AB$1>計算!$B$26,AB$66,($L48-AB$1)/計算!$B$26*AB$66))","v":5.6563654982872968E-3},{"$f":"IF($L48<AC$1,0,IF($L48-AC$1>計算!$B$26,AC$66,($L48-AC$1)/計算!$B$26*AC$66))","v":-1.2085384954476752E-2},{"$f":"IF($L48<AD$1,0,IF($L48-AD$1>計算!$B$26,AD$66,($L48-AD$1)/計算!$B$26*AD$66))","v":0.10542406236172575},{"$f":"IF($L48<AE$1,0,IF($L48-AE$1>計算!$B$26,AE$66,($L48-AE$1)/計算!$B$26*AE$66))","v":-0.28279467405986669},{"$f":"IF($L48<AF$1,0,IF($L48-AF$1>計算!$B$26,AF$66,($L48-AF$1)/計算!$B$26*AF$66))","v":0.18504894450884757},{"$f":"IF($L48<AG$1,0,IF($L48-AG$1>計算!$B$26,AG$66,($L48-AG$1)/計算!$B$26*AG$66))","v":0.19645639817301955},{"$f":"IF($L48<AH$1,0,IF($L48-AH$1>計算!$B$26,AH$66,($L48-AH$1)/計算!$B$26*AH$66))","v":-0.23934207752774517},{"$f":"IF($L48<AI$1,0,IF($L48-AI$1>計算!$B$26,AI$66,($L48-AI$1)/計算!$B$26*AI$66))","v":7.7363527766295362E-2},{"$f":"IF($L48<AJ$1,0,IF($L48-AJ$1>計算!$B$26,AJ$66,($L48-AJ$1)/計算!$B$26*AJ$66))","v":-9.4073916449353753E-3},{"$f":"IF($L48<AK$1,0,IF($L48-AK$1>計算!$B$26,AK$66,($L48-AK$1)/計算!$B$26*AK$66))","v":3.7900348201358626E-4},{"$f":"IF($L48<AL$1,0,IF($L48-AL$1>計算!$B$26,AL$66,($L48-AL$1)/計算!$B$26*AL$66))","v":0},{"$f":"IF($L48<AM$1,0,IF($L48-AM$1>計算!$B$26,AM$66,($L48-AM$1)/計算!$B$26*AM$66))","v":0},{"$f":"IF($L48<AN$1,0,IF($L48-AN$1>計算!$B$26,AN$66,($L48-AN$1)/計算!$B$26*AN$66))","v":0},{"$f":"IF($L48<AO$1,0,IF($L48-AO$1>計算!$B$26,AO$66,($L48-AO$1)/計算!$B$26*AO$66))","v":0},{"$f":"IF($L48<AP$1,0,IF($L48-AP$1>計算!$B$26,AP$66,($L48-AP$1)/計算!$B$26*AP$66))","v":0},{"$f":"IF($L48<AQ$1,0,IF($L48-AQ$1>計算!$B$26,AQ$66,($L48-AQ$1)/計算!$B$26*AQ$66))","v":0},{"$f":"IF($L48<AR$1,0,IF($L48-AR$1>計算!$B$26,AR$66,($L48-AR$1)/計算!$B$26*AR$66))","v":0},{"$f":"IF($L48<AS$1,0,IF($L48-AS$1>計算!$B$26,AS$66,($L48-AS$1)/計算!$B$26*AS$66))","v":0},{"$f":"IF($L48<AT$1,0,IF($L48-AT$1>計算!$B$26,AT$66,($L48-AT$1)/計算!$B$26*AT$66))","v":0},{"$f":"IF($L48<AU$1,0,IF($L48-AU$1>計算!$B$26,AU$66,($L48-AU$1)/計算!$B$26*AU$66))","v":0},{"$f":"IF($L48<AV$1,0,IF($L48-AV$1>計算!$B$26,AV$66,($L48-AV$1)/計算!$B$26*AV$66))","v":0},8.2510531430329097E-3,-8.2510531430329097E-3,null,null,null,null,null,null,null,null,null,{"$f":"IF($BG48<BH$1,0,IF($BG48-BH$1>計算!$B$26,BH$66,($BG48-BH$1)/計算!$B$26*BH$66))","v":-0.67165999785768882},{"$f":"IF($BG48<BI$1,0,IF($BG48-BI$1>計算!$B$26,BI$66,($BG48-BI$1)/計算!$B$26*BI$66))","v":0.90868889604222969},{"$f":"IF($BG48<BJ$1,0,IF($BG48-BJ$1>計算!$B$26,BJ$66,($BG48-BJ$1)/計算!$B$26*BJ$66))","v":-0.15970956504964062},{"$f":"IF($BG48<BK$1,0,IF($BG48-BK$1>計算!$B$26,BK$66,($BG48-BK$1)/計算!$B$26*BK$66))","v":-0.21551880103922261},{"$f":"IF($BG48<BL$1,0,IF($BG48-BL$1>計算!$B$26,BL$66,($BG48-BL$1)/計算!$B$26*BL$66))","v":-3.6979193377590036E-2},{"$f":"IF($BG48<BM$1,0,IF($BG48-BM$1>計算!$B$26,BM$66,($BG48-BM$1)/計算!$B$26*BM$66))","v":8.5539846253473106E-2},{"$f":"IF($BG48<BN$1,0,IF($BG48-BN$1>計算!$B$26,BN$66,($BG48-BN$1)/計算!$B$26*BN$66))","v":-3.7976275570530404E-2},{"$f":"IF($BG48<BO$1,0,IF($BG48-BO$1>計算!$B$26,BO$66,($BG48-BO$1)/計算!$B$26*BO$66))","v":6.2162268050736214E-2},{"$f":"IF($BG48<BP$1,0,IF($BG48-BP$1>計算!$B$26,BP$66,($BG48-BP$1)/計算!$B$26*BP$66))","v":0.15755812631518906},{"$f":"IF($BG48<BQ$1,0,IF($BG48-BQ$1>計算!$B$26,BQ$66,($BG48-BQ$1)/計算!$B$26*BQ$66))","v":-1.203930779011364E-2},{"$f":"IF($BG48<BR$1,0,IF($BG48-BR$1>計算!$B$26,BR$66,($BG48-BR$1)/計算!$B$26*BR$66))","v":-6.422251715804006E-2},{"$f":"IF($BG48<BS$1,0,IF($BG48-BS$1>計算!$B$26,BS$66,($BG48-BS$1)/計算!$B$26*BS$66))","v":8.0523326838670695E-3},{"$f":"IF($BG48<BT$1,0,IF($BG48-BT$1>計算!$B$26,BT$66,($BG48-BT$1)/計算!$B$26*BT$66))","v":-9.0301260651520776E-3},{"$f":"IF($BG48<BU$1,0,IF($BG48-BU$1>計算!$B$26,BU$66,($BG48-BU$1)/計算!$B$26*BU$66))","v":4.1747936536487673E-2},{"$f":"IF($BG48<BV$1,0,IF($BG48-BV$1>計算!$B$26,BV$66,($BG48-BV$1)/計算!$B$26*BV$66))","v":-3.5110256083367153E-3},{"$f":"IF($BG48<BW$1,0,IF($BG48-BW$1>計算!$B$26,BW$66,($BG48-BW$1)/計算!$B$26*BW$66))","v":-9.9796700329851329E-2},{"$f":"IF($BG48<BX$1,0,IF($BG48-BX$1>計算!$B$26,BX$66,($BG48-BX$1)/計算!$B$26*BX$66))","v":9.6704798158792071E-3},{"$f":"IF($BG48<BY$1,0,IF($BG48-BY$1>計算!$B$26,BY$66,($BG48-BY$1)/計算!$B$26*BY$66))","v":4.2775407921305519E-2},{"$f":"IF($BG48<BZ$1,0,IF($BG48-BZ$1>計算!$B$26,BZ$66,($BG48-BZ$1)/計算!$B$26*BZ$66))","v":-1.1763541698946112E-2},{"$f":"IF($BG48<CA$1,0,IF($BG48-CA$1>計算!$B$26,CA$66,($BG48-CA$1)/計算!$B$26*CA$66))","v":7.5801003265218991E-4},{"$f":"IF($BG48<CB$1,0,IF($BG48-CB$1>計算!$B$26,CB$66,($BG48-CB$1)/計算!$B$26*CB$66))","v":-3.7130791349714775E-4},{"$f":"IF($BG48<CC$1,0,IF($BG48-CC$1>計算!$B$26,CC$66,($BG48-CC$1)/計算!$B$26*CC$66))","v":1.8836443975471741E-3},{"$f":"IF($BG48<CD$1,0,IF($BG48-CD$1>計算!$B$26,CD$66,($BG48-CD$1)/計算!$B$26*CD$66))","v":-1.7135300569923724E-3},{"$f":"IF($BG48<CE$1,0,IF($BG48-CE$1>計算!$B$26,CE$66,($BG48-CE$1)/計算!$B$26*CE$66))","v":0},{"$f":"IF($BG48<CF$1,0,IF($BG48-CF$1>計算!$B$26,CF$66,($BG48-CF$1)/計算!$B$26*CF$66))","v":0},{"$f":"IF($BG48<CG$1,0,IF($BG48-CG$1>計算!$B$26,CG$66,($BG48-CG$1)/計算!$B$26*CG$66))","v":0},{"$f":"IF($BG48<CH$1,0,IF($BG48-CH$1>計算!$B$26,CH$66,($BG48-CH$1)/計算!$B$26*CH$66))","v":0},{"$f":"IF($BG48<CI$1,0,IF($BG48-CI$1>計算!$B$26,CI$66,($BG48-CI$1)/計算!$B$26*CI$66))","v":0},{"$f":"IF($BG48<CJ$1,0,IF($BG48-CJ$1>計算!$B$26,CJ$66,($BG48-CJ$1)/計算!$B$26*CJ$66))","v":0},{"$f":"IF($BG48<CK$1,0,IF($BG48-CK$1>計算!$B$26,CK$66,($BG48-CK$1)/計算!$B$26*CK$66))","v":0},-5.4549414662350389E-3,5.4549414662350389E-3]
[null,null,null,null,null,null,null,null,null,null,null,null,{"$f":"IF($L49<M$1,0,IF($L49-M$1>計算!$B$26,M$66,($L49-M$1)/計算!$B$26*M$66))","v":0.2983353312641418},{"$f":"IF($L49<N$1,0,IF($L49-N$1>計算!$B$26,N$66,($L49-N$1)/計算!$B$26*N$66))","v":-0.89890989052282899},{"$f":"IF($L49<O$1,0,IF($L49-O$1>計算!$B$26,O$66,($L49-O$1)/計算!$B$26*O$66))","v":-0.21184658990487348},{"$f":"IF($L49<P$1,0,IF($L49-P$1>計算!$B$26,P$66,($L49-P$1)/計算!$B$26*P$66))","v":0.63830901206403412},{"$f":"IF($L49<Q$1,0,IF($L49-Q$1>計算!$B$26,Q$66,($L49-Q$1)/計算!$B$26*Q$66))","v":-0.21374580605087579},{"$f":"IF($L49<R$1,0,IF($L49-R$1>計算!$B$26,R$66,($L49-R$1)/計算!$B$26*R$66))","v":0.58793831734057156},{"$f":"IF($L49<S$1,0,IF($L49-S$1>計算!$B$26,S$66,($L49-S$1)/計算!$B$26*S$66))","v":0.26628907306790472},{"$f":"IF($L49<T$1,0,IF($L49-T$1>計算!$B$26,T$66,($L49-T$1)/計算!$B$26*T$66))","v":-0.47320266231569752},{"$f":"IF($L49<U$1,0,IF($L49-U$1>計算!$B$26,U$66,($L49-U$1)/計算!$B$26*U$66))","v":6.0087511789762682E-2},{"$f":"IF($L49<V$1,0,IF($L49-V$1>計算!$B$26,V$66,($L49-V$1)/計算!$B$26*V$66))","v":-5.0825194033370491E-2},{"$f":"IF($L49<W$1,0,IF($L49-W$1>計算!$B$26,W$66,($L49-W$1)/計算!$B$26*W$66))","v":0.29158188812572483},{"$f":"IF($L49<X$1,0,IF($L49-X$1>計算!$B$26,X$66,($L49-X$1)/計算!$B$26*X$66))","v":-0.33635698393373026},{"$f":"IF($L49<Y$1,0,IF($L49-Y$1>計算!$B$26,Y$66,($L49-Y$1)/計算!$B$26*Y$66))","v":-0.23732384043519716},{"$f":"IF($L49<Z$1,0,IF($L49-Z$1>計算!$B$26,Z$66,($L49-Z$1)/計算!$B$26*Z$66))","v":0.3484351373522887},{"$f":"IF($L49<AA$1,0,IF($L49-AA$1>計算!$B$26,AA$66,($L49-AA$1)/計算!$B$26*AA$66))","v":-8.7213024267986938E-2},{"$f":"IF($L49<AB$1,0,IF($L49-AB$1>計算!$B$26,AB$66,($L49-AB$1)/計算!$B$26*AB$66))","v":5.6563654982872968E-3},{"$f":"IF($L49<AC$1,0,IF($L49-AC$1>計算!$B$26,AC$66,($L49-AC$1)/計算!$B$26*AC$66))","v":-1.2085384954476752E-2},{"$f":"IF($L49<AD$1,0,IF($L49-AD$1>計算!$B$26,AD$66,($L49-AD$1)/計算!$B$26*AD$66))","v":0.10542406236172575},{"$f":"IF($L49<AE$1,0,IF($L49-AE$1>計算!$B$26,AE$66,($L49-AE$1)/計算!$B$26*AE$66))","v":-0.28279467405986669},{"$f":"IF($L49<AF$1,0,IF($L49-AF$1>計算!$B$26,AF$66,($L49-AF$1)/計算!$B$26*AF$66))","v":0.18504894450884757},{"$f":"IF($L49<AG$1,0,IF($L49-AG$1>計算!$B$26,AG$66,($L49-AG$1)/計算!$B$26*AG$66))","v":0.20847316613816691},{"$f":"IF($L49<AH$1,0,IF($L49-AH$1>計算!$B$26,AH$66,($L49-AH$1)/計算!$B$26*AH$66))","v":-0.25493589773479164},{"$f":"IF($L49<AI$1,0,IF($L49-AI$1>計算!$B$26,AI$66,($L49-AI$1)/計算!$B$26*AI$66))","v":8.275527006062576E-2},{"$f":"IF($L49<AJ$1,0,IF($L49-AJ$1>計算!$B$26,AJ$66,($L49-AJ$1)/計算!$B$26*AJ$66))","v":-1.0112143250936617E-2},{"$f":"IF($L49<AK$1,0,IF($L49-AK$1>計算!$B$26,AK$66,($L49-AK$1)/計算!$B$26*AK$66))","v":4.0969569855467164E-4},{"$f":"IF($L49<AL$1,0,IF($L49-AL$1>計算!$B$26,AL$66,($L49-AL$1)/計算!$B$26*AL$66))","v":0},{"$f":"IF($L49<AM$1,0,IF($L49-AM$1>計算!$B$26,AM$66,($L49-AM$1)/計算!$B$26*AM$66))","v":0},{"$f":"IF($L49<AN$1,0,IF($L49-AN$1>計算!$B$26,AN$66,($L49-AN$1)/計算!$B$26*AN$66))","v":0},{"$f":"IF($L49<AO$1,0,IF($L49-AO$1>計算!$B$26,AO$66,($L49-AO$1)/計算!$B$26*AO$66))","v":0},{"$f":"IF($L49<AP$1,0,IF($L49-AP$1>計算!$B$26,AP$66,($L49-AP$1)/計算!$B$26*AP$66))","v":0},{"$f":"IF($L49<AQ$1,0,IF($L49-AQ$1>計算!$B$26,AQ$66,($L49-AQ$1)/計算!$B$26*AQ$66))","v":0},{"$f":"IF($L49<AR$1,0,IF($L49-AR$1>計算!$B$26,AR$66,($L49-AR$1)/計算!$B$26*AR$66))","v":0},{"$f":"IF($L49<AS$1,0,IF($L49-AS$1>計算!$B$26,AS$66,($L49-AS$1)/計算!$B$26*AS$66))","v":0},{"$f":"IF($L49<AT$1,0,IF($L49-AT$1>計算!$B$26,AT$66,($L49-AT$1)/計算!$B$26*AT$66))","v":0},{"$f":"IF($L49<AU$1,0,IF($L49-AU$1>計算!$B$26,AU$66,($L49-AU$1)/計算!$B$26*AU$66))","v":0},{"$f":"IF($L49<AV$1,0,IF($L49-AV$1>計算!$B$26,AV$66,($L49-AV$1)/計算!$B$26*AV$66))","v":0},9.3916838060040427E-3,-9.3916838060040427E-3,null,null,null,null,null,null,null,null,null,{"$f":"IF($BG49<BH$1,0,IF($BG49-BH$1>計算!$B$26,BH$66,($BG49-BH$1)/計算!$B$26*BH$66))","v":-0.67165999785768882},{"$f":"IF($BG49<BI$1,0,IF($BG49-BI$1>計算!$B$26,BI$66,($BG49-BI$1)/計算!$B$26*BI$66))","v":0.90868889604222969},{"$f":"IF($BG49<BJ$1,0,IF($BG49-BJ$1>計算!$B$26,BJ$66,($BG49-BJ$1)/計算!$B$26*BJ$66))","v":-0.15970956504964062},{"$f":"IF($BG49<BK$1,0,IF($BG49-BK$1>計算!$B$26,BK$66,($BG49-BK$1)/計算!$B$26*BK$66))","v":-0.21551880103922261},{"$f":"IF($BG49<BL$1,0,IF($BG49-BL$1>計算!$B$26,BL$66,($BG49-BL$1)/計算!$B$26*BL$66))","v":-3.6979193377590036E-2},{"$f":"IF($BG49<BM$1,0,IF($BG49-BM$1>計算!$B$26,BM$66,($BG49-BM$1)/計算!$B$26*BM$66))","v":8.5539846253473106E-2},{"$f":"IF($BG49<BN$1,0,IF($BG49-BN$1>計算!$B$26,BN$66,($BG49-BN$1)/計算!$B$26*BN$66))","v":-3.7976275570530404E-2},{"$f":"IF($BG49<BO$1,0,IF($BG49-BO$1>計算!$B$26,BO$66,($BG49-BO$1)/計算!$B$26*BO$66))","v":6.2162268050736214E-2},{"$f":"IF($BG49<BP$1,0,IF($BG49-BP$1>計算!$B$26,BP$66,($BG49-BP$1)/計算!$B$26*BP$66))","v":0.15755812631518906},{"$f":"IF($BG49<BQ$1,0,IF($BG49-BQ$1>計算!$B$26,BQ$66,($BG49-BQ$1)/計算!$B$26*BQ$66))","v":-1.203930779011364E-2},{"$f":"IF($BG49<BR$1,0,IF($BG49-BR$1>計算!$B$26,BR$66,($BG49-BR$1)/計算!$B$26*BR$66))","v":-6.422251715804006E-2},{"$f":"IF($BG49<BS$1,0,IF($BG49-BS$1>計算!$B$26,BS$66,($BG49-BS$1)/計算!$B$26*BS$66))","v":8.0523326838670695E-3},{"$f":"IF($BG49<BT$1,0,IF($BG49-BT$1>計算!$B$26,BT$66,($BG49-BT$1)/計算!$B$26*BT$66))","v":-9.0301260651520776E-3},{"$f":"IF($BG49<BU$1,0,IF($BG49-BU$1>計算!$B$26,BU$66,($BG49-BU$1)/計算!$B$26*BU$66))","v":4.1747936536487673E-2},{"$f":"IF($BG49<BV$1,0,IF($BG49-BV$1>計算!$B$26,BV$66,($BG49-BV$1)/計算!$B$26*BV$66))","v":-3.5110256083367153E-3},{"$f":"IF($BG49<BW$1,0,IF($BG49-BW$1>計算!$B$26,BW$66,($BG49-BW$1)/計算!$B$26*BW$66))","v":-9.9796700329851329E-2},{"$f":"IF($BG49<BX$1,0,IF($BG49-BX$1>計算!$B$26,BX$66,($BG49-BX$1)/計算!$B$26*BX$66))","v":9.6704798158792071E-3},{"$f":"IF($BG49<BY$1,0,IF($BG49-BY$1>計算!$B$26,BY$66,($BG49-BY$1)/計算!$B$26*BY$66))","v":4.2775407921305519E-2},{"$f":"IF($BG49<BZ$1,0,IF($BG49-BZ$1>計算!$B$26,BZ$66,($BG49-BZ$1)/計算!$B$26*BZ$66))","v":-1.1763541698946112E-2},{"$f":"IF($BG49<CA$1,0,IF($BG49-CA$1>計算!$B$26,CA$66,($BG49-CA$1)/計算!$B$26*CA$66))","v":7.5801003265218991E-4},{"$f":"IF($BG49<CB$1,0,IF($BG49-CB$1>計算!$B$26,CB$66,($BG49-CB$1)/計算!$B$26*CB$66))","v":-4.9507721799618427E-4},{"$f":"IF($BG49<CC$1,0,IF($BG49-CC$1>計算!$B$26,CC$66,($BG49-CC$1)/計算!$B$26*CC$66))","v":2.8254665963206743E-3},{"$f":"IF($BG49<CD$1,0,IF($BG49-CD$1>計算!$B$26,CD$66,($BG49-CD$1)/計算!$B$26*CD$66))","v":-3.4270601139845336E-3},{"$f":"IF($BG49<CE$1,0,IF($BG49-CE$1>計算!$B$26,CE$66,($BG49-CE$1)/計算!$B$26*CE$66))","v":-1.1488215803637126E-3},{"$f":"IF($BG49<CF$1,0,IF($BG49-CF$1>計算!$B$26,CF$66,($BG49-CF$1)/計算!$B$26*CF$66))","v":0},{"$f":"IF($BG49<CG$1,0,IF($BG49-CG$1>計算!$B$26,CG$66,($BG49-CG$1)/計算!$B$26*CG$66))","v":0},{"$f":"IF($BG49<CH$1,0,IF($BG49-CH$1>計算!$B$26,CH$66,($BG49-CH$1)/計算!$B$26*CH$66))","v":0},{"$f":"IF($BG49<CI$1,0,IF($BG49-CI$1>計算!$B$26,CI$66,($BG49-CI$1)/計算!$B$26*CI$66))","v":0},{"$f":"IF($BG49<CJ$1,0,IF($BG49-CJ$1>計算!$B$26,CJ$66,($BG49-CJ$1)/計算!$B$26*CJ$66))","v":0},{"$f":"IF($BG49<CK$1,0,IF($BG49-CK$1>計算!$B$26,CK$66,($BG49-CK$1)/計算!$B$26*CK$66))","v":0},-7.4992402093164495E-3,7.4992402093164495E-3]
[null,null,null,null,null,null,null,null,null,null,null,null,{"$f":"IF($L50<M$1,0,IF($L50-M$1>計算!$B$26,M$66,($L50-M$1)/計算!$B$26*M$66))","v":0.2983353312641418},{"$f":"IF($L50<N$1,0,IF($L50-N$1>計算!$B$26,N$66,($L50-N$1)/計算!$B$26*N$66))","v":-0.89890989052282899},{"$f":"IF($L50<O$1,0,IF($L50-O$1>計算!$B$26,O$66,($L50-O$1)/計算!$B$26*O$66))","v":-0.21184658990487348},{"$f":"IF($L50<P$1,0,IF($L50-P$1>計算!$B$26,P$66,($L50-P$1)/計算!$B$26*P$66))","v":0.63830901206403412},{"$f":"IF($L50<Q$1,0,IF($L50-Q$1>計算!$B$26,Q$66,($L50-Q$1)/計算!$B$26*Q$66))","v":-0.21374580605087579},{"$f":"IF($L50<R$1,0,IF($L50-R$1>計算!$B$26,R$66,($L50-R$1)/計算!$B$26*R$66))","v":0.58793831734057156},{"$f":"IF($L50<S$1,0,IF($L50-S$1>計算!$B$26,S$66,($L50-S$1)/計算!$B$26*S$66))","v":0.26628907306790472},{"$f":"IF($L50<T$1,0,IF($L50-T$1>計算!$B$26,T$66,($L50-T$1)/計算!$B$26*T$66))","v":-0.47320266231569752},{"$f":"IF($L50<U$1,0,IF($L50-U$1>計算!$B$26,U$66,($L50-U$1)/計算!$B$26*U$66))","v":6.0087511789762682E-2},{"$f":"IF($L50<V$1,0,IF($L50-V$1>計算!$B$26,V$66,($L50-V$1)/計算!$B$26*V$66))","v":-5.0825194033370491E-2},{"$f":"IF($L50<W$1,0,IF($L50-W$1>計算!$B$26,W$66,($L50-W$1)/計算!$B$26*W$66))","v":0.29158188812572483},{"$f":"IF($L50<X$1,0,IF($L50-X$1>計算!$B$26,X$66,($L50-X$1)/計算!$B$26*X$66))","v":-0.33635698393373026},{"$f":"IF($L50<Y$1,0,IF($L50-Y$1>計算!$B$26,Y$66,($L50-Y$1)/計算!$B$26*Y$66))","v":-0.23732384043519716},{"$f":"IF($L50<Z$1,0,IF($L50-Z$1>計算!$B$26,Z$66,($L50-Z$1)/計算!$B$26*Z$66))","v":0.3484351373522887},{"$f":"IF($L50<AA$1,0,IF($L50-AA$1>計算!$B$26,AA$66,($L50-AA$1)/計算!$B$26*AA$66))","v":-8.7213024267986938E-2},{"$f":"IF($L50<AB$1,0,IF($L50-AB$1>計算!$B$26,AB$66,($L50-AB$1)/計算!$B$26*AB$66))","v":5.6563654982872968E-3},{"$f":"IF($L50<AC$1,0,IF($L50-AC$1>計算!$B$26,AC$66,($L50-AC$1)/計算!$B$26*AC$66))","v":-1.2085384954476752E-2},{"$f":"IF($L50<AD$1,0,IF($L50-AD$1>計算!$B$26,AD$66,($L50-AD$1)/計算!$B$26*AD$66))","v":0.10542406236172575},{"$f":"IF($L50<AE$1,0,IF($L50-AE$1>計算!$B$26,AE$66,($L50-AE$1)/計算!$B$26*AE$66))","v":-0.28279467405986669},{"$f":"IF($L50<AF$1,0,IF($L50-AF$1>計算!$B$26,AF$66,($L50-AF$1)/計算!$B$26*AF$66))","v":0.18504894450884757},{"$f":"IF($L50<AG$1,0,IF($L50-AG$1>計算!$B$26,AG$66,($L50-AG$1)/計算!$B$26*AG$66))","v":0.20847316613816691},{"$f":"IF($L50<AH$1,0,IF($L50-AH$1>計算!$B$26,AH$66,($L50-AH$1)/計算!$B$26*AH$66))","v":-0.27052971675150728},{"$f":"IF($L50<AI$1,0,IF($L50-AI$1>計算!$B$26,AI$66,($L50-AI$1)/計算!$B$26*AI$66))","v":8.8147012354956158E-2},{"$f":"IF($L50<AJ$1,0,IF($L50-AJ$1>計算!$B$26,AJ$66,($L50-AJ$1)/計算!$B$26*AJ$66))","v":-1.0816894856937858E-2},{"$f":"IF($L50<AK$1,0,IF($L50-AK$1>計算!$B$26,AK$66,($L50-AK$1)/計算!$B$26*AK$66))","v":4.4038791509575702E-4},{"$f":"IF($L50<AL$1,0,IF($L50-AL$1>計算!$B$26,AL$66,($L50-AL$1)/計算!$B$26*AL$66))","v":0},{"$f":"IF($L50<AM$1,0,IF($L50-AM$1>計算!$B$26,AM$66,($L50-AM$1)/計算!$B$26*AM$66))","v":0},{"$f":"IF($L50<AN$1,0,IF($L50-AN$1>計算!$B$26,AN$66,($L50-AN$1)/計算!$B$26*AN$66))","v":0},{"$f":"IF($L50<AO$1,0,IF($L50-AO$1>計算!$B$26,AO$66,($L50-AO$1)/計算!$B$26*AO$66))","v":0},{"$f":"IF($L50<AP$1,0,IF($L50-AP$1>計算!$B$26,AP$66,($L50-AP$1)/計算!$B$26*AP$66))","v":0},{"$f":"IF($L50<AQ$1,0,IF($L50-AQ$1>計算!$B$26,AQ$66,($L50-AQ$1)/計算!$B$26*AQ$66))","v":0},{"$f":"IF($L50<AR$1,0,IF($L50-AR$1>計算!$B$26,AR$66,($L50-AR$1)/計算!$B$26*AR$66))","v":0},{"$f":"IF($L50<AS$1,0,IF($L50-AS$1>計算!$B$26,AS$66,($L50-AS$1)/計算!$B$26*AS$66))","v":0},{"$f":"IF($L50<AT$1,0,IF($L50-AT$1>計算!$B$26,AT$66,($L50-AT$1)/計算!$B$26*AT$66))","v":0},{"$f":"IF($L50<AU$1,0,IF($L50-AU$1>計算!$B$26,AU$66,($L50-AU$1)/計算!$B$26*AU$66))","v":0},{"$f":"IF($L50<AV$1,0,IF($L50-AV$1>計算!$B$26,AV$66,($L50-AV$1)/計算!$B$26*AV$66))","v":0},-1.4844523058413525E-3,1.4844523058413525E-3,null,null,null,null,null,null,null,null,null,{"$f":"IF($BG50<BH$1,0,IF($BG50-BH$1>計算!$B$26,BH$66,($BG50-BH$1)/計算!$B$26*BH$66))","v":-0.67165999785768882},{"$f":"IF($BG50<BI$1,0,IF($BG50-BI$1>計算!$B$26,BI$66,($BG50-BI$1)/計算!$B$26*BI$66))","v":0.90868889604222969},{"$f":"IF($BG50<BJ$1,0,IF($BG50-BJ$1>計算!$B$26,BJ$66,($BG50-BJ$1)/計算!$B$26*BJ$66))","v":-0.15970956504964062},{"$f":"IF($BG50<BK$1,0,IF($BG50-BK$1>計算!$B$26,BK$66,($BG50-BK$1)/計算!$B$26*BK$66))","v":-0.21551880103922261},{"$f":"IF($BG50<BL$1,0,IF($BG50-BL$1>計算!$B$26,BL$66,($BG50-BL$1)/計算!$B$26*BL$66))","v":-3.6979193377590036E-2},{"$f":"IF($BG50<BM$1,0,IF($BG50-BM$1>計算!$B$26,BM$66,($BG50-BM$1)/計算!$B$26*BM$66))","v":8.5539846253473106E-2},{"$f":"IF($BG50<BN$1,0,IF($BG50-BN$1>計算!$B$26,BN$66,($BG50-BN$1)/計算!$B$26*BN$66))","v":-3.7976275570530404E-2},{"$f":"IF($BG50<BO$1,0,IF($BG50-BO$1>計算!$B$26,BO$66,($BG50-BO$1)/計算!$B$26*BO$66))","v":6.2162268050736214E-2},{"$f":"IF($BG50<BP$1,0,IF($BG50-BP$1>計算!$B$26,BP$66,($BG50-BP$1)/計算!$B$26*BP$66))","v":0.15755812631518906},{"$f":"IF($BG50<BQ$1,0,IF($BG50-BQ$1>計算!$B$26,BQ$66,($BG50-BQ$1)/計算!$B$26*BQ$66))","v":-1.203930779011364E-2},{"$f":"IF($BG50<BR$1,0,IF($BG50-BR$1>計算!$B$26,BR$66,($BG50-BR$1)/計算!$B$26*BR$66))","v":-6.422251715804006E-2},{"$f":"IF($BG50<BS$1,0,IF($BG50-BS$1>計算!$B$26,BS$66,($BG50-BS$1)/計算!$B$26*BS$66))","v":8.0523326838670695E-3},{"$f":"IF($BG50<BT$1,0,IF($BG50-BT$1>計算!$B$26,BT$66,($BG50-BT$1)/計算!$B$26*BT$66))","v":-9.0301260651520776E-3},{"$f":"IF($BG50<BU$1,0,IF($BG50-BU$1>計算!$B$26,BU$66,($BG50-BU$1)/計算!$B$26*BU$66))","v":4.1747936536487673E-2},{"$f":"IF($BG50<BV$1,0,IF($BG50-BV$1>計算!$B$26,BV$66,($BG50-BV$1)/計算!$B$26*BV$66))","v":-3.5110256083367153E-3},{"$f":"IF($BG50<BW$1,0,IF($BG50-BW$1>計算!$B$26,BW$66,($BG50-BW$1)/計算!$B$26*BW$66))","v":-9.9796700329851329E-2},{"$f":"IF($BG50<BX$1,0,IF($BG50-BX$1>計算!$B$26,BX$66,($BG50-BX$1)/計算!$B$26*BX$66))","v":9.6704798158792071E-3},{"$f":"IF($BG50<BY$1,0,IF($BG50-BY$1>計算!$B$26,BY$66,($BG50-BY$1)/計算!$B$26*BY$66))","v":4.2775407921305519E-2},{"$f":"IF($BG50<BZ$1,0,IF($BG50-BZ$1>計算!$B$26,BZ$66,($BG50-BZ$1)/計算!$B$26*BZ$66))","v":-1.1763541698946112E-2},{"$f":"IF($BG50<CA$1,0,IF($BG50-CA$1>計算!$B$26,CA$66,($BG50-CA$1)/計算!$B$26*CA$66))","v":7.5801003265218991E-4},{"$f":"IF($BG50<CB$1,0,IF($BG50-CB$1>計算!$B$26,CB$66,($BG50-CB$1)/計算!$B$26*CB$66))","v":-6.1884652249524362E-4},{"$f":"IF($BG50<CC$1,0,IF($BG50-CC$1>計算!$B$26,CC$66,($BG50-CC$1)/計算!$B$26*CC$66))","v":3.7672887950943481E-3},{"$f":"IF($BG50<CD$1,0,IF($BG50-CD$1>計算!$B$26,CD$66,($BG50-CD$1)/計算!$B$26*CD$66))","v":-5.1405901709770116E-3},{"$f":"IF($BG50<CE$1,0,IF($BG50-CE$1>計算!$B$26,CE$66,($BG50-CE$1)/計算!$B$26*CE$66))","v":-2.2976431607276372E-3},{"$f":"IF($BG50<CF$1,0,IF($BG50-CF$1>計算!$B$26,CF$66,($BG50-CF$1)/計算!$B$26*CF$66))","v":3.8150019918271687E-3},{"$f":"IF($BG50<CG$1,0,IF($BG50-CG$1>計算!$B$26,CG$66,($BG50-CG$1)/計算!$B$26*CG$66))","v":0},{"$f":"IF($BG50<CH$1,0,IF($BG50-CH$1>計算!$B$26,CH$66,($BG50-CH$1)/計算!$B$26*CH$66))","v":0},{"$f":"IF($BG50<CI$1,0,IF($BG50-CI$1>計算!$B$26,CI$66,($BG50-CI$1)/計算!$B$26*CI$66))","v":0},{"$f":"IF($BG50<CJ$1,0,IF($BG50-CJ$1>計算!$B$26,CJ$66,($BG50-CJ$1)/計算!$B$26*CJ$66))","v":0},{"$f":"IF($BG50<CK$1,0,IF($BG50-CK$1>計算!$B$26,CK$66,($BG50-CK$1)/計算!$B$26*CK$66))","v":0},-5.7285369605710682E-3,5.7285369605710682E-3]
[null,null,null,null,null,null,null,null,null,null,null,null,{"$f":"IF($L51<M$1,0,IF($L51-M$1>計算!$B$26,M$66,($L51-M$1)/計算!$B$26*M$66))","v":0.2983353312641418},{"$f":"IF($L51<N$1,0,IF($L51-N$1>計算!$B$26,N$66,($L51-N$1)/計算!$B$26*N$66))","v":-0.89890989052282899},{"$f":"IF($L51<O$1,0,IF($L51-O$1>計算!$B$26,O$66,($L51-O$1)/計算!$B$26*O$66))","v":-0.21184658990487348},{"$f":"IF($L51<P$1,0,IF($L51-P$1>計算!$B$26,P$66,($L51-P$1)/計算!$B$26*P$66))","v":0.63830901206403412},{"$f":"IF($L51<Q$1,0,IF($L51-Q$1>計算!$B$26,Q$66,($L51-Q$1)/計算!$B$26*Q$66))","v":-0.21374580605087579},{"$f":"IF($L51<R$1,0,IF($L51-R$1>計算!$B$26,R$66,($L51-R$1)/計算!$B$26*R$66))","v":0.58793831734057156},{"$f":"IF($L51<S$1,0,IF($L51-S$1>計算!$B$26,S$66,($L51-S$1)/計算!$B$26*S$66))","v":0.26628907306790472},{"$f":"IF($L51<T$1,0,IF($L51-T$1>計算!$B$26,T$66,($L51-T$1)/計算!$B$26*T$66))","v":-0.47320266231569752},{"$f":"IF($L51<U$1,0,IF($L51-U$1>計算!$B$26,U$66,($L51-U$1)/計算!$B$26*U$66))","v":6.0087511789762682E-2},{"$f":"IF($L51<V$1,0,IF($L51-V$1>計算!$B$26,V$66,($L51-V$1)/計算!$B$26*V$66))","v":-5.0825194033370491E-2},{"$f":"IF($L51<W$1,0,IF($L51-W$1>計算!$B$26,W$66,($L51-W$1)/計算!$B$26*W$66))","v":0.29158188812572483},{"$f":"IF($L51<X$1,0,IF($L51-X$1>計算!$B$26,X$66,($L51-X$1)/計算!$B$26*X$66))","v":-0.33635698393373026},{"$f":"IF($L51<Y$1,0,IF($L51-Y$1>計算!$B$26,Y$66,($L51-Y$1)/計算!$B$26*Y$66))","v":-0.23732384043519716},{"$f":"IF($L51<Z$1,0,IF($L51-Z$1>計算!$B$26,Z$66,($L51-Z$1)/計算!$B$26*Z$66))","v":0.3484351373522887},{"$f":"IF($L51<AA$1,0,IF($L51-AA$1>計算!$B$26,AA$66,($L51-AA$1)/計算!$B$26*AA$66))","v":-8.7213024267986938E-2},{"$f":"IF($L51<AB$1,0,IF($L51-AB$1>計算!$B$26,AB$66,($L51-AB$1)/計算!$B$26*AB$66))","v":5.6563654982872968E-3},{"$f":"IF($L51<AC$1,0,IF($L51-AC$1>計算!$B$26,AC$66,($L51-AC$1)/計算!$B$26*AC$66))","v":-1.2085384954476752E-2},{"$f":"IF($L51<AD$1,0,IF($L51-AD$1>計算!$B$26,AD$66,($L51-AD$1)/計算!$B$26*AD$66))","v":0.10542406236172575},{"$f":"IF($L51<AE$1,0,IF($L51-AE$1>計算!$B$26,AE$66,($L51-AE$1)/計算!$B$26*AE$66))","v":-0.28279467405986669},{"$f":"IF($L51<AF$1,0,IF($L51-AF$1>計算!$B$26,AF$66,($L51-AF$1)/計算!$B$26*AF$66))","v":0.18504894450884757},{"$f":"IF($L51<AG$1,0,IF($L51-AG$1>計算!$B$26,AG$66,($L51-AG$1)/計算!$B$26*AG$66))","v":0.20847316613816691},{"$f":"IF($L51<AH$1,0,IF($L51-AH$1>計算!$B$26,AH$66,($L51-AH$1)/計算!$B$26*AH$66))","v":-0.27052971675150728},{"$f":"IF($L51<AI$1,0,IF($L51-AI$1>計算!$B$26,AI$66,($L51-AI$1)/計算!$B$26*AI$66))","v":9.3538754219008258E-2},{"$f":"IF($L51<AJ$1,0,IF($L51-AJ$1>計算!$B$26,AJ$66,($L51-AJ$1)/計算!$B$26*AJ$66))","v":-1.1521646462939098E-2},{"$f":"IF($L51<AK$1,0,IF($L51-AK$1>計算!$B$26,AK$66,($L51-AK$1)/計算!$B$26*AK$66))","v":4.710801316368424E-4},{"$f":"IF($L51<AL$1,0,IF($L51-AL$1>計算!$B$26,AL$66,($L51-AL$1)/計算!$B$26*AL$66))","v":0},{"$f":"IF($L51<AM$1,0,IF($L51-AM$1>計算!$B$26,AM$66,($L51-AM$1)/計算!$B$26*AM$66))","v":0},{"$f":"IF($L51<AN$1,0,IF($L51-AN$1>計算!$B$26,AN$66,($L51-AN$1)/計算!$B$26*AN$66))","v":0},{"$f":"IF($L51<AO$1,0,IF($L51-AO$1>計算!$B$26,AO$66,($L51-AO$1)/計算!$B$26*AO$66))","v":0},{"$f":"IF($L51<AP$1,0,IF($L51-AP$1>計算!$B$26,AP$66,($L51-AP$1)/計算!$B$26*AP$66))","v":0},{"$f":"IF($L51<AQ$1,0,IF($L51-AQ$1>計算!$B$26,AQ$66,($L51-AQ$1)/計算!$B$26*AQ$66))","v":0},{"$f":"IF($L51<AR$1,0,IF($L51-AR$1>計算!$B$26,AR$66,($L51-AR$1)/計算!$B$26*AR$66))","v":0},{"$f":"IF($L51<AS$1,0,IF($L51-AS$1>計算!$B$26,AS$66,($L51-AS$1)/計算!$B$26*AS$66))","v":0},{"$f":"IF($L51<AT$1,0,IF($L51-AT$1>計算!$B$26,AT$66,($L51-AT$1)/計算!$B$26*AT$66))","v":0},{"$f":"IF($L51<AU$1,0,IF($L51-AU$1>計算!$B$26,AU$66,($L51-AU$1)/計算!$B$26*AU$66))","v":0},{"$f":"IF($L51<AV$1,0,IF($L51-AV$1>計算!$B$26,AV$66,($L51-AV$1)/計算!$B$26*AV$66))","v":0},3.2332301687505918E-3,-3.2332301687505918E-3,null,null,null,null,null,null,null,null,null,{"$f":"IF($BG51<BH$1,0,IF($BG51-BH$1>計算!$B$26,BH$66,($BG51-BH$1)/計算!$B$26*BH$66))","v":-0.67165999785768882},{"$f":"IF($BG51<BI$1,0,IF($BG51-BI$1>計算!$B$26,BI$66,($BG51-BI$1)/計算!$B$26*BI$66))","v":0.90868889604222969},{"$f":"IF($BG51<BJ$1,0,IF($BG51-BJ$1>計算!$B$26,BJ$66,($BG51-BJ$1)/計算!$B$26*BJ$66))","v":-0.15970956504964062},{"$f":"IF($BG51<BK$1,0,IF($BG51-BK$1>計算!$B$26,BK$66,($BG51-BK$1)/計算!$B$26*BK$66))","v":-0.21551880103922261},{"$f":"IF($BG51<BL$1,0,IF($BG51-BL$1>計算!$B$26,BL$66,($BG51-BL$1)/計算!$B$26*BL$66))","v":-3.6979193377590036E-2},{"$f":"IF($BG51<BM$1,0,IF($BG51-BM$1>計算!$B$26,BM$66,($BG51-BM$1)/計算!$B$26*BM$66))","v":8.5539846253473106E-2},{"$f":"IF($BG51<BN$1,0,IF($BG51-BN$1>計算!$B$26,BN$66,($BG51-BN$1)/計算!$B$26*BN$66))","v":-3.7976275570530404E-2},{"$f":"IF($BG51<BO$1,0,IF($BG51-BO$1>計算!$B$26,BO$66,($BG51-BO$1)/計算!$B$26*BO$66))","v":6.2162268050736214E-2},{"$f":"IF($BG51<BP$1,0,IF($BG51-BP$1>計算!$B$26,BP$66,($BG51-BP$1)/計算!$B$26*BP$66))","v":0.15755812631518906},{"$f":"IF($BG51<BQ$1,0,IF($BG51-BQ$1>計算!$B$26,BQ$66,($BG51-BQ$1)/計算!$B$26*BQ$66))","v":-1.203930779011364E-2},{"$f":"IF($BG51<BR$1,0,IF($BG51-BR$1>計算!$B$26,BR$66,($BG51-BR$1)/計算!$B$26*BR$66))","v":-6.422251715804006E-2},{"$f":"IF($BG51<BS$1,0,IF($BG51-BS$1>計算!$B$26,BS$66,($BG51-BS$1)/計算!$B$26*BS$66))","v":8.0523326838670695E-3},{"$f":"IF($BG51<BT$1,0,IF($BG51-BT$1>計算!$B$26,BT$66,($BG51-BT$1)/計算!$B$26*BT$66))","v":-9.0301260651520776E-3},{"$f":"IF($BG51<BU$1,0,IF($BG51-BU$1>計算!$B$26,BU$66,($BG51-BU$1)/計算!$B$26*BU$66))","v":4.1747936536487673E-2},{"$f":"IF($BG51<BV$1,0,IF($BG51-BV$1>計算!$B$26,BV$66,($BG51-BV$1)/計算!$B$26*BV$66))","v":-3.5110256083367153E-3},{"$f":"IF($BG51<BW$1,0,IF($BG51-BW$1>計算!$B$26,BW$66,($BG51-BW$1)/計算!$B$26*BW$66))","v":-9.9796700329851329E-2},{"$f":"IF($BG51<BX$1,0,IF($BG51-BX$1>計算!$B$26,BX$66,($BG51-BX$1)/計算!$B$26*BX$66))","v":9.6704798158792071E-3},{"$f":"IF($BG51<BY$1,0,IF($BG51-BY$1>計算!$B$26,BY$66,($BG51-BY$1)/計算!$B$26*BY$66))","v":4.2775407921305519E-2},{"$f":"IF($BG51<BZ$1,0,IF($BG51-BZ$1>計算!$B$26,BZ$66,($BG51-BZ$1)/計算!$B$26*BZ$66))","v":-1.1763541698946112E-2},{"$f":"IF($BG51<CA$1,0,IF($BG51-CA$1>計算!$B$26,CA$66,($BG51-CA$1)/計算!$B$26*CA$66))","v":7.5801003265218991E-4},{"$f":"IF($BG51<CB$1,0,IF($BG51-CB$1>計算!$B$26,CB$66,($BG51-CB$1)/計算!$B$26*CB$66))","v":-7.4261582699428779E-4},{"$f":"IF($BG51<CC$1,0,IF($BG51-CC$1>計算!$B$26,CC$66,($BG51-CC$1)/計算!$B$26*CC$66))","v":4.7091109938679062E-3},{"$f":"IF($BG51<CD$1,0,IF($BG51-CD$1>計算!$B$26,CD$66,($BG51-CD$1)/計算!$B$26*CD$66))","v":-6.8541202279692789E-3},{"$f":"IF($BG51<CE$1,0,IF($BG51-CE$1>計算!$B$26,CE$66,($BG51-CE$1)/計算!$B$26*CE$66))","v":-3.4464647410914206E-3},{"$f":"IF($BG51<CF$1,0,IF($BG51-CF$1>計算!$B$26,CF$66,($BG51-CF$1)/計算!$B$26*CF$66))","v":7.6300039836538673E-3},{"$f":"IF($BG51<CG$1,0,IF($BG51-CG$1>計算!$B$26,CG$66,($BG51-CG$1)/計算!$B$26*CG$66))","v":-3.2175603085526721E-4},{"$f":"IF($BG51<CH$1,0,IF($BG51-CH$1>計算!$B$26,CH$66,($BG51-CH$1)/計算!$B$26*CH$66))","v":0},{"$f":"IF($BG51<CI$1,0,IF($BG51-CI$1>計算!$B$26,CI$66,($BG51-CI$1)/計算!$B$26*CI$66))","v":0},{"$f":"IF($BG51<CJ$1,0,IF($BG51-CJ$1>計算!$B$26,CJ$66,($BG51-CJ$1)/計算!$B$26*CJ$66))","v":0},{"$f":"IF($BG51<CK$1,0,IF($BG51-CK$1>計算!$B$26,CK$66,($BG51-CK$1)/計算!$B$26*CK$66))","v":0},-4.2795897426811747E-3,4.2795897426811747E-3]
[null,null,null,null,null,null,null,null,null,null,null,null,{"$f":"IF($L52<M$1,0,IF($L52-M$1>計算!$B$26,M$66,($L52-M$1)/計算!$B$26*M$66))","v":0.2983353312641418},{"$f":"IF($L52<N$1,0,IF($L52-N$1>計算!$B$26,N$66,($L52-N$1)/計算!$B$26*N$66))","v":-0.89890989052282899},{"$f":"IF($L52<O$1,0,IF($L52-O$1>計算!$B$26,O$66,($L52-O$1)/計算!$B$26*O$66))","v":-0.21184658990487348},{"$f":"IF($L52<P$1,0,IF($L52-P$1>計算!$B$26,P$66,($L52-P$1)/計算!$B$26*P$66))","v":0.63830901206403412},{"$f":"IF($L52<Q$1,0,IF($L52-Q$1>計算!$B$26,Q$66,($L52-Q$1)/計算!$B$26*Q$66))","v":-0.21374580605087579},{"$f":"IF($L52<R$1,0,IF($L52-R$1>計算!$B$26,R$66,($L52-R$1)/計算!$B$26*R$66))","v":0.58793831734057156},{"$f":"IF($L52<S$1,0,IF($L52-S$1>計算!$B$26,S$66,($L52-S$1)/計算!$B$26*S$66))","v":0.26628907306790472},{"$f":"IF($L52<T$1,0,IF($L52-T$1>計算!$B$26,T$66,($L52-T$1)/計算!$B$26*T$66))","v":-0.47320266231569752},{"$f":"IF($L52<U$1,0,IF($L52-U$1>計算!$B$26,U$66,($L52-U$1)/計算!$B$26*U$66))","v":6.0087511789762682E-2},{"$f":"IF($L52<V$1,0,IF($L52-V$1>計算!$B$26,V$66,($L52-V$1)/計算!$B$26*V$66))","v":-5.0825194033370491E-2},{"$f":"IF($L52<W$1,0,IF($L52-W$1>計算!$B$26,W$66,($L52-W$1)/計算!$B$26*W$66))","v":0.29158188812572483},{"$f":"IF($L52<X$1,0,IF($L52-X$1>計算!$B$26,X$66,($L52-X$1)/計算!$B$26*X$66))","v":-0.33635698393373026},{"$f":"IF($L52<Y$1,0,IF($L52-Y$1>計算!$B$26,Y$66,($L52-Y$1)/計算!$B$26*Y$66))","v":-0.23732384043519716},{"$f":"IF($L52<Z$1,0,IF($L52-Z$1>計算!$B$26,Z$66,($L52-Z$1)/計算!$B$26*Z$66))","v":0.3484351373522887},{"$f":"IF($L52<AA$1,0,IF($L52-AA$1>計算!$B$26,AA$66,($L52-AA$1)/計算!$B$26*AA$66))","v":-8.7213024267986938E-2},{"$f":"IF($L52<AB$1,0,IF($L52-AB$1>計算!$B$26,AB$66,($L52-AB$1)/計算!$B$26*AB$66))","v":5.6563654982872968E-3},{"$f":"IF($L52<AC$1,0,IF($L52-AC$1>計算!$B$26,AC$66,($L52-AC$1)/計算!$B$26*AC$66))","v":-1.2085384954476752E-2},{"$f":"IF($L52<AD$1,0,IF($L52-AD$1>計算!$B$26,AD$66,($L52-AD$1)/計算!$B$26*AD$66))","v":0.10542406236172575},{"$f":"IF($L52<AE$1,0,IF($L52-AE$1>計算!$B$26,AE$66,($L52-AE$1)/計算!$B$26*AE$66))","v":-0.28279467405986669},{"$f":"IF($L52<AF$1,0,IF($L52-AF$1>計算!$B$26,AF$66,($L52-AF$1)/計算!$B$26*AF$66))","v":0.18504894450884757},{"$f":"IF($L52<AG$1,0,IF($L52-AG$1>計算!$B$26,AG$66,($L52-AG$1)/計算!$B$26*AG$66))","v":0.20847316613816691},{"$f":"IF($L52<AH$1,0,IF($L52-AH$1>計算!$B$26,AH$66,($L52-AH$1)/計算!$B$26*AH$66))","v":-0.27052971675150728},{"$f":"IF($L52<AI$1,0,IF($L52-AI$1>計算!$B$26,AI$66,($L52-AI$1)/計算!$B$26*AI$66))","v":9.3538754219008258E-2},{"$f":"IF($L52<AJ$1,0,IF($L52-AJ$1>計算!$B$26,AJ$66,($L52-AJ$1)/計算!$B$26*AJ$66))","v":-1.2226398010253603E-2},{"$f":"IF($L52<AK$1,0,IF($L52-AK$1>計算!$B$26,AK$66,($L52-AK$1)/計算!$B$26*AK$66))","v":5.0177234817792783E-4},{"$f":"IF($L52<AL$1,0,IF($L52-AL$1>計算!$B$26,AL$66,($L52-AL$1)/計算!$B$26*AL$66))","v":0},{"$f":"IF($L52<AM$1,0,IF($L52-AM$1>計算!$B$26,AM$66,($L52-AM$1)/計算!$B$26*AM$66))","v":0},{"$f":"IF($L52<AN$1,0,IF($L52-AN$1>計算!$B$26,AN$66,($L52-AN$1)/計算!$B$26*AN$66))","v":0},{"$f":"IF($L52<AO$1,0,IF($L52-AO$1>計算!$B$26,AO$66,($L52-AO$1)/計算!$B$26*AO$66))","v":0},{"$f":"IF($L52<AP$1,0,IF($L52-AP$1>計算!$B$26,AP$66,($L52-AP$1)/計算!$B$26*AP$66))","v":0},{"$f":"IF($L52<AQ$1,0,IF($L52-AQ$1>計算!$B$26,AQ$66,($L52-AQ$1)/計算!$B$26*AQ$66))","v":0},{"$f":"IF($L52<AR$1,0,IF($L52-AR$1>計算!$B$26,AR$66,($L52-AR$1)/計算!$B$26*AR$66))","v":0},{"$f":"IF($L52<AS$1,0,IF($L52-AS$1>計算!$B$26,AS$66,($L52-AS$1)/計算!$B$26*AS$66))","v":0},{"$f":"IF($L52<AT$1,0,IF($L52-AT$1>計算!$B$26,AT$66,($L52-AT$1)/計算!$B$26*AT$66))","v":0},{"$f":"IF($L52<AU$1,0,IF($L52-AU$1>計算!$B$26,AU$66,($L52-AU$1)/計算!$B$26*AU$66))","v":0},{"$f":"IF($L52<AV$1,0,IF($L52-AV$1>計算!$B$26,AV$66,($L52-AV$1)/計算!$B$26*AV$66))","v":0},2.5591708379771724E-3,-2.5591708379771724E-3,null,null,null,null,null,null,null,null,null,{"$f":"IF($BG52<BH$1,0,IF($BG52-BH$1>計算!$B$26,BH$66,($BG52-BH$1)/計算!$B$26*BH$66))","v":-0.67165999785768882},{"$f":"IF($BG52<BI$1,0,IF($BG52-BI$1>計算!$B$26,BI$66,($BG52-BI$1)/計算!$B$26*BI$66))","v":0.90868889604222969},{"$f":"IF($BG52<BJ$1,0,IF($BG52-BJ$1>計算!$B$26,BJ$66,($BG52-BJ$1)/計算!$B$26*BJ$66))","v":-0.15970956504964062},{"$f":"IF($BG52<BK$1,0,IF($BG52-BK$1>計算!$B$26,BK$66,($BG52-BK$1)/計算!$B$26*BK$66))","v":-0.21551880103922261},{"$f":"IF($BG52<BL$1,0,IF($BG52-BL$1>計算!$B$26,BL$66,($BG52-BL$1)/計算!$B$26*BL$66))","v":-3.6979193377590036E-2},{"$f":"IF($BG52<BM$1,0,IF($BG52-BM$1>計算!$B$26,BM$66,($BG52-BM$1)/計算!$B$26*BM$66))","v":8.5539846253473106E-2},{"$f":"IF($BG52<BN$1,0,IF($BG52-BN$1>計算!$B$26,BN$66,($BG52-BN$1)/計算!$B$26*BN$66))","v":-3.7976275570530404E-2},{"$f":"IF($BG52<BO$1,0,IF($BG52-BO$1>計算!$B$26,BO$66,($BG52-BO$1)/計算!$B$26*BO$66))","v":6.2162268050736214E-2},{"$f":"IF($BG52<BP$1,0,IF($BG52-BP$1>計算!$B$26,BP$66,($BG52-BP$1)/計算!$B$26*BP$66))","v":0.15755812631518906},{"$f":"IF($BG52<BQ$1,0,IF($BG52-BQ$1>計算!$B$26,BQ$66,($BG52-BQ$1)/計算!$B$26*BQ$66))","v":-1.203930779011364E-2},{"$f":"IF($BG52<BR$1,0,IF($BG52-BR$1>計算!$B$26,BR$66,($BG52-BR$1)/計算!$B$26*BR$66))","v":-6.422251715804006E-2},{"$f":"IF($BG52<BS$1,0,IF($BG52-BS$1>計算!$B$26,BS$66,($BG52-BS$1)/計算!$B$26*BS$66))","v":8.0523326838670695E-3},{"$f":"IF($BG52<BT$1,0,IF($BG52-BT$1>計算!$B$26,BT$66,($BG52-BT$1)/計算!$B$26*BT$66))","v":-9.0301260651520776E-3},{"$f":"IF($BG52<BU$1,0,IF($BG52-BU$1>計算!$B$26,BU$66,($BG52-BU$1)/計算!$B$26*BU$66))","v":4.1747936536487673E-2},{"$f":"IF($BG52<BV$1,0,IF($BG52-BV$1>計算!$B$26,BV$66,($BG52-BV$1)/計算!$B$26*BV$66))","v":-3.5110256083367153E-3},{"$f":"IF($BG52<BW$1,0,IF($BG52-BW$1>計算!$B$26,BW$66,($BG52-BW$1)/計算!$B$26*BW$66))","v":-9.9796700329851329E-2},{"$f":"IF($BG52<BX$1,0,IF($BG52-BX$1>計算!$B$26,BX$66,($BG52-BX$1)/計算!$B$26*BX$66))","v":9.6704798158792071E-3},{"$f":"IF($BG52<BY$1,0,IF($BG52-BY$1>計算!$B$26,BY$66,($BG52-BY$1)/計算!$B$26*BY$66))","v":4.2775407921305519E-2},{"$f":"IF($BG52<BZ$1,0,IF($BG52-BZ$1>計算!$B$26,BZ$66,($BG52-BZ$1)/計算!$B$26*BZ$66))","v":-1.1763541698946112E-2},{"$f":"IF($BG52<CA$1,0,IF($BG52-CA$1>計算!$B$26,CA$66,($BG52-CA$1)/計算!$B$26*CA$66))","v":7.5801003265218991E-4},{"$f":"IF($BG52<CB$1,0,IF($BG52-CB$1>計算!$B$26,CB$66,($BG52-CB$1)/計算!$B$26*CB$66))","v":-8.6638513149333196E-4},{"$f":"IF($BG52<CC$1,0,IF($BG52-CC$1>計算!$B$26,CC$66,($BG52-CC$1)/計算!$B$26*CC$66))","v":5.6509331926414639E-3},{"$f":"IF($BG52<CD$1,0,IF($BG52-CD$1>計算!$B$26,CD$66,($BG52-CD$1)/計算!$B$26*CD$66))","v":-8.5676502849615453E-3},{"$f":"IF($BG52<CE$1,0,IF($BG52-CE$1>計算!$B$26,CE$66,($BG52-CE$1)/計算!$B$26*CE$66))","v":-4.5952863214552041E-3},{"$f":"IF($BG52<CF$1,0,IF($BG52-CF$1>計算!$B$26,CF$66,($BG52-CF$1)/計算!$B$26*CF$66))","v":1.1445005975480566E-2},{"$f":"IF($BG52<CG$1,0,IF($BG52-CG$1>計算!$B$26,CG$66,($BG52-CG$1)/計算!$B$26*CG$66))","v":-6.4351206171053442E-4},{"$f":"IF($BG52<CH$1,0,IF($BG52-CH$1>計算!$B$26,CH$66,($BG52-CH$1)/計算!$B$26*CH$66))","v":-1.7033755536067319E-3},{"$f":"IF($BG52<CI$1,0,IF($BG52-CI$1>計算!$B$26,CI$66,($BG52-CI$1)/計算!$B$26*CI$66))","v":0},{"$f":"IF($BG52<CJ$1,0,IF($BG52-CJ$1>計算!$B$26,CJ$66,($BG52-CJ$1)/計算!$B$26*CJ$66))","v":0},{"$f":"IF($BG52<CK$1,0,IF($BG52-CK$1>計算!$B$26,CK$66,($BG52-CK$1)/計算!$B$26*CK$66))","v":0},-4.5340180783980093E-3,4.5340180783980093E-3]
[null,null,null,null,null,null,null,null,null,null,null,null,{"$f":"IF($L53<M$1,0,IF($L53-M$1>計算!$B$26,M$66,($L53-M$1)/計算!$B$26*M$66))","v":0.2983353312641418},{"$f":"IF($L53<N$1,0,IF($L53-N$1>計算!$B$26,N$66,($L53-N$1)/計算!$B$26*N$66))","v":-0.89890989052282899},{"$f":"IF($L53<O$1,0,IF($L53-O$1>計算!$B$26,O$66,($L53-O$1)/計算!$B$26*O$66))","v":-0.21184658990487348},{"$f":"IF($L53<P$1,0,IF($L53-P$1>計算!$B$26,P$66,($L53-P$1)/計算!$B$26*P$66))","v":0.63830901206403412},{"$f":"IF($L53<Q$1,0,IF($L53-Q$1>計算!$B$26,Q$66,($L53-Q$1)/計算!$B$26*Q$66))","v":-0.21374580605087579},{"$f":"IF($L53<R$1,0,IF($L53-R$1>計算!$B$26,R$66,($L53-R$1)/計算!$B$26*R$66))","v":0.58793831734057156},{"$f":"IF($L53<S$1,0,IF($L53-S$1>計算!$B$26,S$66,($L53-S$1)/計算!$B$26*S$66))","v":0.26628907306790472},{"$f":"IF($L53<T$1,0,IF($L53-T$1>計算!$B$26,T$66,($L53-T$1)/計算!$B$26*T$66))","v":-0.47320266231569752},{"$f":"IF($L53<U$1,0,IF($L53-U$1>計算!$B$26,U$66,($L53-U$1)/計算!$B$26*U$66))","v":6.0087511789762682E-2},{"$f":"IF($L53<V$1,0,IF($L53-V$1>計算!$B$26,V$66,($L53-V$1)/計算!$B$26*V$66))","v":-5.0825194033370491E-2},{"$f":"IF($L53<W$1,0,IF($L53-W$1>計算!$B$26,W$66,($L53-W$1)/計算!$B$26*W$66))","v":0.29158188812572483},{"$f":"IF($L53<X$1,0,IF($L53-X$1>計算!$B$26,X$66,($L53-X$1)/計算!$B$26*X$66))","v":-0.33635698393373026},{"$f":"IF($L53<Y$1,0,IF($L53-Y$1>計算!$B$26,Y$66,($L53-Y$1)/計算!$B$26*Y$66))","v":-0.23732384043519716},{"$f":"IF($L53<Z$1,0,IF($L53-Z$1>計算!$B$26,Z$66,($L53-Z$1)/計算!$B$26*Z$66))","v":0.3484351373522887},{"$f":"IF($L53<AA$1,0,IF($L53-AA$1>計算!$B$26,AA$66,($L53-AA$1)/計算!$B$26*AA$66))","v":-8.7213024267986938E-2},{"$f":"IF($L53<AB$1,0,IF($L53-AB$1>計算!$B$26,AB$66,($L53-AB$1)/計算!$B$26*AB$66))","v":5.6563654982872968E-3},{"$f":"IF($L53<AC$1,0,IF($L53-AC$1>計算!$B$26,AC$66,($L53-AC$1)/計算!$B$26*AC$66))","v":-1.2085384954476752E-2},{"$f":"IF($L53<AD$1,0,IF($L53-AD$1>計算!$B$26,AD$66,($L53-AD$1)/計算!$B$26*AD$66))","v":0.10542406236172575},{"$f":"IF($L53<AE$1,0,IF($L53-AE$1>計算!$B$26,AE$66,($L53-AE$1)/計算!$B$26*AE$66))","v":-0.28279467405986669},{"$f":"IF($L53<AF$1,0,IF($L53-AF$1>計算!$B$26,AF$66,($L53-AF$1)/計算!$B$26*AF$66))","v":0.18504894450884757},{"$f":"IF($L53<AG$1,0,IF($L53-AG$1>計算!$B$26,AG$66,($L53-AG$1)/計算!$B$26*AG$66))","v":0.20847316613816691},{"$f":"IF($L53<AH$1,0,IF($L53-AH$1>計算!$B$26,AH$66,($L53-AH$1)/計算!$B$26*AH$66))","v":-0.27052971675150728},{"$f":"IF($L53<AI$1,0,IF($L53-AI$1>計算!$B$26,AI$66,($L53-AI$1)/計算!$B$26*AI$66))","v":9.3538754219008258E-2},{"$f":"IF($L53<AJ$1,0,IF($L53-AJ$1>計算!$B$26,AJ$66,($L53-AJ$1)/計算!$B$26*AJ$66))","v":-1.2226398010253603E-2},{"$f":"IF($L53<AK$1,0,IF($L53-AK$1>計算!$B$26,AK$66,($L53-AK$1)/計算!$B$26*AK$66))","v":5.3246456205668924E-4},{"$f":"IF($L53<AL$1,0,IF($L53-AL$1>計算!$B$26,AL$66,($L53-AL$1)/計算!$B$26*AL$66))","v":0},{"$f":"IF($L53<AM$1,0,IF($L53-AM$1>計算!$B$26,AM$66,($L53-AM$1)/計算!$B$26*AM$66))","v":0},{"$f":"IF($L53<AN$1,0,IF($L53-AN$1>計算!$B$26,AN$66,($L53-AN$1)/計算!$B$26*AN$66))","v":0},{"$f":"IF($L53<AO$1,0,IF($L53-AO$1>計算!$B$26,AO$66,($L53-AO$1)/計算!$B$26*AO$66))","v":0},{"$f":"IF($L53<AP$1,0,IF($L53-AP$1>計算!$B$26,AP$66,($L53-AP$1)/計算!$B$26*AP$66))","v":0},{"$f":"IF($L53<AQ$1,0,IF($L53-AQ$1>計算!$B$26,AQ$66,($L53-AQ$1)/計算!$B$26*AQ$66))","v":0},{"$f":"IF($L53<AR$1,0,IF($L53-AR$1>計算!$B$26,AR$66,($L53-AR$1)/計算!$B$26*AR$66))","v":0},{"$f":"IF($L53<AS$1,0,IF($L53-AS$1>計算!$B$26,AS$66,($L53-AS$1)/計算!$B$26*AS$66))","v":0},{"$f":"IF($L53<AT$1,0,IF($L53-AT$1>計算!$B$26,AT$66,($L53-AT$1)/計算!$B$26*AT$66))","v":0},{"$f":"IF($L53<AU$1,0,IF($L53-AU$1>計算!$B$26,AU$66,($L53-AU$1)/計算!$B$26*AU$66))","v":0},{"$f":"IF($L53<AV$1,0,IF($L53-AV$1>計算!$B$26,AV$66,($L53-AV$1)/計算!$B$26*AV$66))","v":0},2.589863051855934E-3,-2.589863051855934E-3,null,null,null,null,null,null,null,null,null,{"$f":"IF($BG53<BH$1,0,IF($BG53-BH$1>計算!$B$26,BH$66,($BG53-BH$1)/計算!$B$26*BH$66))","v":-0.67165999785768882},{"$f":"IF($BG53<BI$1,0,IF($BG53-BI$1>計算!$B$26,BI$66,($BG53-BI$1)/計算!$B$26*BI$66))","v":0.90868889604222969},{"$f":"IF($BG53<BJ$1,0,IF($BG53-BJ$1>計算!$B$26,BJ$66,($BG53-BJ$1)/計算!$B$26*BJ$66))","v":-0.15970956504964062},{"$f":"IF($BG53<BK$1,0,IF($BG53-BK$1>計算!$B$26,BK$66,($BG53-BK$1)/計算!$B$26*BK$66))","v":-0.21551880103922261},{"$f":"IF($BG53<BL$1,0,IF($BG53-BL$1>計算!$B$26,BL$66,($BG53-BL$1)/計算!$B$26*BL$66))","v":-3.6979193377590036E-2},{"$f":"IF($BG53<BM$1,0,IF($BG53-BM$1>計算!$B$26,BM$66,($BG53-BM$1)/計算!$B$26*BM$66))","v":8.5539846253473106E-2},{"$f":"IF($BG53<BN$1,0,IF($BG53-BN$1>計算!$B$26,BN$66,($BG53-BN$1)/計算!$B$26*BN$66))","v":-3.7976275570530404E-2},{"$f":"IF($BG53<BO$1,0,IF($BG53-BO$1>計算!$B$26,BO$66,($BG53-BO$1)/計算!$B$26*BO$66))","v":6.2162268050736214E-2},{"$f":"IF($BG53<BP$1,0,IF($BG53-BP$1>計算!$B$26,BP$66,($BG53-BP$1)/計算!$B$26*BP$66))","v":0.15755812631518906},{"$f":"IF($BG53<BQ$1,0,IF($BG53-BQ$1>計算!$B$26,BQ$66,($BG53-BQ$1)/計算!$B$26*BQ$66))","v":-1.203930779011364E-2},{"$f":"IF($BG53<BR$1,0,IF($BG53-BR$1>計算!$B$26,BR$66,($BG53-BR$1)/計算!$B$26*BR$66))","v":-6.422251715804006E-2},{"$f":"IF($BG53<BS$1,0,IF($BG53-BS$1>計算!$B$26,BS$66,($BG53-BS$1)/計算!$B$26*BS$66))","v":8.0523326838670695E-3},{"$f":"IF($BG53<BT$1,0,IF($BG53-BT$1>計算!$B$26,BT$66,($BG53-BT$1)/計算!$B$26*BT$66))","v":-9.0301260651520776E-3},{"$f":"IF($BG53<BU$1,0,IF($BG53-BU$1>計算!$B$26,BU$66,($BG53-BU$1)/計算!$B$26*BU$66))","v":4.1747936536487673E-2},{"$f":"IF($BG53<BV$1,0,IF($BG53-BV$1>計算!$B$26,BV$66,($BG53-BV$1)/計算!$B$26*BV$66))","v":-3.5110256083367153E-3},{"$f":"IF($BG53<BW$1,0,IF($BG53-BW$1>計算!$B$26,BW$66,($BG53-BW$1)/計算!$B$26*BW$66))","v":-9.9796700329851329E-2},{"$f":"IF($BG53<BX$1,0,IF($BG53-BX$1>計算!$B$26,BX$66,($BG53-BX$1)/計算!$B$26*BX$66))","v":9.6704798158792071E-3},{"$f":"IF($BG53<BY$1,0,IF($BG53-BY$1>計算!$B$26,BY$66,($BG53-BY$1)/計算!$B$26*BY$66))","v":4.2775407921305519E-2},{"$f":"IF($BG53<BZ$1,0,IF($BG53-BZ$1>計算!$B$26,BZ$66,($BG53-BZ$1)/計算!$B$26*BZ$66))","v":-1.1763541698946112E-2},{"$f":"IF($BG53<CA$1,0,IF($BG53-CA$1>計算!$B$26,CA$66,($BG53-CA$1)/計算!$B$26*CA$66))","v":7.5801003265218991E-4},{"$f":"IF($BG53<CB$1,0,IF($BG53-CB$1>計算!$B$26,CB$66,($BG53-CB$1)/計算!$B$26*CB$66))","v":-9.9015443599238372E-4},{"$f":"IF($BG53<CC$1,0,IF($BG53-CC$1>計算!$B$26,CC$66,($BG53-CC$1)/計算!$B$26*CC$66))","v":6.5927553914150805E-3},{"$f":"IF($BG53<CD$1,0,IF($BG53-CD$1>計算!$B$26,CD$66,($BG53-CD$1)/計算!$B$26*CD$66))","v":-1.0281180341953917E-2},{"$f":"IF($BG53<CE$1,0,IF($BG53-CE$1>計算!$B$26,CE$66,($BG53-CE$1)/計算!$B$26*CE$66))","v":-5.7441079018190578E-3},{"$f":"IF($BG53<CF$1,0,IF($BG53-CF$1>計算!$B$26,CF$66,($BG53-CF$1)/計算!$B$26*CF$66))","v":1.5260007967307499E-2},{"$f":"IF($BG53<CG$1,0,IF($BG53-CG$1>計算!$B$26,CG$66,($BG53-CG$1)/計算!$B$26*CG$66))","v":-9.6526809256582136E-4},{"$f":"IF($BG53<CH$1,0,IF($BG53-CH$1>計算!$B$26,CH$66,($BG53-CH$1)/計算!$B$26*CH$66))","v":-3.4067511072135687E-3},{"$f":"IF($BG53<CI$1,0,IF($BG53-CI$1>計算!$B$26,CI$66,($BG53-CI$1)/計算!$B$26*CI$66))","v":7.0440178483960271E-4},{"$f":"IF($BG53<CJ$1,0,IF($BG53-CJ$1>計算!$B$26,CJ$66,($BG53-CJ$1)/計算!$B$26*CJ$66))","v":0},{"$f":"IF($BG53<CK$1,0,IF($BG53-CK$1>計算!$B$26,CK$66,($BG53-CK$1)/計算!$B$26*CK$66))","v":0},-4.0840446292752597E-3,4.0840446292752597E-3]
[null,null,null,null,null,null,null,null,null,null,null,null,{"$f":"IF($L54<M$1,0,IF($L54-M$1>計算!$B$26,M$66,($L54-M$1)/計算!$B$26*M$66))","v":0.2983353312641418},{"$f":"IF($L54<N$1,0,IF($L54-N$1>計算!$B$26,N$66,($L54-N$1)/計算!$B$26*N$66))","v":-0.89890989052282899},{"$f":"IF($L54<O$1,0,IF($L54-O$1>計算!$B$26,O$66,($L54-O$1)/計算!$B$26*O$66))","v":-0.21184658990487348},{"$f":"IF($L54<P$1,0,IF($L54-P$1>計算!$B$26,P$66,($L54-P$1)/計算!$B$26*P$66))","v":0.63830901206403412},{"$f":"IF($L54<Q$1,0,IF($L54-Q$1>計算!$B$26,Q$66,($L54-Q$1)/計算!$B$26*Q$66))","v":-0.21374580605087579},{"$f":"IF($L54<R$1,0,IF($L54-R$1>計算!$B$26,R$66,($L54-R$1)/計算!$B$26*R$66))","v":0.58793831734057156},{"$f":"IF($L54<S$1,0,IF($L54-S$1>計算!$B$26,S$66,($L54-S$1)/計算!$B$26*S$66))","v":0.26628907306790472},{"$f":"IF($L54<T$1,0,IF($L54-T$1>計算!$B$26,T$66,($L54-T$1)/計算!$B$26*T$66))","v":-0.47320266231569752},{"$f":"IF($L54<U$1,0,IF($L54-U$1>計算!$B$26,U$66,($L54-U$1)/計算!$B$26*U$66))","v":6.0087511789762682E-2},{"$f":"IF($L54<V$1,0,IF($L54-V$1>計算!$B$26,V$66,($L54-V$1)/計算!$B$26*V$66))","v":-5.0825194033370491E-2},{"$f":"IF($L54<W$1,0,IF($L54-W$1>計算!$B$26,W$66,($L54-W$1)/計算!$B$26*W$66))","v":0.29158188812572483},{"$f":"IF($L54<X$1,0,IF($L54-X$1>計算!$B$26,X$66,($L54-X$1)/計算!$B$26*X$66))","v":-0.33635698393373026},{"$f":"IF($L54<Y$1,0,IF($L54-Y$1>計算!$B$26,Y$66,($L54-Y$1)/計算!$B$26*Y$66))","v":-0.23732384043519716},{"$f":"IF($L54<Z$1,0,IF($L54-Z$1>計算!$B$26,Z$66,($L54-Z$1)/計算!$B$26*Z$66))","v":0.3484351373522887},{"$f":"IF($L54<AA$1,0,IF($L54-AA$1>計算!$B$26,AA$66,($L54-AA$1)/計算!$B$26*AA$66))","v":-8.7213024267986938E-2},{"$f":"IF($L54<AB$1,0,IF($L54-AB$1>計算!$B$26,AB$66,($L54-AB$1)/計算!$B$26*AB$66))","v":5.6563654982872968E-3},{"$f":"IF($L54<AC$1,0,IF($L54-AC$1>計算!$B$26,AC$66,($L54-AC$1)/計算!$B$26*AC$66))","v":-1.2085384954476752E-2},{"$f":"IF($L54<AD$1,0,IF($L54-AD$1>計算!$B$26,AD$66,($L54-AD$1)/計算!$B$26*AD$66))","v":0.10542406236172575},{"$f":"IF($L54<AE$1,0,IF($L54-AE$1>計算!$B$26,AE$66,($L54-AE$1)/計算!$B$26*AE$66))","v":-0.28279467405986669},{"$f":"IF($L54<AF$1,0,IF($L54-AF$1>計算!$B$26,AF$66,($L54-AF$1)/計算!$B$26*AF$66))","v":0.18504894450884757},{"$f":"IF($L54<AG$1,0,IF($L54-AG$1>計算!$B$26,AG$66,($L54-AG$1)/計算!$B$26*AG$66))","v":0.20847316613816691},{"$f":"IF($L54<AH$1,0,IF($L54-AH$1>計算!$B$26,AH$66,($L54-AH$1)/計算!$B$26*AH$66))","v":-0.27052971675150728},{"$f":"IF($L54<AI$1,0,IF($L54-AI$1>計算!$B$26,AI$66,($L54-AI$1)/計算!$B$26*AI$66))","v":9.3538754219008258E-2},{"$f":"IF($L54<AJ$1,0,IF($L54-AJ$1>計算!$B$26,AJ$66,($L54-AJ$1)/計算!$B$26*AJ$66))","v":-1.2226398010253603E-2},{"$f":"IF($L54<AK$1,0,IF($L54-AK$1>計算!$B$26,AK$66,($L54-AK$1)/計算!$B$26*AK$66))","v":5.3246456205668924E-4},{"$f":"IF($L54<AL$1,0,IF($L54-AL$1>計算!$B$26,AL$66,($L54-AL$1)/計算!$B$26*AL$66))","v":0},{"$f":"IF($L54<AM$1,0,IF($L54-AM$1>計算!$B$26,AM$66,($L54-AM$1)/計算!$B$26*AM$66))","v":0},{"$f":"IF($L54<AN$1,0,IF($L54-AN$1>計算!$B$26,AN$66,($L54-AN$1)/計算!$B$26*AN$66))","v":0},{"$f":"IF($L54<AO$1,0,IF($L54-AO$1>計算!$B$26,AO$66,($L54-AO$1)/計算!$B$26*AO$66))","v":0},{"$f":"IF($L54<AP$1,0,IF($L54-AP$1>計算!$B$26,AP$66,($L54-AP$1)/計算!$B$26*AP$66))","v":0},{"$f":"IF($L54<AQ$1,0,IF($L54-AQ$1>計算!$B$26,AQ$66,($L54-AQ$1)/計算!$B$26*AQ$66))","v":0},{"$f":"IF($L54<AR$1,0,IF($L54-AR$1>計算!$B$26,AR$66,($L54-AR$1)/計算!$B$26*AR$66))","v":0},{"$f":"IF($L54<AS$1,0,IF($L54-AS$1>計算!$B$26,AS$66,($L54-AS$1)/計算!$B$26*AS$66))","v":0},{"$f":"IF($L54<AT$1,0,IF($L54-AT$1>計算!$B$26,AT$66,($L54-AT$1)/計算!$B$26*AT$66))","v":0},{"$f":"IF($L54<AU$1,0,IF($L54-AU$1>計算!$B$26,AU$66,($L54-AU$1)/計算!$B$26*AU$66))","v":0},{"$f":"IF($L54<AV$1,0,IF($L54-AV$1>計算!$B$26,AV$66,($L54-AV$1)/計算!$B$26*AV$66))","v":0},2.589863051855934E-3,-2.589863051855934E-3,null,null,null,null,null,null,null,null,null,{"$f":"IF($BG54<BH$1,0,IF($BG54-BH$1>計算!$B$26,BH$66,($BG54-BH$1)/計算!$B$26*BH$66))","v":-0.67165999785768882},{"$f":"IF($BG54<BI$1,0,IF($BG54-BI$1>計算!$B$26,BI$66,($BG54-BI$1)/計算!$B$26*BI$66))","v":0.90868889604222969},{"$f":"IF($BG54<BJ$1,0,IF($BG54-BJ$1>計算!$B$26,BJ$66,($BG54-BJ$1)/計算!$B$26*BJ$66))","v":-0.15970956504964062},{"$f":"IF($BG54<BK$1,0,IF($BG54-BK$1>計算!$B$26,BK$66,($BG54-BK$1)/計算!$B$26*BK$66))","v":-0.21551880103922261},{"$f":"IF($BG54<BL$1,0,IF($BG54-BL$1>計算!$B$26,BL$66,($BG54-BL$1)/計算!$B$26*BL$66))","v":-3.6979193377590036E-2},{"$f":"IF($BG54<BM$1,0,IF($BG54-BM$1>計算!$B$26,BM$66,($BG54-BM$1)/計算!$B$26*BM$66))","v":8.5539846253473106E-2},{"$f":"IF($BG54<BN$1,0,IF($BG54-BN$1>計算!$B$26,BN$66,($BG54-BN$1)/計算!$B$26*BN$66))","v":-3.7976275570530404E-2},{"$f":"IF($BG54<BO$1,0,IF($BG54-BO$1>計算!$B$26,BO$66,($BG54-BO$1)/計算!$B$26*BO$66))","v":6.2162268050736214E-2},{"$f":"IF($BG54<BP$1,0,IF($BG54-BP$1>計算!$B$26,BP$66,($BG54-BP$1)/計算!$B$26*BP$66))","v":0.15755812631518906},{"$f":"IF($BG54<BQ$1,0,IF($BG54-BQ$1>計算!$B$26,BQ$66,($BG54-BQ$1)/計算!$B$26*BQ$66))","v":-1.203930779011364E-2},{"$f":"IF($BG54<BR$1,0,IF($BG54-BR$1>計算!$B$26,BR$66,($BG54-BR$1)/計算!$B$26*BR$66))","v":-6.422251715804006E-2},{"$f":"IF($BG54<BS$1,0,IF($BG54-BS$1>計算!$B$26,BS$66,($BG54-BS$1)/計算!$B$26*BS$66))","v":8.0523326838670695E-3},{"$f":"IF($BG54<BT$1,0,IF($BG54-BT$1>計算!$B$26,BT$66,($BG54-BT$1)/計算!$B$26*BT$66))","v":-9.0301260651520776E-3},{"$f":"IF($BG54<BU$1,0,IF($BG54-BU$1>計算!$B$26,BU$66,($BG54-BU$1)/計算!$B$26*BU$66))","v":4.1747936536487673E-2},{"$f":"IF($BG54<BV$1,0,IF($BG54-BV$1>計算!$B$26,BV$66,($BG54-BV$1)/計算!$B$26*BV$66))","v":-3.5110256083367153E-3},{"$f":"IF($BG54<BW$1,0,IF($BG54-BW$1>計算!$B$26,BW$66,($BG54-BW$1)/計算!$B$26*BW$66))","v":-9.9796700329851329E-2},{"$f":"IF($BG54<BX$1,0,IF($BG54-BX$1>計算!$B$26,BX$66,($BG54-BX$1)/計算!$B$26*BX$66))","v":9.6704798158792071E-3},{"$f":"IF($BG54<BY$1,0,IF($BG54-BY$1>計算!$B$26,BY$66,($BG54-BY$1)/計算!$B$26*BY$66))","v":4.2775407921305519E-2},{"$f":"IF($BG54<BZ$1,0,IF($BG54-BZ$1>計算!$B$26,BZ$66,($BG54-BZ$1)/計算!$B$26*BZ$66))","v":-1.1763541698946112E-2},{"$f":"IF($BG54<CA$1,0,IF($BG54-CA$1>計算!$B$26,CA$66,($BG54-CA$1)/計算!$B$26*CA$66))","v":7.5801003265218991E-4},{"$f":"IF($BG54<CB$1,0,IF($BG54-CB$1>計算!$B$26,CB$66,($BG54-CB$1)/計算!$B$26*CB$66))","v":-1.1139237404914279E-3},{"$f":"IF($BG54<CC$1,0,IF($BG54-CC$1>計算!$B$26,CC$66,($BG54-CC$1)/計算!$B$26*CC$66))","v":7.5345775901886382E-3},{"$f":"IF($BG54<CD$1,0,IF($BG54-CD$1>計算!$B$26,CD$66,($BG54-CD$1)/計算!$B$26*CD$66))","v":-1.1994710398946184E-2},{"$f":"IF($BG54<CE$1,0,IF($BG54-CE$1>計算!$B$26,CE$66,($BG54-CE$1)/計算!$B$26*CE$66))","v":-6.8929294821828413E-3},{"$f":"IF($BG54<CF$1,0,IF($BG54-CF$1>計算!$B$26,CF$66,($BG54-CF$1)/計算!$B$26*CF$66))","v":1.9075009959134196E-2},{"$f":"IF($BG54<CG$1,0,IF($BG54-CG$1>計算!$B$26,CG$66,($BG54-CG$1)/計算!$B$26*CG$66))","v":-1.2870241234210886E-3},{"$f":"IF($BG54<CH$1,0,IF($BG54-CH$1>計算!$B$26,CH$66,($BG54-CH$1)/計算!$B$26*CH$66))","v":-5.1101266608203008E-3},{"$f":"IF($BG54<CI$1,0,IF($BG54-CI$1>計算!$B$26,CI$66,($BG54-CI$1)/計算!$B$26*CI$66))","v":1.4088035696791621E-3},{"$f":"IF($BG54<CJ$1,0,IF($BG54-CJ$1>計算!$B$26,CJ$66,($BG54-CJ$1)/計算!$B$26*CJ$66))","v":-9.4856876455636774E-5},{"$f":"IF($BG54<CK$1,0,IF($BG54-CK$1>計算!$B$26,CK$66,($BG54-CK$1)/計算!$B$26*CK$66))","v":0},-3.7289280566081759E-3,3.7289280566081759E-3]
[null,null,null,null,null,null,null,null,null,null,null,null,{"$f":"IF($L55<M$1,0,IF($L55-M$1>計算!$B$26,M$66,($L55-M$1)/計算!$B$26*M$66))","v":0.2983353312641418},{"$f":"IF($L55<N$1,0,IF($L55-N$1>計算!$B$26,N$66,($L55-N$1)/計算!$B$26*N$66))","v":-0.89890989052282899},{"$f":"IF($L55<O$1,0,IF($L55-O$1>計算!$B$26,O$66,($L55-O$1)/計算!$B$26*O$66))","v":-0.21184658990487348},{"$f":"IF($L55<P$1,0,IF($L55-P$1>計算!$B$26,P$66,($L55-P$1)/計算!$B$26*P$66))","v":0.63830901206403412},{"$f":"IF($L55<Q$1,0,IF($L55-Q$1>計算!$B$26,Q$66,($L55-Q$1)/計算!$B$26*Q$66))","v":-0.21374580605087579},{"$f":"IF($L55<R$1,0,IF($L55-R$1>計算!$B$26,R$66,($L55-R$1)/計算!$B$26*R$66))","v":0.58793831734057156},{"$f":"IF($L55<S$1,0,IF($L55-S$1>計算!$B$26,S$66,($L55-S$1)/計算!$B$26*S$66))","v":0.26628907306790472},{"$f":"IF($L55<T$1,0,IF($L55-T$1>計算!$B$26,T$66,($L55-T$1)/計算!$B$26*T$66))","v":-0.47320266231569752},{"$f":"IF($L55<U$1,0,IF($L55-U$1>計算!$B$26,U$66,($L55-U$1)/計算!$B$26*U$66))","v":6.0087511789762682E-2},{"$f":"IF($L55<V$1,0,IF($L55-V$1>計算!$B$26,V$66,($L55-V$1)/計算!$B$26*V$66))","v":-5.0825194033370491E-2},{"$f":"IF($L55<W$1,0,IF($L55-W$1>計算!$B$26,W$66,($L55-W$1)/計算!$B$26*W$66))","v":0.29158188812572483},{"$f":"IF($L55<X$1,0,IF($L55-X$1>計算!$B$26,X$66,($L55-X$1)/計算!$B$26*X$66))","v":-0.33635698393373026},{"$f":"IF($L55<Y$1,0,IF($L55-Y$1>計算!$B$26,Y$66,($L55-Y$1)/計算!$B$26*Y$66))","v":-0.23732384043519716},{"$f":"IF($L55<Z$1,0,IF($L55-Z$1>計算!$B$26,Z$66,($L55-Z$1)/計算!$B$26*Z$66))","v":0.3484351373522887},{"$f":"IF($L55<AA$1,0,IF($L55-AA$1>計算!$B$26,AA$66,($L55-AA$1)/計算!$B$26*AA$66))","v":-8.7213024267986938E-2},{"$f":"IF($L55<AB$1,0,IF($L55-AB$1>計算!$B$26,AB$66,($L55-AB$1)/計算!$B$26*AB$66))","v":5.6563654982872968E-3},{"$f":"IF($L55<AC$1,0,IF($L55-AC$1>計算!$B$26,AC$66,($L55-AC$1)/計算!$B$26*AC$66))","v":-1.2085384954476752E-2},{"$f":"IF($L55<AD$1,0,IF($L55-AD$1>計算!$B$26,AD$66,($L55-AD$1)/計算!$B$26*AD$66))","v":0.10542406236172575},{"$f":"IF($L55<AE$1,0,IF($L55-AE$1>計算!$B$26,AE$66,($L55-AE$1)/計算!$B$26*AE$66))","v":-0.28279467405986669},{"$f":"IF($L55<AF$1,0,IF($L55-AF$1>計算!$B$26,AF$66,($L55-AF$1)/計算!$B$26*AF$66))","v":0.18504894450884757},{"$f":"IF($L55<AG$1,0,IF($L55-AG$1>計算!$B$26,AG$66,($L55-AG$1)/計算!$B$26*AG$66))","v":0.20847316613816691},{"$f":"IF($L55<AH$1,0,IF($L55-AH$1>計算!$B$26,AH$66,($L55-AH$1)/計算!$B$26*AH$66))","v":-0.27052971675150728},{"$f":"IF($L55<AI$1,0,IF($L55-AI$1>計算!$B$26,AI$66,($L55-AI$1)/計算!$B$26*AI$66))","v":9.3538754219008258E-2},{"$f":"IF($L55<AJ$1,0,IF($L55-AJ$1>計算!$B$26,AJ$66,($L55-AJ$1)/計算!$B$26*AJ$66))","v":-1.2226398010253603E-2},{"$f":"IF($L55<AK$1,0,IF($L55-AK$1>計算!$B$26,AK$66,($L55-AK$1)/計算!$B$26*AK$66))","v":5.3246456205668924E-4},{"$f":"IF($L55<AL$1,0,IF($L55-AL$1>計算!$B$26,AL$66,($L55-AL$1)/計算!$B$26*AL$66))","v":0},{"$f":"IF($L55<AM$1,0,IF($L55-AM$1>計算!$B$26,AM$66,($L55-AM$1)/計算!$B$26*AM$66))","v":0},{"$f":"IF($L55<AN$1,0,IF($L55-AN$1>計算!$B$26,AN$66,($L55-AN$1)/計算!$B$26*AN$66))","v":0},{"$f":"IF($L55<AO$1,0,IF($L55-AO$1>計算!$B$26,AO$66,($L55-AO$1)/計算!$B$26*AO$66))","v":0},{"$f":"IF($L55<AP$1,0,IF($L55-AP$1>計算!$B$26,AP$66,($L55-AP$1)/計算!$B$26*AP$66))","v":0},{"$f":"IF($L55<AQ$1,0,IF($L55-AQ$1>計算!$B$26,AQ$66,($L55-AQ$1)/計算!$B$26*AQ$66))","v":0},{"$f":"IF($L55<AR$1,0,IF($L55-AR$1>計算!$B$26,AR$66,($L55-AR$1)/計算!$B$26*AR$66))","v":0},{"$f":"IF($L55<AS$1,0,IF($L55-AS$1>計算!$B$26,AS$66,($L55-AS$1)/計算!$B$26*AS$66))","v":0},{"$f":"IF($L55<AT$1,0,IF($L55-AT$1>計算!$B$26,AT$66,($L55-AT$1)/計算!$B$26*AT$66))","v":0},{"$f":"IF($L55<AU$1,0,IF($L55-AU$1>計算!$B$26,AU$66,($L55-AU$1)/計算!$B$26*AU$66))","v":0},{"$f":"IF($L55<AV$1,0,IF($L55-AV$1>計算!$B$26,AV$66,($L55-AV$1)/計算!$B$26*AV$66))","v":0},2.589863051855934E-3,-2.589863051855934E-3,null,null,null,null,null,null,null,null,null,{"$f":"IF($BG55<BH$1,0,IF($BG55-BH$1>計算!$B$26,BH$66,($BG55-BH$1)/計算!$B$26*BH$66))","v":-0.67165999785768882},{"$f":"IF($BG55<BI$1,0,IF($BG55-BI$1>計算!$B$26,BI$66,($BG55-BI$1)/計算!$B$26*BI$66))","v":0.90868889604222969},{"$f":"IF($BG55<BJ$1,0,IF($BG55-BJ$1>計算!$B$26,BJ$66,($BG55-BJ$1)/計算!$B$26*BJ$66))","v":-0.15970956504964062},{"$f":"IF($BG55<BK$1,0,IF($BG55-BK$1>計算!$B$26,BK$66,($BG55-BK$1)/計算!$B$26*BK$66))","v":-0.21551880103922261},{"$f":"IF($BG55<BL$1,0,IF($BG55-BL$1>計算!$B$26,BL$66,($BG55-BL$1)/計算!$B$26*BL$66))","v":-3.6979193377590036E-2},{"$f":"IF($BG55<BM$1,0,IF($BG55-BM$1>計算!$B$26,BM$66,($BG55-BM$1)/計算!$B$26*BM$66))","v":8.5539846253473106E-2},{"$f":"IF($BG55<BN$1,0,IF($BG55-BN$1>計算!$B$26,BN$66,($BG55-BN$1)/計算!$B$26*BN$66))","v":-3.7976275570530404E-2},{"$f":"IF($BG55<BO$1,0,IF($BG55-BO$1>計算!$B$26,BO$66,($BG55-BO$1)/計算!$B$26*BO$66))","v":6.2162268050736214E-2},{"$f":"IF($BG55<BP$1,0,IF($BG55-BP$1>計算!$B$26,BP$66,($BG55-BP$1)/計算!$B$26*BP$66))","v":0.15755812631518906},{"$f":"IF($BG55<BQ$1,0,IF($BG55-BQ$1>計算!$B$26,BQ$66,($BG55-BQ$1)/計算!$B$26*BQ$66))","v":-1.203930779011364E-2},{"$f":"IF($BG55<BR$1,0,IF($BG55-BR$1>計算!$B$26,BR$66,($BG55-BR$1)/計算!$B$26*BR$66))","v":-6.422251715804006E-2},{"$f":"IF($BG55<BS$1,0,IF($BG55-BS$1>計算!$B$26,BS$66,($BG55-BS$1)/計算!$B$26*BS$66))","v":8.0523326838670695E-3},{"$f":"IF($BG55<BT$1,0,IF($BG55-BT$1>計算!$B$26,BT$66,($BG55-BT$1)/計算!$B$26*BT$66))","v":-9.0301260651520776E-3},{"$f":"IF($BG55<BU$1,0,IF($BG55-BU$1>計算!$B$26,BU$66,($BG55-BU$1)/計算!$B$26*BU$66))","v":4.1747936536487673E-2},{"$f":"IF($BG55<BV$1,0,IF($BG55-BV$1>計算!$B$26,BV$66,($BG55-BV$1)/計算!$B$26*BV$66))","v":-3.5110256083367153E-3},{"$f":"IF($BG55<BW$1,0,IF($BG55-BW$1>計算!$B$26,BW$66,($BG55-BW$1)/計算!$B$26*BW$66))","v":-9.9796700329851329E-2},{"$f":"IF($BG55<BX$1,0,IF($BG55-BX$1>計算!$B$26,BX$66,($BG55-BX$1)/計算!$B$26*BX$66))","v":9.6704798158792071E-3},{"$f":"IF($BG55<BY$1,0,IF($BG55-BY$1>計算!$B$26,BY$66,($BG55-BY$1)/計算!$B$26*BY$66))","v":4.2775407921305519E-2},{"$f":"IF($BG55<BZ$1,0,IF($BG55-BZ$1>計算!$B$26,BZ$66,($BG55-BZ$1)/計算!$B$26*BZ$66))","v":-1.1763541698946112E-2},{"$f":"IF($BG55<CA$1,0,IF($BG55-CA$1>計算!$B$26,CA$66,($BG55-CA$1)/計算!$B$26*CA$66))","v":7.5801003265218991E-4},{"$f":"IF($BG55<CB$1,0,IF($BG55-CB$1>計算!$B$26,CB$66,($BG55-CB$1)/計算!$B$26*CB$66))","v":-2.1472136360789484E-3},{"$f":"IF($BG55<CC$1,0,IF($BG55-CC$1>計算!$B$26,CC$66,($BG55-CC$1)/計算!$B$26*CC$66))","v":1.5397401209784153E-2},{"$f":"IF($BG55<CD$1,0,IF($BG55-CD$1>計算!$B$26,CD$66,($BG55-CD$1)/計算!$B$26*CD$66))","v":-2.6300154274181278E-2},{"$f":"IF($BG55<CE$1,0,IF($BG55-CE$1>計算!$B$26,CE$66,($BG55-CE$1)/計算!$B$26*CE$66))","v":-1.6483892052982469E-2},{"$f":"IF($BG55<CF$1,0,IF($BG55-CF$1>計算!$B$26,CF$66,($BG55-CF$1)/計算!$B$26*CF$66))","v":5.0924639123960232E-2},{"$f":"IF($BG55<CG$1,0,IF($BG55-CG$1>計算!$B$26,CG$66,($BG55-CG$1)/計算!$B$26*CG$66))","v":-3.9732115189300829E-3},{"$f":"IF($BG55<CH$1,0,IF($BG55-CH$1>計算!$B$26,CH$66,($BG55-CH$1)/計算!$B$26*CH$66))","v":-1.9330795438198264E-2},{"$f":"IF($BG55<CI$1,0,IF($BG55-CI$1>計算!$B$26,CI$66,($BG55-CI$1)/計算!$B$26*CI$66))","v":7.2895175714664199E-3},{"$f":"IF($BG55<CJ$1,0,IF($BG55-CJ$1>計算!$B$26,CJ$66,($BG55-CJ$1)/計算!$B$26*CJ$66))","v":-8.8677162389700314E-4},{"$f":"IF($BG55<CK$1,0,IF($BG55-CK$1>計算!$B$26,CK$66,($BG55-CK$1)/計算!$B$26*CK$66))","v":3.4338040064950437E-5},-7.2989049228498314E-4,7.2989049228498314E-4]
[null,null,null,null,null,null,null,null,null,null,null,null,{"$f":"IF($L56<M$1,0,IF($L56-M$1>計算!$B$26,M$66,($L56-M$1)/計算!$B$26*M$66))","v":0.2983353312641418},{"$f":"IF($L56<N$1,0,IF($L56-N$1>計算!$B$26,N$66,($L56-N$1)/計算!$B$26*N$66))","v":-0.89890989052282899},{"$f":"IF($L56<O$1,0,IF($L56-O$1>計算!$B$26,O$66,($L56-O$1)/計算!$B$26*O$66))","v":-0.21184658990487348},{"$f":"IF($L56<P$1,0,IF($L56-P$1>計算!$B$26,P$66,($L56-P$1)/計算!$B$26*P$66))","v":0.63830901206403412},{"$f":"IF($L56<Q$1,0,IF($L56-Q$1>計算!$B$26,Q$66,($L56-Q$1)/計算!$B$26*Q$66))","v":-0.21374580605087579},{"$f":"IF($L56<R$1,0,IF($L56-R$1>計算!$B$26,R$66,($L56-R$1)/計算!$B$26*R$66))","v":0.58793831734057156},{"$f":"IF($L56<S$1,0,IF($L56-S$1>計算!$B$26,S$66,($L56-S$1)/計算!$B$26*S$66))","v":0.26628907306790472},{"$f":"IF($L56<T$1,0,IF($L56-T$1>計算!$B$26,T$66,($L56-T$1)/計算!$B$26*T$66))","v":-0.47320266231569752},{"$f":"IF($L56<U$1,0,IF($L56-U$1>計算!$B$26,U$66,($L56-U$1)/計算!$B$26*U$66))","v":6.0087511789762682E-2},{"$f":"IF($L56<V$1,0,IF($L56-V$1>計算!$B$26,V$66,($L56-V$1)/計算!$B$26*V$66))","v":-5.0825194033370491E-2},{"$f":"IF($L56<W$1,0,IF($L56-W$1>計算!$B$26,W$66,($L56-W$1)/計算!$B$26*W$66))","v":0.29158188812572483},{"$f":"IF($L56<X$1,0,IF($L56-X$1>計算!$B$26,X$66,($L56-X$1)/計算!$B$26*X$66))","v":-0.33635698393373026},{"$f":"IF($L56<Y$1,0,IF($L56-Y$1>計算!$B$26,Y$66,($L56-Y$1)/計算!$B$26*Y$66))","v":-0.23732384043519716},{"$f":"IF($L56<Z$1,0,IF($L56-Z$1>計算!$B$26,Z$66,($L56-Z$1)/計算!$B$26*Z$66))","v":0.3484351373522887},{"$f":"IF($L56<AA$1,0,IF($L56-AA$1>計算!$B$26,AA$66,($L56-AA$1)/計算!$B$26*AA$66))","v":-8.7213024267986938E-2},{"$f":"IF($L56<AB$1,0,IF($L56-AB$1>計算!$B$26,AB$66,($L56-AB$1)/計算!$B$26*AB$66))","v":5.6563654982872968E-3},{"$f":"IF($L56<AC$1,0,IF($L56-AC$1>計算!$B$26,AC$66,($L56-AC$1)/計算!$B$26*AC$66))","v":-1.2085384954476752E-2},{"$f":"IF($L56<AD$1,0,IF($L56-AD$1>計算!$B$26,AD$66,($L56-AD$1)/計算!$B$26*AD$66))","v":0.10542406236172575},{"$f":"IF($L56<AE$1,0,IF($L56-AE$1>計算!$B$26,AE$66,($L56-AE$1)/計算!$B$26*AE$66))","v":-0.28279467405986669},{"$f":"IF($L56<AF$1,0,IF($L56-AF$1>計算!$B$26,AF$66,($L56-AF$1)/計算!$B$26*AF$66))","v":0.18504894450884757},{"$f":"IF($L56<AG$1,0,IF($L56-AG$1>計算!$B$26,AG$66,($L56-AG$1)/計算!$B$26*AG$66))","v":0.20847316613816691},{"$f":"IF($L56<AH$1,0,IF($L56-AH$1>計算!$B$26,AH$66,($L56-AH$1)/計算!$B$26*AH$66))","v":-0.27052971675150728},{"$f":"IF($L56<AI$1,0,IF($L56-AI$1>計算!$B$26,AI$66,($L56-AI$1)/計算!$B$26*AI$66))","v":9.3538754219008258E-2},{"$f":"IF($L56<AJ$1,0,IF($L56-AJ$1>計算!$B$26,AJ$66,($L56-AJ$1)/計算!$B$26*AJ$66))","v":-1.2226398010253603E-2},{"$f":"IF($L56<AK$1,0,IF($L56-AK$1>計算!$B$26,AK$66,($L56-AK$1)/計算!$B$26*AK$66))","v":5.3246456205668924E-4},{"$f":"IF($L56<AL$1,0,IF($L56-AL$1>計算!$B$26,AL$66,($L56-AL$1)/計算!$B$26*AL$66))","v":0},{"$f":"IF($L56<AM$1,0,IF($L56-AM$1>計算!$B$26,AM$66,($L56-AM$1)/計算!$B$26*AM$66))","v":0},{"$f":"IF($L56<AN$1,0,IF($L56-AN$1>計算!$B$26,AN$66,($L56-AN$1)/計算!$B$26*AN$66))","v":0},{"$f":"IF($L56<AO$1,0,IF($L56-AO$1>計算!$B$26,AO$66,($L56-AO$1)/計算!$B$26*AO$66))","v":0},{"$f":"IF($L56<AP$1,0,IF($L56-AP$1>計算!$B$26,AP$66,($L56-AP$1)/計算!$B$26*AP$66))","v":0},{"$f":"IF($L56<AQ$1,0,IF($L56-AQ$1>計算!$B$26,AQ$66,($L56-AQ$1)/計算!$B$26*AQ$66))","v":0},{"$f":"IF($L56<AR$1,0,IF($L56-AR$1>計算!$B$26,AR$66,($L56-AR$1)/計算!$B$26*AR$66))","v":0},{"$f":"IF($L56<AS$1,0,IF($L56-AS$1>計算!$B$26,AS$66,($L56-AS$1)/計算!$B$26*AS$66))","v":0},{"$f":"IF($L56<AT$1,0,IF($L56-AT$1>計算!$B$26,AT$66,($L56-AT$1)/計算!$B$26*AT$66))","v":0},{"$f":"IF($L56<AU$1,0,IF($L56-AU$1>計算!$B$26,AU$66,($L56-AU$1)/計算!$B$26*AU$66))","v":0},{"$f":"IF($L56<AV$1,0,IF($L56-AV$1>計算!$B$26,AV$66,($L56-AV$1)/計算!$B$26*AV$66))","v":0},2.589863051855934E-3,-2.589863051855934E-3,null,null,null,null,null,null,null,null,null,{"$f":"IF($BG56<BH$1,0,IF($BG56-BH$1>計算!$B$26,BH$66,($BG56-BH$1)/計算!$B$26*BH$66))","v":-0.67165999785768882},{"$f":"IF($BG56<BI$1,0,IF($BG56-BI$1>計算!$B$26,BI$66,($BG56-BI$1)/計算!$B$26*BI$66))","v":0.90868889604222969},{"$f":"IF($BG56<BJ$1,0,IF($BG56-BJ$1>計算!$B$26,BJ$66,($BG56-BJ$1)/計算!$B$26*BJ$66))","v":-0.15970956504964062},{"$f":"IF($BG56<BK$1,0,IF($BG56-BK$1>計算!$B$26,BK$66,($BG56-BK$1)/計算!$B$26*BK$66))","v":-0.21551880103922261},{"$f":"IF($BG56<BL$1,0,IF($BG56-BL$1>計算!$B$26,BL$66,($BG56-BL$1)/計算!$B$26*BL$66))","v":-3.6979193377590036E-2},{"$f":"IF($BG56<BM$1,0,IF($BG56-BM$1>計算!$B$26,BM$66,($BG56-BM$1)/計算!$B$26*BM$66))","v":8.5539846253473106E-2},{"$f":"IF($BG56<BN$1,0,IF($BG56-BN$1>計算!$B$26,BN$66,($BG56-BN$1)/計算!$B$26*BN$66))","v":-3.7976275570530404E-2},{"$f":"IF($BG56<BO$1,0,IF($BG56-BO$1>計算!$B$26,BO$66,($BG56-BO$1)/計算!$B$26*BO$66))","v":6.2162268050736214E-2},{"$f":"IF($BG56<BP$1,0,IF($BG56-BP$1>計算!$B$26,BP$66,($BG56-BP$1)/計算!$B$26*BP$66))","v":0.15755812631518906},{"$f":"IF($BG56<BQ$1,0,IF($BG56-BQ$1>計算!$B$26,BQ$66,($BG56-BQ$1)/計算!$B$26*BQ$66))","v":-1.203930779011364E-2},{"$f":"IF($BG56<BR$1,0,IF($BG56-BR$1>計算!$B$26,BR$66,($BG56-BR$1)/計算!$B$26*BR$66))","v":-6.422251715804006E-2},{"$f":"IF($BG56<BS$1,0,IF($BG56-BS$1>計算!$B$26,BS$66,($BG56-BS$1)/計算!$B$26*BS$66))","v":8.0523326838670695E-3},{"$f":"IF($BG56<BT$1,0,IF($BG56-BT$1>計算!$B$26,BT$66,($BG56-BT$1)/計算!$B$26*BT$66))","v":-9.0301260651520776E-3},{"$f":"IF($BG56<BU$1,0,IF($BG56-BU$1>計算!$B$26,BU$66,($BG56-BU$1)/計算!$B$26*BU$66))","v":4.1747936536487673E-2},{"$f":"IF($BG56<BV$1,0,IF($BG56-BV$1>計算!$B$26,BV$66,($BG56-BV$1)/計算!$B$26*BV$66))","v":-3.5110256083367153E-3},{"$f":"IF($BG56<BW$1,0,IF($BG56-BW$1>計算!$B$26,BW$66,($BG56-BW$1)/計算!$B$26*BW$66))","v":-9.9796700329851329E-2},{"$f":"IF($BG56<BX$1,0,IF($BG56-BX$1>計算!$B$26,BX$66,($BG56-BX$1)/計算!$B$26*BX$66))","v":9.6704798158792071E-3},{"$f":"IF($BG56<BY$1,0,IF($BG56-BY$1>計算!$B$26,BY$66,($BG56-BY$1)/計算!$B$26*BY$66))","v":4.2775407921305519E-2},{"$f":"IF($BG56<BZ$1,0,IF($BG56-BZ$1>計算!$B$26,BZ$66,($BG56-BZ$1)/計算!$B$26*BZ$66))","v":-1.1763541698946112E-2},{"$f":"IF($BG56<CA$1,0,IF($BG56-CA$1>計算!$B$26,CA$66,($BG56-CA$1)/計算!$B$26*CA$66))","v":7.5801003265218991E-4},{"$f":"IF($BG56<CB$1,0,IF($BG56-CB$1>計算!$B$26,CB$66,($BG56-CB$1)/計算!$B$26*CB$66))","v":-2.1472136360789484E-3},{"$f":"IF($BG56<CC$1,0,IF($BG56-CC$1>計算!$B$26,CC$66,($BG56-CC$1)/計算!$B$26*CC$66))","v":1.6339216546086832E-2},{"$f":"IF($BG56<CD$1,0,IF($BG56-CD$1>計算!$B$26,CD$66,($BG56-CD$1)/計算!$B$26*CD$66))","v":-2.8013684925717736E-2},{"$f":"IF($BG56<CE$1,0,IF($BG56-CE$1>計算!$B$26,CE$66,($BG56-CE$1)/計算!$B$26*CE$66))","v":-1.7632714031953323E-2},{"$f":"IF($BG56<CF$1,0,IF($BG56-CF$1>計算!$B$26,CF$66,($BG56-CF$1)/計算!$B$26*CF$66))","v":5.4739642439479659E-2},{"$f":"IF($BG56<CG$1,0,IF($BG56-CG$1>計算!$B$26,CG$66,($BG56-CG$1)/計算!$B$26*CG$66))","v":-4.2949676614251657E-3},{"$f":"IF($BG56<CH$1,0,IF($BG56-CH$1>計算!$B$26,CH$66,($BG56-CH$1)/計算!$B$26*CH$66))","v":-2.1034171582825875E-2},{"$f":"IF($BG56<CI$1,0,IF($BG56-CI$1>計算!$B$26,CI$66,($BG56-CI$1)/計算!$B$26*CI$66))","v":7.9939196007125408E-3},{"$f":"IF($BG56<CJ$1,0,IF($BG56-CJ$1>計算!$B$26,CJ$66,($BG56-CJ$1)/計算!$B$26*CJ$66))","v":-9.8162853326516728E-4},{"$f":"IF($BG56<CK$1,0,IF($BG56-CK$1>計算!$B$26,CK$66,($BG56-CK$1)/計算!$B$26*CK$66))","v":3.8451109514465342E-5},-2.4689856876540951E-4,2.4689856876540951E-4]
[null,null,null,null,null,null,null,null,null,null,null,null,{"$f":"IF($L57<M$1,0,IF($L57-M$1>計算!$B$26,M$66,($L57-M$1)/計算!$B$26*M$66))","v":0.2983353312641418},{"$f":"IF($L57<N$1,0,IF($L57-N$1>計算!$B$26,N$66,($L57-N$1)/計算!$B$26*N$66))","v":-0.89890989052282899},{"$f":"IF($L57<O$1,0,IF($L57-O$1>計算!$B$26,O$66,($L57-O$1)/計算!$B$26*O$66))","v":-0.21184658990487348},{"$f":"IF($L57<P$1,0,IF($L57-P$1>計算!$B$26,P$66,($L57-P$1)/計算!$B$26*P$66))","v":0.63830901206403412},{"$f":"IF($L57<Q$1,0,IF($L57-Q$1>計算!$B$26,Q$66,($L57-Q$1)/計算!$B$26*Q$66))","v":-0.21374580605087579},{"$f":"IF($L57<R$1,0,IF($L57-R$1>計算!$B$26,R$66,($L57-R$1)/計算!$B$26*R$66))","v":0.58793831734057156},{"$f":"IF($L57<S$1,0,IF($L57-S$1>計算!$B$26,S$66,($L57-S$1)/計算!$B$26*S$66))","v":0.26628907306790472},{"$f":"IF($L57<T$1,0,IF($L57-T$1>計算!$B$26,T$66,($L57-T$1)/計算!$B$26*T$66))","v":-0.47320266231569752},{"$f":"IF($L57<U$1,0,IF($L57-U$1>計算!$B$26,U$66,($L57-U$1)/計算!$B$26*U$66))","v":6.0087511789762682E-2},{"$f":"IF($L57<V$1,0,IF($L57-V$1>計算!$B$26,V$66,($L57-V$1)/計算!$B$26*V$66))","v":-5.0825194033370491E-2},{"$f":"IF($L57<W$1,0,IF($L57-W$1>計算!$B$26,W$66,($L57-W$1)/計算!$B$26*W$66))","v":0.29158188812572483},{"$f":"IF($L57<X$1,0,IF($L57-X$1>計算!$B$26,X$66,($L57-X$1)/計算!$B$26*X$66))","v":-0.33635698393373026},{"$f":"IF($L57<Y$1,0,IF($L57-Y$1>計算!$B$26,Y$66,($L57-Y$1)/計算!$B$26*Y$66))","v":-0.23732384043519716},{"$f":"IF($L57<Z$1,0,IF($L57-Z$1>計算!$B$26,Z$66,($L57-Z$1)/計算!$B$26*Z$66))","v":0.3484351373522887},{"$f":"IF($L57<AA$1,0,IF($L57-AA$1>計算!$B$26,AA$66,($L57-AA$1)/計算!$B$26*AA$66))","v":-8.7213024267986938E-2},{"$f":"IF($L57<AB$1,0,IF($L57-AB$1>計算!$B$26,AB$66,($L57-AB$1)/計算!$B$26*AB$66))","v":5.6563654982872968E-3},{"$f":"IF($L57<AC$1,0,IF($L57-AC$1>計算!$B$26,AC$66,($L57-AC$1)/計算!$B$26*AC$66))","v":-1.2085384954476752E-2},{"$f":"IF($L57<AD$1,0,IF($L57-AD$1>計算!$B$26,AD$66,($L57-AD$1)/計算!$B$26*AD$66))","v":0.10542406236172575},{"$f":"IF($L57<AE$1,0,IF($L57-AE$1>計算!$B$26,AE$66,($L57-AE$1)/計算!$B$26*AE$66))","v":-0.28279467405986669},{"$f":"IF($L57<AF$1,0,IF($L57-AF$1>計算!$B$26,AF$66,($L57-AF$1)/計算!$B$26*AF$66))","v":0.18504894450884757},{"$f":"IF($L57<AG$1,0,IF($L57-AG$1>計算!$B$26,AG$66,($L57-AG$1)/計算!$B$26*AG$66))","v":0.20847316613816691},{"$f":"IF($L57<AH$1,0,IF($L57-AH$1>計算!$B$26,AH$66,($L57-AH$1)/計算!$B$26*AH$66))","v":-0.27052971675150728},{"$f":"IF($L57<AI$1,0,IF($L57-AI$1>計算!$B$26,AI$66,($L57-AI$1)/計算!$B$26*AI$66))","v":9.3538754219008258E-2},{"$f":"IF($L57<AJ$1,0,IF($L57-AJ$1>計算!$B$26,AJ$66,($L57-AJ$1)/計算!$B$26*AJ$66))","v":-1.2226398010253603E-2},{"$f":"IF($L57<AK$1,0,IF($L57-AK$1>計算!$B$26,AK$66,($L57-AK$1)/計算!$B$26*AK$66))","v":5.3246456205668924E-4},{"$f":"IF($L57<AL$1,0,IF($L57-AL$1>計算!$B$26,AL$66,($L57-AL$1)/計算!$B$26*AL$66))","v":0},{"$f":"IF($L57<AM$1,0,IF($L57-AM$1>計算!$B$26,AM$66,($L57-AM$1)/計算!$B$26*AM$66))","v":0},{"$f":"IF($L57<AN$1,0,IF($L57-AN$1>計算!$B$26,AN$66,($L57-AN$1)/計算!$B$26*AN$66))","v":0},{"$f":"IF($L57<AO$1,0,IF($L57-AO$1>計算!$B$26,AO$66,($L57-AO$1)/計算!$B$26*AO$66))","v":0},{"$f":"IF($L57<AP$1,0,IF($L57-AP$1>計算!$B$26,AP$66,($L57-AP$1)/計算!$B$26*AP$66))","v":0},{"$f":"IF($L57<AQ$1,0,IF($L57-AQ$1>計算!$B$26,AQ$66,($L57-AQ$1)/計算!$B$26*AQ$66))","v":0},{"$f":"IF($L57<AR$1,0,IF($L57-AR$1>計算!$B$26,AR$66,($L57-AR$1)/計算!$B$26*AR$66))","v":0},{"$f":"IF($L57<AS$1,0,IF($L57-AS$1>計算!$B$26,AS$66,($L57-AS$1)/計算!$B$26*AS$66))","v":0},{"$f":"IF($L57<AT$1,0,IF($L57-AT$1>計算!$B$26,AT$66,($L57-AT$1)/計算!$B$26*AT$66))","v":0},{"$f":"IF($L57<AU$1,0,IF($L57-AU$1>計算!$B$26,AU$66,($L57-AU$1)/計算!$B$26*AU$66))","v":0},{"$f":"IF($L57<AV$1,0,IF($L57-AV$1>計算!$B$26,AV$66,($L57-AV$1)/計算!$B$26*AV$66))","v":0},2.589863051855934E-3,-2.589863051855934E-3,null,null,null,null,null,null,null,null,null,{"$f":"IF($BG57<BH$1,0,IF($BG57-BH$1>計算!$B$26,BH$66,($BG57-BH$1)/計算!$B$26*BH$66))","v":-0.67165999785768882},{"$f":"IF($BG57<BI$1,0,IF($BG57-BI$1>計算!$B$26,BI$66,($BG57-BI$1)/計算!$B$26*BI$66))","v":0.90868889604222969},{"$f":"IF($BG57<BJ$1,0,IF($BG57-BJ$1>計算!$B$26,BJ$66,($BG57-BJ$1)/計算!$B$26*BJ$66))","v":-0.15970956504964062},{"$f":"IF($BG57<BK$1,0,IF($BG57-BK$1>計算!$B$26,BK$66,($BG57-BK$1)/計算!$B$26*BK$66))","v":-0.21551880103922261},{"$f":"IF($BG57<BL$1,0,IF($BG57-BL$1>計算!$B$26,BL$66,($BG57-BL$1)/計算!$B$26*BL$66))","v":-3.6979193377590036E-2},{"$f":"IF($BG57<BM$1,0,IF($BG57-BM$1>計算!$B$26,BM$66,($BG57-BM$1)/計算!$B$26*BM$66))","v":8.5539846253473106E-2},{"$f":"IF($BG57<BN$1,0,IF($BG57-BN$1>計算!$B$26,BN$66,($BG57-BN$1)/計算!$B$26*BN$66))","v":-3.7976275570530404E-2},{"$f":"IF($BG57<BO$1,0,IF($BG57-BO$1>計算!$B$26,BO$66,($BG57-BO$1)/計算!$B$26*BO$66))","v":6.2162268050736214E-2},{"$f":"IF($BG57<BP$1,0,IF($BG57-BP$1>計算!$B$26,BP$66,($BG57-BP$1)/計算!$B$26*BP$66))","v":0.15755812631518906},{"$f":"IF($BG57<BQ$1,0,IF($BG57-BQ$1>計算!$B$26,BQ$66,($BG57-BQ$1)/計算!$B$26*BQ$66))","v":-1.203930779011364E-2},{"$f":"IF($BG57<BR$1,0,IF($BG57-BR$1>計算!$B$26,BR$66,($BG57-BR$1)/計算!$B$26*BR$66))","v":-6.422251715804006E-2},{"$f":"IF($BG57<BS$1,0,IF($BG57-BS$1>計算!$B$26,BS$66,($BG57-BS$1)/計算!$B$26*BS$66))","v":8.0523326838670695E-3},{"$f":"IF($BG57<BT$1,0,IF($BG57-BT$1>計算!$B$26,BT$66,($BG57-BT$1)/計算!$B$26*BT$66))","v":-9.0301260651520776E-3},{"$f":"IF($BG57<BU$1,0,IF($BG57-BU$1>計算!$B$26,BU$66,($BG57-BU$1)/計算!$B$26*BU$66))","v":4.1747936536487673E-2},{"$f":"IF($BG57<BV$1,0,IF($BG57-BV$1>計算!$B$26,BV$66,($BG57-BV$1)/計算!$B$26*BV$66))","v":-3.5110256083367153E-3},{"$f":"IF($BG57<BW$1,0,IF($BG57-BW$1>計算!$B$26,BW$66,($BG57-BW$1)/計算!$B$26*BW$66))","v":-9.9796700329851329E-2},{"$f":"IF($BG57<BX$1,0,IF($BG57-BX$1>計算!$B$26,BX$66,($BG57-BX$1)/計算!$B$26*BX$66))","v":9.6704798158792071E-3},{"$f":"IF($BG57<BY$1,0,IF($BG57-BY$1>計算!$B$26,BY$66,($BG57-BY$1)/計算!$B$26*BY$66))","v":4.2775407921305519E-2},{"$f":"IF($BG57<BZ$1,0,IF($BG57-BZ$1>計算!$B$26,BZ$66,($BG57-BZ$1)/計算!$B$26*BZ$66))","v":-1.1763541698946112E-2},{"$f":"IF($BG57<CA$1,0,IF($BG57-CA$1>計算!$B$26,CA$66,($BG57-CA$1)/計算!$B$26*CA$66))","v":7.5801003265218991E-4},{"$f":"IF($BG57<CB$1,0,IF($BG57-CB$1>計算!$B$26,CB$66,($BG57-CB$1)/計算!$B$26*CB$66))","v":-2.1472136360789484E-3},{"$f":"IF($BG57<CC$1,0,IF($BG57-CC$1>計算!$B$26,CC$66,($BG57-CC$1)/計算!$B$26*CC$66))","v":1.6339216546086832E-2},{"$f":"IF($BG57<CD$1,0,IF($BG57-CD$1>計算!$B$26,CD$66,($BG57-CD$1)/計算!$B$26*CD$66))","v":-2.972720190274114E-2},{"$f":"IF($BG57<CE$1,0,IF($BG57-CE$1>計算!$B$26,CE$66,($BG57-CE$1)/計算!$B$26*CE$66))","v":-1.8781536010924037E-2},{"$f":"IF($BG57<CF$1,0,IF($BG57-CF$1>計算!$B$26,CF$66,($BG57-CF$1)/計算!$B$26*CF$66))","v":5.8554645754998622E-2},{"$f":"IF($BG57<CG$1,0,IF($BG57-CG$1>計算!$B$26,CG$66,($BG57-CG$1)/計算!$B$26*CG$66))","v":-4.6167238039202087E-3},{"$f":"IF($BG57<CH$1,0,IF($BG57-CH$1>計算!$B$26,CH$66,($BG57-CH$1)/計算!$B$26*CH$66))","v":-2.2737547727453278E-2},{"$f":"IF($BG57<CI$1,0,IF($BG57-CI$1>計算!$B$26,CI$66,($BG57-CI$1)/計算!$B$26*CI$66))","v":8.6983216299585768E-3},{"$f":"IF($BG57<CJ$1,0,IF($BG57-CJ$1>計算!$B$26,CJ$66,($BG57-CJ$1)/計算!$B$26*CJ$66))","v":-1.0764854426333198E-3},{"$f":"IF($BG57<CK$1,0,IF($BG57-CK$1>計算!$B$26,CK$66,($BG57-CK$1)/計算!$B$26*CK$66))","v":4.2564178963979738E-5},-7.057083070356186E-4,7.057083070356186E-4]
[null,null,null,null,null,null,null,null,null,null,null,null,{"$f":"IF($L58<M$1,0,IF($L58-M$1>計算!$B$26,M$66,($L58-M$1)/計算!$B$26*M$66))","v":0.2983353312641418},{"$f":"IF($L58<N$1,0,IF($L58-N$1>計算!$B$26,N$66,($L58-N$1)/計算!$B$26*N$66))","v":-0.89890989052282899},{"$f":"IF($L58<O$1,0,IF($L58-O$1>計算!$B$26,O$66,($L58-O$1)/計算!$B$26*O$66))","v":-0.21184658990487348},{"$f":"IF($L58<P$1,0,IF($L58-P$1>計算!$B$26,P$66,($L58-P$1)/計算!$B$26*P$66))","v":0.63830901206403412},{"$f":"IF($L58<Q$1,0,IF($L58-Q$1>計算!$B$26,Q$66,($L58-Q$1)/計算!$B$26*Q$66))","v":-0.21374580605087579},{"$f":"IF($L58<R$1,0,IF($L58-R$1>計算!$B$26,R$66,($L58-R$1)/計算!$B$26*R$66))","v":0.58793831734057156},{"$f":"IF($L58<S$1,0,IF($L58-S$1>計算!$B$26,S$66,($L58-S$1)/計算!$B$26*S$66))","v":0.26628907306790472},{"$f":"IF($L58<T$1,0,IF($L58-T$1>計算!$B$26,T$66,($L58-T$1)/計算!$B$26*T$66))","v":-0.47320266231569752},{"$f":"IF($L58<U$1,0,IF($L58-U$1>計算!$B$26,U$66,($L58-U$1)/計算!$B$26*U$66))","v":6.0087511789762682E-2},{"$f":"IF($L58<V$1,0,IF($L58-V$1>計算!$B$26,V$66,($L58-V$1)/計算!$B$26*V$66))","v":-5.0825194033370491E-2},{"$f":"IF($L58<W$1,0,IF($L58-W$1>計算!$B$26,W$66,($L58-W$1)/計算!$B$26*W$66))","v":0.29158188812572483},{"$f":"IF($L58<X$1,0,IF($L58-X$1>計算!$B$26,X$66,($L58-X$1)/計算!$B$26*X$66))","v":-0.33635698393373026},{"$f":"IF($L58<Y$1,0,IF($L58-Y$1>計算!$B$26,Y$66,($L58-Y$1)/計算!$B$26*Y$66))","v":-0.23732384043519716},{"$f":"IF($L58<Z$1,0,IF($L58-Z$1>計算!$B$26,Z$66,($L58-Z$1)/計算!$B$26*Z$66))","v":0.3484351373522887},{"$f":"IF($L58<AA$1,0,IF($L58-AA$1>計算!$B$26,AA$66,($L58-AA$1)/計算!$B$26*AA$66))","v":-8.7213024267986938E-2},{"$f":"IF($L58<AB$1,0,IF($L58-AB$1>計算!$B$26,AB$66,($L58-AB$1)/計算!$B$26*AB$66))","v":5.6563654982872968E-3},{"$f":"IF($L58<AC$1,0,IF($L58-AC$1>計算!$B$26,AC$66,($L58-AC$1)/計算!$B$26*AC$66))","v":-1.2085384954476752E-2},{"$f":"IF($L58<AD$1,0,IF($L58-AD$1>計算!$B$26,AD$66,($L58-AD$1)/計算!$B$26*AD$66))","v":0.10542406236172575},{"$f":"IF($L58<AE$1,0,IF($L58-AE$1>計算!$B$26,AE$66,($L58-AE$1)/計算!$B$26*AE$66))","v":-0.28279467405986669},{"$f":"IF($L58<AF$1,0,IF($L58-AF$1>計算!$B$26,AF$66,($L58-AF$1)/計算!$B$26*AF$66))","v":0.18504894450884757},{"$f":"IF($L58<AG$1,0,IF($L58-AG$1>計算!$B$26,AG$66,($L58-AG$1)/計算!$B$26*AG$66))","v":0.20847316613816691},{"$f":"IF($L58<AH$1,0,IF($L58-AH$1>計算!$B$26,AH$66,($L58-AH$1)/計算!$B$26*AH$66))","v":-0.27052971675150728},{"$f":"IF($L58<AI$1,0,IF($L58-AI$1>計算!$B$26,AI$66,($L58-AI$1)/計算!$B$26*AI$66))","v":9.3538754219008258E-2},{"$f":"IF($L58<AJ$1,0,IF($L58-AJ$1>計算!$B$26,AJ$66,($L58-AJ$1)/計算!$B$26*AJ$66))","v":-1.2226398010253603E-2},{"$f":"IF($L58<AK$1,0,IF($L58-AK$1>計算!$B$26,AK$66,($L58-AK$1)/計算!$B$26*AK$66))","v":5.3246456205668924E-4},{"$f":"IF($L58<AL$1,0,IF($L58-AL$1>計算!$B$26,AL$66,($L58-AL$1)/計算!$B$26*AL$66))","v":0},{"$f":"IF($L58<AM$1,0,IF($L58-AM$1>計算!$B$26,AM$66,($L58-AM$1)/計算!$B$26*AM$66))","v":0},{"$f":"IF($L58<AN$1,0,IF($L58-AN$1>計算!$B$26,AN$66,($L58-AN$1)/計算!$B$26*AN$66))","v":0},{"$f":"IF($L58<AO$1,0,IF($L58-AO$1>計算!$B$26,AO$66,($L58-AO$1)/計算!$B$26*AO$66))","v":0},{"$f":"IF($L58<AP$1,0,IF($L58-AP$1>計算!$B$26,AP$66,($L58-AP$1)/計算!$B$26*AP$66))","v":0},{"$f":"IF($L58<AQ$1,0,IF($L58-AQ$1>計算!$B$26,AQ$66,($L58-AQ$1)/計算!$B$26*AQ$66))","v":0},{"$f":"IF($L58<AR$1,0,IF($L58-AR$1>計算!$B$26,AR$66,($L58-AR$1)/計算!$B$26*AR$66))","v":0},{"$f":"IF($L58<AS$1,0,IF($L58-AS$1>計算!$B$26,AS$66,($L58-AS$1)/計算!$B$26*AS$66))","v":0},{"$f":"IF($L58<AT$1,0,IF($L58-AT$1>計算!$B$26,AT$66,($L58-AT$1)/計算!$B$26*AT$66))","v":0},{"$f":"IF($L58<AU$1,0,IF($L58-AU$1>計算!$B$26,AU$66,($L58-AU$1)/計算!$B$26*AU$66))","v":0},{"$f":"IF($L58<AV$1,0,IF($L58-AV$1>計算!$B$26,AV$66,($L58-AV$1)/計算!$B$26*AV$66))","v":0},2.589863051855934E-3,-2.589863051855934E-3,null,null,null,null,null,null,null,null,null,{"$f":"IF($BG58<BH$1,0,IF($BG58-BH$1>計算!$B$26,BH$66,($BG58-BH$1)/計算!$B$26*BH$66))","v":-0.67165999785768882},{"$f":"IF($BG58<BI$1,0,IF($BG58-BI$1>計算!$B$26,BI$66,($BG58-BI$1)/計算!$B$26*BI$66))","v":0.90868889604222969},{"$f":"IF($BG58<BJ$1,0,IF($BG58-BJ$1>計算!$B$26,BJ$66,($BG58-BJ$1)/計算!$B$26*BJ$66))","v":-0.15970956504964062},{"$f":"IF($BG58<BK$1,0,IF($BG58-BK$1>計算!$B$26,BK$66,($BG58-BK$1)/計算!$B$26*BK$66))","v":-0.21551880103922261},{"$f":"IF($BG58<BL$1,0,IF($BG58-BL$1>計算!$B$26,BL$66,($BG58-BL$1)/計算!$B$26*BL$66))","v":-3.6979193377590036E-2},{"$f":"IF($BG58<BM$1,0,IF($BG58-BM$1>計算!$B$26,BM$66,($BG58-BM$1)/計算!$B$26*BM$66))","v":8.5539846253473106E-2},{"$f":"IF($BG58<BN$1,0,IF($BG58-BN$1>計算!$B$26,BN$66,($BG58-BN$1)/計算!$B$26*BN$66))","v":-3.7976275570530404E-2},{"$f":"IF($BG58<BO$1,0,IF($BG58-BO$1>計算!$B$26,BO$66,($BG58-BO$1)/計算!$B$26*BO$66))","v":6.2162268050736214E-2},{"$f":"IF($BG58<BP$1,0,IF($BG58-BP$1>計算!$B$26,BP$66,($BG58-BP$1)/計算!$B$26*BP$66))","v":0.15755812631518906},{"$f":"IF($BG58<BQ$1,0,IF($BG58-BQ$1>計算!$B$26,BQ$66,($BG58-BQ$1)/計算!$B$26*BQ$66))","v":-1.203930779011364E-2},{"$f":"IF($BG58<BR$1,0,IF($BG58-BR$1>計算!$B$26,BR$66,($BG58-BR$1)/計算!$B$26*BR$66))","v":-6.422251715804006E-2},{"$f":"IF($BG58<BS$1,0,IF($BG58-BS$1>計算!$B$26,BS$66,($BG58-BS$1)/計算!$B$26*BS$66))","v":8.0523326838670695E-3},{"$f":"IF($BG58<BT$1,0,IF($BG58-BT$1>計算!$B$26,BT$66,($BG58-BT$1)/計算!$B$26*BT$66))","v":-9.0301260651520776E-3},{"$f":"IF($BG58<BU$1,0,IF($BG58-BU$1>計算!$B$26,BU$66,($BG58-BU$1)/計算!$B$26*BU$66))","v":4.1747936536487673E-2},{"$f":"IF($BG58<BV$1,0,IF($BG58-BV$1>計算!$B$26,BV$66,($BG58-BV$1)/計算!$B$26*BV$66))","v":-3.5110256083367153E-3},{"$f":"IF($BG58<BW$1,0,IF($BG58-BW$1>計算!$B$26,BW$66,($BG58-BW$1)/計算!$B$26*BW$66))","v":-9.9796700329851329E-2},{"$f":"IF($BG58<BX$1,0,IF($BG58-BX$1>計算!$B$26,BX$66,($BG58-BX$1)/計算!$B$26*BX$66))","v":9.6704798158792071E-3},{"$f":"IF($BG58<BY$1,0,IF($BG58-BY$1>計算!$B$26,BY$66,($BG58-BY$1)/計算!$B$26*BY$66))","v":4.2775407921305519E-2},{"$f":"IF($BG58<BZ$1,0,IF($BG58-BZ$1>計算!$B$26,BZ$66,($BG58-BZ$1)/計算!$B$26*BZ$66))","v":-1.1763541698946112E-2},{"$f":"IF($BG58<CA$1,0,IF($BG58-CA$1>計算!$B$26,CA$66,($BG58-CA$1)/計算!$B$26*CA$66))","v":7.5801003265218991E-4},{"$f":"IF($BG58<CB$1,0,IF($BG58-CB$1>計算!$B$26,CB$66,($BG58-CB$1)/計算!$B$26*CB$66))","v":-2.1472136360789484E-3},{"$f":"IF($BG58<CC$1,0,IF($BG58-CC$1>計算!$B$26,CC$66,($BG58-CC$1)/計算!$B$26*CC$66))","v":1.6339216546086832E-2},{"$f":"IF($BG58<CD$1,0,IF($BG58-CD$1>計算!$B$26,CD$66,($BG58-CD$1)/計算!$B$26*CD$66))","v":-2.972720190274114E-2},{"$f":"IF($BG58<CE$1,0,IF($BG58-CE$1>計算!$B$26,CE$66,($BG58-CE$1)/計算!$B$26*CE$66))","v":-1.9930348423327637E-2},{"$f":"IF($BG58<CF$1,0,IF($BG58-CF$1>計算!$B$26,CF$66,($BG58-CF$1)/計算!$B$26*CF$66))","v":6.2369649070518049E-2},{"$f":"IF($BG58<CG$1,0,IF($BG58-CG$1>計算!$B$26,CG$66,($BG58-CG$1)/計算!$B$26*CG$66))","v":-4.9384799464152916E-3},{"$f":"IF($BG58<CH$1,0,IF($BG58-CH$1>計算!$B$26,CH$66,($BG58-CH$1)/計算!$B$26*CH$66))","v":-2.444092387208089E-2},{"$f":"IF($BG58<CI$1,0,IF($BG58-CI$1>計算!$B$26,CI$66,($BG58-CI$1)/計算!$B$26*CI$66))","v":9.4027236592046978E-3},{"$f":"IF($BG58<CJ$1,0,IF($BG58-CJ$1>計算!$B$26,CJ$66,($BG58-CJ$1)/計算!$B$26*CJ$66))","v":-1.1713423520014841E-3},{"$f":"IF($BG58<CK$1,0,IF($BG58-CK$1>計算!$B$26,CK$66,($BG58-CK$1)/計算!$B$26*CK$66))","v":4.6677248413494643E-5},5.4900849828498784E-4,-5.4900849828498784E-4]
[null,null,null,null,null,null,null,null,null,null,null,null,{"$f":"IF($L59<M$1,0,IF($L59-M$1>計算!$B$26,M$66,($L59-M$1)/計算!$B$26*M$66))","v":0.2983353312641418},{"$f":"IF($L59<N$1,0,IF($L59-N$1>計算!$B$26,N$66,($L59-N$1)/計算!$B$26*N$66))","v":-0.89890989052282899},{"$f":"IF($L59<O$1,0,IF($L59-O$1>計算!$B$26,O$66,($L59-O$1)/計算!$B$26*O$66))","v":-0.21184658990487348},{"$f":"IF($L59<P$1,0,IF($L59-P$1>計算!$B$26,P$66,($L59-P$1)/計算!$B$26*P$66))","v":0.63830901206403412},{"$f":"IF($L59<Q$1,0,IF($L59-Q$1>計算!$B$26,Q$66,($L59-Q$1)/計算!$B$26*Q$66))","v":-0.21374580605087579},{"$f":"IF($L59<R$1,0,IF($L59-R$1>計算!$B$26,R$66,($L59-R$1)/計算!$B$26*R$66))","v":0.58793831734057156},{"$f":"IF($L59<S$1,0,IF($L59-S$1>計算!$B$26,S$66,($L59-S$1)/計算!$B$26*S$66))","v":0.26628907306790472},{"$f":"IF($L59<T$1,0,IF($L59-T$1>計算!$B$26,T$66,($L59-T$1)/計算!$B$26*T$66))","v":-0.47320266231569752},{"$f":"IF($L59<U$1,0,IF($L59-U$1>計算!$B$26,U$66,($L59-U$1)/計算!$B$26*U$66))","v":6.0087511789762682E-2},{"$f":"IF($L59<V$1,0,IF($L59-V$1>計算!$B$26,V$66,($L59-V$1)/計算!$B$26*V$66))","v":-5.0825194033370491E-2},{"$f":"IF($L59<W$1,0,IF($L59-W$1>計算!$B$26,W$66,($L59-W$1)/計算!$B$26*W$66))","v":0.29158188812572483},{"$f":"IF($L59<X$1,0,IF($L59-X$1>計算!$B$26,X$66,($L59-X$1)/計算!$B$26*X$66))","v":-0.33635698393373026},{"$f":"IF($L59<Y$1,0,IF($L59-Y$1>計算!$B$26,Y$66,($L59-Y$1)/計算!$B$26*Y$66))","v":-0.23732384043519716},{"$f":"IF($L59<Z$1,0,IF($L59-Z$1>計算!$B$26,Z$66,($L59-Z$1)/計算!$B$26*Z$66))","v":0.3484351373522887},{"$f":"IF($L59<AA$1,0,IF($L59-AA$1>計算!$B$26,AA$66,($L59-AA$1)/計算!$B$26*AA$66))","v":-8.7213024267986938E-2},{"$f":"IF($L59<AB$1,0,IF($L59-AB$1>計算!$B$26,AB$66,($L59-AB$1)/計算!$B$26*AB$66))","v":5.6563654982872968E-3},{"$f":"IF($L59<AC$1,0,IF($L59-AC$1>計算!$B$26,AC$66,($L59-AC$1)/計算!$B$26*AC$66))","v":-1.2085384954476752E-2},{"$f":"IF($L59<AD$1,0,IF($L59-AD$1>計算!$B$26,AD$66,($L59-AD$1)/計算!$B$26*AD$66))","v":0.10542406236172575},{"$f":"IF($L59<AE$1,0,IF($L59-AE$1>計算!$B$26,AE$66,($L59-AE$1)/計算!$B$26*AE$66))","v":-0.28279467405986669},{"$f":"IF($L59<AF$1,0,IF($L59-AF$1>計算!$B$26,AF$66,($L59-AF$1)/計算!$B$26*AF$66))","v":0.18504894450884757},{"$f":"IF($L59<AG$1,0,IF($L59-AG$1>計算!$B$26,AG$66,($L59-AG$1)/計算!$B$26*AG$66))","v":0.20847316613816691},{"$f":"IF($L59<AH$1,0,IF($L59-AH$1>計算!$B$26,AH$66,($L59-AH$1)/計算!$B$26*AH$66))","v":-0.27052971675150728},{"$f":"IF($L59<AI$1,0,IF($L59-AI$1>計算!$B$26,AI$66,($L59-AI$1)/計算!$B$26*AI$66))","v":9.3538754219008258E-2},{"$f":"IF($L59<AJ$1,0,IF($L59-AJ$1>計算!$B$26,AJ$66,($L59-AJ$1)/計算!$B$26*AJ$66))","v":-1.2226398010253603E-2},{"$f":"IF($L59<AK$1,0,IF($L59-AK$1>計算!$B$26,AK$66,($L59-AK$1)/計算!$B$26*AK$66))","v":5.3246456205668924E-4},{"$f":"IF($L59<AL$1,0,IF($L59-AL$1>計算!$B$26,AL$66,($L59-AL$1)/計算!$B$26*AL$66))","v":0},{"$f":"IF($L59<AM$1,0,IF($L59-AM$1>計算!$B$26,AM$66,($L59-AM$1)/計算!$B$26*AM$66))","v":0},{"$f":"IF($L59<AN$1,0,IF($L59-AN$1>計算!$B$26,AN$66,($L59-AN$1)/計算!$B$26*AN$66))","v":0},{"$f":"IF($L59<AO$1,0,IF($L59-AO$1>計算!$B$26,AO$66,($L59-AO$1)/計算!$B$26*AO$66))","v":0},{"$f":"IF($L59<AP$1,0,IF($L59-AP$1>計算!$B$26,AP$66,($L59-AP$1)/計算!$B$26*AP$66))","v":0},{"$f":"IF($L59<AQ$1,0,IF($L59-AQ$1>計算!$B$26,AQ$66,($L59-AQ$1)/計算!$B$26*AQ$66))","v":0},{"$f":"IF($L59<AR$1,0,IF($L59-AR$1>計算!$B$26,AR$66,($L59-AR$1)/計算!$B$26*AR$66))","v":0},{"$f":"IF($L59<AS$1,0,IF($L59-AS$1>計算!$B$26,AS$66,($L59-AS$1)/計算!$B$26*AS$66))","v":0},{"$f":"IF($L59<AT$1,0,IF($L59-AT$1>計算!$B$26,AT$66,($L59-AT$1)/計算!$B$26*AT$66))","v":0},{"$f":"IF($L59<AU$1,0,IF($L59-AU$1>計算!$B$26,AU$66,($L59-AU$1)/計算!$B$26*AU$66))","v":0},{"$f":"IF($L59<AV$1,0,IF($L59-AV$1>計算!$B$26,AV$66,($L59-AV$1)/計算!$B$26*AV$66))","v":0},2.589863051855934E-3,-2.589863051855934E-3,null,null,null,null,null,null,null,null,null,{"$f":"IF($BG59<BH$1,0,IF($BG59-BH$1>計算!$B$26,BH$66,($BG59-BH$1)/計算!$B$26*BH$66))","v":-0.67165999785768882},{"$f":"IF($BG59<BI$1,0,IF($BG59-BI$1>計算!$B$26,BI$66,($BG59-BI$1)/計算!$B$26*BI$66))","v":0.90868889604222969},{"$f":"IF($BG59<BJ$1,0,IF($BG59-BJ$1>計算!$B$26,BJ$66,($BG59-BJ$1)/計算!$B$26*BJ$66))","v":-0.15970956504964062},{"$f":"IF($BG59<BK$1,0,IF($BG59-BK$1>計算!$B$26,BK$66,($BG59-BK$1)/計算!$B$26*BK$66))","v":-0.21551880103922261},{"$f":"IF($BG59<BL$1,0,IF($BG59-BL$1>計算!$B$26,BL$66,($BG59-BL$1)/計算!$B$26*BL$66))","v":-3.6979193377590036E-2},{"$f":"IF($BG59<BM$1,0,IF($BG59-BM$1>計算!$B$26,BM$66,($BG59-BM$1)/計算!$B$26*BM$66))","v":8.5539846253473106E-2},{"$f":"IF($BG59<BN$1,0,IF($BG59-BN$1>計算!$B$26,BN$66,($BG59-BN$1)/計算!$B$26*BN$66))","v":-3.7976275570530404E-2},{"$f":"IF($BG59<BO$1,0,IF($BG59-BO$1>計算!$B$26,BO$66,($BG59-BO$1)/計算!$B$26*BO$66))","v":6.2162268050736214E-2},{"$f":"IF($BG59<BP$1,0,IF($BG59-BP$1>計算!$B$26,BP$66,($BG59-BP$1)/計算!$B$26*BP$66))","v":0.15755812631518906},{"$f":"IF($BG59<BQ$1,0,IF($BG59-BQ$1>計算!$B$26,BQ$66,($BG59-BQ$1)/計算!$B$26*BQ$66))","v":-1.203930779011364E-2},{"$f":"IF($BG59<BR$1,0,IF($BG59-BR$1>計算!$B$26,BR$66,($BG59-BR$1)/計算!$B$26*BR$66))","v":-6.422251715804006E-2},{"$f":"IF($BG59<BS$1,0,IF($BG59-BS$1>計算!$B$26,BS$66,($BG59-BS$1)/計算!$B$26*BS$66))","v":8.0523326838670695E-3},{"$f":"IF($BG59<BT$1,0,IF($BG59-BT$1>計算!$B$26,BT$66,($BG59-BT$1)/計算!$B$26*BT$66))","v":-9.0301260651520776E-3},{"$f":"IF($BG59<BU$1,0,IF($BG59-BU$1>計算!$B$26,BU$66,($BG59-BU$1)/計算!$B$26*BU$66))","v":4.1747936536487673E-2},{"$f":"IF($BG59<BV$1,0,IF($BG59-BV$1>計算!$B$26,BV$66,($BG59-BV$1)/計算!$B$26*BV$66))","v":-3.5110256083367153E-3},{"$f":"IF($BG59<BW$1,0,IF($BG59-BW$1>計算!$B$26,BW$66,($BG59-BW$1)/計算!$B$26*BW$66))","v":-9.9796700329851329E-2},{"$f":"IF($BG59<BX$1,0,IF($BG59-BX$1>計算!$B$26,BX$66,($BG59-BX$1)/計算!$B$26*BX$66))","v":9.6704798158792071E-3},{"$f":"IF($BG59<BY$1,0,IF($BG59-BY$1>計算!$B$26,BY$66,($BG59-BY$1)/計算!$B$26*BY$66))","v":4.2775407921305519E-2},{"$f":"IF($BG59<BZ$1,0,IF($BG59-BZ$1>計算!$B$26,BZ$66,($BG59-BZ$1)/計算!$B$26*BZ$66))","v":-1.1763541698946112E-2},{"$f":"IF($BG59<CA$1,0,IF($BG59-CA$1>計算!$B$26,CA$66,($BG59-CA$1)/計算!$B$26*CA$66))","v":7.5801003265218991E-4},{"$f":"IF($BG59<CB$1,0,IF($BG59-CB$1>計算!$B$26,CB$66,($BG59-CB$1)/計算!$B$26*CB$66))","v":-2.1472136360789484E-3},{"$f":"IF($BG59<CC$1,0,IF($BG59-CC$1>計算!$B$26,CC$66,($BG59-CC$1)/計算!$B$26*CC$66))","v":1.6339216546086832E-2},{"$f":"IF($BG59<CD$1,0,IF($BG59-CD$1>計算!$B$26,CD$66,($BG59-CD$1)/計算!$B$26*CD$66))","v":-2.972720190274114E-2},{"$f":"IF($BG59<CE$1,0,IF($BG59-CE$1>計算!$B$26,CE$66,($BG59-CE$1)/計算!$B$26*CE$66))","v":-1.9930348423327637E-2},{"$f":"IF($BG59<CF$1,0,IF($BG59-CF$1>計算!$B$26,CF$66,($BG59-CF$1)/計算!$B$26*CF$66))","v":6.6184619293727209E-2},{"$f":"IF($BG59<CG$1,0,IF($BG59-CG$1>計算!$B$26,CG$66,($BG59-CG$1)/計算!$B$26*CG$66))","v":-5.2602360889103146E-3},{"$f":"IF($BG59<CH$1,0,IF($BG59-CH$1>計算!$B$26,CH$66,($BG59-CH$1)/計算!$B$26*CH$66))","v":-2.6144300016708189E-2},{"$f":"IF($BG59<CI$1,0,IF($BG59-CI$1>計算!$B$26,CI$66,($BG59-CI$1)/計算!$B$26*CI$66))","v":1.0107125688450689E-2},{"$f":"IF($BG59<CJ$1,0,IF($BG59-CJ$1>計算!$B$26,CJ$66,($BG59-CJ$1)/計算!$B$26*CJ$66))","v":-1.2661992613696308E-3},{"$f":"IF($BG59<CK$1,0,IF($BG59-CK$1>計算!$B$26,CK$66,($BG59-CK$1)/計算!$B$26*CK$66))","v":5.0790317863008789E-5},2.9525046236991851E-3,-2.9525046236991851E-3]
[null,null,null,null,null,null,null,null,null,null,null,null,{"$f":"IF($L60<M$1,0,IF($L60-M$1>計算!$B$26,M$66,($L60-M$1)/計算!$B$26*M$66))","v":0.2983353312641418},{"$f":"IF($L60<N$1,0,IF($L60-N$1>計算!$B$26,N$66,($L60-N$1)/計算!$B$26*N$66))","v":-0.89890989052282899},{"$f":"IF($L60<O$1,0,IF($L60-O$1>計算!$B$26,O$66,($L60-O$1)/計算!$B$26*O$66))","v":-0.21184658990487348},{"$f":"IF($L60<P$1,0,IF($L60-P$1>計算!$B$26,P$66,($L60-P$1)/計算!$B$26*P$66))","v":0.63830901206403412},{"$f":"IF($L60<Q$1,0,IF($L60-Q$1>計算!$B$26,Q$66,($L60-Q$1)/計算!$B$26*Q$66))","v":-0.21374580605087579},{"$f":"IF($L60<R$1,0,IF($L60-R$1>計算!$B$26,R$66,($L60-R$1)/計算!$B$26*R$66))","v":0.58793831734057156},{"$f":"IF($L60<S$1,0,IF($L60-S$1>計算!$B$26,S$66,($L60-S$1)/計算!$B$26*S$66))","v":0.26628907306790472},{"$f":"IF($L60<T$1,0,IF($L60-T$1>計算!$B$26,T$66,($L60-T$1)/計算!$B$26*T$66))","v":-0.47320266231569752},{"$f":"IF($L60<U$1,0,IF($L60-U$1>計算!$B$26,U$66,($L60-U$1)/計算!$B$26*U$66))","v":6.0087511789762682E-2},{"$f":"IF($L60<V$1,0,IF($L60-V$1>計算!$B$26,V$66,($L60-V$1)/計算!$B$26*V$66))","v":-5.0825194033370491E-2},{"$f":"IF($L60<W$1,0,IF($L60-W$1>計算!$B$26,W$66,($L60-W$1)/計算!$B$26*W$66))","v":0.29158188812572483},{"$f":"IF($L60<X$1,0,IF($L60-X$1>計算!$B$26,X$66,($L60-X$1)/計算!$B$26*X$66))","v":-0.33635698393373026},{"$f":"IF($L60<Y$1,0,IF($L60-Y$1>計算!$B$26,Y$66,($L60-Y$1)/計算!$B$26*Y$66))","v":-0.23732384043519716},{"$f":"IF($L60<Z$1,0,IF($L60-Z$1>計算!$B$26,Z$66,($L60-Z$1)/計算!$B$26*Z$66))","v":0.3484351373522887},{"$f":"IF($L60<AA$1,0,IF($L60-AA$1>計算!$B$26,AA$66,($L60-AA$1)/計算!$B$26*AA$66))","v":-8.7213024267986938E-2},{"$f":"IF($L60<AB$1,0,IF($L60-AB$1>計算!$B$26,AB$66,($L60-AB$1)/計算!$B$26*AB$66))","v":5.6563654982872968E-3},{"$f":"IF($L60<AC$1,0,IF($L60-AC$1>計算!$B$26,AC$66,($L60-AC$1)/計算!$B$26*AC$66))","v":-1.2085384954476752E-2},{"$f":"IF($L60<AD$1,0,IF($L60-AD$1>計算!$B$26,AD$66,($L60-AD$1)/計算!$B$26*AD$66))","v":0.10542406236172575},{"$f":"IF($L60<AE$1,0,IF($L60-AE$1>計算!$B$26,AE$66,($L60-AE$1)/計算!$B$26*AE$66))","v":-0.28279467405986669},{"$f":"IF($L60<AF$1,0,IF($L60-AF$1>計算!$B$26,AF$66,($L60-AF$1)/計算!$B$26*AF$66))","v":0.18504894450884757},{"$f":"IF($L60<AG$1,0,IF($L60-AG$1>計算!$B$26,AG$66,($L60-AG$1)/計算!$B$26*AG$66))","v":0.20847316613816691},{"$f":"IF($L60<AH$1,0,IF($L60-AH$1>計算!$B$26,AH$66,($L60-AH$1)/計算!$B$26*AH$66))","v":-0.27052971675150728},{"$f":"IF($L60<AI$1,0,IF($L60-AI$1>計算!$B$26,AI$66,($L60-AI$1)/計算!$B$26*AI$66))","v":9.3538754219008258E-2},{"$f":"IF($L60<AJ$1,0,IF($L60-AJ$1>計算!$B$26,AJ$66,($L60-AJ$1)/計算!$B$26*AJ$66))","v":-1.2226398010253603E-2},{"$f":"IF($L60<AK$1,0,IF($L60-AK$1>計算!$B$26,AK$66,($L60-AK$1)/計算!$B$26*AK$66))","v":5.3246456205668924E-4},{"$f":"IF($L60<AL$1,0,IF($L60-AL$1>計算!$B$26,AL$66,($L60-AL$1)/計算!$B$26*AL$66))","v":0},{"$f":"IF($L60<AM$1,0,IF($L60-AM$1>計算!$B$26,AM$66,($L60-AM$1)/計算!$B$26*AM$66))","v":0},{"$f":"IF($L60<AN$1,0,IF($L60-AN$1>計算!$B$26,AN$66,($L60-AN$1)/計算!$B$26*AN$66))","v":0},{"$f":"IF($L60<AO$1,0,IF($L60-AO$1>計算!$B$26,AO$66,($L60-AO$1)/計算!$B$26*AO$66))","v":0},{"$f":"IF($L60<AP$1,0,IF($L60-AP$1>計算!$B$26,AP$66,($L60-AP$1)/計算!$B$26*AP$66))","v":0},{"$f":"IF($L60<AQ$1,0,IF($L60-AQ$1>計算!$B$26,AQ$66,($L60-AQ$1)/計算!$B$26*AQ$66))","v":0},{"$f":"IF($L60<AR$1,0,IF($L60-AR$1>計算!$B$26,AR$66,($L60-AR$1)/計算!$B$26*AR$66))","v":0},{"$f":"IF($L60<AS$1,0,IF($L60-AS$1>計算!$B$26,AS$66,($L60-AS$1)/計算!$B$26*AS$66))","v":0},{"$f":"IF($L60<AT$1,0,IF($L60-AT$1>計算!$B$26,AT$66,($L60-AT$1)/計算!$B$26*AT$66))","v":0},{"$f":"IF($L60<AU$1,0,IF($L60-AU$1>計算!$B$26,AU$66,($L60-AU$1)/計算!$B$26*AU$66))","v":0},{"$f":"IF($L60<AV$1,0,IF($L60-AV$1>計算!$B$26,AV$66,($L60-AV$1)/計算!$B$26*AV$66))","v":0},2.589863051855934E-3,-2.589863051855934E-3,null,null,null,null,null,null,null,null,null,{"$f":"IF($BG60<BH$1,0,IF($BG60-BH$1>計算!$B$26,BH$66,($BG60-BH$1)/計算!$B$26*BH$66))","v":-0.67165999785768882},{"$f":"IF($BG60<BI$1,0,IF($BG60-BI$1>計算!$B$26,BI$66,($BG60-BI$1)/計算!$B$26*BI$66))","v":0.90868889604222969},{"$f":"IF($BG60<BJ$1,0,IF($BG60-BJ$1>計算!$B$26,BJ$66,($BG60-BJ$1)/計算!$B$26*BJ$66))","v":-0.15970956504964062},{"$f":"IF($BG60<BK$1,0,IF($BG60-BK$1>計算!$B$26,BK$66,($BG60-BK$1)/計算!$B$26*BK$66))","v":-0.21551880103922261},{"$f":"IF($BG60<BL$1,0,IF($BG60-BL$1>計算!$B$26,BL$66,($BG60-BL$1)/計算!$B$26*BL$66))","v":-3.6979193377590036E-2},{"$f":"IF($BG60<BM$1,0,IF($BG60-BM$1>計算!$B$26,BM$66,($BG60-BM$1)/計算!$B$26*BM$66))","v":8.5539846253473106E-2},{"$f":"IF($BG60<BN$1,0,IF($BG60-BN$1>計算!$B$26,BN$66,($BG60-BN$1)/計算!$B$26*BN$66))","v":-3.7976275570530404E-2},{"$f":"IF($BG60<BO$1,0,IF($BG60-BO$1>計算!$B$26,BO$66,($BG60-BO$1)/計算!$B$26*BO$66))","v":6.2162268050736214E-2},{"$f":"IF($BG60<BP$1,0,IF($BG60-BP$1>計算!$B$26,BP$66,($BG60-BP$1)/計算!$B$26*BP$66))","v":0.15755812631518906},{"$f":"IF($BG60<BQ$1,0,IF($BG60-BQ$1>計算!$B$26,BQ$66,($BG60-BQ$1)/計算!$B$26*BQ$66))","v":-1.203930779011364E-2},{"$f":"IF($BG60<BR$1,0,IF($BG60-BR$1>計算!$B$26,BR$66,($BG60-BR$1)/計算!$B$26*BR$66))","v":-6.422251715804006E-2},{"$f":"IF($BG60<BS$1,0,IF($BG60-BS$1>計算!$B$26,BS$66,($BG60-BS$1)/計算!$B$26*BS$66))","v":8.0523326838670695E-3},{"$f":"IF($BG60<BT$1,0,IF($BG60-BT$1>計算!$B$26,BT$66,($BG60-BT$1)/計算!$B$26*BT$66))","v":-9.0301260651520776E-3},{"$f":"IF($BG60<BU$1,0,IF($BG60-BU$1>計算!$B$26,BU$66,($BG60-BU$1)/計算!$B$26*BU$66))","v":4.1747936536487673E-2},{"$f":"IF($BG60<BV$1,0,IF($BG60-BV$1>計算!$B$26,BV$66,($BG60-BV$1)/計算!$B$26*BV$66))","v":-3.5110256083367153E-3},{"$f":"IF($BG60<BW$1,0,IF($BG60-BW$1>計算!$B$26,BW$66,($BG60-BW$1)/計算!$B$26*BW$66))","v":-9.9796700329851329E-2},{"$f":"IF($BG60<BX$1,0,IF($BG60-BX$1>計算!$B$26,BX$66,($BG60-BX$1)/計算!$B$26*BX$66))","v":9.6704798158792071E-3},{"$f":"IF($BG60<BY$1,0,IF($BG60-BY$1>計算!$B$26,BY$66,($BG60-BY$1)/計算!$B$26*BY$66))","v":4.2775407921305519E-2},{"$f":"IF($BG60<BZ$1,0,IF($BG60-BZ$1>計算!$B$26,BZ$66,($BG60-BZ$1)/計算!$B$26*BZ$66))","v":-1.1763541698946112E-2},{"$f":"IF($BG60<CA$1,0,IF($BG60-CA$1>計算!$B$26,CA$66,($BG60-CA$1)/計算!$B$26*CA$66))","v":7.5801003265218991E-4},{"$f":"IF($BG60<CB$1,0,IF($BG60-CB$1>計算!$B$26,CB$66,($BG60-CB$1)/計算!$B$26*CB$66))","v":-2.1472136360789484E-3},{"$f":"IF($BG60<CC$1,0,IF($BG60-CC$1>計算!$B$26,CC$66,($BG60-CC$1)/計算!$B$26*CC$66))","v":1.6339216546086832E-2},{"$f":"IF($BG60<CD$1,0,IF($BG60-CD$1>計算!$B$26,CD$66,($BG60-CD$1)/計算!$B$26*CD$66))","v":-2.972720190274114E-2},{"$f":"IF($BG60<CE$1,0,IF($BG60-CE$1>計算!$B$26,CE$66,($BG60-CE$1)/計算!$B$26*CE$66))","v":-1.9930348423327637E-2},{"$f":"IF($BG60<CF$1,0,IF($BG60-CF$1>計算!$B$26,CF$66,($BG60-CF$1)/計算!$B$26*CF$66))","v":6.6184619293727209E-2},{"$f":"IF($BG60<CG$1,0,IF($BG60-CG$1>計算!$B$26,CG$66,($BG60-CG$1)/計算!$B$26*CG$66))","v":-5.5819893287709643E-3},{"$f":"IF($BG60<CH$1,0,IF($BG60-CH$1>計算!$B$26,CH$66,($BG60-CH$1)/計算!$B$26*CH$66))","v":-2.7847676161335905E-2},{"$f":"IF($BG60<CI$1,0,IF($BG60-CI$1>計算!$B$26,CI$66,($BG60-CI$1)/計算!$B$26*CI$66))","v":1.0811527717696855E-2},{"$f":"IF($BG60<CJ$1,0,IF($BG60-CJ$1>計算!$B$26,CJ$66,($BG60-CJ$1)/計算!$B$26*CJ$66))","v":-1.3610561707378009E-3},{"$f":"IF($BG60<CK$1,0,IF($BG60-CK$1>計算!$B$26,CK$66,($BG60-CK$1)/計算!$B$26*CK$66))","v":5.4903387312523951E-5},1.5410334285383309E-3,-1.5410334285383309E-3]
[null,null,null,null,null,null,null,null,null,null,null,null,{"$f":"IF($L61<M$1,0,IF($L61-M$1>計算!$B$26,M$66,($L61-M$1)/計算!$B$26*M$66))","v":0.2983353312641418},{"$f":"IF($L61<N$1,0,IF($L61-N$1>計算!$B$26,N$66,($L61-N$1)/計算!$B$26*N$66))","v":-0.89890989052282899},{"$f":"IF($L61<O$1,0,IF($L61-O$1>計算!$B$26,O$66,($L61-O$1)/計算!$B$26*O$66))","v":-0.21184658990487348},{"$f":"IF($L61<P$1,0,IF($L61-P$1>計算!$B$26,P$66,($L61-P$1)/計算!$B$26*P$66))","v":0.63830901206403412},{"$f":"IF($L61<Q$1,0,IF($L61-Q$1>計算!$B$26,Q$66,($L61-Q$1)/計算!$B$26*Q$66))","v":-0.21374580605087579},{"$f":"IF($L61<R$1,0,IF($L61-R$1>計算!$B$26,R$66,($L61-R$1)/計算!$B$26*R$66))","v":0.58793831734057156},{"$f":"IF($L61<S$1,0,IF($L61-S$1>計算!$B$26,S$66,($L61-S$1)/計算!$B$26*S$66))","v":0.26628907306790472},{"$f":"IF($L61<T$1,0,IF($L61-T$1>計算!$B$26,T$66,($L61-T$1)/計算!$B$26*T$66))","v":-0.47320266231569752},{"$f":"IF($L61<U$1,0,IF($L61-U$1>計算!$B$26,U$66,($L61-U$1)/計算!$B$26*U$66))","v":6.0087511789762682E-2},{"$f":"IF($L61<V$1,0,IF($L61-V$1>計算!$B$26,V$66,($L61-V$1)/計算!$B$26*V$66))","v":-5.0825194033370491E-2},{"$f":"IF($L61<W$1,0,IF($L61-W$1>計算!$B$26,W$66,($L61-W$1)/計算!$B$26*W$66))","v":0.29158188812572483},{"$f":"IF($L61<X$1,0,IF($L61-X$1>計算!$B$26,X$66,($L61-X$1)/計算!$B$26*X$66))","v":-0.33635698393373026},{"$f":"IF($L61<Y$1,0,IF($L61-Y$1>計算!$B$26,Y$66,($L61-Y$1)/計算!$B$26*Y$66))","v":-0.23732384043519716},{"$f":"IF($L61<Z$1,0,IF($L61-Z$1>計算!$B$26,Z$66,($L61-Z$1)/計算!$B$26*Z$66))","v":0.3484351373522887},{"$f":"IF($L61<AA$1,0,IF($L61-AA$1>計算!$B$26,AA$66,($L61-AA$1)/計算!$B$26*AA$66))","v":-8.7213024267986938E-2},{"$f":"IF($L61<AB$1,0,IF($L61-AB$1>計算!$B$26,AB$66,($L61-AB$1)/計算!$B$26*AB$66))","v":5.6563654982872968E-3},{"$f":"IF($L61<AC$1,0,IF($L61-AC$1>計算!$B$26,AC$66,($L61-AC$1)/計算!$B$26*AC$66))","v":-1.2085384954476752E-2},{"$f":"IF($L61<AD$1,0,IF($L61-AD$1>計算!$B$26,AD$66,($L61-AD$1)/計算!$B$26*AD$66))","v":0.10542406236172575},{"$f":"IF($L61<AE$1,0,IF($L61-AE$1>計算!$B$26,AE$66,($L61-AE$1)/計算!$B$26*AE$66))","v":-0.28279467405986669},{"$f":"IF($L61<AF$1,0,IF($L61-AF$1>計算!$B$26,AF$66,($L61-AF$1)/計算!$B$26*AF$66))","v":0.18504894450884757},{"$f":"IF($L61<AG$1,0,IF($L61-AG$1>計算!$B$26,AG$66,($L61-AG$1)/計算!$B$26*AG$66))","v":0.20847316613816691},{"$f":"IF($L61<AH$1,0,IF($L61-AH$1>計算!$B$26,AH$66,($L61-AH$1)/計算!$B$26*AH$66))","v":-0.27052971675150728},{"$f":"IF($L61<AI$1,0,IF($L61-AI$1>計算!$B$26,AI$66,($L61-AI$1)/計算!$B$26*AI$66))","v":9.3538754219008258E-2},{"$f":"IF($L61<AJ$1,0,IF($L61-AJ$1>計算!$B$26,AJ$66,($L61-AJ$1)/計算!$B$26*AJ$66))","v":-1.2226398010253603E-2},{"$f":"IF($L61<AK$1,0,IF($L61-AK$1>計算!$B$26,AK$66,($L61-AK$1)/計算!$B$26*AK$66))","v":5.3246456205668924E-4},{"$f":"IF($L61<AL$1,0,IF($L61-AL$1>計算!$B$26,AL$66,($L61-AL$1)/計算!$B$26*AL$66))","v":0},{"$f":"IF($L61<AM$1,0,IF($L61-AM$1>計算!$B$26,AM$66,($L61-AM$1)/計算!$B$26*AM$66))","v":0},{"$f":"IF($L61<AN$1,0,IF($L61-AN$1>計算!$B$26,AN$66,($L61-AN$1)/計算!$B$26*AN$66))","v":0},{"$f":"IF($L61<AO$1,0,IF($L61-AO$1>計算!$B$26,AO$66,($L61-AO$1)/計算!$B$26*AO$66))","v":0},{"$f":"IF($L61<AP$1,0,IF($L61-AP$1>計算!$B$26,AP$66,($L61-AP$1)/計算!$B$26*AP$66))","v":0},{"$f":"IF($L61<AQ$1,0,IF($L61-AQ$1>計算!$B$26,AQ$66,($L61-AQ$1)/計算!$B$26*AQ$66))","v":0},{"$f":"IF($L61<AR$1,0,IF($L61-AR$1>計算!$B$26,AR$66,($L61-AR$1)/計算!$B$26*AR$66))","v":0},{"$f":"IF($L61<AS$1,0,IF($L61-AS$1>計算!$B$26,AS$66,($L61-AS$1)/計算!$B$26*AS$66))","v":0},{"$f":"IF($L61<AT$1,0,IF($L61-AT$1>計算!$B$26,AT$66,($L61-AT$1)/計算!$B$26*AT$66))","v":0},{"$f":"IF($L61<AU$1,0,IF($L61-AU$1>計算!$B$26,AU$66,($L61-AU$1)/計算!$B$26*AU$66))","v":0},{"$f":"IF($L61<AV$1,0,IF($L61-AV$1>計算!$B$26,AV$66,($L61-AV$1)/計算!$B$26*AV$66))","v":0},2.589863051855934E-3,-2.589863051855934E-3,null,null,null,null,null,null,null,null,null,{"$f":"IF($BG61<BH$1,0,IF($BG61-BH$1>計算!$B$26,BH$66,($BG61-BH$1)/計算!$B$26*BH$66))","v":-0.67165999785768882},{"$f":"IF($BG61<BI$1,0,IF($BG61-BI$1>計算!$B$26,BI$66,($BG61-BI$1)/計算!$B$26*BI$66))","v":0.90868889604222969},{"$f":"IF($BG61<BJ$1,0,IF($BG61-BJ$1>計算!$B$26,BJ$66,($BG61-BJ$1)/計算!$B$26*BJ$66))","v":-0.15970956504964062},{"$f":"IF($BG61<BK$1,0,IF($BG61-BK$1>計算!$B$26,BK$66,($BG61-BK$1)/計算!$B$26*BK$66))","v":-0.21551880103922261},{"$f":"IF($BG61<BL$1,0,IF($BG61-BL$1>計算!$B$26,BL$66,($BG61-BL$1)/計算!$B$26*BL$66))","v":-3.6979193377590036E-2},{"$f":"IF($BG61<BM$1,0,IF($BG61-BM$1>計算!$B$26,BM$66,($BG61-BM$1)/計算!$B$26*BM$66))","v":8.5539846253473106E-2},{"$f":"IF($BG61<BN$1,0,IF($BG61-BN$1>計算!$B$26,BN$66,($BG61-BN$1)/計算!$B$26*BN$66))","v":-3.7976275570530404E-2},{"$f":"IF($BG61<BO$1,0,IF($BG61-BO$1>計算!$B$26,BO$66,($BG61-BO$1)/計算!$B$26*BO$66))","v":6.2162268050736214E-2},{"$f":"IF($BG61<BP$1,0,IF($BG61-BP$1>計算!$B$26,BP$66,($BG61-BP$1)/計算!$B$26*BP$66))","v":0.15755812631518906},{"$f":"IF($BG61<BQ$1,0,IF($BG61-BQ$1>計算!$B$26,BQ$66,($BG61-BQ$1)/計算!$B$26*BQ$66))","v":-1.203930779011364E-2},{"$f":"IF($BG61<BR$1,0,IF($BG61-BR$1>計算!$B$26,BR$66,($BG61-BR$1)/計算!$B$26*BR$66))","v":-6.422251715804006E-2},{"$f":"IF($BG61<BS$1,0,IF($BG61-BS$1>計算!$B$26,BS$66,($BG61-BS$1)/計算!$B$26*BS$66))","v":8.0523326838670695E-3},{"$f":"IF($BG61<BT$1,0,IF($BG61-BT$1>計算!$B$26,BT$66,($BG61-BT$1)/計算!$B$26*BT$66))","v":-9.0301260651520776E-3},{"$f":"IF($BG61<BU$1,0,IF($BG61-BU$1>計算!$B$26,BU$66,($BG61-BU$1)/計算!$B$26*BU$66))","v":4.1747936536487673E-2},{"$f":"IF($BG61<BV$1,0,IF($BG61-BV$1>計算!$B$26,BV$66,($BG61-BV$1)/計算!$B$26*BV$66))","v":-3.5110256083367153E-3},{"$f":"IF($BG61<BW$1,0,IF($BG61-BW$1>計算!$B$26,BW$66,($BG61-BW$1)/計算!$B$26*BW$66))","v":-9.9796700329851329E-2},{"$f":"IF($BG61<BX$1,0,IF($BG61-BX$1>計算!$B$26,BX$66,($BG61-BX$1)/計算!$B$26*BX$66))","v":9.6704798158792071E-3},{"$f":"IF($BG61<BY$1,0,IF($BG61-BY$1>計算!$B$26,BY$66,($BG61-BY$1)/計算!$B$26*BY$66))","v":4.2775407921305519E-2},{"$f":"IF($BG61<BZ$1,0,IF($BG61-BZ$1>計算!$B$26,BZ$66,($BG61-BZ$1)/計算!$B$26*BZ$66))","v":-1.1763541698946112E-2},{"$f":"IF($BG61<CA$1,0,IF($BG61-CA$1>計算!$B$26,CA$66,($BG61-CA$1)/計算!$B$26*CA$66))","v":7.5801003265218991E-4},{"$f":"IF($BG61<CB$1,0,IF($BG61-CB$1>計算!$B$26,CB$66,($BG61-CB$1)/計算!$B$26*CB$66))","v":-2.1472136360789484E-3},{"$f":"IF($BG61<CC$1,0,IF($BG61-CC$1>計算!$B$26,CC$66,($BG61-CC$1)/計算!$B$26*CC$66))","v":1.6339216546086832E-2},{"$f":"IF($BG61<CD$1,0,IF($BG61-CD$1>計算!$B$26,CD$66,($BG61-CD$1)/計算!$B$26*CD$66))","v":-2.972720190274114E-2},{"$f":"IF($BG61<CE$1,0,IF($BG61-CE$1>計算!$B$26,CE$66,($BG61-CE$1)/計算!$B$26*CE$66))","v":-1.9930348423327637E-2},{"$f":"IF($BG61<CF$1,0,IF($BG61-CF$1>計算!$B$26,CF$66,($BG61-CF$1)/計算!$B$26*CF$66))","v":6.6184619293727209E-2},{"$f":"IF($BG61<CG$1,0,IF($BG61-CG$1>計算!$B$26,CG$66,($BG61-CG$1)/計算!$B$26*CG$66))","v":-5.5819893287709643E-3},{"$f":"IF($BG61<CH$1,0,IF($BG61-CH$1>計算!$B$26,CH$66,($BG61-CH$1)/計算!$B$26*CH$66))","v":-2.9551036348403725E-2},{"$f":"IF($BG61<CI$1,0,IF($BG61-CI$1>計算!$B$26,CI$66,($BG61-CI$1)/計算!$B$26*CI$66))","v":1.1515929746942889E-2},{"$f":"IF($BG61<CJ$1,0,IF($BG61-CJ$1>計算!$B$26,CJ$66,($BG61-CJ$1)/計算!$B$26*CJ$66))","v":-1.4559130801059534E-3},{"$f":"IF($BG61<CK$1,0,IF($BG61-CK$1>計算!$B$26,CK$66,($BG61-CK$1)/計算!$B$26*CK$66))","v":5.9016456762038347E-5},4.5133143079790654E-4,-4.5133143079790654E-4]
[null,null,null,null,null,null,null,null,null,null,null,null,{"$f":"IF($L62<M$1,0,IF($L62-M$1>計算!$B$26,M$66,($L62-M$1)/計算!$B$26*M$66))","v":0.2983353312641418},{"$f":"IF($L62<N$1,0,IF($L62-N$1>計算!$B$26,N$66,($L62-N$1)/計算!$B$26*N$66))","v":-0.89890989052282899},{"$f":"IF($L62<O$1,0,IF($L62-O$1>計算!$B$26,O$66,($L62-O$1)/計算!$B$26*O$66))","v":-0.21184658990487348},{"$f":"IF($L62<P$1,0,IF($L62-P$1>計算!$B$26,P$66,($L62-P$1)/計算!$B$26*P$66))","v":0.63830901206403412},{"$f":"IF($L62<Q$1,0,IF($L62-Q$1>計算!$B$26,Q$66,($L62-Q$1)/計算!$B$26*Q$66))","v":-0.21374580605087579},{"$f":"IF($L62<R$1,0,IF($L62-R$1>計算!$B$26,R$66,($L62-R$1)/計算!$B$26*R$66))","v":0.58793831734057156},{"$f":"IF($L62<S$1,0,IF($L62-S$1>計算!$B$26,S$66,($L62-S$1)/計算!$B$26*S$66))","v":0.26628907306790472},{"$f":"IF($L62<T$1,0,IF($L62-T$1>計算!$B$26,T$66,($L62-T$1)/計算!$B$26*T$66))","v":-0.47320266231569752},{"$f":"IF($L62<U$1,0,IF($L62-U$1>計算!$B$26,U$66,($L62-U$1)/計算!$B$26*U$66))","v":6.0087511789762682E-2},{"$f":"IF($L62<V$1,0,IF($L62-V$1>計算!$B$26,V$66,($L62-V$1)/計算!$B$26*V$66))","v":-5.0825194033370491E-2},{"$f":"IF($L62<W$1,0,IF($L62-W$1>計算!$B$26,W$66,($L62-W$1)/計算!$B$26*W$66))","v":0.29158188812572483},{"$f":"IF($L62<X$1,0,IF($L62-X$1>計算!$B$26,X$66,($L62-X$1)/計算!$B$26*X$66))","v":-0.33635698393373026},{"$f":"IF($L62<Y$1,0,IF($L62-Y$1>計算!$B$26,Y$66,($L62-Y$1)/計算!$B$26*Y$66))","v":-0.23732384043519716},{"$f":"IF($L62<Z$1,0,IF($L62-Z$1>計算!$B$26,Z$66,($L62-Z$1)/計算!$B$26*Z$66))","v":0.3484351373522887},{"$f":"IF($L62<AA$1,0,IF($L62-AA$1>計算!$B$26,AA$66,($L62-AA$1)/計算!$B$26*AA$66))","v":-8.7213024267986938E-2},{"$f":"IF($L62<AB$1,0,IF($L62-AB$1>計算!$B$26,AB$66,($L62-AB$1)/計算!$B$26*AB$66))","v":5.6563654982872968E-3},{"$f":"IF($L62<AC$1,0,IF($L62-AC$1>計算!$B$26,AC$66,($L62-AC$1)/計算!$B$26*AC$66))","v":-1.2085384954476752E-2},{"$f":"IF($L62<AD$1,0,IF($L62-AD$1>計算!$B$26,AD$66,($L62-AD$1)/計算!$B$26*AD$66))","v":0.10542406236172575},{"$f":"IF($L62<AE$1,0,IF($L62-AE$1>計算!$B$26,AE$66,($L62-AE$1)/計算!$B$26*AE$66))","v":-0.28279467405986669},{"$f":"IF($L62<AF$1,0,IF($L62-AF$1>計算!$B$26,AF$66,($L62-AF$1)/計算!$B$26*AF$66))","v":0.18504894450884757},{"$f":"IF($L62<AG$1,0,IF($L62-AG$1>計算!$B$26,AG$66,($L62-AG$1)/計算!$B$26*AG$66))","v":0.20847316613816691},{"$f":"IF($L62<AH$1,0,IF($L62-AH$1>計算!$B$26,AH$66,($L62-AH$1)/計算!$B$26*AH$66))","v":-0.27052971675150728},{"$f":"IF($L62<AI$1,0,IF($L62-AI$1>計算!$B$26,AI$66,($L62-AI$1)/計算!$B$26*AI$66))","v":9.3538754219008258E-2},{"$f":"IF($L62<AJ$1,0,IF($L62-AJ$1>計算!$B$26,AJ$66,($L62-AJ$1)/計算!$B$26*AJ$66))","v":-1.2226398010253603E-2},{"$f":"IF($L62<AK$1,0,IF($L62-AK$1>計算!$B$26,AK$66,($L62-AK$1)/計算!$B$26*AK$66))","v":5.3246456205668924E-4},{"$f":"IF($L62<AL$1,0,IF($L62-AL$1>計算!$B$26,AL$66,($L62-AL$1)/計算!$B$26*AL$66))","v":0},{"$f":"IF($L62<AM$1,0,IF($L62-AM$1>計算!$B$26,AM$66,($L62-AM$1)/計算!$B$26*AM$66))","v":0},{"$f":"IF($L62<AN$1,0,IF($L62-AN$1>計算!$B$26,AN$66,($L62-AN$1)/計算!$B$26*AN$66))","v":0},{"$f":"IF($L62<AO$1,0,IF($L62-AO$1>計算!$B$26,AO$66,($L62-AO$1)/計算!$B$26*AO$66))","v":0},{"$f":"IF($L62<AP$1,0,IF($L62-AP$1>計算!$B$26,AP$66,($L62-AP$1)/計算!$B$26*AP$66))","v":0},{"$f":"IF($L62<AQ$1,0,IF($L62-AQ$1>計算!$B$26,AQ$66,($L62-AQ$1)/計算!$B$26*AQ$66))","v":0},{"$f":"IF($L62<AR$1,0,IF($L62-AR$1>計算!$B$26,AR$66,($L62-AR$1)/計算!$B$26*AR$66))","v":0},{"$f":"IF($L62<AS$1,0,IF($L62-AS$1>計算!$B$26,AS$66,($L62-AS$1)/計算!$B$26*AS$66))","v":0},{"$f":"IF($L62<AT$1,0,IF($L62-AT$1>計算!$B$26,AT$66,($L62-AT$1)/計算!$B$26*AT$66))","v":0},{"$f":"IF($L62<AU$1,0,IF($L62-AU$1>計算!$B$26,AU$66,($L62-AU$1)/計算!$B$26*AU$66))","v":0},{"$f":"IF($L62<AV$1,0,IF($L62-AV$1>計算!$B$26,AV$66,($L62-AV$1)/計算!$B$26*AV$66))","v":0},2.589863051855934E-3,-2.589863051855934E-3,null,null,null,null,null,null,null,null,null,{"$f":"IF($BG62<BH$1,0,IF($BG62-BH$1>計算!$B$26,BH$66,($BG62-BH$1)/計算!$B$26*BH$66))","v":-0.67165999785768882},{"$f":"IF($BG62<BI$1,0,IF($BG62-BI$1>計算!$B$26,BI$66,($BG62-BI$1)/計算!$B$26*BI$66))","v":0.90868889604222969},{"$f":"IF($BG62<BJ$1,0,IF($BG62-BJ$1>計算!$B$26,BJ$66,($BG62-BJ$1)/計算!$B$26*BJ$66))","v":-0.15970956504964062},{"$f":"IF($BG62<BK$1,0,IF($BG62-BK$1>計算!$B$26,BK$66,($BG62-BK$1)/計算!$B$26*BK$66))","v":-0.21551880103922261},{"$f":"IF($BG62<BL$1,0,IF($BG62-BL$1>計算!$B$26,BL$66,($BG62-BL$1)/計算!$B$26*BL$66))","v":-3.6979193377590036E-2},{"$f":"IF($BG62<BM$1,0,IF($BG62-BM$1>計算!$B$26,BM$66,($BG62-BM$1)/計算!$B$26*BM$66))","v":8.5539846253473106E-2},{"$f":"IF($BG62<BN$1,0,IF($BG62-BN$1>計算!$B$26,BN$66,($BG62-BN$1)/計算!$B$26*BN$66))","v":-3.7976275570530404E-2},{"$f":"IF($BG62<BO$1,0,IF($BG62-BO$1>計算!$B$26,BO$66,($BG62-BO$1)/計算!$B$26*BO$66))","v":6.2162268050736214E-2},{"$f":"IF($BG62<BP$1,0,IF($BG62-BP$1>計算!$B$26,BP$66,($BG62-BP$1)/計算!$B$26*BP$66))","v":0.15755812631518906},{"$f":"IF($BG62<BQ$1,0,IF($BG62-BQ$1>計算!$B$26,BQ$66,($BG62-BQ$1)/計算!$B$26*BQ$66))","v":-1.203930779011364E-2},{"$f":"IF($BG62<BR$1,0,IF($BG62-BR$1>計算!$B$26,BR$66,($BG62-BR$1)/計算!$B$26*BR$66))","v":-6.422251715804006E-2},{"$f":"IF($BG62<BS$1,0,IF($BG62-BS$1>計算!$B$26,BS$66,($BG62-BS$1)/計算!$B$26*BS$66))","v":8.0523326838670695E-3},{"$f":"IF($BG62<BT$1,0,IF($BG62-BT$1>計算!$B$26,BT$66,($BG62-BT$1)/計算!$B$26*BT$66))","v":-9.0301260651520776E-3},{"$f":"IF($BG62<BU$1,0,IF($BG62-BU$1>計算!$B$26,BU$66,($BG62-BU$1)/計算!$B$26*BU$66))","v":4.1747936536487673E-2},{"$f":"IF($BG62<BV$1,0,IF($BG62-BV$1>計算!$B$26,BV$66,($BG62-BV$1)/計算!$B$26*BV$66))","v":-3.5110256083367153E-3},{"$f":"IF($BG62<BW$1,0,IF($BG62-BW$1>計算!$B$26,BW$66,($BG62-BW$1)/計算!$B$26*BW$66))","v":-9.9796700329851329E-2},{"$f":"IF($BG62<BX$1,0,IF($BG62-BX$1>計算!$B$26,BX$66,($BG62-BX$1)/計算!$B$26*BX$66))","v":9.6704798158792071E-3},{"$f":"IF($BG62<BY$1,0,IF($BG62-BY$1>計算!$B$26,BY$66,($BG62-BY$1)/計算!$B$26*BY$66))","v":4.2775407921305519E-2},{"$f":"IF($BG62<BZ$1,0,IF($BG62-BZ$1>計算!$B$26,BZ$66,($BG62-BZ$1)/計算!$B$26*BZ$66))","v":-1.1763541698946112E-2},{"$f":"IF($BG62<CA$1,0,IF($BG62-CA$1>計算!$B$26,CA$66,($BG62-CA$1)/計算!$B$26*CA$66))","v":7.5801003265218991E-4},{"$f":"IF($BG62<CB$1,0,IF($BG62-CB$1>計算!$B$26,CB$66,($BG62-CB$1)/計算!$B$26*CB$66))","v":-2.1472136360789484E-3},{"$f":"IF($BG62<CC$1,0,IF($BG62-CC$1>計算!$B$26,CC$66,($BG62-CC$1)/計算!$B$26*CC$66))","v":1.6339216546086832E-2},{"$f":"IF($BG62<CD$1,0,IF($BG62-CD$1>計算!$B$26,CD$66,($BG62-CD$1)/計算!$B$26*CD$66))","v":-2.972720190274114E-2},{"$f":"IF($BG62<CE$1,0,IF($BG62-CE$1>計算!$B$26,CE$66,($BG62-CE$1)/計算!$B$26*CE$66))","v":-1.9930348423327637E-2},{"$f":"IF($BG62<CF$1,0,IF($BG62-CF$1>計算!$B$26,CF$66,($BG62-CF$1)/計算!$B$26*CF$66))","v":6.6184619293727209E-2},{"$f":"IF($BG62<CG$1,0,IF($BG62-CG$1>計算!$B$26,CG$66,($BG62-CG$1)/計算!$B$26*CG$66))","v":-5.5819893287709643E-3},{"$f":"IF($BG62<CH$1,0,IF($BG62-CH$1>計算!$B$26,CH$66,($BG62-CH$1)/計算!$B$26*CH$66))","v":-2.9551036348403725E-2},{"$f":"IF($BG62<CI$1,0,IF($BG62-CI$1>計算!$B$26,CI$66,($BG62-CI$1)/計算!$B$26*CI$66))","v":1.2220324932807003E-2},{"$f":"IF($BG62<CJ$1,0,IF($BG62-CJ$1>計算!$B$26,CJ$66,($BG62-CJ$1)/計算!$B$26*CJ$66))","v":-1.5507699894741118E-3},{"$f":"IF($BG62<CK$1,0,IF($BG62-CK$1>計算!$B$26,CK$66,($BG62-CK$1)/計算!$B$26*CK$66))","v":6.3129526211552994E-5},1.0649827767433768E-3,-1.0649827767433768E-3]
[null,null,null,null,null,null,null,null,null,null,null,null,{"$f":"IF($L63<M$1,0,IF($L63-M$1>計算!$B$26,M$66,($L63-M$1)/計算!$B$26*M$66))","v":0.2983353312641418},{"$f":"IF($L63<N$1,0,IF($L63-N$1>計算!$B$26,N$66,($L63-N$1)/計算!$B$26*N$66))","v":-0.89890989052282899},{"$f":"IF($L63<O$1,0,IF($L63-O$1>計算!$B$26,O$66,($L63-O$1)/計算!$B$26*O$66))","v":-0.21184658990487348},{"$f":"IF($L63<P$1,0,IF($L63-P$1>計算!$B$26,P$66,($L63-P$1)/計算!$B$26*P$66))","v":0.63830901206403412},{"$f":"IF($L63<Q$1,0,IF($L63-Q$1>計算!$B$26,Q$66,($L63-Q$1)/計算!$B$26*Q$66))","v":-0.21374580605087579},{"$f":"IF($L63<R$1,0,IF($L63-R$1>計算!$B$26,R$66,($L63-R$1)/計算!$B$26*R$66))","v":0.58793831734057156},{"$f":"IF($L63<S$1,0,IF($L63-S$1>計算!$B$26,S$66,($L63-S$1)/計算!$B$26*S$66))","v":0.26628907306790472},{"$f":"IF($L63<T$1,0,IF($L63-T$1>計算!$B$26,T$66,($L63-T$1)/計算!$B$26*T$66))","v":-0.47320266231569752},{"$f":"IF($L63<U$1,0,IF($L63-U$1>計算!$B$26,U$66,($L63-U$1)/計算!$B$26*U$66))","v":6.0087511789762682E-2},{"$f":"IF($L63<V$1,0,IF($L63-V$1>計算!$B$26,V$66,($L63-V$1)/計算!$B$26*V$66))","v":-5.0825194033370491E-2},{"$f":"IF($L63<W$1,0,IF($L63-W$1>計算!$B$26,W$66,($L63-W$1)/計算!$B$26*W$66))","v":0.29158188812572483},{"$f":"IF($L63<X$1,0,IF($L63-X$1>計算!$B$26,X$66,($L63-X$1)/計算!$B$26*X$66))","v":-0.33635698393373026},{"$f":"IF($L63<Y$1,0,IF($L63-Y$1>計算!$B$26,Y$66,($L63-Y$1)/計算!$B$26*Y$66))","v":-0.23732384043519716},{"$f":"IF($L63<Z$1,0,IF($L63-Z$1>計算!$B$26,Z$66,($L63-Z$1)/計算!$B$26*Z$66))","v":0.3484351373522887},{"$f":"IF($L63<AA$1,0,IF($L63-AA$1>計算!$B$26,AA$66,($L63-AA$1)/計算!$B$26*AA$66))","v":-8.7213024267986938E-2},{"$f":"IF($L63<AB$1,0,IF($L63-AB$1>計算!$B$26,AB$66,($L63-AB$1)/計算!$B$26*AB$66))","v":5.6563654982872968E-3},{"$f":"IF($L63<AC$1,0,IF($L63-AC$1>計算!$B$26,AC$66,($L63-AC$1)/計算!$B$26*AC$66))","v":-1.2085384954476752E-2},{"$f":"IF($L63<AD$1,0,IF($L63-AD$1>計算!$B$26,AD$66,($L63-AD$1)/計算!$B$26*AD$66))","v":0.10542406236172575},{"$f":"IF($L63<AE$1,0,IF($L63-AE$1>計算!$B$26,AE$66,($L63-AE$1)/計算!$B$26*AE$66))","v":-0.28279467405986669},{"$f":"IF($L63<AF$1,0,IF($L63-AF$1>計算!$B$26,AF$66,($L63-AF$1)/計算!$B$26*AF$66))","v":0.18504894450884757},{"$f":"IF($L63<AG$1,0,IF($L63-AG$1>計算!$B$26,AG$66,($L63-AG$1)/計算!$B$26*AG$66))","v":0.20847316613816691},{"$f":"IF($L63<AH$1,0,IF($L63-AH$1>計算!$B$26,AH$66,($L63-AH$1)/計算!$B$26*AH$66))","v":-0.27052971675150728},{"$f":"IF($L63<AI$1,0,IF($L63-AI$1>計算!$B$26,AI$66,($L63-AI$1)/計算!$B$26*AI$66))","v":9.3538754219008258E-2},{"$f":"IF($L63<AJ$1,0,IF($L63-AJ$1>計算!$B$26,AJ$66,($L63-AJ$1)/計算!$B$26*AJ$66))","v":-1.2226398010253603E-2},{"$f":"IF($L63<AK$1,0,IF($L63-AK$1>計算!$B$26,AK$66,($L63-AK$1)/計算!$B$26*AK$66))","v":5.3246456205668924E-4},{"$f":"IF($L63<AL$1,0,IF($L63-AL$1>計算!$B$26,AL$66,($L63-AL$1)/計算!$B$26*AL$66))","v":0},{"$f":"IF($L63<AM$1,0,IF($L63-AM$1>計算!$B$26,AM$66,($L63-AM$1)/計算!$B$26*AM$66))","v":0},{"$f":"IF($L63<AN$1,0,IF($L63-AN$1>計算!$B$26,AN$66,($L63-AN$1)/計算!$B$26*AN$66))","v":0},{"$f":"IF($L63<AO$1,0,IF($L63-AO$1>計算!$B$26,AO$66,($L63-AO$1)/計算!$B$26*AO$66))","v":0},{"$f":"IF($L63<AP$1,0,IF($L63-AP$1>計算!$B$26,AP$66,($L63-AP$1)/計算!$B$26*AP$66))","v":0},{"$f":"IF($L63<AQ$1,0,IF($L63-AQ$1>計算!$B$26,AQ$66,($L63-AQ$1)/計算!$B$26*AQ$66))","v":0},{"$f":"IF($L63<AR$1,0,IF($L63-AR$1>計算!$B$26,AR$66,($L63-AR$1)/計算!$B$26*AR$66))","v":0},{"$f":"IF($L63<AS$1,0,IF($L63-AS$1>計算!$B$26,AS$66,($L63-AS$1)/計算!$B$26*AS$66))","v":0},{"$f":"IF($L63<AT$1,0,IF($L63-AT$1>計算!$B$26,AT$66,($L63-AT$1)/計算!$B$26*AT$66))","v":0},{"$f":"IF($L63<AU$1,0,IF($L63-AU$1>計算!$B$26,AU$66,($L63-AU$1)/計算!$B$26*AU$66))","v":0},{"$f":"IF($L63<AV$1,0,IF($L63-AV$1>計算!$B$26,AV$66,($L63-AV$1)/計算!$B$26*AV$66))","v":0},2.589863051855934E-3,-2.589863051855934E-3,null,null,null,null,null,null,null,null,null,{"$f":"IF($BG63<BH$1,0,IF($BG63-BH$1>計算!$B$26,BH$66,($BG63-BH$1)/計算!$B$26*BH$66))","v":-0.67165999785768882},{"$f":"IF($BG63<BI$1,0,IF($BG63-BI$1>計算!$B$26,BI$66,($BG63-BI$1)/計算!$B$26*BI$66))","v":0.90868889604222969},{"$f":"IF($BG63<BJ$1,0,IF($BG63-BJ$1>計算!$B$26,BJ$66,($BG63-BJ$1)/計算!$B$26*BJ$66))","v":-0.15970956504964062},{"$f":"IF($BG63<BK$1,0,IF($BG63-BK$1>計算!$B$26,BK$66,($BG63-BK$1)/計算!$B$26*BK$66))","v":-0.21551880103922261},{"$f":"IF($BG63<BL$1,0,IF($BG63-BL$1>計算!$B$26,BL$66,($BG63-BL$1)/計算!$B$26*BL$66))","v":-3.6979193377590036E-2},{"$f":"IF($BG63<BM$1,0,IF($BG63-BM$1>計算!$B$26,BM$66,($BG63-BM$1)/計算!$B$26*BM$66))","v":8.5539846253473106E-2},{"$f":"IF($BG63<BN$1,0,IF($BG63-BN$1>計算!$B$26,BN$66,($BG63-BN$1)/計算!$B$26*BN$66))","v":-3.7976275570530404E-2},{"$f":"IF($BG63<BO$1,0,IF($BG63-BO$1>計算!$B$26,BO$66,($BG63-BO$1)/計算!$B$26*BO$66))","v":6.2162268050736214E-2},{"$f":"IF($BG63<BP$1,0,IF($BG63-BP$1>計算!$B$26,BP$66,($BG63-BP$1)/計算!$B$26*BP$66))","v":0.15755812631518906},{"$f":"IF($BG63<BQ$1,0,IF($BG63-BQ$1>計算!$B$26,BQ$66,($BG63-BQ$1)/計算!$B$26*BQ$66))","v":-1.203930779011364E-2},{"$f":"IF($BG63<BR$1,0,IF($BG63-BR$1>計算!$B$26,BR$66,($BG63-BR$1)/計算!$B$26*BR$66))","v":-6.422251715804006E-2},{"$f":"IF($BG63<BS$1,0,IF($BG63-BS$1>計算!$B$26,BS$66,($BG63-BS$1)/計算!$B$26*BS$66))","v":8.0523326838670695E-3},{"$f":"IF($BG63<BT$1,0,IF($BG63-BT$1>計算!$B$26,BT$66,($BG63-BT$1)/計算!$B$26*BT$66))","v":-9.0301260651520776E-3},{"$f":"IF($BG63<BU$1,0,IF($BG63-BU$1>計算!$B$26,BU$66,($BG63-BU$1)/計算!$B$26*BU$66))","v":4.1747936536487673E-2},{"$f":"IF($BG63<BV$1,0,IF($BG63-BV$1>計算!$B$26,BV$66,($BG63-BV$1)/計算!$B$26*BV$66))","v":-3.5110256083367153E-3},{"$f":"IF($BG63<BW$1,0,IF($BG63-BW$1>計算!$B$26,BW$66,($BG63-BW$1)/計算!$B$26*BW$66))","v":-9.9796700329851329E-2},{"$f":"IF($BG63<BX$1,0,IF($BG63-BX$1>計算!$B$26,BX$66,($BG63-BX$1)/計算!$B$26*BX$66))","v":9.6704798158792071E-3},{"$f":"IF($BG63<BY$1,0,IF($BG63-BY$1>計算!$B$26,BY$66,($BG63-BY$1)/計算!$B$26*BY$66))","v":4.2775407921305519E-2},{"$f":"IF($BG63<BZ$1,0,IF($BG63-BZ$1>計算!$B$26,BZ$66,($BG63-BZ$1)/計算!$B$26*BZ$66))","v":-1.1763541698946112E-2},{"$f":"IF($BG63<CA$1,0,IF($BG63-CA$1>計算!$B$26,CA$66,($BG63-CA$1)/計算!$B$26*CA$66))","v":7.5801003265218991E-4},{"$f":"IF($BG63<CB$1,0,IF($BG63-CB$1>計算!$B$26,CB$66,($BG63-CB$1)/計算!$B$26*CB$66))","v":-2.1472136360789484E-3},{"$f":"IF($BG63<CC$1,0,IF($BG63-CC$1>計算!$B$26,CC$66,($BG63-CC$1)/計算!$B$26*CC$66))","v":1.6339216546086832E-2},{"$f":"IF($BG63<CD$1,0,IF($BG63-CD$1>計算!$B$26,CD$66,($BG63-CD$1)/計算!$B$26*CD$66))","v":-2.972720190274114E-2},{"$f":"IF($BG63<CE$1,0,IF($BG63-CE$1>計算!$B$26,CE$66,($BG63-CE$1)/計算!$B$26*CE$66))","v":-1.9930348423327637E-2},{"$f":"IF($BG63<CF$1,0,IF($BG63-CF$1>計算!$B$26,CF$66,($BG63-CF$1)/計算!$B$26*CF$66))","v":6.6184619293727209E-2},{"$f":"IF($BG63<CG$1,0,IF($BG63-CG$1>計算!$B$26,CG$66,($BG63-CG$1)/計算!$B$26*CG$66))","v":-5.5819893287709643E-3},{"$f":"IF($BG63<CH$1,0,IF($BG63-CH$1>計算!$B$26,CH$66,($BG63-CH$1)/計算!$B$26*CH$66))","v":-2.9551036348403725E-2},{"$f":"IF($BG63<CI$1,0,IF($BG63-CI$1>計算!$B$26,CI$66,($BG63-CI$1)/計算!$B$26*CI$66))","v":1.2220324932807003E-2},{"$f":"IF($BG63<CJ$1,0,IF($BG63-CJ$1>計算!$B$26,CJ$66,($BG63-CJ$1)/計算!$B$26*CJ$66))","v":-1.6456259443792254E-3},{"$f":"IF($BG63<CK$1,0,IF($BG63-CK$1>計算!$B$26,CK$66,($BG63-CK$1)/計算!$B$26*CK$66))","v":6.7242595661067648E-5},9.7423989128777796E-4,-9.7423989128777796E-4]
[null,null,null,null,null,null,null,null,null,null,null,null,{"$f":"IF($L64<M$1,0,IF($L64-M$1>計算!$B$26,M$66,($L64-M$1)/計算!$B$26*M$66))","v":0.2983353312641418},{"$f":"IF($L64<N$1,0,IF($L64-N$1>計算!$B$26,N$66,($L64-N$1)/計算!$B$26*N$66))","v":-0.89890989052282899},{"$f":"IF($L64<O$1,0,IF($L64-O$1>計算!$B$26,O$66,($L64-O$1)/計算!$B$26*O$66))","v":-0.21184658990487348},{"$f":"IF($L64<P$1,0,IF($L64-P$1>計算!$B$26,P$66,($L64-P$1)/計算!$B$26*P$66))","v":0.63830901206403412},{"$f":"IF($L64<Q$1,0,IF($L64-Q$1>計算!$B$26,Q$66,($L64-Q$1)/計算!$B$26*Q$66))","v":-0.21374580605087579},{"$f":"IF($L64<R$1,0,IF($L64-R$1>計算!$B$26,R$66,($L64-R$1)/計算!$B$26*R$66))","v":0.58793831734057156},{"$f":"IF($L64<S$1,0,IF($L64-S$1>計算!$B$26,S$66,($L64-S$1)/計算!$B$26*S$66))","v":0.26628907306790472},{"$f":"IF($L64<T$1,0,IF($L64-T$1>計算!$B$26,T$66,($L64-T$1)/計算!$B$26*T$66))","v":-0.47320266231569752},{"$f":"IF($L64<U$1,0,IF($L64-U$1>計算!$B$26,U$66,($L64-U$1)/計算!$B$26*U$66))","v":6.0087511789762682E-2},{"$f":"IF($L64<V$1,0,IF($L64-V$1>計算!$B$26,V$66,($L64-V$1)/計算!$B$26*V$66))","v":-5.0825194033370491E-2},{"$f":"IF($L64<W$1,0,IF($L64-W$1>計算!$B$26,W$66,($L64-W$1)/計算!$B$26*W$66))","v":0.29158188812572483},{"$f":"IF($L64<X$1,0,IF($L64-X$1>計算!$B$26,X$66,($L64-X$1)/計算!$B$26*X$66))","v":-0.33635698393373026},{"$f":"IF($L64<Y$1,0,IF($L64-Y$1>計算!$B$26,Y$66,($L64-Y$1)/計算!$B$26*Y$66))","v":-0.23732384043519716},{"$f":"IF($L64<Z$1,0,IF($L64-Z$1>計算!$B$26,Z$66,($L64-Z$1)/計算!$B$26*Z$66))","v":0.3484351373522887},{"$f":"IF($L64<AA$1,0,IF($L64-AA$1>計算!$B$26,AA$66,($L64-AA$1)/計算!$B$26*AA$66))","v":-8.7213024267986938E-2},{"$f":"IF($L64<AB$1,0,IF($L64-AB$1>計算!$B$26,AB$66,($L64-AB$1)/計算!$B$26*AB$66))","v":5.6563654982872968E-3},{"$f":"IF($L64<AC$1,0,IF($L64-AC$1>計算!$B$26,AC$66,($L64-AC$1)/計算!$B$26*AC$66))","v":-1.2085384954476752E-2},{"$f":"IF($L64<AD$1,0,IF($L64-AD$1>計算!$B$26,AD$66,($L64-AD$1)/計算!$B$26*AD$66))","v":0.10542406236172575},{"$f":"IF($L64<AE$1,0,IF($L64-AE$1>計算!$B$26,AE$66,($L64-AE$1)/計算!$B$26*AE$66))","v":-0.28279467405986669},{"$f":"IF($L64<AF$1,0,IF($L64-AF$1>計算!$B$26,AF$66,($L64-AF$1)/計算!$B$26*AF$66))","v":0.18504894450884757},{"$f":"IF($L64<AG$1,0,IF($L64-AG$1>計算!$B$26,AG$66,($L64-AG$1)/計算!$B$26*AG$66))","v":0.20847316613816691},{"$f":"IF($L64<AH$1,0,IF($L64-AH$1>計算!$B$26,AH$66,($L64-AH$1)/計算!$B$26*AH$66))","v":-0.27052971675150728},{"$f":"IF($L64<AI$1,0,IF($L64-AI$1>計算!$B$26,AI$66,($L64-AI$1)/計算!$B$26*AI$66))","v":9.3538754219008258E-2},{"$f":"IF($L64<AJ$1,0,IF($L64-AJ$1>計算!$B$26,AJ$66,($L64-AJ$1)/計算!$B$26*AJ$66))","v":-1.2226398010253603E-2},{"$f":"IF($L64<AK$1,0,IF($L64-AK$1>計算!$B$26,AK$66,($L64-AK$1)/計算!$B$26*AK$66))","v":5.3246456205668924E-4},{"$f":"IF($L64<AL$1,0,IF($L64-AL$1>計算!$B$26,AL$66,($L64-AL$1)/計算!$B$26*AL$66))","v":0},{"$f":"IF($L64<AM$1,0,IF($L64-AM$1>計算!$B$26,AM$66,($L64-AM$1)/計算!$B$26*AM$66))","v":0},{"$f":"IF($L64<AN$1,0,IF($L64-AN$1>計算!$B$26,AN$66,($L64-AN$1)/計算!$B$26*AN$66))","v":0},{"$f":"IF($L64<AO$1,0,IF($L64-AO$1>計算!$B$26,AO$66,($L64-AO$1)/計算!$B$26*AO$66))","v":0},{"$f":"IF($L64<AP$1,0,IF($L64-AP$1>計算!$B$26,AP$66,($L64-AP$1)/計算!$B$26*AP$66))","v":0},{"$f":"IF($L64<AQ$1,0,IF($L64-AQ$1>計算!$B$26,AQ$66,($L64-AQ$1)/計算!$B$26*AQ$66))","v":0},{"$f":"IF($L64<AR$1,0,IF($L64-AR$1>計算!$B$26,AR$66,($L64-AR$1)/計算!$B$26*AR$66))","v":0},{"$f":"IF($L64<AS$1,0,IF($L64-AS$1>計算!$B$26,AS$66,($L64-AS$1)/計算!$B$26*AS$66))","v":0},{"$f":"IF($L64<AT$1,0,IF($L64-AT$1>計算!$B$26,AT$66,($L64-AT$1)/計算!$B$26*AT$66))","v":0},{"$f":"IF($L64<AU$1,0,IF($L64-AU$1>計算!$B$26,AU$66,($L64-AU$1)/計算!$B$26*AU$66))","v":0},{"$f":"IF($L64<AV$1,0,IF($L64-AV$1>計算!$B$26,AV$66,($L64-AV$1)/計算!$B$26*AV$66))","v":0},2.589863051855934E-3,-2.589863051855934E-3,null,null,null,null,null,null,null,null,null,{"$f":"IF($BG64<BH$1,0,IF($BG64-BH$1>計算!$B$26,BH$66,($BG64-BH$1)/計算!$B$26*BH$66))","v":-0.67165999785768882},{"$f":"IF($BG64<BI$1,0,IF($BG64-BI$1>計算!$B$26,BI$66,($BG64-BI$1)/計算!$B$26*BI$66))","v":0.90868889604222969},{"$f":"IF($BG64<BJ$1,0,IF($BG64-BJ$1>計算!$B$26,BJ$66,($BG64-BJ$1)/計算!$B$26*BJ$66))","v":-0.15970956504964062},{"$f":"IF($BG64<BK$1,0,IF($BG64-BK$1>計算!$B$26,BK$66,($BG64-BK$1)/計算!$B$26*BK$66))","v":-0.21551880103922261},{"$f":"IF($BG64<BL$1,0,IF($BG64-BL$1>計算!$B$26,BL$66,($BG64-BL$1)/計算!$B$26*BL$66))","v":-3.6979193377590036E-2},{"$f":"IF($BG64<BM$1,0,IF($BG64-BM$1>計算!$B$26,BM$66,($BG64-BM$1)/計算!$B$26*BM$66))","v":8.5539846253473106E-2},{"$f":"IF($BG64<BN$1,0,IF($BG64-BN$1>計算!$B$26,BN$66,($BG64-BN$1)/計算!$B$26*BN$66))","v":-3.7976275570530404E-2},{"$f":"IF($BG64<BO$1,0,IF($BG64-BO$1>計算!$B$26,BO$66,($BG64-BO$1)/計算!$B$26*BO$66))","v":6.2162268050736214E-2},{"$f":"IF($BG64<BP$1,0,IF($BG64-BP$1>計算!$B$26,BP$66,($BG64-BP$1)/計算!$B$26*BP$66))","v":0.15755812631518906},{"$f":"IF($BG64<BQ$1,0,IF($BG64-BQ$1>計算!$B$26,BQ$66,($BG64-BQ$1)/計算!$B$26*BQ$66))","v":-1.203930779011364E-2},{"$f":"IF($BG64<BR$1,0,IF($BG64-BR$1>計算!$B$26,BR$66,($BG64-BR$1)/計算!$B$26*BR$66))","v":-6.422251715804006E-2},{"$f":"IF($BG64<BS$1,0,IF($BG64-BS$1>計算!$B$26,BS$66,($BG64-BS$1)/計算!$B$26*BS$66))","v":8.0523326838670695E-3},{"$f":"IF($BG64<BT$1,0,IF($BG64-BT$1>計算!$B$26,BT$66,($BG64-BT$1)/計算!$B$26*BT$66))","v":-9.0301260651520776E-3},{"$f":"IF($BG64<BU$1,0,IF($BG64-BU$1>計算!$B$26,BU$66,($BG64-BU$1)/計算!$B$26*BU$66))","v":4.1747936536487673E-2},{"$f":"IF($BG64<BV$1,0,IF($BG64-BV$1>計算!$B$26,BV$66,($BG64-BV$1)/計算!$B$26*BV$66))","v":-3.5110256083367153E-3},{"$f":"IF($BG64<BW$1,0,IF($BG64-BW$1>計算!$B$26,BW$66,($BG64-BW$1)/計算!$B$26*BW$66))","v":-9.9796700329851329E-2},{"$f":"IF($BG64<BX$1,0,IF($BG64-BX$1>計算!$B$26,BX$66,($BG64-BX$1)/計算!$B$26*BX$66))","v":9.6704798158792071E-3},{"$f":"IF($BG64<BY$1,0,IF($BG64-BY$1>計算!$B$26,BY$66,($BG64-BY$1)/計算!$B$26*BY$66))","v":4.2775407921305519E-2},{"$f":"IF($BG64<BZ$1,0,IF($BG64-BZ$1>計算!$B$26,BZ$66,($BG64-BZ$1)/計算!$B$26*BZ$66))","v":-1.1763541698946112E-2},{"$f":"IF($BG64<CA$1,0,IF($BG64-CA$1>計算!$B$26,CA$66,($BG64-CA$1)/計算!$B$26*CA$66))","v":7.5801003265218991E-4},{"$f":"IF($BG64<CB$1,0,IF($BG64-CB$1>計算!$B$26,CB$66,($BG64-CB$1)/計算!$B$26*CB$66))","v":-2.1472136360789484E-3},{"$f":"IF($BG64<CC$1,0,IF($BG64-CC$1>計算!$B$26,CC$66,($BG64-CC$1)/計算!$B$26*CC$66))","v":1.6339216546086832E-2},{"$f":"IF($BG64<CD$1,0,IF($BG64-CD$1>計算!$B$26,CD$66,($BG64-CD$1)/計算!$B$26*CD$66))","v":-2.972720190274114E-2},{"$f":"IF($BG64<CE$1,0,IF($BG64-CE$1>計算!$B$26,CE$66,($BG64-CE$1)/計算!$B$26*CE$66))","v":-1.9930348423327637E-2},{"$f":"IF($BG64<CF$1,0,IF($BG64-CF$1>計算!$B$26,CF$66,($BG64-CF$1)/計算!$B$26*CF$66))","v":6.6184619293727209E-2},{"$f":"IF($BG64<CG$1,0,IF($BG64-CG$1>計算!$B$26,CG$66,($BG64-CG$1)/計算!$B$26*CG$66))","v":-5.5819893287709643E-3},{"$f":"IF($BG64<CH$1,0,IF($BG64-CH$1>計算!$B$26,CH$66,($BG64-CH$1)/計算!$B$26*CH$66))","v":-2.9551036348403725E-2},{"$f":"IF($BG64<CI$1,0,IF($BG64-CI$1>計算!$B$26,CI$66,($BG64-CI$1)/計算!$B$26*CI$66))","v":1.2220324932807003E-2},{"$f":"IF($BG64<CJ$1,0,IF($BG64-CJ$1>計算!$B$26,CJ$66,($BG64-CJ$1)/計算!$B$26*CJ$66))","v":-1.6456259443792254E-3},{"$f":"IF($BG64<CK$1,0,IF($BG64-CK$1>計算!$B$26,CK$66,($BG64-CK$1)/計算!$B$26*CK$66))","v":7.1355622297208932E-5},9.7835291792391921E-4,{"$f":"-CL128","v":-9.7835291792391921E-4}]

{"sheet":"準備","index":4,"n_rows":37,"n_cols":26,"rows_kept":37,"cut":false,"hidden":true,"merged":[]}
["vCR","vDR",null,"const","vCL","vDL",null,"τC","τD","t","vCL","vDL","vCR","vDR","v1","v2",null,"τC","τD","t","vCR","vDR","vCL","vDL","v1","v2"]
[{"$f":"1+計算!B2/計算!B12","v":1.573151302431258},{"$f":"1+計算!B2/計算!B13","v":1.7754399974069961},null,{"$f":"計算!B33","v":3.3},{"$f":"-(1-計算!B2/計算!B12)","v":-0.426848697568742},{"$f":"-(1-計算!B2/計算!B13)","v":-0.22456000259300402},null,0,0,{"$f":"H2*計算!$B$20+I2*計算!$B$21","v":0},0,0,{"$f":"$D$4+$E$4*K2+$F$4*L2","v":1.1436679298399322},{"$f":"$D$5+$E$5*K2+$F$5*L2","v":0.84533259857579035},{"$f":"K2+L2+M2+N2","v":1.9890005284157226},{"$f":"K2-L2+M2-N2","v":0.2983353312641418},null,0,1,{"$f":"R2*計算!$B$20+S2*計算!$B$21","v":0.96069603674416659},0,{"$f":"N2","v":0.84533259857579035},{"$f":"$D$10+$E$10*U2+$F$10*V2","v":0.58588242538564428},{"$f":"$D$11+$E$11*U2+$F$11*V2","v":0.41220982466754275},{"$f":"U2+V2+W2+X2","v":1.8434248486289773},{"$f":"U2-V2+W2-X2","v":-0.67165999785768882}]
[{"$f":"1+計算!B4/計算!B12","v":17195.539072421907},{"$f":"-(1+計算!B4/計算!B13)","v":-23264.199921511987},null,0,{"$f":"-(1-計算!B4/計算!B12)","v":17193.539072421907},{"$f":"1-計算!B4/計算!B13","v":-23262.199921511987},null,0,2,{"$f":"H3*計算!$B$20+I3*計算!$B$21","v":1.9213920734883332},0,{"$f":"X2","v":0.41220982466754275},0.85797388201674474,1.0463386166078892,{"$f":"K3+L3+M3+N3","v":2.3165223232921766},{"$f":"K3-L3+M3-N3","v":-0.60057455925868719},null,1,0,{"$f":"R3*計算!$B$20+S3*計算!$B$21","v":0.98951693734649127},{"$f":"M2","v":1.1436679298399322},{"$f":"N2","v":0.84533259857579035},0.93677692868616824,0.99808336176576928,{"$f":"U3+V3+W3+X3","v":3.9238608188676598},{"$f":"U3-V3+W3-X3","v":0.23702889818454087}]
["Δ",{"$f":"A2*B3-B2*A3","v":-67127.754252700397},"vCR",{"$f":"(D2*B3-D3*B2)/B4","v":1.1436679298399322},{"$f":"(E2*B3-E3*B2)/B4","v":0.30681502396384863},{"$f":"(F2*B3-F3*B2)/B4","v":-0.69307918134558444},null,1,1,{"$f":"H4*計算!$B$20+I4*計算!$B$21","v":1.950212974090658},{"$f":"W2","v":0.58588242538564428},{"$f":"X3","v":0.99808336176576928},0.63167466093735813,1.0318948737207938,3.2475353218095653,-0.81242114916356067,null,0,3,{"$f":"R4*計算!$B$20+S4*計算!$B$21","v":2.8820881102325},{"$f":"VLOOKUP(T4-計算!$B$20+0.0001,$J$2:$N$5,4,1)","v":1.1436679298399322},{"$f":"VLOOKUP(T4-計算!$B$21+0.0001,$J$2:$N$5,5,1)","v":1.0463386166078892},1.0760900151093913,1.096099995206534,4.3621965567637471,7.7319333134900248E-2]
[null,null,"vDR",{"$f":"(D3*A2-D2*A3)/B4","v":0.84533259857579035},{"$f":"(E3*A2-E2*A3)/B4","v":-0.51227591664673633},{"$f":"(F3*A2-F2*A3)/B4","v":0.48763034261547533},null,2,0,{"$f":"H5*計算!$B$20+I5*計算!$B$21","v":1.9790338746929825},{"$f":"W3","v":0.93677692868616824},{"$f":"X3","v":0.99808336176576928},0.73933436637629113,0.85214007039621664,3.5263347272244454,-0.17411213709952655,null,1,2,{"$f":"R5*計算!$B$20+S5*計算!$B$21","v":2.9109090108348243},{"$f":"VLOOKUP(T5-計算!$B$20+0.0001,$J$2:$N$5,4,1)","v":0.85797388201674474},{"$f":"VLOOKUP(T5-計算!$B$21+0.0001,$J$2:$N$5,5,1)","v":1.0318948737207938},0.97842413148443674,0.94270260768471004,3.8109954949066855,-0.13819946790432236]
[null,null,null,null,null,null,null,0,4,{"$f":"H6*計算!$B$20+I6*計算!$B$21","v":3.8427841469766664},{"$f":"VLOOKUP(J6-計算!$B$20+0.0001,$T$2:$X$7,4,1)","v":0.93677692868616824},{"$f":"VLOOKUP(J6-計算!$B$21+0.0001,$T$2:$X$7,5,1)","v":1.096099995206534},0.67140107831291562,0.8999359549429522,3.6042139571485698,-0.38785794315040234,null,2,1,{"$f":"R6*計算!$B$20+S6*計算!$B$21","v":2.9397299114371491},{"$f":"VLOOKUP(T6-計算!$B$20+0.0001,$J$2:$N$5,4,1)","v":0.63167466093735813},{"$f":"VLOOKUP(T6-計算!$B$21+0.0001,$J$2:$N$5,5,1)","v":0.85214007039621664},0.78440781861483,0.73912107043788389,3.0073436203862887,-0.1751786612819124]
["vCL","vDL",null,"const","vCR","vDR",null,1,3,{"$f":"H7*計算!$B$20+I7*計算!$B$21","v":3.8716050475789912},{"$f":"VLOOKUP(J7-計算!$B$20+0.0001,$T$2:$X$7,4,1)","v":1.0760900151093913},{"$f":"VLOOKUP(J7-計算!$B$21+0.0001,$T$2:$X$7,5,1)","v":0.94270260768471004},0.82046096202651175,0.75376799526102378,3.5930215800816363,0.20008037419016922,null,3,0,{"$f":"R7*計算!$B$20+S7*計算!$B$21","v":2.9685508120394739},{"$f":"VLOOKUP(T7-計算!$B$20+0.0001,$J$2:$N$5,4,1)","v":0.73933436637629113},{"$f":"VLOOKUP(T7-計算!$B$21+0.0001,$J$2:$N$5,5,1)","v":0.85214007039621664},0.81743943371901717,0.79427254472753095,3.2031864152190561,-8.9638815028439289E-2]
[{"$f":"1+計算!B3/計算!B12","v":17195.539072421907},{"$f":"1+計算!B3/計算!B13","v":23264.199921511987},null,0,{"$f":"-(1-計算!B3/計算!B12)","v":17193.539072421907},{"$f":"-(1-計算!B3/計算!B13)","v":23262.199921511987},null,"2","2",{"$f":"H8*計算!$B$20+I8*計算!$B$21","v":3.9004259481813159},{"$f":"VLOOKUP(J8-計算!$B$20+0.0001,$T$2:$X$7,4,1)","v":0.97842413148443674},{"$f":"VLOOKUP(J8-計算!$B$21+0.0001,$T$2:$X$7,5,1)","v":0.73912107043788389},{"$f":"$D$4+$E$4*K8+$F$4*L8","v":0.93159372677377683},0.70452734056225585,3.3536662692583534,0.46636944725807394,null,0,5,{"$f":"R8*計算!$B$20+S8*計算!$B$21","v":4.8034801837208327},{"$f":"VLOOKUP(T8-計算!$B$20+0.0001,$J$2:$N$10,4,1)","v":0.73933436637629113},{"$f":"VLOOKUP(T8-計算!$B$21+0.0001,$J$2:$N$10,5,1)","v":0.8999359549429522},0.85056576625235669,0.81757926828466532,3.3074153558562656,-0.12761509059896969]
[{"$f":"1+計算!B5/計算!B12","v":1.573151302431258},{"$f":"-(1+計算!B5/計算!B13)","v":-1.7754399974069961},null,{"$f":"-D3","v":0},{"$f":"-(1-計算!B5/計算!B12)","v":-0.426848697568742},{"$f":"1-計算!B5/計算!B13","v":0.22456000259300402},null,"3","1",{"$f":"H9*計算!$B$20+I9*計算!$B$21","v":3.9292468487836407},{"$f":"VLOOKUP(J9-計算!$B$20+0.0001,$T$2:$X$7,4,1)","v":0.78440781861483},{"$f":"VLOOKUP(J9-計算!$B$21+0.0001,$T$2:$X$7,5,1)","v":0.79427254472753095},{"$f":"$D$4+$E$4*K9+$F$4*L9","v":0.83384226844064013},0.83081075738556276,3.2433333891685638,-6.8332150576235762E-3,null,"1","4",{"$f":"R9*計算!$B$20+S9*計算!$B$21","v":4.8323010843231575},{"$f":"VLOOKUP(T9-計算!$B$20+0.0001,$J$2:$N$10,4,1)","v":0.67140107831291562},{"$f":"VLOOKUP(T9-計算!$B$21+0.0001,$J$2:$N$10,5,1)","v":0.75376799526102378},0.72841684301194376,0.71150274861206908,2.8650886651979524,-6.545282254823348E-2]
["Δ",{"$f":"A8*B9-B8*A9","v":-67127.754252700397},"vCL",{"$f":"(D8*B9-D9*B8)/B10","v":0},{"$f":"(E8*B9-E9*B8)/B10","v":0.30681502396384863},{"$f":"(F8*B9-F9*B8)/B10","v":0.69307918134558444},null,4,0,{"$f":"H10*計算!$B$20+I10*計算!$B$21","v":3.9580677493859651},{"$f":"VLOOKUP(J10-計算!$B$20+0.0001,$T$2:$X$7,4,1)","v":0.81743943371901717},{"$f":"VLOOKUP(J10-計算!$B$21+0.0001,$T$2:$X$7,5,1)","v":0.79427254472753095},{"$f":"$D$4+$E$4*K10+$F$4*L10","v":0.84397686422039597},0.81388945647974309,3.2695782991466871,5.3254296732139106E-2,null,2,3,{"$f":"R10*計算!$B$20+S10*計算!$B$21","v":4.8611219849254823},{"$f":"VLOOKUP(T10-計算!$B$20+0.0001,$J$2:$N$10,4,1)","v":0.82046096202651175},{"$f":"VLOOKUP(T10-計算!$B$21+0.0001,$J$2:$N$10,5,1)","v":0.70452734056225585},0.74002298215803652,0.76385129985533684,3.0288625846021411,9.2105303766955582E-2]
[null,null,"vDL",{"$f":"(D9*A8-D8*A9)/B10","v":0},{"$f":"(E9*A8-E8*A9)/B10","v":0.51227591664673633},{"$f":"(F9*A8-F8*A9)/B10","v":0.48763034261547533},null,0,6,{"$f":"H11*計算!$B$20+I11*計算!$B$21","v":5.764176220465},{"$f":"VLOOKUP(J11-計算!$B$20+0.0001,$T$2:$X$13,4,1)","v":0.81743943371901717},{"$f":"VLOOKUP(J11-計算!$B$21+0.0001,$T$2:$X$13,5,1)","v":0.81757926828466532},{"$f":"$D$4+$E$4*K11+$F$4*L11","v":0.8278234593375694},0.82525452207315264,3.2880966834144045,2.4291026987686148E-3,null,"3","2",{"$f":"R11*計算!$B$20+S11*計算!$B$21","v":4.8899428855278071},{"$f":"VLOOKUP(T11-計算!$B$20+0.0001,$J$2:$N$10,4,1)","v":0.93159372677377683},{"$f":"VLOOKUP(T11-計算!$B$21+0.0001,$J$2:$N$10,5,1)","v":0.83081075738556276},0.86164459118655823,0.88236156459793036,3.5064106399438284,8.0065995976841942E-2]
[null,null,null,null,null,null,null,1,5,{"$f":"H12*計算!$B$20+I12*計算!$B$21","v":5.7929971210673239},{"$f":"VLOOKUP(J12-計算!$B$20+0.0001,$T$2:$X$13,4,1)","v":0.85056576625235669},{"$f":"VLOOKUP(J12-計算!$B$21+0.0001,$T$2:$X$13,5,1)","v":0.71150274861206908},{"$f":"$D$4+$E$4*K12+$F$4*L12","v":0.91150654326229219},0.75655857007808636,3.2301336282048041,0.29401099082449345,null,4,1,{"$f":"R12*計算!$B$20+S12*計算!$B$21","v":4.9187637861301319},{"$f":"VLOOKUP(T12-計算!$B$20+0.0001,$J$2:$N$10,4,1)","v":0.83384226844064013},{"$f":"VLOOKUP(T12-計算!$B$21+0.0001,$J$2:$N$10,5,1)","v":0.81388945647974309},0.8199251737764679,0.82403450691856306,3.2916914056154143,1.5843478818801882E-2]
[null,null,null,null,null,null,null,2,4,{"$f":"H13*計算!$B$20+I13*計算!$B$21","v":5.8218180216696487},{"$f":"VLOOKUP(J13-計算!$B$20+0.0001,$T$2:$X$13,4,1)","v":0.72841684301194376},{"$f":"VLOOKUP(J13-計算!$B$21+0.0001,$T$2:$X$13,5,1)","v":0.76385129985533684},0.83774772741081538,0.84465926367665911,3.1746751339547554,-4.2345993109236812E-2,null,"5","0",{"$f":"R13*計算!$B$20+S13*計算!$B$21","v":4.9475846867324567},{"$f":"VLOOKUP(T13-計算!$B$20+0.0001,$J$2:$N$10,4,1)","v":0.84397686422039597},{"$f":"VLOOKUP(T13-計算!$B$21+0.0001,$J$2:$N$10,5,1)","v":0.81388945647974309},0.8230346200234977,0.82922621626148163,3.3101271569851187,2.3895811502668951E-2]
[null,null,null,null,null,null,null,3,3,{"$f":"H14*計算!$B$20+I14*計算!$B$21","v":5.8506389222719744},{"$f":"VLOOKUP(J14-計算!$B$20+0.0001,$T$2:$X$13,4,1)","v":0.74002298215803652},{"$f":"VLOOKUP(J14-計算!$B$21+0.0001,$T$2:$X$13,5,1)","v":0.88236156459793036},0.75917166800220626,0.8965029191067464,3.2780591338649199,-0.27966983354443398,null,0,7,{"$f":"R14*計算!$B$20+S14*計算!$B$21","v":6.7248722572091664},{"$f":"VLOOKUP(T14-計算!$B$20+0.0001,$J$2:$N$17,4,1)","v":0.84397686422039597},{"$f":"VLOOKUP(T14-計算!$B$21+0.0001,$J$2:$N$17,5,1)","v":0.82525452207315264},{"$f":"$D$10+$E$10*U14+$F$10*V14","v":0.83091151038091682},{"$f":"$D$11+$E$11*U14+$F$11*V14","v":0.83476816709064328},3.3349110637651087,1.4865685437516873E-2]
[null,null,null,null,null,null,null,4,"2",{"$f":"H15*計算!$B$20+I15*計算!$B$21","v":5.8794598228742982},{"$f":"VLOOKUP(J15-計算!$B$20+0.0001,$T$2:$X$13,4,1)","v":0.86164459118655823},{"$f":"VLOOKUP(J15-計算!$B$21+0.0001,$T$2:$X$13,5,1)","v":0.82403450691856306},0.83691227427752657,0.80575705473766701,3.3283484271203148,6.8765303807854727E-2,null,1,6,{"$f":"R15*計算!$B$20+S15*計算!$B$21","v":6.7536931578114912},{"$f":"VLOOKUP(T15-計算!$B$20+0.0001,$J$2:$N$17,4,1)","v":0.8278234593375694},{"$f":"VLOOKUP(T15-計算!$B$21+0.0001,$J$2:$N$17,5,1)","v":0.75655857007808636},{"$f":"$D$10+$E$10*U15+$F$10*V15","v":0.77834366890419848},{"$f":"$D$11+$E$11*U15+$F$11*V15","v":0.79299493618967698},3.1557206345095317,5.6613621974004547E-2]
[null,null,null,null,null,null,null,5,"1",{"$f":"H16*計算!$B$20+I16*計算!$B$21","v":5.908280723476623},{"$f":"VLOOKUP(J16-計算!$B$20+0.0001,$T$2:$X$13,4,1)","v":0.8199251737764679},{"$f":"VLOOKUP(J16-計算!$B$21+0.0001,$T$2:$X$13,5,1)","v":0.82922621626148163},0.82051386456391773,0.82966054253903621,3.2993257971409031,-1.8447720460132211E-2,null,2,5,{"$f":"R16*計算!$B$20+S16*計算!$B$21","v":6.7825140584138151},{"$f":"VLOOKUP(T16-計算!$B$20+0.0001,$J$2:$N$17,4,1)","v":0.91150654326229219},{"$f":"VLOOKUP(T16-計算!$B$21+0.0001,$J$2:$N$17,5,1)","v":0.84465926367665911},0.86507965289920796,0.87882433611917321,3.5000697959573328,5.3102596365667831E-2]
[null,null,null,null,null,null,null,6,0,{"$f":"H17*計算!$B$20+I17*計算!$B$21","v":5.9371016240789478},{"$f":"VLOOKUP(J17-計算!$B$20+0.0001,$T$2:$X$13,4,1)","v":0.8230346200234977},{"$f":"VLOOKUP(J17-計算!$B$21+0.0001,$T$2:$X$13,5,1)","v":0.82922621626148163},0.82146788938871429,0.82806764811257527,3.301796373786269,-1.2791354961844914E-2,null,3,4,{"$f":"R17*計算!$B$20+S17*計算!$B$21","v":6.8113349590161398},{"$f":"VLOOKUP(T17-計算!$B$20+0.0001,$J$2:$N$17,4,1)","v":0.83774772741081538},{"$f":"VLOOKUP(T17-計算!$B$21+0.0001,$J$2:$N$17,5,1)","v":0.8965029191067464},0.87838109830963962,0.8663200105778921,3.4789517554050935,-4.6694103964183498E-2]
[null,null,null,null,null,null,null,0,8,{"$f":"H18*計算!$B$20+I18*計算!$B$21","v":7.6855682939533327},{"$f":"VLOOKUP(J18-計算!$B$20+0.0001,$T$2:$X$21,4,1)","v":0.8230346200234977},{"$f":"VLOOKUP(J18-計算!$B$21+0.0001,$T$2:$X$21,5,1)","v":0.83476816709064328},{"$f":"$D$4+$E$4*K18+$F$4*L18","v":0.8176268786449814},{"$f":"$D$5+$E$5*K18+$F$5*L18","v":0.83077007149415749},3.3061997372532801,-2.4876739916321666E-2,null,4,3,{"$f":"R18*計算!$B$20+S18*計算!$B$21","v":6.8401558596184646},{"$f":"VLOOKUP(T18-計算!$B$20+0.0001,$J$2:$N$17,4,1)","v":0.75917166800220626},{"$f":"VLOOKUP(T18-計算!$B$21+0.0001,$J$2:$N$17,5,1)","v":0.80575705473766701},0.79137871337178334,0.78181695078462687,3.1381243868962834,-3.702362414830429E-2]
[null,null,null,null,null,null,null,1,7,{"$f":"H19*計算!$B$20+I19*計算!$B$21","v":7.7143891945556575},{"$f":"VLOOKUP(J19-計算!$B$20+0.0001,$T$2:$X$21,4,1)","v":0.83091151038091682},{"$f":"VLOOKUP(J19-計算!$B$21+0.0001,$T$2:$X$21,5,1)","v":0.79299493618967698},{"$f":"$D$4+$E$4*K19+$F$4*L19","v":0.8489957836237555},{"$f":"$D$5+$E$5*K19+$F$5*L19","v":0.80636503536959125},3.2792672655639405,8.0547322445404079E-2,null,5,2,{"$f":"R19*計算!$B$20+S19*計算!$B$21","v":6.8689767602207894},{"$f":"VLOOKUP(T19-計算!$B$20+0.0001,$J$2:$N$17,4,1)","v":0.83691227427752657},{"$f":"VLOOKUP(T19-計算!$B$21+0.0001,$J$2:$N$17,5,1)","v":0.82966054253903621},0.83179770910578699,0.83329765707127612,3.3316681829936257,5.7517837730012289E-3]
[null,null,null,null,null,null,null,2,6,{"$f":"H20*計算!$B$20+I20*計算!$B$21","v":7.7432100951579823},{"$f":"VLOOKUP(J20-計算!$B$20+0.0001,$T$2:$X$21,4,1)","v":0.77834366890419848},{"$f":"VLOOKUP(J20-計算!$B$21+0.0001,$T$2:$X$21,5,1)","v":0.87882433611917321},0.77338060984283041,0.8751472942423183,3.3056959091085205,-0.20224735161446261,null,6,1,{"$f":"R20*計算!$B$20+S20*計算!$B$21","v":6.8977976608231142},{"$f":"VLOOKUP(T20-計算!$B$20+0.0001,$J$2:$N$17,4,1)","v":0.82051386456391773},{"$f":"VLOOKUP(T20-計算!$B$21+0.0001,$J$2:$N$17,5,1)","v":0.82806764811257527},0.82566242867147566,0.824120403048763,3.2983643443967314,-6.0117579259448828E-3]
[null,null,null,null,null,null,null,3,5,{"$f":"H21*計算!$B$20+I21*計算!$B$21","v":7.7720309957603071},{"$f":"VLOOKUP(J21-計算!$B$20+0.0001,$T$2:$X$21,4,1)","v":0.86507965289920796},{"$f":"VLOOKUP(J21-計算!$B$21+0.0001,$T$2:$X$21,5,1)","v":0.8663200105778921},0.808659000560217,0.82461704998714791,3.3646757140244645,-1.7198407105615043E-2,null,7,0,{"$f":"R21*計算!$B$20+S21*計算!$B$21","v":6.926618561425439},{"$f":"VLOOKUP(T21-計算!$B$20+0.0001,$J$2:$N$17,4,1)","v":0.82146788938871429},{"$f":"VLOOKUP(T21-計算!$B$21+0.0001,$J$2:$N$17,5,1)","v":0.82806764811257527},0.82595513782095775,0.82460912699038946,3.3000998023126367,-5.2537478932926929E-3]
[null,null,null,null,null,null,null,4,4,{"$f":"H22*計算!$B$20+I22*計算!$B$21","v":7.8008518963626319},{"$f":"VLOOKUP(J22-計算!$B$20+0.0001,$T$2:$X$21,4,1)","v":0.87838109830963962},{"$f":"VLOOKUP(J22-計算!$B$21+0.0001,$T$2:$X$21,5,1)","v":0.78181695078462687},0.87130739535528567,0.77659678384774655,3.3081022282972983,0.19127475903255187,null,0,9,{"$f":"R22*計算!$B$20+S22*計算!$B$21","v":8.6462643306975},{"$f":"VLOOKUP(T22-計算!$B$20+0.0001,$J$2:$N$26,4,1)","v":0.82146788938871429},{"$f":"VLOOKUP(T22-計算!$B$21+0.0001,$J$2:$N$26,5,1)","v":0.83077007149415749},0.82782813120591392,0.82592691062984236,3.3059930027186279,-7.4009615293716413E-3]
[null,null,null,null,null,null,null,5,3,{"$f":"H23*計算!$B$20+I23*計算!$B$21","v":7.8296727969649567},{"$f":"VLOOKUP(J23-計算!$B$20+0.0001,$T$2:$X$21,4,1)","v":0.79137871337178334},{"$f":"VLOOKUP(J23-計算!$B$21+0.0001,$T$2:$X$21,5,1)","v":0.83329765707127612},0.80893355076742191,0.84626956478688453,3.2798794859973661,-7.925495771895541E-2,null,1,8,{"$f":"R23*計算!$B$20+S23*計算!$B$21","v":8.6750852312998248},{"$f":"VLOOKUP(T23-計算!$B$20+0.0001,$J$2:$N$26,4,1)","v":0.8176268786449814},{"$f":"VLOOKUP(T23-計算!$B$21+0.0001,$J$2:$N$26,5,1)","v":0.80636503536959125},0.80973502894460636,0.81205861720328132,3.2457855601624606,8.9382550167151908E-3]
[null,null,null,null,null,null,null,6,2,{"$f":"H24*計算!$B$20+I24*計算!$B$21","v":7.8584936975672814},{"$f":"VLOOKUP(J24-計算!$B$20+0.0001,$T$2:$X$21,4,1)","v":0.83179770910578699},{"$f":"VLOOKUP(J24-計算!$B$21+0.0001,$T$2:$X$21,5,1)","v":0.824120403048763},0.82769526961706874,0.82108877917403988,3.3047021609456588,1.4283796500052848E-2,null,2,7,{"$f":"R24*計算!$B$20+S24*計算!$B$21","v":8.7039061319021496},{"$f":"VLOOKUP(T24-計算!$B$20+0.0001,$J$2:$N$26,4,1)","v":0.8489957836237555},{"$f":"VLOOKUP(T24-計算!$B$21+0.0001,$J$2:$N$26,5,1)","v":0.8751472942423183},0.86703103194799824,0.86166846821546139,3.4528425780295335,-2.078894688602595E-2]
[null,null,null,null,null,null,null,7,1,{"$f":"H25*計算!$B$20+I25*計算!$B$21","v":7.8873145981696053},{"$f":"VLOOKUP(J25-計算!$B$20+0.0001,$T$2:$X$21,4,1)","v":0.82566242867147566},{"$f":"VLOOKUP(J25-計算!$B$21+0.0001,$T$2:$X$21,5,1)","v":0.82460912699038946},0.82547414901422433,0.82447005220551128,3.3002157568816006,2.0573984897992448E-3,null,3,6,{"$f":"R25*計算!$B$20+S25*計算!$B$21","v":8.7327270325044744},{"$f":"VLOOKUP(T25-計算!$B$20+0.0001,$J$2:$N$26,4,1)","v":0.77338060984283041},{"$f":"VLOOKUP(T25-計算!$B$21+0.0001,$J$2:$N$26,5,1)","v":0.82461704998714791},0.80880970027080723,0.79829255543584332,3.2050999155366284,-4.0719295309353587E-2]
[null,null,null,null,null,null,null,8,0,{"$f":"H26*計算!$B$20+I26*計算!$B$21","v":7.9161354987719301},{"$f":"VLOOKUP(J26-計算!$B$20+0.0001,$T$2:$X$21,4,1)","v":0.82595513782095775},{"$f":"VLOOKUP(J26-計算!$B$21+0.0001,$T$2:$X$21,5,1)","v":0.82460912699038946},0.825563956578937,0.82432010435764935,3.3004483257479333,2.589863051855934E-3,null,4,5,{"$f":"R26*計算!$B$20+S26*計算!$B$21","v":8.7615479331067974},{"$f":"VLOOKUP(T26-計算!$B$20+0.0001,$J$2:$N$26,4,1)","v":0.808659000560217},{"$f":"VLOOKUP(T26-計算!$B$21+0.0001,$J$2:$N$26,5,1)","v":0.77659678384774655},0.78635179382027487,0.7929486865483717,3.1645562647766106,2.5465323984373622E-2]
[null,null,null,null,null,null,null,0,10,{"$f":"H27*計算!$B$20+I27*計算!$B$21","v":9.6069603674416655},{"$f":"VLOOKUP(J27-計算!$B$20+0.0001,$T$2:$X$31,4,1)","v":0.82595513782095775},{"$f":"VLOOKUP(J27-計算!$B$21+0.0001,$T$2:$X$31,5,1)","v":0.82592691062984236},0.82465062817291435,0.82496269564524893,3.3014953722689633,-2.8384028121919425E-4,null,5,4,{"$f":"R27*計算!$B$20+S27*計算!$B$21","v":8.7903688337091239},{"$f":"VLOOKUP(T27-計算!$B$20+0.0001,$J$2:$N$26,4,1)","v":0.87130739535528567},{"$f":"VLOOKUP(T27-計算!$B$21+0.0001,$J$2:$N$26,5,1)","v":0.84626956478688453},0.85386201654598848,0.85901651245878696,3.4304554891469454,1.9883334655602658E-2]
[null,null,null,null,null,null,null,1,9,{"$f":"H28*計算!$B$20+I28*計算!$B$21","v":9.635781268043992},{"$f":"VLOOKUP(J28-計算!$B$20+0.0001,$T$2:$X$31,4,1)","v":0.82782813120591392},{"$f":"VLOOKUP(J28-計算!$B$21+0.0001,$T$2:$X$31,5,1)","v":0.81205861720328132},0.83483711613794498,0.81724060556701128,3.2919644701141513,3.33660245735663E-2,null,6,3,{"$f":"R28*計算!$B$20+S28*計算!$B$21","v":8.8191897343114469},{"$f":"VLOOKUP(T28-計算!$B$20+0.0001,$J$2:$N$26,4,1)","v":0.80893355076742191},{"$f":"VLOOKUP(T28-計算!$B$21+0.0001,$J$2:$N$26,5,1)","v":0.82108877917403988},0.81727250564585663,0.81478497893203972,3.2620798145193581,-9.6677016928010673E-3]
[null,null,null,null,null,null,null,2,8,{"$f":"H29*計算!$B$20+I29*計算!$B$21","v":9.6646021686463151},{"$f":"VLOOKUP(J29-計算!$B$20+0.0001,$T$2:$X$31,4,1)","v":0.80973502894460636},{"$f":"VLOOKUP(J29-計算!$B$21+0.0001,$T$2:$X$31,5,1)","v":0.86166846821546139},0.79490232560786345,0.85070053475907781,3.317006357527009,-0.10773164842206939,null,7,2,{"$f":"R29*計算!$B$20+S29*計算!$B$21","v":8.8480106349137717},{"$f":"VLOOKUP(T29-計算!$B$20+0.0001,$J$2:$N$26,4,1)","v":0.82769526961706874},{"$f":"VLOOKUP(T29-計算!$B$21+0.0001,$J$2:$N$26,5,1)","v":0.82447005220551128},0.82537237280887221,0.82604496698042373,3.303582661611876,2.5526232400059357E-3]
[null,null,null,null,null,null,null,3,7,{"$f":"H30*計算!$B$20+I30*計算!$B$21","v":9.6934230692486398},{"$f":"VLOOKUP(J30-計算!$B$20+0.0001,$T$2:$X$31,4,1)","v":0.86703103194799824},{"$f":"VLOOKUP(J30-計算!$B$21+0.0001,$T$2:$X$31,5,1)","v":0.79829255543584332},0.85640612588870879,0.79044515423802741,3.3121748675105773,0.1346994481628363,null,8,1,{"$f":"R30*計算!$B$20+S30*計算!$B$21","v":8.8768315355160965},{"$f":"VLOOKUP(T30-計算!$B$20+0.0001,$J$2:$N$26,4,1)","v":0.82547414901422433},{"$f":"VLOOKUP(T30-計算!$B$21+0.0001,$J$2:$N$26,5,1)","v":0.82432010435764935},0.82458697390624303,0.8248340212671913,3.2992152485453077,9.0699729562671028E-4]
[null,null,null,null,null,null,null,4,6,{"$f":"H31*計算!$B$20+I31*計算!$B$21","v":9.7222439698509646},{"$f":"VLOOKUP(J31-計算!$B$20+0.0001,$T$2:$X$31,4,1)","v":0.80880970027080723},{"$f":"VLOOKUP(J31-計算!$B$21+0.0001,$T$2:$X$31,5,1)","v":0.7929486865483717},0.8422466708887113,0.81766470767486421,3.2616697653827544,4.0442976936282626E-2,null,9,0,{"$f":"R31*計算!$B$20+S31*計算!$B$21","v":8.9056524361184213},{"$f":"VLOOKUP(T31-計算!$B$20+0.0001,$J$2:$N$26,4,1)","v":0.825563956578937},{"$f":"VLOOKUP(T31-計算!$B$21+0.0001,$J$2:$N$26,5,1)","v":0.82432010435764935},0.82461452821636261,0.82488002751972633,3.2993786166726755,9.7835291792391921E-4]
[null,null,null,null,null,null,null,5,5,{"$f":"H32*計算!$B$20+I32*計算!$B$21","v":9.7510648704532894},{"$f":"VLOOKUP(J32-計算!$B$20+0.0001,$T$2:$X$31,4,1)","v":0.78635179382027487},{"$f":"VLOOKUP(J32-計算!$B$21+0.0001,$T$2:$X$31,5,1)","v":0.85901651245878696},0.78956601308764007,0.86138602887233262,3.2963203482390346,-0.14448473442320464,null,0,11,{"$f":"R32*計算!$B$20+S32*計算!$B$21","v":10.567656404185833}]
[null,null,null,null,null,null,null,6,4,{"$f":"H33*計算!$B$20+I33*計算!$B$21","v":9.7798857710556142},{"$f":"VLOOKUP(J33-計算!$B$20+0.0001,$T$2:$X$31,4,1)","v":0.85386201654598848},{"$f":"VLOOKUP(J33-計算!$B$21+0.0001,$T$2:$X$31,5,1)","v":0.81478497893203972},0.84093511873741245,0.80523352979443674,3.3148156440098773,7.4778626556924466E-2,null,null,null,{"$f":"MIN(J37,T32,T31+計算!$B$26)","v":9.4056524361184213}]
[null,null,null,null,null,null,null,7,3,{"$f":"H34*計算!$B$20+I34*計算!$B$21","v":9.808706671657939},{"$f":"VLOOKUP(J34-計算!$B$20+0.0001,$T$2:$X$31,4,1)","v":0.81727250564585663},{"$f":"VLOOKUP(J34-計算!$B$21+0.0001,$T$2:$X$31,5,1)","v":0.82604496698042373},0.82190484377522788,0.8294681668603372,3.2946904832618458,-1.6335784419676425E-2]
[null,null,null,null,null,null,null,8,2,{"$f":"H35*計算!$B$20+I35*計算!$B$21","v":9.8375275722602638},{"$f":"VLOOKUP(J35-計算!$B$20+0.0001,$T$2:$X$31,4,1)","v":0.82537237280887221},{"$f":"VLOOKUP(J35-計算!$B$21+0.0001,$T$2:$X$31,5,1)","v":0.8248340212671913},0.82522928597653356,0.82472830611165437,3.300163986164252,1.0393314065600956E-3]
[null,null,null,null,null,null,null,9,1,{"$f":"H36*計算!$B$20+I36*計算!$B$21","v":9.8663484728625885},{"$f":"VLOOKUP(J36-計算!$B$20+0.0001,$T$2:$X$31,4,1)","v":0.82458697390624303},{"$f":"VLOOKUP(J36-計算!$B$21+0.0001,$T$2:$X$31,5,1)","v":0.82488002751972633},0.8249564278175584,0.82515308109911811,3.2995765103426455,-4.8970689504301834E-4]
[null,null,null,null,null,null,null,10,0,{"$f":"H37*計算!$B$20+I37*計算!$B$21","v":9.8951693734649133},{"$f":"VLOOKUP(J37-計算!$B$20+0.0001,$T$2:$X$31,4,1)","v":0.82461452821636261},{"$f":"VLOOKUP(J37-計算!$B$21+0.0001,$T$2:$X$31,5,1)","v":0.82488002751972633},0.82496488189387807,0.82513896568964396,3.2995984033196111,-4.3958309912961457E-4]