{"text_format":"1","workbook":"xlsx","n_sheets":10,"sheets":["波形","ReadMe","断面図","Temp","GE","定数","計算","掃き出し","iFFT128","Data"],"not_rendered":{"charts":7,"images":2,"macros":1,"external_links":0,"defined_names":0,"comments":0,"pivot_tables":0},"unopened":[],"bounds":{"document_bytes":16777216,"sheet_cells":100000,"rows_first":2000,"rows_last":500,"rows_between":2000,"halvings":0,"cell_chars":16384,"cell_head_chars":4096},"cells_cut":0,"cells_raw":0,"read":"whole","date_system":"1900"}

{"sheet":"波形","index":0,"n_rows":42,"n_cols":18,"rows_kept":42,"cut":false,"hidden":false,"merged":[[9,8,10,8]]}
[]
[null,null,null,null,null,"T(ns)","TW(ns)","tr(ns)","線長(m)"]
[null,"R",85,null,null,10,1,0.2,0.15]
[]
[null,"R11","C11",null,null,null,null,null,null,null,null,"C12","R12"]
[null,{"$f":"Temp!A2","v":10000},1,null,null,null,null,null,null,null,null,{"$f":"C6","v":1},{"$f":"Temp!B2","v":42.5}]
[null,"R21","C21",null,null,null,null,null,null,null,null,"C22","R22"]
[null,{"$f":"Temp!A4","v":10000},{"$f":"C6","v":1},null,null,null,null,null,null,null,null,{"$f":"L6","v":1},{"$f":"Temp!B4","v":42.5}]
[null,"R31","C31",null,null,null,null,null,null,null,null,"C32","R32"]
[null,{"$f":"Temp!A6","v":10000},{"$f":"C6","v":1},null,null,null,null,null,"ξ23",null,null,{"$f":"L6","v":1},{"$f":"Temp!B6","v":42.5}]
[null,"R41","C41",null,null,null,null,null,null,null,null,"C42","R42"]
[null,{"$f":"Temp!A8","v":10000},{"$f":"C6","v":1},null,null,null,null,null,null,null,null,{"$f":"L6","v":1},{"$f":"Temp!B8","v":42.5}]
[]
[]
[]
[]
[]
[]
[]
[]
[]
[]
[]
[]
[]
[]
[]
[]
[]
[]
[]
[]
[]
[]
[]
[]
[]
[]
[]
[]
[]
[null,null,null,null,null,null,null,null,null,null,null,null,null,null,null,null,"max",{"$f":"MAX(-MIN(Temp!N4:N131),MAX(Temp!N4:N131))","v":7.61316994667946E-2}]

{"sheet":"ReadMe","index":1,"n_rows":57,"n_cols":2,"rows_kept":57,"cut":false,"hidden":false,"merged":[]}
[]
[null,"差動伝送のクロストーク解析ツール"]
[]
[null,"1. 何ができるか"]
[null,"表面層(MicroStrip)と中間層(Strip)に対して, ペア間のクロストーク係数 ξ23 を与えて, "]
[null,"4本線路の差動クロストークを解析して表示します."]
[null,"4本線路のうち, 加害者線路2本に差動信号を加え, 残り2本の受動線路のクロストークを解析します."]
[null,"解析には128点のFFTを用いています. 要望があれば, 上位の1024点のFFTを用いたものを(たぶん)有償で準備する予定です."]
[null,"線路の1本のインピーダンスは50Ω, 差動インピーダンスは 85Ωです."]
[null,"断面図の決定方法は, 「断面図」のシートを参照ください."]
[]
[null,"2. 使い方"]
[null,"以下は順不同です."]
[null,"(1)波形シートの右上のプルダウンメニューから, StripかMicrostripを選択し, ペア間のクロストーク係数 ξ23 を選びます."]
[null,"(2)順方向遠端クロストークか逆方向近端クロストークを選択します."]
[null,"(3)信号周期 T, パルス幅 TW, 信号の立ち上がり tr, 配線長 をそれぞれ数値で記入します."]
[null,"(4)加害者信号は, 逆方向は, v11-v12(近端)を, 順方向は, v21-v22(遠端)を表示します."]
[null,"(5)終端抵抗を数値で記入します.通常は85Ωです. この値の1/2が遠端の終端抵抗となります."]
[null,"(6)ドライバの種類を選びます. 電流源/電圧源/整合"]
[null,"  ドライバの出力抵抗は, 電圧源ドライバ(例えば, PECL)の場合には5Ω, 電流源ドライバ(例えばLVDS)の場合"]
[null,"  には10kΩ, 整合(例えばCML)の場合にはZdiff/2としています."]
[null,"  電圧振幅は, 能動線路の遠端の電圧が±1になるように正規化しています. 差動信号としてはその倍の2となります."]
[null,"(7)静電容量の値を記入"]
[null,"  遠端, 近端の静電容量は, 初期設定では, C11だけ入力すると, 全て同じ値になるように設定しています."]
[null,"  各端子の値は, 独立に設定出来るので, 異なる値にしたい場合は, それぞれに入力下さい. (単位 : pF)"]
[null,"4本の線路に順に#1から#4までの番号を与えます."]
[null,"#1と#2とが能動(加害者)線路, #3と#4とが受動(被害者)線路です."]
[null,"抵抗の最初のサフィックスが線路の番号, 2番目のサフィックスが, 1=近端, 2=遠端を表します."]
[]
[null,"計算は, 128点FFTを用いています."]
[]
[null,"3. 波形の意味"]
[null,"電圧波形も, 抵抗と同じサフィックスで表します."]
[null,"近端は, v31-v41が, 遠端は, v32-v42が差動のクロストークです."]
[null,"実際の線路には損失を含みますが, 本解析は無損失線路のモデルを使用しているので, 損失は含みません."]
[null,"グラフの軸ラベルは省略しています. 横軸は時間[ns], 縦軸は振幅[正規化}です."]
[]
[null,"4. 画面のサイズ調整"]
[null,"「サイズ」ボタンを押すことによって, 表示範囲を画面にきっちり収まるように設定します."]
[null,"「サイズ」ボタンはマクロを使っています.  マクロを有効にしてください."]
[null,"セキュリティレベルを低くしたくない方は, 手動で画面サイズを調整して下さい."]
[null,"なお, このマクロは編集しないで下さい."]
[]
[null,"5. 参考文献"]
[null,"拙著, 「ボード設計者のための分布定数回路のすべて 第3版」"]
[null,"http://radioy.a.la9.jp/book/book.htm"]
[null,"MWE2016ワークショップ (2016 Microwave Workshops and Exhibition)"]
[null,"http://apmc-mwe.org/mwe2016/pdf/WS_01/WE3B-1_1.pdf"]
[]
[]
[]
[]
[]
[]
[]
[null,"v.1.0  2023/9/20    初版"]
[null,"v.2.1  2023/10/15  レイアウトを変更, 加害者信号を自動で選択するように変更"]

{"sheet":"断面図","index":2,"n_rows":0,"n_cols":0,"rows_kept":0,"cut":false,"hidden":false,"merged":[]}

{"sheet":"Temp","index":3,"n_rows":131,"n_cols":14,"rows_kept":131,"cut":false,"hidden":true,"merged":[]}
["R11","R12",null,1,null,-1.5,{"$f":"F1+$F$1","v":-3},{"$f":"G1+$F$1","v":-4.5}]
[{"$f":"IF(定数!S1=1,5,IF(定数!S1=2,10000,波形!C3/2))","v":10000},{"$f":"波形!C3/2","v":42.5},null,1,null,null,null,null,null,"t",{"$f":"iFFT128!L2","v":"v21-v22"},{"$f":"iFFT128!W2","v":"v32"},{"$f":"iFFT128!AH2","v":"v42"},{"$f":"L2&\"-\"&M2","v":"v32-v42"}]
["R21","R22",null,1]
[{"$f":"Temp!A2","v":10000},{"$f":"B2","v":42.5},null,null,null,null,null,null,null,0,{"$f":"iFFT128!L4","v":-1.0004543708454801},{"$f":"iFFT128!W4","v":-7.6010653865907002E-4},{"$f":"iFFT128!AH4","v":-2.5141848816271999E-4},{"$f":"L4-M4","v":-5.0868805049635003E-4}]
["R31","R32",null,0,0,{"$f":"F$1","v":-1.5},{"$f":"G$1","v":-3},{"$f":"H$1","v":-4.5},null,{"$f":"J4+定数!$B$10","v":7.8125E-2},{"$f":"iFFT128!L5","v":-0.99795388456902301},{"$f":"iFFT128!W5","v":-1.8451569384100701E-3},{"$f":"iFFT128!AH5","v":1.7898603921669199E-3},-3.6350173305769902E-3]
[{"$f":"IF(定数!O1=1,波形!C3/2,Temp!A2)","v":10000},{"$f":"IF(定数!O1=1,Temp!A2,Temp!B2)","v":42.5},null,{"$f":"D5+$D$1","v":1},0,{"$f":"F5","v":-1.5},{"$f":"G5","v":-3},{"$f":"H5","v":-4.5},null,{"$f":"J5+定数!$B$10","v":0.15625},{"$f":"iFFT128!L6","v":-1.00269916831832},{"$f":"iFFT128!W6","v":5.2807216391765005E-4},{"$f":"iFFT128!AH6","v":-4.7487747305030001E-4},1.0029496369679501E-3]
["R41","R42",null,{"$f":"D6","v":1},{"$f":"定数!A38","v":0.4465208},{"$f":"定数!A39+F1","v":-0.95170589999999999},{"$f":"定数!A40+G1","v":-2.4517120000000001},{"$f":"定数!A41+H1","v":-4.0534879999999998},null,{"$f":"J6+定数!$B$10","v":0.234375},{"$f":"iFFT128!L7","v":-0.99864046764277203},{"$f":"iFFT128!W7","v":4.6773267889943098E-4},{"$f":"iFFT128!AH7","v":1.3632394742849001E-4},3.3140873147094094E-4]
[{"$f":"Temp!A6","v":10000},{"$f":"B6","v":42.5},null,{"$f":"D7+$D$2","v":2},{"$f":"E7","v":0.4465208},{"$f":"F7","v":-0.95170589999999999},{"$f":"G7","v":-2.4517120000000001},{"$f":"H7","v":-4.0534879999999998},null,{"$f":"J7+定数!$B$10","v":0.3125},{"$f":"iFFT128!L8","v":-1.0016675621605799},{"$f":"iFFT128!W8","v":-2.6319171194698099E-4},{"$f":"iFFT128!AH8","v":-1.10344698680133E-3},8.4025527485434895E-4]
[null,null,null,{"$f":"D8","v":2},0,{"$f":"F5","v":-1.5},{"$f":"G5","v":-3},{"$f":"H5","v":-4.5},null,{"$f":"J8+定数!$B$10","v":0.390625},{"$f":"iFFT128!L9","v":-0.99750306832492097},{"$f":"iFFT128!W9","v":3.6310988869184999E-5},{"$f":"iFFT128!AH9","v":2.4650392055527997E-4},-2.1019293168609497E-4]
[null,null,null,{"$f":"D9+$D$1","v":3},0,{"$f":"F5","v":-1.5},{"$f":"G5","v":-3},{"$f":"H5","v":-4.5},null,{"$f":"J9+定数!$B$10","v":0.46875},{"$f":"iFFT128!L10","v":-1.00246291835034},{"$f":"iFFT128!W10","v":-4.7147725430251002E-4},{"$f":"iFFT128!AH10","v":-5.3893213048293999E-4},6.7454876180429962E-5]
[null,null,null,null,null,null,null,null,null,{"$f":"J10+定数!$B$10","v":0.546875},{"$f":"iFFT128!L11","v":-0.99689508337577704},{"$f":"iFFT128!W11","v":4.7439240507229798E-5},{"$f":"iFFT128!AH11","v":2.9113550908711002E-4},-2.4369626857988021E-4]
[null,null,null,{"$f":"D10+$D$3","v":4},0,{"$f":"F$1","v":-1.5},{"$f":"G$1","v":-3},{"$f":"H$1","v":-4.5},null,{"$f":"J11+定数!$B$10","v":0.625},{"$f":"iFFT128!L12","v":-1.00361477761213},{"$f":"iFFT128!W12","v":-1.9374824084657E-4},{"$f":"iFFT128!AH12","v":-5.6932597434057998E-4},3.7557773349400998E-4]
[null,null,null,{"$f":"D12+$D$1","v":5},0,{"$f":"F12","v":-1.5},{"$f":"G12","v":-3},{"$f":"H12","v":-4.5},null,{"$f":"J12+定数!$B$10","v":0.703125},{"$f":"iFFT128!L13","v":-0.99578742424622202},{"$f":"iFFT128!W13","v":2.1455204450419001E-4},{"$f":"iFFT128!AH13","v":1.1848949315519E-3},-9.7034288704770993E-4]
[null,null,null,{"$f":"D13","v":5},{"$f":"定数!B38","v":0.63883579999999995},{"$f":"定数!B39+F1","v":-1.1969031000000001},{"$f":"定数!B40+G1","v":-3.3030957999999999},{"$f":"定数!B41+H1","v":-5.1388692999999996},null,{"$f":"J13+定数!$B$10","v":0.78125},{"$f":"iFFT128!L14","v":-1.0053031328795401},{"$f":"iFFT128!W14","v":1.7653249127667E-4},{"$f":"iFFT128!AH14","v":-1.0623440274097999E-3},1.2388765186864699E-3]
[null,null,null,{"$f":"D14+$D$2","v":6},{"$f":"E14","v":0.63883579999999995},{"$f":"F14","v":-1.1969031000000001},{"$f":"G14","v":-3.3030957999999999},{"$f":"H14","v":-5.1388692999999996},null,{"$f":"J14+定数!$B$10","v":0.859375},{"$f":"iFFT128!L15","v":-0.99267318713324504},{"$f":"iFFT128!W15","v":6.8031707308942996E-4},{"$f":"iFFT128!AH15","v":8.2177549833507E-4},-1.4145842524564004E-4]
[null,null,null,{"$f":"D15","v":6},0,{"$f":"F12","v":-1.5},{"$f":"G12","v":-3},{"$f":"H12","v":-4.5},null,{"$f":"J15+定数!$B$10","v":0.9375},{"$f":"iFFT128!L16","v":-1.01205579562451},{"$f":"iFFT128!W16","v":-7.1656348189610996E-4},{"$f":"iFFT128!AH16","v":-1.27045105843981E-3},5.5388757654370002E-4]
[null,null,null,{"$f":"D16+$D$1","v":7},0,{"$f":"F12","v":-1.5},{"$f":"G12","v":-3},{"$f":"H12","v":-4.5},null,{"$f":"J16+定数!$B$10","v":1.015625},{"$f":"iFFT128!L17","v":-0.81836098782713396},{"$f":"iFFT128!W17","v":2.4637140587536799E-2},{"$f":"iFFT128!AH17","v":8.0916905852189396E-3},1.6545450002317857E-2]
[null,null,null,null,null,null,null,null,null,{"$f":"J17+定数!$B$10","v":1.09375},{"$f":"iFFT128!L18","v":-0.202218321207526},{"$f":"iFFT128!W18","v":5.17878426235086E-2},{"$f":"iFFT128!AH18","v":2.6461663808881802E-2},2.5326178814626798E-2]
[null,null,null,{"$f":"D17+$D$3","v":8},0,{"$f":"F$1","v":-1.5},{"$f":"G$1","v":-3},{"$f":"H$1","v":-4.5},null,{"$f":"J18+定数!$B$10","v":1.171875},{"$f":"iFFT128!L19","v":0.53012434608025405},{"$f":"iFFT128!W19","v":3.4945324700940798E-2},{"$f":"iFFT128!AH19","v":3.4927722851624501E-2},1.760184931629688E-5]
[null,null,null,{"$f":"D19+$D$1","v":9},0,{"$f":"F19","v":-1.5},{"$f":"G19","v":-3},{"$f":"H19","v":-4.5},null,{"$f":"J19+定数!$B$10","v":1.25},{"$f":"iFFT128!L20","v":0.91005116787695906},{"$f":"iFFT128!W20","v":-1.6546540619587699E-2},{"$f":"iFFT128!AH20","v":1.8375188953836202E-2},-3.4921729573423904E-2]
[null,null,null,{"$f":"D20","v":9},{"$f":"定数!C38","v":-0.29334510000000003},{"$f":"定数!C39+F1","v":-0.85656460000000001},{"$f":"定数!C40+G1","v":-3.6433784},{"$f":"定数!C41+H1","v":-4.2067360999999996},null,{"$f":"J20+定数!$B$10","v":1.328125},{"$f":"iFFT128!L21","v":0.97346206078057096},{"$f":"iFFT128!W21","v":-4.7802503965854198E-2},{"$f":"iFFT128!AH21","v":1.2499232909659399E-3},-4.9052427256820137E-2]
[null,null,null,{"$f":"D21+$D$2","v":10},{"$f":"E21","v":-0.29334510000000003},{"$f":"F21","v":-0.85656460000000001},{"$f":"G21","v":-3.6433784},{"$f":"H21","v":-4.2067360999999996},null,{"$f":"J21+定数!$B$10","v":1.40625},{"$f":"iFFT128!L22","v":0.99218174679911897},{"$f":"iFFT128!W22","v":-5.5733290481535601E-2},{"$f":"iFFT128!AH22","v":-4.3087072350189498E-3},-5.142458324651665E-2]
[null,null,null,{"$f":"D22","v":10},0,{"$f":"F19","v":-1.5},{"$f":"G19","v":-3},{"$f":"H19","v":-4.5},null,{"$f":"J22+定数!$B$10","v":1.484375},{"$f":"iFFT128!L23","v":0.99131707743330999},{"$f":"iFFT128!W23","v":-5.9131927157933702E-2},{"$f":"iFFT128!AH23","v":-6.2356423824274504E-3},-5.2896284775506251E-2]
[null,null,null,{"$f":"D23+$D$1","v":11},0,{"$f":"F19","v":-1.5},{"$f":"G19","v":-3},{"$f":"H19","v":-4.5},null,{"$f":"J23+定数!$B$10","v":1.5625},{"$f":"iFFT128!L24","v":0.99310266936615899},{"$f":"iFFT128!W24","v":-5.9449284832268898E-2},{"$f":"iFFT128!AH24","v":-6.9679936904870803E-3},-5.2481291141781815E-2]
[null,null,null,null,null,null,null,null,null,{"$f":"J24+定数!$B$10","v":1.640625},{"$f":"iFFT128!L25","v":0.99372011017729101},{"$f":"iFFT128!W25","v":-6.0076994751792401E-2},{"$f":"iFFT128!AH25","v":-6.9008179043586401E-3},-5.3176176847433761E-2]
[null,null,null,{"$f":"D24+$D$3","v":12},0,{"$f":"F$1","v":-1.5},{"$f":"G$1","v":-3},{"$f":"H$1","v":-4.5},null,{"$f":"J25+定数!$B$10","v":1.71875},{"$f":"iFFT128!L26","v":0.99147587044350705},{"$f":"iFFT128!W26","v":-5.9330521890528502E-2},{"$f":"iFFT128!AH26","v":-7.7245044794340099E-3},-5.1606017411094496E-2]
[null,null,null,{"$f":"D26+$D$1","v":13},0,{"$f":"F26","v":-1.5},{"$f":"G26","v":-3},{"$f":"H26","v":-4.5},null,{"$f":"J26+定数!$B$10","v":1.796875},{"$f":"iFFT128!L27","v":0.99562958329294804},{"$f":"iFFT128!W27","v":-6.0573059981533103E-2},{"$f":"iFFT128!AH27","v":-5.9994194087613301E-3},-5.4573640572771774E-2]
[null,null,null,{"$f":"D27","v":13},{"$f":"定数!D38","v":0.53529610000000005},{"$f":"定数!D39+F1","v":-1.961972},{"$f":"定数!D40+G1","v":-3.4620628},{"$f":"定数!D41+H1","v":-3.9647076999999999},null,{"$f":"J27+定数!$B$10","v":1.875},{"$f":"iFFT128!L28","v":0.98886286656936095},{"$f":"iFFT128!W28","v":-5.9443589586847603E-2},{"$f":"iFFT128!AH28","v":-7.8332515341136902E-3},-5.1610338052733913E-2]
[null,null,null,{"$f":"D28+$D$2","v":14},{"$f":"E28","v":0.53529610000000005},{"$f":"F28","v":-1.961972},{"$f":"G28","v":-3.4620628},{"$f":"H28","v":-3.9647076999999999},null,{"$f":"J28+定数!$B$10","v":1.953125},{"$f":"iFFT128!L29","v":0.99600962688185002},{"$f":"iFFT128!W29","v":-6.1908800381012603E-2},{"$f":"iFFT128!AH29","v":-6.1650341205711102E-3},-5.5743766260441495E-2]
[null,null,null,{"$f":"D29","v":14},0,{"$f":"F26","v":-1.5},{"$f":"G26","v":-3},{"$f":"H26","v":-4.5},null,{"$f":"J29+定数!$B$10","v":2.03125},{"$f":"iFFT128!L30","v":0.71968902393411704},{"$f":"iFFT128!W30","v":-9.1540253266918101E-2},{"$f":"iFFT128!AH30","v":-1.89114538672988E-2},-7.2628799399619304E-2]
[null,null,null,{"$f":"D30+$D$1","v":15},0,{"$f":"F26","v":-1.5},{"$f":"G26","v":-3},{"$f":"H26","v":-4.5},null,{"$f":"J30+定数!$B$10","v":2.109375},{"$f":"iFFT128!L31","v":4.0648401641031E-2},{"$f":"iFFT128!W31","v":-0.112721911831289},{"$f":"iFFT128!AH31","v":-3.6590212364494397E-2},-7.61316994667946E-2]
[null,null,null,null,null,null,null,null,null,{"$f":"J31+定数!$B$10","v":2.1875},{"$f":"iFFT128!L32","v":-0.64982315910562305},{"$f":"iFFT128!W32","v":-8.5509931839434297E-2},{"$f":"iFFT128!AH32","v":-4.0767844452115197E-2},-4.47420873873191E-2]
[null,null,null,null,null,null,null,null,null,{"$f":"J32+定数!$B$10","v":2.265625},{"$f":"iFFT128!L33","v":-0.94402715088261901},{"$f":"iFFT128!W33","v":-3.4328756853702701E-2},{"$f":"iFFT128!AH33","v":-2.0764776654666701E-2},-1.3563980199035999E-2]
[null,null,null,null,null,null,null,null,null,{"$f":"J33+定数!$B$10","v":2.34375},{"$f":"iFFT128!L34","v":-0.98407927196864298},{"$f":"iFFT128!W34","v":-9.4466263257169496E-3},{"$f":"iFFT128!AH34","v":-6.9300760421914503E-3},-2.5165502835254993E-3]
[null,null,null,null,null,null,null,null,null,{"$f":"J34+定数!$B$10","v":2.421875},{"$f":"iFFT128!L35","v":-1.0010615246932899},{"$f":"iFFT128!W35","v":-3.3147867076318499E-3},{"$f":"iFFT128!AH35","v":-1.8825851808153E-3},-1.4322015268165499E-3]
[null,null,null,null,null,null,null,null,null,{"$f":"J35+定数!$B$10","v":2.5},{"$f":"iFFT128!L36","v":-0.99720562605951202},{"$f":"iFFT128!W36","v":-3.7969066698073298E-4},{"$f":"iFFT128!AH36","v":-1.08052014738524E-3},{"$f":"L36-M36","v":7.0082948040450701E-4}]
[null,null,null,null,null,null,null,null,null,{"$f":"J36+定数!$B$10","v":2.578125},{"$f":"iFFT128!L37","v":-1.0014811232068801},{"$f":"iFFT128!W37","v":-6.4209863126356997E-4},{"$f":"iFFT128!AH37","v":4.5920261151661098E-4},-1.101301242780181E-3]
[null,null,null,null,null,null,null,null,null,{"$f":"J37+定数!$B$10","v":2.65625},{"$f":"iFFT128!L38","v":-0.99907380205098295},{"$f":"iFFT128!W38","v":7.0211396915284899E-4},{"$f":"iFFT128!AH38","v":-8.5334802969087202E-4},1.555461998843721E-3]
[null,null,null,null,null,null,null,null,null,{"$f":"J38+定数!$B$10","v":2.734375},{"$f":"iFFT128!L39","v":-1.00033685078208},{"$f":"iFFT128!W39","v":-9.95926459484853E-4},{"$f":"iFFT128!AH39","v":1.2448450836701501E-3},-2.2407715431550031E-3]
[null,null,null,null,null,null,null,null,null,{"$f":"J39+定数!$B$10","v":2.8125},{"$f":"iFFT128!L40","v":-1.0004022659271601},{"$f":"iFFT128!W40","v":1.1465025817490101E-3},{"$f":"iFFT128!AH40","v":-1.8685185111747299E-3},3.01502109292374E-3]
[null,null,null,null,null,null,null,null,null,{"$f":"J40+定数!$B$10","v":2.890625},{"$f":"iFFT128!L41","v":-0.98876012088849397},{"$f":"iFFT128!W41","v":-3.2217932380381597E-4},{"$f":"iFFT128!AH41","v":3.5007458750628299E-3},-3.8229251988666458E-3]
[null,null,null,null,null,null,null,null,null,{"$f":"J41+定数!$B$10","v":2.96875},{"$f":"iFFT128!L42","v":-1.03907776867855},{"$f":"iFFT128!W42","v":-1.62202307107168E-2},{"$f":"iFFT128!AH42","v":1.27339505127892E-3},-1.7493625761995719E-2]
[null,null,null,null,null,null,null,null,null,{"$f":"J42+定数!$B$10","v":3.046875},{"$f":"iFFT128!L43","v":-1.1433920287706101},{"$f":"iFFT128!W43","v":-1.23387456262583E-2},{"$f":"iFFT128!AH43","v":-1.8004460713293199E-2},5.6657150870348984E-3]
[null,null,null,null,null,null,null,null,null,{"$f":"J43+定数!$B$10","v":3.125},{"$f":"iFFT128!L44","v":-1.1758901947981399},{"$f":"iFFT128!W44","v":2.22298254313276E-2},{"$f":"iFFT128!AH44","v":-3.0371220952530999E-2},5.2601046383858596E-2]
[null,null,null,null,null,null,null,null,null,{"$f":"J44+定数!$B$10","v":3.203125},{"$f":"iFFT128!L45","v":-1.0981933608024801},{"$f":"iFFT128!W45","v":5.4686863831045103E-2},{"$f":"iFFT128!AH45","v":-1.49388932966034E-2},6.9625757127648499E-2]
[null,null,null,null,null,null,null,null,null,{"$f":"J45+定数!$B$10","v":3.28125},{"$f":"iFFT128!L46","v":-1.02514097265945},{"$f":"iFFT128!W46","v":6.0514130403891697E-2},{"$f":"iFFT128!AH46","v":6.0501828695230901E-3},5.4463947534368604E-2]
[null,null,null,null,null,null,null,null,null,{"$f":"J46+定数!$B$10","v":3.359375},{"$f":"iFFT128!L47","v":-1.0073545683340199},{"$f":"iFFT128!W47","v":6.3340686721812006E-2},{"$f":"iFFT128!AH47","v":1.0941438422668801E-2},5.2399248299143206E-2]
[null,null,null,null,null,null,null,null,null,{"$f":"J47+定数!$B$10","v":3.4375},{"$f":"iFFT128!L48","v":-0.99703424111344796},{"$f":"iFFT128!W48","v":6.5631531639152099E-2},{"$f":"iFFT128!AH48","v":1.3633561815587499E-2},5.1997969823564597E-2]
[null,null,null,null,null,null,null,null,null,{"$f":"J48+定数!$B$10","v":3.515625},{"$f":"iFFT128!L49","v":-0.999193149848698},{"$f":"iFFT128!W49","v":6.4299041096186296E-2},{"$f":"iFFT128!AH49","v":1.26688903127464E-2},5.1630150783439896E-2]
[null,null,null,null,null,null,null,null,null,{"$f":"J49+定数!$B$10","v":3.59375},{"$f":"iFFT128!L50","v":-0.99555234451498098},{"$f":"iFFT128!W50","v":6.4506985103745307E-2},{"$f":"iFFT128!AH50","v":1.21154448138244E-2},5.2391540289920907E-2]
[null,null,null,null,null,null,null,null,null,{"$f":"J50+定数!$B$10","v":3.671875},{"$f":"iFFT128!L51","v":-0.99799737942035005},{"$f":"iFFT128!W51","v":6.2941378869162706E-2},{"$f":"iFFT128!AH51","v":1.23026672740116E-2},5.0638711595151105E-2]
[null,null,null,null,null,null,null,null,null,{"$f":"J51+定数!$B$10","v":3.75},{"$f":"iFFT128!L52","v":-0.99569719668969303},{"$f":"iFFT128!W52","v":6.4800901763293103E-2},{"$f":"iFFT128!AH52","v":1.0865278379082801E-2},5.3935623384210304E-2]
[null,null,null,null,null,null,null,null,null,{"$f":"J52+定数!$B$10","v":3.828125},{"$f":"iFFT128!L53","v":-0.99854950493754702},{"$f":"iFFT128!W53","v":6.1197384639343898E-2},{"$f":"iFFT128!AH53","v":1.33086459506816E-2},4.7888738688662294E-2]
[null,null,null,null,null,null,null,null,null,{"$f":"J53+定数!$B$10","v":3.90625},{"$f":"iFFT128!L54","v":-1.0059295406286299},{"$f":"iFFT128!W54","v":6.6457944826961102E-2},{"$f":"iFFT128!AH54","v":6.9057565648272803E-3},5.9552188262133821E-2]
[null,null,null,null,null,null,null,null,null,{"$f":"J54+定数!$B$10","v":3.984375},{"$f":"iFFT128!L55","v":-0.93698576838994796},{"$f":"iFFT128!W55","v":8.1518178248964596E-2},{"$f":"iFFT128!AH55","v":1.34898445202946E-2},6.8028333728669996E-2]
[null,null,null,null,null,null,null,null,null,{"$f":"J55+定数!$B$10","v":4.0625},{"$f":"iFFT128!L56","v":-0.83809400233422704},{"$f":"iFFT128!W56","v":7.0793207195822799E-2},{"$f":"iFFT128!AH56","v":3.35739744003841E-2},3.7219232795438699E-2]
[null,null,null,null,null,null,null,null,null,{"$f":"J56+定数!$B$10","v":4.140625},{"$f":"iFFT128!L57","v":-0.82901648729017996},{"$f":"iFFT128!W57","v":3.3016355641518197E-2},{"$f":"iFFT128!AH57","v":4.1330659189353802E-2},-8.3143035478356053E-3]
[null,null,null,null,null,null,null,null,null,{"$f":"J57+定数!$B$10","v":4.21875},{"$f":"iFFT128!L58","v":-0.91863668477667104},{"$f":"iFFT128!W58","v":5.78721744936105E-3},{"$f":"iFFT128!AH58","v":2.13507115296903E-2},-1.5563494080329251E-2]
[null,null,null,null,null,null,null,null,null,{"$f":"J58+定数!$B$10","v":4.296875},{"$f":"iFFT128!L59","v":-0.97710562332266804},{"$f":"iFFT128!W59","v":2.8059716627459401E-3},{"$f":"iFFT128!AH59","v":3.7593278968739399E-3},-9.533562341279998E-4]
[null,null,null,null,null,null,null,null,null,{"$f":"J59+定数!$B$10","v":4.375},{"$f":"iFFT128!L60","v":-0.99258413456943095},{"$f":"iFFT128!W60","v":-8.7958286260410897E-4},{"$f":"iFFT128!AH60","v":1.13475763366206E-4},-9.9305862597031487E-4]
[null,null,null,null,null,null,null,null,null,{"$f":"J60+定数!$B$10","v":4.453125},{"$f":"iFFT128!L61","v":-0.99919657452197497},{"$f":"iFFT128!W61","v":-1.9499082987607501E-3},{"$f":"iFFT128!AH61","v":-2.06452757497584E-3},1.1461927621508991E-4]
[null,null,null,null,null,null,null,null,null,{"$f":"J61+定数!$B$10","v":4.53125},{"$f":"iFFT128!L62","v":-0.99858399491383998},{"$f":"iFFT128!W62","v":-8.6727800191233701E-4},{"$f":"iFFT128!AH62","v":-7.9236436921832902E-4},-7.491363269400799E-5]
[null,null,null,null,null,null,null,null,null,{"$f":"J62+定数!$B$10","v":4.609375},{"$f":"iFFT128!L63","v":-1.0005719643967099},{"$f":"iFFT128!W63","v":-1.0478636541387399E-3},{"$f":"iFFT128!AH63","v":-4.0646147636645903E-4},-6.4140217777228095E-4]
[null,null,null,null,null,null,null,null,null,{"$f":"J63+定数!$B$10","v":4.6875},{"$f":"iFFT128!L64","v":-0.99914853158108596},{"$f":"iFFT128!W64","v":7.35260980386102E-4},{"$f":"iFFT128!AH64","v":-6.3611603696107899E-4},1.371377017347181E-3]
[null,null,null,null,null,null,null,null,null,{"$f":"J64+定数!$B$10","v":4.765625},{"$f":"iFFT128!L65","v":-1.00069200349413},{"$f":"iFFT128!W65","v":-1.9771806412615099E-3},{"$f":"iFFT128!AH65","v":1.06602514308704E-3},-3.0432057843485499E-3]
[null,null,null,null,null,null,null,null,null,{"$f":"J65+定数!$B$10","v":4.84375},{"$f":"iFFT128!L66","v":-1.0037507534316199},{"$f":"iFFT128!W66","v":1.8318893203366101E-3},{"$f":"iFFT128!AH66","v":-2.1505317635001301E-3},3.9824210838367404E-3]
[null,null,null,null,null,null,null,null,null,{"$f":"J66+定数!$B$10","v":4.921875},{"$f":"iFFT128!L67","v":-0.98768135465700302},{"$f":"iFFT128!W67","v":5.5345383423422304E-3},{"$f":"iFFT128!AH67","v":-2.1865591348998801E-3},7.7210974772421101E-3]
[null,null,null,null,null,null,null,null,null,{"$f":"J67+定数!$B$10","v":5},{"$f":"iFFT128!L68","v":-0.97652689748669197},{"$f":"iFFT128!W68","v":-2.0730706359101498E-3},{"$f":"iFFT128!AH68","v":8.9898877293169595E-3},{"$f":"L68-M68","v":-1.106295836522711E-2}]
[null,null,null,null,null,null,null,null,null,{"$f":"J68+定数!$B$10","v":5.078125},{"$f":"iFFT128!L69","v":-0.99220797206008504},{"$f":"iFFT128!W69","v":-1.33970058433341E-2},{"$f":"iFFT128!AH69","v":1.0845171883224199E-2},-2.42421777265583E-2]
[null,null,null,null,null,null,null,null,null,{"$f":"J69+定数!$B$10","v":5.15625},{"$f":"iFFT128!L70","v":-1.01561238813934},{"$f":"iFFT128!W70","v":-1.1442078103155401E-2},{"$f":"iFFT128!AH70","v":-2.4929360645169398E-3},-8.9491420386384607E-3]
[null,null,null,null,null,null,null,null,null,{"$f":"J70+定数!$B$10","v":5.234375},{"$f":"iFFT128!L71","v":-1.0125559302956699},{"$f":"iFFT128!W71","v":-1.8085223069013901E-3},{"$f":"iFFT128!AH71","v":-1.0880201700582201E-2},9.0716793936808111E-3]
[null,null,null,null,null,null,null,null,null,{"$f":"J71+定数!$B$10","v":5.3125},{"$f":"iFFT128!L72","v":-1.00317772387466},{"$f":"iFFT128!W72","v":-2.7432421951109902E-4},{"$f":"iFFT128!AH72","v":-4.1964418584191296E-3},3.9221176389080308E-3]
[null,null,null,null,null,null,null,null,null,{"$f":"J72+定数!$B$10","v":5.390625},{"$f":"iFFT128!L73","v":-0.999914000156227},{"$f":"iFFT128!W73","v":-1.33178175815803E-3},{"$f":"iFFT128!AH73","v":-4.1686287598105597E-3},2.8368470016525297E-3]
[null,null,null,null,null,null,null,null,null,{"$f":"J73+定数!$B$10","v":5.46875},{"$f":"iFFT128!L74","v":-0.99606613893964102},{"$f":"iFFT128!W74","v":-4.6870238668029899E-3},{"$f":"iFFT128!AH74","v":-4.9842761113416201E-3},2.9725224453863025E-4]
[null,null,null,null,null,null,null,null,null,{"$f":"J74+定数!$B$10","v":5.546875},{"$f":"iFFT128!L75","v":-0.99695511454520302},{"$f":"iFFT128!W75","v":-5.3202327243692298E-3},{"$f":"iFFT128!AH75","v":-6.1432146361546898E-3},8.2298191178546004E-4]
[null,null,null,null,null,null,null,null,null,{"$f":"J75+定数!$B$10","v":5.625},{"$f":"iFFT128!L76","v":-0.99519962034793297},{"$f":"iFFT128!W76","v":-4.5913210810369703E-3},{"$f":"iFFT128!AH76","v":-5.4543170845986798E-3},8.6299600356170951E-4]
[null,null,null,null,null,null,null,null,null,{"$f":"J76+定数!$B$10","v":5.703125},{"$f":"iFFT128!L77","v":-0.99720951047102802},{"$f":"iFFT128!W77","v":-5.1609240739949897E-3},{"$f":"iFFT128!AH77","v":-4.9404648587097E-3},-2.204592152852897E-4]
[null,null,null,null,null,null,null,null,null,{"$f":"J77+定数!$B$10","v":5.78125},{"$f":"iFFT128!L78","v":-0.99417276070771299},{"$f":"iFFT128!W78","v":-2.31525792677787E-3},{"$f":"iFFT128!AH78","v":-6.3792117241354201E-3},4.0639537973575501E-3]
[null,null,null,null,null,null,null,null,null,{"$f":"J78+定数!$B$10","v":5.859375},{"$f":"iFFT128!L79","v":-0.99384887251209397},{"$f":"iFFT128!W79","v":-7.6159913698874296E-3},{"$f":"iFFT128!AH79","v":-1.8838996465224899E-3},-5.7320917233649399E-3]
[null,null,null,null,null,null,null,null,null,{"$f":"J79+定数!$B$10","v":5.9375},{"$f":"iFFT128!L80","v":-1.0125264022181399},{"$f":"iFFT128!W80","v":-9.0599897916670905E-3},{"$f":"iFFT128!AH80","v":-4.8632169646627699E-3},-4.1967728270043206E-3]
[null,null,null,null,null,null,null,null,null,{"$f":"J80+定数!$B$10","v":6.015625},{"$f":"iFFT128!L81","v":-1.01827074822212},{"$f":"iFFT128!W81","v":1.6748603420200001E-4},{"$f":"iFFT128!AH81","v":-1.5695929271040899E-2},1.5863415305242899E-2]
[null,null,null,null,null,null,null,null,null,{"$f":"J81+定数!$B$10","v":6.09375},{"$f":"iFFT128!L82","v":-0.998784455661344},{"$f":"iFFT128!W82","v":1.02488270500078E-2},{"$f":"iFFT128!AH82","v":-1.4383480927420599E-2},2.4632307977428401E-2]
[null,null,null,null,null,null,null,null,null,{"$f":"J82+定数!$B$10","v":6.171875},{"$f":"iFFT128!L83","v":-0.97830310008946597},{"$f":"iFFT128!W83","v":4.9292723519112E-3},{"$f":"iFFT128!AH83","v":5.0672077201449996E-4},4.4225515798967004E-3]
[null,null,null,null,null,null,null,null,null,{"$f":"J83+定数!$B$10","v":6.25},{"$f":"iFFT128!L84","v":-0.98656140882937504},{"$f":"iFFT128!W84","v":-3.3254331480369399E-3},{"$f":"iFFT128!AH84","v":4.8324011914635803E-3},-8.1578343395005207E-3]
[null,null,null,null,null,null,null,null,null,{"$f":"J84+定数!$B$10","v":6.328125},{"$f":"iFFT128!L85","v":-0.99301984723447301},{"$f":"iFFT128!W85","v":-3.9900729647669997E-3},{"$f":"iFFT128!AH85","v":-1.6299321169491599E-3},-2.3601408478178395E-3]
[null,null,null,null,null,null,null,null,null,{"$f":"J85+定数!$B$10","v":6.40625},{"$f":"iFFT128!L86","v":-0.997803410847245},{"$f":"iFFT128!W86","v":-2.35377196929E-3},{"$f":"iFFT128!AH86","v":-6.5641243093278998E-4},-1.69735953835721E-3]
[null,null,null,null,null,null,null,null,null,{"$f":"J86+定数!$B$10","v":6.484375},{"$f":"iFFT128!L87","v":-0.99923214991010401},{"$f":"iFFT128!W87","v":7.9519987685909902E-4},{"$f":"iFFT128!AH87","v":4.4408755449529903E-5},7.5079112140956914E-4]
[null,null,null,null,null,null,null,null,null,{"$f":"J87+定数!$B$10","v":6.5625},{"$f":"iFFT128!L88","v":-1.0001898567290799},{"$f":"iFFT128!W88","v":9.2167167699950105E-4},{"$f":"iFFT128!AH88","v":9.9065411947152002E-4},-6.898244247201897E-5]
[null,null,null,null,null,null,null,null,null,{"$f":"J88+定数!$B$10","v":6.640625},{"$f":"iFFT128!L89","v":-0.99993683474139505},{"$f":"iFFT128!W89","v":9.4980930501399594E-5},{"$f":"iFFT128!AH89","v":2.4763290715132001E-4},-1.526519766499204E-4]
[null,null,null,null,null,null,null,null,null,{"$f":"J89+定数!$B$10","v":6.71875},{"$f":"iFFT128!L90","v":-0.99988348428007101},{"$f":"iFFT128!W90","v":1.2287286388099001E-3},{"$f":"iFFT128!AH90","v":-4.3650876390834999E-4},1.66523740271825E-3]
[null,null,null,null,null,null,null,null,null,{"$f":"J90+定数!$B$10","v":6.796875},{"$f":"iFFT128!L91","v":-0.99907552774373998},{"$f":"iFFT128!W91","v":-1.8015993693313E-3},{"$f":"iFFT128!AH91","v":1.21371005121589E-3},-3.0153094205471898E-3]
[null,null,null,null,null,null,null,null,null,{"$f":"J91+定数!$B$10","v":6.875},{"$f":"iFFT128!L92","v":-1.0038066796926699},{"$f":"iFFT128!W92","v":-7.9898764013939703E-4},{"$f":"iFFT128!AH92","v":4.8214182409028999E-4},-1.281129464229687E-3]
[null,null,null,null,null,null,null,null,null,{"$f":"J92+定数!$B$10","v":6.953125},{"$f":"iFFT128!L93","v":-1.0022775935938599},{"$f":"iFFT128!W93","v":2.9498046643564001E-3},{"$f":"iFFT128!AH93","v":-3.4513577782288099E-3},6.40116244258521E-3]
[null,null,null,null,null,null,null,null,null,{"$f":"J93+定数!$B$10","v":7.03125},{"$f":"iFFT128!L94","v":-0.99703594976196697},{"$f":"iFFT128!W94","v":3.1240540202771001E-3},{"$f":"iFFT128!AH94","v":-2.6657231512877801E-3},5.7897771715648798E-3]
[null,null,null,null,null,null,null,null,null,{"$f":"J94+定数!$B$10","v":7.109375},{"$f":"iFFT128!L95","v":-0.99487163951995505},{"$f":"iFFT128!W95","v":-1.6842420503916E-3},{"$f":"iFFT128!AH95","v":3.4579142325811998E-3},-5.1421562829727999E-3]
[null,null,null,null,null,null,null,null,null,{"$f":"J95+定数!$B$10","v":7.1875},{"$f":"iFFT128!L96","v":-1.0012900270845899},{"$f":"iFFT128!W96","v":-2.0977256790721001E-3},{"$f":"iFFT128!AH96","v":4.3482080865208002E-3},-6.4459337655929008E-3]
[null,null,null,null,null,null,null,null,null,{"$f":"J96+定数!$B$10","v":7.265625},{"$f":"iFFT128!L97","v":-1.0020574623318199},{"$f":"iFFT128!W97","v":5.0854866150770001E-4},{"$f":"iFFT128!AH97","v":3.51061780831099E-4},1.5748688067660101E-4]
[null,null,null,null,null,null,null,null,null,{"$f":"J97+定数!$B$10","v":7.34375},{"$f":"iFFT128!L98","v":-1.00122789253973},{"$f":"iFFT128!W98","v":-7.1449879962544999E-4},{"$f":"iFFT128!AH98","v":-7.2662601336827E-4},1.2127213742820007E-5]
[null,null,null,null,null,null,null,null,null,{"$f":"J98+定数!$B$10","v":7.421875},{"$f":"iFFT128!L99","v":-1.00032276493273},{"$f":"iFFT128!W99","v":3.1748396323533001E-4},{"$f":"iFFT128!AH99","v":-9.3510541839981998E-4},1.25258938163515E-3]
[null,null,null,null,null,null,null,null,null,{"$f":"J99+定数!$B$10","v":7.5},{"$f":"iFFT128!L100","v":-1.0005474178721701},{"$f":"iFFT128!W100","v":2.5292430542278702E-4},{"$f":"iFFT128!AH100","v":6.0153408971388002E-4},{"$f":"L100-M100","v":-3.48609784291093E-4}]
[null,null,null,null,null,null,null,null,null,{"$f":"J100+定数!$B$10","v":7.578125},{"$f":"iFFT128!L101","v":-1.0002818688713599},{"$f":"iFFT128!W101","v":1.80534715263843E-3},{"$f":"iFFT128!AH101","v":8.7273906216182905E-4},9.3260809047660096E-4]
[null,null,null,null,null,null,null,null,null,{"$f":"J101+定数!$B$10","v":7.65625},{"$f":"iFFT128!L102","v":-1.00042816248504},{"$f":"iFFT128!W102","v":1.3530041301126499E-3},{"$f":"iFFT128!AH102","v":1.2437958468775299E-3},1.0920828323512E-4]
[null,null,null,null,null,null,null,null,null,{"$f":"J102+定数!$B$10","v":7.734375},{"$f":"iFFT128!L103","v":-1.0007006325524399},{"$f":"iFFT128!W103","v":2.0876258762237099E-4},{"$f":"iFFT128!AH103","v":1.2456725917164299E-3},-1.0369100040940589E-3]
[null,null,null,null,null,null,null,null,null,{"$f":"J103+定数!$B$10","v":7.8125},{"$f":"iFFT128!L104","v":-1.00061751058412},{"$f":"iFFT128!W104","v":3.1644845713720299E-3},{"$f":"iFFT128!AH104","v":-9.0661977050869298E-4},4.0711043418807233E-3]
[null,null,null,null,null,null,null,null,null,{"$f":"J104+定数!$B$10","v":7.890625},{"$f":"iFFT128!L105","v":-0.99583971395197401},{"$f":"iFFT128!W105","v":8.1747423712986002E-4},{"$f":"iFFT128!AH105","v":1.1122829514638099E-3},-2.9480871433394988E-4]
[null,null,null,null,null,null,null,null,null,{"$f":"J105+定数!$B$10","v":7.96875},{"$f":"iFFT128!L106","v":-0.99916474514886799},{"$f":"iFFT128!W106","v":-2.4138506223057399E-3},{"$f":"iFFT128!AH106","v":4.41659381430812E-3},-6.8304444366138594E-3]
[null,null,null,null,null,null,null,null,null,{"$f":"J106+定数!$B$10","v":8.046875},{"$f":"iFFT128!L107","v":-1.0040049334269701},{"$f":"iFFT128!W107","v":-1.61954708835604E-3},{"$f":"iFFT128!AH107","v":2.4785697175645702E-3},-4.0981168059206104E-3]
[null,null,null,null,null,null,null,null,null,{"$f":"J107+定数!$B$10","v":8.125},{"$f":"iFFT128!L108","v":-1.0047557613283999},{"$f":"iFFT128!W108","v":3.4847858704425598E-3},{"$f":"iFFT128!AH108","v":-3.8464241532858E-3},7.3312100237283599E-3]
[null,null,null,null,null,null,null,null,null,{"$f":"J108+定数!$B$10","v":8.203125},{"$f":"iFFT128!L109","v":-0.997806176026515},{"$f":"iFFT128!W109","v":2.1808735830637E-3},{"$f":"iFFT128!AH109","v":-2.6572228680279602E-3},4.8380964510916606E-3]
[null,null,null,null,null,null,null,null,null,{"$f":"J109+定数!$B$10","v":8.28125},{"$f":"iFFT128!L110","v":-0.99886932811103402},{"$f":"iFFT128!W110","v":6.7245012905190295E-4},{"$f":"iFFT128!AH110","v":5.9853918701988995E-4},7.3910942032012999E-5]
[null,null,null,null,null,null,null,null,null,{"$f":"J110+定数!$B$10","v":8.359375},{"$f":"iFFT128!L111","v":-0.99873999347457998},{"$f":"iFFT128!W111","v":1.4851244806256001E-3},{"$f":"iFFT128!AH111","v":1.76442284778024E-3},-2.792983671546399E-4]
[null,null,null,null,null,null,null,null,null,{"$f":"J111+定数!$B$10","v":8.4375},{"$f":"iFFT128!L112","v":-1.00050128535019},{"$f":"iFFT128!W112","v":6.3301763141830603E-4},{"$f":"iFFT128!AH112","v":1.1863948521088901E-3},-5.5337722069058405E-4]
[null,null,null,null,null,null,null,null,null,{"$f":"J112+定数!$B$10","v":8.515625},{"$f":"iFFT128!L113","v":-0.99909851413014805},{"$f":"iFFT128!W113","v":3.8133489185249902E-4},{"$f":"iFFT128!AH113","v":2.0527197467063999E-4},1.7606291718185902E-4]
[null,null,null,null,null,null,null,null,null,{"$f":"J113+定数!$B$10","v":8.59375},{"$f":"iFFT128!L114","v":-1.0006233458221001},{"$f":"iFFT128!W114","v":-8.2012058774719903E-4},{"$f":"iFFT128!AH114","v":-5.8686840526195902E-4},-2.3325218248524001E-4]
[null,null,null,null,null,null,null,null,null,{"$f":"J114+定数!$B$10","v":8.671875},{"$f":"iFFT128!L115","v":-0.99915481518674598},{"$f":"iFFT128!W115","v":-6.3677385108579904E-4},{"$f":"iFFT128!AH115","v":7.3336478679020294E-5},-7.1011032976481931E-4]
[null,null,null,null,null,null,null,null,null,{"$f":"J115+定数!$B$10","v":8.75},{"$f":"iFFT128!L116","v":-1.00073860545342},{"$f":"iFFT128!W116","v":8.1263279992869997E-4},{"$f":"iFFT128!AH116","v":-9.9069993393339009E-4},1.80333273386209E-3]
[null,null,null,null,null,null,null,null,null,{"$f":"J116+定数!$B$10","v":8.828125},{"$f":"iFFT128!L117","v":-0.99869009513046203},{"$f":"iFFT128!W117","v":-3.2290726687829799E-4},{"$f":"iFFT128!AH117","v":6.6956284384540995E-4},-9.9247011072370805E-4]
[null,null,null,null,null,null,null,null,null,{"$f":"J117+定数!$B$10","v":8.90625},{"$f":"iFFT128!L118","v":-1.0006559813849101},{"$f":"iFFT128!W118","v":-1.3302130036907001E-3},{"$f":"iFFT128!AH118","v":6.6711415200112003E-4},-1.9973271556918202E-3]
[null,null,null,null,null,null,null,null,null,{"$f":"J118+定数!$B$10","v":8.984375},{"$f":"iFFT128!L119","v":-1.00013922965696},{"$f":"iFFT128!W119","v":1.60120907075602E-4},{"$f":"iFFT128!AH119","v":3.6814713945728002E-4},-2.0802623238167802E-4]
[null,null,null,null,null,null,null,null,null,{"$f":"J119+定数!$B$10","v":9.0625},{"$f":"iFFT128!L120","v":-1.0014535772309401},{"$f":"iFFT128!W120","v":1.7998926697134E-3},{"$f":"iFFT128!AH120","v":-1.7178399436816999E-3},3.5177326133950999E-3]
[null,null,null,null,null,null,null,null,null,{"$f":"J120+定数!$B$10","v":9.140625},{"$f":"iFFT128!L121","v":-0.99833190007514805},{"$f":"iFFT128!W121","v":-1.71450380534E-4},{"$f":"iFFT128!AH121","v":-1.4893881667999901E-4},-2.2511563854000995E-5]
[null,null,null,null,null,null,null,null,null,{"$f":"J121+定数!$B$10","v":9.21875},{"$f":"iFFT128!L122","v":-1.0000627449394099},{"$f":"iFFT128!W122","v":-9.4195236709604998E-4},{"$f":"iFFT128!AH122","v":2.14850112916984E-5},-9.6343737838774837E-4]
[null,null,null,null,null,null,null,null,null,{"$f":"J122+定数!$B$10","v":9.296875},{"$f":"iFFT128!L123","v":-0.99935206557671796},{"$f":"iFFT128!W123","v":1.8881400231846E-4},{"$f":"iFFT128!AH123","v":5.9850507768934003E-4},-4.0969107537088001E-4]
[null,null,null,null,null,null,null,null,null,{"$f":"J123+定数!$B$10","v":9.375},{"$f":"iFFT128!L124","v":-1.00114801818173},{"$f":"iFFT128!W124","v":-2.9492603219169298E-4},{"$f":"iFFT128!AH124","v":1.34471242350795E-4},-4.2939727454248801E-4]
[null,null,null,null,null,null,null,null,null,{"$f":"J124+定数!$B$10","v":9.453125},{"$f":"iFFT128!L125","v":-0.999098655919333},{"$f":"iFFT128!W125","v":3.6761092879895001E-4},{"$f":"iFFT128!AH125","v":-5.6396600209519903E-5},4.240075290084699E-4]
[null,null,null,null,null,null,null,null,null,{"$f":"J125+定数!$B$10","v":9.53125},{"$f":"iFFT128!L126","v":-1.0011158472574599},{"$f":"iFFT128!W126","v":-2.6674501940585901E-4},{"$f":"iFFT128!AH126","v":1.15631668250849E-4},-3.8237668765670802E-4]
[null,null,null,null,null,null,null,null,null,{"$f":"J126+定数!$B$10","v":9.609375},{"$f":"iFFT128!L127","v":-0.99872828157150195},{"$f":"iFFT128!W127","v":2.7664602462974201E-4},{"$f":"iFFT128!AH127","v":-1.68517331786381E-4},4.4516335641612301E-4]
[null,null,null,null,null,null,null,null,null,{"$f":"J127+定数!$B$10","v":9.6875},{"$f":"iFFT128!L128","v":-1.00110700358449},{"$f":"iFFT128!W128","v":-4.6328766140370399E-4},{"$f":"iFFT128!AH128","v":-5.4107926601074097E-4},7.7791604607036977E-5]
[null,null,null,null,null,null,null,null,null,{"$f":"J128+定数!$B$10","v":9.765625},{"$f":"iFFT128!L129","v":-0.99869435492137204},{"$f":"iFFT128!W129","v":-1.1510734099748701E-3},{"$f":"iFFT128!AH129","v":6.3934611538813996E-4},-1.7904195253630102E-3]
[null,null,null,null,null,null,null,null,null,{"$f":"J129+定数!$B$10","v":9.84375},{"$f":"iFFT128!L130","v":-1.0019064849681001},{"$f":"iFFT128!W130","v":5.65571549112988E-4},{"$f":"iFFT128!AH130","v":-1.0613596222814299E-3},1.6269311713944181E-3]
[null,null,null,null,null,null,null,null,null,{"$f":"J130+定数!$B$10","v":9.921875},{"$f":"iFFT128!L131","v":-0.99840116609782703},{"$f":"iFFT128!W131","v":1.1103091262334901E-3},{"$f":"iFFT128!AH131","v":-5.9759652440127505E-4},1.7079056506347653E-3]

{"sheet":"GE","index":4,"n_rows":41,"n_cols":1,"rows_kept":41,"cut":false,"hidden":true,"merged":[]}
[{"$f":"OFFSET(Data!A3,0,定数!$X$1)","v":"***** キャパシタンス(F/m) *****"}]
[{"$f":"OFFSET(Data!A4,0,定数!$X$1)","v":"    1.338041E-010   -1.562925E-011   -7.430538E-013   -3.298989E-013"}]
[{"$f":"OFFSET(Data!A5,0,定数!$X$1)","v":"   -1.562925E-011    1.368889E-010   -1.658577E-011   -7.432751E-013"}]
[{"$f":"OFFSET(Data!A6,0,定数!$X$1)","v":"   -7.430538E-013   -1.658577E-011    1.368882E-010   -1.563119E-011"}]
[{"$f":"OFFSET(Data!A7,0,定数!$X$1)","v":"   -3.298989E-013   -7.432751E-013   -1.563119E-011    1.338055E-010"}]
[{"$f":"OFFSET(Data!A8,0,定数!$X$1)","v":0}]
[{"$f":"OFFSET(Data!A9,0,定数!$X$1)","v":"***** インダクタンス(H/m) *****"}]
[{"$f":"OFFSET(Data!A10,0,定数!$X$1)","v":"    3.246550E-007    5.382879E-008    1.666131E-008    7.324458E-009"}]
[{"$f":"OFFSET(Data!A11,0,定数!$X$1)","v":"    5.382879E-008    3.219591E-007    5.560033E-008    1.666212E-008"}]
[{"$f":"OFFSET(Data!A12,0,定数!$X$1)","v":"    1.666131E-008    5.560033E-008    3.219615E-007    5.383261E-008"}]
[{"$f":"OFFSET(Data!A13,0,定数!$X$1)","v":"    7.324458E-009    1.666212E-008    5.383261E-008    3.246531E-007"}]
[{"$f":"OFFSET(Data!A14,0,定数!$X$1)","v":0}]
[{"$f":"OFFSET(Data!A15,0,定数!$X$1)","v":"***** 抵抗(Ω/m) *****"}]
[{"$f":"OFFSET(Data!A16,0,定数!$X$1)","v":"    3.333333E+000    3.333333E+000    3.333333E+000    3.333333E+000"}]
[{"$f":"OFFSET(Data!A17,0,定数!$X$1)","v":0}]
[{"$f":"OFFSET(Data!A18,0,定数!$X$1)","v":"***** 面積(μm^2) *****"}]
[{"$f":"OFFSET(Data!A19,0,定数!$X$1)","v":"    5.040000E+003    5.040000E+003    5.040000E+003    5.040000E+003"}]
[{"$f":"OFFSET(Data!A20,0,定数!$X$1)","v":0}]
[{"$f":"OFFSET(Data!A21,0,定数!$X$1)","v":"***** 特性インピーダンス(Ω) *****"}]
[{"$f":"OFFSET(Data!A22,0,定数!$X$1)","v":"    4.958017E+001    6.998157E+000    1.757240E+000    6.799772E-001"}]
[{"$f":"OFFSET(Data!A23,0,定数!$X$1)","v":"    6.998157E+000    4.917173E+001    7.289819E+000    1.757381E+000"}]
[{"$f":"OFFSET(Data!A24,0,定数!$X$1)","v":"    1.757240E+000    7.289819E+000    4.917212E+001    6.998803E+000"}]
[{"$f":"OFFSET(Data!A25,0,定数!$X$1)","v":"    6.799772E-001    1.757381E+000    6.998803E+000    4.957985E+001"}]
[{"$f":"OFFSET(Data!A26,0,定数!$X$1)","v":0}]
[{"$f":"OFFSET(Data!A27,0,定数!$X$1)","v":"***** 近端クロストーク係数 *****"}]
[{"$f":"OFFSET(Data!A28,0,定数!$X$1)","v":"    1.000000E+000    1.423207E-001    3.573652E-002    1.371479E-002"}]
[{"$f":"OFFSET(Data!A29,0,定数!$X$1)","v":"    1.411483E-001    1.000000E+000    1.482511E-001    3.544546E-002"}]
[{"$f":"OFFSET(Data!A30,0,定数!$X$1)","v":"    3.544240E-002    1.482522E-001    1.000000E+000    1.411623E-001"}]
[{"$f":"OFFSET(Data!A31,0,定数!$X$1)","v":"    1.371470E-002    3.573965E-002    1.423327E-001    1.000000E+000"}]
[{"$f":"OFFSET(Data!A32,0,定数!$X$1)","v":0}]
[{"$f":"OFFSET(Data!A33,0,定数!$X$1)","v":"***** 伝搬モード *****"}]
[{"$f":"OFFSET(Data!A34,0,定数!$X$1)","v":"    4.465208E-001    6.388358E-001   -2.933451E-001    5.352961E-001"}]
[{"$f":"OFFSET(Data!A35,0,定数!$X$1)","v":"    5.482941E-001    3.030969E-001    6.434354E-001   -4.619720E-001"}]
[{"$f":"OFFSET(Data!A36,0,定数!$X$1)","v":"    5.482880E-001   -3.030958E-001   -6.433784E-001   -4.620628E-001"}]
[{"$f":"OFFSET(Data!A37,0,定数!$X$1)","v":"    4.465120E-001   -6.388693E-001    2.932639E-001    5.352923E-001"}]
[{"$f":"OFFSET(Data!A38,0,定数!$X$1)","v":0}]
[{"$f":"OFFSET(Data!A39,0,定数!$X$1)","v":"***** 伝搬モードの遅延時間(s/m) *****"}]
[{"$f":"OFFSET(Data!A40,0,定数!$X$1)","v":"    6.848024E-009    6.517415E-009    6.313553E-009    6.366206E-009"}]
[{"$f":"OFFSET(Data!A41,0,定数!$X$1)","v":0}]
[{"$f":"OFFSET(Data!A42,0,定数!$X$1)","v":"***** 伝搬モードの特性インピーダンス(Ω) *****"}]
[{"$f":"OFFSET(Data!A43,0,定数!$X$1)","v":"    6.252701E+001    5.166094E+001    3.912120E+001    4.419472E+001"}]

{"sheet":"定数","index":5,"n_rows":80,"n_cols":25,"rows_kept":80,"cut":false,"hidden":true,"merged":[]}
["T(ns)",{"$f":"波形!F3","v":10},{"$f":"B1*0.000000001","v":1E-8},null,null,null,null,null,null,null,null,null,null,null,2,null,3,null,2,null,1,null,null,{"$f":"X3-1","v":5},{"$f":"OFFSET(Data!A1,0,定数!$X$1)","v":0.15}]
["TW(ns)",{"$f":"波形!G3","v":1},{"$f":"B2*0.000000001","v":1.0000000000000001E-9},null,null,null,null,null,null,null,null,null,null,null,"逆方向近端",null,"v11",null,"電圧源",null,"Microstrip"]
["TW/2",null,{"$f":"C2/2","v":5.0000000000000003E-10},null,null,null,null,null,null,null,null,null,null,null,"順方向遠端",null,"v21",null,"電流源",null,"Strip",null,null,6]
["tr(ns)",{"$f":"波形!H3","v":0.2},{"$f":"B4*0.000000001","v":2.0000000000000003E-10},null,null,null,null,null,null,null,null,null,null,null,null,null,"v11-v21",null,"整合",null,null,null,null,0,2.5000000000000001E-2]
["tr/2",null,{"$f":"C4/2","v":1.0000000000000002E-10},null,null,null,null,null,null,null,null,null,null,null,null,null,"v12",null,null,null,null,null,null,{"$f":"X4+1","v":1},0.05]
["Vin",{"$f":"(1+A13/B13)*B2/B1","v":23.629411796721037},null,null,null,null,null,null,null,null,null,null,null,null,null,null,"v22",null,null,null,null,null,null,2,7.4999999999999997E-2]
["DC",{"$f":"(1+A13/B13)*(2*B2/B1-1)/2","v":-94.517647186884147},null,null,null,null,null,null,null,null,null,null,null,null,null,null,"v12-v22",null,null,null,null,null,null,3,0.1]
["Δω",{"$f":"2*PI()/C1","v":628318530.71795857},null,null,null,null,null,null,null,null,null,null,null,null,null,null,null,null,null,null,null,null,null,4,0.125]
["length",{"$f":"波形!I3","v":0.15},null,null,null,null,null,null,null,null,null,null,null,null,null,null,null,null,null,null,null,null,null,5,0.15]
["Δt(ns)",{"$f":"B1/128","v":7.8125E-2},null,null,null,null,null,null,null,null,null,null,null,null,null,null,null,null,null,null,null,null,null,6,0.17499999999999999]
[null,null,null,null,null,null,null,null,null,null,null,null,null,null,"-1","+1","-2","+2","-3","+3","-4","+4",null,7,0.2]
["R",null,null,9.9999999999999995E-7,null,null,null,null,null,null,null,null,null,null,"係数",null,null,null,null,null,null,null,null,8,0.22500000000000001]
[{"$f":"Temp!A2+$D$12*(2*RAND()-1)","v":10000.00000051672},{"$f":"Temp!B2+$D$12*(2*RAND()-1)","v":42.499999944368689},null,null,null,null,null,null,null,null,null,null,null,null,{"$f":"A38+A50*$A13/A$65","v":74.368818891356284},{"$f":"A38-A50*$A13/A$65","v":-73.47577729135628},{"$f":"B38+B50*$A13/$B$65","v":125.19378651361912},{"$f":"B38-B50*$A13/$B$65","v":-123.91611491361913},{"$f":"C38+C50*$A13/$C$65","v":-77.786744113548423},{"$f":"C38-C50*$A13/$C$65","v":77.20005391354843},{"$f":"D38+D50*$A13/$D$65","v":124.64660598944435},{"$f":"D38-D50*$A13/$D$65","v":-123.57601378944436},null,9,0.25]
[{"$f":"Temp!A4+$D$12*(2*RAND()-1)","v":9999.9999991570403},{"$f":"Temp!B4+$D$12*(2*RAND()-1)","v":42.499999107486545},null,null,null,null,null,null,null,null,null,null,null,null,{"$f":"A39+A51*$A14/A$65","v":86.194835616764891},{"$f":"A39-A51*$A14/A$65","v":-85.098247416764877},{"$f":"B39+B51*$A14/$B$65","v":57.086369424825577},{"$f":"B39-B51*$A14/$B$65","v":-56.480175624825577},{"$f":"C39+C51*$A14/$C$65","v":163.96967187632933},{"$f":"C39-C51*$A14/$C$65","v":-162.68280107632935},{"$f":"D39+D51*$A14/$D$65","v":-101.52584534305109},{"$f":"D39-D51*$A14/$D$65","v":100.60190134305108},null,10,0.27500000000000002]
[{"$f":"Temp!A6+$D$12*(2*RAND()-1)","v":10000.000000207505},{"$f":"Temp!B6+$D$12*(2*RAND()-1)","v":42.499999535725614},null,null,null,null,null,null,null,null,null,null,null,null,{"$f":"A40+A52*$A15/A$65","v":86.191999982734828},{"$f":"A40-A52*$A15/A$65","v":-85.095423982734829},{"$f":"B40+B52*$A15/$B$65","v":-57.082884252962252},{"$f":"B40-B52*$A15/$B$65","v":56.476692652962249},{"$f":"C40+C52*$A15/$C$65","v":-163.95696605406758},{"$f":"C40-C52*$A15/$C$65","v":162.6702092540676},{"$f":"D40+D52*$A15/$D$65","v":-101.54868097676565},{"$f":"D40-D52*$A15/$D$65","v":100.62455537676566},null,11,0.3]
[{"$f":"Temp!A8+$D$12*(2*RAND()-1)","v":10000.000000494063},{"$f":"Temp!B8+$D$12*(2*RAND()-1)","v":42.500000017572795},null,null,null,null,null,null,null,null,null,null,null,null,{"$f":"A41+A53*$A16/A$65","v":74.366423745213226},{"$f":"A41-A53*$A16/A$65","v":-73.473399745213229},{"$f":"B41+B53*$A16/$B$65","v":-125.20132874679321},{"$f":"B41-B53*$A16/$B$65","v":123.92359014679322},{"$f":"C41+C53*$A16/$C$65","v":77.770426944353602},{"$f":"C41-C53*$A16/$C$65","v":-77.183899144353603},{"$f":"D41+D53*$A16/$D$65","v":124.65071095008031},{"$f":"D41-D53*$A16/$D$65","v":-123.58012635008032}]
[null,null,null,null,null,null,null,null,null,null,null,null,null,null,{"$f":"A38-A50*$B13/A$65","v":0.13235103353920902},{"$f":"A38+A50*$B13/A$65","v":0.76069056646079103},{"$f":"B38-B50*$B13/B$65","v":0.10947726018738724},{"$f":"B38+B50*$B13/B$65","v":1.1681943398126127},{"$f":"C38-C50*$B13/C$65","v":3.600184535945683E-2},{"$f":"C38+C50*$B13/C$65","v":-0.62269204535945688},{"$f":"D38-D50*$B13/D$65","v":7.8230336875646511E-3},{"$f":"D38+D50*$B13/D$65","v":1.0627691663124355}]
["C(pF)",null,null,"C(F)",null,null,null,null,null,null,null,null,null,null,{"$f":"A39-A51*$B14/A$65","v":0.18429630616713477},{"$f":"A39+A51*$B14/A$65","v":0.91229189383286524},{"$f":"B39-B51*$B14/B$65","v":6.1767996817131715E-2},{"$f":"B39+B51*$B14/B$65","v":0.54442580318286826},{"$f":"C39-C51*$B14/C$65","v":-5.0701090505826274E-2},{"$f":"C39+C51*$B14/C$65","v":1.3375718905058263},{"$f":"D39-D51*$B14/D$65","v":-3.2450547275912622E-2},{"$f":"D39+D51*$B14/D$65","v":-0.89149345272408742}]
[{"$f":"波形!C6","v":1},{"$f":"波形!L6","v":1},null,{"$f":"A19*0.000000000001","v":9.9999999999999998E-13},9.9999999999999998E-13,null,null,null,null,null,null,null,null,null,{"$f":"A40-A52*$B15/A$65","v":0.18430222805714808},{"$f":"A40+A52*$B15/A$65","v":0.91227377194285197},{"$f":"B40-B52*$B15/B$65","v":-6.1781701716057985E-2},{"$f":"B40+B52*$B15/B$65","v":-0.54440989828394204},{"$f":"C40-C52*$B15/C$65","v":5.0704339933153153E-2},{"$f":"C40+C52*$B15/C$65","v":-1.3374611399331533},{"$f":"D40-D52*$B15/D$65","v":-3.2444677450853554E-2},{"$f":"D40+D52*$B15/D$65","v":-0.89168092254914644}]
[{"$f":"波形!C8","v":1},{"$f":"波形!L8","v":1},null,9.9999999999999998E-13,9.9999999999999998E-13,null,null,null,null,null,null,null,null,null,{"$f":"A41-A53*$B16/A$65","v":0.13235237496846736},{"$f":"A41+A53*$B16/A$65","v":0.76067162503153263},{"$f":"B41-B53*$B16/B$65","v":-0.10947884715839296},{"$f":"B41+B53*$B16/B$65","v":-1.168259752841607},{"$f":"C41-C53*$B16/C$65","v":-3.6014043058383405E-2},{"$f":"C41+C53*$B16/C$65","v":0.62254184305838345},{"$f":"D41-D53*$B16/D$65","v":7.8017705451146613E-3},{"$f":"D41+D53*$B16/D$65","v":1.0627828294548856}]
[{"$f":"波形!C10","v":1},{"$f":"波形!L10","v":1},null,9.9999999999999998E-13,9.9999999999999998E-13]
[{"$f":"波形!C12","v":1},{"$f":"波形!L12","v":1},null,9.9999999999999998E-13,9.9999999999999998E-13,null,null,null,null,null,null,null,null,null,"aCR"]
[null,null,null,null,null,null,null,null,null,null,null,null,null,1,{"$f":"A38*$A25","v":4.4652080002307262E-9},{"$f":"O23","v":4.4652080002307262E-9},{"$f":"B38*$A25","v":6.3883580003300987E-9},{"$f":"Q23","v":6.3883580003300987E-9},{"$f":"C38*$A25","v":-2.9334510001515775E-9},{"$f":"S23","v":-2.9334510001515775E-9},{"$f":"D38*$A25","v":5.3529610002765984E-9},{"$f":"U23","v":5.3529610002765984E-9}]
["CR",null,null,null,null,null,null,null,null,null,null,null,null,{"$f":"N23+1","v":2},{"$f":"A39*$A26","v":5.4829409995378099E-9},5.4829409995378099E-9,{"$f":"B39*$A26","v":3.0309689997445017E-9},3.0309689997445017E-9,{"$f":"C39*$A26","v":6.4343539994576097E-9},6.4343539994576097E-9,{"$f":"D39*$A26","v":-4.619719999610576E-9},-4.619719999610576E-9]
[{"$f":"A13*D19","v":1.000000000051672E-8},4.2499999944368687E-11,null,null,null,null,null,null,null,null,null,null,null,{"$f":"N24+1","v":3},{"$f":"A40*$A27","v":5.4828800001137729E-9},5.4828800001137729E-9,{"$f":"B40*$A27","v":-3.0309580000628941E-9},-3.0309580000628941E-9,{"$f":"C40*$A27","v":-6.4337840001335042E-9},-6.4337840001335042E-9,{"$f":"D40*$A27","v":-4.6206280000958803E-9},-4.6206280000958803E-9]
[9.9999999991570403E-9,4.2499999107486545E-11,null,null,null,null,null,null,null,null,null,null,null,4,{"$f":"A41*$A28","v":4.4651200002206057E-9},4.4651200002206057E-9,{"$f":"B41*$A28","v":-6.3886930003156421E-9},-6.3886930003156421E-9,{"$f":"C41*$A28","v":2.932639000144891E-9},2.932639000144891E-9,{"$f":"D41*$A28","v":5.352923000264469E-9},5.352923000264469E-9]
[1.0000000000207505E-8,4.2499999535725612E-11,null,null,null,null,null,null,null,null,null,null,null,5,{"$f":"A38*$B25","v":1.8977133975159461E-11},1.8977133975159461E-11,{"$f":"B38*$B25","v":2.7150521464460723E-11},2.7150521464460723E-11,{"$f":"C38*$B25","v":-1.2467166733680828E-11},-1.2467166733680828E-11,{"$f":"D38*$B25","v":2.2750084220220778E-11},2.2750084220220778E-11]
[1.0000000000494064E-8,4.2500000017572795E-11,null,null,null,null,null,null,null,null,null,null,null,6,{"$f":"A39*$B26","v":2.330249876064014E-11},2.330249876064014E-11,{"$f":"B39*$B26","v":1.2881617979481939E-11},1.2881617979481939E-11,{"$f":"C39*$B26","v":2.7346003925725247E-11},2.7346003925725247E-11,{"$f":"D39*$B26","v":-1.9633809587683775E-11},-1.9633809587683775E-11]
[null,null,null,null,null,null,null,null,null,null,null,null,null,7,{"$f":"A40*$B27","v":2.3302239745443923E-11},2.3302239745443923E-11,{"$f":"B40*$B27","v":-1.2881571359280384E-11},-1.2881571359280384E-11,{"$f":"C40*$B27","v":-2.7343581701295887E-11},-2.7343581701295887E-11,{"$f":"D40*$B27","v":-1.9637668785476076E-11},-1.9637668785476076E-11]
["V",null,null,"Vcomplex",null,null,null,null,null,null,null,null,null,8,{"$f":"A41*$B28","v":1.8976760007846463E-11},1.8976760007846463E-11,{"$f":"B41*$B28","v":-2.715194526122672E-11},-2.715194526122672E-11,{"$f":"C41*$B28","v":1.2463715755153467E-11},1.2463715755153467E-11,{"$f":"D41*$B28","v":2.2749922759406583E-11},2.2749922759406583E-11]
[1,0,null,{"$f":"COMPLEX(A31,0)","v":"1"},{"$f":"COMPLEX(B31,0)","v":"0"}]
[-1,0,null,{"$f":"COMPLEX(A32,0)","v":"-1"},"0"]
[0,0,null,"0","0"]
[0,0,null,"0","0"]
[]
[]
["aij",null,null,null,null,"complex"]
[{"$f":"VALUE(MID(GE!$A32,A$70,14))","v":0.4465208},{"$f":"VALUE(MID(GE!$A32,B$70,14))","v":0.63883579999999995},{"$f":"VALUE(MID(GE!$A32,C$70,14))","v":-0.29334510000000003},{"$f":"VALUE(MID(GE!$A32,D$70,14))","v":0.53529610000000005},null,{"$f":"COMPLEX(A38,0)","v":"0.4465208"},"0.6388358","-0.2933451","0.5352961"," "]
[{"$f":"VALUE(MID(GE!$A33,A$70,14))","v":0.54829410000000001},{"$f":"VALUE(MID(GE!$A33,B$70,14))","v":0.3030969},{"$f":"VALUE(MID(GE!$A33,C$70,14))","v":0.64343539999999999},{"$f":"VALUE(MID(GE!$A33,D$70,14))","v":-0.46197199999999999},null,"0.5482941","0.3030969","0.6434354","-0.461972"," "]
[{"$f":"VALUE(MID(GE!$A34,A$70,14))","v":0.548288},{"$f":"VALUE(MID(GE!$A34,B$70,14))","v":-0.30309580000000003},{"$f":"VALUE(MID(GE!$A34,C$70,14))","v":-0.64337840000000002},{"$f":"VALUE(MID(GE!$A34,D$70,14))","v":-0.4620628},null,"0.548288","-0.3030958","-0.6433784","-0.4620628"," "]
[{"$f":"VALUE(MID(GE!$A35,A$70,14))","v":0.44651200000000002},{"$f":"VALUE(MID(GE!$A35,B$70,14))","v":-0.63886929999999997},{"$f":"VALUE(MID(GE!$A35,C$70,14))","v":0.29326390000000002},{"$f":"VALUE(MID(GE!$A35,D$70,14))","v":0.53529230000000005},null,"0.446512","-0.6388693","0.2932639","0.5352923"," "]
[]
["transpose"]
[{"$f":"TRANSPOSE(A38:D41)","v":0.4465208},0.54829410000000001,0.548288,0.44651200000000002]
[0.63883579999999995,0.3030969,-0.30309580000000003,-0.63886929999999997]
[-0.29334510000000003,0.64343539999999999,-0.64337840000000002,0.29326390000000002]
[0.53529610000000005,-0.46197199999999999,-0.4620628,0.53529230000000005]
[]
["inverse=bij"]
[{"$f":"MINVERSE(A44:D47)","v":0.46221402717423798},0.64346258351867436,-0.30316347613321804,0.54850645891137995]
[0.53552221583355963,0.29334772351559429,0.63895183629763863,-0.44664895848881137]
[0.53550452354704603,-0.29332972444203081,-0.6389023525199734,-0.44674947859763653]
[0.46219910606637088,-0.64350137434152865,0.30309995907410159,0.54852461746520709]
[]
["Δ",{"$f":"MDETERM(A77:D80)","v":1.0008082363983936E-26}]
[]
["td/m"]
[{"$f":"VALUE(MID(GE!$A38,A$70,14))","v":6.8480239999999997E-9},{"$f":"VALUE(MID(GE!$A38,B$70,14))","v":6.5174149999999997E-9},{"$f":"VALUE(MID(GE!$A38,C$70,14))","v":6.3135530000000001E-9},{"$f":"VALUE(MID(GE!$A38,D$70,14))","v":6.366206E-9}]
[]
["τ"]
[{"$f":"A58*$B$9","v":1.0272035999999998E-9},{"$f":"B58*$B$9","v":9.7761224999999999E-10},{"$f":"C58*$B$9","v":9.4703294999999989E-10},{"$f":"D58*$B$9","v":9.5493090000000001E-10}]
[]
[{"$f":"MID(GE!$A40,13,9)","v":"特性インピーダンス"}]
["Z1","Z2","Z3","Z4"]
[{"$f":"VALUE(MID(GE!$A41,A$70,14))","v":62.527009999999997},{"$f":"VALUE(MID(GE!$A41,B$70,14))","v":51.660939999999997},{"$f":"VALUE(MID(GE!$A41,C$70,14))","v":39.121200000000002},{"$f":"VALUE(MID(GE!$A41,D$70,14))","v":44.194719999999997}]
[]
[]
[]
[{"$f":"MID(GE!$A1,7,7)","v":"キャパシタンス"}]
[4,{"$f":"A70+17","v":21},{"$f":"B70+17","v":38},{"$f":"C70+17","v":55}]
[{"$f":"VALUE(MID(GE!$A2,A$70,14))","v":1.3380410000000001E-10},{"$f":"VALUE(MID(GE!$A2,B$70,14))","v":-1.5629249999999999E-11},{"$f":"VALUE(MID(GE!$A2,C$70,14))","v":-7.4305380000000002E-13},{"$f":"VALUE(MID(GE!$A2,D$70,14))","v":-3.2989890000000001E-13}]
[{"$f":"VALUE(MID(GE!$A3,A$70,14))","v":-1.5629249999999999E-11},{"$f":"VALUE(MID(GE!$A3,B$70,14))","v":1.3688889999999999E-10},{"$f":"VALUE(MID(GE!$A3,C$70,14))","v":-1.6585769999999999E-11},{"$f":"VALUE(MID(GE!$A3,D$70,14))","v":-7.4327510000000004E-13}]
[{"$f":"VALUE(MID(GE!$A4,A$70,14))","v":-7.4305380000000002E-13},{"$f":"VALUE(MID(GE!$A4,B$70,14))","v":-1.6585769999999999E-11},{"$f":"VALUE(MID(GE!$A4,C$70,14))","v":1.368882E-10},{"$f":"VALUE(MID(GE!$A4,D$70,14))","v":-1.5631190000000001E-11}]
[{"$f":"VALUE(MID(GE!$A5,A$70,14))","v":-3.2989890000000001E-13},{"$f":"VALUE(MID(GE!$A5,B$70,14))","v":-7.4327510000000004E-13},{"$f":"VALUE(MID(GE!$A5,C$70,14))","v":-1.5631190000000001E-11},{"$f":"VALUE(MID(GE!$A5,D$70,14))","v":1.3380549999999999E-10}]
[]
[{"$f":"MID(GE!$A7,7,7)","v":"インダクタンス"}]
[{"$f":"VALUE(MID(GE!$A8,A$70,14))","v":3.2465500000000002E-7},{"$f":"VALUE(MID(GE!$A8,B$70,14))","v":5.3828789999999998E-8},{"$f":"VALUE(MID(GE!$A8,C$70,14))","v":1.6661309999999999E-8},{"$f":"VALUE(MID(GE!$A8,D$70,14))","v":7.3244580000000004E-9}]
[{"$f":"VALUE(MID(GE!$A9,A$70,14))","v":5.3828789999999998E-8},{"$f":"VALUE(MID(GE!$A9,B$70,14))","v":3.2195910000000002E-7},{"$f":"VALUE(MID(GE!$A9,C$70,14))","v":5.5600330000000001E-8},{"$f":"VALUE(MID(GE!$A9,D$70,14))","v":1.6662119999999999E-8}]
[{"$f":"VALUE(MID(GE!$A10,A$70,14))","v":1.6661309999999999E-8},{"$f":"VALUE(MID(GE!$A10,B$70,14))","v":5.5600330000000001E-8},{"$f":"VALUE(MID(GE!$A10,C$70,14))","v":3.2196149999999999E-7},{"$f":"VALUE(MID(GE!$A10,D$70,14))","v":5.3832609999999998E-8}]
[{"$f":"VALUE(MID(GE!$A11,A$70,14))","v":7.3244580000000004E-9},{"$f":"VALUE(MID(GE!$A11,B$70,14))","v":1.6662119999999999E-8},{"$f":"VALUE(MID(GE!$A11,C$70,14))","v":5.3832609999999998E-8},{"$f":"VALUE(MID(GE!$A11,D$70,14))","v":3.2465310000000001E-7}]

{"sheet":"計算","index":6,"n_rows":131,"n_cols":45,"rows_kept":131,"cut":false,"hidden":true,"merged":[[0,22,0,25],[0,26,0,29],[0,31,0,34],[0,35,0,38]]}
[null,null,null,"ωTW/2","ωtr/2","sinc","Vin",null,"A11","A12","A21","A22","A31","A32","A41","A42",null,"exp(jωτ1)","exp(jωτ2)","exp(jωτ3)","exp(jωτ4)",null,"Near End",null,null,null,"Far End",null,null,null,null,"Near End",null,null,null,"Far End",null,null,null,null,{"$f":"定数!O1","v":2},null,{"$f":"定数!O1-1","v":1}]
["n","ω",null,null,null,null,null,null,null,null,null,null,null,null,null,null,null,null,null,null,null,null,"mode1","mode2","mode3","mode4","mode1","mode2","mode3","mode4",null,"V11","V21","V31","V41","V12","V22","V32","V42",null,{"$f":"IF($AO$1=1,\"v11-v12\",\"v21-v22\")","v":"v21-v22"},null,{"$f":"IF($AQ$1=0,AH2,AL2)","v":"V32"},{"$f":"IF($AQ$1=0,AI2,AM2)","v":"V42"}]
[]
[0,{"$f":"A4*定数!$B$8","v":0},null,null,null,{"$f":"定数!$B$6","v":23.629411796721037},{"$f":"COMPLEX(定数!B7,0)","v":"-94.5176471868841"}," ",{"$f":"IMSUB(掃き出し!LZ4,IMPRODUCT(P4,掃き出し!LY4))","v":"0.0446078952401397"},{"$f":"IMSUB(掃き出し!MB4,IMPRODUCT(P4,掃き出し!MA4))","v":"-0.0152846239421769"},{"$f":"IMSUB(掃き出し!MD4,IMPRODUCT(P4,掃き出し!MC4))","v":"-0.151644559916489"},{"$f":"IMSUB(掃き出し!MF4,IMPRODUCT(P4,掃き出し!ME4))","v":"0.0115986136120776"},{"$f":"IMSUB(掃き出し!MH4,IMPRODUCT(P4,掃き出し!MG4))","v":"0.360884129880819"},{"$f":"IMSUB(掃き出し!MJ4,IMPRODUCT(P4,掃き出し!MI4))","v":"0.0159619901148177"},{"$f":"IMSUB(掃き出し!ML4,IMPRODUCT(P4,掃き出し!MK4))","v":"-0.406438067658524"},{"$f":"IMDIV(掃き出し!MN4,掃き出し!MM4)","v":"0.00837590416815734"}," ",{"$f":"IMEXP(COMPLEX(0,計算!$B4*定数!A$61))","v":"1"},{"$f":"IMEXP(COMPLEX(0,計算!$B4*定数!B$61))","v":"1"},{"$f":"IMEXP(COMPLEX(0,計算!$B4*定数!C$61))","v":"1"},{"$f":"IMEXP(COMPLEX(0,計算!$B4*定数!D$61))","v":"1"}," ",{"$f":"IMSUM(I4,J4)","v":"0.0293232712979628"},{"$f":"IMSUM(K4,L4)","v":"-0.140045946304411"},{"$f":"IMSUM(M4,N4)","v":"0.376846119995637"},{"$f":"IMSUM(O4,P4)","v":"-0.398062163490367"},{"$f":"IMSUM(IMDIV(I4,R4),IMPRODUCT(J4,R4))","v":"0.0293232712979628"},{"$f":"IMSUM(IMDIV(K4,S4),IMPRODUCT(L4,S4))","v":"-0.140045946304411"},{"$f":"IMSUM(IMDIV(M4,T4),IMPRODUCT(N4,T4))","v":"0.376846119995637"},{"$f":"IMSUM(IMDIV(O4,U4),IMPRODUCT(P4,U4))","v":"-0.398062163490367"}," ",{"$f":"IMSUM(IMPRODUCT(定数!$F$38,計算!W4),IMPRODUCT(定数!$G$38,計算!X4),IMPRODUCT(定数!$H$38,計算!Y4),IMPRODUCT(定数!$I$38,計算!Z4))","v":"-0.40000000001424"},{"$f":"IMSUM(IMPRODUCT(定数!$F$39,計算!W4),IMPRODUCT(定数!$G$39,計算!X4),IMPRODUCT(定数!$H$39,計算!Y4),IMPRODUCT(定数!$I$39,計算!Z4))","v":"0.399999992212752"},{"$f":"IMSUM(IMPRODUCT(定数!$F$40,計算!W4),IMPRODUCT(定数!$G$40,計算!X4),IMPRODUCT(定数!$H$40,計算!Y4),IMPRODUCT(定数!$I$40,計算!Z4))","v":"1.27259036641902E-11"},{"$f":"IMSUM(IMPRODUCT(定数!$F$41,計算!W4),IMPRODUCT(定数!$G$41,計算!X4),IMPRODUCT(定数!$H$41,計算!Y4),IMPRODUCT(定数!$I$41,計算!Z4))","v":"9.18556897211431E-12"},{"$f":"IMSUM(IMPRODUCT(定数!$F$38,計算!AA4),IMPRODUCT(定数!$G$38,計算!AB4),IMPRODUCT(定数!$H$38,計算!AC4),IMPRODUCT(定数!$I$38,計算!AD4))","v":"-0.40000000001424"},{"$f":"IMSUM(IMPRODUCT(定数!$F$39,計算!AA4),IMPRODUCT(定数!$G$39,計算!AB4),IMPRODUCT(定数!$H$39,計算!AC4),IMPRODUCT(定数!$I$39,計算!AD4))","v":"0.399999992212752"},{"$f":"IMSUM(IMPRODUCT(定数!$F$40,計算!AA4),IMPRODUCT(定数!$G$40,計算!AB4),IMPRODUCT(定数!$H$40,計算!AC4),IMPRODUCT(定数!$I$40,計算!AD4))","v":"1.27259036641902E-11"},{"$f":"IMSUM(IMPRODUCT(定数!$F$41,計算!AA4),IMPRODUCT(定数!$G$41,計算!AB4),IMPRODUCT(定数!$H$41,計算!AC4),IMPRODUCT(定数!$I$41,計算!AD4))","v":"9.18556897211431E-12"}," ",{"$f":"IF($AO$1=1,IMSUB(AF4,AG4),IMSUB(AJ4,AK4))","v":"-0.799999992226992"}," ",{"$f":"IF($AQ$1=0,AH4,AL4)","v":"1.27259036641902E-11"},{"$f":"IF($AQ$1=0,AI4,AM4)","v":"9.18556897211431E-12"}," "]
[{"$f":"A4+1","v":1},{"$f":"A5*定数!$B$8","v":628318530.71795857},null,{"$f":"B5*定数!$C$3","v":0.31415926535897931},{"$f":"B5*定数!$C$5","v":6.2831853071795868E-2},{"$f":"定数!$B$6*SIN(D5)*SIN(E5)/(D5*E5)","v":23.227347126885324},{"$f":"IMPRODUCT(COMPLEX(F5,0),IMEXP(COMPLEX(0,-(D5+E5))))","v":"21.596241188142-8.55055677113639i"}," ",{"$f":"IMSUB(掃き出し!LZ5,IMPRODUCT(P5,掃き出し!LY5))","v":"-0.0132816713783552+0.00188223264070138i"},{"$f":"IMSUB(掃き出し!MB5,IMPRODUCT(P5,掃き出し!MA5))","v":"0.00041434216334925-0.00417484587288374i"},{"$f":"IMSUB(掃き出し!MD5,IMPRODUCT(P5,掃き出し!MC5))","v":"0.0363965153618129-0.0128846252663378i"},{"$f":"IMSUB(掃き出し!MF5,IMPRODUCT(P5,掃き出し!ME5))","v":"-0.00058208481355456+0.00302350217787891i"},{"$f":"IMSUB(掃き出し!MH5,IMPRODUCT(P5,掃き出し!MG5))","v":"-0.0765100458139231+0.0366879389501852i"},{"$f":"IMSUB(掃き出し!MJ5,IMPRODUCT(P5,掃き出し!MI5))","v":"0.00135547137999703+0.00367527133850061i"},{"$f":"IMSUB(掃き出し!ML5,IMPRODUCT(P5,掃き出し!MK5))","v":"0.0924606535417434-0.0379401876490303i"},{"$f":"IMDIV(掃き出し!MN5,掃き出し!MM5)","v":"-0.0013255559454471+0.00212847145783657i"}," ",{"$f":"IMEXP(COMPLEX(0,計算!$B5*定数!A$61))","v":"0.798852572792623+0.601526863026587i"},{"$f":"IMEXP(COMPLEX(0,計算!$B5*定数!B$61))","v":"0.817204845280224+0.576347326575326i"},{"$f":"IMEXP(COMPLEX(0,計算!$B5*定数!C$61))","v":"0.828127001775084+0.560540514977294i"},{"$f":"IMEXP(COMPLEX(0,計算!$B5*定数!D$61))","v":"0.825335174474081+0.564643117177424i"}," ","-0.0128673292150059-0.00229261323218236i","0.0358144305482583-0.00986112308845889i","-0.0751545744339261+0.0403632102886858i","0.0911350975962963-0.0358117161911937i","-0.00663560361099459+0.00640706008276384i","0.0200991194516949-0.0293710749193642i","-0.0437325946918216+0.0770726414252399i","0.0525925090961308-0.0825124067039773i"," ",{"$f":"IMSUM(IMPRODUCT(定数!$F$38,計算!W5),IMPRODUCT(定数!$G$38,計算!X5),IMPRODUCT(定数!$H$38,計算!Y5),IMPRODUCT(定数!$I$38,計算!Z5))","v":"0.0879644987250875-0.0383335599215472i"},{"$f":"IMSUM(IMPRODUCT(定数!$F$39,計算!W5),IMPRODUCT(定数!$G$39,計算!X5),IMPRODUCT(定数!$H$39,計算!Y5),IMPRODUCT(定数!$I$39,計算!Z5))","v":"-0.0866588147863822+0.038269226362245i"},{"$f":"IMSUM(IMPRODUCT(定数!$F$40,計算!W5),IMPRODUCT(定数!$G$40,計算!X5),IMPRODUCT(定数!$H$40,計算!Y5),IMPRODUCT(定数!$I$40,計算!Z5))","v":"-0.0116675142008436-0.00768970313074178i"},{"$f":"IMSUM(IMPRODUCT(定数!$F$41,計算!W5),IMPRODUCT(定数!$G$41,計算!X5),IMPRODUCT(定数!$H$41,計算!Y5),IMPRODUCT(定数!$I$41,計算!Z5))","v":"-0.00188236467500271-0.00205637397594184i"},{"$f":"IMSUM(IMPRODUCT(定数!$F$38,計算!AA5),IMPRODUCT(定数!$G$38,計算!AB5),IMPRODUCT(定数!$H$38,計算!AC5),IMPRODUCT(定数!$I$38,計算!AD5))","v":"0.0508584093928601-0.0826798597655722i"},{"$f":"IMSUM(IMPRODUCT(定数!$F$39,計算!AA5),IMPRODUCT(定数!$G$39,計算!AB5),IMPRODUCT(定数!$H$39,計算!AC5),IMPRODUCT(定数!$I$39,計算!AD5))","v":"-0.0499816476820364+0.0823203588983535i"},{"$f":"IMSUM(IMPRODUCT(定数!$F$40,計算!AA5),IMPRODUCT(定数!$G$40,計算!AB5),IMPRODUCT(定数!$H$40,計算!AC5),IMPRODUCT(定数!$I$40,計算!AD5))","v":"-0.00589461573348303+0.000954204560636947i"},{"$f":"IMSUM(IMPRODUCT(定数!$F$41,計算!AA5),IMPRODUCT(定数!$G$41,計算!AB5),IMPRODUCT(定数!$H$41,計算!AC5),IMPRODUCT(定数!$I$41,計算!AD5))","v":"-0.00047641313387722+0.0000594747302168491i"}," ",{"$f":"IF($AO$1=1,IMSUB(AF5,AG5),IMSUB(AJ5,AK5))","v":"0.100840057074896-0.165000218663926i"}," ","-0.00589461573348303+0.000954204560636947i","-0.00047641313387722+0.0000594747302168491i"," "]
[2,{"$f":"A6*定数!$B$8","v":1256637061.4359171},null,{"$f":"B6*定数!$C$3","v":0.62831853071795862},{"$f":"B6*定数!$C$5","v":0.12566370614359174},{"$f":"定数!$B$6*SIN(D6)*SIN(E6)/(D6*E6)","v":22.046929246466313},"16.0715197516535-15.0921616102831i"," ",{"$f":"IMSUB(掃き出し!LZ6,IMPRODUCT(P6,掃き出し!LY6))","v":"-0.0141472366576012+0.0113408273717954i"},{"$f":"IMSUB(掃き出し!MB6,IMPRODUCT(P6,掃き出し!MA6))","v":"-0.00510235036332195+0.00014741720612961i"},{"$f":"IMSUB(掃き出し!MD6,IMPRODUCT(P6,掃き出し!MC6))","v":"0.0293713663548281-0.0272520329014386i"},{"$f":"IMSUB(掃き出し!MF6,IMPRODUCT(P6,掃き出し!ME6))","v":"0.00332130403679612+0.00086589068283282i"},{"$f":"IMSUB(掃き出し!MH6,IMPRODUCT(P6,掃き出し!MG6))","v":"-0.052830030205363+0.0553254312103845i"},{"$f":"IMSUB(掃き出し!MJ6,IMPRODUCT(P6,掃き出し!MI6))","v":"0.00328449496944885-0.00218919706018424i"},{"$f":"IMSUB(掃き出し!ML6,IMPRODUCT(P6,掃き出し!MK6))","v":"0.0691145409830124-0.0677135958925828i"},{"$f":"IMDIV(掃き出し!MN6,掃き出し!MM6)","v":"0.00223837873918174+0.00250728211211555i"}," ",{"$f":"IMEXP(COMPLEX(0,計算!$B6*定数!A$61))","v":"0.27633086611479+0.961062564265329i"},{"$f":"IMEXP(COMPLEX(0,計算!$B6*定数!B$61))","v":"0.335647518298944+0.941987655683322i"},{"$f":"IMEXP(COMPLEX(0,計算!$B6*定数!C$61))","v":"0.371588662137979+0.928397472083217i"},{"$f":"IMEXP(COMPLEX(0,計算!$B6*定数!D$61))","v":"0.362356300448321+0.932039651262437i"}," ","-0.0192495870209232+0.011488244577925i","0.0326926703916242-0.0263861422186058i","-0.0495455352359142+0.0531362341502003i","0.0713529197221941-0.0652063137804672i","0.00543831242284465+0.0118672581898249i","-0.0155135232363165-0.0333952802865253i","0.0349858763409785+0.0718414054783686i","-0.039593462630121-0.0859591535628727i"," ",{"$f":"IMSUM(IMPRODUCT(定数!$F$38,計算!W6),IMPRODUCT(定数!$G$38,計算!X6),IMPRODUCT(定数!$H$38,計算!Y6),IMPRODUCT(定数!$I$38,計算!Z6))","v":"0.0650187868867538-0.0622186114960804i"},{"$f":"IMSUM(IMPRODUCT(定数!$F$39,計算!W6),IMPRODUCT(定数!$G$39,計算!X6),IMPRODUCT(定数!$H$39,計算!Y6),IMPRODUCT(定数!$I$39,計算!Z6))","v":"-0.0654877902552216+0.0626146040767325i"},{"$f":"IMSUM(IMPRODUCT(定数!$F$40,計算!W6),IMPRODUCT(定数!$G$40,計算!X6),IMPRODUCT(定数!$H$40,計算!Y6),IMPRODUCT(定数!$I$40,計算!Z6))","v":"-0.0215563313427997+0.0102391021413035i"},{"$f":"IMSUM(IMPRODUCT(定数!$F$41,計算!W6),IMPRODUCT(定数!$G$41,計算!X6),IMPRODUCT(定数!$H$41,計算!Y6),IMPRODUCT(定数!$I$41,計算!Z6))","v":"-0.00581676342917716+0.00266543685201245i"},{"$f":"IMSUM(IMPRODUCT(定数!$F$38,計算!AA6),IMPRODUCT(定数!$G$38,計算!AB6),IMPRODUCT(定数!$H$38,計算!AC6),IMPRODUCT(定数!$I$38,計算!AD6))","v":"-0.0389394359390238-0.0831230469130389i"},{"$f":"IMSUM(IMPRODUCT(定数!$F$39,計算!AA6),IMPRODUCT(定数!$G$39,計算!AB6),IMPRODUCT(定数!$H$39,計算!AC6),IMPRODUCT(定数!$I$39,計算!AD6))","v":"0.0390819162703672+0.0823207672794645i"},{"$f":"IMSUM(IMPRODUCT(定数!$F$40,計算!AA6),IMPRODUCT(定数!$G$40,計算!AB6),IMPRODUCT(定数!$H$40,計算!AC6),IMPRODUCT(定数!$I$40,計算!AD6))","v":"0.00346935423953909+0.0101259631235182i"},{"$f":"IMSUM(IMPRODUCT(定数!$F$41,計算!AA6),IMPRODUCT(定数!$G$41,計算!AB6),IMPRODUCT(定数!$H$41,計算!AC6),IMPRODUCT(定数!$I$41,計算!AD6))","v":"0.00140540435150007+0.0016893102641557i"}," ","-0.078021352209391-0.165443814192503i"," ","0.00346935423953909+0.0101259631235182i","0.00140540435150007+0.0016893102641557i"," "]
[3,{"$f":"A7*定数!$B$8","v":1884955592.1538758},null,{"$f":"B7*定数!$C$3","v":0.94247779607693793},{"$f":"B7*定数!$C$5","v":0.1884955592153876},{"$f":"定数!$B$6*SIN(D7)*SIN(E7)/(D7*E7)","v":20.163438106926677},"8.58517439268337-18.2444242698715i"," ",{"$f":"IMSUB(掃き出し!LZ7,IMPRODUCT(P7,掃き出し!LY7))","v":"-0.00106024168236914+0.0157821773257548i"},{"$f":"IMSUB(掃き出し!MB7,IMPRODUCT(P7,掃き出し!MA7))","v":"0.00174118288887493+0.00426840393339904i"},{"$f":"IMSUB(掃き出し!MD7,IMPRODUCT(P7,掃き出し!MC7))","v":"0.0117469113243953-0.0359615332354829i"},{"$f":"IMSUB(掃き出し!MF7,IMPRODUCT(P7,掃き出し!ME7))","v":"0.00065325229813574-0.00335649329660127i"},{"$f":"IMSUB(掃き出し!MH7,IMPRODUCT(P7,掃き出し!MG7))","v":"-0.0296946479518435+0.0658950553469559i"},{"$f":"IMSUB(掃き出し!MJ7,IMPRODUCT(P7,掃き出し!MI7))","v":"-0.00294384695134329-0.00311670631542472i"},{"$f":"IMSUB(掃き出し!ML7,IMPRODUCT(P7,掃き出し!MK7))","v":"0.0337115512204823-0.0854926508692826i"},{"$f":"IMDIV(掃き出し!MN7,掃き出し!MM7)","v":"0.00340556118013486-0.00238263911590217i"}," ",{"$f":"IMEXP(COMPLEX(0,計算!$B7*定数!A$61))","v":"-0.357357326117+0.933967741129483i"},{"$f":"IMEXP(COMPLEX(0,計算!$B7*定数!B$61))","v":"-0.268619288759854+0.963246426261811i"},{"$f":"IMEXP(COMPLEX(0,計算!$B7*定数!C$61))","v":"-0.212681792435201+0.977121515046389i"},{"$f":"IMEXP(COMPLEX(0,計算!$B7*定数!D$61))","v":"-0.227204373569476+0.973847099205467i"}," ","0.00068094120650579+0.0200505812591538i","0.012400163622531-0.0393180265320842i","-0.0326384949031868+0.0627783490315312i","0.0371171124006172-0.0878752899851848i","0.0105101535983355-0.00454878192711339i","-0.0347376113320415-0.00012434708872208i","0.0743744907099625+0.0127869714041645i","-0.0893696141326518-0.00954775027602214i"," ",{"$f":"IMSUM(IMPRODUCT(定数!$F$38,計算!W7),IMPRODUCT(定数!$G$38,計算!X7),IMPRODUCT(定数!$H$38,計算!Y7),IMPRODUCT(定数!$I$38,計算!Z7))","v":"0.0376687109227492-0.0816197824396707i"},{"$f":"IMSUM(IMPRODUCT(定数!$F$39,計算!W7),IMPRODUCT(定数!$G$39,計算!X7),IMPRODUCT(定数!$H$39,計算!Y7),IMPRODUCT(定数!$I$39,計算!Z7))","v":"-0.034016022473912+0.0800661790354508i"},{"$f":"IMSUM(IMPRODUCT(定数!$F$40,計算!W7),IMPRODUCT(定数!$G$40,計算!X7),IMPRODUCT(定数!$H$40,計算!Y7),IMPRODUCT(定数!$I$40,計算!Z7))","v":"0.000463380124407317+0.0231242905904005i"},{"$f":"IMSUM(IMPRODUCT(定数!$F$41,計算!W7),IMPRODUCT(定数!$G$41,計算!X7),IMPRODUCT(定数!$H$41,計算!Y7),IMPRODUCT(定数!$I$41,計算!Z7))","v":"0.0026787767274337+0.00544356261033298i"},{"$f":"IMSUM(IMPRODUCT(定数!$F$38,計算!AA7),IMPRODUCT(定数!$G$38,計算!AB7),IMPRODUCT(定数!$H$38,計算!AC7),IMPRODUCT(定数!$I$38,計算!AD7))","v":"-0.0871552258510186-0.010972432008802i"},{"$f":"IMSUM(IMPRODUCT(定数!$F$39,計算!AA7),IMPRODUCT(定数!$G$39,計算!AB7),IMPRODUCT(定数!$H$39,計算!AC7),IMPRODUCT(定数!$I$39,計算!AD7))","v":"0.0843752324597649+0.0101066238408031i"},{"$f":"IMSUM(IMPRODUCT(定数!$F$40,計算!AA7),IMPRODUCT(定数!$G$40,計算!AB7),IMPRODUCT(定数!$H$40,計算!AC7),IMPRODUCT(定数!$I$40,計算!AD7))","v":"0.00973484850016056-0.00627155444153681i"},{"$f":"IMSUM(IMPRODUCT(定数!$F$41,計算!AA7),IMPRODUCT(定数!$G$41,計算!AB7),IMPRODUCT(定数!$H$41,計算!AC7),IMPRODUCT(定数!$I$41,計算!AD7))","v":"0.000858190045811072-0.00331252428021411i"}," ","-0.171530458310784-0.0210790558496051i"," ","0.00973484850016056-0.00627155444153681i","0.000858190045811072-0.00331252428021411i"," "]
[4,{"$f":"A8*定数!$B$8","v":2513274122.8718343},null,{"$f":"B8*定数!$C$3","v":1.2566370614359172},{"$f":"B8*定数!$C$5","v":0.25132741228718347},{"$f":"定数!$B$6*SIN(D8)*SIN(E8)/(D8*E8)","v":17.695695562393187},"1.11112191779525-17.660777149398i"," ",{"$f":"IMSUB(掃き出し!LZ8,IMPRODUCT(P8,掃き出し!LY8))","v":"0.00356175632776636+0.0086181705673494i"},{"$f":"IMSUB(掃き出し!MB8,IMPRODUCT(P8,掃き出し!MA8))","v":"0.0028164021828181-0.00151546605222718i"},{"$f":"IMSUB(掃き出し!MD8,IMPRODUCT(P8,掃き出し!MC8))","v":"-0.00467700487489793-0.0300194497099857i"},{"$f":"IMSUB(掃き出し!MF8,IMPRODUCT(P8,掃き出し!ME8))","v":"-0.00282155015228039-0.000517784337676889i"},{"$f":"IMSUB(掃き出し!MH8,IMPRODUCT(P8,掃き出し!MG8))","v":"0.00035526617837621+0.0685137455770017i"},{"$f":"IMSUB(掃き出し!MJ8,IMPRODUCT(P8,掃き出し!MI8))","v":"-0.00264985539562229+0.00383492641256146i"},{"$f":"IMSUB(掃き出し!ML8,IMPRODUCT(P8,掃き出し!MK8))","v":"-0.00701180338881415-0.0802190014024253i"},{"$f":"IMDIV(掃き出し!MN8,掃き出し!MM8)","v":"-0.00259274073508235-0.00384040225668872i"}," ",{"$f":"IMEXP(COMPLEX(0,計算!$B8*定数!A$61))","v":"-0.847282504864505+0.531142501547871i"},{"$f":"IMEXP(COMPLEX(0,計算!$B8*定数!B$61))","v":"-0.774681486919514+0.632351637796702i"},{"$f":"IMEXP(COMPLEX(0,計算!$B8*定数!C$61))","v":"-0.723843732341014+0.689963949167368i"},{"$f":"IMEXP(COMPLEX(0,計算!$B8*定数!D$61))","v":"-0.737395823050806+0.675460879805208i"}," ","0.00637815851058446+0.00710270451512222i","-0.00749855502717832-0.0305372340476626i","-0.00229458921724608+0.0723486719895632i","-0.0096045441238965-0.084059403659114i","-0.0000216970153718501-0.00641388653797208i","-0.0128464346577074+0.0248299297111572i","0.0462869775213801-0.0544425583117652i","-0.044508405058+0.0649699570943762i"," ",{"$f":"IMSUM(IMPRODUCT(定数!$F$38,計算!W8),IMPRODUCT(定数!$G$38,計算!X8),IMPRODUCT(定数!$H$38,計算!Y8),IMPRODUCT(定数!$I$38,計算!Z8))","v":"-0.00641053346736624-0.0825565724070649i"},{"$f":"IMSUM(IMPRODUCT(定数!$F$39,計算!W8),IMPRODUCT(定数!$G$39,計算!X8),IMPRODUCT(定数!$H$39,計算!Y8),IMPRODUCT(定数!$I$39,計算!Z8))","v":"0.00418492842417138+0.0800234175335455i"},{"$f":"IMSUM(IMPRODUCT(定数!$F$40,計算!W8),IMPRODUCT(定数!$G$40,計算!X8),IMPRODUCT(定数!$H$40,計算!Y8),IMPRODUCT(定数!$I$40,計算!Z8))","v":"0.0116840399981182+0.00544318563094136i"},{"$f":"IMSUM(IMPRODUCT(定数!$F$41,計算!W8),IMPRODUCT(定数!$G$41,計算!X8),IMPRODUCT(定数!$H$41,計算!Y8),IMPRODUCT(定数!$I$41,計算!Z8))","v":"0.00182436221682341-0.00109835367541285i"},{"$f":"IMSUM(IMPRODUCT(定数!$F$38,計算!AA8),IMPRODUCT(定数!$G$38,計算!AB8),IMPRODUCT(定数!$H$38,計算!AC8),IMPRODUCT(定数!$I$38,計算!AD8))","v":"-0.0456196842248404+0.0637469366249339i"},{"$f":"IMSUM(IMPRODUCT(定数!$F$39,計算!AA8),IMPRODUCT(定数!$G$39,計算!AB8),IMPRODUCT(定数!$H$39,計算!AC8),IMPRODUCT(定数!$I$39,計算!AD8))","v":"0.0464387059313949-0.0610353917273271i"},{"$f":"IMSUM(IMPRODUCT(定数!$F$40,計算!AA8),IMPRODUCT(定数!$G$40,計算!AB8),IMPRODUCT(定数!$H$40,計算!AC8),IMPRODUCT(定数!$I$40,計算!AD8))","v":"-0.00533255909734655-0.0060355386642557i"},{"$f":"IMSUM(IMPRODUCT(定数!$F$41,計算!AA8),IMPRODUCT(定数!$G$41,計算!AB8),IMPRODUCT(定数!$H$41,計算!AC8),IMPRODUCT(定数!$I$41,計算!AD8))","v":"-0.00205320222615866+0.0000849236680051033i"}," ","-0.0920583901562353+0.124782328352261i"," ","-0.00533255909734655-0.0060355386642557i","-0.00205320222615866+0.0000849236680051033i"," "]
[5,{"$f":"A9*定数!$B$8","v":3141592653.5897927},null,{"$f":"B9*定数!$C$3","v":1.5707963267948966},{"$f":"B9*定数!$C$5","v":0.31415926535897931},{"$f":"定数!$B$6*SIN(D9)*SIN(E9)/(D9*E9)","v":14.796722372103819},"-4.57243867402811-14.0725192317996i"," ",{"$f":"IMSUB(掃き出し!LZ9,IMPRODUCT(P9,掃き出し!LY9))","v":"0.00301586241199141+0.00605791384371902i"},{"$f":"IMSUB(掃き出し!MB9,IMPRODUCT(P9,掃き出し!MA9))","v":"-0.00091340764775653-0.00225688853866261i"},{"$f":"IMSUB(掃き出し!MD9,IMPRODUCT(P9,掃き出し!MC9))","v":"-0.0113386864368722-0.0201651162573427i"},{"$f":"IMSUB(掃き出し!MF9,IMPRODUCT(P9,掃き出し!ME9))","v":"-0.00069052471505454+0.00227904185047106i"},{"$f":"IMSUB(掃き出し!MH9,IMPRODUCT(P9,掃き出し!MG9))","v":"0.0268999934340967+0.0491757273139387i"},{"$f":"IMSUB(掃き出し!MJ9,IMPRODUCT(P9,掃き出し!MI9))","v":"0.00405846931540793+0.00158265515218171i"},{"$f":"IMSUB(掃き出し!ML9,IMPRODUCT(P9,掃き出し!MK9))","v":"-0.0309078123229699-0.0544976661501051i"},{"$f":"IMDIV(掃き出し!MN9,掃き出し!MM9)","v":"-0.00367169431611703+0.00248567976967137i"}," ",{"$f":"IMEXP(COMPLEX(0,計算!$B9*定数!A$61))","v":"-0.996350291669373-0.0853586333674312i"},{"$f":"IMEXP(COMPLEX(0,計算!$B9*定数!B$61))","v":"-0.997527640559173+0.0702752183948877i"},{"$f":"IMEXP(COMPLEX(0,計算!$B9*定数!C$61))","v":"-0.986187287199293+0.165634038067355i"},{"$f":"IMEXP(COMPLEX(0,計算!$B9*定数!D$61))","v":"-0.989993046978713+0.141116146963427i"}," ","0.00210245476423488+0.00380102530505641i","-0.0120292111519267-0.0178860744068716i","0.0309584627495046+0.0507583824661204i","-0.0345795066390869-0.0520119863804337i","-0.00280452158564744-0.00345175554890398i","0.0104222025054536+0.0185901554924573i","-0.0226478096686115-0.0538406053822788i","0.0261922009233674+0.0553349609075492i"," ",{"$f":"IMSUM(IMPRODUCT(定数!$F$38,計算!W9),IMPRODUCT(定数!$G$38,計算!X9),IMPRODUCT(定数!$H$38,計算!Y9),IMPRODUCT(定数!$I$38,計算!Z9))","v":"-0.034337689341247-0.0524605640356009i"},{"$f":"IMSUM(IMPRODUCT(定数!$F$39,計算!W9),IMPRODUCT(定数!$G$39,計算!X9),IMPRODUCT(定数!$H$39,計算!Y9),IMPRODUCT(定数!$I$39,計算!Z9))","v":"0.0334012816368374+0.0533506875404039i"},{"$f":"IMSUM(IMPRODUCT(定数!$F$40,計算!W9),IMPRODUCT(定数!$G$40,計算!X9),IMPRODUCT(定数!$H$40,計算!Y9),IMPRODUCT(定数!$I$40,計算!Z9))","v":"0.000858651525274153-0.00111879224346646i"},{"$f":"IMSUM(IMPRODUCT(定数!$F$41,計算!W9),IMPRODUCT(定数!$G$41,計算!X9),IMPRODUCT(定数!$H$41,計算!Y9),IMPRODUCT(定数!$I$41,計算!Z9))","v":"-0.000807279127906017+0.000168052629632452i"},{"$f":"IMSUM(IMPRODUCT(定数!$F$38,計算!AA9),IMPRODUCT(定数!$G$38,計算!AB9),IMPRODUCT(定数!$H$38,計算!AC9),IMPRODUCT(定数!$I$38,計算!AD9))","v":"0.0260700058500077+0.0557492427444361i"},{"$f":"IMSUM(IMPRODUCT(定数!$F$39,計算!AA9),IMPRODUCT(定数!$G$39,計算!AB9),IMPRODUCT(定数!$H$39,計算!AC9),IMPRODUCT(定数!$I$39,計算!AD9))","v":"-0.0250512312863747-0.0564641127225955i"},{"$f":"IMSUM(IMPRODUCT(定数!$F$40,計算!AA9),IMPRODUCT(定数!$G$40,計算!AB9),IMPRODUCT(定数!$H$40,計算!AC9),IMPRODUCT(定数!$I$40,計算!AD9))","v":"-0.00222794148602182+0.00154450137354099i"},{"$f":"IMSUM(IMPRODUCT(定数!$F$41,計算!AA9),IMPRODUCT(定数!$G$41,計算!AB9),IMPRODUCT(定数!$H$41,計算!AC9),IMPRODUCT(定数!$I$41,計算!AD9))","v":"-0.00053197927691122+0.000412942681834391i"}," ","0.0511212371363824+0.112213355467032i"," ","-0.00222794148602182+0.00154450137354099i","-0.00053197927691122+0.000412942681834391i"," "]
[6,{"$f":"A10*定数!$B$8","v":3769911184.3077517},null,{"$f":"B10*定数!$C$3","v":1.8849555921538759},{"$f":"B10*定数!$C$5","v":0.37699111843077521},{"$f":"定数!$B$6*SIN(D10)*SIN(E10)/(D10*E10)","v":11.641844096793177},"-7.42079071221014-8.97019504691032i"," ",{"$f":"IMSUB(掃き出し!LZ10,IMPRODUCT(P10,掃き出し!LY10))","v":"0.00419811071892568+0.00557311579354442i"},{"$f":"IMSUB(掃き出し!MB10,IMPRODUCT(P10,掃き出し!MA10))","v":"-0.00214726721129297+0.00061516595038001i"},{"$f":"IMSUB(掃き出し!MD10,IMPRODUCT(P10,掃き出し!MC10))","v":"-0.0131147676167364-0.0125558624496733i"},{"$f":"IMSUB(掃き出し!MF10,IMPRODUCT(P10,掃き出し!ME10))","v":"0.00191588289637633+0.00085790478300991i"},{"$f":"IMSUB(掃き出し!MH10,IMPRODUCT(P10,掃き出し!MG10))","v":"0.0311025695962962+0.024705871994639i"},{"$f":"IMSUB(掃き出し!MJ10,IMPRODUCT(P10,掃き出し!MI10))","v":"0.000913822114917116-0.00338865692626207i"},{"$f":"IMSUB(掃き出し!ML10,IMPRODUCT(P10,掃き出し!MK10))","v":"-0.0351184838875668-0.0305231814158639i"},{"$f":"IMDIV(掃き出し!MN10,掃き出し!MM10)","v":"0.00199600330711946+0.00336281998382205i"}," ",{"$f":"IMEXP(COMPLEX(0,計算!$B10*定数!A$61))","v":"-0.744591482941009-0.66752042929914i"},{"$f":"IMEXP(COMPLEX(0,計算!$B10*定数!B$61))","v":"-0.855687355412295-0.517493139845846i"},{"$f":"IMEXP(COMPLEX(0,計算!$B10*定数!C$61))","v":"-0.909532910333101-0.415631910494129i"},{"$f":"IMEXP(COMPLEX(0,計算!$B10*定数!D$61))","v":"-0.8967563452618-0.442524640254868i"}," ","0.00205084350763271+0.00618828174392443i","-0.0111988847203601-0.0116979576666634i","0.0320163917112133+0.0213172150683769i","-0.0331224805804473-0.0271603614320418i","-0.00483657341638089-0.000372072480520626i","0.0165242765723347+0.00223153593155589i","-0.0407969446612911-0.00684130187022709i","0.0446981852103988+0.00793215135971493i"," ",{"$f":"IMSUM(IMPRODUCT(定数!$F$38,計算!W10),IMPRODUCT(定数!$G$38,計算!X10),IMPRODUCT(定数!$H$38,計算!Y10),IMPRODUCT(定数!$I$38,計算!Z10))","v":"-0.0333606905009403-0.0255020137645434i"},{"$f":"IMSUM(IMPRODUCT(定数!$F$39,計算!W10),IMPRODUCT(定数!$G$39,計算!X10),IMPRODUCT(定数!$H$39,計算!Y10),IMPRODUCT(定数!$I$39,計算!Z10))","v":"0.0336322565590314+0.0261109609601249i"},{"$f":"IMSUM(IMPRODUCT(定数!$F$40,計算!W10),IMPRODUCT(定数!$G$40,計算!X10),IMPRODUCT(定数!$H$40,計算!Y10),IMPRODUCT(定数!$I$40,計算!Z10))","v":"-0.000775200944448358+0.00577331938730932i"},{"$f":"IMSUM(IMPRODUCT(定数!$F$41,計算!W10),IMPRODUCT(定数!$G$41,計算!X10),IMPRODUCT(定数!$H$41,計算!Y10),IMPRODUCT(定数!$I$41,計算!Z10))","v":"-0.000270607036097662+0.00194944537227615i"},{"$f":"IMSUM(IMPRODUCT(定数!$F$38,計算!AA10),IMPRODUCT(定数!$G$38,計算!AB10),IMPRODUCT(定数!$H$38,計算!AC10),IMPRODUCT(定数!$I$38,計算!AD10))","v":"0.0442910168439327+0.00751235900912125i"},{"$f":"IMSUM(IMPRODUCT(定数!$F$39,計算!AA10),IMPRODUCT(定数!$G$39,計算!AB10),IMPRODUCT(定数!$H$39,計算!AC10),IMPRODUCT(定数!$I$39,計算!AD10))","v":"-0.0445429160895353-0.00759400115608917i"},{"$f":"IMSUM(IMPRODUCT(定数!$F$40,計算!AA10),IMPRODUCT(定数!$G$40,計算!AB10),IMPRODUCT(定数!$H$40,計算!AC10),IMPRODUCT(定数!$I$40,計算!AD10))","v":"-0.00206576962459919-0.000143978260713351i"},{"$f":"IMSUM(IMPRODUCT(定数!$F$41,計算!AA10),IMPRODUCT(定数!$G$41,計算!AB10),IMPRODUCT(定数!$H$41,計算!AC10),IMPRODUCT(定数!$I$41,計算!AD10))","v":"-0.000754117808422959+0.000647918051809654i"}," ","0.088833932933468+0.0151063601652104i"," ","-0.00206576962459919-0.000143978260713351i","-0.000754117808422959+0.000647918051809654i"," "]
[7,{"$f":"A11*定数!$B$8","v":4398229715.0257101},null,{"$f":"B11*定数!$C$3","v":2.1991148575128552},{"$f":"B11*定数!$C$5","v":0.4398229715025711},{"$f":"定数!$B$6*SIN(D11)*SIN(E11)/(D11*E11)","v":8.4152935392161599},"-7.3743779429451-4.05409858116178i"," ",{"$f":"IMSUB(掃き出し!LZ11,IMPRODUCT(P11,掃き出し!LY11))","v":"0.00684339998577384+0.00209056351354567i"},{"$f":"IMSUB(掃き出し!MB11,IMPRODUCT(P11,掃き出し!MA11))","v":"0.0009826825701001+0.00192119834215582i"},{"$f":"IMSUB(掃き出し!MD11,IMPRODUCT(P11,掃き出し!MC11))","v":"-0.0135994420641487-0.0058723248213387i"},{"$f":"IMSUB(掃き出し!MF11,IMPRODUCT(P11,掃き出し!ME11))","v":"0.00081574439680532-0.0017033628438861i"},{"$f":"IMSUB(掃き出し!MH11,IMPRODUCT(P11,掃き出し!MG11))","v":"0.0258565548526637+0.0101187866985186i"},{"$f":"IMSUB(掃き出し!MJ11,IMPRODUCT(P11,掃き出し!MI11))","v":"-0.00267182659320974-0.000746728745155665i"},{"$f":"IMSUB(掃き出し!ML11,IMPRODUCT(P11,掃き出し!MK11))","v":"-0.0323141878336828-0.0135869260911924i"},{"$f":"IMDIV(掃き出し!MN11,掃き出し!MM11)","v":"0.00301685827801021-0.00152456165041537i"}," ",{"$f":"IMEXP(COMPLEX(0,計算!$B11*定数!A$61))","v":"-0.193287351984434-0.981142191307073i"},{"$f":"IMEXP(COMPLEX(0,計算!$B11*定数!B$61))","v":"-0.40101606521673-0.916071020957486i"},{"$f":"IMEXP(COMPLEX(0,計算!$B11*定数!C$61))","v":"-0.520230236900536-0.85402605382647i"},{"$f":"IMEXP(COMPLEX(0,計算!$B11*定数!D$61))","v":"-0.490256062376067-0.871578449311084i"}," ","0.00782608255587394+0.00401176185570149i","-0.0127836976673434-0.0075756876652248i","0.023184728259454+0.00937205795336294i","-0.0292973295556726-0.0151114877416078i","-0.00167885408902498+0.00497477430196496i","0.00894553339249625-0.0101673621197593i","-0.0213408299520419+0.019488353098952i","0.0248764903204156-0.0233852799057229i"," ",{"$f":"IMSUM(IMPRODUCT(定数!$F$38,計算!W11),IMPRODUCT(定数!$G$38,計算!X11),IMPRODUCT(定数!$H$38,計算!Y11),IMPRODUCT(定数!$I$38,計算!Z11))","v":"-0.0271560477638692-0.0138866531077622i"},{"$f":"IMSUM(IMPRODUCT(定数!$F$39,計算!W11),IMPRODUCT(定数!$G$39,計算!X11),IMPRODUCT(定数!$H$39,計算!Y11),IMPRODUCT(定数!$I$39,計算!Z11))","v":"0.0288687165889959+0.0129148559823996i"},{"$f":"IMSUM(IMPRODUCT(定数!$F$40,計算!W11),IMPRODUCT(定数!$G$40,計算!X11),IMPRODUCT(定数!$H$40,計算!Y11),IMPRODUCT(定数!$I$40,計算!Z11))","v":"0.00678628497885109+0.00544843668509136i"},{"$f":"IMSUM(IMPRODUCT(定数!$F$41,計算!W11),IMPRODUCT(定数!$G$41,計算!X11),IMPRODUCT(定数!$H$41,計算!Y11),IMPRODUCT(定数!$I$41,計算!Z11))","v":"0.00277816066242939+0.00129059732221596i"},{"$f":"IMSUM(IMPRODUCT(定数!$F$38,計算!AA11),IMPRODUCT(定数!$G$38,計算!AB11),IMPRODUCT(定数!$H$38,計算!AC11),IMPRODUCT(定数!$I$38,計算!AD11))","v":"0.0245415998568783-0.0225087967321225i"},{"$f":"IMSUM(IMPRODUCT(定数!$F$39,計算!AA11),IMPRODUCT(定数!$G$39,計算!AB11),IMPRODUCT(定数!$H$39,計算!AC11),IMPRODUCT(定数!$I$39,計算!AD11))","v":"-0.0234328297944883+0.0229887842590945i"},{"$f":"IMSUM(IMPRODUCT(定数!$F$40,計算!AA11),IMPRODUCT(定数!$G$40,計算!AB11),IMPRODUCT(定数!$H$40,計算!AC11),IMPRODUCT(定数!$I$40,計算!AD11))","v":"-0.001396120893196+0.0040763762846372i"},{"$f":"IMSUM(IMPRODUCT(定数!$F$41,計算!AA11),IMPRODUCT(定数!$G$41,計算!AB11),IMPRODUCT(定数!$H$41,計算!AC11),IMPRODUCT(定数!$I$41,計算!AD11))","v":"0.000593043544980959+0.00191418211091367i"}," ","0.0479744296513666-0.045497580991217i"," ","-0.001396120893196+0.0040763762846372i","0.000593043544980959+0.00191418211091367i"," "]
[8,{"$f":"A12*定数!$B$8","v":5026548245.7436686},null,{"$f":"B12*定数!$C$3","v":2.5132741228718345},{"$f":"B12*定数!$C$5","v":0.50265482457436694},{"$f":"定数!$B$6*SIN(D12)*SIN(E12)/(D12*E12)","v":5.2964748779582163},"-5.25471059156516-0.663824322946617i"," ",{"$f":"IMSUB(掃き出し!LZ12,IMPRODUCT(P12,掃き出し!LY12))","v":"0.00321190026965047-0.00201159420127988i"},{"$f":"IMSUB(掃き出し!MB12,IMPRODUCT(P12,掃き出し!MA12))","v":"0.00081308167269516-0.000953575905883983i"},{"$f":"IMSUB(掃き出し!MD12,IMPRODUCT(P12,掃き出し!MC12))","v":"-0.0101291942700724+0.00136895830985196i"},{"$f":"IMSUB(掃き出し!MF12,IMPRODUCT(P12,掃き出し!ME12))","v":"-0.00134165705070092-0.00037906916209537i"},{"$f":"IMSUB(掃き出し!MH12,IMPRODUCT(P12,掃き出し!MG12))","v":"0.0192193427422564+0.000867557920295938i"},{"$f":"IMSUB(掃き出し!MJ12,IMPRODUCT(P12,掃き出し!MI12))","v":"-0.000549023539363479+0.00208340947285834i"},{"$f":"IMSUB(掃き出し!ML12,IMPRODUCT(P12,掃き出し!MK12))","v":"-0.0247119598828105+0.00051144314236338i"},{"$f":"IMDIV(掃き出し!MN12,掃き出し!MM12)","v":"-0.0012738993254154-0.00236898831178371i"}," ",{"$f":"IMEXP(COMPLEX(0,計算!$B12*定数!A$61))","v":"0.43577528609894-0.900055498302959i"},{"$f":"IMEXP(COMPLEX(0,計算!$B12*定数!B$61))","v":"0.200262812351657-0.979742214048678i"},{"$f":"IMEXP(COMPLEX(0,計算!$B12*定数!C$61))","v":"0.0478994976987284-0.998852160292107i"},{"$f":"IMEXP(COMPLEX(0,計算!$B12*定数!D$61))","v":"0.0875051997055498-0.996164062805165i"}," ","0.00402498194234563-0.00296517010716386i","-0.0114708513207733+0.00098988914775659i","0.0186703192028929+0.00295096739315428i","-0.0259858592082259-0.00185754516942033i","0.00270626284154493+0.00086692201583966i","-0.00400980125114937-0.00841128318669606i","0.00210875486156496+0.0198870252216991i","-0.00514328009953106-0.0235106984901404i"," ",{"$f":"IMSUM(IMPRODUCT(定数!$F$38,計算!W12),IMPRODUCT(定数!$G$38,計算!X12),IMPRODUCT(定数!$H$38,計算!Y12),IMPRODUCT(定数!$I$38,計算!Z12))","v":"-0.0249177280662225-0.00255162201257461i"},{"$f":"IMSUM(IMPRODUCT(定数!$F$39,計算!W12),IMPRODUCT(定数!$G$39,計算!X12),IMPRODUCT(定数!$H$39,計算!Y12),IMPRODUCT(定数!$I$39,計算!Z12))","v":"0.022747978030491+0.00143113779878298i"},{"$f":"IMSUM(IMPRODUCT(定数!$F$40,計算!W12),IMPRODUCT(定数!$G$40,計算!X12),IMPRODUCT(定数!$H$40,計算!Y12),IMPRODUCT(定数!$I$40,計算!Z12))","v":"0.00567863492686774-0.0029660845886182i"},{"$f":"IMSUM(IMPRODUCT(定数!$F$41,計算!W12),IMPRODUCT(定数!$G$41,計算!X12),IMPRODUCT(定数!$H$41,計算!Y12),IMPRODUCT(定数!$I$41,計算!Z12))","v":"0.000690877771385-0.00208531124139844i"},{"$f":"IMSUM(IMPRODUCT(定数!$F$38,計算!AA12),IMPRODUCT(定数!$G$38,計算!AB12),IMPRODUCT(定数!$H$38,計算!AC12),IMPRODUCT(定数!$I$38,計算!AD12))","v":"-0.00472497262532994-0.023405276723959i"},{"$f":"IMSUM(IMPRODUCT(定数!$F$39,計算!AA12),IMPRODUCT(定数!$G$39,計算!AB12),IMPRODUCT(定数!$H$39,計算!AC12),IMPRODUCT(定数!$I$39,計算!AD12))","v":"0.00400136854222237+0.0215831947987564i"},{"$f":"IMSUM(IMPRODUCT(定数!$F$40,計算!AA12),IMPRODUCT(定数!$G$40,計算!AB12),IMPRODUCT(定数!$H$40,計算!AC12),IMPRODUCT(定数!$I$40,計算!AD12))","v":"0.00371895643407082+0.00109328425113249i"},{"$f":"IMSUM(IMPRODUCT(定数!$F$41,計算!AA12),IMPRODUCT(定数!$G$41,計算!AB12),IMPRODUCT(定数!$H$41,計算!AC12),IMPRODUCT(定数!$I$41,計算!AD12))","v":"0.00163538119318912-0.00099214760875708i"}," ","-0.00872634116755231-0.0449884715227154i"," ","0.00371895643407082+0.00109328425113249i","0.00163538119318912-0.00099214760875708i"," "]
[9,{"$f":"A13*定数!$B$8","v":5654866776.461627},null,{"$f":"B13*定数!$C$3","v":2.8274333882308138},{"$f":"B13*定数!$C$5","v":0.56548667764616278},{"$f":"定数!$B$6*SIN(D13)*SIN(E13)/(D13*E13)","v":2.4470618286538297},"-2.37018288147473+0.608559530053352i"," ",{"$f":"IMSUB(掃き出し!LZ13,IMPRODUCT(P13,掃き出し!LY13))","v":"0.00067002427657085-0.00086423201091302i"},{"$f":"IMSUB(掃き出し!MB13,IMPRODUCT(P13,掃き出し!MA13))","v":"-0.000362623916493731-0.000266868482727347i"},{"$f":"IMSUB(掃き出し!MD13,IMPRODUCT(P13,掃き出し!MC13))","v":"-0.00327419672630716+0.00256617960326195i"},{"$f":"IMSUB(掃き出し!MF13,IMPRODUCT(P13,掃き出し!ME13))","v":"-0.00008317299925071+0.00059111563460026i"},{"$f":"IMSUB(掃き出し!MH13,IMPRODUCT(P13,掃き出し!MG13))","v":"0.00893814429236303-0.00435074957414756i"},{"$f":"IMSUB(掃き出し!MJ13,IMPRODUCT(P13,掃き出し!MI13))","v":"0.00122133377436174+0.000099272969676119i"},{"$f":"IMSUB(掃き出し!ML13,IMPRODUCT(P13,掃き出し!MK13))","v":"-0.00973361106847215+0.00623369505702612i"},{"$f":"IMDIV(掃き出し!MN13,掃き出し!MM13)","v":"-0.00111838662589508+0.000868744694751531i"}," ",{"$f":"IMEXP(COMPLEX(0,計算!$B13*定数!A$61))","v":"0.889527768903592-0.456881109643853i"},{"$f":"IMEXP(COMPLEX(0,計算!$B13*定数!B$61))","v":"0.728327546383166-0.685229147934818i"},{"$f":"IMEXP(COMPLEX(0,計算!$B13*定数!C$61))","v":"0.599563971732097-0.800326835612073i"},{"$f":"IMEXP(COMPLEX(0,計算!$B13*定数!D$61))","v":"0.634698300908806-0.772760031849134i"}," ","0.000307400360077119-0.00113110049364037i","-0.00335736972555787+0.00315729523786221i","0.0101594780667248-0.00425147660447144i","-0.0108519976943672+0.00710243975177765i","0.000546365268077797-0.000534347846194601i","-0.0037986362548795+0.000112962624268759i","0.00965272948131142+0.00362693834418694i","-0.0110335637109015-0.00214959467187286i"," ",{"$f":"IMSUM(IMPRODUCT(定数!$F$38,計算!W13),IMPRODUCT(定数!$G$38,計算!X13),IMPRODUCT(定数!$H$38,計算!Y13),IMPRODUCT(定数!$I$38,計算!Z13))","v":"-0.0107968124722556+0.00656099146111308i"},{"$f":"IMSUM(IMPRODUCT(定数!$F$39,計算!W13),IMPRODUCT(定数!$G$39,計算!X13),IMPRODUCT(定数!$H$39,計算!Y13),IMPRODUCT(定数!$I$39,計算!Z13))","v":"0.0107012243603142-0.00567988817478624i"},{"$f":"IMSUM(IMPRODUCT(定数!$F$40,計算!W13),IMPRODUCT(定数!$G$40,計算!X13),IMPRODUCT(定数!$H$40,計算!Y13),IMPRODUCT(定数!$I$40,計算!Z13))","v":"-0.000335935711661947-0.00212359673652855i"},{"$f":"IMSUM(IMPRODUCT(定数!$F$41,計算!W13),IMPRODUCT(定数!$G$41,計算!X13),IMPRODUCT(定数!$H$41,計算!Y13),IMPRODUCT(定数!$I$41,計算!Z13))","v":"-0.000547404249613234+0.0000329277584317305i"},{"$f":"IMSUM(IMPRODUCT(定数!$F$38,計算!AA13),IMPRODUCT(定数!$G$38,計算!AB13),IMPRODUCT(定数!$H$38,計算!AC13),IMPRODUCT(定数!$I$38,計算!AD13))","v":"-0.010920545892716-0.00238104709501993i"},{"$f":"IMSUM(IMPRODUCT(定数!$F$39,計算!AA13),IMPRODUCT(定数!$G$39,計算!AB13),IMPRODUCT(定数!$H$39,計算!AC13),IMPRODUCT(定数!$I$39,計算!AD13))","v":"0.0104563193294024+0.00306801192383723i"},{"$f":"IMSUM(IMPRODUCT(定数!$F$40,計算!AA13),IMPRODUCT(定数!$G$40,計算!AB13),IMPRODUCT(定数!$H$40,計算!AC13),IMPRODUCT(定数!$I$40,計算!AD13))","v":"0.000338757907604119-0.00166746106469817i"},{"$f":"IMSUM(IMPRODUCT(定数!$F$41,計算!AA13),IMPRODUCT(定数!$G$41,計算!AB13),IMPRODUCT(定数!$H$41,計算!AC13),IMPRODUCT(定数!$I$41,計算!AD13))","v":"-0.000404593868981197-0.000397772470291559i"}," ","-0.0213768652221184-0.00544905901885716i"," ","0.000338757907604119-0.00166746106469817i","-0.000404593868981197-0.000397772470291559i"," "]
[10,{"$f":"A14*定数!$B$8","v":6283185307.1795855},null,{"$f":"B14*定数!$C$3","v":3.1415926535897931},{"$f":"B14*定数!$C$5","v":0.62831853071795862},{"$f":"定数!$B$6*SIN(D14)*SIN(E14)/(D14*E14)","v":8.6204625967555715E-16},"-6.97410074014886E-16+5.06698078231179E-16i"," ",{"$f":"IMSUB(掃き出し!LZ14,IMPRODUCT(P14,掃き出し!LY14))","v":"2.31481773712555E-19-2.82887080608265E-19i"},{"$f":"IMSUB(掃き出し!MB14,IMPRODUCT(P14,掃き出し!MA14))","v":"-1.03811853117597E-19+1.04812293395833E-19i"},{"$f":"IMSUB(掃き出し!MD14,IMPRODUCT(P14,掃き出し!MC14))","v":"-6.72893475294278E-19+1.06050789442646E-18i"},{"$f":"IMSUB(掃き出し!MF14,IMPRODUCT(P14,掃き出し!ME14))","v":"1.92707315269157E-19+3.9557811925347E-20i"},{"$f":"IMSUB(掃き出し!MH14,IMPRODUCT(P14,掃き出し!MG14))","v":"1.73496550532492E-18-2.68227397882655E-18i"},{"$f":"IMSUB(掃き出し!MJ14,IMPRODUCT(P14,掃き出し!MI14))","v":"-5.4411123013239E-20-4.26131099332601E-19i"},{"$f":"IMSUB(掃き出し!ML14,IMPRODUCT(P14,掃き出し!MK14))","v":"-1.81772720250804E-18+2.98521323167772E-18i"},{"$f":"IMDIV(掃き出し!MN14,掃き出し!MM14)","v":"3.21755196486043E-19+3.50328644158009E-19i"}," ",{"$f":"IMEXP(COMPLEX(0,計算!$B14*定数!A$61))","v":"0.985427807419289+0.170094198504278i"},{"$f":"IMEXP(COMPLEX(0,計算!$B14*定数!B$61))","v":"0.990122787359102-0.140202945590466i"},{"$f":"IMEXP(COMPLEX(0,計算!$B14*定数!C$61))","v":"0.945130730867004-0.32669236533902i"},{"$f":"IMEXP(COMPLEX(0,計算!$B14*定数!D$61))","v":"0.960172466132393-0.279408008620438i"}," ","1.27669920594958E-19-1.78074787212432E-19i","-4.80186160025121E-19+1.10006570635181E-18i","1.68055438231168E-18-3.10840507815915E-18i","-1.495972006022E-18+3.33554187583573E-18i","5.9864075643447E-20-2.32511347838671E-19i","-6.18583468082822E-19+9.6784034290878E-19i","2.32540824546065E-18-2.35327348015711E-18i","-2.17259898583073E-18+2.60490695222765E-18i"," ",{"$f":"IMSUM(IMPRODUCT(定数!$F$38,計算!W14),IMPRODUCT(定数!$G$38,計算!X14),IMPRODUCT(定数!$H$38,計算!Y14),IMPRODUCT(定数!$I$38,計算!Z14))","v":"-1.54352320847599E-18+3.32058521513855E-18i"},{"$f":"IMSUM(IMPRODUCT(定数!$F$39,計算!W14),IMPRODUCT(定数!$G$39,計算!X14),IMPRODUCT(定数!$H$39,計算!Y14),IMPRODUCT(定数!$I$39,計算!Z14))","v":"1.69688308845363E-18-3.30519566608673E-18i"},{"$f":"IMSUM(IMPRODUCT(定数!$F$40,計算!W14),IMPRODUCT(定数!$G$40,計算!X14),IMPRODUCT(定数!$H$40,計算!Y14),IMPRODUCT(定数!$I$40,計算!Z14))","v":"-1.74457082035628E-19+2.75893028216029E-20i"},{"$f":"IMSUM(IMPRODUCT(定数!$F$41,計算!W14),IMPRODUCT(定数!$G$41,計算!X14),IMPRODUCT(定数!$H$41,計算!Y14),IMPRODUCT(定数!$I$41,計算!Z14))","v":"5.58459839893169E-20+9.15961493028796E-20i"},{"$f":"IMSUM(IMPRODUCT(定数!$F$38,計算!AA14),IMPRODUCT(定数!$G$38,計算!AB14),IMPRODUCT(定数!$H$38,計算!AC14),IMPRODUCT(定数!$I$38,計算!AD14))","v":"-2.21357358803652E-18+2.59918768344279E-18i"},{"$f":"IMSUM(IMPRODUCT(定数!$F$39,計算!AA14),IMPRODUCT(定数!$G$39,計算!AB14),IMPRODUCT(定数!$H$39,計算!AC14),IMPRODUCT(定数!$I$39,計算!AD14))","v":"2.34526227117356E-18-2.55170873012119E-18i"},{"$f":"IMSUM(IMPRODUCT(定数!$F$40,計算!AA14),IMPRODUCT(定数!$G$40,計算!AB14),IMPRODUCT(定数!$H$40,計算!AC14),IMPRODUCT(定数!$I$40,計算!AD14))","v":"-2.71927460209439E-19-1.1041679854984E-19i"},{"$f":"IMSUM(IMPRODUCT(定数!$F$41,計算!AA14),IMPRODUCT(定数!$G$41,計算!AB14),IMPRODUCT(定数!$H$41,計算!AC14),IMPRODUCT(定数!$I$41,計算!AD14))","v":"-5.90932015577002E-20-1.78861141455501E-20i"}," ","-4.55883585921008E-18+5.15089641356398E-18i"," ","-2.71927460209439E-19-1.1041679854984E-19i","-5.90932015577002E-20-1.78861141455501E-20i"," "]
[11,{"$f":"A15*定数!$B$8","v":6911503837.8975439},null,{"$f":"B15*定数!$C$3","v":3.455751918948772},{"$f":"B15*定数!$C$5","v":0.69115038378975446},{"$f":"定数!$B$6*SIN(D15)*SIN(E15)/(D15*E15)","v":-1.9487160763698548},"1.0441742895253-1.64535540215379i"," ",{"$f":"IMSUB(掃き出し!LZ15,IMPRODUCT(P15,掃き出し!LY15))","v":"-0.000527614592238187+0.00107311336325566i"},{"$f":"IMSUB(掃き出し!MB15,IMPRODUCT(P15,掃き出し!MA15))","v":"-0.000268752070330956-0.00032476273406145i"},{"$f":"IMSUB(掃き出し!MD15,IMPRODUCT(P15,掃き出し!MC15))","v":"0.000900789338831172-0.00264973759934932i"},{"$f":"IMSUB(掃き出し!MF15,IMPRODUCT(P15,掃き出し!ME15))","v":"-0.00015552880257802+0.000456793138312411i"},{"$f":"IMSUB(掃き出し!MH15,IMPRODUCT(P15,掃き出し!MG15))","v":"-0.00135169956872073+0.00600607076040805i"},{"$f":"IMSUB(掃き出し!MJ15,IMPRODUCT(P15,掃き出し!MI15))","v":"0.000891382534432533-0.000122325419676821i"},{"$f":"IMSUB(掃き出し!ML15,IMPRODUCT(P15,掃き出し!MK15))","v":"0.00184835477643548-0.0068859840716175i"},{"$f":"IMDIV(掃き出し!MN15,掃き出し!MM15)","v":"-0.000838859932527402+0.000653427821180799i"}," ",{"$f":"IMEXP(COMPLEX(0,計算!$B15*定数!A$61))","v":"0.684895309612997+0.72864148582833i"},{"$f":"IMEXP(COMPLEX(0,計算!$B15*定数!B$61))","v":"0.889938732121273+0.456080095016633i"},{"$f":"IMEXP(COMPLEX(0,計算!$B15*定数!C$61))","v":"0.965812585144671+0.25924129759004i"},{"$f":"IMEXP(COMPLEX(0,計算!$B15*定数!D$61))","v":"0.950229918812368+0.311549516760725i"}," ","-0.000796366662569143+0.00074835062919421i","0.000745260536253152-0.00219294446103691i","-0.000460317034288197+0.00588374534073123i","0.00100949484390808-0.0062325562504367i","0.000473122724627285+0.000701159808468802i","-0.000753590617271703-0.00243335189156925i","0.00114415339299903+0.00626409481288699i","-0.00138964792829309-0.00675956186385567i"," ",{"$f":"IMSUM(IMPRODUCT(定数!$F$38,計算!W15),IMPRODUCT(定数!$G$38,計算!X15),IMPRODUCT(定数!$H$38,計算!Y15),IMPRODUCT(定数!$I$38,計算!Z15))","v":"0.000795915230991086-0.00612900822673451i"},{"$f":"IMSUM(IMPRODUCT(定数!$F$39,計算!W15),IMPRODUCT(定数!$G$39,計算!X15),IMPRODUCT(定数!$H$39,計算!Y15),IMPRODUCT(定数!$I$39,計算!Z15))","v":"-0.000973299611406628+0.0064107180796443i"},{"$f":"IMSUM(IMPRODUCT(定数!$F$40,計算!W15),IMPRODUCT(定数!$G$40,計算!X15),IMPRODUCT(定数!$H$40,計算!Y15),IMPRODUCT(定数!$I$40,計算!Z15))","v":"-0.000832815600279433+0.000169341654460356i"},{"$f":"IMSUM(IMPRODUCT(定数!$F$41,計算!W15),IMPRODUCT(定数!$G$41,計算!X15),IMPRODUCT(定数!$H$41,計算!Y15),IMPRODUCT(定数!$I$41,計算!Z15))","v":"-0.000426330900228842+0.000124403163958325i"},{"$f":"IMSUM(IMPRODUCT(定数!$F$38,計算!AA15),IMPRODUCT(定数!$G$38,計算!AB15),IMPRODUCT(定数!$H$38,計算!AC15),IMPRODUCT(定数!$I$38,計算!AD15))","v":"-0.00134966643523152-0.00669733848645331i"},{"$f":"IMSUM(IMPRODUCT(定数!$F$39,計算!AA15),IMPRODUCT(定数!$G$39,計算!AB15),IMPRODUCT(定数!$H$39,計算!AC15),IMPRODUCT(定数!$I$39,計算!AD15))","v":"0.00140916664734003+0.0068001690361338i"},{"$f":"IMSUM(IMPRODUCT(定数!$F$40,計算!AA15),IMPRODUCT(定数!$G$40,計算!AB15),IMPRODUCT(定数!$H$40,計算!AC15),IMPRODUCT(定数!$I$40,計算!AD15))","v":"0.000393798696873923+0.000215135030745278i"},{"$f":"IMSUM(IMPRODUCT(定数!$F$41,計算!AA15),IMPRODUCT(定数!$G$41,計算!AB15),IMPRODUCT(定数!$H$41,計算!AC15),IMPRODUCT(定数!$I$41,計算!AD15))","v":"0.000284371934664604+0.000086361545720962i"}," ","-0.00275883308257155-0.0134975075225871i"," ","0.000393798696873923+0.000215135030745278i","0.000284371934664604+0.000086361545720962i"," "]
[12,{"$f":"A16*定数!$B$8","v":7539822368.6155033},null,{"$f":"B16*定数!$C$3","v":3.7699111843077517},{"$f":"B16*定数!$C$5","v":0.75398223686155041},{"$f":"定数!$B$6*SIN(D16)*SIN(E16)/(D16*E16)","v":-3.3448966365466113},"0.62677112890948-3.28564932108501i"," ",{"$f":"IMSUB(掃き出し!LZ16,IMPRODUCT(P16,掃き出し!LY16))","v":"0.00092395711096485+0.00272205966874761i"},{"$f":"IMSUB(掃き出し!MB16,IMPRODUCT(P16,掃き出し!MA16))","v":"-0.00050454890408671+0.000837475909708796i"},{"$f":"IMSUB(掃き出し!MD16,IMPRODUCT(P16,掃き出し!MC16))","v":"0.0000471899280809298-0.00571438840785821i"},{"$f":"IMSUB(掃き出し!MF16,IMPRODUCT(P16,掃き出し!ME16))","v":"0.00099743039831447+0.00036525440581951i"},{"$f":"IMSUB(掃き出し!MH16,IMPRODUCT(P16,掃き出し!MG16))","v":"0.000193701295773912+0.0103239793909984i"},{"$f":"IMSUB(掃き出し!MJ16,IMPRODUCT(P16,掃き出し!MI16))","v":"-0.0000473632096761801-0.00163572452798717i"},{"$f":"IMSUB(掃き出し!ML16,IMPRODUCT(P16,掃き出し!MK16))","v":"0.0000711108843424498-0.0130305793714201i"},{"$f":"IMDIV(掃き出し!MN16,掃き出し!MM16)","v":"0.00109501566228256+0.00178501894373173i"}," ",{"$f":"IMEXP(COMPLEX(0,計算!$B16*定数!A$61))","v":"0.108832952936592+0.994060052690531i"},{"$f":"IMEXP(COMPLEX(0,計算!$B16*定数!B$61))","v":"0.464401700424984+0.88562467255739i"},{"$f":"IMEXP(COMPLEX(0,計算!$B16*定数!C$61))","v":"0.654500229957993+0.756061802358071i"},{"$f":"IMEXP(COMPLEX(0,計算!$B16*定数!D$61))","v":"0.608343885534608+0.793673558166489i"}," ","0.00041940820687814+0.00355953557845641i","0.0010446203263954-0.0053491340020387i","0.000146338086097732+0.00868825486301123i","0.00116612654662501-0.0112455604276884i","0.00191903486445024-0.00103262599650462i","-0.00489915822025269-0.00164259052104651i","0.00913805361165969+0.00550420514129934i","-0.0110493426767531-0.00602852177726278i"," ",{"$f":"IMSUM(IMPRODUCT(定数!$F$38,計算!W16),IMPRODUCT(定数!$G$38,計算!X16),IMPRODUCT(定数!$H$38,計算!Y16),IMPRODUCT(定数!$I$38,計算!Z16))","v":"0.00143591078198555-0.0103961732562502i"},{"$f":"IMSUM(IMPRODUCT(定数!$F$39,計算!W16),IMPRODUCT(定数!$G$39,計算!X16),IMPRODUCT(定数!$H$39,計算!Y16),IMPRODUCT(定数!$I$39,計算!Z16))","v":"0.000102021519896378+0.0111158312076889i"},{"$f":"IMSUM(IMPRODUCT(定数!$F$40,計算!W16),IMPRODUCT(定数!$G$40,計算!X16),IMPRODUCT(定数!$H$40,計算!Y16),IMPRODUCT(定数!$I$40,計算!Z16))","v":"-0.000719638007572777+0.00317927031912635i"},{"$f":"IMSUM(IMPRODUCT(定数!$F$41,計算!W16),IMPRODUCT(定数!$G$41,計算!X16),IMPRODUCT(定数!$H$41,計算!Y16),IMPRODUCT(定数!$I$41,計算!Z16))","v":"0.000187029179661087+0.00153506244489072i"},{"$f":"IMSUM(IMPRODUCT(定数!$F$38,計算!AA16),IMPRODUCT(定数!$G$38,計算!AB16),IMPRODUCT(定数!$H$38,計算!AC16),IMPRODUCT(定数!$I$38,計算!AD16))","v":"-0.0108681419710067-0.00635211041937401i"},{"$f":"IMSUM(IMPRODUCT(定数!$F$39,計算!AA16),IMPRODUCT(定数!$G$39,計算!AB16),IMPRODUCT(定数!$H$39,計算!AC16),IMPRODUCT(定数!$I$39,計算!AD16))","v":"0.0105515099406089+0.00526256186297095i"},{"$f":"IMSUM(IMPRODUCT(定数!$F$40,計算!AA16),IMPRODUCT(定数!$G$40,計算!AB16),IMPRODUCT(定数!$H$40,計算!AC16),IMPRODUCT(定数!$I$40,計算!AD16))","v":"0.00176336197144996-0.000824045199140436i"},{"$f":"IMSUM(IMPRODUCT(定数!$F$41,計算!AA16),IMPRODUCT(定数!$G$41,計算!AB16),IMPRODUCT(定数!$H$41,計算!AC16),IMPRODUCT(定数!$I$41,計算!AD16))","v":"0.000752027063794575-0.00102451586419723i"}," ","-0.0214196519116156-0.011614672282345i"," ","0.00176336197144996-0.000824045199140436i","0.000752027063794575-0.00102451586419723i"," "]
[13,{"$f":"A17*定数!$B$8","v":8168140899.3334618},null,{"$f":"B17*定数!$C$3","v":4.0840704496667311},{"$f":"B17*定数!$C$5","v":0.81681408993334637},{"$f":"定数!$B$6*SIN(D17)*SIN(E17)/(D17*E17)","v":-4.1773700420423152},"-0.782761089988923-4.10337733387413i"," ",{"$f":"IMSUB(掃き出し!LZ17,IMPRODUCT(P17,掃き出し!LY17))","v":"0.00233844116306452+0.00100684354919252i"},{"$f":"IMSUB(掃き出し!MB17,IMPRODUCT(P17,掃き出し!MA17))","v":"0.000969876775517114+0.00016855822208584i"},{"$f":"IMSUB(掃き出し!MD17,IMPRODUCT(P17,掃き出し!MC17))","v":"-0.00465066625444101-0.00677928802641123i"},{"$f":"IMSUB(掃き出し!MF17,IMPRODUCT(P17,掃き出し!ME17))","v":"0.00012741699876903-0.00159876953456702i"},{"$f":"IMSUB(掃き出し!MH17,IMPRODUCT(P17,掃き出し!MG17))","v":"0.00479281453356954+0.0142721746837035i"},{"$f":"IMSUB(掃き出し!MJ17,IMPRODUCT(P17,掃き出し!MI17))","v":"-0.00257918980162018-0.0000253373747672739i"},{"$f":"IMSUB(掃き出し!ML17,IMPRODUCT(P17,掃き出し!MK17))","v":"-0.00779984431271946-0.018071068622854i"},{"$f":"IMDIV(掃き出し!MN17,掃き出し!MM17)","v":"0.00284792193518233-0.00189602183609649i"}," ",{"$f":"IMEXP(COMPLEX(0,計算!$B17*定数!A$61))","v":"-0.511012340696967+0.859573375376068i"},{"$f":"IMEXP(COMPLEX(0,計算!$B17*定数!B$61))","v":"-0.130916092633931+0.991393452010585i"},{"$f":"IMEXP(COMPLEX(0,計算!$B17*定数!C$61))","v":"0.118206041047765+0.992989089496865i"},{"$f":"IMEXP(COMPLEX(0,計算!$B17*定数!D$61))","v":"0.0539452950035203+0.998543892448891i"}," ","0.00330831793858163+0.00117540177127836i","-0.00452324925567198-0.00837805756097825i","0.00221362473194936+0.0142468373089362i","-0.00495192237753713-0.0199670904589505i","-0.000970023545415046-0.00177702632042392i","-0.00454376599227219+0.0058337830101393i","0.0144589372969405-0.00563625763682604i","-0.0164186270924825+0.00955513136989572i"," ",{"$f":"IMSUM(IMPRODUCT(定数!$F$38,計算!W17),IMPRODUCT(定数!$G$38,計算!X17),IMPRODUCT(定数!$H$38,計算!Y17),IMPRODUCT(定数!$I$38,計算!Z17))","v":"-0.0047124814888113-0.019694907331278i"},{"$f":"IMSUM(IMPRODUCT(定数!$F$39,計算!W17),IMPRODUCT(定数!$G$39,計算!X17),IMPRODUCT(定数!$H$39,計算!Y17),IMPRODUCT(定数!$I$39,計算!Z17))","v":"0.0041549223787743+0.01649625875768i"},{"$f":"IMSUM(IMPRODUCT(定数!$F$40,計算!W17),IMPRODUCT(定数!$G$40,計算!X17),IMPRODUCT(定数!$H$40,計算!Y17),IMPRODUCT(定数!$I$40,計算!Z17))","v":"0.00404878965856179+0.00324375507769369i"},{"$f":"IMSUM(IMPRODUCT(定数!$F$41,計算!W17),IMPRODUCT(定数!$G$41,計算!X17),IMPRODUCT(定数!$H$41,計算!Y17),IMPRODUCT(定数!$I$41,計算!Z17))","v":"0.00236541904822324-0.000632831939156647i"},{"$f":"IMSUM(IMPRODUCT(定数!$F$38,計算!AA17),IMPRODUCT(定数!$G$38,計算!AB17),IMPRODUCT(定数!$H$38,計算!AC17),IMPRODUCT(定数!$I$38,計算!AD17))","v":"-0.0163661415294285+0.00970154333948535i"},{"$f":"IMSUM(IMPRODUCT(定数!$F$39,計算!AA17),IMPRODUCT(定数!$G$39,計算!AB17),IMPRODUCT(定数!$H$39,計算!AC17),IMPRODUCT(定数!$I$39,計算!AD17))","v":"0.0149792785250049-0.00724690233765495i"},{"$f":"IMSUM(IMPRODUCT(定数!$F$40,計算!AA17),IMPRODUCT(定数!$G$40,計算!AB17),IMPRODUCT(定数!$H$40,計算!AC17),IMPRODUCT(定数!$I$40,計算!AD17))","v":"-0.000870787018525573-0.0035313416704301i"},{"$f":"IMSUM(IMPRODUCT(定数!$F$41,計算!AA17),IMPRODUCT(定数!$G$41,計算!AB17),IMPRODUCT(定数!$H$41,計算!AC17),IMPRODUCT(定数!$I$41,計算!AD17))","v":"-0.00207873487208466-0.00105861109261148i"}," ","-0.0313454200544334+0.0169484456771403i"," ","-0.000870787018525573-0.0035313416704301i","-0.00207873487208466-0.00105861109261148i"," "]
[14,{"$f":"A18*定数!$B$8","v":8796459430.0514202},null,{"$f":"B18*定数!$C$3","v":4.3982297150257104},{"$f":"B18*定数!$C$5","v":0.87964594300514221},{"$f":"定数!$B$6*SIN(D18)*SIN(E18)/(D18*E18)","v":-4.4756233544740818},"-2.39815891756098-3.77889378221147i"," ",{"$f":"IMSUB(掃き出し!LZ18,IMPRODUCT(P18,掃き出し!LY18))","v":"0.00157946270279016+0.00030901676541777i"},{"$f":"IMSUB(掃き出し!MB18,IMPRODUCT(P18,掃き出し!MA18))","v":"0.00013403422044868-0.000810758444499517i"},{"$f":"IMSUB(掃き出し!MD18,IMPRODUCT(P18,掃き出し!MC18))","v":"-0.00664420787364664-0.0028014059204599i"},{"$f":"IMSUB(掃き出し!MF18,IMPRODUCT(P18,掃き出し!ME18))","v":"-0.00143757798532721+0.0001748033170727i"},{"$f":"IMSUB(掃き出し!MH18,IMPRODUCT(P18,掃き出し!MG18))","v":"0.0146944903402764+0.0119018593825422i"},{"$f":"IMSUB(掃き出し!MJ18,IMPRODUCT(P18,掃き出し!MI18))","v":"0.00072195256450093+0.00337543635444827i"},{"$f":"IMSUB(掃き出し!ML18,IMPRODUCT(P18,掃き出し!MK18))","v":"-0.0187362484919383-0.0107197370510939i"},{"$f":"IMDIV(掃き出し!MN18,掃き出し!MM18)","v":"-0.00308112031374137-0.00262437910433799i"}," ",{"$f":"IMEXP(COMPLEX(0,計算!$B18*定数!A$61))","v":"-0.925279999125691+0.379284752155899i"},{"$f":"IMEXP(COMPLEX(0,計算!$B18*定数!B$61))","v":"-0.678372230876189+0.734718392566882i"},{"$f":"IMEXP(COMPLEX(0,計算!$B18*定数!C$61))","v":"-0.458721001228814+0.888580352602754i"},{"$f":"IMEXP(COMPLEX(0,計算!$B18*定数!D$61))","v":"-0.519297986607035+0.854593237222177i"}," ","0.00171349692323884-0.000501741679081747i","-0.00808178585897385-0.0026266026033872i","0.0154164429047773+0.0152772957369905i","-0.0218173688056797-0.0133441161554319i","-0.00116075076867251-0.0000839774433018841i","0.00329578343567307+0.00560722100992171i","0.00050456585607764-0.0194237389400948i","0.00441147753966218+0.0203083393214997i"," ",{"$f":"IMSUM(IMPRODUCT(定数!$F$38,計算!W18),IMPRODUCT(定数!$G$38,計算!X18),IMPRODUCT(定数!$H$38,計算!Y18),IMPRODUCT(定数!$I$38,計算!Z18))","v":"-0.0205989125371723-0.0135265790530006i"},{"$f":"IMSUM(IMPRODUCT(定数!$F$39,計算!W18),IMPRODUCT(定数!$G$39,計算!X18),IMPRODUCT(定数!$H$39,計算!Y18),IMPRODUCT(定数!$I$39,計算!Z18))","v":"0.0184884346219712+0.0149233438130228i"},{"$f":"IMSUM(IMPRODUCT(定数!$F$40,計算!W18),IMPRODUCT(定数!$G$40,計算!X18),IMPRODUCT(定数!$H$40,計算!Y18),IMPRODUCT(定数!$I$40,計算!Z18))","v":"0.00355143330062118-0.00314224913767232i"},{"$f":"IMSUM(IMPRODUCT(定数!$F$41,計算!W18),IMPRODUCT(定数!$G$41,計算!X18),IMPRODUCT(定数!$H$41,計算!Y18),IMPRODUCT(定数!$I$41,計算!Z18))","v":"-0.00122928154489644-0.00120870121303108i"},{"$f":"IMSUM(IMPRODUCT(定数!$F$38,計算!AA18),IMPRODUCT(定数!$G$38,計算!AB18),IMPRODUCT(定数!$H$38,計算!AC18),IMPRODUCT(定数!$I$38,計算!AD18))","v":"0.00380059988663776+0.0201134293225164i"},{"$f":"IMSUM(IMPRODUCT(定数!$F$39,計算!AA18),IMPRODUCT(定数!$G$39,計算!AB18),IMPRODUCT(定数!$H$39,計算!AC18),IMPRODUCT(定数!$I$39,計算!AD18))","v":"-0.00135081462413091-0.0202263183984207i"},{"$f":"IMSUM(IMPRODUCT(定数!$F$40,計算!AA18),IMPRODUCT(定数!$G$40,計算!AB18),IMPRODUCT(定数!$H$40,計算!AC18),IMPRODUCT(定数!$I$40,計算!AD18))","v":"-0.00399837027180727+0.00136751698884152i"},{"$f":"IMSUM(IMPRODUCT(定数!$F$41,計算!AA18),IMPRODUCT(定数!$G$41,計算!AB18),IMPRODUCT(定数!$H$41,計算!AC18),IMPRODUCT(定数!$I$41,計算!AD18))","v":"-0.000114463094357273+0.00155483793271434i"}," ","0.00515141451076867+0.0403397477209371i"," ","-0.00399837027180727+0.00136751698884152i","-0.000114463094357273+0.00155483793271434i"," "]
[15,{"$f":"A19*定数!$B$8","v":9424777960.7693787},null,{"$f":"B19*定数!$C$3","v":4.7123889803846897},{"$f":"B19*定数!$C$5","v":0.94247779607693805},{"$f":"定数!$B$6*SIN(D19)*SIN(E19)/(D19*E19)","v":-4.3042580102515293},"-3.48221787846799-2.52997938048758i"," ",{"$f":"IMSUB(掃き出し!LZ19,IMPRODUCT(P19,掃き出し!LY19))","v":"0.00159881654117876+0.00051693823319353i"},{"$f":"IMSUB(掃き出し!MB19,IMPRODUCT(P19,掃き出し!MA19))","v":"-0.00072320653411572-0.00026894764664455i"},{"$f":"IMSUB(掃き出し!MD19,IMPRODUCT(P19,掃き出し!MC19))","v":"-0.00564690525821656-0.00057211191986826i"},{"$f":"IMSUB(掃き出し!MF19,IMPRODUCT(P19,掃き出し!ME19))","v":"0.0000463292209595201+0.00122695336826512i"},{"$f":"IMSUB(掃き出し!MH19,IMPRODUCT(P19,掃き出し!MG19))","v":"0.015397275912873+0.0013281705715324i"},{"$f":"IMSUB(掃き出し!MJ19,IMPRODUCT(P19,掃き出し!MI19))","v":"0.00269375816468132-0.00130469487924274i"},{"$f":"IMSUB(掃き出し!ML19,IMPRODUCT(P19,掃き出し!MK19))","v":"-0.0163506500442001-0.00085356701704193i"},{"$f":"IMDIV(掃き出し!MN19,掃き出し!MM19)","v":"-0.00185470419146613+0.00271169498351251i"}," ",{"$f":"IMEXP(COMPLEX(0,計算!$B19*定数!A$61))","v":"-0.967312275013268-0.253588175214572i"},{"$f":"IMEXP(COMPLEX(0,計算!$B19*定数!B$61))","v":"-0.977822055317218+0.209437408633729i"},{"$f":"IMEXP(COMPLEX(0,計算!$B19*定数!C$61))","v":"-0.877964535845539+0.47872567697746i"},{"$f":"IMEXP(COMPLEX(0,計算!$B19*定数!D$61))","v":"-0.911135083764232+0.412107824645377i"}," ","0.00087561000706304+0.00024799058654898i","-0.00560057603725704+0.00065484144839686i","0.0180910340775543+0.0000234756922896601i","-0.0182053542356662+0.00185812796647058i","-0.00104627967415157+0.000348953256013488i","0.00509957519980149+0.00055205786508452i","-0.014622866041553-0.00610211095928298i","0.0151182645891319+0.00428088713117254i"," ",{"$f":"IMSUM(IMPRODUCT(定数!$F$38,計算!W19),IMPRODUCT(定数!$G$38,計算!X19),IMPRODUCT(定数!$H$38,計算!Y19),IMPRODUCT(定数!$I$38,計算!Z19))","v":"-0.0182390417144343+0.00151683129010844i"},{"$f":"IMSUM(IMPRODUCT(定数!$F$39,計算!W19),IMPRODUCT(定数!$G$39,計算!X19),IMPRODUCT(定数!$H$39,計算!Y19),IMPRODUCT(定数!$I$39,計算!Z19))","v":"0.0188333502207307-0.00050884581300673i"},{"$f":"IMSUM(IMPRODUCT(定数!$F$40,計算!W19),IMPRODUCT(定数!$G$40,計算!X19),IMPRODUCT(定数!$H$40,計算!Y19),IMPRODUCT(定数!$I$40,計算!Z19))","v":"-0.00104976607201279-0.000936184994247154i"},{"$f":"IMSUM(IMPRODUCT(定数!$F$41,計算!W19),IMPRODUCT(定数!$G$41,計算!X19),IMPRODUCT(定数!$H$41,計算!Y19),IMPRODUCT(定数!$I$41,計算!Z19))","v":"-0.000470732264515107+0.000693898840975296i"},{"$f":"IMSUM(IMPRODUCT(定数!$F$38,計算!AA19),IMPRODUCT(定数!$G$38,計算!AB19),IMPRODUCT(定数!$H$38,計算!AC19),IMPRODUCT(定数!$I$38,計算!AD19))","v":"0.0151728997398758+0.00459005575034412i"},{"$f":"IMSUM(IMPRODUCT(定数!$F$39,計算!AA19),IMPRODUCT(定数!$G$39,計算!AB19),IMPRODUCT(定数!$H$39,計算!AC19),IMPRODUCT(定数!$I$39,計算!AD19))","v":"-0.015421088127274-0.00554530815671695i"},{"$f":"IMSUM(IMPRODUCT(定数!$F$40,計算!AA19),IMPRODUCT(定数!$G$40,計算!AB19),IMPRODUCT(定数!$H$40,計算!AC19),IMPRODUCT(定数!$I$40,計算!AD19))","v":"0.000303126075208354+0.00197192815386144i"},{"$f":"IMSUM(IMPRODUCT(定数!$F$41,計算!AA19),IMPRODUCT(定数!$G$41,計算!AB19),IMPRODUCT(定数!$H$41,計算!AC19),IMPRODUCT(定数!$I$41,計算!AD19))","v":"0.000079193431342264+0.000305116054756733i"}," ","0.0305939878671498+0.0101353639070611i"," ","0.000303126075208354+0.00197192815386144i","0.000079193431342264+0.000305116054756733i"," "]
[16,{"$f":"A20*定数!$B$8","v":10053096491.487337},null,{"$f":"B20*定数!$C$3","v":5.026548245743669},{"$f":"B20*定数!$C$5","v":1.0053096491487339},{"$f":"定数!$B$6*SIN(D20)*SIN(E20)/(D20*E20)","v":-3.7549199564472016},"-3.63695224120061-0.933810620281928i"," ",{"$f":"IMSUB(掃き出し!LZ20,IMPRODUCT(P20,掃き出し!LY20))","v":"0.00240583155805539+0.0000029002693426399i"},{"$f":"IMSUB(掃き出し!MB20,IMPRODUCT(P20,掃き出し!MA20))","v":"-0.000374344804972079+0.000875060875469044i"},{"$f":"IMSUB(掃き出し!MD20,IMPRODUCT(P20,掃き出し!MC20))","v":"-0.00490496352347234+0.000395875390423788i"},{"$f":"IMSUB(掃き出し!MF20,IMPRODUCT(P20,掃き出し!ME20))","v":"0.00114147632661594+0.00014072919237724i"},{"$f":"IMSUB(掃き出し!MH20,IMPRODUCT(P20,掃き出し!MG20))","v":"0.0106432911676811-0.00243747689353925i"},{"$f":"IMSUB(掃き出し!MJ20,IMPRODUCT(P20,掃き出し!MI20))","v":"-0.00088157628013943-0.00206064950146163i"},{"$f":"IMSUB(掃き出し!ML20,IMPRODUCT(P20,掃き出し!MK20))","v":"-0.0122480255728986+0.00221803878712477i"},{"$f":"IMDIV(掃き出し!MN20,掃き出し!MM20)","v":"0.00197839756073758+0.00176257281068771i"}," ",{"$f":"IMEXP(COMPLEX(0,計算!$B20*定数!A$61))","v":"-0.620199800050742-0.784443884555817i"},{"$f":"IMEXP(COMPLEX(0,計算!$B20*定数!B$61))","v":"-0.91978961197801-0.392411862330054i"},{"$f":"IMEXP(COMPLEX(0,計算!$B20*定数!C$61))","v":"-0.995411276240419-0.0956890335065634i"},{"$f":"IMEXP(COMPLEX(0,計算!$B20*定数!D$61))","v":"-0.984685680048982-0.174339070510524i"}," ","0.00203148675308331+0.000877961144811684i","-0.0037634871968564+0.000536604582801028i","0.00976171488754167-0.00449812639500088i","-0.010269628012161+0.00398061159781248i","-0.000575766624241652+0.001636381019499i","0.00336149403373888-0.00286625804303997i","-0.00968086282555627+0.00558028916291174i","0.0100329501280237-0.0063998726240104i"," ",{"$f":"IMSUM(IMPRODUCT(定数!$F$38,計算!W20),IMPRODUCT(定数!$G$38,計算!X20),IMPRODUCT(定数!$H$38,計算!Y20),IMPRODUCT(定数!$I$38,計算!Z20))","v":"-0.0098579923172353+0.00418513933176555i"},{"$f":"IMSUM(IMPRODUCT(定数!$F$39,計算!W20),IMPRODUCT(定数!$G$39,計算!X20),IMPRODUCT(定数!$H$39,計算!Y20),IMPRODUCT(定数!$I$39,計算!Z20))","v":"0.0109984644137723-0.0040891607559803i"},{"$f":"IMSUM(IMPRODUCT(定数!$F$40,計算!W20),IMPRODUCT(定数!$G$40,計算!X20),IMPRODUCT(定数!$H$40,計算!Y20),IMPRODUCT(定数!$I$40,計算!Z20))","v":"0.000719273540250299+0.00137343778727448i"},{"$f":"IMSUM(IMPRODUCT(定数!$F$41,計算!W20),IMPRODUCT(定数!$G$41,計算!X20),IMPRODUCT(定数!$H$41,計算!Y20),IMPRODUCT(定数!$I$41,計算!Z20))","v":"0.000676965423941785+0.00086085264081009i"},{"$f":"IMSUM(IMPRODUCT(定数!$F$38,計算!AA20),IMPRODUCT(定数!$G$38,計算!AB20),IMPRODUCT(定数!$H$38,計算!AC20),IMPRODUCT(定数!$I$38,計算!AD20))","v":"0.0101007837052438-0.00616316742665315i"},{"$f":"IMSUM(IMPRODUCT(定数!$F$39,計算!AA20),IMPRODUCT(定数!$G$39,計算!AB20),IMPRODUCT(定数!$H$39,計算!AC20),IMPRODUCT(定数!$I$39,計算!AD20))","v":"-0.0101607829031042+0.00657558167641091i"},{"$f":"IMSUM(IMPRODUCT(定数!$F$40,計算!AA20),IMPRODUCT(定数!$G$40,計算!AB20),IMPRODUCT(定数!$H$40,計算!AC20),IMPRODUCT(定数!$I$40,計算!AD20))","v":"0.000258064352687363+0.0011328644021028i"},{"$f":"IMSUM(IMPRODUCT(定数!$F$41,計算!AA20),IMPRODUCT(定数!$G$41,計算!AB20),IMPRODUCT(定数!$H$41,計算!AC20),IMPRODUCT(定数!$I$41,計算!AD20))","v":"0.000126871315015131+0.000772522857784527i"}," ","0.020261566608348-0.0127387491030641i"," ","0.000258064352687363+0.0011328644021028i","0.000126871315015131+0.000772522857784527i"," "]
[17,{"$f":"A21*定数!$B$8","v":10681415022.205296},null,{"$f":"B21*定数!$C$3","v":5.3407075111026483},{"$f":"B21*定数!$C$5","v":1.0681415022205298},{"$f":"定数!$B$6*SIN(D21)*SIN(E21)/(D21*E21)","v":-2.9365614552890591},"-2.91340579110571+0.368048742751682i"," ",{"$f":"IMSUB(掃き出し!LZ21,IMPRODUCT(P21,掃き出し!LY21))","v":"0.00130566850847621-0.00195932414200749i"},{"$f":"IMSUB(掃き出し!MB21,IMPRODUCT(P21,掃き出し!MA21))","v":"0.00089859913461217-0.00011451001271748i"},{"$f":"IMSUB(掃き出し!MD21,IMPRODUCT(P21,掃き出し!MC21))","v":"-0.0045395347203602+0.00179378308053857i"},{"$f":"IMSUB(掃き出し!MF21,IMPRODUCT(P21,掃き出し!ME21))","v":"0.00018571054069801-0.00119463634694831i"},{"$f":"IMSUB(掃き出し!MH21,IMPRODUCT(P21,掃き出し!MG21))","v":"0.0076606805313583-0.00335268671353999i"},{"$f":"IMSUB(掃き出し!MJ21,IMPRODUCT(P21,掃き出し!MI21))","v":"-0.00177109008875702+0.00041802758121278i"},{"$f":"IMSUB(掃き出し!ML21,IMPRODUCT(P21,掃き出し!MK21))","v":"-0.00978587446855251+0.00391668703779772i"},{"$f":"IMDIV(掃き出し!MN21,掃き出し!MM21)","v":"0.00183893137723972-0.00147567386332746i"}," ",{"$f":"IMEXP(COMPLEX(0,計算!$B21*定数!A$61))","v":"-0.0235841368187526-0.999721855563093i"},{"$f":"IMEXP(COMPLEX(0,計算!$B21*定数!B$61))","v":"-0.525490999776491-0.85079915911683i"},{"$f":"IMEXP(COMPLEX(0,計算!$B21*定数!C$61))","v":"-0.770689375606637-0.637211021818559i"},{"$f":"IMEXP(COMPLEX(0,計算!$B21*定数!D$61))","v":"-0.714256371326499-0.699884159000261i"}," ","0.00220426764308838-0.00207383415472497i","-0.00435382417966219+0.00059914673359026i","0.00588959044260128-0.00293465913232721i","-0.00794694309131279+0.00244101317447026i","0.00179231525482307+0.000455865738226698i","-0.000254649314972488-0.00433508091077627i","-0.00213630407204193+0.00827173880871352i","0.00190212676122938-0.00987952667528091i"," ",{"$f":"IMSUM(IMPRODUCT(定数!$F$38,計算!W21),IMPRODUCT(定数!$G$38,計算!X21),IMPRODUCT(定数!$H$38,計算!Y21),IMPRODUCT(定数!$I$38,計算!Z21))","v":"-0.0077787775425135+0.00162427900601639i"},{"$f":"IMSUM(IMPRODUCT(定数!$F$39,計算!W21),IMPRODUCT(定数!$G$39,計算!X21),IMPRODUCT(定数!$H$39,計算!Y21),IMPRODUCT(定数!$I$39,計算!Z21))","v":"0.00734979250757689-0.00397141482472684i"},{"$f":"IMSUM(IMPRODUCT(定数!$F$40,計算!W21),IMPRODUCT(定数!$G$40,計算!X21),IMPRODUCT(定数!$H$40,計算!Y21),IMPRODUCT(定数!$I$40,計算!Z21))","v":"0.00241095082088424-0.000558462324691317i"},{"$f":"IMSUM(IMPRODUCT(定数!$F$41,計算!W21),IMPRODUCT(定数!$G$41,計算!X21),IMPRODUCT(定数!$H$41,計算!Y21),IMPRODUCT(定数!$I$41,計算!Z21))","v":"0.00123902337711659-0.000862742316205056i"},{"$f":"IMSUM(IMPRODUCT(定数!$F$38,計算!AA21),IMPRODUCT(定数!$G$38,計算!AB21),IMPRODUCT(定数!$H$38,計算!AC21),IMPRODUCT(定数!$I$38,計算!AD21))","v":"0.00228250231122117-0.0102807974947147i"},{"$f":"IMSUM(IMPRODUCT(定数!$F$39,計算!AA21),IMPRODUCT(定数!$G$39,計算!AB21),IMPRODUCT(定数!$H$39,計算!AC21),IMPRODUCT(定数!$I$39,計算!AD21))","v":"-0.00134777050765039+0.00882239317566936i"},{"$f":"IMSUM(IMPRODUCT(定数!$F$40,計算!AA21),IMPRODUCT(定数!$G$40,計算!AB21),IMPRODUCT(定数!$H$40,計算!AC21),IMPRODUCT(定数!$I$40,計算!AD21))","v":"0.00155543796281271+0.00080699420888428i"},{"$f":"IMSUM(IMPRODUCT(定数!$F$41,計算!AA21),IMPRODUCT(定数!$G$41,計算!AB21),IMPRODUCT(定数!$H$41,計算!AC21),IMPRODUCT(定数!$I$41,計算!AD21))","v":"0.00135467084382064+0.00011046745532029i"}," ","0.00363027281887156-0.0191031906703841i"," ","0.00155543796281271+0.00080699420888428i","0.00135467084382064+0.00011046745532029i"," "]
[18,{"$f":"A22*定数!$B$8","v":11309733552.923254},null,{"$f":"B22*定数!$C$3","v":5.6548667764616276},{"$f":"B22*定数!$C$5","v":1.1309733552923256},{"$f":"定数!$B$6*SIN(D22)*SIN(E22)/(D22*E22)","v":-1.9649993977284921},"-1.72194209851165+0.946645679463353i"," ",{"$f":"IMSUB(掃き出し!LZ22,IMPRODUCT(P22,掃き出し!LY22))","v":"-0.000122663432163761-0.00096517574529089i"},{"$f":"IMSUB(掃き出し!MB22,IMPRODUCT(P22,掃き出し!MA22))","v":"-0.00015223830274633-0.000405361264935925i"},{"$f":"IMSUB(掃き出し!MD22,IMPRODUCT(P22,掃き出し!MC22))","v":"-0.00182955531884394+0.00343575793084004i"},{"$f":"IMSUB(掃き出し!MF22,IMPRODUCT(P22,掃き出し!ME22))","v":"-0.00097148258039403+0.000225529019104534i"},{"$f":"IMSUB(掃き出し!MH22,IMPRODUCT(P22,掃き出し!MG22))","v":"0.00532468231405941-0.00433344721661765i"},{"$f":"IMSUB(掃き出し!MJ22,IMPRODUCT(P22,掃き出し!MI22))","v":"0.00023528943670119+0.00156634001192413i"},{"$f":"IMSUB(掃き出し!ML22,IMPRODUCT(P22,掃き出し!MK22))","v":"-0.00655081274807998+0.00647024152625638i"},{"$f":"IMDIV(掃き出し!MN22,掃き出し!MM22)","v":"-0.00142022823224382-0.00166086422923795i"}," ",{"$f":"IMEXP(COMPLEX(0,計算!$B22*定数!A$61))","v":"0.582519303301235-0.812816868231365i"},{"$f":"IMEXP(COMPLEX(0,計算!$B22*定数!B$61))","v":"0.0609220296410457-0.998142528051187i"},{"$f":"IMEXP(COMPLEX(0,計算!$B22*定数!C$61))","v":"-0.281046087601646-0.959694272486716i"},{"$f":"IMEXP(COMPLEX(0,計算!$B22*定数!D$61))","v":"-0.19431613364695-0.98093895844976i"}," ","-0.000274901734910091-0.00137053701022681i","-0.00280103789923797+0.00366128694994457i","0.0055599717507606-0.00276710720469352i","-0.0079710409803238+0.00480937729701843i","0.000294891085616564-0.00077432531066061i","-0.00337491091550576-0.0006334258603193i","0.00409938370439489+0.00566194584868882i","-0.00642721654640155-0.00596732983280883i"," ",{"$f":"IMSUM(IMPRODUCT(定数!$F$38,計算!W22),IMPRODUCT(定数!$G$38,計算!X22),IMPRODUCT(定数!$H$38,計算!Y22),IMPRODUCT(定数!$I$38,計算!Z22))","v":"-0.007810010248715+0.00511314614565537i"},{"$f":"IMSUM(IMPRODUCT(定数!$F$39,計算!W22),IMPRODUCT(定数!$G$39,計算!X22),IMPRODUCT(定数!$H$39,計算!Y22),IMPRODUCT(定数!$I$39,計算!Z22))","v":"0.00626016748782899-0.00364398501175341i"},{"$f":"IMSUM(IMPRODUCT(定数!$F$40,計算!W22),IMPRODUCT(定数!$G$40,計算!X22),IMPRODUCT(定数!$H$40,計算!Y22),IMPRODUCT(定数!$I$40,計算!Z22))","v":"0.000804213285703078-0.00230310702751883i"},{"$f":"IMSUM(IMPRODUCT(定数!$F$41,計算!W22),IMPRODUCT(定数!$G$41,計算!X22),IMPRODUCT(定数!$H$41,計算!Y22),IMPRODUCT(定数!$I$41,計算!Z22))","v":"-0.000969547661732444-0.00118811506799835i"},{"$f":"IMSUM(IMPRODUCT(定数!$F$38,計算!AA22),IMPRODUCT(定数!$G$38,計算!AB22),IMPRODUCT(定数!$H$38,計算!AC22),IMPRODUCT(定数!$I$38,計算!AD22))","v":"-0.00666733698502178-0.00560559993148862i"},{"$f":"IMSUM(IMPRODUCT(定数!$F$39,計算!AA22),IMPRODUCT(定数!$G$39,計算!AB22),IMPRODUCT(定数!$H$39,計算!AC22),IMPRODUCT(定数!$I$39,計算!AD22))","v":"0.00474564468208523+0.0057832882754933i"},{"$f":"IMSUM(IMPRODUCT(定数!$F$40,計算!AA22),IMPRODUCT(定数!$G$40,計算!AB22),IMPRODUCT(定数!$H$40,計算!AC22),IMPRODUCT(定数!$I$40,計算!AD22))","v":"0.00151692931233145-0.0011180570880022i"},{"$f":"IMSUM(IMPRODUCT(定数!$F$41,計算!AA22),IMPRODUCT(定数!$G$41,計算!AB22),IMPRODUCT(定数!$H$41,計算!AC22),IMPRODUCT(定数!$I$41,計算!AD22))","v":"0.0000495611075982927-0.00147489059701716i"}," ","-0.011412981667107-0.0113888882069819i"," ","0.00151692931233145-0.0011180570880022i","0.0000495611075982927-0.00147489059701716i"," "]
[19,{"$f":"A23*定数!$B$8","v":11938052083.641212},null,{"$f":"B23*定数!$C$3","v":5.9690260418206069},{"$f":"B23*定数!$C$5","v":1.1938052083641215},{"$f":"定数!$B$6*SIN(D23)*SIN(E23)/(D23*E23)","v":-0.9527454660525464},"-0.607302816186187+0.734102998588079i"," ",{"$f":"IMSUB(掃き出し!LZ23,IMPRODUCT(P23,掃き出し!LY23))","v":"-0.00005620731152445-0.000265632897736614i"},{"$f":"IMSUB(掃き出し!MB23,IMPRODUCT(P23,掃き出し!MA23))","v":"-0.000163093803235094+0.00005151704479029i"},{"$f":"IMSUB(掃き出し!MD23,IMPRODUCT(P23,掃き出し!MC23))","v":"0.000124895478566594+0.00139944362879824i"},{"$f":"IMSUB(掃き出し!MF23,IMPRODUCT(P23,掃き出し!ME23))","v":"0.000156632775200651+0.00032715793213504i"},{"$f":"IMSUB(掃き出し!MH23,IMPRODUCT(P23,掃き出し!MG23))","v":"0.00107942704964005-0.00401576578861138i"},{"$f":"IMSUB(掃き出し!MJ23,IMPRODUCT(P23,掃き出し!MI23))","v":"0.000915741188578598-0.000408815434455631i"},{"$f":"IMSUB(掃き出し!ML23,IMPRODUCT(P23,掃き出し!MK23))","v":"-0.000216183925039604+0.00463509334456009i"},{"$f":"IMDIV(掃き出し!MN23,掃き出し!MM23)","v":"-0.000535699024946499+0.00103128437489814i"}," ",{"$f":"IMEXP(COMPLEX(0,計算!$B23*定数!A$61))","v":"0.954278225105867-0.29891983722864i"},{"$f":"IMEXP(COMPLEX(0,計算!$B23*定数!B$61))","v":"0.625062555390425-0.780574661290508i"},{"$f":"IMEXP(COMPLEX(0,計算!$B23*定数!C$61))","v":"0.305205667834299-0.952286459171724i"},{"$f":"IMEXP(COMPLEX(0,計算!$B23*定数!D$61))","v":"0.393504491193233-0.919322693840827i"}," ","-0.000219301114759544-0.000214115852946324i","0.000281528253767245+0.00172660156093328i","0.00199516823821865-0.00442458122306701i","-0.000751882949986103+0.00566637771945823i","-0.000114471869359261-0.000172375603412561i","-0.000661026274765175+0.00105446065424765i","0.00404378663575448-0.00119453143802658i","-0.00360893268774851+0.00252348256377331i"," ",{"$f":"IMSUM(IMPRODUCT(定数!$F$38,計算!W23),IMPRODUCT(定数!$G$38,計算!X23),IMPRODUCT(定数!$H$38,計算!Y23),IMPRODUCT(定数!$I$38,計算!Z23))","v":"-0.000905825019126452+0.00533852682320138i"},{"$f":"IMSUM(IMPRODUCT(定数!$F$39,計算!W23),IMPRODUCT(定数!$G$39,計算!X23),IMPRODUCT(定数!$H$39,計算!Y23),IMPRODUCT(定数!$I$39,計算!Z23))","v":"0.00159619957722967-0.00505871091514307i"},{"$f":"IMSUM(IMPRODUCT(定数!$F$40,計算!W23),IMPRODUCT(定数!$G$40,計算!X23),IMPRODUCT(定数!$H$40,計算!Y23),IMPRODUCT(定数!$I$40,計算!Z23))","v":"-0.00114180120860056-0.000412265201116135i"},{"$f":"IMSUM(IMPRODUCT(定数!$F$41,計算!W23),IMPRODUCT(定数!$G$41,計算!X23),IMPRODUCT(定数!$H$41,計算!Y23),IMPRODUCT(定数!$I$41,計算!Z23))","v":"-0.0000951466727007315+0.000536920388431031i"},{"$f":"IMSUM(IMPRODUCT(定数!$F$38,計算!AA23),IMPRODUCT(定数!$G$38,計算!AB23),IMPRODUCT(定数!$H$38,計算!AC23),IMPRODUCT(定数!$I$38,計算!AD23))","v":"-0.00359147390770278+0.00229787824223546i"},{"$f":"IMSUM(IMPRODUCT(定数!$F$39,計算!AA23),IMPRODUCT(定数!$G$39,計算!AB23),IMPRODUCT(定数!$H$39,計算!AC23),IMPRODUCT(定数!$I$39,計算!AD23))","v":"0.00400602205783036-0.0017092908714513i"},{"$f":"IMSUM(IMPRODUCT(定数!$F$40,計算!AA23),IMPRODUCT(定数!$G$40,計算!AB23),IMPRODUCT(定数!$H$40,計算!AC23),IMPRODUCT(定数!$I$40,計算!AD23))","v":"-0.00079654069767678-0.000811585764232611i"},{"$f":"IMSUM(IMPRODUCT(定数!$F$41,計算!AA23),IMPRODUCT(定数!$G$41,計算!AB23),IMPRODUCT(定数!$H$41,計算!AC23),IMPRODUCT(定数!$I$41,計算!AD23))","v":"-0.000374740909291347+0.00024985752189614i"}," ","-0.00759749596553314+0.00400716911368676i"," ","-0.00079654069767678-0.000811585764232611i","-0.000374740909291347+0.00024985752189614i"," "]
[20,{"$f":"A24*定数!$B$8","v":12566370614.359171},null,{"$f":"B24*定数!$C$3","v":6.2831853071795862},{"$f":"B24*定数!$C$5","v":1.2566370614359172},{"$f":"定数!$B$6*SIN(D24)*SIN(E24)/(D24*E24)","v":-6.9741007401488462E-16},"-2.15511564918892E-16+6.63276395421741E-16i"," ",{"$f":"IMSUB(掃き出し!LZ24,IMPRODUCT(P24,掃き出し!LY24))","v":"-5.62838580620399E-21-2.56475084736113E-19i"},{"$f":"IMSUB(掃き出し!MB24,IMPRODUCT(P24,掃き出し!MA24))","v":"1.05240839491391E-20+1.31681759689295E-19i"},{"$f":"IMSUB(掃き出し!MD24,IMPRODUCT(P24,掃き出し!MC24))","v":"2.69748957889457E-19+7.75049192438409E-19i"},{"$f":"IMSUB(掃き出し!MF24,IMPRODUCT(P24,掃き出し!ME24))","v":"2.15119118228509E-19-7.0265747751413E-20i"},{"$f":"IMSUB(掃き出し!MH24,IMPRODUCT(P24,掃き出し!MG24))","v":"-9.23374098901171E-19-2.23522597229805E-18i"},{"$f":"IMSUB(掃き出し!MJ24,IMPRODUCT(P24,掃き出し!MI24))","v":"-3.98109830171875E-19-4.60984391643682E-19i"},{"$f":"IMSUB(掃き出し!ML24,IMPRODUCT(P24,掃き出し!MK24))","v":"1.02133520384038E-18+2.23941559078983E-18i"},{"$f":"IMDIV(掃き出し!MN24,掃き出し!MM24)","v":"6.048735783096E-19+2.30099642079312E-19i"}," ",{"$f":"IMEXP(COMPLEX(0,計算!$B24*定数!A$61))","v":"0.942135927270361+0.335231106173663i"},{"$f":"IMEXP(COMPLEX(0,計算!$B24*定数!B$61))","v":"0.960686268095525-0.277636262567938i"},{"$f":"IMEXP(COMPLEX(0,計算!$B24*定数!C$61))","v":"0.786544196858406-0.617533988043059i"},{"$f":"IMEXP(COMPLEX(0,計算!$B24*定数!D$61))","v":"0.843862329437544-0.53655975338842i"}," ","4.89569814293511E-21-1.24793325046818E-19i","4.84868076117966E-19+7.04783444686996E-19i","-1.32148392907305E-18-2.69621036394173E-18i","1.62620878214998E-18+2.46951523286914E-18i","-1.25509835216078E-19-1.12157464706615E-19i","2.31116021877284E-19+6.9224300180001E-19i","5.6248963399263E-20-2.44505715391279E-18i","2.94178261137339E-19+2.30738742408099E-18i"," ",{"$f":"IMSUM(IMPRODUCT(定数!$F$38,計算!W24),IMPRODUCT(定数!$G$38,計算!X24),IMPRODUCT(定数!$H$38,計算!Y24),IMPRODUCT(定数!$I$38,計算!Z24))","v":"1.57009117054558E-18+2.50736005225577E-18i"},{"$f":"IMSUM(IMPRODUCT(定数!$F$39,計算!W24),IMPRODUCT(定数!$G$39,計算!X24),IMPRODUCT(定数!$H$39,計算!Y24),IMPRODUCT(定数!$I$39,計算!Z24))","v":"-1.45190617081661E-18-2.73048985175261E-18i"},{"$f":"IMSUM(IMPRODUCT(定数!$F$40,計算!W24),IMPRODUCT(定数!$G$40,計算!X24),IMPRODUCT(定数!$H$40,計算!Y24),IMPRODUCT(定数!$I$40,計算!Z24))","v":"-4.54735922341204E-20+3.11572802276649E-19i"},{"$f":"IMSUM(IMPRODUCT(定数!$F$41,計算!W24),IMPRODUCT(定数!$G$41,計算!X24),IMPRODUCT(定数!$H$41,計算!Y24),IMPRODUCT(定数!$I$41,計算!Z24))","v":"1.75372168037342E-19+2.52250992255143E-20i"},{"$f":"IMSUM(IMPRODUCT(定数!$F$38,計算!AA24),IMPRODUCT(定数!$G$38,計算!AB24),IMPRODUCT(定数!$H$38,計算!AC24),IMPRODUCT(定数!$I$38,計算!AD24))","v":"2.32574554798587E-19+2.3445299956024E-18i"},{"$f":"IMSUM(IMPRODUCT(定数!$F$39,計算!AA24),IMPRODUCT(定数!$G$39,計算!AB24),IMPRODUCT(定数!$H$39,計算!AC24),IMPRODUCT(定数!$I$39,計算!AD24))","v":"-9.84752977593597E-20-2.4908632792056E-18i"},{"$f":"IMSUM(IMPRODUCT(定数!$F$40,計算!AA24),IMPRODUCT(定数!$G$40,計算!AB24),IMPRODUCT(定数!$H$40,計算!AC24),IMPRODUCT(定数!$I$40,計算!AD24))","v":"-3.10984031188392E-19+2.35628527303273E-19i"},{"$f":"IMSUM(IMPRODUCT(定数!$F$41,計算!AA24),IMPRODUCT(定数!$G$41,計算!AB24),IMPRODUCT(定数!$H$41,計算!AC24),IMPRODUCT(定数!$I$41,計算!AD24))","v":"-2.97274302658943E-20+2.57472686770739E-20i"}," ","3.31049852557947E-19+4.835393274808E-18i"," ","-3.10984031188392E-19+2.35628527303273E-19i","-2.97274302658943E-20+2.57472686770739E-20i"," "]
[21,{"$f":"A25*定数!$B$8","v":13194689145.077129},null,{"$f":"B25*定数!$C$3","v":6.5973445725385647},{"$f":"B25*定数!$C$5","v":1.3194689145077132},{"$f":"定数!$B$6*SIN(D25)*SIN(E25)/(D25*E25)","v":0.81246349940561258},"-0.0510150052262833-0.810860288279168i"," ",{"$f":"IMSUB(掃き出し!LZ25,IMPRODUCT(P25,掃き出し!LY25))","v":"0.000262687723105008+0.00049489115993757i"},{"$f":"IMSUB(掃き出し!MB25,IMPRODUCT(P25,掃き出し!MA25))","v":"-0.000243437526513009+0.0000392449482751499i"},{"$f":"IMSUB(掃き出し!MD25,IMPRODUCT(P25,掃き出し!MC25))","v":"-0.000435667313022083-0.000864465974122667i"},{"$f":"IMSUB(掃き出し!MF25,IMPRODUCT(P25,掃き出し!ME25))","v":"0.000032829787986657+0.0002832501464342i"},{"$f":"IMSUB(掃き出し!MH25,IMPRODUCT(P25,掃き出し!MG25))","v":"0.00134458821245965+0.00170255585016914i"},{"$f":"IMSUB(掃き出し!MJ25,IMPRODUCT(P25,掃き出し!MI25))","v":"0.00046279625342821-0.000333970737398938i"},{"$f":"IMSUB(掃き出し!ML25,IMPRODUCT(P25,掃き出し!MK25))","v":"-0.0013920203050142-0.00198650565349093i"},{"$f":"IMDIV(掃き出し!MN25,掃き出し!MM25)","v":"-0.000340189794119248+0.00057050285053542i"}," ",{"$f":"IMEXP(COMPLEX(0,計算!$B25*定数!A$61))","v":"0.550977193734796+0.834520300522479i"},{"$f":"IMEXP(COMPLEX(0,計算!$B25*定数!B$61))","v":"0.945092390773261+0.326803263298397i"},{"$f":"IMEXP(COMPLEX(0,計算!$B25*定数!C$61))","v":"0.997511307181582-0.0705066808528911i"},{"$f":"IMEXP(COMPLEX(0,計算!$B25*定数!D$61))","v":"0.99943403460363+0.0336394184835372i"}," ","0.000019250196591999+0.00053413610821272i","-0.000402837525035426-0.000581215827688467i","0.00180738446588786+0.0013685851127702i","-0.00173221009913345-0.00141600280295551i","0.000390852432785555-0.000128074981437773i","-0.000755796053167075-0.000396196274689859i","0.00165929771098939+0.00142735134906273i","-0.001817246007291-0.00137981842763813i"," ",{"$f":"IMSUM(IMPRODUCT(定数!$F$38,計算!W25),IMPRODUCT(定数!$G$38,計算!X25),IMPRODUCT(定数!$H$38,計算!Y25),IMPRODUCT(定数!$I$38,計算!Z25))","v":"-0.00170618410672468-0.00129224711068123i"},{"$f":"IMSUM(IMPRODUCT(定数!$F$39,計算!W25),IMPRODUCT(定数!$G$39,計算!X25),IMPRODUCT(定数!$H$39,計算!Y25),IMPRODUCT(定数!$I$39,計算!Z25))","v":"0.00185162367485254+0.00165144871748299i"},{"$f":"IMSUM(IMPRODUCT(定数!$F$40,計算!W25),IMPRODUCT(定数!$G$40,計算!X25),IMPRODUCT(定数!$H$40,計算!Y25),IMPRODUCT(定数!$I$40,計算!Z25))","v":"-0.000229789263544244+0.000242788614589194i"},{"$f":"IMSUM(IMPRODUCT(定数!$F$41,計算!W25),IMPRODUCT(定数!$G$41,計算!X25),IMPRODUCT(定数!$H$41,計算!Y25),IMPRODUCT(定数!$I$41,計算!Z25))","v":"-0.00013124213936888+0.000253200341386956i"},{"$f":"IMSUM(IMPRODUCT(定数!$F$38,計算!AA25),IMPRODUCT(定数!$G$38,計算!AB25),IMPRODUCT(定数!$H$38,計算!AC25),IMPRODUCT(定数!$I$38,計算!AD25))","v":"-0.00176781738869588-0.00146761045451886i"},{"$f":"IMSUM(IMPRODUCT(定数!$F$39,計算!AA25),IMPRODUCT(定数!$G$39,計算!AB25),IMPRODUCT(定数!$H$39,計算!AC25),IMPRODUCT(定数!$I$39,計算!AD25))","v":"0.00189239030098957+0.00136553724554757i"},{"$f":"IMSUM(IMPRODUCT(定数!$F$40,計算!AA25),IMPRODUCT(定数!$G$40,計算!AB25),IMPRODUCT(定数!$H$40,計算!AC25),IMPRODUCT(定数!$I$40,計算!AD25))","v":"0.000215503780036323-0.00023090080962016i"},{"$f":"IMSUM(IMPRODUCT(定数!$F$41,計算!AA25),IMPRODUCT(定数!$G$41,計算!AB25),IMPRODUCT(定数!$H$41,計算!AC25),IMPRODUCT(定数!$I$41,計算!AD25))","v":"0.000171229519974761-0.000124084935854425i"}," ","-0.00366020768968545-0.00283314770006643i"," ","0.000215503780036323-0.00023090080962016i","0.000171229519974761-0.000124084935854425i"," "]
[22,{"$f":"A26*定数!$B$8","v":13823007675.795088},null,{"$f":"B26*定数!$C$3","v":6.911503837897544},{"$f":"B26*定数!$C$5","v":1.3823007675795089},{"$f":"定数!$B$6*SIN(D26)*SIN(E26)/(D26*E26)","v":1.4280223375032051},"-0.608022339201209-1.29211324249867i"," ",{"$f":"IMSUB(掃き出し!LZ26,IMPRODUCT(P26,掃き出し!LY26))","v":"0.00094540528475783-0.00003339694898541i"},{"$f":"IMSUB(掃き出し!MB26,IMPRODUCT(P26,掃き出し!MA26))","v":"0.000296597814301054+0.00027541469324219i"},{"$f":"IMSUB(掃き出し!MD26,IMPRODUCT(P26,掃き出し!MC26))","v":"-0.00157068260124373-0.00169730506017777i"},{"$f":"IMSUB(掃き出し!MF26,IMPRODUCT(P26,掃き出し!ME26))","v":"0.00071212988021398-0.000053299927779355i"},{"$f":"IMSUB(掃き出し!MH26,IMPRODUCT(P26,掃き出し!MG26))","v":"0.00268343498673624+0.00256000220911268i"},{"$f":"IMSUB(掃き出し!MJ26,IMPRODUCT(P26,掃き出し!MI26))","v":"-0.000397547248078136-0.000940030653381921i"},{"$f":"IMSUB(掃き出し!ML26,IMPRODUCT(P26,掃き出し!MK26))","v":"-0.00321406943621538-0.00337487961907993i"},{"$f":"IMDIV(掃き出し!MN26,掃き出し!MM26)","v":"0.000963997507495733+0.000912761341573739i"}," ",{"$f":"IMEXP(COMPLEX(0,計算!$B26*定数!A$61))","v":"-0.0618368297401932+0.99808627206654i"},{"$f":"IMEXP(COMPLEX(0,計算!$B26*定数!B$61))","v":"0.583981893859237+0.811766683009705i"},{"$f":"IMEXP(COMPLEX(0,計算!$B26*定数!C$61))","v":"0.865587899247644+0.500757015603426i"},{"$f":"IMEXP(COMPLEX(0,計算!$B26*定数!D$61))","v":"0.805873797212329+0.592087344035137i"}," ","0.00124200309905888+0.00024201774425678i","-0.00085855272102975-0.00175060498795712i","0.0022858877386581+0.00161997155573076i","-0.00225007192871965-0.00246211827750619i","-0.000385022194934988-0.000662531439522837i","-0.00183592783718294+0.00083078949973945i","0.00373130277635773-0.000140595693266895i","-0.00435193195776787+0.000489623954423123i"," ",{"$f":"IMSUM(IMPRODUCT(定数!$F$38,計算!W26),IMPRODUCT(定数!$G$38,計算!X26),IMPRODUCT(定数!$H$38,計算!Y26),IMPRODUCT(定数!$I$38,計算!Z26))","v":"-0.00186890269243551-0.00280345621088662i"},{"$f":"IMSUM(IMPRODUCT(定数!$F$39,計算!W26),IMPRODUCT(定数!$G$39,計算!X26),IMPRODUCT(定数!$H$39,計算!Y26),IMPRODUCT(定数!$I$39,計算!Z26))","v":"0.00293104962369806+0.00178187070714329i"},{"$f":"IMSUM(IMPRODUCT(定数!$F$40,計算!W26),IMPRODUCT(定数!$G$40,計算!X26),IMPRODUCT(定数!$H$40,計算!Y26),IMPRODUCT(定数!$I$40,計算!Z26))","v":"0.000510182858707614+0.000758695001936035i"},{"$f":"IMSUM(IMPRODUCT(定数!$F$41,計算!W26),IMPRODUCT(定数!$G$41,計算!X26),IMPRODUCT(定数!$H$41,計算!Y26),IMPRODUCT(定数!$I$41,計算!Z26))","v":"0.000568994438975626+0.000383597830940593i"},{"$f":"IMSUM(IMPRODUCT(定数!$F$38,計算!AA26),IMPRODUCT(定数!$G$38,計算!AB26),IMPRODUCT(定数!$H$38,計算!AC26),IMPRODUCT(定数!$I$38,計算!AD26))","v":"-0.00476890843762861+0.000538240857266985i"},{"$f":"IMSUM(IMPRODUCT(定数!$F$39,計算!AA26),IMPRODUCT(定数!$G$39,計算!AB26),IMPRODUCT(定数!$H$39,計算!AC26),IMPRODUCT(定数!$I$39,計算!AD26))","v":"0.00364375357089503-0.000428109161039521i"},{"$f":"IMSUM(IMPRODUCT(定数!$F$40,計算!AA26),IMPRODUCT(定数!$G$40,計算!AB26),IMPRODUCT(定数!$H$40,計算!AC26),IMPRODUCT(定数!$I$40,計算!AD26))","v":"-0.0000444147770161719-0.0007508476291151i"},{"$f":"IMSUM(IMPRODUCT(定数!$F$41,計算!AA26),IMPRODUCT(定数!$G$41,計算!AB26),IMPRODUCT(定数!$H$41,計算!AC26),IMPRODUCT(定数!$I$41,計算!AD26))","v":"-0.000234298360954801-0.000605733852902518i"}," ","-0.00841266200852364+0.000966350018306506i"," ","-0.0000444147770161719-0.0007508476291151i","-0.000234298360954801-0.000605733852902518i"," "]
[23,{"$f":"A27*定数!$B$8","v":14451326206.513046},null,{"$f":"B27*定数!$C$3","v":7.2256631032565233},{"$f":"B27*定数!$C$5","v":1.4451326206513049},{"$f":"定数!$B$6*SIN(D27)*SIN(E27)/(D27*E27)","v":1.8162976773152308},"-1.32402402482118-1.24334131851114i"," ",{"$f":"IMSUB(掃き出し!LZ27,IMPRODUCT(P27,掃き出し!LY27))","v":"0.00061042780748906-0.000392194417362834i"},{"$f":"IMSUB(掃き出し!MB27,IMPRODUCT(P27,掃き出し!MA27))","v":"0.00023558726539669-0.000271247583022353i"},{"$f":"IMSUB(掃き出し!MD27,IMPRODUCT(P27,掃き出し!MC27))","v":"-0.00356669118634547-8.21542569308994E-06i"},{"$f":"IMSUB(掃き出し!MF27,IMPRODUCT(P27,掃き出し!ME27))","v":"-0.000621379986586378-0.00094329793548973i"},{"$f":"IMSUB(掃き出し!MH27,IMPRODUCT(P27,掃き出し!MG27))","v":"0.00515622253015906+0.00306664558894445i"},{"$f":"IMSUB(掃き出し!MJ27,IMPRODUCT(P27,掃き出し!MI27))","v":"-0.00166810831595705+0.000459686071782816i"},{"$f":"IMSUB(掃き出し!ML27,IMPRODUCT(P27,掃き出し!MK27))","v":"-0.00752374263719609-0.00352807240983904i"},{"$f":"IMDIV(掃き出し!MN27,掃き出し!MM27)","v":"0.0016864530209817-0.00181533270456306i"}," ",{"$f":"IMEXP(COMPLEX(0,計算!$B27*定数!A$61))","v":"-0.649774214797382+0.760127272096223i"},{"$f":"IMEXP(COMPLEX(0,計算!$B27*定数!B$61))","v":"0.00937327566210398+0.999956069886754i"},{"$f":"IMEXP(COMPLEX(0,計算!$B27*定数!C$61))","v":"0.436122116371904+0.899887492751895i"},{"$f":"IMEXP(COMPLEX(0,計算!$B27*定数!D$61))","v":"0.330797947449006+0.943701604302718i"}," ","0.00084601507288575-0.000663442000385187i","-0.00418807117293185-0.00095151336118282i","0.00348811421420201+0.00352633166072727i","-0.00583728961621439-0.0053434051144021i","-0.000641653766946992+0.000146160986132147i","0.000895785485919689+0.002936263014874i","0.00386721401684897-0.00460321874791522i","-0.00354727863133103+0.00692408897433158i"," ",{"$f":"IMSUM(IMPRODUCT(定数!$F$38,計算!W27),IMPRODUCT(定数!$G$38,計算!X27),IMPRODUCT(定数!$H$38,計算!Y27),IMPRODUCT(定数!$I$38,計算!Z27))","v":"-0.00644562605016643-0.00479883748417622i"},{"$f":"IMSUM(IMPRODUCT(定数!$F$39,計算!W27),IMPRODUCT(定数!$G$39,計算!X27),IMPRODUCT(定数!$H$39,計算!Y27),IMPRODUCT(定数!$I$39,計算!Z27))","v":"0.00413551420672187+0.0040853080855768i"},{"$f":"IMSUM(IMPRODUCT(定数!$F$40,計算!W27),IMPRODUCT(定数!$G$40,計算!X27),IMPRODUCT(定数!$H$40,計算!Y27),IMPRODUCT(定数!$I$40,計算!Z27))","v":"0.0021862637372275+0.000124865522858103i"},{"$f":"IMSUM(IMPRODUCT(定数!$F$41,計算!W27),IMPRODUCT(定数!$G$41,計算!X27),IMPRODUCT(定数!$H$41,計算!Y27),IMPRODUCT(定数!$I$41,計算!Z27))","v":"0.000951667774498312-0.00151447997747818i"},{"$f":"IMSUM(IMPRODUCT(定数!$F$38,計算!AA27),IMPRODUCT(定数!$G$38,計算!AB27),IMPRODUCT(定数!$H$38,計算!AC27),IMPRODUCT(定数!$I$38,計算!AD27))","v":"-0.00274752461527309+0.00699782334051573i"},{"$f":"IMSUM(IMPRODUCT(定数!$F$39,計算!AA27),IMPRODUCT(定数!$G$39,計算!AB27),IMPRODUCT(定数!$H$39,計算!AC27),IMPRODUCT(定数!$I$39,計算!AD27))","v":"0.00404674063087752-0.00519049770426284i"},{"$f":"IMSUM(IMPRODUCT(定数!$F$40,計算!AA27),IMPRODUCT(定数!$G$40,計算!AB27),IMPRODUCT(定数!$H$40,計算!AC27),IMPRODUCT(定数!$I$40,計算!AD27))","v":"-0.00147233634889993-0.0010475830987843i"},{"$f":"IMSUM(IMPRODUCT(定数!$F$41,計算!AA27),IMPRODUCT(定数!$G$41,計算!AB27),IMPRODUCT(定数!$H$41,計算!AC27),IMPRODUCT(定数!$I$41,計算!AD27))","v":"-0.00162351262571696+0.000545827967219257i"}," ","-0.00679426524615061+0.0121883210447786i"," ","-0.00147233634889993-0.0010475830987843i","-0.00162351262571696+0.000545827967219257i"," "]
[24,{"$f":"A28*定数!$B$8","v":15079644737.231007},null,{"$f":"B28*定数!$C$3","v":7.5398223686155035},{"$f":"B28*定数!$C$5","v":1.5079644737231008},{"$f":"定数!$B$6*SIN(D28)*SIN(E28)/(D28*E28)","v":1.9726461282023577},"-1.83411998498105-0.726179473549666i"," ",{"$f":"IMSUB(掃き出し!LZ28,IMPRODUCT(P28,掃き出し!LY28))","v":"0.000383820526334741-0.00023841136182213i"},{"$f":"IMSUB(掃き出し!MB28,IMPRODUCT(P28,掃き出し!MA28))","v":"-0.00023742235663264-0.000248830289534841i"},{"$f":"IMSUB(掃き出し!MD28,IMPRODUCT(P28,掃き出し!MC28))","v":"-0.00222090063087867+0.00136475905164869i"},{"$f":"IMSUB(掃き出し!MF28,IMPRODUCT(P28,掃き出し!ME28))","v":"-0.00057775061827583+0.000575399503416924i"},{"$f":"IMSUB(掃き出し!MH28,IMPRODUCT(P28,掃き出し!MG28))","v":"0.00876976159352332-0.00112381972397797i"},{"$f":"IMSUB(掃き出し!MJ28,IMPRODUCT(P28,掃き出し!MI28))","v":"0.00142912031310149+0.00221078445856105i"},{"$f":"IMSUB(掃き出し!ML28,IMPRODUCT(P28,掃き出し!MK28))","v":"-0.00886172507918981+0.00386144229563484i"},{"$f":"IMDIV(掃き出し!MN28,掃き出し!MM28)","v":"-0.00290172687847253-0.000766796581092518i"}," ",{"$f":"IMEXP(COMPLEX(0,計算!$B28*定数!A$61))","v":"-0.976310776710194+0.21637298186127i"},{"$f":"IMEXP(COMPLEX(0,計算!$B28*定数!B$61))","v":"-0.568662121284801+0.822571207747919i"},{"$f":"IMEXP(COMPLEX(0,計算!$B28*定数!C$61))","v":"-0.14325889796991+0.989685247011618i"},{"$f":"IMEXP(COMPLEX(0,計算!$B28*定数!D$61))","v":"-0.259835433865351+0.965652912442149i"}," ","0.000146398169702101-0.000487241651356971i","-0.0027986512491545+0.00194015855506561i","0.0101988819066248+0.00108696473458308i","-0.0117634519576623+0.00309464571454232i","-0.000140675736313813+0.000341279100034138i","0.00224079139301692+0.000248313210825264i","-0.00476128914655043-0.00742064174884648i","0.00752583399396316+0.00495119100877496i"," ",{"$f":"IMSUM(IMPRODUCT(定数!$F$38,計算!W28),IMPRODUCT(定数!$G$38,計算!X28),IMPRODUCT(定数!$H$38,計算!Y28),IMPRODUCT(定数!$I$38,計算!Z28))","v":"-0.0110112307700817+0.00235957521380842i"},{"$f":"IMSUM(IMPRODUCT(定数!$F$39,計算!W28),IMPRODUCT(定数!$G$39,計算!X28),IMPRODUCT(定数!$H$39,計算!Y28),IMPRODUCT(定数!$I$39,計算!Z28))","v":"0.0112287138218257-0.0004093437604206i"},{"$f":"IMSUM(IMPRODUCT(定数!$F$40,計算!W28),IMPRODUCT(定数!$G$40,計算!X28),IMPRODUCT(定数!$H$40,計算!Y28),IMPRODUCT(定数!$I$40,計算!Z28))","v":"-0.000197758974697181-0.00298445295557558i"},{"$f":"IMSUM(IMPRODUCT(定数!$F$41,計算!W28),IMPRODUCT(定数!$G$41,計算!X28),IMPRODUCT(定数!$H$41,計算!Y28),IMPRODUCT(定数!$I$41,計算!Z28))","v":"-0.00145258046673886+0.000518240557254315i"},{"$f":"IMSUM(IMPRODUCT(定数!$F$38,計算!AA28),IMPRODUCT(定数!$G$38,計算!AB28),IMPRODUCT(定数!$H$38,計算!AC28),IMPRODUCT(定数!$I$38,計算!AD28))","v":"0.0067939335469113+0.0051381817186905i"},{"$f":"IMSUM(IMPRODUCT(定数!$F$39,計算!AA28),IMPRODUCT(定数!$G$39,計算!AB28),IMPRODUCT(定数!$H$39,計算!AC28),IMPRODUCT(定数!$I$39,計算!AD28))","v":"-0.00593826131984939-0.00679963092319931i"},{"$f":"IMSUM(IMPRODUCT(定数!$F$40,計算!AA28),IMPRODUCT(定数!$G$40,計算!AB28),IMPRODUCT(定数!$H$40,計算!AC28),IMPRODUCT(定数!$I$40,計算!AD28))","v":"-0.00117040261255243+0.00259837597841053i"},{"$f":"IMSUM(IMPRODUCT(定数!$F$41,計算!AA28),IMPRODUCT(定数!$G$41,計算!AB28),IMPRODUCT(定数!$H$41,計算!AC28),IMPRODUCT(定数!$I$41,計算!AD28))","v":"0.00113782053082599+0.000467873609390683i"}," ","0.0127321948667607+0.0119378126418898i"," ","-0.00117040261255243+0.00259837597841053i","0.00113782053082599+0.000467873609390683i"," "]
[25,{"$f":"A29*定数!$B$8","v":15707963267.948965},null,{"$f":"B29*定数!$C$3","v":7.8539816339744828},{"$f":"B29*定数!$C$5","v":1.5707963267948968},{"$f":"定数!$B$6*SIN(D29)*SIN(E29)/(D29*E29)","v":1.9153279776127958},"-1.9153279776128-7.03968333724672E-16i"," ",{"$f":"IMSUB(掃き出し!LZ29,IMPRODUCT(P29,掃き出し!LY29))","v":"0.00065276903314554-0.000229292298889299i"},{"$f":"IMSUB(掃き出し!MB29,IMPRODUCT(P29,掃き出し!MA29))","v":"-0.000337726634451678+0.000196226201184i"},{"$f":"IMSUB(掃き出し!MD29,IMPRODUCT(P29,掃き出し!MC29))","v":"-0.00146951262631026+0.00136196231615753i"},{"$f":"IMSUB(掃き出し!MF29,IMPRODUCT(P29,掃き出し!ME29))","v":"0.000375640292125539+0.0005503323160506i"},{"$f":"IMSUB(掃き出し!MH29,IMPRODUCT(P29,掃き出し!MG29))","v":"0.00421122429163038-0.00487146148650031i"},{"$f":"IMSUB(掃き出し!MJ29,IMPRODUCT(P29,掃き出し!MI29))","v":"0.00117136004303915-0.0015992207806336i"},{"$f":"IMSUB(掃き出し!ML29,IMPRODUCT(P29,掃き出し!MK29))","v":"-0.0039166664747196+0.0048777034239697i"},{"$f":"IMDIV(掃き出し!MN29,掃き出し!MM29)","v":"-0.00026706666057668+0.00199739580642469i"}," ",{"$f":"IMEXP(COMPLEX(0,計算!$B29*定数!A$61))","v":"-0.91008253684282-0.414427045610851i"},{"$f":"IMEXP(COMPLEX(0,計算!$B29*定数!B$61))","v":"-0.938800157344593+0.34446228323253i"},{"$f":"IMEXP(COMPLEX(0,計算!$B29*定数!C$61))","v":"-0.673395239678677+0.739282659865695i"},{"$f":"IMEXP(COMPLEX(0,計算!$B29*定数!D$61))","v":"-0.759700593736549+0.650273025641026i"}," ","0.000315042398693862-0.000033066097705299i","-0.00109387233418472+0.00191229463220813i","0.00538258433466953-0.00647068226713391i","-0.00418373313529628+0.00687509923039439i","-0.000110368210578219+0.000440581071295793i","0.00130650344242437-0.00115967691440865i","-0.00604371748088942+0.00211000770883205i","0.00505137089615775-0.00284978065380666i"," ",{"$f":"IMSUM(IMPRODUCT(定数!$F$38,計算!W29),IMPRODUCT(定数!$G$38,計算!X29),IMPRODUCT(定数!$H$38,計算!Y29),IMPRODUCT(定数!$I$38,計算!Z29))","v":"-0.004376622594485+0.00678523431266588i"},{"$f":"IMSUM(IMPRODUCT(定数!$F$39,計算!W29),IMPRODUCT(定数!$G$39,計算!X29),IMPRODUCT(定数!$H$39,計算!Y29),IMPRODUCT(定数!$I$39,計算!Z29))","v":"0.00523729944335745-0.00677808874586289i"},{"$f":"IMSUM(IMPRODUCT(定数!$F$40,計算!W29),IMPRODUCT(定数!$G$40,計算!X29),IMPRODUCT(定数!$H$40,計算!Y29),IMPRODUCT(定数!$I$40,計算!Z29))","v":"-0.00102560897323433+0.000388631387299638i"},{"$f":"IMSUM(IMPRODUCT(定数!$F$41,計算!W29),IMPRODUCT(定数!$G$41,計算!X29),IMPRODUCT(定数!$H$41,計算!Y29),IMPRODUCT(定数!$I$41,計算!Z29))","v":"0.000178509205440682+0.000546099419954351i"},{"$f":"IMSUM(IMPRODUCT(定数!$F$38,計算!AA29),IMPRODUCT(定数!$G$38,計算!AB29),IMPRODUCT(定数!$H$38,計算!AC29),IMPRODUCT(定数!$I$38,計算!AD29))","v":"0.00526223351933198-0.00268855140912419i"},{"$f":"IMSUM(IMPRODUCT(定数!$F$39,計算!AA29),IMPRODUCT(定数!$G$39,計算!AB29),IMPRODUCT(定数!$H$39,計算!AC29),IMPRODUCT(定数!$I$39,計算!AD29))","v":"-0.00588685078589231+0.00256424604654014i"},{"$f":"IMSUM(IMPRODUCT(定数!$F$40,計算!AA29),IMPRODUCT(定数!$G$40,計算!AB29),IMPRODUCT(定数!$H$40,計算!AC29),IMPRODUCT(定数!$I$40,計算!AD29))","v":"0.00109783743126363+0.000552302761120559i"},{"$f":"IMSUM(IMPRODUCT(定数!$F$41,計算!AA29),IMPRODUCT(定数!$G$41,計算!AB29),IMPRODUCT(定数!$H$41,計算!AC29),IMPRODUCT(定数!$I$41,計算!AD29))","v":"0.0000475901160625807+0.0000309301628913219i"}," ","0.0111490843052243-0.00525279745566433i"," ","0.00109783743126363+0.000552302761120559i","0.0000475901160625807+0.0000309301628913219i"," "]
[26,{"$f":"A30*定数!$B$8","v":16336281798.666924},null,{"$f":"B30*定数!$C$3","v":8.1681408993334621},{"$f":"B30*定数!$C$5","v":1.6336281798666927},{"$f":"定数!$B$6*SIN(D30)*SIN(E30)/(D30*E30)","v":1.6808345707759735},"-1.56280046057557+0.61875647450384i"," ",{"$f":"IMSUB(掃き出し!LZ30,IMPRODUCT(P30,掃き出し!LY30))","v":"0.00059796919817447-0.00109240439433403i"},{"$f":"IMSUB(掃き出し!MB30,IMPRODUCT(P30,掃き出し!MA30))","v":"0.00045161167389824+0.00039431256426399i"},{"$f":"IMSUB(掃き出し!MD30,IMPRODUCT(P30,掃き出し!MC30))","v":"-0.00121793081180087+0.00135067650574897i"},{"$f":"IMSUB(掃き出し!MF30,IMPRODUCT(P30,掃き出し!ME30))","v":"0.00060037436040444-0.000227028479544032i"},{"$f":"IMSUB(掃き出し!MH30,IMPRODUCT(P30,掃き出し!MG30))","v":"0.00183749153575583-0.00369606918318693i"},{"$f":"IMSUB(掃き出し!MJ30,IMPRODUCT(P30,掃き出し!MI30))","v":"-0.000963887652872403-0.000894049051180007i"},{"$f":"IMSUB(掃き出し!ML30,IMPRODUCT(P30,掃き出し!MK30))","v":"-0.00229396873841749+0.0038825423696726i"},{"$f":"IMDIV(掃き出し!MN30,掃き出し!MM30)","v":"0.00140370387265017+0.000510499545955459i"}," ",{"$f":"IMEXP(COMPLEX(0,計算!$B30*定数!A$61))","v":"-0.477732775310852-0.878505205103414i"},{"$f":"IMEXP(COMPLEX(0,計算!$B30*定数!B$61))","v":"-0.965721953378933-0.259578714000161i"},{"$f":"IMEXP(COMPLEX(0,計算!$B30*定数!C$61))","v":"-0.972054663719618+0.234754618146139i"},{"$f":"IMEXP(COMPLEX(0,計算!$B30*定数!D$61))","v":"-0.994179810293964+0.107733489704257i"}," ","0.00104958087207271-0.00069809183007004i","-0.00061755645139643+0.00112364802620494i","0.000873603882883427-0.00459011823436694i","-0.00089026486576732+0.00439304191562806i","0.000804669403715397+0.000462077194283906i","0.000186849191410322-0.00155712488503791i","-0.00150697789472748+0.00380420913503188i","0.00124836529619118-0.00396911040411837i"," ",{"$f":"IMSUM(IMPRODUCT(定数!$F$38,計算!W30),IMPRODUCT(定数!$G$38,計算!X30),IMPRODUCT(定数!$H$38,計算!Y30),IMPRODUCT(定数!$I$38,計算!Z30))","v":"-0.000658680208007492+0.00410418096034714i"},{"$f":"IMSUM(IMPRODUCT(定数!$F$39,計算!W30),IMPRODUCT(定数!$G$39,計算!X30),IMPRODUCT(定数!$H$39,計算!Y30),IMPRODUCT(定数!$I$39,計算!Z30))","v":"0.00136168465802997-0.00502509232027549i"},{"$f":"IMSUM(IMPRODUCT(定数!$F$40,計算!W30),IMPRODUCT(定数!$G$40,計算!X30),IMPRODUCT(定数!$H$40,計算!Y30),IMPRODUCT(定数!$I$40,計算!Z30))","v":"0.000611951772082909+0.000199993306638921i"},{"$f":"IMSUM(IMPRODUCT(定数!$F$41,計算!W30),IMPRODUCT(定数!$G$41,計算!X30),IMPRODUCT(定数!$H$41,計算!Y30),IMPRODUCT(定数!$I$41,計算!Z30))","v":"0.000642832866308808-0.000024125071034776i"},{"$f":"IMSUM(IMPRODUCT(定数!$F$38,計算!AA30),IMPRODUCT(定数!$G$38,計算!AB30),IMPRODUCT(定数!$H$38,計算!AC30),IMPRODUCT(定数!$I$38,計算!AD30))","v":"0.00158897723420959-0.00402901547211053i"},{"$f":"IMSUM(IMPRODUCT(定数!$F$39,計算!AA30),IMPRODUCT(定数!$G$39,計算!AB30),IMPRODUCT(定数!$H$39,計算!AC30),IMPRODUCT(定数!$I$39,計算!AD30))","v":"-0.00104852383990552+0.00406277517189683i"},{"$f":"IMSUM(IMPRODUCT(定数!$F$40,計算!AA30),IMPRODUCT(定数!$G$40,計算!AB30),IMPRODUCT(定数!$H$40,計算!AC30),IMPRODUCT(定数!$I$40,計算!AD30))","v":"0.000777291235438652+0.000111741673703887i"},{"$f":"IMSUM(IMPRODUCT(定数!$F$41,計算!AA30),IMPRODUCT(定数!$G$41,計算!AB30),IMPRODUCT(定数!$H$41,計算!AC30),IMPRODUCT(定数!$I$41,計算!AD30))","v":"0.000466220448686679+0.000192125267671475i"}," ","0.00263750107411511-0.00809179064400736i"," ","0.000777291235438652+0.000111741673703887i","0.000466220448686679+0.000192125267671475i"," "]
[27,{"$f":"A31*定数!$B$8","v":16964600329.384882},null,{"$f":"B31*定数!$C$3","v":8.4823001646924414},{"$f":"B31*定数!$C$5","v":1.6964600329384885},{"$f":"定数!$B$6*SIN(D31)*SIN(E31)/(D31*E31)","v":1.317999274759613},"-0.960780122263956+0.902232589152773i"," ",{"$f":"IMSUB(掃き出し!LZ31,IMPRODUCT(P31,掃き出し!LY31))","v":"-0.000352997481871008-0.00056517068567176i"},{"$f":"IMSUB(掃き出し!MB31,IMPRODUCT(P31,掃き出し!MA31))","v":"0.0000345710510064-0.000308803938676197i"},{"$f":"IMSUB(掃き出し!MD31,IMPRODUCT(P31,掃き出し!MC31))","v":"-0.0009368140376333+0.0018546994063986i"},{"$f":"IMSUB(掃き出し!MF31,IMPRODUCT(P31,掃き出し!ME31))","v":"-0.000233222347262885-0.00072695942916413i"},{"$f":"IMSUB(掃き出し!MH31,IMPRODUCT(P31,掃き出し!MG31))","v":"0.00109588214694467-0.00289716064586387i"},{"$f":"IMSUB(掃き出し!MJ31,IMPRODUCT(P31,掃き出し!MI31))","v":"-0.000870155026876992+0.000538136172942255i"},{"$f":"IMSUB(掃き出し!ML31,IMPRODUCT(P31,掃き出し!MK31))","v":"-0.00162148609384314+0.00351440403526708i"},{"$f":"IMDIV(掃き出し!MN31,掃き出し!MM31)","v":"0.000768388519277229-0.00108403223048784i"}," ",{"$f":"IMEXP(COMPLEX(0,計算!$B31*定数!A$61))","v":"0.146806423513955-0.989165241006295i"},{"$f":"IMEXP(COMPLEX(0,計算!$B31*定数!B$61))","v":"-0.639585161644875-0.768720248857605i"},{"$f":"IMEXP(COMPLEX(0,計算!$B31*定数!C$61))","v":"-0.936574188776548-0.350469383709263i"},{"$f":"IMEXP(COMPLEX(0,計算!$B31*定数!D$61))","v":"-0.881362540638582-0.472440548597496i"}," ","-0.000318426430864608-0.000873974624347957i","-0.00117003638489618+0.00112773997723447i","0.000225727120067678-0.00235902447292161i","-0.000853097574565911+0.00243037180477924i","0.000206842029610319-0.000511674410072613i","-0.001236235512175-0.00126215093494858i","0.000992556164583125+0.00289843726868937i","-0.00142059950635185-0.00327111234185843i"," ",{"$f":"IMSUM(IMPRODUCT(定数!$F$38,計算!W31),IMPRODUCT(定数!$G$38,計算!X31),IMPRODUCT(定数!$H$38,計算!Y31),IMPRODUCT(定数!$I$38,計算!Z31))","v":"-0.00141252090381862+0.00232316964066494i"},{"$f":"IMSUM(IMPRODUCT(定数!$F$39,計算!W31),IMPRODUCT(定数!$G$39,計算!X31),IMPRODUCT(定数!$H$39,計算!Y31),IMPRODUCT(定数!$I$39,計算!Z31))","v":"0.0000101222780325961-0.00277802421771545i"},{"$f":"IMSUM(IMPRODUCT(定数!$F$40,計算!W31),IMPRODUCT(定数!$G$40,計算!X31),IMPRODUCT(定数!$H$40,計算!Y31),IMPRODUCT(定数!$I$40,計算!Z31))","v":"0.000429000423814705-0.000426242059634557i"},{"$f":"IMSUM(IMPRODUCT(定数!$F$41,計算!W31),IMPRODUCT(定数!$G$41,計算!X31),IMPRODUCT(定数!$H$41,計算!Y31),IMPRODUCT(定数!$I$41,計算!Z31))","v":"0.000214860156447942-0.000501576011193663i"},{"$f":"IMSUM(IMPRODUCT(定数!$F$38,計算!AA31),IMPRODUCT(定数!$G$38,計算!AB31),IMPRODUCT(定数!$H$38,計算!AC31),IMPRODUCT(定数!$I$38,計算!AD31))","v":"-0.00174899509664083-0.00363603651885987i"},{"$f":"IMSUM(IMPRODUCT(定数!$F$39,計算!AA31),IMPRODUCT(定数!$G$39,計算!AB31),IMPRODUCT(定数!$H$39,計算!AC31),IMPRODUCT(定数!$I$39,計算!AD31))","v":"0.00103363408098659+0.00271301735826826i"},{"$f":"IMSUM(IMPRODUCT(定数!$F$40,計算!AA31),IMPRODUCT(定数!$G$40,計算!AB31),IMPRODUCT(定数!$H$40,計算!AC31),IMPRODUCT(定数!$I$40,計算!AD31))","v":"0.000505923782786-0.000251324896236985i"},{"$f":"IMSUM(IMPRODUCT(定数!$F$41,計算!AA31),IMPRODUCT(定数!$G$41,計算!AB31),IMPRODUCT(定数!$H$41,計算!AC31),IMPRODUCT(定数!$I$41,計算!AD31))","v":"0.000412795279284489-0.000323113511595995i"}," ","-0.00278262917762742-0.00634905387712813i"," ","0.000505923782786-0.000251324896236985i","0.000412795279284489-0.000323113511595995i"," "]
[28,{"$f":"A32*定数!$B$8","v":17592918860.10284},null,{"$f":"B32*定数!$C$3","v":8.7964594300514207},{"$f":"B32*定数!$C$5","v":1.7592918860102844},{"$f":"定数!$B$6*SIN(D32)*SIN(E32)/(D32*E32)","v":0.88158521856065364},"-0.375360729812999+0.797682154807846i"," ",{"$f":"IMSUB(掃き出し!LZ32,IMPRODUCT(P32,掃き出し!LY32))","v":"-0.000232932623946964-0.000171297298470689i"},{"$f":"IMSUB(掃き出し!MB32,IMPRODUCT(P32,掃き出し!MA32))","v":"-0.000148741361455698-0.00003845929061499i"},{"$f":"IMSUB(掃き出し!MD32,IMPRODUCT(P32,掃き出し!MC32))","v":"0.000786692327639079+0.0014987249072963i"},{"$f":"IMSUB(掃き出し!MF32,IMPRODUCT(P32,掃き出し!ME32))","v":"-0.0003679802822478+0.000517605960615065i"},{"$f":"IMSUB(掃き出し!MH32,IMPRODUCT(P32,掃き出し!MG32))","v":"0.000503631736162378-0.00263663064084415i"},{"$f":"IMSUB(掃き出し!MJ32,IMPRODUCT(P32,掃き出し!MI32))","v":"0.000332889808035294+0.00086003907830218i"},{"$f":"IMSUB(掃き出し!ML32,IMPRODUCT(P32,掃き出し!MK32))","v":"-0.000400733689385233+0.00382730336849251i"},{"$f":"IMDIV(掃き出し!MN32,掃き出し!MM32)","v":"-0.00109087768894539-0.000826375033247572i"}," ",{"$f":"IMEXP(COMPLEX(0,計算!$B32*定数!A$61))","v":"0.712286153564064-0.701889190286409i"},{"$f":"IMEXP(COMPLEX(0,計算!$B32*定数!B$61))","v":"-0.0796222327521044-0.996825110062728i"},{"$f":"IMEXP(COMPLEX(0,計算!$B32*定数!C$61))","v":"-0.579150086063283-0.815220938036366i"},{"$f":"IMEXP(COMPLEX(0,計算!$B32*定数!D$61))","v":"-0.460659202211741-0.887577094914939i"}," ","-0.000381673985402662-0.000209756589085679i","0.000418712045391279+0.00201633086791136i","0.000836521544197672-0.00177659156254197i","-0.00149161137833062+0.00300092833524494i","-0.000178623533204832-0.000208499651083742i","-0.0010113427899444+0.000990461885766814i","0.00236608684412995+0.00116810555115539i","-0.00344337384893312-0.00076984924660596i"," ",{"$f":"IMSUM(IMPRODUCT(定数!$F$38,計算!W32),IMPRODUCT(定数!$G$38,計算!X32),IMPRODUCT(定数!$H$38,計算!Y32),IMPRODUCT(定数!$I$38,計算!Z32))","v":"-0.000946780378384837+0.00332198332691218i"},{"$f":"IMSUM(IMPRODUCT(定数!$F$39,計算!W32),IMPRODUCT(定数!$G$39,計算!X32),IMPRODUCT(定数!$H$39,計算!Y32),IMPRODUCT(定数!$I$39,計算!Z32))","v":"0.00114497099470059-0.00203333143236416i"},{"$f":"IMSUM(IMPRODUCT(定数!$F$40,計算!W32),IMPRODUCT(定数!$G$40,計算!X32),IMPRODUCT(定数!$H$40,計算!Y32),IMPRODUCT(定数!$I$40,計算!Z32))","v":"-0.000185158891164083-0.000969745150411767i"},{"$f":"IMSUM(IMPRODUCT(定数!$F$41,計算!W32),IMPRODUCT(定数!$G$41,計算!X32),IMPRODUCT(定数!$H$41,計算!Y32),IMPRODUCT(定数!$I$41,計算!Z32))","v":"-0.000991050800838144-0.000296467063886457i"},{"$f":"IMSUM(IMPRODUCT(定数!$F$38,計算!AA32),IMPRODUCT(定数!$G$38,計算!AB32),IMPRODUCT(定数!$H$38,計算!AC32),IMPRODUCT(定数!$I$38,計算!AD32))","v":"-0.00326314567730969-0.000215112258848624i"},{"$f":"IMSUM(IMPRODUCT(定数!$F$39,計算!AA32),IMPRODUCT(定数!$G$39,計算!AB32),IMPRODUCT(定数!$H$39,計算!AC32),IMPRODUCT(定数!$I$39,計算!AD32))","v":"0.00270869324487996+0.00129313605730574i"},{"$f":"IMSUM(IMPRODUCT(定数!$F$40,計算!AA32),IMPRODUCT(定数!$G$40,計算!AB32),IMPRODUCT(定数!$H$40,計算!AC32),IMPRODUCT(定数!$I$40,計算!AD32))","v":"0.000277362406266049-0.000810337876398237i"},{"$f":"IMSUM(IMPRODUCT(定数!$F$41,計算!AA32),IMPRODUCT(定数!$G$41,計算!AB32),IMPRODUCT(定数!$H$41,計算!AC32),IMPRODUCT(定数!$I$41,計算!AD32))","v":"-0.000582965342493549-0.000795404472166721i"}," ","-0.00597183892218965-0.00150824831615436i"," ","0.000277362406266049-0.000810337876398237i","-0.000582965342493549-0.000795404472166721i"," "]
[29,{"$f":"A33*定数!$B$8","v":18221237390.820797},null,{"$f":"B33*定数!$C$3","v":9.1106186954103983},{"$f":"B33*定数!$C$5","v":1.8221237390820799},{"$f":"定数!$B$6*SIN(D33)*SIN(E33)/(D33*E33)","v":0.42603615129355388},"-0.0267510312779831+0.425195466267678i"," ",{"$f":"IMSUB(掃き出し!LZ33,IMPRODUCT(P33,掃き出し!LY33))","v":"-0.00006174225679402-0.000052418419051417i"},{"$f":"IMSUB(掃き出し!MB33,IMPRODUCT(P33,掃き出し!MA33))","v":"-0.000026161849779378+0.000067642331505874i"},{"$f":"IMSUB(掃き出し!MD33,IMPRODUCT(P33,掃き出し!MC33))","v":"0.000416938256745793+0.000274794089387036i"},{"$f":"IMSUB(掃き出し!MF33,IMPRODUCT(P33,掃き出し!ME33))","v":"0.000163285806363703+0.0000799420568455751i"},{"$f":"IMSUB(掃き出し!MH33,IMPRODUCT(P33,掃き出し!MG33))","v":"-0.000896954854611977-0.00172407705615959i"},{"$f":"IMSUB(掃き出し!MJ33,IMPRODUCT(P33,掃き出し!MI33))","v":"0.000533262648662958-0.000427166553178526i"},{"$f":"IMSUB(掃き出し!ML33,IMPRODUCT(P33,掃き出し!MK33))","v":"0.0015801079557873+0.00139850596384726i"},{"$f":"IMDIV(掃き出し!MN33,掃き出し!MM33)","v":"-0.00004378416152638+0.000773305038804315i"}," ",{"$f":"IMEXP(COMPLEX(0,計算!$B33*定数!A$61))","v":"0.991216829164469-0.132246729944962i"},{"$f":"IMEXP(COMPLEX(0,計算!$B33*定数!B$61))","v":"0.509449812850693-0.860500370822926i"},{"$f":"IMEXP(COMPLEX(0,計算!$B33*定数!C$61))","v":"-0.0226454599221864-0.999743558691384i"},{"$f":"IMEXP(COMPLEX(0,計算!$B33*定数!D$61))","v":"0.120966054577558-0.992656644384119i"}," ","-0.000087904106573398+0.000015223912454457i","0.000580224063109496+0.000354736146232611i","-0.000363692205949019-0.00215124360933812i","0.00153632379426092+0.00217181100265158i","-0.0000712543881322796+0.0000103848057527871i","0.000127924794105074+0.000398988290923513i","0.00130481389882835-0.00138113483548866i","-0.00043476682437361+0.00187468270829331i"," ",{"$f":"IMSUM(IMPRODUCT(定数!$F$38,計算!W33),IMPRODUCT(定数!$G$38,計算!X33),IMPRODUCT(定数!$H$38,計算!Y33),IMPRODUCT(定数!$I$38,計算!Z33))","v":"0.00126049235347378+0.00202703467469785i"},{"$f":"IMSUM(IMPRODUCT(定数!$F$39,計算!W33),IMPRODUCT(定数!$G$39,計算!X33),IMPRODUCT(定数!$H$39,計算!Y33),IMPRODUCT(定数!$I$39,計算!Z33))","v":"-0.000816084204060067-0.00227163555717013i"},{"$f":"IMSUM(IMPRODUCT(定数!$F$40,計算!W33),IMPRODUCT(定数!$G$40,計算!X33),IMPRODUCT(定数!$H$40,計算!Y33),IMPRODUCT(定数!$I$40,計算!Z33))","v":"-0.000699946607899213+0.00028137865091072i"},{"$f":"IMSUM(IMPRODUCT(定数!$F$41,計算!W33),IMPRODUCT(定数!$G$41,計算!X33),IMPRODUCT(定数!$H$41,計算!Y33),IMPRODUCT(定数!$I$41,計算!Z33))","v":"0.000305786923182221+0.000311839242219634i"},{"$f":"IMSUM(IMPRODUCT(定数!$F$38,計算!AA33),IMPRODUCT(定数!$G$38,計算!AB33),IMPRODUCT(定数!$H$38,計算!AC33),IMPRODUCT(定数!$I$38,計算!AD33))","v":"-0.000565583377340156+0.00166818451471209i"},{"$f":"IMSUM(IMPRODUCT(定数!$F$39,計算!AA33),IMPRODUCT(定数!$G$39,計算!AB33),IMPRODUCT(定数!$H$39,計算!AC33),IMPRODUCT(定数!$I$39,計算!AD33))","v":"0.00104011880022205-0.00162809592360314i"},{"$f":"IMSUM(IMPRODUCT(定数!$F$40,計算!AA33),IMPRODUCT(定数!$G$40,計算!AB33),IMPRODUCT(定数!$H$40,計算!AC33),IMPRODUCT(定数!$I$40,計算!AD33))","v":"-0.000716440896078152-0.0000928666315161438i"},{"$f":"IMSUM(IMPRODUCT(定数!$F$41,計算!AA33),IMPRODUCT(定数!$G$41,計算!AB33),IMPRODUCT(定数!$H$41,計算!AC33),IMPRODUCT(定数!$I$41,計算!AD33))","v":"0.0000363843163456878+0.000348201800667084i"}," ","-0.00160570217756221+0.00329628043831523i"," ","-0.000716440896078152-0.0000928666315161438i","0.0000363843163456878+0.000348201800667084i"," "]
[30,{"$f":"A34*定数!$B$8","v":18849555921.538757},null,{"$f":"B34*定数!$C$3","v":9.4247779607693793},{"$f":"B34*定数!$C$5","v":1.8849555921538761},{"$f":"定数!$B$6*SIN(D34)*SIN(E34)/(D34*E34)","v":4.6494004934325644E-16},"1.43674376612612E-16+4.42184263614488E-16i"," ",{"$f":"IMSUB(掃き出し!LZ34,IMPRODUCT(P34,掃き出し!LY34))","v":"-1.06116202401291E-19-1.37695422207908E-19i"},{"$f":"IMSUB(掃き出し!MB34,IMPRODUCT(P34,掃き出し!MA34))","v":"8.81205596113819E-20+5.7606703062757E-20i"},{"$f":"IMSUB(掃き出し!MD34,IMPRODUCT(P34,掃き出し!MC34))","v":"3.94192854107702E-19+1.79956074127928E-19i"},{"$f":"IMSUB(掃き出し!MF34,IMPRODUCT(P34,掃き出し!ME34))","v":"1.06640830711194E-19-1.28544171151145E-19i"},{"$f":"IMSUB(掃き出し!MH34,IMPRODUCT(P34,掃き出し!MG34))","v":"-1.48081336158797E-18-3.92716472417576E-19i"},{"$f":"IMSUB(掃き出し!MJ34,IMPRODUCT(P34,掃き出し!MI34))","v":"-5.02331117749739E-19-2.31421345084226E-19i"},{"$f":"IMSUB(掃き出し!ML34,IMPRODUCT(P34,掃き出し!MK34))","v":"1.3770556435066E-18+3.10386664135835E-19i"},{"$f":"IMDIV(掃き出し!MN34,掃き出し!MM34)","v":"5.31136855089261E-19-4.72469572320324E-20i"}," ",{"$f":"IMEXP(COMPLEX(0,計算!$B34*定数!A$61))","v":"0.871386074782697+0.490597909366523i"},{"$f":"IMEXP(COMPLEX(0,計算!$B34*定数!B$61))","v":"0.912271943729569-0.409585034741107i"},{"$f":"IMEXP(COMPLEX(0,計算!$B34*定数!C$61))","v":"0.541643452404927-0.840608333569726i"},{"$f":"IMEXP(COMPLEX(0,計算!$B34*定数!D$61))","v":"0.66033428173208-0.750971794656349i"}," ","-1.79956427899091E-20-8.0088719145151E-20i","5.00833684818896E-19+5.1411902976783E-20i","-1.98314447933771E-18-6.24137817501802E-19i","1.90819249859586E-18+2.63139706903803E-19i","-1.11495966886518E-19+2.55039547552731E-20i","3.30539435454707E-19+1.64678642152201E-19i","-9.38571194205644E-19-1.16058049066858E-18i","9.91472160498765E-19+8.09021320024808E-19i"," ",{"$f":"IMSUM(IMPRODUCT(定数!$F$38,計算!W34),IMPRODUCT(定数!$G$38,計算!X34),IMPRODUCT(定数!$H$38,計算!Y34),IMPRODUCT(定数!$I$38,計算!Z34))","v":"1.91510877704655E-18+3.21027914573624E-19i"},{"$f":"IMSUM(IMPRODUCT(定数!$F$39,計算!W34),IMPRODUCT(定数!$G$39,計算!X34),IMPRODUCT(定数!$H$39,計算!Y34),IMPRODUCT(定数!$I$39,計算!Z34))","v":"-2.01562263376501E-18-5.51484926705643E-19i"},{"$f":"IMSUM(IMPRODUCT(定数!$F$40,計算!W34),IMPRODUCT(定数!$G$40,計算!X34),IMPRODUCT(定数!$H$40,計算!Y34),IMPRODUCT(定数!$I$40,計算!Z34))","v":"2.32540171883806E-19+2.20475305135723E-19i"},{"$f":"IMSUM(IMPRODUCT(定数!$F$41,計算!W34),IMPRODUCT(定数!$G$41,計算!X34),IMPRODUCT(定数!$H$41,計算!Y34),IMPRODUCT(定数!$I$41,計算!Z34))","v":"1.11853531051997E-19-1.10786492197589E-19i"},{"$f":"IMSUM(IMPRODUCT(定数!$F$38,計算!AA34),IMPRODUCT(定数!$G$38,計算!AB34),IMPRODUCT(定数!$H$38,計算!AC34),IMPRODUCT(定数!$I$38,計算!AD34))","v":"9.67431597944252E-19+8.90107215902059E-19i"},{"$f":"IMSUM(IMPRODUCT(定数!$F$39,計算!AA34),IMPRODUCT(定数!$G$39,計算!AB34),IMPRODUCT(定数!$H$39,計算!AC34),IMPRODUCT(定数!$I$39,計算!AD34))","v":"-1.02288941130572E-18-1.05660651564851E-18i"},{"$f":"IMSUM(IMPRODUCT(定数!$F$40,計算!AA34),IMPRODUCT(定数!$G$40,計算!AB34),IMPRODUCT(定数!$H$40,計算!AC34),IMPRODUCT(定数!$I$40,計算!AD34))","v":"-1.55829847009612E-20+3.36943870326031E-19i"},{"$f":"IMSUM(IMPRODUCT(定数!$F$41,計算!AA34),IMPRODUCT(定数!$G$41,計算!AB34),IMPRODUCT(定数!$H$41,計算!AC34),IMPRODUCT(定数!$I$41,計算!AD34))","v":"-5.47742057882894E-21-1.1137848033055E-21i"}," ","1.99032100924997E-18+1.94671373155057E-18i"," ","-1.55829847009612E-20+3.36943870326031E-19i","-5.47742057882894E-21-1.1137848033055E-21i"," "]
[31,{"$f":"A35*定数!$B$8","v":19477874452.256714},null,{"$f":"B35*定数!$C$3","v":9.7389372261283569},{"$f":"B35*定数!$C$5","v":1.9477874452256716},{"$f":"定数!$B$6*SIN(D35)*SIN(E35)/(D35*E35)","v":-0.35789918131630266},"-0.228133524082419-0.275766058782832i"," ",{"$f":"IMSUB(掃き出し!LZ35,IMPRODUCT(P35,掃き出し!LY35))","v":"0.000251047571370916-0.00004817811943339i"},{"$f":"IMSUB(掃き出し!MB35,IMPRODUCT(P35,掃き出し!MA35))","v":"0.000014169169535891+0.000131609035013443i"},{"$f":"IMSUB(掃き出し!MD35,IMPRODUCT(P35,掃き出し!MC35))","v":"-0.000327245850508179-0.00012863782572234i"},{"$f":"IMSUB(掃き出し!MF35,IMPRODUCT(P35,掃き出し!ME35))","v":"0.0000819200560370798+0.000117680756795416i"},{"$f":"IMSUB(掃き出し!MH35,IMPRODUCT(P35,掃き出し!MG35))","v":"0.000812428064095492+0.0000177205441120205i"},{"$f":"IMSUB(掃き出し!MJ35,IMPRODUCT(P35,掃き出し!MI35))","v":"0.00016102713893583-0.000254911114131026i"},{"$f":"IMSUB(掃き出し!ML35,IMPRODUCT(P35,掃き出し!MK35))","v":"-0.000858087301180488-0.000096138763075916i"},{"$f":"IMDIV(掃き出し!MN35,掃き出し!MM35)","v":"-0.0000544221581176711+0.000328238285256039i"}," ",{"$f":"IMEXP(COMPLEX(0,計算!$B35*定数!A$61))","v":"0.401001186307172+0.916077534153218i"},{"$f":"IMEXP(COMPLEX(0,計算!$B35*定数!B$61))","v":"0.981576292407306+0.191070620933534i"},{"$f":"IMEXP(COMPLEX(0,計算!$B35*定数!C$61))","v":"0.919744596464578-0.392517359201106i"},{"$f":"IMEXP(COMPLEX(0,計算!$B35*定数!D$61))","v":"0.969028164671654-0.246950229951472i"}," ","0.000265216740906807+0.000083430915580053i","-0.000245325794471099-0.000010957068926924i","0.000973455203031322-0.000237190570019005i","-0.000912509459298159+0.000232099522180123i","-0.0000583467453859274-0.00018354308612489i","-0.000287870228277954+0.0000674243847354935i","0.000788317504360208+0.000037531425817495i","-0.000779447356917516+0.000026445682116027i"," ",{"$f":"IMSUM(IMPRODUCT(定数!$F$38,計算!W35),IMPRODUCT(定数!$G$38,計算!X35),IMPRODUCT(定数!$H$38,計算!Y35),IMPRODUCT(定数!$I$38,計算!Z35))","v":"-0.000812319177502636+0.000224074531792116i"},{"$f":"IMSUM(IMPRODUCT(定数!$F$39,計算!W35),IMPRODUCT(定数!$G$39,計算!X35),IMPRODUCT(定数!$H$39,計算!Y35),IMPRODUCT(定数!$I$39,計算!Z35))","v":"0.00111896864434163-0.000217416664611698i"},{"$f":"IMSUM(IMPRODUCT(定数!$F$40,計算!W35),IMPRODUCT(定数!$G$40,計算!X35),IMPRODUCT(定数!$H$40,計算!Y35),IMPRODUCT(定数!$I$40,計算!Z35))","v":"0.0000151089991659903+0.0000944239457503223i"},{"$f":"IMSUM(IMPRODUCT(定数!$F$41,計算!W35),IMPRODUCT(定数!$G$41,計算!X35),IMPRODUCT(定数!$H$41,計算!Y35),IMPRODUCT(定数!$I$41,計算!Z35))","v":"0.000072173558078264+0.0000989346953825788i"},{"$f":"IMSUM(IMPRODUCT(定数!$F$38,計算!AA35),IMPRODUCT(定数!$G$38,計算!AB35),IMPRODUCT(定数!$H$38,計算!AC35),IMPRODUCT(定数!$I$38,計算!AD35))","v":"-0.0008584390504668-0.0000357360842499747i"},{"$f":"IMSUM(IMPRODUCT(定数!$F$39,計算!AA35),IMPRODUCT(定数!$G$39,計算!AB35),IMPRODUCT(定数!$H$39,計算!AC35),IMPRODUCT(定数!$I$39,計算!AD35))","v":"0.000748070493072265-0.0000682675858953886i"},{"$f":"IMSUM(IMPRODUCT(定数!$F$40,計算!AA35),IMPRODUCT(定数!$G$40,計算!AB35),IMPRODUCT(定数!$H$40,計算!AC35),IMPRODUCT(定数!$I$40,計算!AD35))","v":"-0.0000917713896554273-0.000157436994054776i"},{"$f":"IMSUM(IMPRODUCT(定数!$F$41,計算!AA35),IMPRODUCT(定数!$G$41,計算!AB35),IMPRODUCT(定数!$H$41,計算!AC35),IMPRODUCT(定数!$I$41,計算!AD35))","v":"-0.0000281881733913402-0.000099866777637936i"}," ","-0.00160650954353906+0.0000325315016454139i"," ","-0.0000917713896554273-0.000157436994054776i","-0.0000281881733913402-0.000099866777637936i"," "]
[32,{"$f":"A36*定数!$B$8","v":20106192982.974674},null,{"$f":"B36*定数!$C$3","v":10.053096491487338},{"$f":"B36*定数!$C$5","v":2.0106192982974678},{"$f":"定数!$B$6*SIN(D36)*SIN(E36)/(D36*E36)","v":-0.62173809068752994},"-0.544833242107198-0.299524609517707i"," ",{"$f":"IMSUB(掃き出し!LZ36,IMPRODUCT(P36,掃き出し!LY36))","v":"0.000131717888635199-0.000196463008460038i"},{"$f":"IMSUB(掃き出し!MB36,IMPRODUCT(P36,掃き出し!MA36))","v":"0.000106216942402149-0.0000517818278427271i"},{"$f":"IMSUB(掃き出し!MD36,IMPRODUCT(P36,掃き出し!MC36))","v":"-0.000943317713621619-0.00011845048315151i"},{"$f":"IMSUB(掃き出し!MF36,IMPRODUCT(P36,掃き出し!ME36))","v":"0.00034409461030732-0.000207367186684141i"},{"$f":"IMSUB(掃き出し!MH36,IMPRODUCT(P36,掃き出し!MG36))","v":"0.0013159962955295-0.000057498701937507i"},{"$f":"IMSUB(掃き出し!MJ36,IMPRODUCT(P36,掃き出し!MI36))","v":"-0.000325109045181676-0.000384723419999187i"},{"$f":"IMSUB(掃き出し!ML36,IMPRODUCT(P36,掃き出し!MK36))","v":"-0.00162796629716357-0.000087569020744562i"},{"$f":"IMDIV(掃き出し!MN36,掃き出し!MM36)","v":"0.000578289559768745+0.000294707573073847i"}," ",{"$f":"IMEXP(COMPLEX(0,計算!$B36*定数!A$61))","v":"-0.230704416033939+0.973023880705114i"},{"$f":"IMEXP(COMPLEX(0,計算!$B36*定数!B$61))","v":"0.692025860605302+0.721872709176273i"},{"$f":"IMEXP(COMPLEX(0,計算!$B36*定数!C$61))","v":"0.98168721773316+0.190499885929961i"},{"$f":"IMEXP(COMPLEX(0,計算!$B36*定数!D$61))","v":"0.939211776987053+0.343338372409526i"}," ",{"$f":"IMSUM(I36,J36)","v":"0.000237934831037348-0.000248244836302765i"},{"$f":"IMSUM(K36,L36)","v":"-0.000599223103314299-0.000325817669835651i"},{"$f":"IMSUM(M36,N36)","v":"0.000990887250347824-0.000442222121936694i"},{"$f":"IMSUM(O36,P36)","v":"-0.00104967673739483+0.000207138552329285i"},{"$f":"IMSUM(IMDIV(I36,R36),IMPRODUCT(J36,R36))","v":"-0.000195670860077859+0.0000324581503273356i"},{"$f":"IMSUM(IMDIV(K36,S36),IMPRODUCT(L36,S36))","v":"-0.000350491342095533+0.000703873568733074i"},{"$f":"IMSUM(IMDIV(M36,T36),IMPRODUCT(N36,T36))","v":"0.00103507761934543-0.000746754184708616i"},{"$f":"IMSUM(IMDIV(O36,U36),IMPRODUCT(P36,U36))","v":"-0.00111711897732243+0.000952039262853839i"}," ",{"$f":"IMSUM(IMPRODUCT(定数!$F$38,計算!W36),IMPRODUCT(定数!$G$38,計算!X36),IMPRODUCT(定数!$H$38,計算!Y36),IMPRODUCT(定数!$I$38,計算!Z36))","v":"-0.0011291221028118-0.00007838632286213i"},{"$f":"IMSUM(IMPRODUCT(定数!$F$39,計算!W36),IMPRODUCT(定数!$G$39,計算!X36),IMPRODUCT(定数!$H$39,計算!Y36),IMPRODUCT(定数!$I$39,計算!Z36))","v":"0.00107132879502955-0.000615099084006531i"},{"$f":"IMSUM(IMPRODUCT(定数!$F$40,計算!W36),IMPRODUCT(定数!$G$40,計算!X36),IMPRODUCT(定数!$H$40,計算!Y36),IMPRODUCT(定数!$I$40,計算!Z36))","v":"0.000159579937183673+0.000151449444265222i"},{"$f":"IMSUM(IMPRODUCT(定数!$F$41,計算!W36),IMPRODUCT(定数!$G$41,計算!X36),IMPRODUCT(定数!$H$41,計算!Y36),IMPRODUCT(定数!$I$41,計算!Z36))","v":"0.000217773586315086+0.000078502496257896i"},{"$f":"IMSUM(IMPRODUCT(定数!$F$38,計算!AA36),IMPRODUCT(定数!$G$38,計算!AB36),IMPRODUCT(定数!$H$38,計算!AC36),IMPRODUCT(定数!$I$38,計算!AD36))","v":"-0.00121290190545066+0.00119283245907243i"},{"$f":"IMSUM(IMPRODUCT(定数!$F$39,計算!AA36),IMPRODUCT(定数!$G$39,計算!AB36),IMPRODUCT(定数!$H$39,計算!AC36),IMPRODUCT(定数!$I$39,計算!AD36))","v":"0.00096856525283756-0.000689165050882453i"},{"$f":"IMSUM(IMPRODUCT(定数!$F$40,計算!AA36),IMPRODUCT(定数!$G$40,計算!AB36),IMPRODUCT(定数!$H$40,計算!AC36),IMPRODUCT(定数!$I$40,計算!AD36))","v":"-0.000150818990820383-0.000155001123040379i"},{"$f":"IMSUM(IMPRODUCT(定数!$F$41,計算!AA36),IMPRODUCT(定数!$G$41,計算!AB36),IMPRODUCT(定数!$H$41,計算!AC36),IMPRODUCT(定数!$I$41,計算!AD36))","v":"-0.000157885515987067-0.000144567018371675i"}," ","-0.00218146715828822+0.00188199750995488i"," ",{"$f":"IF($AQ$1=0,AH36,AL36)","v":"-0.000150818990820383-0.000155001123040379i"},{"$f":"IF($AQ$1=0,AI36,AM36)","v":"-0.000157885515987067-0.000144567018371675i"}," "]
[{"$f":"A36+1","v":33},{"$f":"A37*定数!$B$8","v":20734511513.692635},null,{"$f":"B37*定数!$C$3","v":10.367255756846317},{"$f":"B37*定数!$C$5","v":2.0734511513692637},{"$f":"定数!$B$6*SIN(D37)*SIN(E37)/(D37*E37)","v":-0.77930786095366167},{"$f":"IMPRODUCT(COMPLEX(F37,0),IMEXP(COMPLEX(0,-(D37+E37))))","v":"-0.773162785702069-0.0976731741553894i"}," ",{"$f":"IMSUB(掃き出し!LZ37,IMPRODUCT(P37,掃き出し!LY37))","v":"0.0000697897420150758-0.000203163883187894i"},{"$f":"IMSUB(掃き出し!MB37,IMPRODUCT(P37,掃き出し!MA37))","v":"-0.000022266437567724-0.000116756376570447i"},{"$f":"IMSUB(掃き出し!MD37,IMPRODUCT(P37,掃き出し!MC37))","v":"-0.00083148267248087+0.00118771213261223i"},{"$f":"IMSUB(掃き出し!MF37,IMPRODUCT(P37,掃き出し!ME37))","v":"-0.00060520487988192-0.00015435660406539i"},{"$f":"IMSUB(掃き出し!MH37,IMPRODUCT(P37,掃き出し!MG37))","v":"0.00211046217666543-0.000344758088171149i"},{"$f":"IMSUB(掃き出し!MJ37,IMPRODUCT(P37,掃き出し!MI37))","v":"-0.000757146847113766+0.00037745952243215i"},{"$f":"IMSUB(掃き出し!ML37,IMPRODUCT(P37,掃き出し!MK37))","v":"-0.00308460676572355+0.000674621400616499i"},{"$f":"IMDIV(掃き出し!MN37,掃き出し!MM37)","v":"0.000688246474803268-0.00109390162879367i"}," ",{"$f":"IMEXP(COMPLEX(0,計算!$B37*定数!A$61))","v":"-0.769598818913838+0.638527726826663i"},{"$f":"IMEXP(COMPLEX(0,計算!$B37*定数!B$61))","v":"0.149477480284418+0.98876513029527i"},{"$f":"IMEXP(COMPLEX(0,計算!$B37*定数!C$61))","v":"0.706178788139986+0.70803355794845i"},{"$f":"IMEXP(COMPLEX(0,計算!$B37*定数!D$61))","v":"0.581300866983764+0.813688700943994i"}," ","0.0000475233044473518-0.000319920259758341i","-0.00143668755236279+0.00103335552854684i","0.00135331532955166+0.000032701434261001i","-0.00239636029092028-0.000419280228177171i","-0.0000917474677547625+0.000187429830967276i","0.00111223833400308+0.000378198971727181i","0.000444328274945581-0.00200727036069459i","0.00004602089167287+0.00282620009198806i"," ",{"$f":"IMSUM(IMPRODUCT(定数!$F$38,計算!W37),IMPRODUCT(定数!$G$38,計算!X37),IMPRODUCT(定数!$H$38,計算!Y37),IMPRODUCT(定数!$I$38,計算!Z37))","v":"-0.0025763380365466+0.000283261578986354i"},{"$f":"IMSUM(IMPRODUCT(定数!$F$39,計算!W37),IMPRODUCT(定数!$G$39,計算!X37),IMPRODUCT(定数!$H$39,計算!Y37),IMPRODUCT(定数!$I$39,計算!Z37))","v":"0.00156842355076446+0.000352533452410208i"},{"$f":"IMSUM(IMPRODUCT(定数!$F$40,計算!W37),IMPRODUCT(定数!$G$40,計算!X37),IMPRODUCT(定数!$H$40,計算!Y37),IMPRODUCT(定数!$I$40,計算!Z37))","v":"0.000698085514991292-0.000315919760228073i"},{"$f":"IMSUM(IMPRODUCT(定数!$F$41,計算!W37),IMPRODUCT(定数!$G$41,計算!X37),IMPRODUCT(定数!$H$41,計算!Y37),IMPRODUCT(定数!$I$41,計算!Z37))","v":"0.0000532006163308397-0.00101787468573757i"},{"$f":"IMSUM(IMPRODUCT(定数!$F$38,計算!AA37),IMPRODUCT(定数!$G$38,計算!AB37),IMPRODUCT(定数!$H$38,計算!AC37),IMPRODUCT(定数!$I$38,計算!AD37))","v":"0.000563863794777965+0.00242697517247573i"},{"$f":"IMSUM(IMPRODUCT(定数!$F$39,計算!AA37),IMPRODUCT(定数!$G$39,計算!AB37),IMPRODUCT(定数!$H$39,計算!AC37),IMPRODUCT(定数!$I$39,計算!AD37))","v":"0.000551447573790642-0.00237977650994053i"},{"$f":"IMSUM(IMPRODUCT(定数!$F$40,計算!AA37),IMPRODUCT(定数!$G$40,計算!AB37),IMPRODUCT(定数!$H$40,計算!AC37),IMPRODUCT(定数!$I$40,計算!AD37))","v":"-0.000694554559909765-0.000026312527566591i"},{"$f":"IMSUM(IMPRODUCT(定数!$F$41,計算!AA37),IMPRODUCT(定数!$G$41,計算!AB37),IMPRODUCT(定数!$H$41,計算!AC37),IMPRODUCT(定数!$I$41,計算!AD37))","v":"-0.000596601199457394+0.000766253169525594i"}," ","0.000012416220987323+0.00480675168241626i"," ","-0.000694554559909765-0.000026312527566591i","-0.000596601199457394+0.000766253169525594i"," "]
[34,{"$f":"A38*定数!$B$8","v":21362830044.410591},null,{"$f":"B38*定数!$C$3","v":10.681415022205297},{"$f":"B38*定数!$C$5","v":2.1362830044410597},{"$f":"定数!$B$6*SIN(D38)*SIN(E38)/(D38*E38)","v":-0.83153936751771884},"-0.805415029193206+0.206795431481152i"," ",{"$f":"IMSUB(掃き出し!LZ38,IMPRODUCT(P38,掃き出し!LY38))","v":"0.000054466035397313-0.00012584438788815i"},{"$f":"IMSUB(掃き出し!MB38,IMPRODUCT(P38,掃き出し!MA38))","v":"-0.000139771065867623+7.84016904808299E-06i"},{"$f":"IMSUB(掃き出し!MD38,IMPRODUCT(P38,掃き出し!MC38))","v":"-0.00014115432130377+0.000849700362574308i"},{"$f":"IMSUB(掃き出し!MF38,IMPRODUCT(P38,掃き出し!ME38))","v":"-0.000045912753506117+0.000352654973296802i"},{"$f":"IMSUB(掃き出し!MH38,IMPRODUCT(P38,掃き出し!MG38))","v":"0.00267289855524205-0.00268289466740308i"},{"$f":"IMSUB(掃き出し!MJ38,IMPRODUCT(P38,掃き出し!MI38))","v":"0.00100759274052438+0.0011425912725385i"},{"$f":"IMSUB(掃き出し!ML38,IMPRODUCT(P38,掃き出し!MK38))","v":"-0.00131983314480253+0.00399974788761941i"},{"$f":"IMDIV(掃き出し!MN38,掃き出し!MM38)","v":"-0.00175644877832354+0.000204780956830635i"}," ",{"$f":"IMEXP(COMPLEX(0,計算!$B38*定数!A$61))","v":"-0.998887576981024+0.0471551540446938i"},{"$f":"IMEXP(COMPLEX(0,計算!$B38*定数!B$61))","v":"-0.447718418307809+0.894174601466601i"},{"$f":"IMEXP(COMPLEX(0,計算!$B38*定数!C$61))","v":"0.187924227345895+0.982183529070025i"},{"$f":"IMEXP(COMPLEX(0,計算!$B38*定数!D$61))","v":"0.0203243279609945+0.999793439512849i"}," ","-0.00008530503047031-0.000118004218840067i","-0.000187067074809887+0.00120235533587111i","0.00368049129576643-0.00154030339486458i","-0.00307628192312607+0.00420452884445004i","0.0000789062193150554+0.00010871366779935i","0.000528198737719376-0.000453154038291647i","-0.00306567579788939-0.00192509626743842i","0.00373165967786474-0.00035107122282698i"," ",{"$f":"IMSUM(IMPRODUCT(定数!$F$38,計算!W38),IMPRODUCT(定数!$G$38,計算!X38),IMPRODUCT(定数!$H$38,計算!Y38),IMPRODUCT(定数!$I$38,計算!Z38))","v":"-0.00288397141799508+0.00341792464084415i"},{"$f":"IMSUM(IMPRODUCT(定数!$F$39,計算!W38),IMPRODUCT(定数!$G$39,計算!X38),IMPRODUCT(定数!$H$39,計算!Y38),IMPRODUCT(定数!$I$39,計算!Z38))","v":"0.00368584280630425-0.00263373117228844i"},{"$f":"IMSUM(IMPRODUCT(定数!$F$40,計算!W38),IMPRODUCT(定数!$G$40,計算!X38),IMPRODUCT(定数!$H$40,計算!Y38),IMPRODUCT(定数!$I$40,計算!Z38))","v":"-0.000936585641948452-0.00138088758639431i"},{"$f":"IMSUM(IMPRODUCT(定数!$F$41,計算!W38),IMPRODUCT(定数!$G$41,計算!X38),IMPRODUCT(定数!$H$41,計算!Y38),IMPRODUCT(定数!$I$41,計算!Z38))","v":"-0.000485933103394579+0.000978098323258816i"},{"$f":"IMSUM(IMPRODUCT(定数!$F$38,計算!AA38),IMPRODUCT(定数!$G$38,計算!AB38),IMPRODUCT(定数!$H$38,計算!AC38),IMPRODUCT(定数!$I$38,計算!AD38))","v":"0.00326950937693117+0.000135842392021262i"},{"$f":"IMSUM(IMPRODUCT(定数!$F$39,計算!AA38),IMPRODUCT(定数!$G$39,計算!AB38),IMPRODUCT(定数!$H$39,計算!AC38),IMPRODUCT(定数!$I$39,計算!AD38))","v":"-0.0034931274034974-0.00115423253351086i"},{"$f":"IMSUM(IMPRODUCT(定数!$F$40,計算!AA38),IMPRODUCT(定数!$G$40,計算!AB38),IMPRODUCT(定数!$H$40,計算!AC38),IMPRODUCT(定数!$I$40,計算!AD38))","v":"0.000131296984571289+0.00159773779385897i"},{"$f":"IMSUM(IMPRODUCT(定数!$F$41,計算!AA38),IMPRODUCT(定数!$G$41,計算!AB38),IMPRODUCT(定数!$H$41,計算!AC38),IMPRODUCT(定数!$I$41,計算!AD38))","v":"0.000796259267127969-0.00041443880112332i"}," ","0.00676263678042857+0.00129007492553212i"," ","0.000131296984571289+0.00159773779385897i","0.000796259267127969-0.00041443880112332i"," "]
[35,{"$f":"A39*定数!$B$8","v":21991148575.128551},null,{"$f":"B39*定数!$C$3","v":10.995574287564276},{"$f":"B39*定数!$C$5","v":2.1991148575128556},{"$f":"定数!$B$6*SIN(D39)*SIN(E39)/(D39*E39)","v":-0.7905780018829337},"-0.639591038902298+0.464690090293619i"," ",{"$f":"IMSUB(掃き出し!LZ39,IMPRODUCT(P39,掃き出し!LY39))","v":"0.000174324032410386-0.00027484849056926i"},{"$f":"IMSUB(掃き出し!MB39,IMPRODUCT(P39,掃き出し!MA39))","v":"-0.00001573173227787+0.000206970081247171i"},{"$f":"IMSUB(掃き出し!MD39,IMPRODUCT(P39,掃き出し!MC39))","v":"-0.0000300538256566111+0.000659323800090288i"},{"$f":"IMSUB(掃き出し!MF39,IMPRODUCT(P39,掃き出し!ME39))","v":"0.000261370284810675+0.00011645740936193i"},{"$f":"IMSUB(掃き出し!MH39,IMPRODUCT(P39,掃き出し!MG39))","v":"-0.000465242058680958-0.00255668347551974i"},{"$f":"IMSUB(掃き出し!MJ39,IMPRODUCT(P39,掃き出し!MI39))","v":"0.00026875238463556-0.0010337018776639i"},{"$f":"IMSUB(掃き出し!ML39,IMPRODUCT(P39,掃き出し!MK39))","v":"0.000500452161572681+0.00219737216832038i"},{"$f":"IMDIV(掃き出し!MN39,掃き出し!MM39)","v":"0.000287129137219794+0.000924142461049019i"}," ",{"$f":"IMEXP(COMPLEX(0,計算!$B39*定数!A$61))","v":"-0.82632900268992-0.563187694568589i"},{"$f":"IMEXP(COMPLEX(0,計算!$B39*定数!B$61))","v":"-0.881232801809183+0.47268250339476i"},{"$f":"IMEXP(COMPLEX(0,計算!$B39*定数!C$61))","v":"-0.394928534234277+0.918711844294807i"},{"$f":"IMEXP(COMPLEX(0,計算!$B39*定数!D$61))","v":"-0.547752101456337+0.836640684732799i"}," ","0.000158592300132516-0.000067878409322089i","0.000231316459154064+0.000775781209452218i","-0.000196489674045398-0.00359038535318364i","0.000787581298792475+0.0031215146293694i","0.000140304873458824+0.000163126966233549i","0.000052759793173443-0.000545892770711227i","-0.00132158185363027+0.00209227501359049i","0.000633836462632367-0.00188829091912765i"," ",{"$f":"IMSUM(IMPRODUCT(定数!$F$38,計算!W39),IMPRODUCT(定数!$G$38,計算!X39),IMPRODUCT(定数!$H$38,計算!Y39),IMPRODUCT(定数!$I$38,計算!Z39))","v":"0.000697816476724227+0.00318944424559473i"},{"$f":"IMSUM(IMPRODUCT(定数!$F$39,計算!W39),IMPRODUCT(定数!$G$39,計算!X39),IMPRODUCT(定数!$H$39,計算!Y39),IMPRODUCT(定数!$I$39,計算!Z39))","v":"-0.000333202395624366-0.00355431384392437i"},{"$f":"IMSUM(IMPRODUCT(定数!$F$40,計算!W39),IMPRODUCT(定数!$G$40,計算!X39),IMPRODUCT(定数!$H$40,計算!Y39),IMPRODUCT(定数!$I$40,計算!Z39))","v":"-0.00022065160022925+0.000595287650433063i"},{"$f":"IMSUM(IMPRODUCT(定数!$F$41,計算!W39),IMPRODUCT(定数!$G$41,計算!X39),IMPRODUCT(定数!$H$41,計算!Y39),IMPRODUCT(定数!$I$41,計算!Z39))","v":"0.000286995257525864+0.0000920610117221632i"},{"$f":"IMSUM(IMPRODUCT(定数!$F$38,計算!AA39),IMPRODUCT(定数!$G$38,計算!AB39),IMPRODUCT(定数!$H$38,計算!AC39),IMPRODUCT(定数!$I$38,計算!AD39))","v":"0.000823323636516783-0.001900449649191i"},{"$f":"IMSUM(IMPRODUCT(定数!$F$39,計算!AA39),IMPRODUCT(定数!$G$39,計算!AB39),IMPRODUCT(定数!$H$39,計算!AC39),IMPRODUCT(定数!$I$39,計算!AD39))","v":"-0.0010502475828643+0.00214256448937261i"},{"$f":"IMSUM(IMPRODUCT(定数!$F$40,計算!AA39),IMPRODUCT(定数!$G$40,計算!AB39),IMPRODUCT(定数!$H$40,計算!AC39),IMPRODUCT(定数!$I$40,計算!AD39))","v":"0.000618341174530922-0.000218717197181938i"},{"$f":"IMSUM(IMPRODUCT(定数!$F$41,計算!AA39),IMPRODUCT(定数!$G$41,計算!AB39),IMPRODUCT(定数!$H$41,計算!AC39),IMPRODUCT(定数!$I$41,計算!AD39))","v":"-0.0000193432731335139+0.0000243934214353666i"}," ","0.00187357121938108-0.00404301413856361i"," ","0.000618341174530922-0.000218717197181938i","-0.0000193432731335139+0.0000243934214353666i"," "]
[36,{"$f":"A40*定数!$B$8","v":22619467105.846508},null,{"$f":"B40*定数!$C$3","v":11.309733552923255},{"$f":"B40*定数!$C$5","v":2.2619467105846511},{"$f":"定数!$B$6*SIN(D40)*SIN(E40)/(D40*E40)","v":-0.67686896410256203},"-0.362684527655833+0.571499368297412i"," ",{"$f":"IMSUB(掃き出し!LZ40,IMPRODUCT(P40,掃き出し!LY40))","v":"-0.00029315007611249-0.00025125288370152i"},{"$f":"IMSUB(掃き出し!MB40,IMPRODUCT(P40,掃き出し!MA40))","v":"0.000126804950194785-0.00016986398361704i"},{"$f":"IMSUB(掃き出し!MD40,IMPRODUCT(P40,掃き出し!MC40))","v":"-0.000013398436401836+0.000603797940230416i"},{"$f":"IMSUB(掃き出し!MF40,IMPRODUCT(P40,掃き出し!ME40))","v":"0.000182138558745513-0.000208649541001575i"},{"$f":"IMSUB(掃き出し!MH40,IMPRODUCT(P40,掃き出し!MG40))","v":"-0.000580797299100689-0.0013109896272775i"},{"$f":"IMSUB(掃き出し!MJ40,IMPRODUCT(P40,掃き出し!MI40))","v":"-0.000557927800002045-0.000227946721939909i"},{"$f":"IMSUB(掃き出し!ML40,IMPRODUCT(P40,掃き出し!MK40))","v":"0.000446685724449791+0.00140549879786513i"},{"$f":"IMDIV(掃き出し!MN40,掃き出し!MM40)","v":"0.000644478415739729-0.0000115457767332287i"}," ",{"$f":"IMEXP(COMPLEX(0,計算!$B40*定数!A$61))","v":"-0.321342522562982-0.946963031587221i"},{"$f":"IMEXP(COMPLEX(0,計算!$B40*定数!B$61))","v":"-0.992577012608831-0.121617737359846i"},{"$f":"IMEXP(COMPLEX(0,計算!$B40*定数!C$61))","v":"-0.842026193287616+0.5394366411522i"},{"$f":"IMEXP(COMPLEX(0,計算!$B40*定数!D$61))","v":"-0.924482480409001+0.381224531499248i"}," ","-0.000166345125917705-0.00042111686731856i","0.000168740122343677+0.000395148399228841i","-0.00113872509910273-0.00153893634921741i","0.00109116414018952+0.0013939530211319i","0.00013052604194-0.000262359128404261i","-0.000266295590934276-0.000415995984563689i","0.000374603333319508+0.00130816136162208i","-0.000468549976790952-0.00121328172047866i"," ",{"$f":"IMSUM(IMPRODUCT(定数!$F$38,計算!W40),IMPRODUCT(定数!$G$38,計算!X40),IMPRODUCT(定数!$H$38,計算!Y40),IMPRODUCT(定数!$I$38,計算!Z40))","v":"0.00095165600912075+0.00126201455630144i"},{"$f":"IMSUM(IMPRODUCT(定数!$F$39,計算!W40),IMPRODUCT(定数!$G$39,計算!X40),IMPRODUCT(定数!$H$39,計算!Y40),IMPRODUCT(定数!$I$39,計算!Z40))","v":"-0.00127684476291928-0.00174530102942662i"},{"$f":"IMSUM(IMPRODUCT(定数!$F$40,計算!W40),IMPRODUCT(定数!$G$40,計算!X40),IMPRODUCT(定数!$H$40,計算!Y40),IMPRODUCT(定数!$I$40,計算!Z40))","v":"0.0000860953156519728-4.63657508266999E-06i"},{"$f":"IMSUM(IMPRODUCT(定数!$F$41,計算!W40),IMPRODUCT(定数!$G$41,計算!X40),IMPRODUCT(定数!$H$41,計算!Y40),IMPRODUCT(定数!$I$41,計算!Z40))","v":"0.0000680668199814327-0.000145624072721212i"},{"$f":"IMSUM(IMPRODUCT(定数!$F$38,計算!AA40),IMPRODUCT(定数!$G$38,計算!AB40),IMPRODUCT(定数!$H$38,計算!AC40),IMPRODUCT(定数!$I$38,計算!AD40))","v":"-0.00047253759170732-0.00141610963411259i"},{"$f":"IMSUM(IMPRODUCT(定数!$F$39,計算!AA40),IMPRODUCT(定数!$G$39,計算!AB40),IMPRODUCT(定数!$H$39,計算!AC40),IMPRODUCT(定数!$I$39,計算!AD40))","v":"0.000448343306090048+0.00113228245643392i"},{"$f":"IMSUM(IMPRODUCT(定数!$F$40,計算!AA40),IMPRODUCT(定数!$G$40,計算!AB40),IMPRODUCT(定数!$H$40,計算!AC40),IMPRODUCT(定数!$I$40,計算!AD40))","v":"0.000127766758644086-0.000298792140885444i"},{"$f":"IMSUM(IMPRODUCT(定数!$F$41,計算!AA40),IMPRODUCT(定数!$G$41,計算!AB40),IMPRODUCT(定数!$H$41,計算!AC40),IMPRODUCT(定数!$I$41,計算!AD40))","v":"0.0000874559615528843-0.000117203295645406i"}," ","-0.000920880897797368-0.00254839209054651i"," ","0.000127766758644086-0.000298792140885444i","0.0000874559615528843-0.000117203295645406i"," "]
[37,{"$f":"A41*定数!$B$8","v":23247785636.564468},null,{"$f":"B41*定数!$C$3","v":11.623892818282235},{"$f":"B41*定数!$C$5","v":2.3247785636564471},{"$f":"定数!$B$6*SIN(D41)*SIN(E41)/(D41*E41)","v":-0.51568702491245544},"-0.0966301126428881+0.506552789937714i"," ",{"$f":"IMSUB(掃き出し!LZ41,IMPRODUCT(P41,掃き出し!LY41))","v":"-0.00014618753673851-0.000035808073930746i"},{"$f":"IMSUB(掃き出し!MB41,IMPRODUCT(P41,掃き出し!MA41))","v":"-0.000065527670102037-0.000045059223259673i"},{"$f":"IMSUB(掃き出し!MD41,IMPRODUCT(P41,掃き出し!MC41))","v":"0.00015477477922565+0.000743620987040523i"},{"$f":"IMSUB(掃き出し!MF41,IMPRODUCT(P41,掃き出し!ME41))","v":"-0.000249448635787943-0.00025930604268185i"},{"$f":"IMSUB(掃き出し!MH41,IMPRODUCT(P41,掃き出し!MG41))","v":"-0.00043285333544844-0.000885118028633605i"},{"$f":"IMSUB(掃き出し!MJ41,IMPRODUCT(P41,掃き出し!MI41))","v":"-0.0002811202223938+0.000318441324342181i"},{"$f":"IMSUB(掃き出し!ML41,IMPRODUCT(P41,掃き出し!MK41))","v":"0.000387912941714189+0.00113765183462104i"},{"$f":"IMDIV(掃き出し!MN41,掃き出し!MM41)","v":"0.000170884909894161-0.000511796415034443i"}," ",{"$f":"IMEXP(COMPLEX(0,計算!$B41*定数!A$61))","v":"0.312918400895702-0.949780013677313i"},{"$f":"IMEXP(COMPLEX(0,計算!$B41*定数!B$61))","v":"-0.741044686226204-0.671455711879724i"},{"$f":"IMEXP(COMPLEX(0,計算!$B41*定数!C$61))","v":"-0.999680719492436-0.025267747724822i"},{"$f":"IMEXP(COMPLEX(0,計算!$B41*定数!D$61))","v":"-0.978263717076828-0.207364654295343i"}," ","-0.000211715206840547-0.000080867297190419i","-0.000094673856562293+0.000484314944358673i","-0.00071397355784224-0.000566676704291424i","0.00055879785160835+0.000625855419586597i","-0.0000750361407060059-0.000101913994558783i","-0.000603263524375624-0.000087480895090529i","0.000744156834105147+0.000562661821443487i","-0.000888688929476799-0.000567247706326704i"," ",{"$f":"IMSUM(IMPRODUCT(定数!$F$38,計算!W41),IMPRODUCT(定数!$G$38,計算!X41),IMPRODUCT(定数!$H$38,計算!Y41),IMPRODUCT(定数!$I$38,計算!Z41))","v":"0.000353546662950253+0.000774538594452631i"},{"$f":"IMSUM(IMPRODUCT(定数!$F$39,計算!W41),IMPRODUCT(定数!$G$39,計算!X41),IMPRODUCT(定数!$H$39,計算!Y41),IMPRODUCT(定数!$I$39,計算!Z41))","v":"-0.000862322374108886-0.00055129223546736i"},{"$f":"IMSUM(IMPRODUCT(定数!$F$40,計算!W41),IMPRODUCT(定数!$G$40,計算!X41),IMPRODUCT(定数!$H$40,計算!Y41),IMPRODUCT(定数!$I$40,計算!Z41))","v":"0.000113769806304352-0.000115729350399355i"},{"$f":"IMSUM(IMPRODUCT(定数!$F$41,計算!W41),IMPRODUCT(定数!$G$41,計算!X41),IMPRODUCT(定数!$H$41,計算!Y41),IMPRODUCT(定数!$I$41,計算!Z41))","v":"0.0000556883571862672-0.000176692401406727i"},{"$f":"IMSUM(IMPRODUCT(定数!$F$38,計算!AA41),IMPRODUCT(定数!$G$38,計算!AB41),IMPRODUCT(定数!$H$38,計算!AC41),IMPRODUCT(定数!$I$38,計算!AD41))","v":"-0.00111289801276064-0.00057009221918961i"},{"$f":"IMSUM(IMPRODUCT(定数!$F$39,計算!AA41),IMPRODUCT(定数!$G$39,計算!AB41),IMPRODUCT(定数!$H$39,計算!AC41),IMPRODUCT(定数!$I$39,計算!AD41))","v":"0.000665377074986236+0.000541695061497202i"},{"$f":"IMSUM(IMPRODUCT(定数!$F$40,計算!AA41),IMPRODUCT(定数!$G$40,計算!AB41),IMPRODUCT(定数!$H$40,計算!AC41),IMPRODUCT(定数!$I$40,計算!AD41))","v":"0.0000735608868234514-0.000129263527308967i"},{"$f":"IMSUM(IMPRODUCT(定数!$F$41,計算!AA41),IMPRODUCT(定数!$G$41,計算!AB41),IMPRODUCT(定数!$H$41,計算!AC41),IMPRODUCT(定数!$I$41,計算!AD41))","v":"0.0000944280026116219-0.000128251892580297i"}," ","-0.00177827508774688-0.00111178728068681i"," ","0.0000735608868234514-0.000129263527308967i","0.0000944280026116219-0.000128251892580297i"," "]
[38,{"$f":"A42*定数!$B$8","v":23876104167.282425},null,{"$f":"B42*定数!$C$3","v":11.938052083641214},{"$f":"B42*定数!$C$5","v":2.387610416728243},{"$f":"定数!$B$6*SIN(D42)*SIN(E42)/(D42*E42)","v":-0.33356309948941293},"0.0625034920796292+0.327654779941993i"," ",{"$f":"IMSUB(掃き出し!LZ42,IMPRODUCT(P42,掃き出し!LY42))","v":"-0.000078726336903581-5.73673237583901E-06i"},{"$f":"IMSUB(掃き出し!MB42,IMPRODUCT(P42,掃き出し!MA42))","v":"-0.0000361972941998389+0.000026081362821758i"},{"$f":"IMSUB(掃き出し!MD42,IMPRODUCT(P42,掃き出し!MC42))","v":"0.00059306692988777+0.000088844931232237i"},{"$f":"IMSUB(掃き出し!MF42,IMPRODUCT(P42,掃き出し!ME42))","v":"0.000030706577488303+0.000287842577227811i"},{"$f":"IMSUB(掃き出し!MH42,IMPRODUCT(P42,掃き出し!MG42))","v":"-0.000403634005657598-0.000703147589301302i"},{"$f":"IMSUB(掃き出し!MJ42,IMPRODUCT(P42,掃き出し!MI42))","v":"0.000190391774371479+0.000305824647797982i"},{"$f":"IMSUB(掃き出し!ML42,IMPRODUCT(P42,掃き出し!MK42))","v":"0.000615254316690429+0.00105208642294829i"},{"$f":"IMDIV(掃き出し!MN42,掃き出し!MM42)","v":"-0.000495871507729907-0.000259064878426484i"}," ",{"$f":"IMEXP(COMPLEX(0,計算!$B42*定数!A$61))","v":"0.821293861822349-0.570505383439046i"},{"$f":"IMEXP(COMPLEX(0,計算!$B42*定数!B$61))","v":"-0.218593603697681-0.9758159849185i"},{"$f":"IMEXP(COMPLEX(0,計算!$B42*定数!C$61))","v":"-0.813699000643639-0.581286449482132i"},{"$f":"IMEXP(COMPLEX(0,計算!$B42*定数!D$61))","v":"-0.690308430821509-0.723515217764454i"}," ","-0.00011492363110342+0.000020344630445919i","0.000623773507376073+0.000376687508460048i","-0.000213242231286119-0.00039732294150332i","0.000119382808960522+0.000793021544521806i","-0.0000762336782025696-0.0000075541277087166i","0.000057832185055157+0.000466418741213617i","0.000760016879822022-0.000021997856139914i","-0.00103104887885692+0.000256486984812691i"," ",{"$f":"IMSUM(IMPRODUCT(定数!$F$38,計算!W42),IMPRODUCT(定数!$G$38,計算!X42),IMPRODUCT(定数!$H$38,計算!Y42),IMPRODUCT(定数!$I$38,計算!Z42))","v":"0.000473631771608657+0.000790779844485583i"},{"$f":"IMSUM(IMPRODUCT(定数!$F$39,計算!W42),IMPRODUCT(定数!$G$39,計算!X42),IMPRODUCT(定数!$H$39,計算!Y42),IMPRODUCT(定数!$I$39,計算!Z42))","v":"-0.000066307247902353-0.000496677737838051i"},{"$f":"IMSUM(IMPRODUCT(定数!$F$40,計算!W42),IMPRODUCT(定数!$G$40,計算!X42),IMPRODUCT(定数!$H$40,計算!Y42),IMPRODUCT(定数!$I$40,計算!Z42))","v":"-0.00017004128749026-0.000213814441923143i"},{"$f":"IMSUM(IMPRODUCT(定数!$F$41,計算!W42),IMPRODUCT(定数!$G$41,計算!X42),IMPRODUCT(定数!$H$41,計算!Y42),IMPRODUCT(定数!$I$41,計算!Z42))","v":"-0.000448456074389878+0.0000764078879129482i"},{"$f":"IMSUM(IMPRODUCT(定数!$F$38,計算!AA42),IMPRODUCT(定数!$G$38,計算!AB42),IMPRODUCT(定数!$H$38,計算!AC42),IMPRODUCT(定数!$I$38,計算!AD42))","v":"-0.000771958324147056+0.000438341360510537i"},{"$f":"IMSUM(IMPRODUCT(定数!$F$39,計算!AA42),IMPRODUCT(定数!$G$39,計算!AB42),IMPRODUCT(定数!$H$39,計算!AC42),IMPRODUCT(定数!$I$39,計算!AD42))","v":"0.000941067757769001+4.58418619799816E-06i"},{"$f":"IMSUM(IMPRODUCT(定数!$F$40,計算!AA42),IMPRODUCT(定数!$G$40,計算!AB42),IMPRODUCT(定数!$H$40,計算!AC42),IMPRODUCT(定数!$I$40,計算!AD42))","v":"-0.0000718958155607674-0.000249871547955672i"},{"$f":"IMSUM(IMPRODUCT(定数!$F$41,計算!AA42),IMPRODUCT(定数!$G$41,計算!AB42),IMPRODUCT(定数!$H$41,計算!AC42),IMPRODUCT(定数!$I$41,計算!AD42))","v":"-0.000400013471238549-0.00017050929244028i"}," ","-0.00171302608191606+0.000433757174312539i"," ","-0.0000718958155607674-0.000249871547955672i","-0.000400013471238549-0.00017050929244028i"," "]
[39,{"$f":"A43*定数!$B$8","v":24504422698.000385},null,{"$f":"B43*定数!$C$3","v":12.252211349000193},{"$f":"B43*定数!$C$5","v":2.450442269800039},{"$f":"定数!$B$6*SIN(D43)*SIN(E43)/(D43*E43)","v":-0.15502606524704343},"0.0830671196795236+0.130892836068778i"," ",{"$f":"IMSUB(掃き出し!LZ43,IMPRODUCT(P43,掃き出し!LY43))","v":"-0.0000233530219801787-2.51586500203498E-06i"},{"$f":"IMSUB(掃き出し!MB43,IMPRODUCT(P43,掃き出し!MA43))","v":"0.000011850297459318+0.0000233891198674565i"},{"$f":"IMSUB(掃き出し!MD43,IMPRODUCT(P43,掃き出し!MC43))","v":"0.000137847907322341-0.000034216462280286i"},{"$f":"IMSUB(掃き出し!MF43,IMPRODUCT(P43,掃き出し!ME43))","v":"0.000064349346485626-0.000012521667773318i"},{"$f":"IMSUB(掃き出し!MH43,IMPRODUCT(P43,掃き出し!MG43))","v":"-0.000590013599904554-0.000336365535494566i"},{"$f":"IMSUB(掃き出し!MJ43,IMPRODUCT(P43,掃き出し!MI43))","v":"0.000229372230804102-0.00020155369297674i"},{"$f":"IMSUB(掃き出し!ML43,IMPRODUCT(P43,掃き出し!MK43))","v":"0.000815108272751226-0.0000385010200957191i"},{"$f":"IMDIV(掃き出し!MN43,掃き出し!MM43)","v":"0.0000938202943472407+0.000370770419856323i"}," ",{"$f":"IMEXP(COMPLEX(0,計算!$B43*定数!A$61))","v":"0.999267028175442+0.038280626972669i"},{"$f":"IMEXP(COMPLEX(0,計算!$B43*定数!B$61))","v":"0.383773182048257-0.923427390074907i"},{"$f":"IMEXP(COMPLEX(0,計算!$B43*定数!C$61))","v":"-0.348011508008358-0.937490261439418i"},{"$f":"IMEXP(COMPLEX(0,計算!$B43*定数!D$61))","v":"-0.161207941309255-0.986920462681179i"}," ","-0.0000115027245208607+0.0000208732548654215i","0.000202197253807967-0.000046738130053604i","-0.000360641369100452-0.000537919228471306i","0.000908928567098467+0.000332269399760604i","-0.0000124859524104029+0.0000222055604973815i","0.0000976314509650835+0.0000499337433140531i","0.000251892136198013-0.000580964154763821i","0.000257391855780547+0.000658289399477364i"," ",{"$f":"IMSUM(IMPRODUCT(定数!$F$38,計算!W43),IMPRODUCT(定数!$G$38,計算!X43),IMPRODUCT(定数!$H$38,計算!Y43),IMPRODUCT(定数!$I$38,計算!Z43))","v":"0.000716372934268289+0.000315120835466844i"},{"$f":"IMSUM(IMPRODUCT(定数!$F$39,計算!W43),IMPRODUCT(定数!$G$39,計算!X43),IMPRODUCT(定数!$H$39,計算!Y43),IMPRODUCT(定数!$I$39,計算!Z43))","v":"-0.000596970486754315-0.000502336932925869i"},{"$f":"IMSUM(IMPRODUCT(定数!$F$40,計算!W43),IMPRODUCT(定数!$G$40,計算!X43),IMPRODUCT(定数!$H$40,計算!Y43),IMPRODUCT(定数!$I$40,計算!Z43))","v":"-0.00025554515591067+0.000218166969418152i"},{"$f":"IMSUM(IMPRODUCT(定数!$F$41,計算!W43),IMPRODUCT(定数!$G$41,計算!X43),IMPRODUCT(定数!$H$41,計算!Y43),IMPRODUCT(定数!$I$41,計算!Z43))","v":"0.000246465646280628+0.000059288675598111i"},{"$f":"IMSUM(IMPRODUCT(定数!$F$38,計算!AA43),IMPRODUCT(定数!$G$38,計算!AB43),IMPRODUCT(定数!$H$38,計算!AC43),IMPRODUCT(定数!$I$38,計算!AD43))","v":"0.000120684761312254+0.000564617443781951i"},{"$f":"IMSUM(IMPRODUCT(定数!$F$39,計算!AA43),IMPRODUCT(定数!$G$39,計算!AB43),IMPRODUCT(定数!$H$39,計算!AC43),IMPRODUCT(定数!$I$39,計算!AD43))","v":"0.0000659143031032861-0.000650614233149685i"},{"$f":"IMSUM(IMPRODUCT(定数!$F$40,計算!AA43),IMPRODUCT(定数!$G$40,計算!AB43),IMPRODUCT(定数!$H$40,計算!AC43),IMPRODUCT(定数!$I$40,計算!AD43))","v":"-0.000317430741749434+0.0000666490796936916i"},{"$f":"IMSUM(IMPRODUCT(定数!$F$41,計算!AA43),IMPRODUCT(定数!$G$41,計算!AB43),IMPRODUCT(定数!$H$41,計算!AC43),IMPRODUCT(定数!$I$41,計算!AD43))","v":"0.000143701884404076+0.000160015346516993i"}," ","0.0000547704582089679+0.00121523167693164i"," ","-0.000317430741749434+0.0000666490796936916i","0.000143701884404076+0.000160015346516993i"," "]
[40,{"$f":"A44*定数!$B$8","v":25132741228.718342},null,{"$f":"B44*定数!$C$3","v":12.566370614359172},{"$f":"B44*定数!$C$5","v":2.5132741228718345},{"$f":"定数!$B$6*SIN(D44)*SIN(E44)/(D44*E44)","v":-2.1551156491888931E-16},"1.7435251850372E-16+1.26674519557796E-16i"," ",{"$f":"IMSUB(掃き出し!LZ44,IMPRODUCT(P44,掃き出し!LY44))","v":"-1.03382527932101E-19-1.4596769172922E-20i"},{"$f":"IMSUB(掃き出し!MB44,IMPRODUCT(P44,掃き出し!MA44))","v":"6.04175538367092E-20-3.3435859681581E-20i"},{"$f":"IMSUB(掃き出し!MD44,IMPRODUCT(P44,掃き出し!MC44))","v":"1.53639867941697E-19-5.232710135677E-20i"},{"$f":"IMSUB(掃き出し!MF44,IMPRODUCT(P44,掃き出し!ME44))","v":"1.1685932303435E-20-7.6388536510674E-20i"},{"$f":"IMSUB(掃き出し!MH44,IMPRODUCT(P44,掃き出し!MG44))","v":"-5.9726669871121E-19+4.09659770578879E-19i"},{"$f":"IMSUB(掃き出し!MJ44,IMPRODUCT(P44,掃き出し!MI44))","v":"-3.29730114699308E-19-3.36108190545478E-20i"},{"$f":"IMSUB(掃き出し!ML44,IMPRODUCT(P44,掃き出し!MK44))","v":"4.61520084209012E-19-3.59735391987359E-19i"},{"$f":"IMDIV(掃き出し!MN44,掃き出し!MM44)","v":"2.44188369219052E-19-1.3498612603954E-19i"}," ",{"$f":"IMEXP(COMPLEX(0,計算!$B44*定数!A$61))","v":"0.775240210907227+0.631666538129509i"},{"$f":"IMEXP(COMPLEX(0,計算!$B44*定数!B$61))","v":"0.845836211414561-0.533442689948847i"},{"$f":"IMEXP(COMPLEX(0,計算!$B44*定数!C$61))","v":"0.237303547223271-0.971435549316193i"},{"$f":"IMEXP(COMPLEX(0,計算!$B44*定数!D$61))","v":"0.424207262087426-0.905565126753615i"}," ","-4.29649740953918E-20-4.8032628854503E-20i","1.65325800245132E-19-1.28715637867444E-19i","-9.26996813410518E-19+3.76048951524331E-19i","7.05708453428064E-19-4.94721518026899E-19i","-2.14081524962219E-20+6.62302052726413E-20i","1.27003151835895E-19-3.31480582079074E-20i","-6.50588440823245E-19-1.70656798325464E-19i","5.02891748366489E-19-1.3056438625463E-20i"," ",{"$f":"IMSUM(IMPRODUCT(定数!$F$38,計算!W44),IMPRODUCT(定数!$G$38,計算!X44),IMPRODUCT(定数!$H$38,計算!Y44),IMPRODUCT(定数!$I$38,計算!Z44))","v":"7.36124241041849E-19-4.78810341827454E-19i"},{"$f":"IMSUM(IMPRODUCT(定数!$F$39,計算!W44),IMPRODUCT(定数!$G$39,計算!X44),IMPRODUCT(定数!$H$39,計算!Y44),IMPRODUCT(定数!$I$39,計算!Z44))","v":"-8.95927815341429E-19+4.05161378842003E-19i"},{"$f":"IMSUM(IMPRODUCT(定数!$F$40,計算!W44),IMPRODUCT(定数!$G$40,計算!X44),IMPRODUCT(定数!$H$40,計算!Y44),IMPRODUCT(定数!$I$40,計算!Z44))","v":"1.96661367239764E-19-6.71907691077482E-22i"},{"$f":"IMSUM(IMPRODUCT(定数!$F$41,計算!W44),IMPRODUCT(定数!$G$41,計算!X44),IMPRODUCT(定数!$H$41,計算!Y44),IMPRODUCT(定数!$I$41,計算!Z44))","v":"-1.89003544112186E-20-9.37537128408284E-20i"},{"$f":"IMSUM(IMPRODUCT(定数!$F$38,計算!AA44),IMPRODUCT(定数!$G$38,計算!AB44),IMPRODUCT(定数!$H$38,計算!AC44),IMPRODUCT(定数!$I$38,計算!AD44))","v":"5.31617897581372E-19+5.14692728531723E-20i"},{"$f":"IMSUM(IMPRODUCT(定数!$F$39,計算!AA44),IMPRODUCT(定数!$G$39,計算!AB44),IMPRODUCT(定数!$H$39,計算!AC44),IMPRODUCT(定数!$I$39,計算!AD44))","v":"-6.24177242526735E-19-7.75083591196398E-20i"},{"$f":"IMSUM(IMPRODUCT(定数!$F$40,計算!AA44),IMPRODUCT(定数!$G$40,計算!AB44),IMPRODUCT(定数!$H$40,計算!AC44),IMPRODUCT(定数!$I$40,計算!AD44))","v":"1.35975025744168E-19+1.62190056454568E-19i"},{"$f":"IMSUM(IMPRODUCT(定数!$F$41,計算!AA44),IMPRODUCT(定数!$G$41,計算!AB44),IMPRODUCT(定数!$H$41,計算!AC44),IMPRODUCT(定数!$I$41,計算!AD44))","v":"-1.229743451521E-20-6.28663113972923E-21i"}," ","1.15579514010811E-18+1.28977631972812E-19i"," ","1.35975025744168E-19+1.62190056454568E-19i","-1.229743451521E-20-6.28663113972923E-21i"," "]
[41,{"$f":"A45*定数!$B$8","v":25761059759.436302},null,{"$f":"B45*定数!$C$3","v":12.880529879718152},{"$f":"B45*定数!$C$5","v":2.5761059759436304},{"$f":"定数!$B$6*SIN(D45)*SIN(E45)/(D45*E45)","v":0.11791315176737649},"-0.114208693277486-0.0293238084082793i"," ",{"$f":"IMSUB(掃き出し!LZ45,IMPRODUCT(P45,掃き出し!LY45))","v":"8.30063244161201E-06-0.0000480013764845259i"},{"$f":"IMSUB(掃き出し!MB45,IMPRODUCT(P45,掃き出し!MA45))","v":"0.0000279857823585475-1.55676644632101E-06i"},{"$f":"IMSUB(掃き出し!MD45,IMPRODUCT(P45,掃き出し!MC45))","v":"-0.0000905513595495903+0.0000306586551303545i"},{"$f":"IMSUB(掃き出し!MF45,IMPRODUCT(P45,掃き出し!ME45))","v":"0.0000429542367680357+0.000022053932812997i"},{"$f":"IMSUB(掃き出し!MH45,IMPRODUCT(P45,掃き出し!MG45))","v":"0.000154776165867604-0.000178153575729966i"},{"$f":"IMSUB(掃き出し!MJ45,IMPRODUCT(P45,掃き出し!MI45))","v":"0.0000238940321042793-0.000107399719163977i"},{"$f":"IMSUB(掃き出し!ML45,IMPRODUCT(P45,掃き出し!MK45))","v":"-0.000174893301471623+0.000155336533663338i"},{"$f":"IMDIV(掃き出し!MN45,掃き出し!MM45)","v":"0.000022657021124647+0.000111256414300327i"}," ",{"$f":"IMEXP(COMPLEX(0,計算!$B45*定数!A$61))","v":"0.239338245855626+0.970936251290862i"},{"$f":"IMEXP(COMPLEX(0,計算!$B45*定数!B$61))","v":"0.998669718514615+0.051563488263893i"},{"$f":"IMEXP(COMPLEX(0,計算!$B45*定数!C$61))","v":"0.741046458153485-0.67145375630655i"},{"$f":"IMEXP(COMPLEX(0,計算!$B45*定数!D$61))","v":"0.861434290645438-0.507869041092477i"}," ","0.0000362864148001595-0.0000495581429308469i","-0.0000475971227815546+0.0000527125879433515i","0.000178670197971883-0.000285553294893943i","-0.000152236280346976+0.000266592947963665i","-0.0000364100286965008+0.0000072518666695167i","-0.0000470901157121355+0.0000595264796124516i","0.000179910860149054-0.000123726957446413i","-0.000153528480123332+0.000129322614115679i"," ",{"$f":"IMSUM(IMPRODUCT(定数!$F$38,計算!W45),IMPRODUCT(定数!$G$38,計算!X45),IMPRODUCT(定数!$H$38,計算!Y45),IMPRODUCT(定数!$I$38,計算!Z45))","v":"-0.000148107621283478+0.000238017771839311i"},{"$f":"IMSUM(IMPRODUCT(定数!$F$39,計算!W45),IMPRODUCT(定数!$G$39,計算!X45),IMPRODUCT(定数!$H$39,計算!Y45),IMPRODUCT(定数!$I$39,計算!Z45))","v":"0.000190760715985643-0.000318088991257405i"},{"$f":"IMSUM(IMPRODUCT(定数!$F$40,計算!W45),IMPRODUCT(定数!$G$40,計算!X45),IMPRODUCT(定数!$H$40,計算!Y45),IMPRODUCT(定数!$I$40,計算!Z45))","v":"-0.0000102879303350009+0.0000173870389032193i"},{"$f":"IMSUM(IMPRODUCT(定数!$F$41,計算!W45),IMPRODUCT(定数!$G$41,計算!X45),IMPRODUCT(定数!$H$41,計算!Y45),IMPRODUCT(定数!$I$41,計算!Z45))","v":"0.0000175172705793435+0.0000031579196839075i"},{"$f":"IMSUM(IMPRODUCT(定数!$F$38,計算!AA45),IMPRODUCT(定数!$G$38,計算!AB45),IMPRODUCT(定数!$H$38,計算!AC45),IMPRODUCT(定数!$I$38,計算!AD45))","v":"-0.000181299852795097+0.000146786343213912i"},{"$f":"IMSUM(IMPRODUCT(定数!$F$39,計算!AA45),IMPRODUCT(定数!$G$39,計算!AB45),IMPRODUCT(定数!$H$39,計算!AC45),IMPRODUCT(定数!$I$39,計算!AD45))","v":"0.000152450603275775-0.000117335283896234i"},{"$f":"IMSUM(IMPRODUCT(定数!$F$40,計算!AA45),IMPRODUCT(定数!$G$40,計算!AB45),IMPRODUCT(定数!$H$40,計算!AC45),IMPRODUCT(定数!$I$40,計算!AD45))","v":"-0.0000505013274598756+5.78196825030736E-06i"},{"$f":"IMSUM(IMPRODUCT(定数!$F$41,計算!AA45),IMPRODUCT(定数!$G$41,計算!AB45),IMPRODUCT(定数!$H$41,計算!AC45),IMPRODUCT(定数!$I$41,計算!AD45))","v":"-0.0000155943382124575-1.85084539500674E-06i"}," ","-0.000333750456070872+0.000264121627110146i"," ","-0.0000505013274598756+5.78196825030736E-06i","-0.0000155943382124575-1.85084539500674E-06i"," "]
[42,{"$f":"A46*定数!$B$8","v":26389378290.154259},null,{"$f":"B46*定数!$C$3","v":13.194689145077129},{"$f":"B46*定数!$C$5","v":2.6389378290154264},{"$f":"定数!$B$6*SIN(D46)*SIN(E46)/(D46*E46)","v":0.19216235384882346},"-0.190647096292611+0.0240843291772088i"," ",{"$f":"IMSUB(掃き出し!LZ46,IMPRODUCT(P46,掃き出し!LY46))","v":"-0.0000028702282025675-0.00004421052637046i"},{"$f":"IMSUB(掃き出し!MB46,IMPRODUCT(P46,掃き出し!MA46))","v":"2.87755899908401E-06-0.0000243676388812539i"},{"$f":"IMSUB(掃き出し!MD46,IMPRODUCT(P46,掃き出し!MC46))","v":"-0.000233629810746085+0.000135156657629068i"},{"$f":"IMSUB(掃き出し!MF46,IMPRODUCT(P46,掃き出し!ME46))","v":"0.000078219604477309-0.000116732027947075i"},{"$f":"IMSUB(掃き出し!MH46,IMPRODUCT(P46,掃き出し!MG46))","v":"0.000213857575046767-0.000254614257303788i"},{"$f":"IMSUB(掃き出し!MJ46,IMPRODUCT(P46,掃き出し!MI46))","v":"-0.000132749509220832-0.000086397286240838i"},{"$f":"IMSUB(掃き出し!ML46,IMPRODUCT(P46,掃き出し!MK46))","v":"-0.000299906694880971+0.000261182453700464i"},{"$f":"IMDIV(掃き出し!MN46,掃き出し!MM46)","v":"0.000194296901276879+0.00003316962703923i"}," ",{"$f":"IMEXP(COMPLEX(0,計算!$B46*定数!A$61))","v":"-0.39284826396835+0.919603306593149i"},{"$f":"IMEXP(COMPLEX(0,計算!$B46*定数!B$61))","v":"0.786399254194973+0.617718554846453i"},{"$f":"IMEXP(COMPLEX(0,計算!$B46*定数!C$61))","v":"0.990057615910203-0.140662422765303i"},{"$f":"IMEXP(COMPLEX(0,計算!$B46*定数!D$61))","v":"0.997736779048172+0.0672407594735423i"}," ","7.33079651650992E-09-0.0000685781652517139i","-0.000155410206268776+0.000018424629681993i","0.000081108065825935-0.000341011543544626i","-0.000105609793604092+0.000294352080739694i","-0.0000182504648381148+0.000032226497281503i","0.000033381844532216+0.000207124285142244i","0.000103963464982669-0.000288866483578952i","-0.000090039019672079+0.00032691652208356i"," ",{"$f":"IMSUM(IMPRODUCT(定数!$F$38,計算!W46),IMPRODUCT(定数!$G$38,計算!X46),IMPRODUCT(定数!$H$38,計算!Y46),IMPRODUCT(定数!$I$38,計算!Z46))","v":"-0.000179603494415344+0.000238748322020968i"},{"$f":"IMSUM(IMPRODUCT(定数!$F$39,計算!W46),IMPRODUCT(定数!$G$39,計算!X46),IMPRODUCT(定数!$H$39,計算!Y46),IMPRODUCT(定数!$I$39,計算!Z46))","v":"0.0000538762360328581-0.000387417873624812i"},{"$f":"IMSUM(IMPRODUCT(定数!$F$40,計算!W46),IMPRODUCT(定数!$G$40,計算!X46),IMPRODUCT(定数!$H$40,計算!Y46),IMPRODUCT(定数!$I$40,計算!Z46))","v":"0.0000437233795069042+0.0000402053017121639i"},{"$f":"IMSUM(IMPRODUCT(定数!$F$41,計算!W46),IMPRODUCT(定数!$G$41,計算!X46),IMPRODUCT(定数!$H$41,計算!Y46),IMPRODUCT(定数!$I$41,計算!Z46))","v":"0.0000665440413651134+0.0000151661231134526i"},{"$f":"IMSUM(IMPRODUCT(定数!$F$38,計算!AA46),IMPRODUCT(定数!$G$38,計算!AB46),IMPRODUCT(定数!$H$38,計算!AC46),IMPRODUCT(定数!$I$38,計算!AD46))","v":"-0.0000655184039126478+0.000406442916554618i"},{"$f":"IMSUM(IMPRODUCT(定数!$F$39,計算!AA46),IMPRODUCT(定数!$G$39,計算!AB46),IMPRODUCT(定数!$H$39,計算!AC46),IMPRODUCT(定数!$I$39,計算!AD46))","v":"0.00010860059107346-0.000256444873883758i"},{"$f":"IMSUM(IMPRODUCT(定数!$F$40,計算!AA46),IMPRODUCT(定数!$G$40,計算!AB46),IMPRODUCT(定数!$H$40,計算!AC46),IMPRODUCT(定数!$I$40,計算!AD46))","v":"-0.0000454085739591976-0.0000103146067046759i"},{"$f":"IMSUM(IMPRODUCT(定数!$F$41,計算!AA46),IMPRODUCT(定数!$G$41,計算!AB46),IMPRODUCT(定数!$H$41,計算!AC46),IMPRODUCT(定数!$I$41,計算!AD46))","v":"-0.0000471841499364835-0.0000276540438472069i"}," ","-0.000174118994986108+0.000662887790438376i"," ","-0.0000454085739591976-0.0000103146067046759i","-0.0000471841499364835-0.0000276540438472069i"," "]
[43,{"$f":"A47*定数!$B$8","v":27017696820.872219},null,{"$f":"B47*定数!$C$3","v":13.50884841043611},{"$f":"B47*定数!$C$5","v":2.7017696820872223},{"$f":"定数!$B$6*SIN(D47)*SIN(E47)/(D47*E47)","v":0.22301210569042262},"-0.195426997947169+0.107436901285515i"," ",{"$f":"IMSUB(掃き出し!LZ47,IMPRODUCT(P47,掃き出し!LY47))","v":"-7.19980295385398E-06-0.0000456080900327555i"},{"$f":"IMSUB(掃き出し!MB47,IMPRODUCT(P47,掃き出し!MA47))","v":"-0.000023166137195519-0.0000128047205491563i"},{"$f":"IMSUB(掃き出し!MD47,IMPRODUCT(P47,掃き出し!MC47))","v":"0.000113370382533199+0.000371882798567582i"},{"$f":"IMSUB(掃き出し!MF47,IMPRODUCT(P47,掃き出し!ME47))","v":"-0.000186135248634091+0.000088763598871489i"},{"$f":"IMSUB(掃き出し!MH47,IMPRODUCT(P47,掃き出し!MG47))","v":"0.000298213127200276-0.000370048631495831i"},{"$f":"IMSUB(掃き出し!MJ47,IMPRODUCT(P47,掃き出し!MI47))","v":"-0.00018415667263843+0.000142205651270839i"},{"$f":"IMSUB(掃き出し!ML47,IMPRODUCT(P47,掃き出し!MK47))","v":"-0.000474269321060782+0.000536971284206503i"},{"$f":"IMDIV(掃き出し!MN47,掃き出し!MM47)","v":"0.000140373552169959-0.000333288625297527i"}," ",{"$f":"IMEXP(COMPLEX(0,計算!$B47*定数!A$61))","v":"-0.866993938632088+0.498318683550215i"},{"$f":"IMEXP(COMPLEX(0,計算!$B47*定数!B$61))","v":"0.286628843191236+0.958041703816099i"},{"$f":"IMEXP(COMPLEX(0,計算!$B47*定数!C$61))","v":"0.898740431943119+0.438481055452452i"},{"$f":"IMEXP(COMPLEX(0,計算!$B47*定数!D$61))","v":"0.785500226584462+0.618861368996125i"}," ","-0.000030365940149373-0.0000584128105819118i","-0.000072764866100892+0.000460646397439071i","0.000114056454561846-0.000227842980224992i","-0.000333895768890823+0.000203682658908976i","0.0000099805541532927+0.0000426872300525526i","0.000250383491064431-0.000154904341167855i","-0.000122106651328754-0.00041628171741428i","0.000276295036858773+0.000540371504695615i"," ",{"$f":"IMSUM(IMPRODUCT(定数!$F$38,計算!W47),IMPRODUCT(定数!$G$38,計算!X47),IMPRODUCT(定数!$H$38,計算!Y47),IMPRODUCT(定数!$I$38,計算!Z47))","v":"-0.000272234830298556+0.000444062029683827i"},{"$f":"IMSUM(IMPRODUCT(定数!$F$39,計算!W47),IMPRODUCT(定数!$G$39,計算!X47),IMPRODUCT(定数!$H$39,計算!Y47),IMPRODUCT(定数!$I$39,計算!Z47))","v":"0.000188934185440664-0.000133104828766287i"},{"$f":"IMSUM(IMPRODUCT(定数!$F$40,計算!W47),IMPRODUCT(定数!$G$40,計算!X47),IMPRODUCT(定数!$H$40,計算!Y47),IMPRODUCT(定数!$I$40,計算!Z47))","v":"0.0000863047993462971-0.000119171959055788i"},{"$f":"IMSUM(IMPRODUCT(定数!$F$41,計算!W47),IMPRODUCT(定数!$G$41,計算!X47),IMPRODUCT(定数!$H$41,計算!Y47),IMPRODUCT(定数!$I$41,計算!Z47))","v":"-0.000112354711002363-0.000278163224368875i"},{"$f":"IMSUM(IMPRODUCT(定数!$F$38,計算!AA47),IMPRODUCT(定数!$G$38,計算!AB47),IMPRODUCT(定数!$H$38,計算!AC47),IMPRODUCT(定数!$I$38,計算!AD47))","v":"0.000348129506370466+0.000331475258437168i"},{"$f":"IMSUM(IMPRODUCT(定数!$F$39,計算!AA47),IMPRODUCT(定数!$G$39,計算!AB47),IMPRODUCT(定数!$H$39,計算!AC47),IMPRODUCT(定数!$I$39,計算!AD47))","v":"-0.000124845573898311-0.000541032767345749i"},{"$f":"IMSUM(IMPRODUCT(定数!$F$40,計算!AA47),IMPRODUCT(定数!$G$40,計算!AB47),IMPRODUCT(定数!$H$40,計算!AC47),IMPRODUCT(定数!$I$40,計算!AD47))","v":"-0.000119522842851182+0.0000884968460001809i"},{"$f":"IMSUM(IMPRODUCT(定数!$F$41,計算!AA47),IMPRODUCT(定数!$G$41,計算!AB47),IMPRODUCT(定数!$H$41,計算!AC47),IMPRODUCT(定数!$I$41,計算!AD47))","v":"-0.0000434167554976876+0.000285200294129461i"}," ","0.000472975080268777+0.000872508025782917i"," ","-0.000119522842851182+0.0000884968460001809i","-0.0000434167554976876+0.000285200294129461i"," "]
[44,{"$f":"A48*定数!$B$8","v":27646015351.590176},null,{"$f":"B48*定数!$C$3","v":13.823007675795088},{"$f":"B48*定数!$C$5","v":2.7646015351590179},{"$f":"定数!$B$6*SIN(D48)*SIN(E48)/(D48*E48)","v":0.21648057204780702},"-0.137989909937793+0.166801147566512i"," ",{"$f":"IMSUB(掃き出し!LZ48,IMPRODUCT(P48,掃き出し!LY48))","v":"-0.000006990696760752-0.000031956346954443i"},{"$f":"IMSUB(掃き出し!MB48,IMPRODUCT(P48,掃き出し!MA48))","v":"-0.0000239220065149868+0.000028608383031403i"},{"$f":"IMSUB(掃き出し!MD48,IMPRODUCT(P48,掃き出し!MC48))","v":"0.000106795869661062+0.000140731005952984i"},{"$f":"IMSUB(掃き出し!MF48,IMPRODUCT(P48,掃き出し!ME48))","v":"0.0000440519232595863+0.000079013891104717i"},{"$f":"IMSUB(掃き出し!MH48,IMPRODUCT(P48,掃き出し!MG48))","v":"0.000235254510976828-0.000831363885315924i"},{"$f":"IMSUB(掃き出し!MJ48,IMPRODUCT(P48,掃き出し!MI48))","v":"0.000271614711569965+0.000328670976387162i"},{"$f":"IMSUB(掃き出し!ML48,IMPRODUCT(P48,掃き出し!MK48))","v":"0.000420482899462853+0.00112428909710996i"},{"$f":"IMDIV(掃き出し!MN48,掃き出し!MM48)","v":"-0.000584656520326947+0.000195449140986879i"}," ",{"$f":"IMEXP(COMPLEX(0,計算!$B48*定数!A$61))","v":"-0.992352412975352-0.123436981743708i"},{"$f":"IMEXP(COMPLEX(0,計算!$B48*定数!B$61))","v":"-0.317930295289157+0.948114089831677i"},{"$f":"IMEXP(COMPLEX(0,計算!$B48*定数!C$61))","v":"0.49848482264799+0.866898426339327i"},{"$f":"IMEXP(COMPLEX(0,計算!$B48*定数!D$61))","v":"0.298865154066835+0.954295352437916i"}," ","-0.0000309127032757388-0.00000334796392304i","0.000150847792920648+0.000219744897057701i","0.000506869222546793-0.000502692908928762i","-0.000164173620864094+0.00131973823809684i","0.0000381522231568459+0.0000054123098506137i","0.0000105557828244224-0.000129351979644723i","-0.000752965781602202-0.000219064184878184i","0.000837321878793636-0.000564776105000844i"," ",{"$f":"IMSUM(IMPRODUCT(定数!$F$38,計算!W48),IMPRODUCT(定数!$G$38,計算!X48),IMPRODUCT(定数!$H$38,計算!Y48),IMPRODUCT(定数!$I$38,計算!Z48))","v":"-0.000154005296274488+0.000992799205091596i"},{"$f":"IMSUM(IMPRODUCT(定数!$F$39,計算!W48),IMPRODUCT(定数!$G$39,計算!X48),IMPRODUCT(定数!$H$39,計算!Y48),IMPRODUCT(定数!$I$39,計算!Z48))","v":"0.000430753462519864-0.000868364198040822i"},{"$f":"IMSUM(IMPRODUCT(定数!$F$40,計算!W48),IMPRODUCT(定数!$G$40,計算!X48),IMPRODUCT(定数!$H$40,計算!Y48),IMPRODUCT(定数!$I$40,計算!Z48))","v":"-0.000312920583195965-0.000354819589937217i"},{"$f":"IMSUM(IMPRODUCT(定数!$F$41,計算!W48),IMPRODUCT(定数!$G$41,計算!X48),IMPRODUCT(定数!$H$41,計算!Y48),IMPRODUCT(定数!$I$41,計算!Z48))","v":"-0.0000494093469524449+0.000417140859264981i"},{"$f":"IMSUM(IMPRODUCT(定数!$F$38,計算!AA48),IMPRODUCT(定数!$G$38,計算!AB48),IMPRODUCT(定数!$H$38,計算!AC48),IMPRODUCT(定数!$I$38,計算!AD48))","v":"0.000692873131834622-0.000318279007634209i"},{"$f":"IMSUM(IMPRODUCT(定数!$F$39,計算!AA48),IMPRODUCT(定数!$G$39,計算!AB48),IMPRODUCT(定数!$H$39,計算!AC48),IMPRODUCT(定数!$I$39,計算!AD48))","v":"-0.000847186037951641+0.0000837184488759668i"},{"$f":"IMSUM(IMPRODUCT(定数!$F$40,計算!AA48),IMPRODUCT(定数!$G$40,計算!AB48),IMPRODUCT(定数!$H$40,計算!AC48),IMPRODUCT(定数!$I$40,計算!AD48))","v":"0.000115265620695752+0.000444076739509388i"},{"$f":"IMSUM(IMPRODUCT(定数!$F$41,計算!AA48),IMPRODUCT(定数!$G$41,計算!AB48),IMPRODUCT(定数!$H$41,計算!AC48),IMPRODUCT(定数!$I$41,計算!AD48))","v":"0.000237685932542776-0.000281508247453385i"}," ","0.00154005916978626-0.000401997456510176i"," ","0.000115265620695752+0.000444076739509388i","0.000237685932542776-0.000281508247453385i"," "]
[45,{"$f":"A49*定数!$B$8","v":28274333882.308136},null,{"$f":"B49*定数!$C$3","v":14.137166941154069},{"$f":"B49*定数!$C$5","v":2.8274333882308142},{"$f":"定数!$B$6*SIN(D49)*SIN(E49)/(D49*E49)","v":0.18267558484078769},"-0.056449860173183+0.173734805330861i"," ",{"$f":"IMSUB(掃き出し!LZ49,IMPRODUCT(P49,掃き出し!LY49))","v":"-0.000046521148859975-0.000096982883911771i"},{"$f":"IMSUB(掃き出し!MB49,IMPRODUCT(P49,掃き出し!MA49))","v":"0.000069043716912498+0.000023105342459897i"},{"$f":"IMSUB(掃き出し!MD49,IMPRODUCT(P49,掃き出し!MC49))","v":"0.0000801200586793157+0.000096094139614102i"},{"$f":"IMSUB(掃き出し!MF49,IMPRODUCT(P49,掃き出し!ME49))","v":"0.000063705751824763-0.00000702518605875i"},{"$f":"IMSUB(掃き出し!MH49,IMPRODUCT(P49,掃き出し!MG49))","v":"-0.00054405520435223-0.000351820910451184i"},{"$f":"IMSUB(掃き出し!MJ49,IMPRODUCT(P49,掃き出し!MI49))","v":"-0.0000065810787728781-0.000324409808633397i"},{"$f":"IMSUB(掃き出し!ML49,IMPRODUCT(P49,掃き出し!MK49))","v":"0.00042735387438817+0.000220853850061657i"},{"$f":"IMDIV(掃き出し!MN49,掃き出し!MM49)","v":"0.000160998754467056+0.000191363551495978i"}," ",{"$f":"IMEXP(COMPLEX(0,計算!$B49*定数!A$61))","v":"-0.718492617812565-0.695534584437645i"},{"$f":"IMEXP(COMPLEX(0,計算!$B49*定数!B$61))","v":"-0.80625719873457+0.591565152361668i"},{"$f":"IMEXP(COMPLEX(0,計算!$B49*定数!C$61))","v":"-0.073122948723396+0.997322933843394i"},{"$f":"IMEXP(COMPLEX(0,計算!$B49*定数!D$61))","v":"-0.292172378432521+0.956365673412155i"}," ","0.000022522568052523-0.000073877541451874i","0.000143825810504079+0.000089068953555352i","-0.000550636283125108-0.000676230719084581i","0.000588352628855226+0.000412217401557635i","0.0000673432157453526-0.000027298892735336i","-0.0000549587954796544-0.0000815226169230825i","0.000012926428211403+0.000585483255984519i","-0.000143696877682767-0.000375171432274499i"," ",{"$f":"IMSUM(IMPRODUCT(定数!$F$38,計算!W49),IMPRODUCT(定数!$G$38,計算!X49),IMPRODUCT(定数!$H$38,計算!Y49),IMPRODUCT(定数!$I$38,計算!Z49))","v":"0.000578407195006802+0.000442939912607446i"},{"$f":"IMSUM(IMPRODUCT(定数!$F$39,計算!W49),IMPRODUCT(定数!$G$39,計算!X49),IMPRODUCT(定数!$H$39,計算!Y49),IMPRODUCT(定数!$I$39,計算!Z49))","v":"-0.000570159169260802-0.000639053777050556i"},{"$f":"IMSUM(IMPRODUCT(定数!$F$40,計算!W49),IMPRODUCT(定数!$G$40,計算!X49),IMPRODUCT(定数!$H$40,計算!Y49),IMPRODUCT(定数!$I$40,計算!Z49))","v":"0.0000511674824397715+0.000177099316122455i"},{"$f":"IMSUM(IMPRODUCT(定数!$F$41,計算!W49),IMPRODUCT(定数!$G$41,計算!X49),IMPRODUCT(定数!$H$41,計算!Y49),IMPRODUCT(定数!$I$41,計算!Z49))","v":"0.0000716295900677816-0.0000675478857971384i"},{"$f":"IMSUM(IMPRODUCT(定数!$F$38,計算!AA49),IMPRODUCT(定数!$G$38,計算!AB49),IMPRODUCT(定数!$H$38,計算!AC49),IMPRODUCT(定数!$I$38,計算!AD49))","v":"-0.000085751782090173-0.000436845538426504i"},{"$f":"IMSUM(IMPRODUCT(定数!$F$39,計算!AA49),IMPRODUCT(定数!$G$39,計算!AB49),IMPRODUCT(定数!$H$39,計算!AC49),IMPRODUCT(定数!$I$39,計算!AD49))","v":"0.0000949673028142252+0.000510362275625825i"},{"$f":"IMSUM(IMPRODUCT(定数!$F$40,計算!AA49),IMPRODUCT(定数!$G$40,計算!AB49),IMPRODUCT(定数!$H$40,計算!AC49),IMPRODUCT(定数!$I$40,計算!AD49))","v":"0.00011166165411052-0.000193593010491022i"},{"$f":"IMSUM(IMPRODUCT(定数!$F$41,計算!AA49),IMPRODUCT(定数!$G$41,計算!AB49),IMPRODUCT(定数!$H$41,計算!AC49),IMPRODUCT(定数!$I$41,計算!AD49))","v":"-7.94793626146203E-06+0.0000107677381729846i"}," ","-0.000180719084904398-0.000947207814052329i"," ","0.00011166165411052-0.000193593010491022i","-7.94793626146203E-06+0.0000107677381729846i"," "]
[46,{"$f":"A50*定数!$B$8","v":28902652413.026093},null,{"$f":"B50*定数!$C$3","v":14.451326206513047},{"$f":"B50*定数!$C$5","v":2.8902652413026098},{"$f":"定数!$B$6*SIN(D50)*SIN(E50)/(D50*E50)","v":0.13380488137915469},"0.00840167801736061+0.133540848010571i"," ",{"$f":"IMSUB(掃き出し!LZ50,IMPRODUCT(P50,掃き出し!LY50))","v":"-0.00003895810239839+9.86569761425099E-06i"},{"$f":"IMSUB(掃き出し!MB50,IMPRODUCT(P50,掃き出し!MA50))","v":"-0.000014347382148991-0.0000192495867032128i"},{"$f":"IMSUB(掃き出し!MD50,IMPRODUCT(P50,掃き出し!MC50))","v":"0.0000615609016481799+0.0000771051813545439i"},{"$f":"IMSUB(掃き出し!MF50,IMPRODUCT(P50,掃き出し!ME50))","v":"0.000012424093862214-0.0000525350447837041i"},{"$f":"IMSUB(掃き出し!MH50,IMPRODUCT(P50,掃き出し!MG50))","v":"-0.000247274206386637-0.000070392042281649i"},{"$f":"IMSUB(掃き出し!MJ50,IMPRODUCT(P50,掃き出し!MI50))","v":"-0.000130578097243162-0.0000072612180985854i"},{"$f":"IMSUB(掃き出し!ML50,IMPRODUCT(P50,掃き出し!MK50))","v":"0.000222442310481004+0.000100690064404734i"},{"$f":"IMDIV(掃き出し!MN50,掃き出し!MM50)","v":"0.000119861102926687-0.0000484514106681232i"}," ",{"$f":"IMEXP(COMPLEX(0,計算!$B50*定数!A$61))","v":"-0.155586939568792-0.987822202744814i"},{"$f":"IMEXP(COMPLEX(0,計算!$B50*定数!B$61))","v":"-0.999824283406724+0.0187457277860853i"},{"$f":"IMEXP(COMPLEX(0,計算!$B50*定数!C$61))","v":"-0.619594999222505+0.784921675671187i"},{"$f":"IMEXP(COMPLEX(0,計算!$B50*定数!D$61))","v":"-0.781145435927049+0.624349107415347i"}," ","-0.000053305484547381-9.38388908896181E-06i","0.0000739849955103939+0.0000245701365708398i","-0.000377852303629799-0.0000776532603802344i","0.000342303413407691+0.0000522386537366108i","-0.0000204670870850601-0.0000228510053032932i","-0.0000715417947297152-0.0000254869244131783i","0.000184562645469454+0.000139710877338121i","-0.000174272402245321-0.000104852471319453i"," ",{"$f":"IMSUM(IMPRODUCT(定数!$F$38,計算!W50),IMPRODUCT(定数!$G$38,計算!X50),IMPRODUCT(定数!$H$38,計算!Y50),IMPRODUCT(定数!$I$38,計算!Z50))","v":"0.000317537060197734+0.0000622485322352513i"},{"$f":"IMSUM(IMPRODUCT(定数!$F$39,計算!W50),IMPRODUCT(定数!$G$39,計算!X50),IMPRODUCT(定数!$H$39,計算!Y50),IMPRODUCT(定数!$I$39,計算!Z50))","v":"-0.000408060600514995-0.0000717956507934039i"},{"$f":"IMSUM(IMPRODUCT(定数!$F$40,計算!W50),IMPRODUCT(定数!$G$40,計算!X50),IMPRODUCT(定数!$H$40,計算!Y50),IMPRODUCT(定数!$I$40,計算!Z50))","v":"0.0000332850379832053+0.0000132307128235931i"},{"$f":"IMSUM(IMPRODUCT(定数!$F$41,計算!W50),IMPRODUCT(定数!$G$41,計算!X50),IMPRODUCT(定数!$H$41,計算!Y50),IMPRODUCT(定数!$I$41,計算!Z50))","v":"1.35366046594628E-06-0.0000146970739160563i"},{"$f":"IMSUM(IMPRODUCT(定数!$F$38,計算!AA50),IMPRODUCT(定数!$G$38,計算!AB50),IMPRODUCT(定数!$H$38,計算!AC50),IMPRODUCT(定数!$I$38,計算!AD50))","v":"-0.000202270324719537-0.000123596029172367i"},{"$f":"IMSUM(IMPRODUCT(定数!$F$39,計算!AA50),IMPRODUCT(定数!$G$39,計算!AB50),IMPRODUCT(定数!$H$39,計算!AC50),IMPRODUCT(定数!$I$39,計算!AD50))","v":"0.000166357030526834+0.000118079750957762i"},{"$f":"IMSUM(IMPRODUCT(定数!$F$40,計算!AA50),IMPRODUCT(定数!$G$40,計算!AB50),IMPRODUCT(定数!$H$40,計算!AC50),IMPRODUCT(定数!$I$40,計算!AD50))","v":"-0.0000277566661343603-0.0000462424864907906i"},{"$f":"IMSUM(IMPRODUCT(定数!$F$41,計算!AA50),IMPRODUCT(定数!$G$41,計算!AB50),IMPRODUCT(定数!$H$41,計算!AC50),IMPRODUCT(定数!$I$41,計算!AD50))","v":"-2.59405748854125E-06-0.000009074998293659i"}," ","-0.000368627355246371-0.000241675780130129i"," ","-0.0000277566661343603-0.0000462424864907906i","-2.59405748854125E-06-0.000009074998293659i"," "]
[47,{"$f":"A51*定数!$B$8","v":29530970943.744053},null,{"$f":"B51*定数!$C$3","v":14.765485471872028},{"$f":"B51*定数!$C$5","v":2.9530970943744057},{"$f":"定数!$B$6*SIN(D51)*SIN(E51)/(D51*E51)","v":8.2150721123739293E-2},"0.0349780758416231+0.0743321948523522i"," ",{"$f":"IMSUB(掃き出し!LZ51,IMPRODUCT(P51,掃き出し!LY51))","v":"-0.0000145284059245565+0.0000051646329568699i"},{"$f":"IMSUB(掃き出し!MB51,IMPRODUCT(P51,掃き出し!MA51))","v":"-0.0000083584729941805+0.0000030500701713399i"},{"$f":"IMSUB(掃き出し!MD51,IMPRODUCT(P51,掃き出し!MC51))","v":"0.0000806204200786292+0.000072891570759619i"},{"$f":"IMSUB(掃き出し!MF51,IMPRODUCT(P51,掃き出し!ME51))","v":"-0.0000567592188812907-0.000022929997114905i"},{"$f":"IMSUB(掃き出し!MH51,IMPRODUCT(P51,掃き出し!MG51))","v":"-0.000124848051350103-0.0000352678517019287i"},{"$f":"IMSUB(掃き出し!MJ51,IMPRODUCT(P51,掃き出し!MI51))","v":"-0.000027984652676674+0.000061102150502845i"},{"$f":"IMSUB(掃き出し!ML51,IMPRODUCT(P51,掃き出し!MK51))","v":"0.00013557514593086+0.0000671865737788644i"},{"$f":"IMDIV(掃き出し!MN51,掃き出し!MM51)","v":"0.0000009471437453192-0.0000814548490892609i"}," ",{"$f":"IMEXP(COMPLEX(0,計算!$B51*定数!A$61))","v":"0.469910563877645-0.882714031811092i"},{"$f":"IMEXP(COMPLEX(0,計算!$B51*定数!B$61))","v":"-0.827865298923065-0.5609269532114i"},{"$f":"IMEXP(COMPLEX(0,計算!$B51*定数!C$61))","v":"-0.953083749318538+0.302706733960312i"},{"$f":"IMEXP(COMPLEX(0,計算!$B51*定数!D$61))","v":"-0.997241230868429+0.0742288855905929i"}," ","-0.000022886878918737+0.0000082147031282098i","0.0000238612011973385+0.000049961573644714i","-0.000152832704026777+0.0000258342988009163i","0.000136522289676179-0.0000142682753103965i","-0.0000126213404200359-1.58611059391168E-06i","-0.0000735027605816945+0.0000356984892150221i","0.000116490517953176+0.0000046989526905365i","-0.000125112169025548+0.0000042356258613888i"," ",{"$f":"IMSUM(IMPRODUCT(定数!$F$38,計算!W51),IMPRODUCT(定数!$G$38,計算!X51),IMPRODUCT(定数!$H$38,計算!Y51),IMPRODUCT(定数!$I$38,計算!Z51))","v":"0.000122936496144299+0.0000203691605885843i"},{"$f":"IMSUM(IMPRODUCT(定数!$F$39,計算!W51),IMPRODUCT(定数!$G$39,計算!X51),IMPRODUCT(定数!$H$39,計算!Y51),IMPRODUCT(定数!$I$39,計算!Z51))","v":"-0.000166723931820203+0.0000428615174136651i"},{"$f":"IMSUM(IMPRODUCT(定数!$F$40,計算!W51),IMPRODUCT(定数!$G$40,計算!X51),IMPRODUCT(定数!$H$40,計算!Y51),IMPRODUCT(定数!$I$40,計算!Z51))","v":"0.0000154665582197702-0.0000206675105709063i"},{"$f":"IMSUM(IMPRODUCT(定数!$F$41,計算!W51),IMPRODUCT(定数!$G$41,計算!X51),IMPRODUCT(定数!$H$41,計算!Y51),IMPRODUCT(定数!$I$41,計算!Z51))","v":"2.79556062572391E-06-0.000028312382745927i"},{"$f":"IMSUM(IMPRODUCT(定数!$F$38,計算!AA51),IMPRODUCT(定数!$G$38,計算!AB51),IMPRODUCT(定数!$H$38,計算!AC51),IMPRODUCT(定数!$I$38,計算!AD51))","v":"-0.000153735864659785+0.000022986140802948i"},{"$f":"IMSUM(IMPRODUCT(定数!$F$39,計算!AA51),IMPRODUCT(定数!$G$39,計算!AB51),IMPRODUCT(定数!$H$39,計算!AC51),IMPRODUCT(定数!$I$39,計算!AD51))","v":"0.000103553776604328+0.0000110171782887462i"},{"$f":"IMSUM(IMPRODUCT(定数!$F$40,計算!AA51),IMPRODUCT(定数!$G$40,計算!AB51),IMPRODUCT(定数!$H$40,計算!AC51),IMPRODUCT(定数!$I$40,計算!AD51))","v":"-1.77955539737114E-06-0.0000166700373617119i"},{"$f":"IMSUM(IMPRODUCT(定数!$F$41,計算!AA51),IMPRODUCT(定数!$G$41,計算!AB51),IMPRODUCT(定数!$H$41,計算!AC51),IMPRODUCT(定数!$I$41,計算!AD51))","v":"8.51396013955772E-06-0.0000198695551281429i"}," ","-0.000257289641264113+0.0000119689625142018i"," ","-1.77955539737114E-06-0.0000166700373617119i","8.51396013955772E-06-0.0000198695551281429i"," "]
[48,{"$f":"A52*定数!$B$8","v":30159289474.462013},null,{"$f":"B52*定数!$C$3","v":15.079644737231007},{"$f":"B52*定数!$C$5","v":3.0159289474462017},{"$f":"定数!$B$6*SIN(D52)*SIN(E52)/(D52*E52)","v":3.8275918830670663E-2},"0.0279019440132871+0.0262016694622973i"," ",{"$f":"IMSUB(掃き出し!LZ52,IMPRODUCT(P52,掃き出し!LY52))","v":"-6.59141802232689E-06+0.0000025581630016248i"},{"$f":"IMSUB(掃き出し!MB52,IMPRODUCT(P52,掃き出し!MA52))","v":"-0.0000002210872095228+0.0000041164335859265i"},{"$f":"IMSUB(掃き出し!MD52,IMPRODUCT(P52,掃き出し!MC52))","v":"0.000048971509086019-0.0000431398811682729i"},{"$f":"IMSUB(掃き出し!MF52,IMPRODUCT(P52,掃き出し!ME52))","v":"0.0000259194514245994+0.000027018557088338i"},{"$f":"IMSUB(掃き出し!MH52,IMPRODUCT(P52,掃き出し!MG52))","v":"-0.0000682421751014843-0.0000206174276358194i"},{"$f":"IMSUB(掃き出し!MJ52,IMPRODUCT(P52,掃き出し!MI52))","v":"0.0000262859487304501+0.0000272775399732202i"},{"$f":"IMSUB(掃き出し!ML52,IMPRODUCT(P52,掃き出し!MK52))","v":"0.0000981014920833658+0.0000406794015726247i"},{"$f":"IMDIV(掃き出し!MN52,掃き出し!MM52)","v":"-0.000055361945446238-0.0000174717488885487i"}," ",{"$f":"IMEXP(COMPLEX(0,計算!$B52*定数!A$61))","v":"0.906365465440967-0.422494547960065i"},{"$f":"IMEXP(COMPLEX(0,計算!$B52*定数!B$61))","v":"-0.353246783631835-0.935530175811429i"},{"$f":"IMEXP(COMPLEX(0,計算!$B52*定数!C$61))","v":"-0.958953776304923-0.283562435647827i"},{"$f":"IMEXP(COMPLEX(0,計算!$B52*定数!D$61))","v":"-0.864971094616061-0.501821686935403i"}," ","-6.81250523184969E-06+0.0000066745965875513i","0.0000748909605106184-0.0000161213240799349i","-0.0000419562263710342+0.0000066601123374008i","0.0000427395466371278+0.000023207652684076i","-5.51625864917045E-06+3.35819380559489E-06i","0.0000391803451533878+0.0000272607014359265i","0.0000538152953885005-0.0000331913649075682i","-0.0000661499808597711+0.000056937332358397i"," ",{"$f":"IMSUM(IMPRODUCT(定数!$F$38,計算!W52),IMPRODUCT(定数!$G$38,計算!X52),IMPRODUCT(定数!$H$38,計算!Y52),IMPRODUCT(定数!$I$38,計算!Z52))","v":"0.0000799870674354959+3.15072189460051E-06i"},{"$f":"IMSUM(IMPRODUCT(定数!$F$39,計算!W52),IMPRODUCT(定数!$G$39,計算!X52),IMPRODUCT(定数!$H$39,計算!Y52),IMPRODUCT(定数!$I$39,計算!Z52))","v":"-0.0000277766335926355-7.66261510359669E-06i"},{"$f":"IMSUM(IMPRODUCT(定数!$F$40,計算!W52),IMPRODUCT(定数!$G$40,計算!X52),IMPRODUCT(定数!$H$40,計算!Y52),IMPRODUCT(定数!$I$40,計算!Z52))","v":"-0.0000191889752545428-6.46245856722643E-06i"},{"$f":"IMSUM(IMPRODUCT(定数!$F$41,計算!W52),IMPRODUCT(定数!$G$41,計算!X52),IMPRODUCT(定数!$H$41,計算!Y52),IMPRODUCT(定数!$I$41,計算!Z52))","v":"-0.000040313497208337+0.0000276557548028864i"},{"$f":"IMSUM(IMPRODUCT(定数!$F$38,計算!AA52),IMPRODUCT(定数!$G$38,計算!AB52),IMPRODUCT(定数!$H$38,計算!AC52),IMPRODUCT(定数!$I$38,計算!AD52))","v":"-0.0000286295970612732+0.0000591294716088114i"},{"$f":"IMSUM(IMPRODUCT(定数!$F$39,計算!AA52),IMPRODUCT(定数!$G$39,計算!AB52),IMPRODUCT(定数!$H$39,計算!AC52),IMPRODUCT(定数!$I$39,計算!AD52))","v":"0.000074037014157676-0.0000375560405128014i"},{"$f":"IMSUM(IMPRODUCT(定数!$F$40,計算!AA52),IMPRODUCT(定数!$G$40,計算!AB52),IMPRODUCT(定数!$H$40,計算!AC52),IMPRODUCT(定数!$I$40,計算!AD52))","v":"-0.0000189580497473472-0.0000113753627110054i"},{"$f":"IMSUM(IMPRODUCT(定数!$F$41,計算!AA52),IMPRODUCT(定数!$G$41,計算!AB52),IMPRODUCT(定数!$H$41,計算!AC52),IMPRODUCT(定数!$I$41,計算!AD52))","v":"-0.0000471216873579609+0.0000048277350635186i"}," ","-0.000102666611218949+0.0000966855121216128i"," ","-0.0000189580497473472-0.0000113753627110054i","-0.0000471216873579609+0.0000048277350635186i"," "]
[49,{"$f":"A53*定数!$B$8","v":30787608005.17997},null,{"$f":"B53*定数!$C$3","v":15.393804002589986},{"$f":"B53*定数!$C$5","v":3.0787608005179976},{"$f":"定数!$B$6*SIN(D53)*SIN(E53)/(D53*E53)","v":9.6740304568451799E-3},"0.00899468604254148+0.00356124813458394i"," ",{"$f":"IMSUB(掃き出し!LZ53,IMPRODUCT(P53,掃き出し!LY53))","v":"-1.40218308841621E-06+8.5553636275593E-07i"},{"$f":"IMSUB(掃き出し!MB53,IMPRODUCT(P53,掃き出し!MA53))","v":"0.0000016397144394376+4.7920338099875E-07i"},{"$f":"IMSUB(掃き出し!MD53,IMPRODUCT(P53,掃き出し!MC53))","v":"3.51867725054325E-06-0.0000062085187788451i"},{"$f":"IMSUB(掃き出し!MF53,IMPRODUCT(P53,掃き出し!ME53))","v":"0.0000027556937179366-2.92085612912378E-06i"},{"$f":"IMSUB(掃き出し!MH53,IMPRODUCT(P53,掃き出し!MG53))","v":"-0.0000332649225145625-8.5692582118828E-07i"},{"$f":"IMSUB(掃き出し!MJ53,IMPRODUCT(P53,掃き出し!MI53))","v":"0.0000140008880751245-0.000010940337472154i"},{"$f":"IMSUB(掃き出し!ML53,IMPRODUCT(P53,掃き出し!MK53))","v":"0.0000466158836629744-0.0000314903660775691i"},{"$f":"IMDIV(掃き出し!MN53,掃き出し!MM53)","v":"9.83589180888488E-06+0.0000296075718626715i"}," ",{"$f":"IMEXP(COMPLEX(0,計算!$B53*定数!A$61))","v":"0.978194204038153+0.207692318553588i"},{"$f":"IMEXP(COMPLEX(0,計算!$B53*定数!B$61))","v":"0.250515332595894-0.968112631946494i"},{"$f":"IMEXP(COMPLEX(0,計算!$B53*定数!C$61))","v":"-0.635187281906036-0.772358153258462i"},{"$f":"IMEXP(COMPLEX(0,計算!$B53*定数!D$61))","v":"-0.430540907711524-0.902571064674099i"}," ","2.3753135102139E-07+1.33473974375468E-06i","6.27437096847985E-06-9.12937490796888E-06i","-0.000019264034439438-0.0000117972632933423i","0.0000564517754718593-0.0000018827942148976i","3.1051326037581E-07+1.93741343160259E-06i","4.75465387077265E-06-1.54839439557877E-06i","0.0000044482644728461-0.0000290126625740869i","0.0000308404322425336+0.0000340071763367663i"," ",{"$f":"IMSUM(IMPRODUCT(定数!$F$38,計算!W53),IMPRODUCT(定数!$G$38,計算!X53),IMPRODUCT(定数!$H$38,計算!Y53),IMPRODUCT(定数!$I$38,計算!Z53))","v":"0.000039983780843231-2.78336548448451E-06i"},{"$f":"IMSUM(IMPRODUCT(定数!$F$39,計算!W53),IMPRODUCT(定数!$G$39,計算!X53),IMPRODUCT(定数!$H$39,計算!Y53),IMPRODUCT(定数!$I$39,計算!Z53))","v":"-0.0000364423218951131-8.75623392401929E-06i"},{"$f":"IMSUM(IMPRODUCT(定数!$F$40,計算!W53),IMPRODUCT(定数!$G$40,計算!X53),IMPRODUCT(定数!$H$40,計算!Y53),IMPRODUCT(定数!$I$40,計算!Z53))","v":"-0.0000154617016831075+0.0000119589705246632i"},{"$f":"IMSUM(IMPRODUCT(定数!$F$41,計算!W53),IMPRODUCT(定数!$G$41,計算!X53),IMPRODUCT(定数!$H$41,計算!Y53),IMPRODUCT(定数!$I$41,計算!Z53))","v":"0.0000206663124720055+1.96089798090339E-06i"},{"$f":"IMSUM(IMPRODUCT(定数!$F$38,計算!AA53),IMPRODUCT(定数!$G$38,計算!AB53),IMPRODUCT(定数!$H$38,計算!AC53),IMPRODUCT(定数!$I$38,計算!AD53))","v":"0.0000183799802538208+0.0000265905568921399i"},{"$f":"IMSUM(IMPRODUCT(定数!$F$39,計算!AA53),IMPRODUCT(定数!$G$39,計算!AB53),IMPRODUCT(定数!$H$39,計算!AC53),IMPRODUCT(定数!$I$39,計算!AD53))","v":"-9.77387189611617E-06-0.00003378517860254i"},{"$f":"IMSUM(IMPRODUCT(定数!$F$40,計算!AA53),IMPRODUCT(定数!$G$40,計算!AB53),IMPRODUCT(定数!$H$40,計算!AC53),IMPRODUCT(定数!$I$40,計算!AD53))","v":"-0.000018382998678692+4.48424168202588E-06i"},{"$f":"IMSUM(IMPRODUCT(定数!$F$41,計算!AA53),IMPRODUCT(定数!$G$41,計算!AB53),IMPRODUCT(定数!$H$41,計算!AC53),IMPRODUCT(定数!$I$41,計算!AD53))","v":"0.0000149142068023924+0.0000115497130517515i"}," ","0.000028153852149937+0.0000603757354946799i"," ","-0.000018382998678692+4.48424168202588E-06i","0.0000149142068023924+0.0000115497130517515i"," "]
[50,{"$f":"A54*定数!$B$8","v":31415926535.89793},null,{"$f":"B54*定数!$C$3","v":15.707963267948966},{"$f":"B54*定数!$C$5","v":3.1415926535897936},{"$f":"定数!$B$6*SIN(D54)*SIN(E54)/(D54*E54)","v":-9.432423726938189E-32},"-9.43242372693819E-32+3.95194737974167E-45i"," ",{"$f":"IMSUB(掃き出し!LZ54,IMPRODUCT(P54,掃き出し!LY54))","v":"1.8017162153E-35-5.5019448537326E-35i"},{"$f":"IMSUB(掃き出し!MB54,IMPRODUCT(P54,掃き出し!MA54))","v":"2.3469608390301E-35+3.1902251258006E-35i"},{"$f":"IMSUB(掃き出し!MD54,IMPRODUCT(P54,掃き出し!MC54))","v":"-2.92548052678527E-35+5.15199538591102E-35i"},{"$f":"IMSUB(掃き出し!MF54,IMPRODUCT(P54,掃き出し!ME54))","v":"1.14648808453976E-35+2.99086557277443E-35i"},{"$f":"IMSUB(掃き出し!MH54,IMPRODUCT(P54,掃き出し!MG54))","v":"7.98444126385021E-35-3.58143382297546E-34i"},{"$f":"IMSUB(掃き出し!MJ54,IMPRODUCT(P54,掃き出し!MI54))","v":"1.97439338977418E-34-1.91574549492552E-35i"},{"$f":"IMSUB(掃き出し!ML54,IMPRODUCT(P54,掃き出し!MK54))","v":"-1.2824826994762E-35+2.45792397608301E-34i"},{"$f":"IMDIV(掃き出し!MN54,掃き出し!MM54)","v":"-8.74911211356994E-35+1.06418712279109E-34i"}," ",{"$f":"IMEXP(COMPLEX(0,計算!$B54*定数!A$61))","v":"0.656500447732449+0.754325634011661i"},{"$f":"IMEXP(COMPLEX(0,計算!$B54*定数!B$61))","v":"0.762691470860531-0.646762491395876i"},{"$f":"IMEXP(COMPLEX(0,計算!$B54*定数!C$61))","v":"-0.0930777023560954-0.995658847861109i"},{"$f":"IMEXP(COMPLEX(0,計算!$B54*定数!D$61))","v":"0.154289984247433-0.988025607340684i"}," ","4.1486770543301E-35-2.311719727932E-35i","-1.77899244224551E-35+8.14286095868545E-35i","2.7728375161592E-34-3.77300837246801E-34i","-1.00315948130461E-34+3.5221110988741E-34i","-3.83311828708345E-35-1.10635303993264E-35i","-2.75456006460011E-35+3.57689403764621E-35i","3.1170540336364E-34-8.1966133844954E-35i","-1.53182516151499E-34+1.28114857212778E-34i"," ",{"$f":"IMSUM(IMPRODUCT(定数!$F$38,計算!W54),IMPRODUCT(定数!$G$38,計算!X54),IMPRODUCT(定数!$H$38,計算!Y54),IMPRODUCT(定数!$I$38,計算!Z54))","v":"-1.27878700276133E-34+3.40913786857035E-34i"},{"$f":"IMSUM(IMPRODUCT(定数!$F$39,計算!W54),IMPRODUCT(定数!$G$39,計算!X54),IMPRODUCT(定数!$H$39,計算!Y54),IMPRODUCT(定数!$I$39,計算!Z54))","v":"2.42112221397481E-34-3.93474649730838E-34i"},{"$f":"IMSUM(IMPRODUCT(定数!$F$40,計算!W54),IMPRODUCT(定数!$G$40,計算!X54),IMPRODUCT(定数!$H$40,計算!Y54),IMPRODUCT(定数!$I$40,計算!Z54))","v":"-1.03907358760423E-34+4.26480059333239E-35i"},{"$f":"IMSUM(IMPRODUCT(定数!$F$41,計算!W54),IMPRODUCT(定数!$G$41,計算!X54),IMPRODUCT(定数!$H$41,計算!Y54),IMPRODUCT(定数!$I$41,計算!Z54))","v":"5.7508737255738E-35+1.55428352946113E-35i"},{"$f":"IMSUM(IMPRODUCT(定数!$F$38,計算!AA54),IMPRODUCT(定数!$G$38,計算!AB54),IMPRODUCT(定数!$H$38,計算!AC54),IMPRODUCT(定数!$I$38,計算!AD54))","v":"-2.08148042469932E-34+1.10534130343236E-34i"},{"$f":"IMSUM(IMPRODUCT(定数!$F$39,計算!AA54),IMPRODUCT(定数!$G$39,計算!AB54),IMPRODUCT(定数!$H$39,計算!AC54),IMPRODUCT(定数!$I$39,計算!AD54))","v":"2.41962576668445E-34-1.07150002432014E-34i"},{"$f":"IMSUM(IMPRODUCT(定数!$F$40,計算!AA54),IMPRODUCT(定数!$G$40,計算!AB54),IMPRODUCT(定数!$H$40,計算!AC54),IMPRODUCT(定数!$I$40,計算!AD54))","v":"-1.4243215309305E-34-2.3369286152126E-35i"},{"$f":"IMSUM(IMPRODUCT(定数!$F$41,計算!AA54),IMPRODUCT(定数!$G$41,計算!AB54),IMPRODUCT(定数!$H$41,計算!AC54),IMPRODUCT(定数!$I$41,計算!AD54))","v":"9.8972263277393E-36+1.67495115165902E-35i"}," ","-4.50110619138377E-34+2.1768413277525E-34i"," ","-1.4243215309305E-34-2.3369286152126E-35i","9.8972263277393E-36+1.67495115165902E-35i"," "]
[51,{"$f":"A55*定数!$B$8","v":32044245066.615887},null,{"$f":"B55*定数!$C$3","v":16.022122533307943},{"$f":"B55*定数!$C$5","v":3.2044245066615891},{"$f":"定数!$B$6*SIN(D55)*SIN(E55)/(D55*E55)","v":8.9301603717359263E-3},"0.00830305312885127-0.00328741129224744i"," ",{"$f":"IMSUB(掃き出し!LZ55,IMPRODUCT(P55,掃き出し!LY55))","v":"1.13561175153774E-06+1.67293458981542E-06i"},{"$f":"IMSUB(掃き出し!MB55,IMPRODUCT(P55,掃き出し!MA55))","v":"-4.9913156134974E-07+1.14015740223764E-06i"},{"$f":"IMSUB(掃き出し!MD55,IMPRODUCT(P55,掃き出し!MC55))","v":"3.13181261598591E-06-5.11487646141339E-06i"},{"$f":"IMSUB(掃き出し!MF55,IMPRODUCT(P55,掃き出し!ME55))","v":"-3.50736284595754E-06+3.21783141828102E-08i"},{"$f":"IMSUB(掃き出し!MH55,IMPRODUCT(P55,掃き出し!MG55))","v":"2.66771331316558E-06+0.0000165862929322882i"},{"$f":"IMSUB(掃き出し!MJ55,IMPRODUCT(P55,掃き出し!MI55))","v":"9.3955079183835E-07+9.15397037247248E-06i"},{"$f":"IMSUB(掃き出し!ML55,IMPRODUCT(P55,掃き出し!MK55))","v":"6.13952898736299E-08-0.0000151681701345025i"},{"$f":"IMDIV(掃き出し!MN55,掃き出し!MM55)","v":"-4.63865655386929E-06-0.0000072869441059966i"}," ",{"$f":"IMEXP(COMPLEX(0,計算!$B55*定数!A$61))","v":"0.0706999393829993+0.997497628353692i"},{"$f":"IMEXP(COMPLEX(0,計算!$B55*定数!B$61))","v":"0.996034998286339-0.088962251481926i"},{"$f":"IMEXP(COMPLEX(0,計算!$B55*定数!C$61))","v":"0.481026964737502-0.876705799681641i"},{"$f":"IMEXP(COMPLEX(0,計算!$B55*定数!D$61))","v":"0.685222809848433-0.728333509364644i"}," ","0.000000636480190188+2.81309199205306E-06i","-3.7555022997163E-07-5.08269814723058E-06i","3.60726410500393E-06+0.0000257402633047607i","-4.57726126399566E-06-0.0000224551142404991i","5.7644309191456E-07-1.43176714425536E-06i","8.38324086716101E-08-4.47190924328874E-06i","-4.78076898985855E-06+0.0000138968508342732i","2.60371718671222E-06-0.0000119635512217933i"," ",{"$f":"IMSUM(IMPRODUCT(定数!$F$38,計算!W55),IMPRODUCT(定数!$G$38,計算!X55),IMPRODUCT(定数!$H$38,計算!Y55),IMPRODUCT(定数!$I$38,計算!Z55))","v":"-3.46407664080395E-06-0.0000215618206414344i"},{"$f":"IMSUM(IMPRODUCT(定数!$F$39,計算!W55),IMPRODUCT(定数!$G$39,計算!X55),IMPRODUCT(定数!$H$39,計算!Y55),IMPRODUCT(定数!$I$39,計算!Z55))","v":"4.67075818550772E-06+0.0000269376823414545i"},{"$f":"IMSUM(IMPRODUCT(定数!$F$40,計算!W55),IMPRODUCT(定数!$G$40,計算!X55),IMPRODUCT(定数!$H$40,計算!Y55),IMPRODUCT(定数!$I$40,計算!Z55))","v":"2.56948495629743E-07-3.10212741707864E-06i"},{"$f":"IMSUM(IMPRODUCT(定数!$F$41,計算!W55),IMPRODUCT(定数!$G$41,計算!X55),IMPRODUCT(定数!$H$41,計算!Y55),IMPRODUCT(定数!$I$41,計算!Z55))","v":"-8.68168814723642E-07+3.18993942096108E-08i"},{"$f":"IMSUM(IMPRODUCT(定数!$F$38,計算!AA55),IMPRODUCT(定数!$G$38,計算!AB55),IMPRODUCT(定数!$H$38,計算!AC55),IMPRODUCT(定数!$I$38,計算!AD55))","v":"0.0000031071237873728-0.0000139767449384715i"},{"$f":"IMSUM(IMPRODUCT(定数!$F$39,計算!AA55),IMPRODUCT(定数!$G$39,計算!AB55),IMPRODUCT(定数!$H$39,計算!AC55),IMPRODUCT(定数!$I$39,計算!AD55))","v":"-3.93749075400664E-06+0.000012328100153834i"},{"$f":"IMSUM(IMPRODUCT(定数!$F$40,計算!AA55),IMPRODUCT(定数!$G$40,計算!AB55),IMPRODUCT(定数!$H$40,計算!AC55),IMPRODUCT(定数!$I$40,計算!AD55))","v":"2.16341022877184E-06-2.84262551367561E-06i"},{"$f":"IMSUM(IMPRODUCT(定数!$F$41,計算!AA55),IMPRODUCT(定数!$G$41,計算!AB55),IMPRODUCT(定数!$H$41,計算!AC55),IMPRODUCT(定数!$I$41,計算!AD55))","v":"1.95553608071339E-07-1.10887859496679E-07i"}," ","7.04461454137944E-06-0.0000263048450923055i"," ","2.16341022877184E-06-2.84262551367561E-06i","1.95553608071339E-07-1.10887859496679E-07i"," "]
[52,{"$f":"A56*定数!$B$8","v":32672563597.333847},null,{"$f":"B56*定数!$C$3","v":16.336281798666924},{"$f":"B56*定数!$C$5","v":3.2672563597333855},{"$f":"定数!$B$6*SIN(D56)*SIN(E56)/(D56*E56)","v":3.2613800660453218E-2},"0.0237744375024463-0.0223256828554482i"," ",{"$f":"IMSUB(掃き出し!LZ56,IMPRODUCT(P56,掃き出し!LY56))","v":"0.0000028964327341056+0.0000042305090401098i"},{"$f":"IMSUB(掃き出し!MB56,IMPRODUCT(P56,掃き出し!MA56))","v":"0.0000022169764182097+2.12386674766091E-06i"},{"$f":"IMSUB(掃き出し!MD56,IMPRODUCT(P56,掃き出し!MC56))","v":"0.0000166557196980259-0.0000364815042988191i"},{"$f":"IMSUB(掃き出し!MF56,IMPRODUCT(P56,掃き出し!ME56))","v":"-4.38717741656959E-06+0.0000237289927461905i"},{"$f":"IMSUB(掃き出し!MH56,IMPRODUCT(P56,掃き出し!MG56))","v":"0.000007259023025942+0.0000469518347823524i"},{"$f":"IMSUB(掃き出し!MJ56,IMPRODUCT(P56,掃き出し!MI56))","v":"0.0000253937217277234+7.32059144143633E-06i"},{"$f":"IMSUB(掃き出し!ML56,IMPRODUCT(P56,掃き出し!MK56))","v":"0.0000031925339323629-0.0000536475309638195i"},{"$f":"IMDIV(掃き出し!MN56,掃き出し!MM56)","v":"-0.0000306773034376289+4.63488107935943E-06i"}," ",{"$f":"IMEXP(COMPLEX(0,計算!$B56*定数!A$61))","v":"-0.543542790787666+0.839381459518112i"},{"$f":"IMEXP(COMPLEX(0,計算!$B56*定数!B$61))","v":"0.865237782476045+0.501361725479654i"},{"$f":"IMEXP(COMPLEX(0,計算!$B56*定数!C$61))","v":"0.889780538518166-0.456388642797257i"},{"$f":"IMEXP(COMPLEX(0,計算!$B56*定数!D$61))","v":"0.976786990392285-0.21421292071297i"}," ","0.0000051134091523153+6.35437578777071E-06i","0.0000122685422814563-0.0000127525115526286i","0.0000326527447536654+0.0000542724262237887i","-0.000027484769505266-0.0000490126498844601i","-1.01108019897032E-06-4.02419818351396E-06i","-0.0000195720323726528-0.000021584058023261i","0.0000109665274502841+0.000040014078104047i","-0.0000143619195767083-0.0000406195619846933i"," ",{"$f":"IMSUM(IMPRODUCT(定数!$F$38,計算!W56),IMPRODUCT(定数!$G$38,計算!X56),IMPRODUCT(定数!$H$38,計算!Y56),IMPRODUCT(定数!$I$38,計算!Z56))","v":"-0.0000141701850319791-0.0000474662305911535i"},{"$f":"IMSUM(IMPRODUCT(定数!$F$39,計算!W56),IMPRODUCT(定数!$G$39,計算!X56),IMPRODUCT(定数!$H$39,計算!Y56),IMPRODUCT(定数!$I$39,計算!Z56))","v":"0.0000402293350216881+0.0000571820922034994i"},{"$f":"IMSUM(IMPRODUCT(定数!$F$40,計算!W56),IMPRODUCT(定数!$G$40,計算!X56),IMPRODUCT(定数!$H$40,計算!Y56),IMPRODUCT(定数!$I$40,計算!Z56))","v":"-9.22330388059097E-06-4.92152382396746E-06i"},{"$f":"IMSUM(IMPRODUCT(定数!$F$41,計算!W56),IMPRODUCT(定数!$G$41,計算!X56),IMPRODUCT(定数!$H$41,計算!Y56),IMPRODUCT(定数!$I$41,計算!Z56))","v":"-0.000010691310683235+6.6454246172193E-07i"},{"$f":"IMSUM(IMPRODUCT(定数!$F$38,計算!AA56),IMPRODUCT(定数!$G$38,計算!AB56),IMPRODUCT(定数!$H$38,計算!AC56),IMPRODUCT(定数!$I$38,計算!AD56))","v":"-0.0000238596399271998-0.0000490669840237517i"},{"$f":"IMSUM(IMPRODUCT(定数!$F$39,計算!AA56),IMPRODUCT(定数!$G$39,計算!AB56),IMPRODUCT(定数!$H$39,計算!AC56),IMPRODUCT(定数!$I$39,計算!AD56))","v":"7.20446504070266E-06+0.0000357630694421794i"},{"$f":"IMSUM(IMPRODUCT(定数!$F$40,計算!AA56),IMPRODUCT(定数!$G$40,計算!AB56),IMPRODUCT(定数!$H$40,計算!AC56),IMPRODUCT(定数!$I$40,計算!AD56))","v":"4.95831955795085E-06-2.63978724247169E-06i"},{"$f":"IMSUM(IMPRODUCT(定数!$F$41,計算!AA56),IMPRODUCT(定数!$G$41,計算!AB56),IMPRODUCT(定数!$H$41,計算!AC56),IMPRODUCT(定数!$I$41,計算!AD56))","v":"7.58077282658752E-06+1.98388510108131E-06i"}," ","-0.0000310641049679025-0.0000848300534659311i"," ","4.95831955795085E-06-2.63978724247169E-06i","7.58077282658752E-06+1.98388510108131E-06i"," "]
[53,{"$f":"A57*定数!$B$8","v":33300882128.051804},null,{"$f":"B57*定数!$C$3","v":16.650441064025902},{"$f":"B57*定数!$C$5","v":3.330088212805181},{"$f":"定数!$B$6*SIN(D57)*SIN(E57)/(D57*E57)","v":6.460339728100388E-2},"0.027506788727002-0.0584549015410624i"," ",{"$f":"IMSUB(掃き出し!LZ57,IMPRODUCT(P57,掃き出し!LY57))","v":"0.0000059413791698471+9.12373081361893E-06i"},{"$f":"IMSUB(掃き出し!MB57,IMPRODUCT(P57,掃き出し!MA57))","v":"0.00000597969725422-0.0000025679363458604i"},{"$f":"IMSUB(掃き出し!MD57,IMPRODUCT(P57,掃き出し!MC57))","v":"-0.00009869925346423-0.00004654416172873i"},{"$f":"IMSUB(掃き出し!MF57,IMPRODUCT(P57,掃き出し!ME57))","v":"0.000032392798138322-0.0000584761688431019i"},{"$f":"IMSUB(掃き出し!MH57,IMPRODUCT(P57,掃き出し!MG57))","v":"0.0000110143777139078+0.000104879261263315i"},{"$f":"IMSUB(掃き出し!MJ57,IMPRODUCT(P57,掃き出し!MI57))","v":"0.0000380587302384257-0.0000465121733896035i"},{"$f":"IMSUB(掃き出し!ML57,IMPRODUCT(P57,掃き出し!MK57))","v":"0.0000071336782004595-0.000153283601613284i"},{"$f":"IMDIV(掃き出し!MN57,掃き出し!MM57)","v":"-0.0000177313144093666+0.0000879602412125104i"}," ",{"$f":"IMEXP(COMPLEX(0,計算!$B57*定数!A$61))","v":"-0.93912105307022+0.343586448627242i"},{"$f":"IMEXP(COMPLEX(0,計算!$B57*定数!B$61))","v":"0.418118018031526+0.90839271408207i"},{"$f":"IMEXP(COMPLEX(0,計算!$B57*定数!C$61))","v":"0.99267561446423+0.120810282873863i"},{"$f":"IMEXP(COMPLEX(0,計算!$B57*定数!D$61))","v":"0.927130512430474+0.37473859278223i"}," ","0.0000119210764240671+6.55579446775853E-06i","-0.000066306455325908-0.000105020330571832i","0.0000490731079523335+0.0000583670878737115i","-0.0000105976362089071-0.0000653233604007736i","-7.17823544724321E-06-6.14351902974547E-06i","-0.0000168849753564936+0.0000751721720781189i","0.0000670033196353512+0.0000612068206981518i","-0.000100228770066831-0.0000698811529421964i"," ",{"$f":"IMSUM(IMPRODUCT(定数!$F$38,計算!W57),IMPRODUCT(定数!$G$38,計算!X57),IMPRODUCT(定数!$H$38,計算!Y57),IMPRODUCT(定数!$I$38,計算!Z57))","v":"-0.00005710415794299-0.000116252487597193i"},{"$f":"IMSUM(IMPRODUCT(定数!$F$39,計算!W57),IMPRODUCT(定数!$G$39,計算!X57),IMPRODUCT(定数!$H$39,計算!Y57),IMPRODUCT(定数!$I$39,計算!Z57))","v":"0.000022910160848948+0.00003949618077811i"},{"$f":"IMSUM(IMPRODUCT(定数!$F$40,計算!W57),IMPRODUCT(定数!$G$40,計算!X57),IMPRODUCT(定数!$H$40,計算!Y57),IMPRODUCT(定数!$I$40,計算!Z57))","v":"-4.24129447613981E-08+0.000028057055751415i"},{"$f":"IMSUM(IMPRODUCT(定数!$F$41,計算!W57),IMPRODUCT(定数!$G$41,計算!X57),IMPRODUCT(定数!$H$41,計算!Y57),IMPRODUCT(定数!$I$41,計算!Z57))","v":"0.0000564026003382003+0.000052171373966411i"},{"$f":"IMSUM(IMPRODUCT(定数!$F$38,計算!AA57),IMPRODUCT(定数!$G$38,計算!AB57),IMPRODUCT(定数!$H$38,計算!AC57),IMPRODUCT(定数!$I$38,計算!AD57))","v":"-0.0000872991233976728-0.0000100823639165572i"},{"$f":"IMSUM(IMPRODUCT(定数!$F$39,計算!AA57),IMPRODUCT(定数!$G$39,計算!AB57),IMPRODUCT(定数!$H$39,計算!AC57),IMPRODUCT(定数!$I$39,計算!AD57))","v":"0.0000803616253049502+0.0000910817682315532i"},{"$f":"IMSUM(IMPRODUCT(定数!$F$40,計算!AA57),IMPRODUCT(定数!$G$40,計算!AB57),IMPRODUCT(定数!$H$40,計算!AC57),IMPRODUCT(定数!$I$40,計算!AD57))","v":"4.38552231271392E-06-0.0000332424525697005i"},{"$f":"IMSUM(IMPRODUCT(定数!$F$41,計算!AA57),IMPRODUCT(定数!$G$41,計算!AB57),IMPRODUCT(定数!$H$41,計算!AC57),IMPRODUCT(定数!$I$41,計算!AD57))","v":"-0.0000264199099055346-0.0000702254400645765i"}," ","-0.000167660748702623-0.00010116413214811i"," ","4.38552231271392E-06-0.0000332424525697005i","-0.0000264199099055346-0.0000702254400645765i"," "]
[54,{"$f":"A58*定数!$B$8","v":33929200658.769764},null,{"$f":"B58*定数!$C$3","v":16.964600329384883},{"$f":"B58*定数!$C$5","v":3.3929200658769769},{"$f":"定数!$B$6*SIN(D58)*SIN(E58)/(D58*E58)","v":9.70957232504428E-2},"0.00609669090696582-0.0969041270200165i"," ",{"$f":"IMSUB(掃き出し!LZ58,IMPRODUCT(P58,掃き出し!LY58))","v":"0.0000155924299638946+0.000014068128838058i"},{"$f":"IMSUB(掃き出し!MB58,IMPRODUCT(P58,掃き出し!MA58))","v":"-0.0000031026760880696-0.000017426963515524i"},{"$f":"IMSUB(掃き出し!MD58,IMPRODUCT(P58,掃き出し!MC58))","v":"-0.000065502557180019-0.0000074177120228043i"},{"$f":"IMSUB(掃き出し!MF58,IMPRODUCT(P58,掃き出し!ME58))","v":"-0.0000359234324475004-0.000017975682860388i"},{"$f":"IMSUB(掃き出し!MH58,IMPRODUCT(P58,掃き出し!MG58))","v":"0.0000701646190416712+0.000268189325894754i"},{"$f":"IMSUB(掃き出し!MJ58,IMPRODUCT(P58,掃き出し!MI58))","v":"-0.0000975100917470628-0.00012473713017529i"},{"$f":"IMSUB(掃き出し!ML58,IMPRODUCT(P58,掃き出し!MK58))","v":"-0.000384115413301368-0.00041310168167043i"},{"$f":"IMDIV(掃き出し!MN58,掃き出し!MM58)","v":"0.000324706189919504-0.000077796252265934i"}," ",{"$f":"IMEXP(COMPLEX(0,計算!$B58*定数!A$61))","v":"-0.956895748030054-0.290431622593003i"},{"$f":"IMEXP(COMPLEX(0,計算!$B58*定数!B$61))","v":"-0.181861642007397+0.983324129250561i"},{"$f":"IMEXP(COMPLEX(0,計算!$B58*定数!C$61))","v":"0.754342422164834+0.656481157477114i"},{"$f":"IMEXP(COMPLEX(0,計算!$B58*定数!D$61))","v":"0.553599856081794+0.83278280442515i"}," ","0.000012489753875825-0.000003358834677466i","-0.000101425989627519-0.0000253933948831923i","-0.0000273454727053916+0.000143452195719464i","-0.000059409223381864-0.000490897933936364i","-0.0000210985631536861+8.64370460642339E-06i","0.0000288274044964057+0.0000337039515611971i","0.000237320964568415-0.000001863211434344i","-0.000312125533352586+0.000318533416989388i"," ",{"$f":"IMSUM(IMPRODUCT(定数!$F$38,計算!W58),IMPRODUCT(定数!$G$38,計算!X58),IMPRODUCT(定数!$H$38,計算!Y58),IMPRODUCT(定数!$I$38,計算!Z58))","v":"-0.0000829974834870816-0.000322578747514909i"},{"$f":"IMSUM(IMPRODUCT(定数!$F$39,計算!W58),IMPRODUCT(定数!$G$39,計算!X58),IMPRODUCT(定数!$H$39,計算!Y58),IMPRODUCT(定数!$I$39,計算!Z58))","v":"-0.0000140434920991824+0.00030954503276398i"},{"$f":"IMSUM(IMPRODUCT(定数!$F$40,計算!W58),IMPRODUCT(定数!$G$40,計算!X58),IMPRODUCT(定数!$H$40,計算!Y58),IMPRODUCT(定数!$I$40,計算!Z58))","v":"0.0000826340522181009+0.000140386652299574i"},{"$f":"IMSUM(IMPRODUCT(定数!$F$41,計算!W58),IMPRODUCT(定数!$G$41,計算!X58),IMPRODUCT(定数!$H$41,計算!Y58),IMPRODUCT(定数!$I$41,計算!Z58))","v":"0.0000305540361795242-0.000205981233317647i"},{"$f":"IMSUM(IMPRODUCT(定数!$F$38,計算!AA58),IMPRODUCT(定数!$G$38,計算!AB58),IMPRODUCT(定数!$H$38,計算!AC58),IMPRODUCT(定数!$I$38,計算!AD58))","v":"-0.000227701492082327+0.000196447144533204i"},{"$f":"IMSUM(IMPRODUCT(定数!$F$39,計算!AA58),IMPRODUCT(定数!$G$39,計算!AB58),IMPRODUCT(定数!$H$39,計算!AC58),IMPRODUCT(定数!$I$39,計算!AD58))","v":"0.000294063245901688-0.00013339752043417i"},{"$f":"IMSUM(IMPRODUCT(定数!$F$40,計算!AA58),IMPRODUCT(定数!$G$40,計算!AB58),IMPRODUCT(定数!$H$40,計算!AC58),IMPRODUCT(定数!$I$40,計算!AD58))","v":"-0.0000287711388002649-0.00015145997920655i"},{"$f":"IMSUM(IMPRODUCT(定数!$F$41,計算!AA58),IMPRODUCT(定数!$G$41,計算!AB58),IMPRODUCT(定数!$H$41,計算!AC58),IMPRODUCT(定数!$I$41,計算!AD58))","v":"-0.000125318428378251+0.000152289170645436i"}," ","-0.000521764737984015+0.000329844664967374i"," ","-0.0000287711388002649-0.00015145997920655i","-0.000125318428378251+0.000152289170645436i"," "]
[55,{"$f":"A59*定数!$B$8","v":34557519189.487724},null,{"$f":"B59*定数!$C$3","v":17.278759594743864},{"$f":"B59*定数!$C$5","v":3.4557519189487729},{"$f":"定数!$B$6*SIN(D59)*SIN(E59)/(D59*E59)","v":0.12228696175292424},"-0.0377887493721285-0.116301811833056i"," ",{"$f":"IMSUB(掃き出し!LZ59,IMPRODUCT(P59,掃き出し!LY59))","v":"0.00005115973862819-0.000025177011191081i"},{"$f":"IMSUB(掃き出し!MB59,IMPRODUCT(P59,掃き出し!MA59))","v":"-8.21520467035001E-07+0.000038862332146418i"},{"$f":"IMSUB(掃き出し!MD59,IMPRODUCT(P59,掃き出し!MC59))","v":"-0.0000699229523536968-0.000011850303963912i"},{"$f":"IMSUB(掃き出し!MF59,IMPRODUCT(P59,掃き出し!ME59))","v":"-0.000032325090733269+0.0000230006938304367i"},{"$f":"IMSUB(掃き出し!MH59,IMPRODUCT(P59,掃き出し!MG59))","v":"0.000541681558712632-0.000034639762381964i"},{"$f":"IMSUB(掃き出し!MJ59,IMPRODUCT(P59,掃き出し!MI59))","v":"0.0000305605434380008+0.000311751185438301i"},{"$f":"IMSUB(掃き出し!ML59,IMPRODUCT(P59,掃き出し!MK59))","v":"-0.000303483330452012+0.000115523247055542i"},{"$f":"IMDIV(掃き出し!MN59,掃き出し!MM59)","v":"-0.000168947342239527-0.0000955379414871704i"}," ",{"$f":"IMEXP(COMPLEX(0,計算!$B59*定数!A$61))","v":"-0.589716207346039-0.807610546484755i"},{"$f":"IMEXP(COMPLEX(0,計算!$B59*定数!B$61))","v":"-0.715354448069652+0.698761771726934i"},{"$f":"IMEXP(COMPLEX(0,計算!$B59*定数!C$61))","v":"0.256707042293999+0.966489262452857i"},{"$f":"IMEXP(COMPLEX(0,計算!$B59*定数!D$61))","v":"-0.0133196448143068+0.999911289596243i"}," ","0.000050338218161155+0.000013685320955337i","-0.000102248043086966+0.0000111503898665247i","0.000572242102150633+0.000277111423056337i","-0.000472430672691539+0.0000199853055683716i","0.0000220335859707686+0.0000339101574947657i","0.0000487910474634479+0.000018295467410305i","-0.000187884554159965-0.00042285651927826i","0.000217335073979095+0.000134257856298975i"," ",{"$f":"IMSUM(IMPRODUCT(定数!$F$38,計算!W59),IMPRODUCT(定数!$G$38,計算!X59),IMPRODUCT(定数!$H$38,計算!Y59),IMPRODUCT(定数!$I$38,計算!Z59))","v":"-0.000463597362251748-0.0000573571732876189i"},{"$f":"IMSUM(IMPRODUCT(定数!$F$39,計算!W59),IMPRODUCT(定数!$G$39,計算!X59),IMPRODUCT(定数!$H$39,計算!Y59),IMPRODUCT(定数!$I$39,計算!Z59))","v":"0.000583059651750337+0.000179953877093544i"},{"$f":"IMSUM(IMPRODUCT(定数!$F$40,計算!W59),IMPRODUCT(定数!$G$40,計算!X59),IMPRODUCT(定数!$H$40,計算!Y59),IMPRODUCT(定数!$I$40,計算!Z59))","v":"-0.0000912847752875532-0.000183398109318433i"},{"$f":"IMSUM(IMPRODUCT(定数!$F$41,計算!W59),IMPRODUCT(定数!$G$41,計算!X59),IMPRODUCT(定数!$H$41,計算!Y59),IMPRODUCT(定数!$I$41,計算!Z59))","v":"2.72920342620539E-06+0.0000909517751056034i"},{"$f":"IMSUM(IMPRODUCT(定数!$F$38,計算!AA59),IMPRODUCT(定数!$G$38,計算!AB59),IMPRODUCT(定数!$H$38,計算!AC59),IMPRODUCT(定数!$I$38,計算!AD59))","v":"0.000212461553096417+0.00022273998501666i"},{"$f":"IMSUM(IMPRODUCT(定数!$F$39,計算!AA59),IMPRODUCT(定数!$G$39,計算!AB59),IMPRODUCT(定数!$H$39,計算!AC59),IMPRODUCT(定数!$I$39,計算!AD59))","v":"-0.00019442499163247-0.000309966185274i"},{"$f":"IMSUM(IMPRODUCT(定数!$F$40,計算!AA59),IMPRODUCT(定数!$G$40,計算!AB59),IMPRODUCT(定数!$H$40,計算!AC59),IMPRODUCT(定数!$I$40,計算!AD59))","v":"0.0000177508002401331+0.000223068442900704i"},{"$f":"IMSUM(IMPRODUCT(定数!$F$41,計算!AA59),IMPRODUCT(定数!$G$41,計算!AB59),IMPRODUCT(定数!$H$41,計算!AC59),IMPRODUCT(定数!$I$41,計算!AD59))","v":"0.0000399051927179675-0.0000486884755069118i"}," ","0.000406886544728887+0.00053270617029066i"," ","0.0000177508002401331+0.000223068442900704i","0.0000399051927179675-0.0000486884755069118i"," "]
[56,{"$f":"A60*定数!$B$8","v":35185837720.205681},null,{"$f":"B60*定数!$C$3","v":17.592918860102841},{"$f":"B60*定数!$C$5","v":3.5185837720205688},{"$f":"定数!$B$6*SIN(D60)*SIN(E60)/(D60*E60)","v":0.13364361845808506},"-0.0851876484820031-0.10297417783443i"," ",{"$f":"IMSUB(掃き出し!LZ60,IMPRODUCT(P60,掃き出し!LY60))","v":"0.000014653631870908-0.0000186408203177424i"},{"$f":"IMSUB(掃き出し!MB60,IMPRODUCT(P60,掃き出し!MA60))","v":"0.000014908435306662-9.92611059003995E-07i"},{"$f":"IMSUB(掃き出し!MD60,IMPRODUCT(P60,掃き出し!MC60))","v":"-0.0000802816992252309-0.0000163048526397971i"},{"$f":"IMSUB(掃き出し!MF60,IMPRODUCT(P60,掃き出し!ME60))","v":"0.0000125395483430011+0.000049064136230465i"},{"$f":"IMSUB(掃き出し!MH60,IMPRODUCT(P60,掃き出し!MG60))","v":"0.000208927386490322-0.000141043680171976i"},{"$f":"IMSUB(掃き出し!MJ60,IMPRODUCT(P60,掃き出し!MI60))","v":"0.000142399976800543-0.0000369303714066265i"},{"$f":"IMSUB(掃き出し!ML60,IMPRODUCT(P60,掃き出し!MK60))","v":"-0.000195670904234038+0.0000870332813985901i"},{"$f":"IMDIV(掃き出し!MN60,掃き出し!MM60)","v":"-0.0000950241617883803+0.0000882968764909724i"}," ",{"$f":"IMEXP(COMPLEX(0,計算!$B60*定数!A$61))","v":"0.0147031291182791-0.999891903154602i"},{"$f":"IMEXP(COMPLEX(0,計算!$B60*定数!B$61))","v":"-0.987320600103124+0.158738881853211i"},{"$f":"IMEXP(COMPLEX(0,計算!$B60*定数!C$61))","v":"-0.329170355625878+0.94427055284867i"},{"$f":"IMEXP(COMPLEX(0,計算!$B60*定数!D$61))","v":"-0.575586198835285+0.817741112889861i"}," ","0.00002956206717757-0.0000196334313767464i","-0.0000677421508822298+0.0000327592835906679i","0.000351327363290865-0.000177974051578602i","-0.000290695066022418+0.000175330157889562i","0.0000180809564337057-5.43448768873601E-07i","0.0000565066208601791-0.0000176095744824855i","-0.000213957684742317-4.23609207705002E-06i","0.000166286774414929-0.000018614639944593i"," ",{"$f":"IMSUM(IMPRODUCT(定数!$F$38,計算!W60),IMPRODUCT(定数!$G$38,計算!X60),IMPRODUCT(定数!$H$38,計算!Y60),IMPRODUCT(定数!$I$38,計算!Z60))","v":"-0.000288744128915126+0.000158222433343378i"},{"$f":"IMSUM(IMPRODUCT(定数!$F$39,計算!W60),IMPRODUCT(定数!$G$39,計算!X60),IMPRODUCT(定数!$H$39,計算!Y60),IMPRODUCT(定数!$I$39,計算!Z60))","v":"0.00035602571465604-0.000196348086051727i"},{"$f":"IMSUM(IMPRODUCT(定数!$F$40,計算!W60),IMPRODUCT(定数!$G$40,計算!X60),IMPRODUCT(定数!$H$40,計算!Y60),IMPRODUCT(定数!$I$40,計算!Z60))","v":"-0.0000549761726137664+0.000012797140777231i"},{"$f":"IMSUM(IMPRODUCT(定数!$F$41,計算!W60),IMPRODUCT(定数!$G$41,計算!X60),IMPRODUCT(定数!$H$41,計算!Y60),IMPRODUCT(定数!$I$41,計算!Z60))","v":"3.90300049981959E-06+0.0000119640557243595i"},{"$f":"IMSUM(IMPRODUCT(定数!$F$38,計算!AA60),IMPRODUCT(定数!$G$38,計算!AB60),IMPRODUCT(定数!$H$38,計算!AC60),IMPRODUCT(定数!$I$38,計算!AD60))","v":"0.000195948075726447-0.0000202139950925081i"},{"$f":"IMSUM(IMPRODUCT(定数!$F$39,計算!AA60),IMPRODUCT(定数!$G$39,計算!AB60),IMPRODUCT(定数!$H$39,計算!AC60),IMPRODUCT(定数!$I$39,計算!AD60))","v":"-0.000187447118868107+2.38413654863892E-07i"},{"$f":"IMSUM(IMPRODUCT(定数!$F$40,計算!AA60),IMPRODUCT(定数!$G$40,計算!AB60),IMPRODUCT(定数!$H$40,計算!AC60),IMPRODUCT(定数!$I$40,計算!AD60))","v":"0.0000536074722742966+0.000016365964423416i"},{"$f":"IMSUM(IMPRODUCT(定数!$F$41,計算!AA60),IMPRODUCT(定数!$G$41,計算!AB60),IMPRODUCT(定数!$H$41,計算!AC60),IMPRODUCT(定数!$I$41,計算!AD60))","v":"-0.0000017610164215351-1.99006186651739E-07i"}," ","0.000383395194594554-0.000020452408747372i"," ","0.0000536074722742966+0.000016365964423416i","-0.0000017610164215351-1.99006186651739E-07i"," "]
[57,{"$f":"A61*定数!$B$8","v":35814156250.923637},null,{"$f":"B61*定数!$C$3","v":17.907078125461819},{"$f":"B61*定数!$C$5","v":3.5814156250923643},{"$f":"定数!$B$6*SIN(D61)*SIN(E61)/(D61*E61)","v":0.12691578437106571},"-0.111217149647373-0.0611421454222607i"," ",{"$f":"IMSUB(掃き出し!LZ61,IMPRODUCT(P61,掃き出し!LY61))","v":"0.0000113529335525301-0.0000128612666930689i"},{"$f":"IMSUB(掃き出し!MB61,IMPRODUCT(P61,掃き出し!MA61))","v":"3.28146075591769E-06-0.0000101104571917692i"},{"$f":"IMSUB(掃き出し!MD61,IMPRODUCT(P61,掃き出し!MC61))","v":"-0.000142126933533836-0.000017444858824979i"},{"$f":"IMSUB(掃き出し!MF61,IMPRODUCT(P61,掃き出し!ME61))","v":"0.00009109971113307-1.47995287660101E-06i"},{"$f":"IMSUB(掃き出し!MH61,IMPRODUCT(P61,掃き出し!MG61))","v":"0.000143915306880135-0.0000956771839273751i"},{"$f":"IMSUB(掃き出し!MJ61,IMPRODUCT(P61,掃き出し!MI61))","v":"0.0000133285198451078-0.000101298782599591i"},{"$f":"IMSUB(掃き出し!ML61,IMPRODUCT(P61,掃き出し!MK61))","v":"-0.000177291375456619+0.0000641774252746835i"},{"$f":"IMDIV(掃き出し!MN61,掃き出し!MM61)","v":"0.0000358091097973042+0.000109822874625349i"}," ",{"$f":"IMEXP(COMPLEX(0,計算!$B61*定数!A$61))","v":"0.613207472394512-0.789921892214372i"},{"$f":"IMEXP(COMPLEX(0,計算!$B61*定数!B$61))","v":"-0.898331908428897-0.43931740495739i"},{"$f":"IMEXP(COMPLEX(0,計算!$B61*定数!C$61))","v":"-0.801896761649326+0.59746262113736i"},{"$f":"IMEXP(COMPLEX(0,計算!$B61*定数!D$61))","v":"-0.936783426866832+0.349909718566998i"}," ","0.0000146343943084478-0.0000229717238848381i","-0.000051027222400766-0.00001892481170158i","0.000157243826725243-0.000196975966526966i","-0.000141482265659315+0.000174000299900032i","0.0000111468445902958-7.71059967550931E-06i","0.0000528530431327364-0.0000854597620894465i","-0.000122734620362635+0.0000799336656128665i","0.000116566455329061-0.000088434666394518i"," ",{"$f":"IMSUM(IMPRODUCT(定数!$F$38,計算!W61),IMPRODUCT(定数!$G$38,計算!X61),IMPRODUCT(定数!$H$38,計算!Y61),IMPRODUCT(定数!$I$38,計算!Z61))","v":"-0.000147925066091742+0.000128576416784102i"},{"$f":"IMSUM(IMPRODUCT(定数!$F$39,計算!W61),IMPRODUCT(定数!$G$39,計算!X61),IMPRODUCT(定数!$H$39,計算!Y61),IMPRODUCT(定数!$I$39,計算!Z61))","v":"0.000159094848908765-0.000225455888790801i"},{"$f":"IMSUM(IMPRODUCT(定数!$F$40,計算!W61),IMPRODUCT(定数!$G$40,計算!X61),IMPRODUCT(定数!$H$40,計算!Y61),IMPRODUCT(定数!$I$40,計算!Z61))","v":"-0.0000123035902455488+0.0000394719268070942i"},{"$f":"IMSUM(IMPRODUCT(定数!$F$41,計算!W61),IMPRODUCT(定数!$G$41,計算!X61),IMPRODUCT(定数!$H$41,計算!Y61),IMPRODUCT(定数!$I$41,計算!Z61))","v":"9.51372900995864E-06+0.0000372084114133638i"},{"$f":"IMSUM(IMPRODUCT(定数!$F$38,計算!AA61),IMPRODUCT(定数!$G$38,計算!AB61),IMPRODUCT(定数!$H$38,計算!AC61),IMPRODUCT(定数!$I$38,計算!AD61))","v":"0.000137142882468281-0.000128824579776169i"},{"$f":"IMSUM(IMPRODUCT(定数!$F$39,計算!AA61),IMPRODUCT(定数!$G$39,計算!AB61),IMPRODUCT(定数!$H$39,計算!AC61),IMPRODUCT(定数!$I$39,計算!AD61))","v":"-0.000110690895396582+0.0000621562245370968i"},{"$f":"IMSUM(IMPRODUCT(定数!$F$40,計算!AA61),IMPRODUCT(定数!$G$40,計算!AB61),IMPRODUCT(定数!$H$40,計算!AC61),IMPRODUCT(定数!$I$40,計算!AD61))","v":"0.0000151959266740715+0.0000111096413666006i"},{"$f":"IMSUM(IMPRODUCT(定数!$F$41,計算!AA61),IMPRODUCT(定数!$G$41,計算!AB61),IMPRODUCT(定数!$H$41,計算!AC61),IMPRODUCT(定数!$I$41,計算!AD61))","v":"-2.38549425400444E-06+0.000027258005646811i"}," ","0.000247833777864863-0.000190980804313266i"," ","0.0000151959266740715+0.0000111096413666006i","-2.38549425400444E-06+0.000027258005646811i"," "]
[58,{"$f":"A62*定数!$B$8","v":36442474781.641594},null,{"$f":"B62*定数!$C$3","v":18.221237390820797},{"$f":"B62*定数!$C$5","v":3.6442474781641598},{"$f":"定数!$B$6*SIN(D62)*SIN(E62)/(D62*E62)","v":0.10076527710741011},"-0.0999707128002892-0.012629238010871i"," ",{"$f":"IMSUB(掃き出し!LZ62,IMPRODUCT(P62,掃き出し!LY62))","v":"0.0000112678618153161-0.0000112148716183159i"},{"$f":"IMSUB(掃き出し!MB62,IMPRODUCT(P62,掃き出し!MA62))","v":"-0.0000074991886890515-0.0000063456322369417i"},{"$f":"IMSUB(掃き出し!MD62,IMPRODUCT(P62,掃き出し!MC62))","v":"-0.000008753550754963+0.000171172004024815i"},{"$f":"IMSUB(掃き出し!MF62,IMPRODUCT(P62,掃き出し!ME62))","v":"-0.000108157053988339-0.00002478620093871i"},{"$f":"IMSUB(掃き出し!MH62,IMPRODUCT(P62,掃き出し!MG62))","v":"0.000126439974157813-0.0000714580072807744i"},{"$f":"IMSUB(掃き出し!MJ62,IMPRODUCT(P62,掃き出し!MI62))","v":"-0.0000744940460860679-0.0000466813948079889i"},{"$f":"IMSUB(掃き出し!ML62,IMPRODUCT(P62,掃き出し!MK62))","v":"-0.000194517185706128+0.000063763344533369i"},{"$f":"IMDIV(掃き出し!MN62,掃き出し!MM62)","v":"0.000126396702361552+9.86376573356765E-06i"}," ",{"$f":"IMEXP(COMPLEX(0,計算!$B62*定数!A$61))","v":"0.965021604837755-0.262170368646735i"},{"$f":"IMEXP(COMPLEX(0,計算!$B62*定数!B$61))","v":"-0.480921776372701-0.876763505747431i"},{"$f":"IMEXP(COMPLEX(0,計算!$B62*定数!C$61))","v":"-0.998974366289825+0.0452793053816195i"},{"$f":"IMEXP(COMPLEX(0,計算!$B62*定数!D$61))","v":"-0.970734427279902-0.240155515642593i"}," ","0.0000037686731262646-0.0000175605038552576i","-0.000116910604743302+0.000146385803086105i","0.0000519459280717451-0.000118139402088763i","-0.000068120483344576+0.0000736271102669367i","4.91342127206087E-06-0.0000120261010630183i","-0.000115584147053839+0.0000167532435225564i","-0.0000530145183792854+0.000108920081471302i","0.000053182617245942-0.000148541610983012i"," ",{"$f":"IMSUM(IMPRODUCT(定数!$F$38,計算!W62),IMPRODUCT(定数!$G$38,計算!X62),IMPRODUCT(定数!$H$38,計算!Y62),IMPRODUCT(定数!$I$38,計算!Z62))","v":"-0.000124706601299658+0.000159743281093131i"},{"$f":"IMSUM(IMPRODUCT(定数!$F$39,計算!W62),IMPRODUCT(定数!$G$39,計算!X62),IMPRODUCT(定数!$H$39,計算!Y62),IMPRODUCT(定数!$I$39,計算!Z62))","v":"0.0000315247043040143-0.0000752879743604375i"},{"$f":"IMSUM(IMPRODUCT(定数!$F$40,計算!W62),IMPRODUCT(定数!$G$40,計算!X62),IMPRODUCT(定数!$H$40,計算!Y62),IMPRODUCT(定数!$I$40,計算!Z62))","v":"0.0000355564847064421-0.0000120091448658415i"},{"$f":"IMSUM(IMPRODUCT(定数!$F$41,計算!W62),IMPRODUCT(定数!$G$41,計算!X62),IMPRODUCT(定数!$H$41,計算!Y62),IMPRODUCT(定数!$I$41,計算!Z62))","v":"0.0000551428492386943-0.0000965963678480531i"},{"$f":"IMSUM(IMPRODUCT(定数!$F$38,計算!AA62),IMPRODUCT(定数!$G$38,計算!AB62),IMPRODUCT(定数!$H$38,計算!AC62),IMPRODUCT(定数!$I$38,計算!AD62))","v":"-0.0000276253494583505-0.000106132249777343i"},{"$f":"IMSUM(IMPRODUCT(定数!$F$39,計算!AA62),IMPRODUCT(定数!$G$39,計算!AB62),IMPRODUCT(定数!$H$39,計算!AC62),IMPRODUCT(定数!$I$39,計算!AD62))","v":"-0.0000910194946604023+0.000137189117216339i"},{"$f":"IMSUM(IMPRODUCT(定数!$F$40,計算!AA62),IMPRODUCT(定数!$G$40,計算!AB62),IMPRODUCT(定数!$H$40,計算!AC62),IMPRODUCT(定数!$I$40,計算!AD62))","v":"0.0000472617264166636-0.0000131128797052588i"},{"$f":"IMSUM(IMPRODUCT(定数!$F$41,計算!AA62),IMPRODUCT(定数!$G$41,計算!AB62),IMPRODUCT(定数!$H$41,計算!AC62),IMPRODUCT(定数!$I$41,計算!AD62))","v":"0.0000889580657674828-0.0000636437841080455i"}," ","0.0000633941452020518-0.000243321366993682i"," ","0.0000472617264166636-0.0000131128797052588i","0.0000889580657674828-0.0000636437841080455i"," "]
[59,{"$f":"A63*定数!$B$8","v":37070793312.359558},null,{"$f":"B63*定数!$C$3","v":18.535396656179781},{"$f":"B63*定数!$C$5","v":3.7070793312359562},{"$f":"定数!$B$6*SIN(D63)*SIN(E63)/(D63*E63)","v":5.6941111209698213E-2},"-0.055152201493667+0.0141606785217792i"," ",{"$f":"IMSUB(掃き出し!LZ63,IMPRODUCT(P63,掃き出し!LY63))","v":"8.07456015140801E-06-0.00001462789715661i"},{"$f":"IMSUB(掃き出し!MB63,IMPRODUCT(P63,掃き出し!MA63))","v":"-0.0000083956086756981+7.78165267750411E-06i"},{"$f":"IMSUB(掃き出し!MD63,IMPRODUCT(P63,掃き出し!MC63))","v":"0.0000101277415286439+0.0000347086050544841i"},{"$f":"IMSUB(掃き出し!MF63,IMPRODUCT(P63,掃き出し!ME63))","v":"-0.0000042802229719813+0.0000230981229073737i"},{"$f":"IMSUB(掃き出し!MH63,IMPRODUCT(P63,掃き出し!MG63))","v":"0.000111531632380641-0.0000725262172957099i"},{"$f":"IMSUB(掃き出し!MJ63,IMPRODUCT(P63,掃き出し!MI63))","v":"-0.0000616233618487494+0.0000518052469915974i"},{"$f":"IMSUB(掃き出し!ML63,IMPRODUCT(P63,掃き出し!MK63))","v":"-0.000194327620491877+0.000226974198971782i"},{"$f":"IMDIV(掃き出し!MN63,掃き出し!MM63)","v":"-0.0000197348009818819-0.000185946802473296i"}," ",{"$f":"IMEXP(COMPLEX(0,計算!$B63*定数!A$61))","v":"0.928612511255698+0.37105094520751i"},{"$f":"IMEXP(COMPLEX(0,計算!$B63*定数!B$61))","v":"0.112308696723819-0.993673365165937i"},{"$f":"IMEXP(COMPLEX(0,計算!$B63*定数!C$61))","v":"-0.852658531962184-0.522468590321077i"},{"$f":"IMEXP(COMPLEX(0,計算!$B63*定数!D$61))","v":"-0.665579108947256-0.746327307374571i"}," ","-3.21048524290091E-07-6.84624447910589E-06i","0.0000058475185566626+0.0000578067279618578i","0.0000499082705318916-0.0000207209703041125i","-0.000214062421473759+0.000041027396498486i","-8.61321432399881E-06-0.0000124687799894379i","-0.0000108802996781511+0.0000208090088497922i","0.0000224045721942505+0.00010813595786242i","-0.00016569874342332-0.000157610366875717i"," ",{"$f":"IMSUM(IMPRODUCT(定数!$F$38,計算!W63),IMPRODUCT(定数!$G$38,計算!X63),IMPRODUCT(定数!$H$38,計算!Y63),IMPRODUCT(定数!$I$38,計算!Z63))","v":"-0.000125634876630208+0.00006191221718584i"},{"$f":"IMSUM(IMPRODUCT(定数!$F$39,計算!W63),IMPRODUCT(定数!$G$39,計算!X63),IMPRODUCT(定数!$H$39,計算!Y63),IMPRODUCT(定数!$I$39,計算!Z63))","v":"0.000132599928721606-0.0000185188296418822i"},{"$f":"IMSUM(IMPRODUCT(定数!$F$40,計算!W63),IMPRODUCT(定数!$G$40,計算!X63),IMPRODUCT(定数!$H$40,計算!Y63),IMPRODUCT(定数!$I$40,計算!Z63))","v":"0.0000648519932311371-0.0000269004991320349i"},{"$f":"IMSUM(IMPRODUCT(定数!$F$41,計算!W63),IMPRODUCT(定数!$G$41,計算!X63),IMPRODUCT(定数!$H$41,計算!Y63),IMPRODUCT(定数!$I$41,計算!Z63))","v":"-0.00010382882398153-0.0000241029372716187i"},{"$f":"IMSUM(IMPRODUCT(定数!$F$38,計算!AA63),IMPRODUCT(定数!$G$38,計算!AB63),IMPRODUCT(定数!$H$38,計算!AC63),IMPRODUCT(定数!$I$38,計算!AD63))","v":"-0.000106066866899838-0.000108363397881032i"},{"$f":"IMSUM(IMPRODUCT(定数!$F$39,計算!AA63),IMPRODUCT(定数!$G$39,計算!AB63),IMPRODUCT(定数!$H$39,計算!AC63),IMPRODUCT(定数!$I$39,計算!AD63))","v":"0.0000829437150689918+0.000141860667279936i"},{"$f":"IMSUM(IMPRODUCT(定数!$F$40,計算!AA63),IMPRODUCT(定数!$G$40,計算!AB63),IMPRODUCT(定数!$H$40,計算!AC63),IMPRODUCT(定数!$I$40,計算!AD63))","v":"0.0000607238586115517-9.89005775175398E-06i"},{"$f":"IMSUM(IMPRODUCT(定数!$F$41,計算!AA63),IMPRODUCT(定数!$G$41,計算!AB63),IMPRODUCT(定数!$H$41,計算!AC63),IMPRODUCT(定数!$I$41,計算!AD63))","v":"-0.0000790216233697282-0.0000715169398639818i"}," ","-0.00018901058196883-0.000250224065160968i"," ","0.0000607238586115517-9.89005775175398E-06i","-0.0000790216233697282-0.0000715169398639818i"," "]
[60,{"$f":"A64*定数!$B$8","v":37699111843.077515},null,{"$f":"B64*定数!$C$3","v":18.849555921538759},{"$f":"B64*定数!$C$5","v":3.7699111843077522},{"$f":"定数!$B$6*SIN(D64)*SIN(E64)/(D64*E64)","v":1.4367437661259292E-16},"-1.16235012335815E-16+8.44496797051955E-17i"," ",{"$f":"IMSUB(掃き出し!LZ64,IMPRODUCT(P64,掃き出し!LY64))","v":"-3.8990321014061E-20-2.43325105700372E-20i"},{"$f":"IMSUB(掃き出し!MB64,IMPRODUCT(P64,掃き出し!MA64))","v":"2.4153010141251E-20-1.8821867985751E-20i"},{"$f":"IMSUB(掃き出し!MD64,IMPRODUCT(P64,掃き出し!MC64))","v":"1.2517903152983E-20+7.56218452068621E-20i"},{"$f":"IMSUB(掃き出し!MF64,IMPRODUCT(P64,掃き出し!ME64))","v":"3.35891739121732E-20+2.794873794779E-20i"},{"$f":"IMSUB(掃き出し!MH64,IMPRODUCT(P64,掃き出し!MG64))","v":"-1.62069375635071E-19-7.16968225045178E-19i"},{"$f":"IMSUB(掃き出し!MJ64,IMPRODUCT(P64,掃き出し!MI64))","v":"4.48538553858791E-19+1.33057744355445E-20i"},{"$f":"IMSUB(掃き出し!ML64,IMPRODUCT(P64,掃き出し!MK64))","v":"2.7884656375448E-19+2.88737471146724E-19i"},{"$f":"IMDIV(掃き出し!MN64,掃き出し!MM64)","v":"-8.77131298065E-20+2.38017317393053E-19i"}," ",{"$f":"IMEXP(COMPLEX(0,計算!$B64*定数!A$61))","v":"0.518627382650393+0.855000373078984i"},{"$f":"IMEXP(COMPLEX(0,計算!$B64*定数!B$61))","v":"0.664480198632327-0.747305871531559i"},{"$f":"IMEXP(COMPLEX(0,計算!$B64*定数!C$61))","v":"-0.413244740933744-0.910619999830117i"},{"$f":"IMEXP(COMPLEX(0,計算!$B64*定数!D$61))","v":"-0.127917272738657-0.991784841250916i"}," ","-1.483731087281E-20-4.31543785557882E-20i","4.61070770651562E-20+1.03570583154652E-19i","2.8646917822372E-19-7.03662450609634E-19i","1.9113343394798E-19+5.26754788539777E-19i","-1.24066371690053E-20+3.16065292949489E-20i","-4.9891532422474E-21+5.30739173080951E-20i","5.46620227942511E-19-2.65246985544988E-19i","-7.4752747238607E-20+2.96167311535325E-19i"," ",{"$f":"IMSUM(IMPRODUCT(定数!$F$38,計算!W64),IMPRODUCT(定数!$G$38,計算!X64),IMPRODUCT(定数!$H$38,計算!Y64),IMPRODUCT(定数!$I$38,計算!Z64))","v":"4.11083355808109E-20+5.3528098461183E-19i"},{"$f":"IMSUM(IMPRODUCT(定数!$F$39,計算!W64),IMPRODUCT(定数!$G$39,計算!X64),IMPRODUCT(定数!$H$39,計算!Y64),IMPRODUCT(定数!$I$39,計算!Z64))","v":"1.01865817645317E-19-6.88376662010226E-19i"},{"$f":"IMSUM(IMPRODUCT(定数!$F$40,計算!W64),IMPRODUCT(定数!$G$40,計算!X64),IMPRODUCT(定数!$H$40,計算!Y64),IMPRODUCT(定数!$I$40,計算!Z64))","v":"-2.94733712111067E-19+1.54274592439886E-19i"},{"$f":"IMSUM(IMPRODUCT(定数!$F$41,計算!W64),IMPRODUCT(定数!$G$41,計算!X64),IMPRODUCT(定数!$H$41,計算!Y64),IMPRODUCT(定数!$I$41,計算!Z64))","v":"1.50241890498493E-19-9.82802609417434E-21i"},{"$f":"IMSUM(IMPRODUCT(定数!$F$38,計算!AA64),IMPRODUCT(定数!$G$38,計算!AB64),IMPRODUCT(定数!$H$38,計算!AC64),IMPRODUCT(定数!$I$38,計算!AD64))","v":"-2.09090290745779E-19+2.84364601480392E-19i"},{"$f":"IMSUM(IMPRODUCT(定数!$F$39,計算!AA64),IMPRODUCT(定数!$G$39,計算!AB64),IMPRODUCT(定数!$H$39,計算!AC64),IMPRODUCT(定数!$I$39,計算!AD64))","v":"3.77933798319638E-19-2.74074092146693E-19i"},{"$f":"IMSUM(IMPRODUCT(定数!$F$40,計算!AA64),IMPRODUCT(定数!$G$40,計算!AB64),IMPRODUCT(定数!$H$40,計算!AC64),IMPRODUCT(定数!$I$40,計算!AD64))","v":"-3.22433402851363E-19+3.5049283236711E-20i"},{"$f":"IMSUM(IMPRODUCT(定数!$F$41,計算!AA64),IMPRODUCT(定数!$G$41,計算!AB64),IMPRODUCT(定数!$H$41,計算!AC64),IMPRODUCT(定数!$I$41,計算!AD64))","v":"1.17937114328498E-19+6.09541141420598E-20i"}," ","-5.87024089065417E-19+5.58438693627085E-19i"," ","-3.22433402851363E-19+3.5049283236711E-20i","1.17937114328498E-19+6.09541141420598E-20i"," "]
[61,{"$f":"A65*定数!$B$8","v":38327430373.795471},null,{"$f":"B65*定数!$C$3","v":19.163715186897736},{"$f":"B65*定数!$C$5","v":3.8327430373795477},{"$f":"定数!$B$6*SIN(D65)*SIN(E65)/(D65*E65)","v":-6.3368622746775322E-2},"0.0339546060286369-0.0535038977857051i"," ",{"$f":"IMSUB(掃き出し!LZ65,IMPRODUCT(P65,掃き出し!LY65))","v":"8.46127759893025E-06+3.38902050685871E-06i"},{"$f":"IMSUB(掃き出し!MB65,IMPRODUCT(P65,掃き出し!MA65))","v":"0.0000029166714989203+0.0000050651234839122i"},{"$f":"IMSUB(掃き出し!MD65,IMPRODUCT(P65,掃き出し!MC65))","v":"-5.33984673685717E-06-0.0000351542659993062i"},{"$f":"IMSUB(掃き出し!MF65,IMPRODUCT(P65,掃き出し!ME65))","v":"-0.0000202924359325827+0.0000108501856156195i"},{"$f":"IMSUB(掃き出し!MH65,IMPRODUCT(P65,掃き出し!MG65))","v":"0.000105356162575203+0.0000642306994188947i"},{"$f":"IMSUB(掃き出し!MJ65,IMPRODUCT(P65,掃き出し!MI65))","v":"0.0000293965626951399+0.0000701394939533987i"},{"$f":"IMSUB(掃き出し!ML65,IMPRODUCT(P65,掃き出し!MK65))","v":"-0.0000725790918819196-0.0000647440931903942i"},{"$f":"IMDIV(掃き出し!MN65,掃き出し!MM65)","v":"-0.0000497551498476878-0.000037155452953835i"}," ",{"$f":"IMEXP(COMPLEX(0,計算!$B65*定数!A$61))","v":"-0.0999988733537928+0.99498755033818i"},{"$f":"IMEXP(COMPLEX(0,計算!$B65*定数!B$61))","v":"0.973724179106343-0.227730593078046i"},{"$f":"IMEXP(COMPLEX(0,計算!$B65*定数!C$61))","v":"0.168220275344623-0.9857494301104i"},{"$f":"IMEXP(COMPLEX(0,計算!$B65*定数!D$61))","v":"0.454429859719154-0.8907825226146i"}," ","0.0000113779490978505+8.45414399077091E-06i","-0.0000256322826694399-0.0000243040803836867i","0.000134752725270343+0.000134370193372293i","-0.000122334241729607-0.000101899546144229i","-2.80548368611485E-06-6.36221891528686E-06i","-0.0000144821523504247-0.0000202603087149449i","0.0000284927313934421+0.0000974809232203834i","-0.0000310168537626057-0.0000666373651210299i"," ",{"$f":"IMSUM(IMPRODUCT(定数!$F$38,計算!W65),IMPRODUCT(定数!$G$38,計算!X65),IMPRODUCT(定数!$H$38,計算!Y65),IMPRODUCT(定数!$I$38,計算!Z65))","v":"-0.000116308423035444-0.000105714632951693i"},{"$f":"IMSUM(IMPRODUCT(定数!$F$39,計算!W65),IMPRODUCT(定数!$G$39,計算!X65),IMPRODUCT(定数!$H$39,計算!Y65),IMPRODUCT(定数!$I$39,計算!Z65))","v":"0.000141689064949144+0.000130802142100964i"},{"$f":"IMSUM(IMPRODUCT(定数!$F$40,計算!W65),IMPRODUCT(定数!$G$40,計算!X65),IMPRODUCT(定数!$H$40,計算!Y65),IMPRODUCT(定数!$I$40,計算!Z65))","v":"-0.0000161634603341315-0.0000273651200218552i"},{"$f":"IMSUM(IMPRODUCT(定数!$F$41,計算!W65),IMPRODUCT(定数!$G$41,計算!X65),IMPRODUCT(定数!$H$41,計算!Y65),IMPRODUCT(定数!$I$41,計算!Z65))","v":"-4.51039858178139E-06+0.0000041618920910891i"},{"$f":"IMSUM(IMPRODUCT(定数!$F$38,計算!AA65),IMPRODUCT(定数!$G$38,計算!AB65),IMPRODUCT(定数!$H$38,計算!AC65),IMPRODUCT(定数!$I$38,計算!AD65))","v":"-0.000035465828195692-0.0000800501464397268i"},{"$f":"IMSUM(IMPRODUCT(定数!$F$39,計算!AA65),IMPRODUCT(定数!$G$39,計算!AB65),IMPRODUCT(定数!$H$39,計算!AC65),IMPRODUCT(定数!$I$39,計算!AD65))","v":"0.000026734424352166+0.0000838780698056661i"},{"$f":"IMSUM(IMPRODUCT(定数!$F$40,計算!AA65),IMPRODUCT(定数!$G$40,計算!AB65),IMPRODUCT(定数!$H$40,計算!AC65),IMPRODUCT(定数!$I$40,計算!AD65))","v":"-1.14860712572108E-06-0.0000292739867060293i"},{"$f":"IMSUM(IMPRODUCT(定数!$F$41,計算!AA65),IMPRODUCT(定数!$G$41,計算!AB65),IMPRODUCT(定数!$H$41,計算!AC65),IMPRODUCT(定数!$I$41,計算!AD65))","v":"-2.47673056300969E-07+3.02004943183243E-06i"}," ","-0.000062200252547858-0.000163928216245393i"," ","-1.14860712572108E-06-0.0000292739867060293i","-2.47673056300969E-07+3.02004943183243E-06i"," "]
[62,{"$f":"A66*定数!$B$8","v":38955748904.513428},null,{"$f":"B66*定数!$C$3","v":19.477874452256714},{"$f":"B66*定数!$C$5","v":3.8955748904513432},{"$f":"定数!$B$6*SIN(D66)*SIN(E66)/(D66*E66)","v":-0.12530309980819701},"0.0234794595637216-0.123083637418377i"," ",{"$f":"IMSUB(掃き出し!LZ66,IMPRODUCT(P66,掃き出し!LY66))","v":"0.000013210434382727+0.0000069353070002688i"},{"$f":"IMSUB(掃き出し!MB66,IMPRODUCT(P66,掃き出し!MA66))","v":"9.46183022268159E-06-0.0000012505266240534i"},{"$f":"IMSUB(掃き出し!MD66,IMPRODUCT(P66,掃き出し!MC66))","v":"-0.000023816710384383-0.000126058099368633i"},{"$f":"IMSUB(掃き出し!MF66,IMPRODUCT(P66,掃き出し!ME66))","v":"0.000018369874123292+0.000083599578295094i"},{"$f":"IMSUB(掃き出し!MH66,IMPRODUCT(P66,掃き出し!MG66))","v":"0.000138356122254424+0.0000842575209387287i"},{"$f":"IMSUB(掃き出し!MJ66,IMPRODUCT(P66,掃き出し!MI66))","v":"0.000100918653553625-0.0000019688639288732i"},{"$f":"IMSUB(掃き出し!ML66,IMPRODUCT(P66,掃き出し!MK66))","v":"-0.000116681477722172-0.000122870848474945i"},{"$f":"IMDIV(掃き出し!MN66,掃き出し!MM66)","v":"-0.0000967125854704684+0.0000507792678640867i"}," ",{"$f":"IMEXP(COMPLEX(0,計算!$B66*定数!A$61))","v":"-0.678396097160481+0.734696355889579i"},{"$f":"IMEXP(COMPLEX(0,計算!$B66*定数!B$61))","v":"0.926984035632147+0.375100783367801i"},{"$f":"IMEXP(COMPLEX(0,計算!$B66*定数!C$61))","v":"0.69186024545158-0.722031440287526i"},{"$f":"IMEXP(COMPLEX(0,計算!$B66*定数!D$61))","v":"0.87803116785383-0.478603456190237i"}," ","0.0000226722646054086+0.0000056847803762154i","-0.000005446836261091-0.000042458521073539i","0.000239274775808049+0.0000822886570098555i","-0.00021339406319264-0.0000720915806108583i","-9.36667368839099E-06-6.61061863649685E-06i","-0.0000836918893894716-0.0000235341503152814i","0.000103286544264187+0.0000839632798834763i","-0.000104257092670411-0.0000728558355641366i"," ",{"$f":"IMSUM(IMPRODUCT(定数!$F$38,計算!W66),IMPRODUCT(定数!$G$38,計算!X66),IMPRODUCT(定数!$H$38,計算!Y66),IMPRODUCT(定数!$I$38,計算!Z66))","v":"-0.000177775089097968-0.000087314966858669i"},{"$f":"IMSUM(IMPRODUCT(定数!$F$39,計算!W66),IMPRODUCT(定数!$G$39,計算!X66),IMPRODUCT(定数!$H$39,計算!Y66),IMPRODUCT(定数!$I$39,計算!Z66))","v":"0.000263320092974432+0.000076499612040659i"},{"$f":"IMSUM(IMPRODUCT(定数!$F$40,計算!W66),IMPRODUCT(定数!$G$40,計算!X66),IMPRODUCT(定数!$H$40,計算!Y66),IMPRODUCT(定数!$I$40,計算!Z66))","v":"-0.0000412609202675781-0.0000036460106171551i"},{"$f":"IMSUM(IMPRODUCT(定数!$F$41,計算!W66),IMPRODUCT(定数!$G$41,計算!X66),IMPRODUCT(定数!$H$41,計算!Y66),IMPRODUCT(定数!$I$41,計算!Z66))","v":"-0.0000304542902848119+0.0000152059927772827i"},{"$f":"IMSUM(IMPRODUCT(定数!$F$38,計算!AA66),IMPRODUCT(定数!$G$38,計算!AB66),IMPRODUCT(定数!$H$38,計算!AC66),IMPRODUCT(定数!$I$38,計算!AD66))","v":"-0.000143754806499956-0.0000816158978395164i"},{"$f":"IMSUM(IMPRODUCT(定数!$F$39,計算!AA66),IMPRODUCT(定数!$G$39,計算!AB66),IMPRODUCT(定数!$H$39,計算!AC66),IMPRODUCT(定数!$I$39,計算!AD66))","v":"0.0000841196323893183+0.0000769246114439347i"},{"$f":"IMSUM(IMPRODUCT(定数!$F$40,計算!AA66),IMPRODUCT(定数!$G$40,計算!AB66),IMPRODUCT(定数!$H$40,計算!AC66),IMPRODUCT(定数!$I$40,計算!AD66))","v":"1.95201795368068E-06-0.0000168476100469158i"},{"$f":"IMSUM(IMPRODUCT(定数!$F$41,計算!AA66),IMPRODUCT(定数!$G$41,計算!AB66),IMPRODUCT(定数!$H$41,計算!AC66),IMPRODUCT(定数!$I$41,計算!AD66))","v":"0.0000237680424495589-2.29224328272958E-06i"}," ","-0.000227874438889274-0.000158540509283451i"," ","1.95201795368068E-06-0.0000168476100469158i","0.0000237680424495589-2.29224328272958E-06i"," "]
[63,{"$f":"A67*定数!$B$8","v":39584067435.231392},null,{"$f":"B67*定数!$C$3","v":19.792033717615698},{"$f":"B67*定数!$C$5","v":3.95840674352314},{"$f":"定数!$B$6*SIN(D67)*SIN(E67)/(D67*E67)","v":-0.17787239534017441},"-0.0333299632673474-0.174721786199227i"," ",{"$f":"IMSUB(掃き出し!LZ67,IMPRODUCT(P67,掃き出し!LY67))","v":"0.000022623985013026+0.0000148202175350322i"},{"$f":"IMSUB(掃き出し!MB67,IMPRODUCT(P67,掃き出し!MA67))","v":"0.0000041221128563796-0.000016884650327143i"},{"$f":"IMSUB(掃き出し!MD67,IMPRODUCT(P67,掃き出し!MC67))","v":"-0.000295075366764559+0.000097387989869704i"},{"$f":"IMSUB(掃き出し!MF67,IMPRODUCT(P67,掃き出し!ME67))","v":"-0.0000072150755620889-0.000210687774913754i"},{"$f":"IMSUB(掃き出し!MH67,IMPRODUCT(P67,掃き出し!MG67))","v":"0.000183985260937424+0.000136032094039446i"},{"$f":"IMSUB(掃き出し!MJ67,IMPRODUCT(P67,掃き出し!MI67))","v":"0.0000604960111492212-0.000132829894290054i"},{"$f":"IMSUB(掃き出し!ML67,IMPRODUCT(P67,掃き出し!MK67))","v":"-0.000198938661009631-0.000238504056601745i"},{"$f":"IMDIV(掃き出し!MN67,掃き出し!MM67)","v":"0.0000112859595136503+0.00020177166824889i"}," ",{"$f":"IMEXP(COMPLEX(0,計算!$B67*定数!A$61))","v":"-0.983878061824448+0.178840597909331i"},{"$f":"IMEXP(COMPLEX(0,計算!$B67*定数!B$61))","v":"0.541347511725647+0.84079894835118i"},{"$f":"IMEXP(COMPLEX(0,計算!$B67*定数!C$61))","v":"0.97767602608176-0.2101180335549i"},{"$f":"IMEXP(COMPLEX(0,計算!$B67*定数!D$61))","v":"0.994910154509464+0.100765988577273i"}," ","0.0000267460978694056-0.0000020644327921108i","-0.000302290442326648-0.00011329978504405i","0.000244481272086645+0.000003202199749392i","-0.000187652701495981-0.000036732388352855i","-0.0000206447814080101-0.0000012777357446678i","0.0000953856002704408+0.000180698073402454i","0.00018253072625963+0.000029078032256372i","-0.000231062396900634-0.000015361934461329i"," ",{"$f":"IMSUM(IMPRODUCT(定数!$F$38,計算!W67),IMPRODUCT(定数!$G$38,計算!X67),IMPRODUCT(定数!$H$38,計算!Y67),IMPRODUCT(定数!$I$38,計算!Z67))","v":"-0.00035333841001222-0.0000939038248349973i"},{"$f":"IMSUM(IMPRODUCT(定数!$F$39,計算!W67),IMPRODUCT(定数!$G$39,計算!X67),IMPRODUCT(定数!$H$39,計算!Y67),IMPRODUCT(定数!$I$39,計算!Z67))","v":"0.000167039630604062-0.0000164429863485037i"},{"$f":"IMSUM(IMPRODUCT(定数!$F$40,計算!W67),IMPRODUCT(定数!$G$40,計算!X67),IMPRODUCT(定数!$H$40,計算!Y67),IMPRODUCT(定数!$I$40,計算!Z67))","v":"0.0000357008909736971+0.0000481212293227969i"},{"$f":"IMSUM(IMPRODUCT(定数!$F$41,計算!W67),IMPRODUCT(定数!$G$41,計算!X67),IMPRODUCT(定数!$H$41,計算!Y67),IMPRODUCT(定数!$I$41,計算!Z67))","v":"0.000176315022081874+0.0000527384852875644i"},{"$f":"IMSUM(IMPRODUCT(定数!$F$38,計算!AA67),IMPRODUCT(定数!$G$38,計算!AB67),IMPRODUCT(定数!$H$38,計算!AC67),IMPRODUCT(定数!$I$38,計算!AD67))","v":"-0.000125513882118147+0.0000981127808079637i"},{"$f":"IMSUM(IMPRODUCT(定数!$F$39,計算!AA67),IMPRODUCT(定数!$G$39,計算!AB67),IMPRODUCT(定数!$H$39,計算!AC67),IMPRODUCT(定数!$I$39,計算!AD67))","v":"0.000241782756388944+0.0000798750698171565i"},{"$f":"IMSUM(IMPRODUCT(定数!$F$40,計算!AA67),IMPRODUCT(定数!$G$40,計算!AB67),IMPRODUCT(定数!$H$40,計算!AC67),IMPRODUCT(定数!$I$40,計算!AD67))","v":"-0.0000509012492562255-0.0000670793937099827i"},{"$f":"IMSUM(IMPRODUCT(定数!$F$41,計算!AA67),IMPRODUCT(定数!$G$41,計算!AB67),IMPRODUCT(定数!$H$41,計算!AC67),IMPRODUCT(定数!$I$41,計算!AD67))","v":"-0.000140313323538631-0.000115708564095222i"}," ","-0.000367296638507091+0.0000182377109908072i"," ","-0.0000509012492562255-0.0000670793937099827i","-0.000140313323538631-0.000115708564095222i"," "]
[64,{"$f":"A68*定数!$B$8","v":40212385965.949348},null,{"$f":"B68*定数!$C$3","v":20.106192982974676},{"$f":"B68*定数!$C$5","v":4.0212385965949355},{"$f":"定数!$B$6*SIN(D68)*SIN(E68)/(D68*E68)","v":-0.21416557067307618},"-0.1147556513286-0.180825972000355i"," ",{"$f":"IMSUB(掃き出し!LZ68,IMPRODUCT(P68,掃き出し!LY68))","v":"0.000085083582437204+0.000020422534194717i"},{"$f":"IMSUB(掃き出し!MB68,IMPRODUCT(P68,掃き出し!MA68))","v":"-0.000055518042074285-7.53729830568498E-06i"},{"$f":"IMSUB(掃き出し!MD68,IMPRODUCT(P68,掃き出し!MC68))","v":"-0.00010063316015073+0.000080427451742503i"},{"$f":"IMSUB(掃き出し!MF68,IMPRODUCT(P68,掃き出し!ME68))","v":"-0.000087759467060397+7.86578307535301E-06i"},{"$f":"IMSUB(掃き出し!MH68,IMPRODUCT(P68,掃き出し!MG68))","v":"0.00032986926343369+0.000244854679352574i"},{"$f":"IMSUB(掃き出し!MJ68,IMPRODUCT(P68,掃き出し!MI68))","v":"-0.000181226522464978-0.000188293917014013i"},{"$f":"IMSUB(掃き出し!ML68,IMPRODUCT(P68,掃き出し!MK68))","v":"-0.000777739099365422-0.000487026693103553i"},{"$f":"IMDIV(掃き出し!MN68,掃き出し!MM68)","v":"0.000602532275843596-5.11453946454903E-06i"}," ",{"$f":"IMEXP(COMPLEX(0,計算!$B68*定数!A$61))","v":"-0.893550944844879-0.4489618123703i"},{"$f":"IMEXP(COMPLEX(0,計算!$B68*定数!B$61))","v":"-0.0422004165069827+0.999109165630382i"},{"$f":"IMEXP(COMPLEX(0,計算!$B68*定数!C$61))","v":"0.927419586921344+0.374022605994135i"},{"$f":"IMEXP(COMPLEX(0,計算!$B68*定数!D$61))","v":"0.764237524062355+0.644934885717187i"}," ","0.000029565540362919+0.000012885235889032i","-0.000188392627211127+0.000088293234817856i","0.000148642740968712+0.000056560762338561i","-0.000175206823521826-0.000492141232568102i","-0.0000389712135990861+0.0000516111454596928i","0.0000804472755739387+0.0000091362134780018i","0.000299861556223792-0.000138705818910455i","-0.000444701588740045+0.000514072364562291i"," ",{"$f":"IMSUM(IMPRODUCT(定数!$F$38,計算!W68),IMPRODUCT(定数!$G$38,計算!X68),IMPRODUCT(定数!$H$38,計算!Y68),IMPRODUCT(定数!$I$38,計算!Z68))","v":"-0.000244541475021602-0.000217874699790367i"},{"$f":"IMSUM(IMPRODUCT(定数!$F$39,計算!W68),IMPRODUCT(定数!$G$39,計算!X68),IMPRODUCT(定数!$H$39,計算!Y68),IMPRODUCT(定数!$I$39,計算!Z68))","v":"0.000135692038222077+0.000297574970810897i"},{"$f":"IMSUM(IMPRODUCT(定数!$F$40,計算!W68),IMPRODUCT(定数!$G$40,計算!X68),IMPRODUCT(定数!$H$40,計算!Y68),IMPRODUCT(定数!$I$40,計算!Z68))","v":"0.0000586344716526988+0.000171313694713124i"},{"$f":"IMSUM(IMPRODUCT(定数!$F$41,計算!W68),IMPRODUCT(定数!$G$41,計算!X68),IMPRODUCT(定数!$H$41,計算!Y68),IMPRODUCT(定数!$I$41,計算!Z68))","v":"0.0000833643208145437-0.00029750660723137i"},{"$f":"IMSUM(IMPRODUCT(定数!$F$38,計算!AA68),IMPRODUCT(定数!$G$38,計算!AB68),IMPRODUCT(定数!$H$38,計算!AC68),IMPRODUCT(定数!$I$38,計算!AD68))","v":"-0.000292018802137111+0.000344751594392611i"},{"$f":"IMSUM(IMPRODUCT(定数!$F$39,計算!AA68),IMPRODUCT(定数!$G$39,計算!AB68),IMPRODUCT(定数!$H$39,計算!AC68),IMPRODUCT(定数!$I$39,計算!AD68))","v":"0.000401396856080582-0.000295668027941835i"},{"$f":"IMSUM(IMPRODUCT(定数!$F$40,計算!AA68),IMPRODUCT(定数!$G$40,計算!AB68),IMPRODUCT(定数!$H$40,計算!AC68),IMPRODUCT(定数!$I$40,計算!AD68))","v":"-0.0000331950671168181-0.000122764764542256i"},{"$f":"IMSUM(IMPRODUCT(定数!$F$41,計算!AA68),IMPRODUCT(定数!$G$41,計算!AB68),IMPRODUCT(定数!$H$41,計算!AC68),IMPRODUCT(定数!$I$41,計算!AD68))","v":"-0.000218903175971439+0.00025170971845877i"}," ","-0.000693415658217693+0.000640419622334446i"," ","-0.0000331950671168181-0.000122764764542256i","-0.000218903175971439+0.00025170971845877i"," "]
[null,null,null,null,null,null,null,null,null,null,null,null,null,null,null,null,null,null,null,null,null,null,null,null,null,null,null,null,null,null,null,null,null,null,null,null,null,null,null,null,null,null,null,null," "]
[null,null,null,null,null,null,null,null,null,null,null,null,null,null,null,null,null,null,null,null,null,null,null,null,null,null,null,null,null,null,null,null,null,null,null,null,null,null,null,null,null,null,null,null," "]
[null,null,null,null,null,null,null,null,null,null,null,null,null,null,null,null,null,null,null,null,null,null,null,null,null,null,null,null,null,null,null,null,null,null,null,null,null,null,null,null,null,null,null,null," "]
[null,null,null,null,null,null,null,null,null,null,null,null,null,null,null,null,null,null,null,null,null,null,null,null,null,null,null,null,null,null,null,null,null,null,null,null,null,null,null,null,null,null,null,null," "]
[null,null,null,null,null,null,null,null,null,null,null,null,null,null,null,null,null,null,null,null,null,null,null,null,null,null,null,null,null,null,null,null,null,null,null,null,null,null,null,null,null,null,null,null," "]
[null,null,null,null,null,null,null,null,null,null,null,null,null,null,null,null,null,null,null,null,null,null,null,null,null,null,null,null,null,null,null,null,null,null,null,null,null,null,null,null,null,null,null,null," "]
[null,null,null,null,null,null,null,null,null,null,null,null,null,null,null,null,null,null,null,null,null,null,null,null,null,null,null,null,null,null,null,null,null,null,null,null,null,null,null,null,null,null,null,null," "]
[null,null,null,null,null,null,null,null,null,null,null,null,null,null,null,null,null,null,null,null,null,null,null,null,null,null,null,null,null,null,null,null,null,null,null,null,null,null,null,null,null,null,null,null," "]
[null,null,null,null,null,null,null,null,null,null,null,null,null,null,null,null,null,null,null,null,null,null,null,null,null,null,null,null,null,null,null,null,null,null,null,null,null,null,null,null,null,null,null,null," "]
[null,null,null,null,null,null,null,null,null,null,null,null,null,null,null,null,null,null,null,null,null,null,null,null,null,null,null,null,null,null,null,null,null,null,null,null,null,null,null,null,null,null,null,null," "]
[null,null,null,null,null,null,null,null,null,null,null,null,null,null,null,null,null,null,null,null,null,null,null,null,null,null,null,null,null,null,null,null,null,null,null,null,null,null,null,null,null,null,null,null," "]
[null,null,null,null,null,null,null,null,null,null,null,null,null,null,null,null,null,null,null,null,null,null,null,null,null,null,null,null,null,null,null,null,null,null,null,null,null,null,null,null,null,null,null,null," "]
[null,null,null,null,null,null,null,null,null,null,null,null,null,null,null,null,null,null,null,null,null,null,null,null,null,null,null,null,null,null,null,null,null,null,null,null,null,null,null,null,null,null,null,null," "]
[null,null,null,null,null,null,null,null,null,null,null,null,null,null,null,null,null,null,null,null,null,null,null,null,null,null,null,null,null,null,null,null,null,null,null,null,null,null,null,null,null,null,null,null," "]
[null,null,null,null,null,null,null,null,null,null,null,null,null,null,null,null,null,null,null,null,null,null,null,null,null,null,null,null,null,null,null,null,null,null,null,null,null,null,null,null,null,null,null,null," "]
[null,null,null,null,null,null,null,null,null,null,null,null,null,null,null,null,null,null,null,null,null,null,null,null,null,null,null,null,null,null,null,null,null,null,null,null,null,null,null,null,null,null,null,null," "]
[null,null,null,null,null,null,null,null,null,null,null,null,null,null,null,null,null,null,null,null,null,null,null,null,null,null,null,null,null,null,null,null,null,null,null,null,null,null,null,null,null,null,null,null," "]
[null,null,null,null,null,null,null,null,null,null,null,null,null,null,null,null,null,null,null,null,null,null,null,null,null,null,null,null,null,null,null,null,null,null,null,null,null,null,null,null,null,null,null,null," "]
[null,null,null,null,null,null,null,null,null,null,null,null,null,null,null,null,null,null,null,null,null,null,null,null,null,null,null,null,null,null,null,null,null,null,null,null,null,null,null,null,null,null,null,null," "]
[null,null,null,null,null,null,null,null,null,null,null,null,null,null,null,null,null,null,null,null,null,null,null,null,null,null,null,null,null,null,null,null,null,null,null,null,null,null,null,null,null,null,null,null," "]
[null,null,null,null,null,null,null,null,null,null,null,null,null,null,null,null,null,null,null,null,null,null,null,null,null,null,null,null,null,null,null,null,null,null,null,null,null,null,null,null,null,null,null,null," "]
[null,null,null,null,null,null,null,null,null,null,null,null,null,null,null,null,null,null,null,null,null,null,null,null,null,null,null,null,null,null,null,null,null,null,null,null,null,null,null,null,null,null,null,null," "]
[null,null,null,null,null,null,null,null,null,null,null,null,null,null,null,null,null,null,null,null,null,null,null,null,null,null,null,null,null,null,null,null,null,null,null,null,null,null,null,null,null,null,null,null," "]
[null,null,null,null,null,null,null,null,null,null,null,null,null,null,null,null,null,null,null,null,null,null,null,null,null,null,null,null,null,null,null,null,null,null,null,null,null,null,null,null,null,null,null,null," "]
[null,null,null,null,null,null,null,null,null,null,null,null,null,null,null,null,null,null,null,null,null,null,null,null,null,null,null,null,null,null,null,null,null,null,null,null,null,null,null,null,null,null,null,null," "]
[null,null,null,null,null,null,null,null,null,null,null,null,null,null,null,null,null,null,null,null,null,null,null,null,null,null,null,null,null,null,null,null,null,null,null,null,null,null,null,null,null,null,null,null," "]
[null,null,null,null,null,null,null,null,null,null,null,null,null,null,null,null,null,null,null,null,null,null,null,null,null,null,null,null,null,null,null,null,null,null,null,null,null,null,null,null,null,null,null,null," "]
[null,null,null,null,null,null,null,null,null,null,null,null,null,null,null,null,null,null,null,null,null,null,null,null,null,null,null,null,null,null,null,null,null,null,null,null,null,null,null,null,null,null,null,null," "]
[null,null,null,null,null,null,null,null,null,null,null,null,null,null,null,null,null,null,null,null,null,null,null,null,null,null,null,null,null,null,null,null,null,null,null,null,null,null,null,null,null,null,null,null," "]
[null,null,null,null,null,null,null,null,null,null,null,null,null,null,null,null,null,null,null,null,null,null,null,null,null,null,null,null,null,null,null,null,null,null,null,null,null,null,null,null,null,null,null,null," "]
[null,null,null,null,null,null,null,null,null,null,null,null,null,null,null,null,null,null,null,null,null,null,null,null,null,null,null,null,null,null,null,null,null,null,null,null,null,null,null,null,null,null,null,null," "]
[null,null,null,null,null,null,null,null,null,null,null,null,null,null,null,null,null,null,null,null,null,null,null,null,null,null,null,null,null,null,null,null,null,null,null,null,null,null,null,null,null,null,null,null," "]
[null,null,null,null,null,null,null,null,null,null,null,null,null,null,null,null,null,null,null,null,null,null,null,null,null,null,null,null,null,null,null,null,null,null,null,null,null,null,null,null,null,null,null,null," "]
[null,null,null,null,null,null,null,null,null,null,null,null,null,null,null,null,null,null,null,null,null,null,null,null,null,null,null,null,null,null,null,null,null,null,null,null,null,null,null,null,null,null,null,null," "]
[null,null,null,null,null,null,null,null,null,null,null,null,null,null,null,null,null,null,null,null,null,null,null,null,null,null,null,null,null,null,null,null,null,null,null,null,null,null,null,null,null,null,null,null," "]
[null,null,null,null,null,null,null,null,null,null,null,null,null,null,null,null,null,null,null,null,null,null,null,null,null,null,null,null,null,null,null,null,null,null,null,null,null,null,null,null,null,null,null,null," "]
[null,null,null,null,null,null,null,null,null,null,null,null,null,null,null,null,null,null,null,null,null,null,null,null,null,null,null,null,null,null,null,null,null,null,null,null,null,null,null,null,null,null,null,null," "]
[null,null,null,null,null,null,null,null,null,null,null,null,null,null,null,null,null,null,null,null,null,null,null,null,null,null,null,null,null,null,null,null,null,null,null,null,null,null,null,null,null,null,null,null," "]
[null,null,null,null,null,null,null,null,null,null,null,null,null,null,null,null,null,null,null,null,null,null,null,null,null,null,null,null,null,null,null,null,null,null,null,null,null,null,null,null,null,null,null,null," "]
[null,null,null,null,null,null,null,null,null,null,null,null,null,null,null,null,null,null,null,null,null,null,null,null,null,null,null,null,null,null,null,null,null,null,null,null,null,null,null,null,null,null,null,null," "]
[null,null,null,null,null,null,null,null,null,null,null,null,null,null,null,null,null,null,null,null,null,null,null,null,null,null,null,null,null,null,null,null,null,null,null,null,null,null,null,null,null,null,null,null," "]
[null,null,null,null,null,null,null,null,null,null,null,null,null,null,null,null,null,null,null,null,null,null,null,null,null,null,null,null,null,null,null,null,null,null,null,null,null,null,null,null,null,null,null,null," "]
[null,null,null,null,null,null,null,null,null,null,null,null,null,null,null,null,null,null,null,null,null,null,null,null,null,null,null,null,null,null,null,null,null,null,null,null,null,null,null,null,null,null,null,null," "]
[null,null,null,null,null,null,null,null,null,null,null,null,null,null,null,null,null,null,null,null,null,null,null,null,null,null,null,null,null,null,null,null,null,null,null,null,null,null,null,null,null,null,null,null," "]
[null,null,null,null,null,null,null,null,null,null,null,null,null,null,null,null,null,null,null,null,null,null,null,null,null,null,null,null,null,null,null,null,null,null,null,null,null,null,null,null,null,null,null,null," "]
[null,null,null,null,null,null,null,null,null,null,null,null,null,null,null,null,null,null,null,null,null,null,null,null,null,null,null,null,null,null,null,null,null,null,null,null,null,null,null,null,null,null,null,null," "]
[null,null,null,null,null,null,null,null,null,null,null,null,null,null,null,null,null,null,null,null,null,null,null,null,null,null,null,null,null,null,null,null,null,null,null,null,null,null,null,null,null,null,null,null," "]
[null,null,null,null,null,null,null,null,null,null,null,null,null,null,null,null,null,null,null,null,null,null,null,null,null,null,null,null,null,null,null,null,null,null,null,null,null,null,null,null,null,null,null,null," "]
[null,null,null,null,null,null,null,null,null,null,null,null,null,null,null,null,null,null,null,null,null,null,null,null,null,null,null,null,null,null,null,null,null,null,null,null,null,null,null,null,null,null,null,null," "]
[null,null,null,null,null,null,null,null,null,null,null,null,null,null,null,null,null,null,null,null,null,null,null,null,null,null,null,null,null,null,null,null,null,null,null,null,null,null,null,null,null,null,null,null," "]
[null,null,null,null,null,null,null,null,null,null,null,null,null,null,null,null,null,null,null,null,null,null,null,null,null,null,null,null,null,null,null,null,null,null,null,null,null,null,null,null,null,null,null,null," "]
[null,null,null,null,null,null,null,null,null,null,null,null,null,null,null,null,null,null,null,null,null,null,null,null,null,null,null,null,null,null,null,null,null,null,null,null,null,null,null,null,null,null,null,null," "]
[null,null,null,null,null,null,null,null,null,null,null,null,null,null,null,null,null,null,null,null,null,null,null,null,null,null,null,null,null,null,null,null,null,null,null,null,null,null,null,null,null,null,null,null," "]
[null,null,null,null,null,null,null,null,null,null,null,null,null,null,null,null,null,null,null,null,null,null,null,null,null,null,null,null,null,null,null,null,null,null,null,null,null,null,null,null,null,null,null,null," "]
[null,null,null,null,null,null,null,null,null,null,null,null,null,null,null,null,null,null,null,null,null,null,null,null,null,null,null,null,null,null,null,null,null,null,null,null,null,null,null,null,null,null,null,null," "]
[null,null,null,null,null,null,null,null,null,null,null,null,null,null,null,null,null,null,null,null,null,null,null,null,null,null,null,null,null,null,null,null,null,null,null,null,null,null,null,null,null,null,null,null," "]
[null,null,null,null,null,null,null,null,null,null,null,null,null,null,null,null,null,null,null,null,null,null,null,null,null,null,null,null,null,null,null,null,null,null,null,null,null,null,null,null,null,null,null,null," "]
[null,null,null,null,null,null,null,null,null,null,null,null,null,null,null,null,null,null,null,null,null,null,null,null,null,null,null,null,null,null,null,null,null,null,null,null,null,null,null,null,null,null,null,null," "]
[null,null,null,null,null,null,null,null,null,null,null,null,null,null,null,null,null,null,null,null,null,null,null,null,null,null,null,null,null,null,null,null,null,null,null,null,null,null,null,null,null,null,null,null," "]
[null,null,null,null,null,null,null,null,null,null,null,null,null,null,null,null,null,null,null,null,null,null,null,null,null,null,null,null,null,null,null,null,null,null,null,null,null,null,null,null,null,null,null,null," "]
[null,null,null,null,null,null,null,null,null,null,null,null,null,null,null,null,null,null,null,null,null,null,null,null,null,null,null,null,null,null,null,null,null,null,null,null,null,null,null,null,null,null,null,null," "]
[null,null,null,null,null,null,null,null,null,null,null,null,null,null,null,null,null,null,null,null,null,null,null,null,null,null,null,null,null,null,null,null,null,null,null,null,null,null,null,null,null,null,null,null," "]
[null,null,null,null,null,null,null,null,null,null,null,null,null,null,null,null,null,null,null,null,null,null,null,null,null,null,null,null,null,null,null,null,null,null,null,null,null,null,null,null,null,null,null,null," "]

{"sheet":"掃き出し","index":7,"n_rows":68,"n_cols":352,"rows_kept":68,"cut":false,"hidden":true,"merged":[[0,344,0,345],[0,346,0,347],[0,348,0,349],[0,350,0,351],[0,333,0,335],[0,336,0,337],[0,338,0,339],[0,340,0,341],[0,342,0,343],[0,318,0,320],[0,321,0,323],[0,324,0,326],[0,327,0,329],[0,330,0,332],[0,300,0,303],[0,304,0,307],[0,308,0,311],[0,312,0,314],[0,315,0,317],[0,280,0,283],[0,284,0,287],[0,288,0,291],[0,292,0,295],[0,296,0,299],[0,255,0,259],[0,260,0,264],[0,265,0,269],[0,270,0,274],[0,275,0,279],[0,228,0,233],[0,234,0,239],[0,240,0,244],[0,245,0,249],[0,250,0,254],[0,198,0,203],[0,204,0,209],[0,210,0,215],[0,216,0,221],[0,222,0,227],[0,164,0,170],[0,171,0,177],[0,178,0,184],[0,185,0,191],[0,192,0,197],[0,128,0,135],[0,136,0,142],[0,143,0,149],[0,150,0,156],[0,157,0,163],[0,88,0,95],[0,96,0,103],[0,104,0,111],[0,112,0,119],[0,120,0,127],[0,45,0,53],[0,54,0,62],[0,63,0,71],[0,72,0,79],[0,80,0,87],[0,0,0,8],[0,9,0,17],[0,18,0,26],[0,27,0,35],[0,36,0,44]]}
[1,null,null,null,null,null,null,null,null,{"$f":"A1+1","v":2},null,null,null,null,null,null,null,null,{"$f":"J1+1","v":3},null,null,null,null,null,null,null,null,{"$f":"S1+1","v":4},null,null,null,null,null,null,null,null,{"$f":"AB1+1","v":5},null,null,null,null,null,null,null,null,{"$f":"AK1+1","v":6},null,null,null,null,null,null,null,null,{"$f":"AT1+1","v":7},null,null,null,null,null,null,null,null,{"$f":"BC1+1","v":8},null,null,null,null,null,null,null,null,1,null,null,null,null,null,null,null,{"$f":"BU1+1","v":2},null,null,null,null,null,null,null,{"$f":"CC1+1","v":3},null,null,null,null,null,null,null,{"$f":"CK1+1","v":4},null,null,null,null,null,null,null,{"$f":"CS1+1","v":5},null,null,null,null,null,null,null,{"$f":"DA1+1","v":6},null,null,null,null,null,null,null,{"$f":"DI1+1","v":7},null,null,null,null,null,null,null,{"$f":"DQ1+1","v":8},null,null,null,null,null,null,null,1,null,null,null,null,null,null,{"$f":"EG1+1","v":2},null,null,null,null,null,null,{"$f":"EN1+1","v":3},null,null,null,null,null,null,{"$f":"EU1+1","v":4},null,null,null,null,null,null,{"$f":"FB1+1","v":5},null,null,null,null,null,null,{"$f":"FI1+1","v":6},null,null,null,null,null,null,{"$f":"FP1+1","v":7},null,null,null,null,null,null,{"$f":"FW1+1","v":8},null,null,null,null,null,null,1,null,null,null,null,null,{"$f":"GK1+1","v":2},null,null,null,null,null,{"$f":"GQ1+1","v":3},null,null,null,null,null,{"$f":"GW1+1","v":4},null,null,null,null,null,{"$f":"HC1+1","v":5},null,null,null,null,null,{"$f":"HI1+1","v":6},null,null,null,null,null,{"$f":"HO1+1","v":7},null,null,null,null,null,{"$f":"HU1+1","v":8},null,null,null,null,null,1,null,null,null,null,{"$f":"IG1+1","v":2},null,null,null,null,{"$f":"IL1+1","v":3},null,null,null,null,{"$f":"IQ1+1","v":4},null,null,null,null,{"$f":"IV1+1","v":5},null,null,null,null,{"$f":"JA1+1","v":6},null,null,null,null,{"$f":"JF1+1","v":7},null,null,null,null,{"$f":"JK1+1","v":8},null,null,null,null,1,null,null,null,{"$f":"JU1+1","v":2},null,null,null,{"$f":"JY1+1","v":3},null,null,null,{"$f":"KC1+1","v":4},null,null,null,{"$f":"KG1+1","v":5},null,null,null,{"$f":"KK1+1","v":6},null,null,null,{"$f":"KO1+1","v":7},null,null,null,{"$f":"KS1+1","v":8},null,null,null,1,null,null,{"$f":"LA1+1","v":2},null,null,{"$f":"LD1+1","v":3},null,null,{"$f":"LG1+1","v":4},null,null,{"$f":"LJ1+1","v":5},null,null,{"$f":"LM1+1","v":6},null,null,{"$f":"LP1+1","v":7},null,null,{"$f":"LS1+1","v":8},null,null,1,null,{"$f":"LY1+1","v":2},null,{"$f":"MA1+1","v":3},null,{"$f":"MC1+1","v":4},null,{"$f":"ME1+1","v":5},null,{"$f":"MG1+1","v":6},null,{"$f":"MI1+1","v":7},null,{"$f":"MK1+1","v":8}]
["-1","+1","-2","+2","-3","+3","-4","+4","V","-1","+1","-2","+2","-3","+3","-4","+4","V","-1","+1","-2","+2","-3","+3","-4","+4","V","-1","+1","-2","+2","-3","+3","-4","+4","V","-1","+1","-2","+2","-3","+3","-4","+4","V","-1","+1","-2","+2","-3","+3","-4","+4","V","-1","+1","-2","+2","-3","+3","-4","+4","V","-1","+1","-2","+2","-3","+3","-4","+4","V","+1","-2","+2","-3","+3","-4","+4","V","+1","-2","+2","-3","+3","-4","+4","V","+1","-2","+2","-3","+3","-4","+4","V","+1","-2","+2","-3","+3","-4","+4","V","+1","-2","+2","-3","+3","-4","+4","V","+1","-2","+2","-3","+3","-4","+4","V","+1","-2","+2","-3","+3","-4","+4","V","+1","-2","+2","-3","+3","-4","+4","V","-2","+2","-3","+3","-4","+4","V","-2","+2","-3","+3","-4","+4","V","-2","+2","-3","+3","-4","+4","V","-2","+2","-3","+3","-4","+4","V","-2","+2","-3","+3","-4","+4","V","-2","+2","-3","+3","-4","+4","V","-2","+2","-3","+3","-4","+4","V","-2","+2","-3","+3","-4","+4","V","+2","-3","+3","-4","+4","V","+2","-3","+3","-4","+4","V","+2","-3","+3","-4","+4","V","+2","-3","+3","-4","+4","V","+2","-3","+3","-4","+4","V","+2","-3","+3","-4","+4","V","+2","-3","+3","-4","+4","V","+2","-3","+3","-4","+4","V","-3","+3","-4","+4","V","-3","+3","-4","+4","V","-3","+3","-4","+4","V","-3","+3","-4","+4","V","-3","+3","-4","+4","V","-3","+3","-4","+4","V","-3","+3","-4","+4","V","-3","+3","-4","+4","V","+3","-4","+4","V","+3","-4","+4","V","+3","-4","+4","V","+3","-4","+4","V","+3","-4","+4","V","+3","-4","+4","V","+3","-4","+4","V","+3","-4","+4","V","-4","+4","V","-4","+4","V","-4","+4","V","-4","+4","V","-4","+4","V","-4","+4","V","-4","+4","V","-4","+4","V","+4","V","+4","V","+4","V","+4","V","+4","V","+4","V","+4","V","+4","V"]
[]
[{"$f":"COMPLEX(定数!O$13,計算!B4*定数!O$23)","v":"74.3688188913563"},{"$f":"COMPLEX(定数!P$13,計算!B4*定数!P$23)","v":"-73.4757772913563"},{"$f":"COMPLEX(定数!Q$13,計算!B4*定数!Q$23)","v":"125.193786513619"},{"$f":"COMPLEX(定数!R$13,計算!B4*定数!R$23)","v":"-123.916114913619"},{"$f":"COMPLEX(定数!S$13,計算!B4*定数!S$23)","v":"-77.7867441135484"},{"$f":"COMPLEX(定数!T$13,計算!B4*定数!T$23)","v":"77.2000539135484"},{"$f":"COMPLEX(定数!U$13,計算!B4*定数!U$23)","v":"124.646605989444"},{"$f":"COMPLEX(定数!V$13,計算!B4*定数!V$23)","v":"-123.576013789444"},{"$f":"IMPRODUCT(定数!D$31,計算!G4)","v":"-94.5176471868841"},{"$f":"COMPLEX(定数!O$14,計算!B4*定数!O$24)","v":"86.1948356167649"},{"$f":"COMPLEX(定数!P$14,計算!B4*定数!P$24)","v":"-85.0982474167649"},{"$f":"COMPLEX(定数!Q$14,計算!B4*定数!Q$24)","v":"57.0863694248256"},{"$f":"COMPLEX(定数!R$14,計算!B4*定数!R$24)","v":"-56.4801756248256"},{"$f":"COMPLEX(定数!S$14,計算!B4*定数!S$24)","v":"163.969671876329"},{"$f":"COMPLEX(定数!T$14,計算!B4*定数!T$24)","v":"-162.682801076329"},{"$f":"COMPLEX(定数!U$14,計算!B4*定数!U$24)","v":"-101.525845343051"},{"$f":"COMPLEX(定数!V$14,計算!B4*定数!V$24)","v":"100.601901343051"},{"$f":"IMPRODUCT(定数!D$32,計算!G4)","v":"94.5176471868841"},{"$f":"COMPLEX(定数!O$15,計算!B4*定数!O$25)","v":"86.1919999827348"},{"$f":"COMPLEX(定数!P$15,計算!B4*定数!P$25)","v":"-85.0954239827348"},{"$f":"COMPLEX(定数!Q$15,計算!B4*定数!Q$25)","v":"-57.0828842529623"},{"$f":"COMPLEX(定数!R$15,計算!B4*定数!R$25)","v":"56.4766926529622"},{"$f":"COMPLEX(定数!S$15,計算!B4*定数!S$25)","v":"-163.956966054068"},{"$f":"COMPLEX(定数!T$15,計算!B4*定数!T$25)","v":"162.670209254068"},{"$f":"COMPLEX(定数!U$15,計算!B4*定数!U$25)","v":"-101.548680976766"},{"$f":"COMPLEX(定数!V$15,計算!B4*定数!V$25)","v":"100.624555376766"},{"$f":"IMPRODUCT(定数!D$33,計算!G4)","v":"0"},{"$f":"COMPLEX(定数!O$16,計算!B4*定数!O$26)","v":"74.3664237452132"},{"$f":"COMPLEX(定数!P$16,計算!B4*定数!P$26)","v":"-73.4733997452132"},{"$f":"COMPLEX(定数!Q$16,計算!B4*定数!Q$26)","v":"-125.201328746793"},{"$f":"COMPLEX(定数!R$16,計算!B4*定数!R$26)","v":"123.923590146793"},{"$f":"COMPLEX(定数!S$16,計算!B4*定数!S$26)","v":"77.7704269443536"},{"$f":"COMPLEX(定数!T$16,計算!B4*定数!T$26)","v":"-77.1838991443536"},{"$f":"COMPLEX(定数!U$16,計算!B4*定数!U$26)","v":"124.65071095008"},{"$f":"COMPLEX(定数!V$16,計算!B4*定数!V$26)","v":"-123.58012635008"},{"$f":"IMPRODUCT(定数!D$34,計算!G4)","v":"0"},{"$f":"IMDIV(COMPLEX(定数!O$17,計算!B4*定数!O$27),計算!R4)","v":"0.132351033539209"},{"$f":"IMPRODUCT(COMPLEX(定数!P$17,計算!B4*定数!P$27),計算!R4)","v":"0.760690566460791"},{"$f":"IMDIV(COMPLEX(定数!Q$17,計算!B4*定数!Q$27),計算!S4)","v":"0.109477260187387"},{"$f":"IMPRODUCT(COMPLEX(定数!R$17,計算!B4*定数!R$27),計算!S4)","v":"1.16819433981261"},{"$f":"IMDIV(COMPLEX(定数!S$17,計算!B4*定数!S$27),計算!T4)","v":"0.0360018453594568"},{"$f":"IMPRODUCT(COMPLEX(定数!T$17,計算!B4*定数!T$27),計算!T4)","v":"-0.622692045359457"},{"$f":"IMDIV(COMPLEX(定数!U$17,計算!B4*定数!U$27),計算!U4)","v":"0.00782303368756465"},{"$f":"IMPRODUCT(COMPLEX(定数!V$17,計算!B4*定数!V$27),計算!U4)","v":"1.06276916631244"},{"$f":"IMPRODUCT(定数!E$31,計算!G4)","v":"0"},{"$f":"IMDIV(COMPLEX(定数!O$18,計算!B4*定数!O$28),計算!R4)","v":"0.184296306167135"},{"$f":"IMPRODUCT(COMPLEX(定数!P$18,計算!B4*定数!P$28),計算!R4)","v":"0.912291893832865"},{"$f":"IMDIV(COMPLEX(定数!Q$18,計算!B4*定数!Q$28),計算!S4)","v":"0.0617679968171317"},{"$f":"IMPRODUCT(COMPLEX(定数!R$18,計算!B4*定数!R$28),計算!S4)","v":"0.544425803182868"},{"$f":"IMDIV(COMPLEX(定数!S$18,計算!B4*定数!S$28),計算!T4)","v":"-0.0507010905058263"},{"$f":"IMPRODUCT(COMPLEX(定数!T$18,計算!B4*定数!T$28),計算!T4)","v":"1.33757189050583"},{"$f":"IMDIV(COMPLEX(定数!U$18,計算!B4*定数!U$28),計算!U4)","v":"-0.0324505472759126"},{"$f":"IMPRODUCT(COMPLEX(定数!V$18,計算!B4*定数!V$28),計算!U4)","v":"-0.891493452724087"},{"$f":"IMPRODUCT(定数!E$32,計算!G4)","v":"0"},{"$f":"IMDIV(COMPLEX(定数!O$19,計算!B4*定数!O$29),計算!R4)","v":"0.184302228057148"},{"$f":"IMPRODUCT(COMPLEX(定数!P$19,計算!B4*定数!P$29),計算!R4)","v":"0.912273771942852"},{"$f":"IMDIV(COMPLEX(定数!Q$19,計算!B4*定数!Q$29),計算!S4)","v":"-0.061781701716058"},{"$f":"IMPRODUCT(COMPLEX(定数!R$19,計算!B4*定数!R$29),計算!S4)","v":"-0.544409898283942"},{"$f":"IMDIV(COMPLEX(定数!S$19,計算!B4*定数!S$29),計算!T4)","v":"0.0507043399331532"},{"$f":"IMPRODUCT(COMPLEX(定数!T$19,計算!B4*定数!T$29),計算!T4)","v":"-1.33746113993315"},{"$f":"IMDIV(COMPLEX(定数!U$19,計算!B4*定数!U$29),計算!U4)","v":"-0.0324446774508536"},{"$f":"IMPRODUCT(COMPLEX(定数!V$19,計算!B4*定数!V$29),計算!U4)","v":"-0.891680922549146"},{"$f":"IMPRODUCT(定数!E$33,計算!G4)","v":"0"},{"$f":"IMDIV(COMPLEX(定数!O$20,計算!B4*定数!O$30),計算!R4)","v":"0.132352374968467"},{"$f":"IMPRODUCT(COMPLEX(定数!P$20,計算!B4*定数!P$30),計算!R4)","v":"0.760671625031533"},{"$f":"IMDIV(COMPLEX(定数!Q$20,計算!B4*定数!Q$30),計算!S4)","v":"-0.109478847158393"},{"$f":"IMPRODUCT(COMPLEX(定数!R$20,計算!B4*定数!R$30),計算!S4)","v":"-1.16825975284161"},{"$f":"IMDIV(COMPLEX(定数!S$20,計算!B4*定数!S$30),計算!T4)","v":"-0.0360140430583834"},{"$f":"IMPRODUCT(COMPLEX(定数!T$20,計算!B4*定数!T$30),計算!T4)","v":"0.622541843058383"},{"$f":"IMDIV(COMPLEX(定数!U$20,計算!B4*定数!U$30),計算!U4)","v":"0.00780177054511466"},{"$f":"IMPRODUCT(COMPLEX(定数!V$20,計算!B4*定数!V$30),計算!U4)","v":"1.06278282945489"},{"$f":"IMPRODUCT(定数!E$34,計算!G4)","v":"0"},{"$f":"IMDIV(B4,A4)","v":"-0.987991720006948"},{"$f":"IMDIV(C4,A4)","v":"1.68341770623669"},{"$f":"IMDIV(D4,A4)","v":"-1.66623750062032"},{"$f":"IMDIV(E4,A4)","v":"-1.04595911664518"},{"$f":"IMDIV(F4,A4)","v":"1.03807018942076"},{"$f":"IMDIV(G4,A4)","v":"1.67606004569654"},{"$f":"IMDIV(H4,A4)","v":"-1.66166433233226"},{"$f":"IMDIV(I4,A4)","v":"-1.27093113210474"},{"$f":"IMSUB(K4,IMPRODUCT(BU4,J4))","v":"0.0615364799587894"},{"$f":"IMSUB(L4,IMPRODUCT(BV4,J4))","v":"-88.0155430385974"},{"$f":"IMSUB(M4,IMPRODUCT(BW4,J4))","v":"87.1408918396324"},{"$f":"IMSUB(N4,IMPRODUCT(BX4,J4))","v":"254.125945997417"},{"$f":"IMSUB(O4,IMPRODUCT(BY4,J4))","v":"-252.159090412115"},{"$f":"IMSUB(P4,IMPRODUCT(BZ4,J4))","v":"-245.993565465692"},{"$f":"IMSUB(Q4,IMPRODUCT(CA4,J4))","v":"243.828785318672"},{"$f":"IMSUB(R4,IMPRODUCT(CB4,J4))","v":"204.065347198881"},{"$f":"IMSUB(T4,IMPRODUCT(BU4,S4))","v":"0.0615583310462"},{"$f":"IMSUB(U4,IMPRODUCT(BV4,S4))","v":"-202.18002315985"},{"$f":"IMSUB(V4,IMPRODUCT(BW4,S4))","v":"200.093035277661"},{"$f":"IMSUB(W4,IMPRODUCT(BX4,S4))","v":"-73.8036578902453"},{"$f":"IMSUB(X4,IMPRODUCT(BY4,S4))","v":"73.1968635054363"},{"$f":"IMSUB(Y4,IMPRODUCT(BZ4,S4))","v":"-246.011648406505"},{"$f":"IMSUB(Z4,IMPRODUCT(CA4,S4))","v":"243.846727480459"},{"$f":"IMSUB(AA4,IMPRODUCT(CB4,S4))","v":"109.544096116429"},{"$f":"IMSUB(AC4,IMPRODUCT(BU4,AB4))","v":"0.0000111615855047376"},{"$f":"IMSUB(AD4,IMPRODUCT(BV4,AB4))","v":"-250.391083228986"},{"$f":"IMSUB(AE4,IMPRODUCT(BW4,AB4))","v":"247.835714178089"},{"$f":"IMSUB(AF4,IMPRODUCT(BX4,AB4))","v":"155.554665832958"},{"$f":"IMSUB(AG4,IMPRODUCT(BY4,AB4))","v":"-154.381466728092"},{"$f":"IMSUB(AH4,IMPRODUCT(BZ4,AB4))","v":"0.00811936939000191"},{"$f":"IMSUB(AI4,IMPRODUCT(CA4,AB4))","v":"-0.00809248955199848"},{"$f":"IMSUB(AJ4,IMPRODUCT(CB4,AB4))","v":"94.5146031210846"},{"$f":"IMSUB(AL4,IMPRODUCT(BU4,AK4))","v":"0.891452291731891"},{"$f":"IMSUB(AM4,IMPRODUCT(BV4,AK4))","v":"-0.113324813111243"},{"$f":"IMSUB(AN4,IMPRODUCT(BW4,AK4))","v":"1.3887225951415"},{"$f":"IMSUB(AO4,IMPRODUCT(BX4,AK4))","v":"0.174435615487205"},{"$f":"IMSUB(AP4,IMPRODUCT(BY4,AK4))","v":"-0.760081707815537"},{"$f":"IMSUB(AQ4,IMPRODUCT(BZ4,AK4))","v":"-0.214005245634146"},{"$f":"IMSUB(AR4,IMPRODUCT(CA4,AK4))","v":"1.28269215809185"},{"$f":"IMSUB(AS4,IMPRODUCT(CB4,AK4))","v":"0.168209048891219"},{"$f":"IMSUB(AU4,IMPRODUCT(BU4,AT4))","v":"1.09437511835386"},{"$f":"IMSUB(AV4,IMPRODUCT(BV4,AT4))","v":"-0.248479668178641"},{"$f":"IMSUB(AW4,IMPRODUCT(BW4,AT4))","v":"0.851507219744352"},{"$f":"IMSUB(AX4,IMPRODUCT(BX4,AT4))","v":"0.14206531109372"},{"$f":"IMSUB(AY4,IMPRODUCT(BY4,AT4))","v":"1.14625938905337"},{"$f":"IMSUB(AZ4,IMPRODUCT(BZ4,AT4))","v":"-0.341342222612105"},{"$f":"IMSUB(BA4,IMPRODUCT(CA4,AT4))","v":"-0.585254854185573"},{"$f":"IMSUB(BB4,IMPRODUCT(CB4,AT4))","v":"0.234227913039719"},{"$f":"IMSUB(BD4,IMPRODUCT(BU4,BC4))","v":"1.09436284724215"},{"$f":"IMSUB(BE4,IMPRODUCT(BV4,BC4))","v":"-0.372039335726333"},{"$f":"IMSUB(BF4,IMPRODUCT(BW4,BC4))","v":"-0.237318614447244"},{"$f":"IMSUB(BG4,IMPRODUCT(BX4,BC4))","v":"0.243476935587546"},{"$f":"IMSUB(BH4,IMPRODUCT(BY4,BC4))","v":"-1.5287797887231"},{"$f":"IMSUB(BI4,IMPRODUCT(BZ4,BC4))","v":"-0.341346278230292"},{"$f":"IMSUB(BJ4,IMPRODUCT(CA4,BC4))","v":"-0.585432483817217"},{"$f":"IMSUB(BK4,IMPRODUCT(CB4,BC4))","v":"0.234235439354097"},{"$f":"IMSUB(BM4,IMPRODUCT(BU4,BL4))","v":"0.891434675623633"},{"$f":"IMSUB(BN4,IMPRODUCT(BV4,BL4))","v":"-0.332283178642788"},{"$f":"IMSUB(BO4,IMPRODUCT(BW4,BL4))","v":"-0.947729262372988"},{"$f":"IMSUB(BP4,IMPRODUCT(BX4,BL4))","v":"0.102421130149526"},{"$f":"IMSUB(BQ4,IMPRODUCT(BY4,BL4))","v":"0.485150788104579"},{"$f":"IMSUB(BR4,IMPRODUCT(BZ4,BL4))","v":"-0.214028757092579"},{"$f":"IMSUB(BS4,IMPRODUCT(CA4,BL4))","v":"1.28270805023946"},{"$f":"IMSUB(BT4,IMPRODUCT(CB4,BL4))","v":"0.168210753755425"},{"$f":"IMSUB(BV4,IMPRODUCT(EN4,BU4))","v":"-1411.43978681058"},{"$f":"IMSUB(BW4,IMPRODUCT(EO4,BU4))","v":"1397.41410751156"},{"$f":"IMSUB(BX4,IMPRODUCT(EP4,BU4))","v":"4079.04329286079"},{"$f":"IMSUB(BY4,IMPRODUCT(EQ4,BU4))","v":"-4047.47256315351"},{"$f":"IMSUB(BZ4,IMPRODUCT(ER4,BU4))","v":"-3947.84471231329"},{"$f":"IMSUB(CA4,IMPRODUCT(ES4,BU4))","v":"3913.10273485867"},{"$f":"IMSUB(CB4,IMPRODUCT(ET4,BU4))","v":"3275.0762617502"},{"$f":"IMDIV(CD4,CC4)","v":"-1430.29863095096"},{"$f":"IMDIV(CE4,CC4)","v":"1416.08509128228"},{"$f":"IMDIV(CF4,CC4)","v":"4129.67960090671"},{"$f":"IMDIV(CG4,CC4)","v":"-4097.71716843382"},{"$f":"IMDIV(CH4,CC4)","v":"-3997.52416177254"},{"$f":"IMDIV(CI4,CC4)","v":"3962.34535160221"},{"$f":"IMDIV(CJ4,CC4)","v":"3316.16867483389"},{"$f":"IMSUB(CL4,IMPRODUCT(EN4,CK4))","v":"-114.133226540844"},{"$f":"IMSUB(CM4,IMPRODUCT(EO4,CK4))","v":"112.921200438918"},{"$f":"IMSUB(CN4,IMPRODUCT(EP4,CK4))","v":"-328.019841877599"},{"$f":"IMSUB(CO4,IMPRODUCT(EQ4,CK4))","v":"325.445493493582"},{"$f":"IMSUB(CP4,IMPRODUCT(ER4,CK4))","v":"0.0692673090719893"},{"$f":"IMSUB(CQ4,IMPRODUCT(ES4,CK4))","v":"-0.0686393928419875"},{"$f":"IMSUB(CR4,IMPRODUCT(ET4,CK4))","v":"-94.593712974034"},{"$f":"IMSUB(CT4,IMPRODUCT(EN4,CS4))","v":"-250.375118828519"},{"$f":"IMSUB(CU4,IMPRODUCT(EO4,CS4))","v":"247.819908423261"},{"$f":"IMSUB(CV4,IMPRODUCT(EP4,CS4))","v":"155.508572060985"},{"$f":"IMSUB(CW4,IMPRODUCT(EQ4,CS4))","v":"-154.335729707542"},{"$f":"IMSUB(CX4,IMPRODUCT(ER4,CS4))","v":"0.0527380771288806"},{"$f":"IMSUB(CY4,IMPRODUCT(ES4,CS4))","v":"-0.0523185459932061"},{"$f":"IMSUB(CZ4,IMPRODUCT(ET4,CS4))","v":"94.4775894208723"},{"$f":"IMSUB(DB4,IMPRODUCT(EN4,DA4))","v":"1274.92966760911"},{"$f":"IMSUB(DC4,IMPRODUCT(EO4,DA4))","v":"-1260.98357731581"},{"$f":"IMSUB(DD4,IMPRODUCT(EP4,DA4))","v":"-3681.23790873124"},{"$f":"IMSUB(DE4,IMPRODUCT(EQ4,DA4))","v":"3652.15927896162"},{"$f":"IMSUB(DF4,IMPRODUCT(ER4,DA4))","v":"3563.38807002011"},{"$f":"IMSUB(DG4,IMPRODUCT(ES4,DA4))","v":"-3530.95915216091"},{"$f":"IMSUB(DH4,IMPRODUCT(ET4,DA4))","v":"-2956.03795590129"},{"$f":"IMSUB(DJ4,IMPRODUCT(EN4,DI4))","v":"1565.03475386014"},{"$f":"IMSUB(DK4,IMPRODUCT(EO4,DI4))","v":"-1548.87678215144"},{"$f":"IMSUB(DL4,IMPRODUCT(EP4,DI4))","v":"-4519.27653669471"},{"$f":"IMSUB(DM4,IMPRODUCT(EQ4,DI4))","v":"4485.58597057446"},{"$f":"IMSUB(DN4,IMPRODUCT(ER4,DI4))","v":"4374.44963543963"},{"$f":"IMSUB(DO4,IMPRODUCT(ES4,DI4))","v":"-4336.87741797273"},{"$f":"IMSUB(DP4,IMPRODUCT(ET4,DI4))","v":"-3628.89825808966"},{"$f":"IMSUB(DR4,IMPRODUCT(EN4,DQ4))","v":"1564.89364283831"},{"$f":"IMSUB(DS4,IMPRODUCT(EO4,DQ4))","v":"-1549.94823104729"},{"$f":"IMSUB(DT4,IMPRODUCT(EP4,DQ4))","v":"-4519.1244493105"},{"$f":"IMSUB(DU4,IMPRODUCT(EQ4,DQ4))","v":"4482.86064785156"},{"$f":"IMSUB(DV4,IMPRODUCT(ER4,DQ4))","v":"4374.40057731846"},{"$f":"IMSUB(DW4,IMPRODUCT(ES4,DQ4))","v":"-4336.82897321991"},{"$f":"IMSUB(DX4,IMPRODUCT(ET4,DQ4))","v":"-3628.85755748709"},{"$f":"IMSUB(DZ4,IMPRODUCT(EN4,DY4))","v":"1274.68551294806"},{"$f":"IMSUB(EA4,IMPRODUCT(EO4,DY4))","v":"-1263.29508326505"},{"$f":"IMSUB(EB4,IMPRODUCT(EP4,DY4))","v":"-3681.23717433366"},{"$f":"IMSUB(EC4,IMPRODUCT(EQ4,DY4))","v":"3653.33232562829"},{"$f":"IMSUB(ED4,IMPRODUCT(ER4,DY4))","v":"3563.31762569025"},{"$f":"IMSUB(EE4,IMPRODUCT(ES4,DY4))","v":"-3530.88933516409"},{"$f":"IMSUB(EF4,IMPRODUCT(ET4,DY4))","v":"-2955.97953621004"},{"$f":"IMSUB(EH4,IMPRODUCT(GW4,EG4))","v":"0.962960860900012"},{"$f":"IMSUB(EI4,IMPRODUCT(GX4,EG4))","v":"8135.53297357332"},{"$f":"IMSUB(EJ4,IMPRODUCT(GY4,EG4))","v":"-8072.12631103176"},{"$f":"IMSUB(EK4,IMPRODUCT(GZ4,EG4))","v":"-3948.70131331295"},{"$f":"IMSUB(EL4,IMPRODUCT(HA4,EG4))","v":"3913.95157067043"},{"$f":"IMSUB(EM4,IMPRODUCT(HB4,EG4))","v":"4444.87872962236"},{"$f":"IMSUB(EO4,IMPRODUCT(GW4,EN4))","v":"0.975370053780125"},{"$f":"IMSUB(EP4,IMPRODUCT(GX4,EN4))","v":"8240.36975645386"},{"$f":"IMSUB(EQ4,IMPRODUCT(GY4,EN4))","v":"-8176.14601777903"},{"$f":"IMSUB(ER4,IMPRODUCT(GZ4,EN4))","v":"-3998.39220818057"},{"$f":"IMSUB(ES4,IMPRODUCT(HA4,EN4))","v":"3963.20552906838"},{"$f":"IMSUB(ET4,IMPRODUCT(HB4,EN4))","v":"4501.60136839672"},{"$f":"IMDIV(EV4,EU4)","v":"-0.989380602488336"},{"$f":"IMDIV(EW4,EU4)","v":"2.874008313085"},{"$f":"IMDIV(EX4,EU4)","v":"-2.85145266945658"},{"$f":"IMDIV(EY4,EU4)","v":"-0.000606898719779915"},{"$f":"IMDIV(EZ4,EU4)","v":"0.000601397112149669"},{"$f":"IMDIV(FA4,EU4)","v":"0.828800830757049"},{"$f":"IMSUB(FC4,IMPRODUCT(GW4,FB4))","v":"0.103622508612006"},{"$f":"IMSUB(FD4,IMPRODUCT(GX4,FB4))","v":"875.088744963793"},{"$f":"IMSUB(FE4,IMPRODUCT(GY4,FB4))","v":"-868.268530656631"},{"$f":"IMSUB(FF4,IMPRODUCT(GZ4,FB4))","v":"-0.0992142619528914"},{"$f":"IMSUB(FG4,IMPRODUCT(HA4,FB4))","v":"0.0982563274243959"},{"$f":"IMSUB(FH4,IMPRODUCT(HB4,FB4))","v":"301.988695906843"},{"$f":"IMSUB(FJ4,IMPRODUCT(GW4,FI4))","v":"0.407105353550151"},{"$f":"IMSUB(FK4,IMPRODUCT(GX4,FI4))","v":"-7345.39637203852"},{"$f":"IMSUB(FL4,IMPRODUCT(GY4,FI4))","v":"7287.56088303501"},{"$f":"IMSUB(FM4,IMPRODUCT(GZ4,FI4))","v":"3564.16182320319"},{"$f":"IMSUB(FN4,IMPRODUCT(HA4,FI4))","v":"-3531.7258911812"},{"$f":"IMSUB(FO4,IMPRODUCT(HB4,FI4))","v":"-4012.70072357253"},{"$f":"IMSUB(FQ4,IMPRODUCT(GW4,FP4))","v":"-0.461754462110093"},{"$f":"IMSUB(FR4,IMPRODUCT(GX4,FP4))","v":"-9017.19942955569"},{"$f":"IMSUB(FS4,IMPRODUCT(GY4,FP4))","v":"8948.20849726128"},{"$f":"IMSUB(FT4,IMPRODUCT(GZ4,FP4))","v":"4375.39945302816"},{"$f":"IMSUB(FU4,IMPRODUCT(HA4,FP4))","v":"-4337.81862535412"},{"$f":"IMSUB(FV4,IMPRODUCT(HB4,FP4))","v":"-4926.0003622526"},{"$f":"IMSUB(FX4,IMPRODUCT(GW4,FW4))","v":"-1.67281586575996"},{"$f":"IMSUB(FY4,IMPRODUCT(GX4,FW4))","v":"-9016.64178792167"},{"$f":"IMSUB(FZ4,IMPRODUCT(GY4,FW4))","v":"8945.08080313849"},{"$f":"IMSUB(GA4,IMPRODUCT(GZ4,FW4))","v":"4375.35030926689"},{"$f":"IMSUB(GB4,IMPRODUCT(HA4,FW4))","v":"-4337.77009573753"},{"$f":"IMSUB(GC4,IMPRODUCT(HB4,FW4))","v":"-4925.84270871791"},{"$f":"IMSUB(GE4,IMPRODUCT(GW4,GD4))","v":"-2.14596248133989"},{"$f":"IMSUB(GF4,IMPRODUCT(GX4,GD4))","v":"-7344.6939351154"},{"$f":"IMSUB(GG4,IMPRODUCT(GY4,GD4))","v":"7288.03773424167"},{"$f":"IMSUB(GH4,IMPRODUCT(GZ4,GD4))","v":"3564.09123069618"},{"$f":"IMSUB(GI4,IMPRODUCT(HA4,GD4))","v":"-3531.65592735048"},{"$f":"IMSUB(GJ4,IMPRODUCT(HB4,GD4))","v":"-4012.43994829537"},{"$f":"IMSUB(GL4,IMPRODUCT(IV4,GK4))","v":"3.35954425132059"},{"$f":"IMSUB(GM4,IMPRODUCT(IW4,GK4))","v":"-3.3329284652209"},{"$f":"IMSUB(GN4,IMPRODUCT(IX4,GK4))","v":"-3947.77931815588"},{"$f":"IMSUB(GO4,IMPRODUCT(IY4,GK4))","v":"3913.03847757017"},{"$f":"IMSUB(GP4,IMPRODUCT(IZ4,GK4))","v":"1638.50684683596"},{"$f":"IMSUB(GR4,IMPRODUCT(IV4,GQ4))","v":"3.40109326879974"},{"$f":"IMSUB(GS4,IMPRODUCT(IW4,GQ4))","v":"-3.37414817360059"},{"$f":"IMSUB(GT4,IMPRODUCT(IX4,GQ4))","v":"-3997.45833173507"},{"$f":"IMSUB(GU4,IMPRODUCT(IY4,GQ4))","v":"3962.28066939602"},{"$f":"IMSUB(GV4,IMPRODUCT(IZ4,GQ4))","v":"1659.06518091129"},{"$f":"IMSUB(GX4,IMPRODUCT(IV4,GW4))","v":"8358.16130370989"},{"$f":"IMSUB(GY4,IMPRODUCT(IW4,GW4))","v":"-8293.01980980947"},{"$f":"IMSUB(GZ4,IMPRODUCT(IX4,GW4))","v":"-0.947897864565149"},{"$f":"IMSUB(HA4,IMPRODUCT(IY4,GW4))","v":"0.93874606980517"},{"$f":"IMSUB(HB4,IMPRODUCT(IZ4,GW4))","v":"2884.19614932556"},{"$f":"IMDIV(HD4,HC4)","v":"8444.96776506724"},{"$f":"IMDIV(HE4,HC4)","v":"-8379.14988053118"},{"$f":"IMDIV(HF4,HC4)","v":"-0.957458599312429"},{"$f":"IMDIV(HG4,HC4)","v":"0.948214135524332"},{"$f":"IMDIV(HH4,HC4)","v":"2914.31562458674"},{"$f":"IMSUB(HJ4,IMPRODUCT(IV4,HI4))","v":"-10783.3879597558"},{"$f":"IMSUB(HK4,IMPRODUCT(IW4,HI4))","v":"10698.7576575984"},{"$f":"IMSUB(HL4,IMPRODUCT(IX4,HI4))","v":"3564.55160972477"},{"$f":"IMSUB(HM4,IMPRODUCT(IY4,HI4))","v":"-3532.11191423208"},{"$f":"IMSUB(HN4,IMPRODUCT(IZ4,HI4))","v":"-5199.13421627664"},{"$f":"IMSUB(HP4,IMPRODUCT(IV4,HO4))","v":"-5117.69788165999"},{"$f":"IMSUB(HQ4,IMPRODUCT(IW4,HO4))","v":"5079.09865123675"},{"$f":"IMSUB(HR4,IMPRODUCT(IX4,HO4))","v":"4374.95734224764"},{"$f":"IMSUB(HS4,IMPRODUCT(IY4,HO4))","v":"-4337.38078324601"},{"$f":"IMSUB(HT4,IMPRODUCT(IZ4,HO4))","v":"-3580.30211860251"},{"$f":"IMSUB(HV4,IMPRODUCT(IV4,HU4))","v":"5110.23427531423"},{"$f":"IMSUB(HW4,IMPRODUCT(IW4,HU4))","v":"-5071.69405859471"},{"$f":"IMSUB(HX4,IMPRODUCT(IX4,HU4))","v":"4373.74865733115"},{"$f":"IMSUB(HY4,IMPRODUCT(IY4,HU4))","v":"-4336.18390808749"},{"$f":"IMSUB(HZ4,IMPRODUCT(IZ4,HU4))","v":"-50.7292940770594"},{"$f":"IMSUB(IB4,IMPRODUCT(IV4,IA4))","v":"10777.8900448437"},{"$f":"IMSUB(IC4,IMPRODUCT(IW4,IA4))","v":"-10693.3035349018"},{"$f":"IMSUB(ID4,IMPRODUCT(IX4,IA4))","v":"3562.03656046462"},{"$f":"IMSUB(IE4,IMPRODUCT(IY4,IA4))","v":"-3529.62109539137"},{"$f":"IMSUB(IF4,IMPRODUCT(IZ4,IA4))","v":"2241.5720408504"},{"$f":"IMSUB(IH4,IMPRODUCT(KK4,IG4))","v":"0.000249374526489987"},{"$f":"IMSUB(II4,IMPRODUCT(KL4,IG4))","v":"-3946.6687888015"},{"$f":"IMSUB(IJ4,IMPRODUCT(KM4,IG4))","v":"3911.93805474195"},{"$f":"IMSUB(IK4,IMPRODUCT(KN4,IG4))","v":"1636.88706634273"},{"$f":"IMSUB(IM4,IMPRODUCT(KK4,IL4))","v":"0.000252598177040042"},{"$f":"IMSUB(IN4,IMPRODUCT(KL4,IL4))","v":"-3996.33406795718"},{"$f":"IMSUB(IO4,IMPRODUCT(KM4,IL4))","v":"3961.16663713631"},{"$f":"IMSUB(IP4,IMPRODUCT(KN4,IL4))","v":"1657.42536785323"},{"$f":"IMSUB(IR4,IMPRODUCT(KK4,IQ4))","v":"-0.455118152600335"},{"$f":"IMSUB(IS4,IMPRODUCT(KL4,IQ4))","v":"2761.92193865322"},{"$f":"IMSUB(IT4,IMPRODUCT(KM4,IQ4))","v":"-2736.78721093784"},{"$f":"IMSUB(IU4,IMPRODUCT(KN4,IQ4))","v":"-1145.63219232872"},{"$f":"IMSUB(IW4,IMPRODUCT(KK4,IV4))","v":"-0.46000292700046"},{"$f":"IMSUB(IX4,IMPRODUCT(KL4,IV4))","v":"2790.60708061494"},{"$f":"IMSUB(IY4,IMPRODUCT(KM4,IV4))","v":"-2765.21130545347"},{"$f":"IMSUB(IZ4,IMPRODUCT(KN4,IV4))","v":"-1157.36583828707"},{"$f":"IMDIV(JB4,JA4)","v":"-0.992151789171154"},{"$f":"IMDIV(JC4,JA4)","v":"-0.330559525728637"},{"$f":"IMDIV(JD4,JA4)","v":"0.327551222993563"},{"$f":"IMDIV(JE4,JA4)","v":"0.482142925366322"},{"$f":"IMSUB(JG4,IMPRODUCT(KK4,JF4))","v":"1.56554151037017"},{"$f":"IMSUB(JH4,IMPRODUCT(KL4,JF4))","v":"2683.25355766366"},{"$f":"IMSUB(JI4,IMPRODUCT(KM4,JF4))","v":"-2661.07258319671"},{"$f":"IMSUB(JJ4,IMPRODUCT(KN4,JF4))","v":"-1112.84029079793"},{"$f":"IMSUB(JL4,IMPRODUCT(KK4,JK4))","v":"-1.56597925794085"},{"$f":"IMSUB(JM4,IMPRODUCT(KL4,JK4))","v":"6062.98527574125"},{"$f":"IMSUB(JN4,IMPRODUCT(KM4,JK4))","v":"-6010.04739475029"},{"$f":"IMSUB(JO4,IMPRODUCT(KN4,JK4))","v":"-2514.59259688431"},{"$f":"IMSUB(JQ4,IMPRODUCT(KK4,JP4))","v":"-0.000643420198684908"},{"$f":"IMSUB(JR4,IMPRODUCT(KL4,JP4))","v":"7124.77078204355"},{"$f":"IMSUB(JS4,IMPRODUCT(KM4,JP4))","v":"-7059.93216087007"},{"$f":"IMSUB(JT4,IMPRODUCT(KN4,JP4))","v":"-2954.9113946471"},{"$f":"IMSUB(JV4,IMPRODUCT(LP4,JU4))","v":"-3947.09620326542"},{"$f":"IMSUB(JW4,IMPRODUCT(LQ4,JU4))","v":"3912.36193600667"},{"$f":"IMSUB(JX4,IMPRODUCT(LR4,JU4))","v":"1637.06433025987"},{"$f":"IMSUB(JZ4,IMPRODUCT(LP4,JY4))","v":"-3996.76700758396"},{"$f":"IMSUB(KA4,IMPRODUCT(LQ4,JY4))","v":"3961.59599789042"},{"$f":"IMSUB(KB4,IMPRODUCT(LR4,JY4))","v":"1657.60492325111"},{"$f":"IMSUB(KD4,IMPRODUCT(LP4,KC4))","v":"3541.96986075106"},{"$f":"IMSUB(KE4,IMPRODUCT(LQ4,KC4))","v":"-3510.38690789734"},{"$f":"IMSUB(KF4,IMPRODUCT(LR4,KC4))","v":"-1469.14569480201"},{"$f":"IMSUB(KH4,IMPRODUCT(LP4,KG4))","v":"3579.02724209493"},{"$f":"IMSUB(KI4,IMPRODUCT(LQ4,KG4))","v":"-3547.11403311843"},{"$f":"IMSUB(KJ4,IMPRODUCT(LR4,KG4))","v":"-1484.35160497559"},{"$f":"IMSUB(KL4,IMPRODUCT(LP4,KK4))","v":"1700.16399804521"},{"$f":"IMSUB(KM4,IMPRODUCT(LQ4,KK4))","v":"-1686.10995748839"},{"$f":"IMSUB(KN4,IMPRODUCT(LR4,KK4))","v":"-704.773181359104"},{"$f":"IMDIV(KP4,KO4)","v":"1713.94596686817"},{"$f":"IMDIV(KQ4,KO4)","v":"-1699.77772264084"},{"$f":"IMDIV(KR4,KO4)","v":"-710.834100166913"},{"$f":"IMSUB(KT4,IMPRODUCT(LP4,KS4))","v":"8746.98910908818"},{"$f":"IMSUB(KU4,IMPRODUCT(LQ4,KS4))","v":"-8671.86405151578"},{"$f":"IMSUB(KV4,IMPRODUCT(LR4,KS4))","v":"-3627.74405358274"},{"$f":"IMSUB(KX4,IMPRODUCT(LP4,KW4))","v":"7125.87356949809"},{"$f":"IMSUB(KY4,IMPRODUCT(LQ4,KW4))","v":"-7061.02583219009"},{"$f":"IMSUB(KZ4,IMPRODUCT(LR4,KW4))","v":"-2955.36875966506"},{"$f":"IMSUB(LB4,IMPRODUCT(MK4,LA4))","v":"-0.83393586289003"},{"$f":"IMSUB(LC4,IMPRODUCT(ML4,LA4))","v":"0.0376229283701832"},{"$f":"IMSUB(LE4,IMPRODUCT(MK4,LD4))","v":"-0.84407184058"},{"$f":"IMSUB(LF4,IMPRODUCT(ML4,LD4))","v":"-0.0223544887899152"},{"$f":"IMSUB(LH4,IMPRODUCT(MK4,LG4))","v":"1.16212045184011"},{"$f":"IMSUB(LI4,IMPRODUCT(ML4,LG4))","v":"-0.141910750380021"},{"$f":"IMSUB(LK4,IMPRODUCT(MK4,LJ4))","v":"1.17410272378993"},{"$f":"IMSUB(LL4,IMPRODUCT(ML4,LJ4))","v":"0.0214327855101146"},{"$f":"IMSUB(LN4,IMPRODUCT(MK4,LM4))","v":"-0.548117585"},{"$f":"IMSUB(LO4,IMPRODUCT(ML4,LM4))","v":"0.356293149515977"},{"$f":"IMSUB(LQ4,IMPRODUCT(MK4,LP4))","v":"-0.552282782720113"},{"$f":"IMSUB(LR4,IMPRODUCT(ML4,LP4))","v":"0.0113361224530308"},{"$f":"IMDIV(LT4,LS4)","v":"-0.991411323755469"},{"$f":"IMDIV(LU4,LS4)","v":"-0.414742033897526"},{"$f":"IMSUB(LW4,IMPRODUCT(MK4,LV4))","v":"3.64591626011952"},{"$f":"IMSUB(LX4,IMPRODUCT(ML4,LV4))","v":"0.0305378451998877"}]
[{"$f":"COMPLEX(定数!O$13,計算!B5*定数!O$23)","v":"74.3688188913563+2.80557293005504i"},{"$f":"COMPLEX(定数!P$13,計算!B5*定数!P$23)","v":"-73.4757772913563+2.80557293005504i"},{"$f":"COMPLEX(定数!Q$13,計算!B5*定数!Q$23)","v":"125.193786513619+4.01392371246772i"},{"$f":"COMPLEX(定数!R$13,計算!B5*定数!R$23)","v":"-123.916114913619+4.01392371246772i"},{"$f":"COMPLEX(定数!S$13,計算!B5*定数!S$23)","v":"-77.7867441135484-1.84314162234837i"},{"$f":"COMPLEX(定数!T$13,計算!B5*定数!T$23)","v":"77.2000539135484-1.84314162234837i"},{"$f":"COMPLEX(定数!U$13,計算!B5*定数!U$23)","v":"124.646605989444+3.36336459068433i"},{"$f":"COMPLEX(定数!V$13,計算!B5*定数!V$23)","v":"-123.576013789444+3.36336459068433i"},{"$f":"IMPRODUCT(定数!D$31,計算!G5)","v":"21.596241188142-8.55055677113639i"},{"$f":"COMPLEX(定数!O$14,計算!B5*定数!O$24)","v":"86.1948356167649+3.44503343284285i"},{"$f":"COMPLEX(定数!P$14,計算!B5*定数!P$24)","v":"-85.0982474167649+3.44503343284285i"},{"$f":"COMPLEX(定数!Q$14,計算!B5*定数!Q$24)","v":"57.0863694248256+1.90441398857115i"},{"$f":"COMPLEX(定数!R$14,計算!B5*定数!R$24)","v":"-56.4801756248256+1.90441398857115i"},{"$f":"COMPLEX(定数!S$14,計算!B5*定数!S$24)","v":"163.969671876329+4.04282385105843i"},{"$f":"COMPLEX(定数!T$14,計算!B5*定数!T$24)","v":"-162.682801076329+4.04282385105843i"},{"$f":"COMPLEX(定数!U$14,計算!B5*定数!U$24)","v":"-101.525845343051-2.90265568248369i"},{"$f":"COMPLEX(定数!V$14,計算!B5*定数!V$24)","v":"100.601901343051-2.90265568248369i"},{"$f":"IMPRODUCT(定数!D$32,計算!G5)","v":"-21.596241188142+8.55055677113639i"},{"$f":"COMPLEX(定数!O$15,計算!B5*定数!O$25)","v":"86.1919999827348+3.44499510577437i"},{"$f":"COMPLEX(定数!P$15,計算!B5*定数!P$25)","v":"-85.0954239827348+3.44499510577437i"},{"$f":"COMPLEX(定数!Q$15,計算!B5*定数!Q$25)","v":"-57.0828842529623-1.90440707726736i"},{"$f":"COMPLEX(定数!R$15,計算!B5*定数!R$25)","v":"56.4766926529622-1.90440707726736i"},{"$f":"COMPLEX(定数!S$15,計算!B5*定数!S$25)","v":"-163.956966054068-4.04246570992059i"},{"$f":"COMPLEX(定数!T$15,計算!B5*定数!T$25)","v":"162.670209254068-4.04246570992059i"},{"$f":"COMPLEX(定数!U$15,計算!B5*定数!U$25)","v":"-101.548680976766-2.9032261960145i"},{"$f":"COMPLEX(定数!V$15,計算!B5*定数!V$25)","v":"100.624555376766-2.9032261960145i"},{"$f":"IMPRODUCT(定数!D$33,計算!G5)","v":"0"},{"$f":"COMPLEX(定数!O$16,計算!B5*定数!O$26)","v":"74.3664237452132+2.80551763801798i"},{"$f":"COMPLEX(定数!P$16,計算!B5*定数!P$26)","v":"-73.4733997452132+2.80551763801798i"},{"$f":"COMPLEX(定数!Q$16,計算!B5*定数!Q$26)","v":"-125.201328746793-4.01413419916643i"},{"$f":"COMPLEX(定数!R$16,計算!B5*定数!R$26)","v":"123.923590146793-4.01413419916643i"},{"$f":"COMPLEX(定数!S$16,計算!B5*定数!S$26)","v":"77.7704269443536+1.84263142769722i"},{"$f":"COMPLEX(定数!T$16,計算!B5*定数!T$26)","v":"-77.1838991443536+1.84263142769722i"},{"$f":"COMPLEX(定数!U$16,計算!B5*定数!U$26)","v":"124.65071095008+3.36334071457254i"},{"$f":"COMPLEX(定数!V$16,計算!B5*定数!V$26)","v":"-123.58012635008+3.36334071457254i"},{"$f":"IMPRODUCT(定数!D$34,計算!G5)","v":"0"},{"$f":"IMDIV(COMPLEX(定数!O$17,計算!B5*定数!O$27),計算!R5)","v":"0.112901380450136-0.0700874356344674i"},{"$f":"IMPRODUCT(COMPLEX(定数!P$17,計算!B5*定数!P$27),計算!R5)","v":"0.600507199320705+0.467101076565777i"},{"$f":"IMDIV(COMPLEX(定数!Q$17,計算!B5*定数!Q$27),計算!S5)","v":"0.0992973578129804-0.0491560851465017i"},{"$f":"IMPRODUCT(COMPLEX(定数!R$17,計算!B5*定数!R$27),計算!S5)","v":"0.944822064383953+0.687226525754716i"},{"$f":"IMDIV(COMPLEX(定数!S$17,計算!B5*定数!S$27),計算!T5)","v":"0.0254231891566609-0.0266675031477357i"},{"$f":"IMPRODUCT(COMPLEX(定数!T$17,計算!B5*定数!T$27),計算!T5)","v":"-0.511277185453485-0.355531129987867i"},{"$f":"IMDIV(COMPLEX(定数!U$17,計算!B5*定数!U$27),計算!U5)","v":"0.0145278026958855+0.00738036603722483i"},{"$f":"IMPRODUCT(COMPLEX(定数!V$17,計算!B5*定数!V$27),計算!U5)","v":"0.869069597481709+0.611882883071064i"},{"$f":"IMPRODUCT(定数!E$31,計算!G5)","v":"0"},{"$f":"IMDIV(COMPLEX(定数!O$18,計算!B5*定数!O$28),計算!R5)","v":"0.15603276880757-0.0991628654207163i"},{"$f":"IMPRODUCT(COMPLEX(定数!P$18,計算!B5*定数!P$28),計算!R5)","v":"0.719979536056461+0.560464394557255i"},{"$f":"IMDIV(COMPLEX(定数!Q$18,計算!B5*定数!Q$28),計算!S5)","v":"0.055141922806418-0.028985560531572i"},{"$f":"IMPRODUCT(COMPLEX(定数!R$18,計算!B5*定数!R$28),計算!S5)","v":"0.440242587732413+0.320392615484966i"},{"$f":"IMDIV(COMPLEX(定数!S$18,計算!B5*定数!S$28),計算!T5)","v":"-0.0323557343741659+0.0426488943609824i"},{"$f":"IMPRODUCT(COMPLEX(定数!T$18,計算!B5*定数!T$28),計算!T5)","v":"1.09804819165007+0.763992115302227i"},{"$f":"IMDIV(COMPLEX(定数!U$18,計算!B5*定数!U$28),計算!U5)","v":"-0.0337481773008161+0.00814140708584401i"},{"$f":"IMPRODUCT(COMPLEX(定数!V$18,計算!B5*定数!V$28),計算!U5)","v":"-0.728815305143464-0.513557213171534i"},{"$f":"IMPRODUCT(定数!E$32,計算!G5)","v":"0"},{"$f":"IMDIV(COMPLEX(定数!O$19,計算!B5*定数!O$29),計算!R5)","v":"0.156037401629726-0.0991665576051401i"},{"$f":"IMPRODUCT(COMPLEX(定数!P$19,計算!B5*定数!P$29),計算!R5)","v":"0.719965157232917+0.560453363745103i"},{"$f":"IMDIV(COMPLEX(定数!Q$19,計算!B5*定数!Q$29),計算!S5)","v":"-0.0551531056336648+0.0289934832512685i"},{"$f":"IMPRODUCT(COMPLEX(定数!R$19,計算!B5*定数!R$29),計算!S5)","v":"-0.440229607054507-0.320383424801151i"},{"$f":"IMDIV(COMPLEX(定数!S$19,計算!B5*定数!S$29),計算!T5)","v":"0.0323592784152576-0.0426494554465686i"},{"$f":"IMPRODUCT(COMPLEX(定数!T$19,計算!B5*定数!T$29),計算!T5)","v":"-1.09795732921296-0.763928774769102i"},{"$f":"IMDIV(COMPLEX(定数!U$19,計算!B5*定数!U$29),計算!U5)","v":"-0.0337447018774554+0.00813609145226606i"},{"$f":"IMPRODUCT(COMPLEX(定数!V$19,計算!B5*定数!V$29),計算!U5)","v":"-0.728968661434509-0.513665067995191i"},{"$f":"IMPRODUCT(定数!E$33,計算!G5)","v":"0"},{"$f":"IMDIV(COMPLEX(定数!O$20,計算!B5*定数!O$30),計算!R5)","v":"0.112902310713227-0.0700884302470633i"},{"$f":"IMPRODUCT(COMPLEX(定数!P$20,計算!B5*定数!P$30),計算!R5)","v":"0.600492209252333+0.467089495080391i"},{"$f":"IMDIV(COMPLEX(定数!Q$20,計算!B5*定数!Q$30),計算!S5)","v":"-0.0992991702924792+0.0491562687232664i"},{"$f":"IMPRODUCT(COMPLEX(定数!R$20,計算!B5*定数!R$30),計算!S5)","v":"-0.944875004629093-0.687264957448835i"},{"$f":"IMDIV(COMPLEX(定数!S$20,計算!B5*定数!S$30),計算!T5)","v":"-0.025434505828212+0.0266725448130024i"},{"$f":"IMPRODUCT(COMPLEX(定数!T$20,計算!B5*定数!T$30),計算!T5)","v":"0.511154014299948+0.355445139873501i"},{"$f":"IMDIV(COMPLEX(定数!U$20,計算!B5*定数!U$30),計算!U5)","v":"0.0145101961941228+0.00739228839497799i"},{"$f":"IMPRODUCT(COMPLEX(定数!V$20,計算!B5*定数!V$30),計算!U5)","v":"0.869080931436145+0.611890514141126i"},{"$f":"IMPRODUCT(定数!E$34,計算!G5)","v":"0"},"-0.98516646088389+0.0748906513151084i","1.68305854852844-0.00952038504222769i","-1.66183625422979+0.116666186862453i","-1.04540628188485+0.0146542860201849i","1.03566128004985-0.0638542462439767i","1.67538180382289-0.0179785192982721i","-1.65759912575268+0.107758600260766i","0.285649783709171-0.125751198031651i","0.0760145318599967+0.38377744816509i","-88.0173835437384-3.07317095681816i","87.1634460447154-2.42652735434081i","254.128779001401+6.38115966846478i","-252.171434878014+5.97884237461788i","-245.99704111894-7.12474649388271i","243.849617486371-6.48040611178403i","-46.6509944203575+18.4055875591234i","0.0760415240091987+0.38391372503361i","-202.181864318543-6.88195451228423i","200.115597491595-6.23508129088161i","-73.80082388028-1.70412840568027i","73.1845146560988-2.10658855977396i","-246.015125293934-7.12530377544153i","243.867567045526-6.48073459227611i","-25.0539384142934+9.85468515172934i","0.0000137876373997869+0.0000696101571198149i","-250.391083562819-8.02798765461201i","247.835718269006-8.02787036537843i","155.554666346812+3.68575034655934i","-154.381468967151+3.68567737361585i","0.00811873897099247+0.0000256979798396451i","-0.00808871098199404+0.000142569451699881i","-21.5955500621244+8.55027137279788i","0.706484959024+0.389598027733056i","-0.0900550163204206+0.0698800371562093i","1.12426883770614+0.557580910702737i","0.142423920184496-0.101591837762398i","-0.623729393276256-0.275735054134715i","-0.173365047422638+0.126833380023044i","1.04866230305229+0.483539916312309i","-0.0234366759080477+0.0342179446807479i","0.866271415106899+0.451087069697124i","-0.206526293925029+0.139396839849593i","0.687974546397698+0.13739642249314i","0.129308741324698-0.0633031369021636i","0.942783064603933+0.876654610278825i","-0.293379837471484+0.17708230557182i","-0.480861175554849-0.694743364961559i","-0.032100877534519+0.0479471586691568i","0.866261323874266+0.451072054513641i","-0.316829084525028+0.197382141901241i","-0.192490380150481-0.503386294092605i","0.19402854318918-0.148605414433207i","-1.25322701853197-0.651262160114691i","-0.293384057414055+0.177083259048124i","-0.481007250348564-0.69485783917332i","-0.0321017366025512+0.0479487959237753i","0.70647081093244+0.38958539672069i","-0.288653100644032+0.168194073873672i","-0.765426801399636-0.816912333914333i","0.091567183127164-0.0482528432082571i","0.398700906549951+0.435242305209656i","-0.173384194588593+0.126846985461395i","1.04867507183195+0.483545798469553i","-0.0234368165637729+0.0342183457733189i","-32.5578698167174+219.750963926134i","18.5321904832213-219.160783173058i","91.5690397429345-635.241524598018i","-59.9983099638058+634.010954075746i","-90.3519068560042+614.62522460384i","55.609929321245-613.252874162879i","32.3698196729684+122.39174431593i","-51.4167139972154+219.160783161181i","37.2031742940694-219.750963925236i","142.205347904892-634.01095404583i","-110.242915360146+635.24152459099i","-140.031356427503+613.252874132252i","104.852546177032-614.625224598728i","22.9806559292835+126.109177217308i","-114.133226381957-3.80769226725124i","112.92120028003-3.80769231782705i","-328.019842337074-8.08755405537687i","325.445493953058-8.08755390912108i","0.0692677535689938+0.00197274011253956i","-0.0686398373370025+0.00197259862425003i","21.6136214725332-8.55743809694786i","-250.37511883126-8.02743023848256i","247.819908426003-8.02743023757754i","155.508572068912+3.68459292309028i","-154.335729715472+3.68459292047307i","0.0527380694605394+0.00131799443954629i","-0.0523185383232463+0.00131799697143388i","-21.5870884314352+8.54693293811967i","121.61968894118-134.732066508309i","-110.773756366712+141.314048324529i","-347.332932724805+392.414687975234i","324.750077262412-406.113895129289i","337.67879232389-378.571157987712i","-312.484859785041+393.8566713387i","32.8729622844491-98.0132371803003i","143.194898769293-166.519910074664i","-130.666890275947+173.719504037369i","-409.053262640426+485.015269535976i","382.992307236831-499.685766187146i","397.642223429977-467.900018550751i","-368.561116256071+484.439891903294i","36.9466330033911-119.563104990193i","143.0807863813-166.46048520156i","-131.543680175565+173.077062375173i","-408.977588020509+484.925704545807i","380.785646398742-501.208927905139i","397.631598016614-467.89593171637i","-368.550975528909+484.435149483179i","36.9449704950333-119.561485697129i","121.417595185916-134.631301209915i","-112.660149974759+139.936915936909i","-347.37376932738+392.460853122268i","325.762924091825-405.395322794318i","337.669045995635-378.564236762256i","-312.475600214026+393.849305840713i","32.8716943896406-98.0111623060727i","0.9605911152041-0.0710316981240169i","179.62109365713-1267.43812869412i","-116.21946423363+1264.80314023847i","-90.3710127350256+614.758666697704i","55.6212711922834-613.385973706841i","44.1373633494296+166.054918318476i","0.975584816397799+0.0064373432120135i","284.456902551005-1264.98321788795i","-220.232707488014+1267.48100774365i","-140.061907673+613.386013915721i","104.875228321616-614.758673482594i","31.1800309357113+171.193619516527i","-0.987168861459207+0.0662955722705536i","2.87317448617638-0.0249936877150389i","-2.84592109556797+0.165805754010596i","-0.000606803879386564+2.95954418749451E-06i","0.000600156424440952-0.0000373056097309109i","-0.186662713187171+0.081205031701443i","0.125204350112+0.64690237868267i","875.080610552802+20.4910031421749i","-868.214556326151+22.352795224885i","-0.0992142814826436-0.00281208514303964i","0.0982451659431197-0.00320468566863867i","-68.9746551540356+27.3802304918288i","0.353274044012991+0.247900749753001i","-693.400068811801+782.563148462123i","648.530763779715-809.715969682179i","337.752192877445-378.653273867191i","-312.552824360806+393.942068750644i","44.6339016671814-133.038820964044i","-0.348877823939006-0.156953761460983i","-816.315245704226+967.034995185112i","762.903731174376-997.330829261627i","397.728621827027-468.00148726981i","-368.640843467737+484.545171870132i","50.1535267456951-162.274309498459i","-1.33437631372098-0.733167893266994i","-815.913191529291+966.771840076306i","760.382168469924-998.665951989119i","397.717927345694-467.997364038465i","-368.630636472173+484.540389528765i","50.1353893080905-162.252331297266i","-1.72593993320399-1.016361351819i","-692.862773289336+782.314746256511i","648.985175194018-808.677118951335i","337.742324216135-378.646290898855i","-312.543447261036+393.934635238485i","44.6030930529476-133.00152593602i","0.0757943174009768-0.523143030749907i","-0.0491784970200086+0.522108481209898i","-90.3499466415634+614.615110975859i","55.6091060073124-613.242794970411i","16.19448112426+61.232074420891i","0.117343330219967-0.522108467110002i","-0.090398201173997+0.52314302758009i","-140.028960288749+613.24279495186i","104.851297901159-614.615110972764i","11.4971282491701+63.091887989364i","196.084437033608-1300.09735380981i","-130.942943003829+1297.97240997434i","-0.0232409995658116+0.147310778257688i","0.0140891233361752-0.147019660189025i","27.7877037641038+107.94439803042i","282.890898566258-1297.97240992539i","-217.073013900856+1300.09735380244i","-0.0328018311521611+0.147019631809713i","0.0235572858941447-0.147310775802676i","20.9057354345751+110.669162043464i","-1115.10641414199+1170.97424488088i","1047.51213400608-1215.19405657339i","337.800227189941-378.697080488534i","-312.597664990228+393.988269955303i","64.6834162122545-177.317910875037i","-513.899232589913+558.601995890526i","483.116600504-577.826119601583i","397.694102711332-467.95534375137i","-368.60950387273+484.497475811858i","40.0771329714975-120.383059255017i","513.201420188449-557.805275465244i","-482.464557556736+577.002198169371i","397.566367285435-467.825233773567i","-368.49119865671+484.361092964448i","-3.1075688921252+0.749391198645981i","1114.59891846166-1170.38829214665i","-1047.03851192536+1214.58819917743i","337.536285154137-378.425882358802i","-312.353067821361+393.704328402872i","-31.7947224666926+79.254581736073i","0.000229125326517199-0.0000375811803640103i","-90.3315210786821+614.450243247143i","55.6002924563165-613.078617885328i","16.1781838740945+61.1725625861648i","0.000234324955219911-0.0000191664334260322i","-139.997491586266+613.077826933637i","104.829584841072-614.450089637687i","11.4853249598912+63.0305483895386i","-0.503519522093995-0.0267515444500077i","48.1897849145027-409.655348332375i","-24.2813681298784+408.076809643217i","-11.8873229817258-40.312713013435i","-0.506069562251014-0.0609585330500977i","75.4302886316488-409.876625800846i","-51.221233411322+409.851685183402i","-9.3819673239605-41.41052333786i","-0.990975993755091+0.0491313563406398i","-0.313667192359269+0.010224025821343i","0.309766870313737-0.028032520039456i","-0.106998775517311+0.0466548302930399i","1.299671510922+0.983614709165067i","242.21193449911-287.486105030537i","-225.079568580603+297.055193258005i","11.1520256647169-36.6374482089989i","-1.29999994653502-0.983720856433024i","552.837800331097-648.037432983495i","-511.827308866457+671.537016485519i","25.7800441983905-82.8784154182706i","-0.00050530283988337-0.000258351750062502i","675.183318394779-756.933980049395i","-624.80995319476+787.496863230712i","32.8617298545615-97.97695578905i","-90.325626981459+614.503468571214i","55.5917286439549-613.13101430368i","16.1808706523582+61.1773106466549i","-139.995901461678+613.132027889093i","104.8252323964-614.503672630189i","11.487647809487+63.0355604436492i","60.420119980028-525.304001924393i","-30.4631043674734+523.207677939671i","-15.3805041699168-51.6335675374679i","95.5699448916767-525.700312002802i","-65.225035983349+525.561244273184i","-12.1414736792616-53.0650030149671i","0.314534156448882-228.824473876626i","11.416657500895+226.573940636731i","-9.22646107367957-21.4085423514058i","12.0529472899309-230.320937835552i","-0.12860039247781+228.65907577279i","-8.10916459541313-22.0526143668237i","795.078141385643-935.597904225015i","-736.931191220195+968.667295876667i","36.9317473494288-119.523967256855i","675.248912600639-757.047247973342i","-624.869092649297+787.612372086929i","32.8633296021775-97.9901940545812i","-0.923758215810999-0.0258897836889673i","-0.0120020725175998-0.0000496419988991192i","-0.930095400967005-0.0972658698819941i","0.00185426327979954-0.00602559603479591i","1.225009503836-0.00198353668793061i","0.0347769186319997-0.0102745982129946i","1.2351355732203+0.0777499295189727i","-0.00238481462189988+0.00554939111070496i","-0.520795635627898+0.0537813886550111i","-0.0759341742134687+0.0355081500648993i","-0.526817153646481+0.0292842517140173i","0.00199146629623925+0.00251513814949789i","-0.989856192570584+0.0535292248750584i","0.0936588278756363-0.0401180242845679i","3.00607263718894+2.09891472276001i","-0.00845219753649928+0.00361611091869918i"]
[{"$f":"COMPLEX(定数!O$13,計算!B6*定数!O$23)","v":"74.3688188913563+5.61114586011009i"},{"$f":"COMPLEX(定数!P$13,計算!B6*定数!P$23)","v":"-73.4757772913563+5.61114586011009i"},{"$f":"COMPLEX(定数!Q$13,計算!B6*定数!Q$23)","v":"125.193786513619+8.02784742493545i"},{"$f":"COMPLEX(定数!R$13,計算!B6*定数!R$23)","v":"-123.916114913619+8.02784742493545i"},{"$f":"COMPLEX(定数!S$13,計算!B6*定数!S$23)","v":"-77.7867441135484-3.68628324469673i"},{"$f":"COMPLEX(定数!T$13,計算!B6*定数!T$23)","v":"77.2000539135484-3.68628324469673i"},{"$f":"COMPLEX(定数!U$13,計算!B6*定数!U$23)","v":"124.646605989444+6.72672918136865i"},{"$f":"COMPLEX(定数!V$13,計算!B6*定数!V$23)","v":"-123.576013789444+6.72672918136865i"},{"$f":"IMPRODUCT(定数!D$31,計算!G6)","v":"16.0715197516535-15.0921616102831i"},{"$f":"COMPLEX(定数!O$14,計算!B6*定数!O$24)","v":"86.1948356167649+6.8900668656857i"},{"$f":"COMPLEX(定数!P$14,計算!B6*定数!P$24)","v":"-85.0982474167649+6.8900668656857i"},{"$f":"COMPLEX(定数!Q$14,計算!B6*定数!Q$24)","v":"57.0863694248256+3.80882797714229i"},{"$f":"COMPLEX(定数!R$14,計算!B6*定数!R$24)","v":"-56.4801756248256+3.80882797714229i"},{"$f":"COMPLEX(定数!S$14,計算!B6*定数!S$24)","v":"163.969671876329+8.08564770211685i"},{"$f":"COMPLEX(定数!T$14,計算!B6*定数!T$24)","v":"-162.682801076329+8.08564770211685i"},{"$f":"COMPLEX(定数!U$14,計算!B6*定数!U$24)","v":"-101.525845343051-5.80531136496737i"},{"$f":"COMPLEX(定数!V$14,計算!B6*定数!V$24)","v":"100.601901343051-5.80531136496737i"},{"$f":"IMPRODUCT(定数!D$32,計算!G6)","v":"-16.0715197516535+15.0921616102831i"},{"$f":"COMPLEX(定数!O$15,計算!B6*定数!O$25)","v":"86.1919999827348+6.88999021154873i"},{"$f":"COMPLEX(定数!P$15,計算!B6*定数!P$25)","v":"-85.0954239827348+6.88999021154873i"},{"$f":"COMPLEX(定数!Q$15,計算!B6*定数!Q$25)","v":"-57.0828842529623-3.80881415453472i"},{"$f":"COMPLEX(定数!R$15,計算!B6*定数!R$25)","v":"56.4766926529622-3.80881415453472i"},{"$f":"COMPLEX(定数!S$15,計算!B6*定数!S$25)","v":"-163.956966054068-8.08493141984119i"},{"$f":"COMPLEX(定数!T$15,計算!B6*定数!T$25)","v":"162.670209254068-8.08493141984119i"},{"$f":"COMPLEX(定数!U$15,計算!B6*定数!U$25)","v":"-101.548680976766-5.80645239202901i"},{"$f":"COMPLEX(定数!V$15,計算!B6*定数!V$25)","v":"100.624555376766-5.80645239202901i"},{"$f":"IMPRODUCT(定数!D$33,計算!G6)","v":"0"},{"$f":"COMPLEX(定数!O$16,計算!B6*定数!O$26)","v":"74.3664237452132+5.61103527603596i"},{"$f":"COMPLEX(定数!P$16,計算!B6*定数!P$26)","v":"-73.4733997452132+5.61103527603596i"},{"$f":"COMPLEX(定数!Q$16,計算!B6*定数!Q$26)","v":"-125.201328746793-8.02826839833286i"},{"$f":"COMPLEX(定数!R$16,計算!B6*定数!R$26)","v":"123.923590146793-8.02826839833286i"},{"$f":"COMPLEX(定数!S$16,計算!B6*定数!S$26)","v":"77.7704269443536+3.68526285539444i"},{"$f":"COMPLEX(定数!T$16,計算!B6*定数!T$26)","v":"-77.1838991443536+3.68526285539444i"},{"$f":"COMPLEX(定数!U$16,計算!B6*定数!U$26)","v":"124.65071095008+6.72668142914508i"},{"$f":"COMPLEX(定数!V$16,計算!B6*定数!V$26)","v":"-123.58012635008+6.72668142914508i"},{"$f":"IMPRODUCT(定数!D$34,計算!G6)","v":"0"},{"$f":"IMDIV(COMPLEX(定数!O$17,計算!B6*定数!O$27),計算!R6)","v":"0.0594914901702257-0.120607859304787i"},{"$f":"IMPRODUCT(COMPLEX(定数!P$17,計算!B6*定数!P$27),計算!R6)","v":"0.187283468634312+0.737660990786825i"},{"$f":"IMDIV(COMPLEX(定数!Q$17,計算!B6*定数!Q$27),計算!S6)","v":"0.0688848366463273-0.0916744876619173i"},{"$f":"IMPRODUCT(COMPLEX(定数!R$17,計算!B6*定数!R$27),計算!S6)","v":"0.359962465094713+1.11187638755524i"},{"$f":"IMDIV(COMPLEX(定数!S$17,計算!B6*定数!S$27),計算!T6)","v":"-0.00116705062306702-0.0392455917155531i"},{"$f":"IMPRODUCT(COMPLEX(定数!T$17,計算!B6*定数!T$27),計算!T6)","v":"-0.216840375884396-0.58392729029155i"},{"$f":"IMDIV(COMPLEX(定数!U$17,計算!B6*定数!U$27),計算!U6)","v":"0.029480433370497+0.00306788137211636i"},{"$f":"IMPRODUCT(COMPLEX(定数!V$17,計算!B6*定数!V$27),計算!U6)","v":"0.358455395510334+1.00090226210441i"},{"$f":"IMPRODUCT(定数!E$31,計算!G6)","v":"0"},{"$f":"IMDIV(COMPLEX(定数!O$18,計算!B6*定数!O$28),計算!R6)","v":"0.0790693449683458-0.169028543644381i"},{"$f":"IMPRODUCT(COMPLEX(定数!P$18,計算!B6*定数!P$28),計算!R6)","v":"0.223951822108913+0.884861323790721i"},{"$f":"IMDIV(COMPLEX(定数!Q$18,計算!B6*定数!Q$28),計算!S6)","v":"0.0359807175056602-0.0527513900845073i"},{"$f":"IMPRODUCT(COMPLEX(定数!R$18,計算!B6*定数!R$28),計算!S6)","v":"0.167486727072546+0.518275686467257i"},{"$f":"IMDIV(COMPLEX(定数!S$18,計算!B6*定数!S$28),計算!T6)","v":"0.0130635022116133+0.0598400377920207i"},{"$f":"IMPRODUCT(COMPLEX(定数!T$18,計算!B6*定数!T$28),計算!T6)","v":"0.465123096704819+1.25456763540973i"},{"$f":"IMDIV(COMPLEX(定数!U$18,計算!B6*定数!U$28),計算!U6)","v":"-0.0347544763927568+0.0213049345693808i"},{"$f":"IMPRODUCT(COMPLEX(定数!V$18,計算!B6*定数!V$28),計算!U6)","v":"-0.300042453268667-0.83984750897664i"},{"$f":"IMPRODUCT(定数!E$32,計算!G6)","v":"0"},{"$f":"IMDIV(COMPLEX(定数!O$19,計算!B6*定数!O$29),計算!R6)","v":"0.0790706685549189-0.169034324893589i"},{"$f":"IMPRODUCT(COMPLEX(定数!P$19,計算!B6*定数!P$29),計算!R6)","v":"0.223947127285773+0.884843817578228i"},{"$f":"IMDIV(COMPLEX(定数!Q$19,計算!B6*定数!Q$29),計算!S6)","v":"-0.0359852623349345+0.0527643195939184i"},{"$f":"IMPRODUCT(COMPLEX(定数!R$19,計算!B6*定数!R$29),計算!S6)","v":"-0.167481443818732-0.518260684585004i"},{"$f":"IMDIV(COMPLEX(定数!S$19,計算!B6*定数!S$29),計算!T6)","v":"-0.0130594688521262-0.0598419234893905i"},{"$f":"IMPRODUCT(COMPLEX(定数!T$19,計算!B6*定数!T$29),計算!T6)","v":"-0.46508476895682-1.25446368379528i"},{"$f":"IMDIV(COMPLEX(定数!U$19,計算!B6*定数!U$29),計算!U6)","v":"-0.0347568694543844+0.021297706372589i"},{"$f":"IMPRODUCT(COMPLEX(定数!V$19,計算!B6*定数!V$29),計算!U6)","v":"-0.3001058641112-0.840023995574101i"},{"$f":"IMPRODUCT(定数!E$33,計算!G6)","v":"0"},{"$f":"IMDIV(COMPLEX(定数!O$20,計算!B6*定数!O$30),計算!R6)","v":"0.0594914092056538-0.120609278361485i"},{"$f":"IMPRODUCT(COMPLEX(定数!P$20,計算!B6*定数!P$30),計算!R6)","v":"0.18727868617564+0.737642657028997i"},{"$f":"IMDIV(COMPLEX(定数!Q$20,計算!B6*定数!Q$30),計算!S6)","v":"-0.0688870547095493+0.0916753820298902i"},{"$f":"IMPRODUCT(COMPLEX(定数!R$20,計算!B6*定数!R$30),計算!S6)","v":"-0.359982735415219-1.1119386063602i"},{"$f":"IMDIV(COMPLEX(定数!S$20,計算!B6*定数!S$30),計算!T6)","v":"0.00115849198241878+0.0392553045867851i"},{"$f":"IMPRODUCT(COMPLEX(定数!T$20,計算!B6*定数!T$30),計算!T6)","v":"0.216788588526313+0.583786231413315i"},{"$f":"IMDIV(COMPLEX(定数!U$20,計算!B6*定数!U$30),計算!U6)","v":"0.0294725394282144+0.00308762594275087i"},{"$f":"IMPRODUCT(COMPLEX(定数!V$20,計算!B6*定数!V$30),計算!U6)","v":"0.358460535544733+1.00091492317369i"},{"$f":"IMPRODUCT(定数!E$34,計算!G6)","v":"0"},"-0.976738660789314+0.149145423019441i","1.68198717445771-0.0189599346446672i","-1.64870725503687+0.232341787474284i","-1.04375716559413+0.0291841458065601i","1.02847545894823-0.127166320500729i","1.67335859579917-0.0358043870485481i","-1.64547253951633+0.214602246577504i","0.199657399494055-0.21800088588981i","0.119202827824097+0.7642963286708i","-88.0228738045344-6.14592767209539i","87.2307256546354-4.85813097196378i","254.137229904561+12.7616817141868i","-252.208258647562+11.9604631117959i","-246.00740905671-14.2487107242849i","243.911760227007-12.9655009087866i","-34.7829971612738+32.5070593011214i","0.119245155855396+0.764567725311689i","-202.187356528894-13.763494635933i","200.182900992066-12.4752406475934i","-73.7923699762598-3.40889466051895i","73.1476778106703-4.2103977704093i","-246.025496913292-14.2498250096259i","243.929731852643-12.9661595346923i","-18.7108945436342+17.4142948246734i","0.0000216211983996573+0.000138629270099777i","-250.391084558651-16.0559752340883i","247.835730472288-16.0557416514974i","155.554667879651+7.37150057746568i","-154.381475646304+7.37135525117545i","0.00811685841799203+0.0000515378478898043i","-0.00807743943398975+0.000284288462289339i","-16.071017435577+15.0916615452307i","0.227402996876057+0.610985748341306i","-0.0288923696793173+0.112314339593076i","0.430024270936998+0.899206975739313i","0.0574077811826108-0.16686711741527i","-0.262688655849474-0.452319752934243i","-0.0657518726071066+0.207018135800868i","0.430464291358635+0.78967833412576i","0.0144147039543037+0.0370494491073528i","0.275972074578582+0.707971779533166i","-0.0938081364832888+0.233051602055604i","0.25857653580836+0.221225987308084i","0.0906597439379703-0.118892287119127i","0.405296953804616+1.43846430207376i","-0.161013881060852+0.306981330443043i","-0.206209922607518-1.13494779500352i","0.0210615924590612+0.0509849867141309i","0.27596781030676+0.707948429144185i","-0.165776232967417+0.338577060816164i","-0.0763907961019068-0.81532022285616i","0.0645379856563809-0.238580321248569i","-0.524911537953141-1.07056090294268i","-0.161018281963365+0.306983823739514i","-0.206272396193759-1.13513407853245i","0.0210625885126569+0.0509864295263591i","0.227397923690346+0.610966040611435i","-0.1666640979486+0.295666594584966i","-0.289921392765981-1.32461033897375i","0.059733197866787-0.0883676999006479i","0.17094057228753+0.715395217939644i","-0.0657595802581716+0.20704025206334i","0.430468993635299+0.78968867755139i","0.0144150294750969+0.0370497147821744i","-6.5270962558557+112.389580679236i","-7.49858307829195-111.209219164901i","16.2928046401004-324.533982670409i","15.2779251403868+322.072841608806i","-17.5294842148938+314.136899421508i","-17.2124933213794-311.392198520572i","41.5798887068864+44.3435889912263i","-25.3859404371119+111.209219158851i","11.1724007333142-112.389580678778i","66.9291128042506-322.072841593568i","-34.9666802581457+324.533982666828i","-67.2089337885135+311.392198504969i","32.0301235365284-314.136899418905i","34.5926482304282+50.9050445393714i","-114.133226378963-7.61538457218641i","112.921200277035-7.6153845979706i","-328.019842345732-16.175108001779i","325.445493961718-16.175107927216i","0.069267761944019+0.00394537480240054i","-0.0686398457170014+0.00394530266999915i","16.0844538370349-15.1043075152957i","-250.375118831316-16.054860476286i","247.819908426059-16.0548604758344i","155.508572069075+7.36918584421644i","-154.335729715633+7.36918584291078i","0.0527380693031716+0.00263599077919426i","-0.0523185381675885+0.00263599204220406i","-16.0647084409187+15.0857653635882i","73.6911945544599-9.66654756205922i","-70.7790451949077+19.6307568169239i","-211.944389190216+32.1807282008249i","205.974477487537-52.8881766949589i","205.473956518948-29.5408003020569i","-198.786450364235+52.655401692907i","23.250199558711-32.6745253014305i","85.6449912994604-12.4850578950916i","-82.3933455067284+23.3278672994253i","-246.398389168657+41.3802948782756i","239.816025473391-63.3684293190137i","238.843663915077-38.0465412437783i","-231.445689262625+62.8816404804919i","26.5137916648946-38.4880044877924i","85.5703181719002-12.3796509815753i","-82.7256408560588+22.291102709442i","-246.416704996878+41.2607962588212i","238.878089879471-65.876887108498i","238.836101788052-38.0467802442511i","-231.438279932263+62.8808625476781i","26.5127515208122-38.486978220241i","73.55110235735-9.48313142130242i","-71.4967192354506+17.4065895116518i","-211.935376905153+32.2589127038773i","206.401533495147-51.7195044168105i","205.467471014563-29.5405229708545i","-198.780092242038+52.6544496025256i","23.2493721562937-32.6735850424443i","0.95351338513709-0.141591144577006i","29.4306512443177-647.4941492461i","33.9559450559831+642.22517534433i","-17.532779821138+314.205103225381i","-17.2169580572251-311.459717457978i","56.5812653523125+60.0451607054247i","0.976226245211199+0.01283188769699i","134.263549992455-642.584133548631i","-70.0379925276715+647.579622300414i","-67.2236744179497+311.459797682489i","32.036994731844-314.20511676372i","46.9473070031384+69.1126357103072i","-0.98056304774817+0.132150380589155i","2.87068406882658-0.049821207618401i","-2.82939990291366+0.330509155775196i","-0.000606508996616206+5.90033660388048E-06i","0.000596439236077711-0.0000743641189857434i","-0.13151135333309+0.14111418346362i","0.189662902266974+1.2895038479803i","875.056309465769+40.9836272629473i","-868.05334501106+44.6948343220675i","-0.0992114218778114-0.00562412906074981i","0.0982089119957855-0.00640718436782731i","-51.2574476860917+48.3058493882659i","0.202379190307511+0.4137780718271i","-423.006928337462+63.6017165913284i","411.28145373152-104.59431992882i","205.518593855532-29.5470979529721i","-198.829683839728+52.6666471819105i","31.5773413171678-44.344658801387i","-0.0629369662779879-0.232537317276599i","-491.63608060529+81.4878885690991i","478.013529596414-127.000104686016i","238.895534706771-38.054618877992i","-231.495842855479+62.8954559732088i","36.0152616265255-52.2156543629901i","-0.454524461415801-1.1560757006618i","-491.445284975577+81.0620796968776i","476.899151812624-129.185644012282i","238.887927911759-38.0547935076269i","-231.488396825626+62.8946096185746i","36.0192755289123-52.1902284521691i","-0.628425569192004-1.6120249062926i","-422.604893627617+63.1463917387067i","411.372753604066-102.860388286024i","205.512024466186-29.5467085516391i","-198.823255800627+52.6655752771134i","31.5839728192541-44.2998282415019i","0.013802942124002-0.267280555467096i","0.0128128789153976+0.265211448115906i","-17.5287216547693+314.131721465314i","-17.2121189803995-311.3870894429i","20.8022405807145+22.1849125898932i","0.0553519567400258-0.265211441108022i","-0.0284068270219109+0.267280553852061i","-67.2077353032407+311.387089433451i","32.0300729147332-314.131721463737i","17.3065582135276+25.4675768319529i","41.9993250633755-663.904088435855i","23.1421689688705+659.654200733969i","-0.00578481181924259+0.0752628708478876i","-0.00336706594625623-0.0746806153966533i","36.0663253178666+39.4918377814172i","128.805786599362-659.654200708945i","-62.987901931497+663.904088432083i","-0.0153456452315172+0.0746806009279266i","0.00610109843853841-0.0752628695997489i","30.9448928895691+44.3011829482658i","-722.024982378357+143.804989594496i","698.737847913141-212.891679177902i","205.552600689844-29.5558620610247i","-198.862060700153+52.6793543197724i","43.6455970100172-66.114614448864i","-330.135216994579+69.9234064494649i","319.666786483668-99.8630331965795i","238.877202871822-38.0534871427038i","-231.477957445065+62.8921378895862i","27.6611610718227-42.231629929748i","329.71028808483-69.8576506088744i","-319.253774594855+99.756221355387i","238.794616512581-38.0385900752751i","-231.398614152438+62.8674541349573i","-1.1310348139496+3.7203815966872i","721.718957214663-143.759038738927i","-698.440380461444+212.815849667117i","205.381993881634-29.5245149148097i","-198.698096094054+52.6281132880848i","-20.3840755438623+33.4241059291833i","0.0001903709038847-0.0000324921212989659i","-17.5207804942369+314.056646233904i","-17.2113140410608-311.312306924656i","20.7828397854328+22.1636278322352i","0.000195566089271602-1.16144053996514E-06i","-67.1881224660047+311.313227096693i","32.0192541743586-314.056792463336i","17.290460297043+25.4432704075205i","-0.595168664804898+0.0513060610919638i","21.8922010370498-186.288785329343i","-0.155295667431326+185.813602538949i","-11.5399199787341-13.9679122721281i","-0.603104898421698-0.0283285598270595i","46.2688494181528-183.775889148549i","-24.4293799158202+186.139422995314i","-9.7663838612758-15.477124053338i","-0.987308334304172+0.0982124111594411i","-0.281668648249309-0.0151649807649249i","0.27889104014452-0.0174141220880952i","-0.0756841819615737+0.0764943773378603i","0.588881641486978+1.59630442359851i","144.828075447643-23.3647499826431i","-140.623858125836+37.6421113601235i","8.0238946745753-11.6860462513539i","-0.588947567103958-1.59646168254901i","332.723057599092-52.715249915345i","-322.135349686275+88.091742185729i","18.4791011384539-26.7877207323385i","-0.000160798604952106-0.000406378912003902i","410.847700033449-59.0720749261813i","-397.475609311803+105.289323166389i","23.2418751840659-32.66362156242i","-17.5211870163546+314.073292487297i","-17.2125880844093-311.32878115055i","20.7839767661184+22.1647663110085i","-67.1912660551296+311.329793561867i","32.0206902152432-314.073463394276i","17.2914091775888+25.44459497153i","27.4170937995668-237.497608579436i","-0.455591764017111+236.923406753602i","-14.7525794800157-17.7691182251138i","58.6633336339208-234.336124430539i","-31.5766676174838+237.300327364854i","-12.4755903594952-19.7154766587742i","7.77481273540318-85.181215708403i","0.897022129650922+84.870022546796i","-5.49418904900966-6.16617537895398i","16.5768042458325-84.6118683604673i","-7.84897399048479+85.197872929366i","-4.81157522978246-6.80154914909791i","477.565531856401-76.0829711367752i","-462.773123388646+125.738235946779i","26.5037482114445-38.4749720432874i","410.884750039453-59.0789439329021i","-397.511494034777+105.29983320799i","23.2438654956245-32.6666705647416i","-1.1283556902676+0.191812253931971i","-0.0171538514780991+0.00894106980459952i","-1.1585372328353+0.0178770088269857i","-0.00774041817830096-0.0027173469574997i","1.35047564179977-0.148719692323994i","0.0327671245434988-0.024198900479302i","1.3723288125281+0.0264472199620229i","0.00632678503239958+0.00436590506129875i","-0.484920452507058+0.0600685584175977i","-0.0540660746584702+0.0542440550180698i","-0.49214736642567+0.0143645329431052i","0.0021468668314002-0.00339099608340998i","-0.98594689090423+0.10621467363137i","0.0666413082732099-0.0699478942283973i","1.323997038264+3.40914249389201i","-0.00558407517139869+0.0109505861677022i"]
[{"$f":"COMPLEX(定数!O$13,計算!B7*定数!O$23)","v":"74.3688188913563+8.41671879016513i"},{"$f":"COMPLEX(定数!P$13,計算!B7*定数!P$23)","v":"-73.4757772913563+8.41671879016513i"},{"$f":"COMPLEX(定数!Q$13,計算!B7*定数!Q$23)","v":"125.193786513619+12.0417711374032i"},{"$f":"COMPLEX(定数!R$13,計算!B7*定数!R$23)","v":"-123.916114913619+12.0417711374032i"},{"$f":"COMPLEX(定数!S$13,計算!B7*定数!S$23)","v":"-77.7867441135484-5.5294248670451i"},{"$f":"COMPLEX(定数!T$13,計算!B7*定数!T$23)","v":"77.2000539135484-5.5294248670451i"},{"$f":"COMPLEX(定数!U$13,計算!B7*定数!U$23)","v":"124.646605989444+10.090093772053i"},{"$f":"COMPLEX(定数!V$13,計算!B7*定数!V$23)","v":"-123.576013789444+10.090093772053i"},{"$f":"IMPRODUCT(定数!D$31,計算!G7)","v":"8.58517439268337-18.2444242698715i"},{"$f":"COMPLEX(定数!O$14,計算!B7*定数!O$24)","v":"86.1948356167649+10.3351002985286i"},{"$f":"COMPLEX(定数!P$14,計算!B7*定数!P$24)","v":"-85.0982474167649+10.3351002985286i"},{"$f":"COMPLEX(定数!Q$14,計算!B7*定数!Q$24)","v":"57.0863694248256+5.71324196571344i"},{"$f":"COMPLEX(定数!R$14,計算!B7*定数!R$24)","v":"-56.4801756248256+5.71324196571344i"},{"$f":"COMPLEX(定数!S$14,計算!B7*定数!S$24)","v":"163.969671876329+12.1284715531753i"},{"$f":"COMPLEX(定数!T$14,計算!B7*定数!T$24)","v":"-162.682801076329+12.1284715531753i"},{"$f":"COMPLEX(定数!U$14,計算!B7*定数!U$24)","v":"-101.525845343051-8.70796704745106i"},{"$f":"COMPLEX(定数!V$14,計算!B7*定数!V$24)","v":"100.601901343051-8.70796704745106i"},{"$f":"IMPRODUCT(定数!D$32,計算!G7)","v":"-8.58517439268337+18.2444242698715i"},{"$f":"COMPLEX(定数!O$15,計算!B7*定数!O$25)","v":"86.1919999827348+10.3349853173231i"},{"$f":"COMPLEX(定数!P$15,計算!B7*定数!P$25)","v":"-85.0954239827348+10.3349853173231i"},{"$f":"COMPLEX(定数!Q$15,計算!B7*定数!Q$25)","v":"-57.0828842529623-5.71322123180208i"},{"$f":"COMPLEX(定数!R$15,計算!B7*定数!R$25)","v":"56.4766926529622-5.71322123180208i"},{"$f":"COMPLEX(定数!S$15,計算!B7*定数!S$25)","v":"-163.956966054068-12.1273971297618i"},{"$f":"COMPLEX(定数!T$15,計算!B7*定数!T$25)","v":"162.670209254068-12.1273971297618i"},{"$f":"COMPLEX(定数!U$15,計算!B7*定数!U$25)","v":"-101.548680976766-8.70967858804351i"},{"$f":"COMPLEX(定数!V$15,計算!B7*定数!V$25)","v":"100.624555376766-8.70967858804351i"},{"$f":"IMPRODUCT(定数!D$33,計算!G7)","v":"0"},{"$f":"COMPLEX(定数!O$16,計算!B7*定数!O$26)","v":"74.3664237452132+8.41655291405395i"},{"$f":"COMPLEX(定数!P$16,計算!B7*定数!P$26)","v":"-73.4733997452132+8.41655291405395i"},{"$f":"COMPLEX(定数!Q$16,計算!B7*定数!Q$26)","v":"-125.201328746793-12.0424025974993i"},{"$f":"COMPLEX(定数!R$16,計算!B7*定数!R$26)","v":"123.923590146793-12.0424025974993i"},{"$f":"COMPLEX(定数!S$16,計算!B7*定数!S$26)","v":"77.7704269443536+5.52789428309166i"},{"$f":"COMPLEX(定数!T$16,計算!B7*定数!T$26)","v":"-77.1838991443536+5.52789428309166i"},{"$f":"COMPLEX(定数!U$16,計算!B7*定数!U$26)","v":"124.65071095008+10.0900221437176i"},{"$f":"COMPLEX(定数!V$16,計算!B7*定数!V$26)","v":"-123.58012635008+10.0900221437176i"},{"$f":"IMPRODUCT(定数!D$34,計算!G7)","v":"0"},{"$f":"IMDIV(COMPLEX(定数!O$17,計算!B7*定数!O$27),計算!R7)","v":"-0.0138876001961173-0.136394644329886i"},{"$f":"IMPRODUCT(COMPLEX(定数!P$17,計算!B7*定数!P$27),計算!R7)","v":"-0.30524735809113+0.697677401556773i"},{"$f":"IMDIV(COMPLEX(定数!Q$17,計算!B7*定数!Q$27),計算!S7)","v":"0.019888866475368-0.119200850606667i"},{"$f":"IMPRODUCT(COMPLEX(定数!R$17,計算!B7*定数!R$27),計算!S7)","v":"-0.363096102936032+1.11151175202954i"},{"$f":"IMDIV(COMPLEX(定数!S$17,計算!B7*定数!S$27),計算!T7)","v":"-0.0306193469853252-0.0301801437234984i"},{"$f":"IMPRODUCT(COMPLEX(定数!T$17,計算!B7*定数!T$27),計算!T7)","v":"0.155397670325492-0.603447760810368i"},{"$f":"IMDIV(COMPLEX(定数!U$17,計算!B7*定数!U$27),計算!U7)","v":"0.0399839588149376-0.0173616207479949i"},{"$f":"IMPRODUCT(COMPLEX(定数!V$17,計算!B7*定数!V$27),計算!U7)","v":"-0.283227188964306+1.02523148765401i"},{"$f":"IMPRODUCT(定数!E$31,計算!G7)","v":"0"},{"$f":"IMDIV(COMPLEX(定数!O$18,計算!B7*定数!O$28),計算!R7)","v":"-0.0248358723524869-0.187823430624407i"},{"$f":"IMPRODUCT(COMPLEX(定数!P$18,計算!B7*定数!P$28),計算!R7)","v":"-0.367037954650967+0.836354573478839i"},{"$f":"IMDIV(COMPLEX(定数!Q$18,計算!B7*定数!Q$28),計算!S7)","v":"0.00679677873748991-0.0660202217767372i"},{"$f":"IMPRODUCT(COMPLEX(定数!R$18,計算!B7*定数!R$28),計算!S7)","v":"-0.169632126144123+0.51789378969533i"},{"$f":"IMDIV(COMPLEX(定数!S$18,計算!B7*定数!S$28),計算!T7)","v":"0.0611499073754788+0.0385782300537854i"},{"$f":"IMPRODUCT(COMPLEX(定数!T$18,計算!B7*定数!T$28),計算!T7)","v":"-0.334843895752001+1.29600737581875i"},{"$f":"IMDIV(COMPLEX(定数!U$18,計算!B7*定数!U$28),計算!U7)","v":"-0.0286680638891882+0.0400104459982424i"},{"$f":"IMPRODUCT(COMPLEX(定数!V$18,計算!B7*定数!V$28),計算!U7)","v":"0.238592181622464-0.859769738230053i"},{"$f":"IMPRODUCT(定数!E$32,計算!G7)","v":"0"},{"$f":"IMDIV(COMPLEX(定数!O$19,計算!B7*定数!O$29),計算!R7)","v":"-0.0248384445763389-0.187828787005312i"},{"$f":"IMPRODUCT(COMPLEX(定数!P$19,計算!B7*定数!P$29),計算!R7)","v":"-0.367031022667737+0.836337822691492i"},{"$f":"IMDIV(COMPLEX(定数!Q$19,計算!B7*定数!Q$29),計算!S7)","v":"-0.00679301269007235+0.0660333993661905i"},{"$f":"IMPRODUCT(COMPLEX(定数!R$19,計算!B7*定数!R$29),計算!S7)","v":"0.16962776913427-0.517878492963739i"},{"$f":"IMDIV(COMPLEX(定数!S$19,計算!B7*定数!S$29),計算!T7)","v":"-0.0611461371422781-0.0385823761985786i"},{"$f":"IMPRODUCT(COMPLEX(定数!T$19,計算!B7*定数!T$29),計算!T7)","v":"0.334815879794461-1.29590013011082i"},{"$f":"IMDIV(COMPLEX(定数!U$19,計算!B7*定数!U$29),計算!U7)","v":"-0.0286764817084814+0.0400063824653707i"},{"$f":"IMPRODUCT(COMPLEX(定数!V$19,計算!B7*定数!V$29),計算!U7)","v":"0.238641859755998-0.859950652396141i"},{"$f":"IMPRODUCT(定数!E$33,計算!G7)","v":"0"},{"$f":"IMDIV(COMPLEX(定数!O$20,計算!B7*定数!O$30),計算!R7)","v":"-0.0138887379305511-0.136395645276152i"},{"$f":"IMPRODUCT(COMPLEX(定数!P$20,計算!B7*定数!P$30),計算!R7)","v":"-0.305239930867757+0.697659962778264i"},{"$f":"IMDIV(COMPLEX(定数!Q$20,計算!B7*定数!Q$30),計算!S7)","v":"-0.0198910253390124+0.119203100169566i"},{"$f":"IMPRODUCT(COMPLEX(定数!R$20,計算!B7*定数!R$30),計算!S7)","v":"0.363116259292025-1.11157403997721i"},{"$f":"IMDIV(COMPLEX(定数!S$20,計算!B7*定数!S$30),計算!T7)","v":"0.030615585095724+0.0301934458401233i"},{"$f":"IMPRODUCT(COMPLEX(定数!T$20,計算!B7*定数!T$30),計算!T7)","v":"-0.155359368912799+0.603302378392948i"},{"$f":"IMDIV(COMPLEX(定数!U$20,計算!B7*定数!U$30),計算!U7)","v":"0.0399884935069763-0.0173408445495521i"},{"$f":"IMPRODUCT(COMPLEX(定数!V$20,計算!B7*定数!V$30),計算!U7)","v":"-0.283229996903105+1.0252448626145i"},{"$f":"IMPRODUCT(定数!E$34,計算!G7)","v":"0"},"-0.962850229036555+0.222146306090281i","1.6802216240773-0.0282400851447977i","-1.62707157226952+0.346064054752103i","-1.04103953598746+0.0434686499664317i","1.01663372268996-0.189409287837465i","1.67002448888589-0.0533292417805193i","-1.62548876398209+0.319641698623591i","0.0865671143562433-0.255120837075567i","0.1903741529961+1.13838965175932i","-88.0319213746614-9.21786754602276i","87.3415977992354-7.29974445422506i","254.151156408566+19.1409464340001i","-252.268941673323+17.9475624917469i","-246.024494701188-21.3711324122472i","244.014167166252-19.4598413066888i","-18.683512023858+39.3398430745855i","0.190441753500806+1.13879388649898i","-202.196407311755-20.6442176281769i","200.293812506641-18.7254134233812i","-73.7784385270437-5.11491868773473i","73.0869732367625-6.30872639284147i","-246.042588624771-21.3728031536234i","244.032175155925-19.4608333610608i","-10.0980628244179+21.0947053289778i","0.0000345303652977691+0.000206482905410255i","-250.391086199714-24.0839626654046i","247.835750582452-24.0836147532215i","155.554670405662+11.0572505803163i","-154.381486653086+11.0570341224599i","0.00811375939699133+0.0000776575046010919i","-0.00805886470199368+0.000424330491300751i","-8.58492473334096+18.2438275775988i","-0.348918603529112+0.569434866108409i","0.0470749090005948+0.109580193192744i","-0.43289350608545+0.894393902865215i","-0.0510057789011423-0.171568685736058i","0.195350685459469-0.467414806253221i","0.0704504141993464+0.209680160247186i","-0.349398742838535+0.807962581944939i","0.0359993253083758+0.00826427458628012i","-0.432675461344298+0.661025937585332i","0.0538306981899832+0.248863400716895i","-0.275040806000702+0.220886427809828i","0.0271303513844953-0.155873805169119i","-0.274019408152281+1.48225086440773i","0.0228249322861245+0.352355696486046i","0.138185549763707-1.15713603389705i","0.0500676406453782+0.00992318385357658i","-0.432672195927625+0.661004600815431i","0.0402453799332119+0.380925949127024i","0.06421305043449-0.814893679910126i","-0.0951686037546336-0.233039875814677i","0.395643996951984-1.10965168324746i","0.0228210957953874+0.35236044106571i","0.138229334653581-1.15732483261011i","0.0500692298397547+0.00992299131211265i","-0.348912494130114+0.56941671631206i","0.0072969570990203+0.347985793650821i","0.293316658575729-1.32869312402376i","0.010227925243597-0.111196088741294i","-0.11540500753111+0.739336135048355i","0.0704569023154568+0.20970254737589i","-0.349403720096038+0.807974693545887i","0.0359996791610119+0.00826407097554887i","-1.5983494426067+75.6796825584309i","-12.4273298916628-73.9091402846042i","2.03977051458737-218.13761083851i","29.5309592661541+214.445899241262i","-3.74106249602926+211.299723485472i","-31.0009150405275-207.182672128667i","34.6798171463881+13.6556553720592i","-20.4571936240048+73.9091402805572i","6.24365392008518-75.6796825581238i","52.6760786791475-214.445899231066i","-20.7136461327886+218.137610836113i","-53.4205120700455+207.182672118228i","18.2417018177771-211.299723483731i","30.9473339122705+21.5875859965123i","-114.1332263784-11.4230768690007i","112.921200276473-11.4230768862361i","-328.019842347362-24.2626619716658i","325.445493963345-24.2626619218244i","0.0692677635199743+0.00591803221150045i","-0.0686398472890062+0.00591798399450028i","8.5920835962535-18.2591070647837i","-250.375118831324-24.0822907142413i","247.819908426066-24.0822907139389i","155.508572069096+11.0537787657821i","-154.335729715654+11.0537787649077i","0.0527380692827958+0.00395398669371735i","-0.0523185381467188+0.00395398753954944i","-8.58153588860859+18.2366920549475i","34.9956208774349+37.5468935201609i","-41.3490164039823-29.0670094848528i","-103.784313882923-104.991328187761i","117.18313542248+87.4399280561017i","99.4080771005345+102.919070929218i","-114.305959369288-83.3059028942815i","23.1268239984547-10.081916308692i","40.0583637591952+45.7502703648399i","-47.5997980847978-36.6510723238991i","-118.935524604851-127.761606485566i","134.958312920787+109.557299625203i","113.862200315517+125.307558015175i","-131.643675527879-104.639579421391i","27.7101738920616-11.1066485009207i","40.0432682598798+45.8816550786778i","-47.2589498565213-37.6864720865147i","-119.053419986529-127.836948363627i","135.623389612567+106.964242805056i","113.857950310254+125.305746400829i","-131.639182856166-104.63868901947i","27.7096138159607-11.1060588697827i","34.9546264708471+37.7844762862933i","-40.6214708134681-31.2895208333179i","-103.719509848561-104.928689395103i","116.868547124207+88.6449703592432i","99.4046496325676+102.916857983323i","-114.30224074543-83.3042687851885i","23.126243472407-10.0814867116709i","0.941821161184698-0.211216495284603i","0.99703323221762-435.197505204504i","62.3647287374688+427.296529891657i","-3.74136499788076+211.345601087808i","-31.0083668234883-207.227523034341i","47.137787952803+18.3617541267306i","0.97728586871086+0.0191417785617034i","105.825124485546-427.832000523642i","-41.5973163753016+435.325008378736i","-53.4322590259661+207.227642729008i","18.2455787904432-211.345621287285i","42.0049859837953+29.3175978329845i","-0.969650417234415+0.197133375199332i","2.86656996464136-0.074320049944776i","-2.80210732694313+0.49303214408504i","-0.000606021749982042+8.80200143909067E-06i","0.000590298430508585-0.00011093183592194i","-0.0586816202424367+0.165853821225131i","0.296146735126996+1.9235982881893i","875.016164653148+61.4794586705145i","-867.787028102485+67.015597167912i","-0.0992066707408482-0.00843660311223765i","0.0981489942599492-0.00960484564991516i","-27.2680934688347+58.3491744145578i","-0.0137521709208954+0.4415466220624i","-206.892196585844-210.021249126782i","233.756446510042+175.396387498109i","99.4296156957512+102.94151713183i","-114.330782375198-83.3241846381238i","31.4077194983844-13.6827612105273i","0.261716261336701-0.186144028857598i","-237.16578936814-255.930817792348i","269.762501406228+218.004406451416i","113.886879249169+125.334931080308i","-131.67239707862-104.662141986347i","37.6487207438037-15.0657812108712i","0.613827444492102-1.0911707221516i","-237.250176963373-256.383905043173i","270.450055775936+215.786946266956i","113.882621252154+125.333199220827i","-131.667910070805-104.661330815188i","37.6690654961851-15.0549780656053i","0.720878668718001-1.5425111323597i","-206.727536379884-210.642704661981i","233.444123425289+177.287373771161i","99.4261654754861+102.939448527092i","-114.327065907899-83.3226953213495i","31.4441373637576-13.6615907928664i","0.00206530412369199-0.179671867993989i","0.0245505170273006+0.17656820470097i","-3.74052670404691+211.296230783115i","-31.0003139312942-207.179282746227i","17.3501649577875+6.831869345245i","0.0436143190529918-0.176568200047029i","-0.0166691892198045+0.17967186691601i","-53.4195403527589+207.179282739901i","18.2418779640797-211.296230782061i","15.4828217811351+10.8001755907709i","12.824375543857-445.92129131748i","52.3171184888562+439.546459755808i","-0.00247960196036493+0.0505932050226764i","-0.00667227609288213-0.0497198163487102i","30.2349639721353+12.5953267007156i","99.6308370804797-439.546459739097i","-33.8129524121449+445.921291314962i","-0.0120404357152841+0.0497198066776655i","0.00279588863375386-0.0505932041876027i","27.4991685263388+18.4091879598991i","-399.602310822606-260.057626734924i","430.186484894955+196.458768233078i","99.4514037263094+102.947517300828i","-114.353083184068-83.3261149196971i","39.9144075227464-25.5717598835174i","-181.42185067676-122.348676253033i","195.606315177541+95.005474048463i","113.88077538186+125.319677343177i","-131.66371118528-104.648380484123i","27.02498075237-14.7649590382538i","181.213908811597+122.136027519703i","-195.370883521105-94.827484127163i","113.835759204682+125.289541668019i","-131.614420440831-104.627224526133i","0.701754233577297+3.6512447132487i","399.456025759132+259.898637397405i","-430.01939646396-196.324628578663i","99.3581518134562+102.885034072916i","-114.251040823694-83.2819110703262i","-16.775804000208+15.4853918809352i","0.0002019450978911+6.08661138901123E-06i","-3.72784874227813+211.243796145897i","-31.0037390351857-207.126068182369i","17.3339679291063+6.82433147897135i","0.000197615319751102+0.00005534033639501i","-53.3949133788204+207.130548282288i","18.2261881383638-211.24458652329i","15.4686058489095+10.7889996083774i","-0.560412869422599+0.213048107242969i","33.7151708767649-129.567758615187i","-10.7888372663778+131.901102137429i","-9.6489090718513-6.8102683570293i","-0.597154704217601+0.099003431747974i","58.6774956597855-121.870062065509i","-36.4052076329325+128.651918995498i","-8.2556145855202-8.6018378254904i","-0.981004689473944+0.146793403187769i","-0.292607978384913-0.0671982622499501i","0.296356351985205+0.0156565294673238i","-0.040911871237777+0.0906181046559903i","-0.329349672103007+1.6123797667731i","69.0169128532693+77.3282454270586i","-79.8137490033545-65.5491365684181i","8.515668208544-3.3303680757203i","0.329573952428007-1.61247475602801i","158.653065909835+173.204777536184i","-183.406087071331-143.660192991035i","19.183289661419-7.773202809182i","0.000243511802011653-0.00035594896502289i","198.777435170272+205.776199723049i","-228.563260721249-166.558618173545i","23.1182114144311-10.0796164786954i","-3.73575831074319+211.253764004806i","-30.9974804203724-207.137095544742i","17.3345490793615+6.82529190187677i","-53.405146963822+207.138443355343i","18.2350528682747-211.253929548092i","15.4689441672022+10.7900884989744i","44.0543138769585-165.885378731183i","-15.3977874535829+169.244492974599i","-12.3342841562126-8.78147520471831i","76.1583437071783-155.749702921492i","-48.419672961363+164.690392412769i","-10.5198842054279-11.088669456331i","29.2251886376136-55.1279661638509i","-20.3204522339946+58.7549088997904i","-3.68671496774137-4.04258330721412i","37.6450430147035-50.4938706775043i","-29.3192175408981+55.4894234785796i","-3.01836302622477-4.66488819232839i","227.666332095775+250.547923619556i","-263.218531250038-209.224559756014i","27.7000779436571-11.1028113543173i","198.786241399018+205.801895290588i","-228.575872548609-166.582566648188i","23.1206068835747-10.0795549065607i","-0.8986672669337+0.548852220116004i","-0.0028129912719983+0.0197925269225898i","-1.0139764850976+0.335603062799009i","-0.000912355081501559+0.00782726073200024i","1.2775006697758-0.410896027033999i","0.0151185010664001-0.0404046878606206i","1.3465232238129-0.159758625786992i","0.00485827236640013-0.00710883997430045i","-0.4815534190218+0.0432415227878025i","-0.0312315786382+0.0671896850108897i","-0.485875662702203-0.0251040642648945i","-0.00465834017209987-0.0020445333827297i","-0.980285151906903+0.159812165788464i","0.0307539048790902-0.0826127350136886i","-0.819025092011003+3.39351577254899i","0.00529628336119714+0.013508266800299i"]
[{"$f":"COMPLEX(定数!O$13,計算!B8*定数!O$23)","v":"74.3688188913563+11.2222917202202i"},{"$f":"COMPLEX(定数!P$13,計算!B8*定数!P$23)","v":"-73.4757772913563+11.2222917202202i"},{"$f":"COMPLEX(定数!Q$13,計算!B8*定数!Q$23)","v":"125.193786513619+16.0556948498709i"},{"$f":"COMPLEX(定数!R$13,計算!B8*定数!R$23)","v":"-123.916114913619+16.0556948498709i"},{"$f":"COMPLEX(定数!S$13,計算!B8*定数!S$23)","v":"-77.7867441135484-7.37256648939346i"},{"$f":"COMPLEX(定数!T$13,計算!B8*定数!T$23)","v":"77.2000539135484-7.37256648939346i"},{"$f":"COMPLEX(定数!U$13,計算!B8*定数!U$23)","v":"124.646605989444+13.4534583627373i"},{"$f":"COMPLEX(定数!V$13,計算!B8*定数!V$23)","v":"-123.576013789444+13.4534583627373i"},{"$f":"IMPRODUCT(定数!D$31,計算!G8)","v":"1.11112191779525-17.660777149398i"},{"$f":"COMPLEX(定数!O$14,計算!B8*定数!O$24)","v":"86.1948356167649+13.7801337313714i"},{"$f":"COMPLEX(定数!P$14,計算!B8*定数!P$24)","v":"-85.0982474167649+13.7801337313714i"},{"$f":"COMPLEX(定数!Q$14,計算!B8*定数!Q$24)","v":"57.0863694248256+7.61765595428458i"},{"$f":"COMPLEX(定数!R$14,計算!B8*定数!R$24)","v":"-56.4801756248256+7.61765595428458i"},{"$f":"COMPLEX(定数!S$14,計算!B8*定数!S$24)","v":"163.969671876329+16.1712954042337i"},{"$f":"COMPLEX(定数!T$14,計算!B8*定数!T$24)","v":"-162.682801076329+16.1712954042337i"},{"$f":"COMPLEX(定数!U$14,計算!B8*定数!U$24)","v":"-101.525845343051-11.6106227299347i"},{"$f":"COMPLEX(定数!V$14,計算!B8*定数!V$24)","v":"100.601901343051-11.6106227299347i"},{"$f":"IMPRODUCT(定数!D$32,計算!G8)","v":"-1.11112191779525+17.660777149398i"},{"$f":"COMPLEX(定数!O$15,計算!B8*定数!O$25)","v":"86.1919999827348+13.7799804230975i"},{"$f":"COMPLEX(定数!P$15,計算!B8*定数!P$25)","v":"-85.0954239827348+13.7799804230975i"},{"$f":"COMPLEX(定数!Q$15,計算!B8*定数!Q$25)","v":"-57.0828842529623-7.61762830906944i"},{"$f":"COMPLEX(定数!R$15,計算!B8*定数!R$25)","v":"56.4766926529622-7.61762830906944i"},{"$f":"COMPLEX(定数!S$15,計算!B8*定数!S$25)","v":"-163.956966054068-16.1698628396824i"},{"$f":"COMPLEX(定数!T$15,計算!B8*定数!T$25)","v":"162.670209254068-16.1698628396824i"},{"$f":"COMPLEX(定数!U$15,計算!B8*定数!U$25)","v":"-101.548680976766-11.612904784058i"},{"$f":"COMPLEX(定数!V$15,計算!B8*定数!V$25)","v":"100.624555376766-11.612904784058i"},{"$f":"IMPRODUCT(定数!D$33,計算!G8)","v":"0"},{"$f":"COMPLEX(定数!O$16,計算!B8*定数!O$26)","v":"74.3664237452132+11.2220705520719i"},{"$f":"COMPLEX(定数!P$16,計算!B8*定数!P$26)","v":"-73.4733997452132+11.2220705520719i"},{"$f":"COMPLEX(定数!Q$16,計算!B8*定数!Q$26)","v":"-125.201328746793-16.0565367966657i"},{"$f":"COMPLEX(定数!R$16,計算!B8*定数!R$26)","v":"123.923590146793-16.0565367966657i"},{"$f":"COMPLEX(定数!S$16,計算!B8*定数!S$26)","v":"77.7704269443536+7.37052571078888i"},{"$f":"COMPLEX(定数!T$16,計算!B8*定数!T$26)","v":"-77.1838991443536+7.37052571078888i"},{"$f":"COMPLEX(定数!U$16,計算!B8*定数!U$26)","v":"124.65071095008+13.4533628582902i"},{"$f":"COMPLEX(定数!V$16,計算!B8*定数!V$26)","v":"-123.58012635008+13.4533628582902i"},{"$f":"IMPRODUCT(定数!D$34,計算!G8)","v":"0"},{"$f":"IMDIV(COMPLEX(定数!O$17,計算!B8*定数!O$27),計算!R8)","v":"-0.0868060118391206-0.110708177597347i"},{"$f":"IMPRODUCT(COMPLEX(定数!P$17,計算!B8*定数!P$27),計算!R8)","v":"-0.669852511957085+0.363624171812966i"},{"$f":"IMDIV(COMPLEX(定数!Q$17,計算!B8*定数!Q$27),計算!S8)","v":"-0.041660415793861-0.122089835338316i"},{"$f":"IMPRODUCT(COMPLEX(定数!R$17,計算!B8*定数!R$27),計算!S8)","v":"-0.948128119088971+0.685847893488015i"},{"$f":"IMDIV(COMPLEX(定数!S$17,計算!B8*定数!S$27),計算!T8)","v":"-0.0476786317214515-0.00215948474277066i"},{"$f":"IMPRODUCT(COMPLEX(定数!T$17,計算!B8*定数!T$27),計算!T8)","v":"0.472350655817348-0.406954572072564i"},{"$f":"IMDIV(COMPLEX(定数!U$17,計算!B8*定数!U$27),計算!U8)","v":"0.0328522880766531-0.0474463801696296i"},{"$f":"IMPRODUCT(COMPLEX(定数!V$17,計算!B8*定数!V$27),計算!U8)","v":"-0.82230250454743+0.675696769154967i"},{"$f":"IMPRODUCT(定数!E$31,計算!G8)","v":"0"},{"$f":"IMDIV(COMPLEX(定数!O$18,計算!B8*定数!O$28),計算!R8)","v":"-0.125044374094778-0.147509181503216i"},{"$f":"IMPRODUCT(COMPLEX(定数!P$18,計算!B8*定数!P$28),計算!R8)","v":"-0.804075622806081+0.434935418212661i"},{"$f":"IMDIV(COMPLEX(定数!Q$18,計算!B8*定数!Q$28),計算!S8)","v":"-0.0273781158663662-0.0641394358525562i"},{"$f":"IMPRODUCT(COMPLEX(定数!R$18,計算!B8*定数!R$28),計算!S8)","v":"-0.442228998479024+0.31918820639965i"},{"$f":"IMDIV(COMPLEX(定数!S$18,計算!B8*定数!S$28),計算!T8)","v":"0.0841195116647555-0.0147664103212766i"},{"$f":"IMPRODUCT(COMPLEX(定数!T$18,計算!B8*定数!T$28),計算!T8)","v":"-1.01561287457742+0.873128048914896i"},{"$f":"IMDIV(COMPLEX(定数!U$18,計算!B8*定数!U$28),計算!U8)","v":"-0.00940181742393763+0.0583059794443877i"},{"$f":"IMPRODUCT(COMPLEX(定数!V$18,計算!B8*定数!V$28),計算!U8)","v":"0.690714263756791-0.565782047686355i"},{"$f":"IMPRODUCT(定数!E$32,計算!G8)","v":"0"},{"$f":"IMDIV(COMPLEX(定数!O$19,計算!B8*定数!O$29),計算!R8)","v":"-0.125049737369704-0.147511775309955i"},{"$f":"IMPRODUCT(COMPLEX(定数!P$19,計算!B8*定数!P$29),計算!R8)","v":"-0.804059922684596+0.434926344467403i"},{"$f":"IMDIV(COMPLEX(定数!Q$19,計算!B8*定数!Q$29),計算!S8)","v":"0.0273888068900724+0.0641480113989147i"},{"$f":"IMPRODUCT(COMPLEX(定数!R$19,計算!B8*定数!R$29),計算!S8)","v":"0.442216603156047-0.319178239679689i"},{"$f":"IMDIV(COMPLEX(定数!S$19,計算!B8*定数!S$29),計算!T8)","v":"-0.084117663439182+0.0147597617799583i"},{"$f":"IMPRODUCT(COMPLEX(定数!T$19,計算!B8*定数!T$29),計算!T8)","v":"1.01552850816636-0.873056041566005i"},{"$f":"IMDIV(COMPLEX(定数!U$19,計算!B8*定数!U$29),計算!U8)","v":"-0.00941269725340758+0.0583091667729392i"},{"$f":"IMPRODUCT(COMPLEX(定数!V$19,計算!B8*定数!V$29),計算!U8)","v":"0.690859054667727-0.565901524053576i"},{"$f":"IMPRODUCT(定数!E$33,計算!G8)","v":"0"},{"$f":"IMDIV(COMPLEX(定数!O$20,計算!B8*定数!O$30),計算!R8)","v":"-0.0868076476201359-0.11070809374155i"},{"$f":"IMPRODUCT(COMPLEX(定数!P$20,計算!B8*定数!P$30),計算!R8)","v":"-0.669835964003984+0.363614907560736i"},{"$f":"IMDIV(COMPLEX(定数!Q$20,計算!B8*定数!Q$30),計算!S8)","v":"0.0416593823891508+0.122093610975731i"},{"$f":"IMPRODUCT(COMPLEX(定数!R$20,計算!B8*定数!R$30),計算!S8)","v":"0.94818105615331-0.685886485410336i"},{"$f":"IMDIV(COMPLEX(定数!S$20,計算!B8*定数!S$30),計算!T8)","v":"0.0476814767160748+0.00217417879658629i"},{"$f":"IMPRODUCT(COMPLEX(定数!T$20,計算!B8*定数!T$30),計算!T8)","v":"-0.472235948589838+0.406857215981034i"},{"$f":"IMDIV(COMPLEX(定数!U$20,計算!B8*定数!U$30),計算!U8)","v":"0.0328676933302396-0.047431718516974i"},{"$f":"IMPRODUCT(COMPLEX(定数!V$20,計算!B8*定数!V$30),計算!U8)","v":"-0.822312305592761+0.675706297304936i"},{"$f":"IMPRODUCT(定数!E$34,計算!G8)","v":"0"},"-0.943731097048308+0.293309988270837i","1.67779112714604-0.0372866836652328i","-1.59728739779621+0.456924292943436i","-1.03729838507351+0.0573936584235695i","1.00033211841079-0.25008579693158i","1.66543468124794-0.070413051454387i","-1.59797864269091+0.422037640527113i","-0.0204292898915327-0.234392773187155i","0.288350222862292+1.5030682313909i","-88.0443764661004-12.2886105818771i","87.4942269228214-9.75602441621542i","254.170327951685+25.5183689166179i","-252.352479310951+23.9426891933522i","-246.048015189152-28.4912939630095i","244.155142895031-25.9677283831004i","-2.58018639401335+38.1457420507648i","0.288452614030305+1.5036019611156i","-202.208866825915-27.5237433573585i","200.446495827834-24.990257886869i","-73.7592601762345-6.82278560631217i","73.0034059354642-8.39902484316978i","-246.066117464706-28.4935203578614i","244.173200944265-25.9690586762757i","-1.46908647185626+20.4842971172635i","0.0000523014189042215+0.000272628879699255i","-250.391088458838-32.1119498796364i","247.835778266562-32.1114905151748i","155.554673883026+14.7430002490189i","-154.381501805274+14.7427144497527i","0.00810949321399335+0.000104187108899367i","-0.0080332943019954+0.000561915402400359i","-1.11111900871452+17.6602112261431i","-0.78424585901297+0.284606492231173i","0.108109881449976+0.060418654433335i","-1.13736752362427+0.548678892161618i","-0.144076314946561-0.112014783986324i","0.586872040352443-0.317918576900451i","0.185217331339927+0.13081858212057i","-1.00773967558376+0.535422870203325i","0.024175811581349-0.022608391297788i","-0.965349803446814+0.332403180427006i","0.187920353677811+0.178687670025126i","-0.70936132984695+0.14070946194514i","-0.0540549072238215-0.160600691983494i","-0.853637019732883+0.989414398985747i","0.209237991475627+0.295168130175124i","0.42864159764698-0.748725136725161i","0.0320205183554187-0.032323005446119i","-0.965339925604083+0.332393231927775i","0.242696371603783+0.306979269163793i","0.175074519923361-0.497658676578412i","-0.222297794512236-0.131076902615831i","1.17751037674129-0.756768438105848i","0.209236226468071+0.295175259674821i","0.428776723475054-0.748846494436259i","0.0320210167570751-0.032324315548632i","-0.784230830201539+0.284597786907177i","0.191432421005157+0.304601899062021i","0.758939077121359-0.823054605366842i","-0.0487178984892495-0.107680939580027i","-0.357712948701598+0.495892718183902i","0.185235454975405+0.13083298893654i","-1.00775205518192+0.535433222714227i","0.0241757585083116-0.0226087729999221i","0.13489205091139+57.3451335705523i","-14.1605713852254-54.9844105376929i","-2.97244680776798-164.879387137043i","34.5431765886025+159.957105005107i","1.10776937925029+159.868528151871i","-35.8497469159107-154.379126340262i","24.6431725132136-1.32667182378583i","-18.7239521305389+54.984410534656i","4.51041242657435-57.3451335703214i","47.6638613569428-159.957104997455i","-15.7014288104905+164.879387135246i","-48.571680194912+154.379126332427i","13.3928699425395-159.868528150564i","24.1601020775333+6.35151286752397i","-114.133226378189-15.2307691636826i","112.921200276263-15.2307691766302i","-328.01984234797-32.3502159477176i","325.445493963955-32.3502159102756i","0.0692677641110038+0.00789069558480193i","-0.068639847881002+0.00789065936329791i","1.11201613230027-17.6749902369531i","-250.375118831329-32.1097209522321i","247.819908426071-32.1097209520087i","155.508572069111+14.7383716874502i","-154.335729715668+14.7383716868038i","0.0527380692677086+0.00527198250916872i","-0.052318538132047+0.00527198313441197i","-1.11065101049658+17.6532922914451i","1.07284816838497+48.5106732630835i","-13.92089256762-45.7076973041518i","-8.28872098197495-139.123156384935i","35.1988355289262+133.456786597284i","6.03037989236307+135.025824648415i","-36.0040578979405-128.65250605363i","20.7793176168046-1.91758263070835i","0.389749780338356+59.4817788106483i","-15.4169403611756-56.7166793944268i","-7.21200614783347-170.418779667677i","38.7954244348373+165.374903236282i","4.63668864667711+165.470408366946i","-39.7833612431656-159.529609928149i","25.4662333878452-1.93178607720513i","0.444163738152854+59.6093410072038i","-14.5319785665327-57.3544362149049i","-7.37912851811226-170.387201663295i","40.8250866250998+163.626935540882i","4.63563082446809+165.468407348392i","-39.7817679580711-159.528018890725i","25.4659320485373-1.93160976979591i","1.15597344957752+48.7538671593048i","-12.0241545450448-47.0785297078798i","-8.19268641827758-139.116003646005i","34.2530511851998+134.267983265125i","6.02978407030814+135.02309608824i","-36.0028798491212-128.649976477883i","20.7788991741359-1.91746814658331i","0.925666850464301-0.279466244842801i","-8.99738346794194-328.924000917396i","72.3248336159763+318.393945979017i","1.10851889384721+159.903240373886i","-35.8582423462421-154.412470748724i","33.4402270527582-1.96278289642907i","0.97874987481252+0.0253270037421984i","95.824065611814-319.102441641589i","-31.593147946326+329.092703812661i","-48.5823743478055+154.412629129708i","13.3956933536505-159.903267102154i","32.7973379871189+8.63426158637234i","-0.954573215089493+0.26083248857654i","2.86088580071024-0.0983348639367128i","-2.76439912407138+0.652344135077578i","-0.00060534854216173+0.0000116462871209008i","0.000581814104160718-0.000146777027264919i","0.0107317649607016+0.153430668332217i","0.443267841366008+2.5451648054151i","874.960699425683+81.9800131810421i","-867.419077044428+89.3050275512461i","-0.0992001029399884-0.0112496497366456i","0.098066206722611-0.0127954439780778i","-3.35030002885299+56.4131080857072i","-0.2436208124884+0.319458381121102i","-16.1283075280292-277.801154327522i","69.8102692577084+266.85978306339i","6.03159430866701+135.055178019056i","-36.0118023485487-128.680572778072i","28.2108290824237-2.60279558574745i","0.4698847318631-0.0386259610319968i","-14.1761683862922-340.551030076429i","78.6754379373198+329.552029495294i","4.63761732301294+165.506411035896i","-39.7923185637552-159.564160059687i","34.588379761316-2.6299301161251i","1.4400609983386-0.5688082534503i","-14.5115066870846-340.879042159742i","80.9387364756826+328.12119799807i","4.63659392583992+165.504486603211i","-39.7907756606688-159.56263525303i","34.6070664172737-2.63947154614126i","1.795899246168-0.840909417157903i","-16.2939993396707-278.481577439895i","69.2529224803855+268.289038435262i","6.03105163868581+135.052595707851i","-36.0107083584675-128.678172495082i","28.2468319608065-2.61804496880521i","-0.00206234970741015-0.135823370960964i","0.0286781708955033+0.131685152206046i","1.10822542598563+159.86587531647i","-35.8490660613882-154.376611265747i","12.3288750606733-0.66372581064789i","0.0394866652906103-0.131685148686984i","-0.0125415354233986+0.135823370149012i","-48.5707882228131+154.376611261002i","13.3931258340719-159.865875315678i","12.0871972753147+3.17763258082444i","2.56472233051902-336.7085129941i","62.576771702368+328.208737574311i","-0.00131729285232162+0.0382458907307331i","-0.00783458530931975-0.0370813699257966i","21.6438749838529-0.603686513068286i","89.3711838674047-328.208737561973i","-23.5532991988723+336.708512992238i","-0.0108781267365087+0.0370813626616992i","0.00163357954674692-0.038245890103509i","21.2897992075435+5.02418677937479i","-99.2046590725504-386.310007355319i","171.63655184029+356.413283402453i","6.04079012267878+135.067686919513i","-36.0236223447093-128.690412133571i","35.0024858380695-8.18000390969785i","-43.4929452466858-182.878707566549i","76.7370837138935+170.428071334883i","4.64129648540851+165.488566891645i","-39.7916088735817-159.546125801291i","24.3905641265026-4.16837981921214i","43.4763758298717+182.596627121608i","-76.6656571627844-170.156910350941i","4.63116690675699+165.444899610807i","-39.7713735369103-159.506629644816i","1.090658009046+2.23520652806308i","99.1981771330853+386.101317070054i","-171.589084655998-356.211717327316i","6.01940559122836+134.976853797386i","-35.9814807735884-128.608113037452i","-14.2123883634254+6.26181442453256i","0.000249127341042998-0.0000110804035909906i","1.11698935260605+159.820669477536i","-35.847393657968-154.331127633027i","12.3166329248403-0.663806714168682i","0.000243713102062299+0.0000688360355380058i","-48.5485273639724+154.335668603863i","13.3808501132139-159.821477656427i","12.0754095986497+3.17381611521844i","-0.432606750287+0.237915544174996i","24.2717302705386-111.493769167155i","1.56630902470895+112.773121433921i","-8.6895173570562-1.49599720516234i","-0.483945067768499+0.116848936470035i","52.4708518876346-102.636508979854i","-27.5643472760129+110.551997522247i","-8.1072694808663-3.67295011636239i","-0.972567858322297+0.194541398357775i","-0.331771898151209-0.0695620807424439i","0.334983120537729-0.00722667294025608i","-0.00196378062765389+0.0901029457888067i","-1.14023639666371+1.02729677112299i","2.93298290654703+101.789091181875i","-23.9006017461501-98.5991549512479i","7.8272432493917-0.60867099458404i","1.1406717413401-1.02725472387499i","6.35360532143765+229.049636352818i","-55.6547916862736-220.359228048926i","17.6285300684185-1.32356328741328i","0.000564158390005787-0.000138383088028604i","12.0725621190209+269.974852247635i","-72.0014236415511-257.228664290895i","20.7712811360771-1.91801526526445i","1.10684360732717+159.83373979846i","-35.8402073586859-154.345963552131i","12.3176775624548-0.663074596469139i","-48.5624804627669+154.345030922744i","13.3925136535989-159.833486754933i","12.0761830203869+3.17485536370675i","30.8350260053437-143.587458964617i","1.80408163712563+145.408984032097i","-11.1855772422969-1.88070360805459i","67.3606297812161-132.122843605158i","-35.9807111802201+142.367953820894i","-10.4338647520914-4.70864362552287i","31.6282830779203-57.5960107412338i","-18.9218640632839+62.6659310627558i","-4.55198863190342-2.15463257842831i","42.9735806913321-50.5530876428222i","-31.4323746822345+58.1535356400458i","-4.05446139488761-3.11905857016396i","9.26575429019205+330.858928631469i","-79.5392643193043-318.982378187475i","25.4574072581649-1.93070593750967i","12.0553139053027+270.009319012969i","-71.991738269498-257.265821805007i","20.7740001194467-1.91681669109129i","-0.684299840391802+0.468824496810015i","0.00713644305450067+0.010030616848158i","-0.804962790638299+0.248089055907997i","0.00585622377050043+0.000932684264309813i","1.09848102724619-0.456816064824977i","-0.00927943882719973-0.03305365310624i","1.1909440693022-0.164848826769003i","-0.00654244516030111-0.00466407836072058i","-0.521538423191799+0.0491836849446017i","0.00189636522774972+0.07038914237092i","-0.5244536178853-0.0502613432572971i","-0.00148310691293929+0.00597935390227988i","-0.970075569180152+0.213235238184993i","-0.00367773985456137-0.0770463846855845i","-2.7216713192679+2.09300428845199i","0.0150945664896014+0.00502569519910989i"]
[{"$f":"COMPLEX(定数!O$13,計算!B9*定数!O$23)","v":"74.3688188913563+14.0278646502752i"},{"$f":"COMPLEX(定数!P$13,計算!B9*定数!P$23)","v":"-73.4757772913563+14.0278646502752i"},{"$f":"COMPLEX(定数!Q$13,計算!B9*定数!Q$23)","v":"125.193786513619+20.0696185623386i"},{"$f":"COMPLEX(定数!R$13,計算!B9*定数!R$23)","v":"-123.916114913619+20.0696185623386i"},{"$f":"COMPLEX(定数!S$13,計算!B9*定数!S$23)","v":"-77.7867441135484-9.21570811174183i"},{"$f":"COMPLEX(定数!T$13,計算!B9*定数!T$23)","v":"77.2000539135484-9.21570811174183i"},{"$f":"COMPLEX(定数!U$13,計算!B9*定数!U$23)","v":"124.646605989444+16.8168229534216i"},{"$f":"COMPLEX(定数!V$13,計算!B9*定数!V$23)","v":"-123.576013789444+16.8168229534216i"},{"$f":"IMPRODUCT(定数!D$31,計算!G9)","v":"-4.57243867402811-14.0725192317996i"},{"$f":"COMPLEX(定数!O$14,計算!B9*定数!O$24)","v":"86.1948356167649+17.2251671642143i"},{"$f":"COMPLEX(定数!P$14,計算!B9*定数!P$24)","v":"-85.0982474167649+17.2251671642143i"},{"$f":"COMPLEX(定数!Q$14,計算!B9*定数!Q$24)","v":"57.0863694248256+9.52206994285573i"},{"$f":"COMPLEX(定数!R$14,計算!B9*定数!R$24)","v":"-56.4801756248256+9.52206994285573i"},{"$f":"COMPLEX(定数!S$14,計算!B9*定数!S$24)","v":"163.969671876329+20.2141192552921i"},{"$f":"COMPLEX(定数!T$14,計算!B9*定数!T$24)","v":"-162.682801076329+20.2141192552921i"},{"$f":"COMPLEX(定数!U$14,計算!B9*定数!U$24)","v":"-101.525845343051-14.5132784124184i"},{"$f":"COMPLEX(定数!V$14,計算!B9*定数!V$24)","v":"100.601901343051-14.5132784124184i"},{"$f":"IMPRODUCT(定数!D$32,計算!G9)","v":"4.57243867402811+14.0725192317996i"},{"$f":"COMPLEX(定数!O$15,計算!B9*定数!O$25)","v":"86.1919999827348+17.2249755288718i"},{"$f":"COMPLEX(定数!P$15,計算!B9*定数!P$25)","v":"-85.0954239827348+17.2249755288718i"},{"$f":"COMPLEX(定数!Q$15,計算!B9*定数!Q$25)","v":"-57.0828842529623-9.5220353863368i"},{"$f":"COMPLEX(定数!R$15,計算!B9*定数!R$25)","v":"56.4766926529622-9.5220353863368i"},{"$f":"COMPLEX(定数!S$15,計算!B9*定数!S$25)","v":"-163.956966054068-20.212328549603i"},{"$f":"COMPLEX(定数!T$15,計算!B9*定数!T$25)","v":"162.670209254068-20.212328549603i"},{"$f":"COMPLEX(定数!U$15,計算!B9*定数!U$25)","v":"-101.548680976766-14.5161309800725i"},{"$f":"COMPLEX(定数!V$15,計算!B9*定数!V$25)","v":"100.624555376766-14.5161309800725i"},{"$f":"IMPRODUCT(定数!D$33,計算!G9)","v":"0"},{"$f":"COMPLEX(定数!O$16,計算!B9*定数!O$26)","v":"74.3664237452132+14.0275881900899i"},{"$f":"COMPLEX(定数!P$16,計算!B9*定数!P$26)","v":"-73.4733997452132+14.0275881900899i"},{"$f":"COMPLEX(定数!Q$16,計算!B9*定数!Q$26)","v":"-125.201328746793-20.0706709958322i"},{"$f":"COMPLEX(定数!R$16,計算!B9*定数!R$26)","v":"123.923590146793-20.0706709958322i"},{"$f":"COMPLEX(定数!S$16,計算!B9*定数!S$26)","v":"77.7704269443536+9.21315713848611i"},{"$f":"COMPLEX(定数!T$16,計算!B9*定数!T$26)","v":"-77.1838991443536+9.21315713848611i"},{"$f":"COMPLEX(定数!U$16,計算!B9*定数!U$26)","v":"124.65071095008+16.8167035728627i"},{"$f":"COMPLEX(定数!V$16,計算!B9*定数!V$26)","v":"-123.58012635008+16.8167035728627i"},{"$f":"IMPRODUCT(定数!D$34,計算!G9)","v":"0"},{"$f":"IMDIV(COMPLEX(定数!O$17,計算!B9*定数!O$27),計算!R9)","v":"-0.136956938123955-0.0481035314736535i"},{"$f":"IMPRODUCT(COMPLEX(定数!P$17,計算!B9*定数!P$27),計算!R9)","v":"-0.752825320508928-0.124332341989918i"},{"$f":"IMDIV(COMPLEX(定数!Q$17,計算!B9*定数!Q$27),計算!S9)","v":"-0.103212406540588-0.0927785350716741i"},{"$f":"IMPRODUCT(COMPLEX(定数!R$17,計算!B9*定数!R$27),計算!S9)","v":"-1.17130033001687-0.00298988434472872i"},{"$f":"IMDIV(COMPLEX(定数!S$17,計算!B9*定数!S$27),計算!T9)","v":"-0.0419919107302252+0.0326626291976223i"},{"$f":"IMPRODUCT(COMPLEX(定数!T$17,計算!B9*定数!T$27),計算!T9)","v":"0.620578327494636-0.0645132377229218i"},{"$f":"IMDIV(COMPLEX(定数!U$17,計算!B9*定数!U$27),計算!U9)","v":"0.00234103338155776-0.0718602419089578i"},{"$f":"IMPRODUCT(COMPLEX(定数!V$17,計算!B9*定数!V$27),計算!U9)","v":"-1.06221986753121+0.0792176043241415i"},{"$f":"IMPRODUCT(定数!E$31,計算!G9)","v":"0"},{"$f":"IMDIV(COMPLEX(定数!O$18,計算!B9*定数!O$28),計算!R9)","v":"-0.189872524369329-0.0572084940398018i"},{"$f":"IMPRODUCT(COMPLEX(定数!P$18,計算!B9*定数!P$28),計算!R9)","v":"-0.902713448541864-0.150811764158653i"},{"$f":"IMDIV(COMPLEX(定数!Q$18,計算!B9*定数!Q$28),計算!S9)","v":"-0.0587713306211204-0.0447095024659644i"},{"$f":"IMPRODUCT(COMPLEX(定数!R$18,計算!B9*定数!R$28),計算!S9)","v":"-0.545923740414479-0.00210910078133752i"},{"$f":"IMDIV(COMPLEX(定数!S$18,計算!B9*定数!S$28),計算!T9)","v":"0.0642303919488334-0.0763255284568992i"},{"$f":"IMPRODUCT(COMPLEX(定数!T$18,計算!B9*定数!T$28),計算!T9)","v":"-1.33332601517682+0.136824078618069i"},{"$f":"IMDIV(COMPLEX(定数!U$18,計算!B9*定数!U$28),計算!U9)","v":"0.0234215701560518+0.0656434849691436i"},{"$f":"IMPRODUCT(COMPLEX(定数!V$18,計算!B9*定数!V$28),計算!U9)","v":"0.891276565641648-0.0647399323208329i"},{"$f":"IMPRODUCT(定数!E$32,計算!G9)","v":"0"},{"$f":"IMDIV(COMPLEX(定数!O$19,計算!B9*定数!O$29),計算!R9)","v":"-0.189878355188123-0.0572071778049672i"},{"$f":"IMPRODUCT(COMPLEX(定数!P$19,計算!B9*定数!P$29),計算!R9)","v":"-0.902695462249511-0.150809406548491i"},{"$f":"IMDIV(COMPLEX(定数!Q$19,計算!B9*定数!Q$29),計算!S9)","v":"0.0587850119292372+0.0447103194811527i"},{"$f":"IMPRODUCT(COMPLEX(定数!R$19,計算!B9*定数!R$29),計算!S9)","v":"0.545907864545553+0.00211007240200632i"},{"$f":"IMDIV(COMPLEX(定数!S$19,計算!B9*定数!S$29),計算!T9)","v":"-0.0642323360769429+0.076317485708463i"},{"$f":"IMPRODUCT(COMPLEX(定数!T$19,計算!B9*定数!T$29),計算!T9)","v":"1.33321553395418-0.136813239086164i"},{"$f":"IMDIV(COMPLEX(定数!U$19,計算!B9*定数!U$29),計算!U9)","v":"0.0234140481740194+0.065654659344908i"},{"$f":"IMPRODUCT(COMPLEX(定数!V$19,計算!B9*定数!V$29),計算!U9)","v":"0.891463870361012-0.0647543846373571i"},{"$f":"IMPRODUCT(定数!E$33,計算!G9)","v":"0"},{"$f":"IMDIV(COMPLEX(定数!O$20,計算!B9*定数!O$30),計算!R9)","v":"-0.136958174373545-0.0481022464059927i"},{"$f":"IMPRODUCT(COMPLEX(定数!P$20,計算!B9*定数!P$30),計算!R9)","v":"-0.752806548494205-0.12432955461031i"},{"$f":"IMDIV(COMPLEX(定数!Q$20,計算!B9*定数!Q$30),計算!S9)","v":"0.103213675247721+0.0927831085270307i"},{"$f":"IMPRODUCT(COMPLEX(定数!R$20,計算!B9*定数!R$30),計算!S9)","v":"1.17136589566166+0.00298974936045245i"},{"$f":"IMDIV(COMPLEX(定数!S$20,計算!B9*定数!S$30),計算!T9)","v":"0.0420021442130222-0.0326499170261808i"},{"$f":"IMPRODUCT(COMPLEX(定数!T$20,計算!B9*定数!T$30),計算!T9)","v":"-0.620428404161991+0.0644990509265811i"},{"$f":"IMDIV(COMPLEX(定数!U$20,計算!B9*定数!U$30),計算!U9)","v":"0.00236201216440612-0.0718567391680831i"},{"$f":"IMPRODUCT(COMPLEX(定数!V$20,計算!B9*定数!V$30),計算!U9)","v":"-1.0622333223669+0.0792200345822992i"},{"$f":"IMPRODUCT(定数!E$34,計算!G9)","v":"0"},"-0.919689874321252+0.362102694770809i","1.67473491527943-0.0460318747201345i","-1.55983548979671+0.56409097677331i","-1.03259410025384+0.0708547243837451i","0.979833776774518-0.3087407337428i","1.65966325879184-0.0869276761728473i","-1.56338622742769+0.521022034846182i","-0.0938374598581205-0.17152591954458i","0.4115495667982+1.8555967364756i","-88.0600380362784-15.3578090539452i","87.6861493781434-12.2312320125977i","254.194435078434+31.8934139240179i","-252.457523146284+29.9481754503676i","-246.077590867072-35.6085387231466i","244.33241186816-32.4930979490251i","9.70618046404262+30.4735336032805i","0.411695705249599+1.8562556467728i","-202.224533957414-34.4017239742891i","200.638486433567-31.2740367058287i","-73.735144489202-8.5330308443337i","72.8983247997501-10.4789600594772i","-246.095703644757-35.6113197357403i","244.35053286445-32.4947726889219i","5.13350857174838+16.4005100041726i","0.0000746475096065069+0.000336571054400991i","-250.391091299559-40.1399368137131i","247.835813077759-40.139369710252i","155.554678255615+18.4287494864915i","-154.38152085829+18.4283966560778i","0.00810412872999677+0.000131245764798393i","-0.00800114097698668+0.000696329312198429i","4.57226133968556+14.0720824598334i","-0.896201648094174-0.118980196443088i","0.128368455359755-0.0185222559822787i","-1.41206539073173-0.00076730691966291i","-0.186821199490302-0.0073047475002327i","0.7696248810349-0.0596639583704571i","0.233824959829226-0.003929926470862i","-1.30139945819656+0.0753707883152429i","-0.00460068871413766-0.0280055779534143i","-1.09805263647174-0.134672484115156i","0.261848229623007+0.0423593716984822i","-0.874364437745691+0.015760437631465i","-0.135884348592839-0.121945316504571i","-1.12961991009214+0.134257510905286i","0.343519024150114+0.144085143305317i","0.564625590100607-0.055251134986249i","-0.00800441583772929-0.0379363591017033i","-1.09803953611221-0.134666804621947i","0.379414276660426+0.131776720897645i","0.217458814572445+0.0199849530368856i","-0.264353004226245+0.0306994699381748i","1.53692694589675-0.139382896701569i","0.343521064946566+0.144093626314958i","0.564804464785526-0.0552604915342879i","-0.00800518875534415-0.0379372357261251i","-0.896183547719218-0.118975779550456i","0.334796548384343+0.16703717856186i","0.930599631495891+0.00521502863690112i","-0.102828330037973-0.0726158791766269i","-0.471381036055354+0.0693466894457408i","0.233847878662151-0.00392866397387311i","-1.30141417621926+0.0753758717437598i","-0.00460102514307113-0.028005669414777i","0.938578846824173+46.4328516844632i","-14.9642581811578-43.4819478927583i","-5.29656199615138-133.085002074258i","36.8672917770264+126.93214940802i","3.35612436517487+129.201505291974i","-38.0981019018805-122.339753025995i","14.7703691463072-7.63212684988425i","-17.9202653346491+43.481947890328i","3.70672563066495-46.4328516842789i","45.3397461686255-126.932149401898i","-13.377313622132+133.085002072819i","-46.3233252090514+122.339753019726i","11.144514956633-129.201505290928i","16.7582787566331-1.51397016724798i","-114.133226378104-19.0384614575147i","112.921200276177-19.0384614678788i","-328.019842348214-40.4377699262284i","325.445493964199-40.4377698962575i","0.0692677643459945+0.00986336133630061i","-0.0686398481169874+0.00986333234260428i","-4.57611849173268-14.0838445522882i","-250.375118831331-40.1371511902371i","247.819908426072-40.1371511900637i","155.508572069116+18.4229646091591i","-154.33572971567+18.4229646086579i","0.0527380692625508+0.00658997828497115i","-0.0523185381302347+0.00658997876983655i","4.57050081737556+14.0665551223849i","-21.105293573557+36.8179144158458i","7.43449804331139-41.1729385683856i","55.5491461117846-108.369574331794i","-27.0536253244452+117.619698833265i","-55.8372232848109+104.125600023972i","24.0587536934054-114.38925461086i","15.1943288201102+0.609075161505769i","-25.2713683039178+45.3744602429801i","9.44904289455581-50.4707608245773i","66.7438113428556-133.394110374604i","-33.7415022294007+144.467038855531i","-66.9977287969878+128.241096213539i","30.201777289377-140.424445142339i","18.5973578789112+0.556523736862119i","-25.1533205395339+45.4634097410541i","10.5405538723696-50.4659490744438i","66.6140278099658-133.240060238149i","-31.0740242704283+144.191730962911i","-66.9964250761799+128.239765094811i","30.2010763678372-140.422825207913i","18.5971289679335+0.556447515260813i","-20.8983490619153+37.0027659627173i","9.77689088349475-41.1661321530124i","55.6317576691554-108.432788204764i","-28.293801284978+117.7463596788i","-55.8358215348687+104.123591496221i","24.0579665863065-114.386960155866i","15.1940184655084+0.60902845395414i","0.905256881991999-0.345928237479896i","-13.6268241682386-265.476382121898i","76.9109234599991+252.321044762243i","3.35736111245789+129.229560326488i","-38.107073991033-122.366100056514i","19.9874364759557-10.479903745246i","0.9805995556116+0.0313502110554964i","91.1862329372426-253.198033176394i","-26.9513865420534+265.685205538079i","-46.3335311353807+122.366296108875i","11.1468491828815-129.229593412239i","22.7536162853473-2.04610545230988i","-0.935524106419395+0.322863045932343i","2.85370421254016-0.121720625765382i","-2.71675715127748+0.80748305410178i","-0.000604497981370588+0.0000144160489927621i","0.000571094680164682-0.000181683257869326i","0.0590358038885651+0.113550576695418i","0.629146223414011+3.15044980002541i","874.890622552644+102.486705899868i","-866.954193728675+111.553737705695i","-0.0991918037943982-0.0140634286078521i","0.0979616086697743-0.0159768749871494i","14.7940005667156+44.8663232421789i","-0.42286887463323+0.0852272841792043i","111.295911707468-216.005961337972i","-54.6617405920517+234.687198030127i","-55.8494506233143+104.148160633861i","24.0641176156495-114.414115604412i","20.6209922071711+0.832018243069419i","0.456805085622239+0.13733149398i","133.337813833858-265.955445475633i","-65.7585650564151+288.144629865381i","-67.0123511676721+128.268889296445i","30.2079658536148-140.454949639723i","25.2415695499307+0.747384445200225i","1.68747109860841+0.187244383041104i","132.860329909898-266.040862048784i","-62.6985547769948+288.015654588442i","-67.0109748049286+128.267610245727i","30.2071813549902-140.45335905658i","25.2444718610884+0.72865262675124i","2.17280727835037+0.198152042392003i","110.765464594246-216.571497433488i","-55.1904340790411+235.14895145126i","-55.8479211110036+104.146260865175i","24.0631787392097-114.4118891188i","20.6294547167145+0.79756000720732i","-0.00397630162450113-0.109650719356978i","0.0305921228338946+0.104477945317996i","3.35654343482407+129.199350850086i","-38.0973840702552-122.337770785793i","7.3895540037921-3.81831886106898i","0.0375727133781965-0.104477942467014i","-0.010627583495598+0.109650718694013i","-46.322470214015+122.337770781996i","11.1448078252448-129.199350849452i","8.3840954963595-0.75743488158087i","-2.19257655027503-271.430689392699i","67.33407058323+260.805970115648i","-0.000778341683883929+0.0308758860193382i","-0.00837353652092198-0.0294202335215864i","13.1398005268997-6.26525546467931i","84.6138849866885-260.805970105683i","-18.7960003181006+271.430689391196i","-0.0103391756193779+0.0294202277082799i","0.00109462838632544-0.0308758855175827i","14.596877147526-1.78083473530227i","124.848705500304-333.504100035457i","-39.4766835944719+351.068720254447i","-55.8513153327656+104.161482712302i","24.0619490320541-114.427265347579i","26.6417815116431-1.16509353413675i","58.8688873441668-158.438103207389i","-19.8964744356352+166.734993362066i","-67.0035878558436+128.256869881242i","30.203225590315-140.440995705147i","18.3290771400072-0.443732137173235i","-58.75760851199+158.218200158042i","19.8430245027105-166.496343551354i","-66.9880189725013+128.219900414315i","30.19955286509-140.401461855142i","0.279212243390898+1.00057651815648i","-124.763436198801+333.343198524535i","39.4341976867386-350.893160173757i","-55.8196263967576+104.084385109045i","24.0546822029088-114.345018672872i","-11.4396222305789+1.77456966228381i","0.000251378047712698-0.0000602184004230011i","3.36009690705907+129.163108088477i","-38.0906792820857-122.302372044364i","7.382113539443-3.81483278265068i","0.0002586155618959+0.0000424131434789976i","-46.305479714991+122.305071532592i","11.137769470507-129.163579828922i","8.37579442071412-0.756963819596399i","-0.410981386032901+0.180993205454968i","11.3119119835183-89.3457047458973i","14.1052454521692+87.9747815739927i","-5.5025192177526+1.83697108645758i","-0.451616854582898+0.037278895187967i","39.3838105623372-82.0038992147415i","-14.5891956093005+88.8103641575908i","-5.8560580042615+0.0276023726251999i","-0.962143120553169+0.241813037692911i","-0.328921438402802-0.0443349857926959i","0.324622319697006-0.0493748873158449i","0.0292933635173972+0.0689183221264824i","-1.5685784857073+0.0595978532890058i","-40.6159976987065+78.7531323604915i","18.9159343150709-86.1018064345433i","5.6853211892141+0.140307873874815i","1.5690192912641-0.0594349211339988i","-93.3292577375265+177.656240653209i","41.4615782359816-194.663771307959i","12.9045531137097+0.415309056669715i","0.000647280976899367+0.000130570050998813i","-111.635761262021+208.196724278204i","48.0968954104808-228.71584163658i","15.188572394258+0.60831285740851i","3.35607824448009+129.177135525175i","-38.0904018636507-122.316886241758i","7.38303615360998-3.81499350448068i","-46.3147438352033+122.316605550128i","11.1437276483646-129.177037802748i","8.37671992458761-0.756751795658761i","13.8250139637837-114.570783366828i","18.1382204670817+112.870094332228i","-7.02963683694932+2.39819748207502i","50.0888282161571-105.236632359325i","-18.9417611550801+113.884524567247i","-7.49750958580245+0.0599565722873955i","14.4955839634066-54.0484886694997i","-0.121422362152086+55.6633597679784i","-3.5045587481371+0.7250401171772i","27.7610248110877-49.1519140286326i","-14.1244912545327+54.3549575962267i","-3.61588688103106-0.226834023902671i","-133.965501077507+256.426516286934i","60.3925948756609-280.787236376052i","18.5914312473974+0.556306064484526i","-111.660148213202+208.224914618708i","48.1131350545636-228.749180331089i","15.1908832713206+0.608931809291558i","-0.7262929097026+0.402370870233i","0.00468242282833931+0.00277519941400994i","-0.8348389779492+0.109859802249986i","0.00187878959449961-0.00473540250857507i","1.0760240441894-0.415145786093987i","-0.0142575983219695-0.0159661766358599i","1.1638610360571-0.0567675807910035i","-0.00482276063875009+0.005380460886237i","-0.540657578350667+0.113188964751401i","0.0286037712716598+0.047416230430588i","-0.555747615259399-0.0170064286254998i","0.00614127721114022+0.000263686955210007i","-0.956876463494517+0.264387010389336i","-0.0280516358938196-0.0578469029007898i","-3.6798700163438+0.0178323464269852i","0.0134670323202997-0.00921245337966503i"]
[{"$f":"COMPLEX(定数!O$13,計算!B10*定数!O$23)","v":"74.3688188913563+16.8334375803303i"},{"$f":"COMPLEX(定数!P$13,計算!B10*定数!P$23)","v":"-73.4757772913563+16.8334375803303i"},{"$f":"COMPLEX(定数!Q$13,計算!B10*定数!Q$23)","v":"125.193786513619+24.0835422748063i"},{"$f":"COMPLEX(定数!R$13,計算!B10*定数!R$23)","v":"-123.916114913619+24.0835422748063i"},{"$f":"COMPLEX(定数!S$13,計算!B10*定数!S$23)","v":"-77.7867441135484-11.0588497340902i"},{"$f":"COMPLEX(定数!T$13,計算!B10*定数!T$23)","v":"77.2000539135484-11.0588497340902i"},{"$f":"COMPLEX(定数!U$13,計算!B10*定数!U$23)","v":"124.646605989444+20.180187544106i"},{"$f":"COMPLEX(定数!V$13,計算!B10*定数!V$23)","v":"-123.576013789444+20.180187544106i"},{"$f":"IMPRODUCT(定数!D$31,計算!G10)","v":"-7.42079071221014-8.97019504691032i"},{"$f":"COMPLEX(定数!O$14,計算!B10*定数!O$24)","v":"86.1948356167649+20.6702005970571i"},{"$f":"COMPLEX(定数!P$14,計算!B10*定数!P$24)","v":"-85.0982474167649+20.6702005970571i"},{"$f":"COMPLEX(定数!Q$14,計算!B10*定数!Q$24)","v":"57.0863694248256+11.4264839314269i"},{"$f":"COMPLEX(定数!R$14,計算!B10*定数!R$24)","v":"-56.4801756248256+11.4264839314269i"},{"$f":"COMPLEX(定数!S$14,計算!B10*定数!S$24)","v":"163.969671876329+24.2569431063506i"},{"$f":"COMPLEX(定数!T$14,計算!B10*定数!T$24)","v":"-162.682801076329+24.2569431063506i"},{"$f":"COMPLEX(定数!U$14,計算!B10*定数!U$24)","v":"-101.525845343051-17.4159340949021i"},{"$f":"COMPLEX(定数!V$14,計算!B10*定数!V$24)","v":"100.601901343051-17.4159340949021i"},{"$f":"IMPRODUCT(定数!D$32,計算!G10)","v":"7.42079071221014+8.97019504691032i"},{"$f":"COMPLEX(定数!O$15,計算!B10*定数!O$25)","v":"86.1919999827348+20.6699706346462i"},{"$f":"COMPLEX(定数!P$15,計算!B10*定数!P$25)","v":"-85.0954239827348+20.6699706346462i"},{"$f":"COMPLEX(定数!Q$15,計算!B10*定数!Q$25)","v":"-57.0828842529623-11.4264424636042i"},{"$f":"COMPLEX(定数!R$15,計算!B10*定数!R$25)","v":"56.4766926529622-11.4264424636042i"},{"$f":"COMPLEX(定数!S$15,計算!B10*定数!S$25)","v":"-163.956966054068-24.2547942595236i"},{"$f":"COMPLEX(定数!T$15,計算!B10*定数!T$25)","v":"162.670209254068-24.2547942595236i"},{"$f":"COMPLEX(定数!U$15,計算!B10*定数!U$25)","v":"-101.548680976766-17.419357176087i"},{"$f":"COMPLEX(定数!V$15,計算!B10*定数!V$25)","v":"100.624555376766-17.419357176087i"},{"$f":"IMPRODUCT(定数!D$33,計算!G10)","v":"0"},{"$f":"COMPLEX(定数!O$16,計算!B10*定数!O$26)","v":"74.3664237452132+16.8331058281079i"},{"$f":"COMPLEX(定数!P$16,計算!B10*定数!P$26)","v":"-73.4733997452132+16.8331058281079i"},{"$f":"COMPLEX(定数!Q$16,計算!B10*定数!Q$26)","v":"-125.201328746793-24.0848051949986i"},{"$f":"COMPLEX(定数!R$16,計算!B10*定数!R$26)","v":"123.923590146793-24.0848051949986i"},{"$f":"COMPLEX(定数!S$16,計算!B10*定数!S$26)","v":"77.7704269443536+11.0557885661833i"},{"$f":"COMPLEX(定数!T$16,計算!B10*定数!T$26)","v":"-77.1838991443536+11.0557885661833i"},{"$f":"COMPLEX(定数!U$16,計算!B10*定数!U$26)","v":"124.65071095008+20.1800442874352i"},{"$f":"COMPLEX(定数!V$16,計算!B10*定数!V$26)","v":"-123.58012635008+20.1800442874352i"},{"$f":"IMPRODUCT(定数!D$34,計算!G10)","v":"0"},{"$f":"IMDIV(COMPLEX(定数!O$17,計算!B10*定数!O$27),計算!R10)","v":"-0.146303272057616+0.0350773732322934i"},{"$f":"IMPRODUCT(COMPLEX(定数!P$17,計算!B10*定数!P$27),計算!R10)","v":"-0.518647897214395-0.561046138981698i"},{"$f":"IMDIV(COMPLEX(定数!Q$17,計算!B10*定数!Q$27),計算!S10)","v":"-0.146646345794657-0.0309301948066171i"},{"$f":"IMPRODUCT(COMPLEX(定数!R$17,計算!B10*定数!R$27),計算!S10)","v":"-0.946641086694736-0.692116482782481i"},{"$f":"IMDIV(COMPLEX(定数!S$17,計算!B10*定数!S$27),計算!T10)","v":"-0.0132101171316274+0.05771166379013i"},{"$f":"IMPRODUCT(COMPLEX(定数!T$17,計算!B10*定数!T$27),計算!T10)","v":"0.546824162201537+0.301558832484313i"},{"$f":"IMDIV(COMPLEX(定数!U$17,計算!B10*定数!U$27),計算!U10)","v":"-0.044968833538112-0.0734491374492483i"},{"$f":"IMPRODUCT(COMPLEX(定数!V$17,計算!B10*定数!V$27),計算!U10)","v":"-0.915091514999682-0.547212565613918i"},{"$f":"IMPRODUCT(定数!E$31,計算!G10)","v":"0"},{"$f":"IMDIV(COMPLEX(定数!O$18,計算!B10*定数!O$28),計算!R10)","v":"-0.195866028682059+0.0576104156892561i"},{"$f":"IMPRODUCT(COMPLEX(定数!P$18,計算!B10*定数!P$28),計算!R10)","v":"-0.620644205331553-0.674384610339115i"},{"$f":"IMDIV(COMPLEX(定数!Q$18,計算!B10*定数!Q$28),計算!S10)","v":"-0.0779848832699873-0.00958985023797326i"},{"$f":"IMPRODUCT(COMPLEX(定数!R$18,計算!B10*定数!R$28),計算!S10)","v":"-0.440727486319342-0.323290983155058i"},{"$f":"IMDIV(COMPLEX(定数!S$18,計算!B10*定数!S$28),計算!T10)","v":"0.00326598297537333-0.114838563401909i"},{"$f":"IMPRODUCT(COMPLEX(定数!T$18,計算!B10*定数!T$28),計算!T10)","v":"-1.17371732692206-0.649703132565019i"},{"$f":"IMDIV(COMPLEX(定数!U$18,計算!B10*定数!U$28),計算!U10)","v":"0.0618548983645038+0.0520156918374596i"},{"$f":"IMPRODUCT(COMPLEX(定数!V$18,計算!B10*定数!V$28),計算!U10)","v":"0.766697746302064+0.460883678053103i"},{"$f":"IMPRODUCT(定数!E$32,計算!G10)","v":"0"},{"$f":"IMDIV(COMPLEX(定数!O$19,計算!B10*定数!O$29),計算!R10)","v":"-0.195869786261067+0.05761509573881i"},{"$f":"IMPRODUCT(COMPLEX(定数!P$19,計算!B10*定数!P$29),計算!R10)","v":"-0.620631363736453-0.674371786540324i"},{"$f":"IMDIV(COMPLEX(定数!Q$19,計算!B10*定数!Q$29),計算!S10)","v":"0.0779965194272064+0.00958260765630465i"},{"$f":"IMPRODUCT(COMPLEX(定数!R$19,計算!B10*定数!R$29),計算!S10)","v":"0.440713967649941+0.323282602088482i"},{"$f":"IMDIV(COMPLEX(定数!S$19,計算!B10*定数!S$29),計算!T10)","v":"-0.00327273380875371+0.114831608503279i"},{"$f":"IMPRODUCT(COMPLEX(定数!T$19,計算!B10*定数!T$29),計算!T10)","v":"1.17362039100366+0.64964879562859i"},{"$f":"IMDIV(COMPLEX(定数!U$19,計算!B10*定数!U$29),計算!U10)","v":"0.0618560727786905+0.0520313361379191i"},{"$f":"IMPRODUCT(COMPLEX(定数!V$19,計算!B10*定数!V$29),計算!U10)","v":"0.766859422840177+0.460979684828233i"},{"$f":"IMPRODUCT(定数!E$33,計算!G10)","v":"0"},{"$f":"IMDIV(COMPLEX(定数!O$20,計算!B10*定数!O$30),計算!R10)","v":"-0.146303329788391+0.0350793184063397i"},{"$f":"IMPRODUCT(COMPLEX(定数!P$20,計算!B10*定数!P$30),計算!R10)","v":"-0.51863473467352-0.561032445448095i"},{"$f":"IMDIV(COMPLEX(定数!Q$20,計算!B10*定数!Q$30),計算!S10)","v":"0.146650481435312+0.0309339665366345i"},{"$f":"IMPRODUCT(COMPLEX(定数!R$20,計算!B10*定数!R$30),計算!S10)","v":"0.946694282106899+0.692154926552872i"},{"$f":"IMDIV(COMPLEX(定数!S$20,計算!B10*定数!S$30),計算!T10)","v":"0.0132266186625698-0.0577049006267024i"},{"$f":"IMPRODUCT(COMPLEX(定数!T$20,計算!B10*定数!T$30),計算!T10)","v":"-0.54669295558784-0.301484570698621i"},{"$f":"IMDIV(COMPLEX(定数!U$20,計算!B10*定数!U$30),計算!U10)","v":"-0.0449494963185803-0.0734580010644651i"},{"$f":"IMPRODUCT(COMPLEX(定数!V$20,計算!B10*定数!V$30),計算!U10)","v":"-0.91510403687099-0.547218066041869i"},{"$f":"IMPRODUCT(定数!E$34,計算!G10)","v":"0"},"-0.89110176431248+0.428052293718848i","1.67110068577102-0.0544156391064814i","-1.51530034788301+0.666828609565448i","-1.0270000997546+0.0837594630784948i","0.95545860865815-0.364971543022328i","1.6528002942099-0.102759774259587i","-1.52225139064167+0.615915540852663i","-0.12089168921197-0.0932537647627747i","0.558049453157494+2.1935557253123i","-88.0786616602184-18.4251553935754i","87.9143698945514-14.7291362990906i","254.223101556812+38.2656080300765i","-252.58243379473+35.9660841588082i","-246.112760157068-42.7222858727748i","244.543207507071-39.0394312887958i","15.9134559671916+19.5070434378106i","0.558247612762997+2.194334642642i","-202.243164194482-41.277851801102i","200.866787989592-37.5805202743454i","-73.7064678315447-10.2461279960328i","72.7733697963479-12.5464684132283i","-246.130885423138-42.7256202611321i","244.561403355518-39.0414579195132i","8.49234389525414+10.5365561568072i","0.000101219889501181+0.000397870587200089i","-250.391094677541-48.1679234118467i","247.835854472755-48.1672530220906i","155.554683455186+22.114498206863i","-154.38154351478+22.1140811156067i","0.00809774966899113+0.00015893882300233i","-0.00796290653198639+0.000826940779500518i","7.42053209609071+8.96993158442876i","-0.63400405099991-0.467163178624119i","0.095932394788757-0.0975092033225332i","-1.14494388972037-0.541404519439709i","-0.160525530181082+0.105990413112998i","0.673808639930081+0.21464732330832i","0.193236714607617-0.146459121457773i","-1.11619717503876-0.403705526493122i","-0.0209579468081839-0.00940276801331446i","-0.770520498481132-0.539206964436686i","0.246192063990927-0.116520830533825i","-0.699107074329176-0.10538482865228i","-0.193063030533778-0.0392670273444127i","-1.00760160598237-0.77623302689744i","0.379662294884707-0.0633299690557874i","0.504023562099333+0.669218144441891i","-0.0290509632191858-0.0113006240948577i","-0.77050900196537-0.539188361797168i","0.40217949131309-0.0973563979446294i","0.182331806570266+0.541198353933163i","-0.199605214353483+0.190408265704934i","1.33973799406966+0.523113058293125i","0.379669198905747-0.0633224460705789i","0.504182401172828+0.66932358978027i","-0.0290518539114996-0.0113004087241504i","-0.633990107266818-0.467147727030701i","0.389229212644775-0.0356482957024214i","0.748392688699511+0.842869875915085i","-0.134088690749663-0.0094241487743966i","-0.419709132633103-0.388397959477992i","0.193255947358945-0.146471205989627i","-1.11620858672789-0.403708030319894i","-0.0209581351821578-0.0094025382415503i","1.37553315642418+39.2466326721471i","-15.4012124907697-35.7055481216905i","-6.56015392367346-112.065709201429i","38.1308837045735+104.682286001086i","4.57852643225717+108.958334214541i","-39.3205039689913-100.724231494411i","6.85947699406319-8.58866249056977i","-17.4833110250626+35.7055481196626i","3.26977132106695-39.2466326719934i","44.0761542411435-104.682285995978i","-12.1137216946255+112.065709200227i","-45.1009231420075+100.72423148918i","9.92211288956191-108.958334213669i","10.0857337526474-4.68878799984455i","-114.133226378051-22.8461537509183i","112.921200276125-22.8461537595533i","-328.019842348369-48.5253239059781i","325.44549396435-48.5253238810066i","0.0692677644949811+0.011836028287i","-0.0686398482640129+0.0118360041299042i","-7.42676283518746-8.9774141054257i","-250.375118831334-48.1645814282582i","247.819908426076-48.1645814281038i","155.508572069125+22.1075575309148i","-154.335729715684+22.1075575304684i","0.0527380692537041+0.00790797401535276i","-0.0523185381162221+0.00790797444720528i","7.41764568839997+8.96639336622149i","-27.6688749740903+14.3723937963735i","19.262686043021-23.8964118578653i","76.6876442827209-45.6722466594487i","-59.3593129118922+65.6056762026009i","-75.4555834082176+42.6436210626327i","56.0757843402686-64.8484850120063i","8.5638672155788+1.7295700844488i","-32.4777376772923+17.9682128390442i","22.9823764213258-28.5826363303479i","90.2139349686677-56.9329448826996i","-70.7680833598857+79.0408899857132i","-88.682730592953+53.228023226422i","66.900307573181-77.9353394755693i","10.270440779702+1.8141899898742i","-32.3208850353689+17.9872920179693i","23.8630476202879-27.9356627746085i","90.2049386958157-56.7028860409081i","-68.4185197762507+80.3391730529095i","-88.680331448889+53.2277117679074i","66.8983254299134-77.9341659665136i","10.2702367143797+1.81405648870078i","-27.3747826659995+14.4340269803742i","21.1553706056113-22.5116407411168i","76.7118490279006-45.7868826062954i","-60.4509301801787+65.0012554817792i","-75.4533789503595+42.6429013874283i","56.0739509974059-64.8471215423569i","8.56365394517954+1.72947985277169i","0.880845265196401-0.410227389019397i","-16.1387725168761-223.528324115518i","79.3710214349284+207.752298218539i","4.58002748724481+108.981995282498i","-39.3297277188206-100.745845488573i","9.2291962369384-11.7250246633191i","0.98281189116288+0.0371774079943989i","88.6642472549866-208.792296203078i","-24.4247018499723+223.775962429172i","-45.1108635718692+100.746077985617i","9.92418047317144-108.982034518703i","13.6973771987289-6.35993918249893i","-0.912740164259838+0.382874972290065i","2.84511457759389-0.144345355822511i","-2.65977433012029+0.957573360869243i","-0.000603480655540344+0.0000170956663287221i","0.000558273567971177-0.000215453542138509i","0.0777024918720176+0.0631035436204331i","0.851468557681017+3.7360372922302i","874.80680616726+123.000824659348i","-866.398163797201+133.753184243955i","-0.0991818772025809-0.0168780896702441i","0.0978365024792909-0.0191472190445637i","23.8330605592292+28.5084585958141i","-0.488977569186702-0.184431044354199i","153.334175520569-90.5572273677746i","-119.189654879956+130.327977884986i","-75.4720353333763+42.6527675421169i","56.0881345586697-64.8624700966914i","11.6207567272204+2.35880333116047i","0.218219791817098+0.2525861210543i","180.023191805856-112.742579765713i","-139.945654377231+157.932097674215i","-88.7020231008057+53.2394219238514i","66.9145677205717-77.9523680974842i","13.9278998302632+2.46747541400568i","1.2493616370353+0.856919058769702i","179.565177804063-112.5441624236i","-137.160628449511+159.130929140268i","-88.6995289730353+53.2391192977518i","66.9124938999433-77.9511714453725i","13.9167118876063+2.45596145555532i","1.6957346586144+1.143994570572i","152.512757488966-90.8047659260292i","-119.440034681352+129.605872564988i","-75.469652342839+42.6520800336428i","56.086123752757-64.8610776719901i","11.6015810239572+2.33536578071246i","-0.00501689299009911-0.092351544164984i","0.0316327142143962+0.0861442149279981i","4.57892539793605+108.956506742494i","-39.3197660333842-100.722610664764i","3.43176844660711-4.29687032923722i","0.0365321220616011-0.0861442125169845i","-0.00958699216820236+0.0923515436100217i","-45.1000882509259+100.722610661595i","9.92242586213954-108.956506741966i","5.04584898398369-2.34578212246344i","-4.77905956672261-228.208714955134i","69.9205535997061+215.459051821115i","-0.000485320771767494+0.0260045478344363i","-0.00866655746095138-0.0242577638639034i","6.27122631707068-7.26952564697101i","82.0274019702845-215.459051812832i","-16.2095173016642+228.208714953885i","-0.0100461547403615+0.0242577590175673i","0.000801607479501255-0.0260045474163076i","8.63597332115951-4.41103755724351i","233.181073084105-180.783471371444i","-169.204516877488+238.927382385934i","-75.4814215615302+42.6627762193447i","56.0933225725844-64.8750378957702i","16.6570862327302+1.79464648746474i","107.701223081162-86.4441336178435i","-78.766062785218+112.226738505521i","-88.693703657754+53.236665919986i","66.9078244061927-77.9468958654846i","10.9291926635728+1.24872410872466i","-107.547679286149+86.351267173653i","78.647317843375-112.094040250987i","-88.6661907566778+53.2174213256992i","66.8892086100147-77.9193692741689i","-0.6526440300616+0.566612429169i","-233.067936442612+180.717713253054i","169.116536470947-238.831954995472i","-75.4248659854496+42.6224380574145i","56.055015378117-64.817897894259i","-8.088941263678-0.0641915440310399i","0.000217559811088404-0.0000847645695744997i","4.58138918299042+108.929440310576i","-39.3130461483007-100.696580773459i","3.42833515221714-4.29289647195134i","0.000235118002378149+0.0000248435895858906i","-45.0858067824477+100.699113917849i","9.91695001023916-108.929865667259i","5.04096132752763-2.34369901243917i","-0.476529998573+0.181175053265008i","8.3028866071385-66.5339338820557i","14.4258312084349+64.7342657528862i","-2.52424409060679+2.25008614882695i","-0.514676895885499-0.0167956782680108i","32.9927757925084-59.1413825482941i","-11.0321505727092+66.0718536851228i","-3.20665872777479+1.16727833118441i","-0.94938131673132+0.288595173707694i","-0.290773082335495-0.0424742491131278i","0.284968456449244-0.0572835990968096i","0.0408894469968776+0.0393976343641982i","-1.46389356030339-0.923760075924008i","-53.705437385489+32.6755673170421i","41.1682042014939-47.1435308540982i","3.11965484169104+0.540203520953912i","1.464119421153+0.923980665198997i","-123.605866193909+73.7580385238195i","92.5903934006099-108.687474737101i","7.14695675273935+1.27288101219245i","0.000451931531017635+0.00034717273501883i","-150.870597430306+85.270898979881i","112.119864438298-129.667715926518i","8.5609281600417+1.7286864404955i","4.58062905148763+108.937885861541i","-39.3148605669427-100.704825946196i","3.42864382584046-4.2931916095251i","-45.0904153506204+100.706358699739i","9.91914927262827-108.938126594112i","5.04137617794916-2.34382108911502i","10.1137955248138-84.9600132204957i","18.2396858400195+82.7689592248301i","-3.20347646628436+2.88894967369597i","41.858608806846-75.6079095845369i","-14.5035722323895+84.3648496176891i","-4.08854191713327+1.49805476517479i","5.67019518734911-35.582768344205i","5.29832521836181+35.4692020878779i","-1.36282644911211+1.1898603109922i","16.1647311851112-32.5214222638051i","-5.57903492531553+35.7247425621927i","-1.6906959515828+0.697860778506947i","-177.322128436276+106.437385390592i","133.767738182733-155.837843736637i","10.2671473970576+1.8132998631122i","-150.889193333133+85.2799844820992i","112.134788436677-129.681924175306i","8.56193451708672+1.72895801874303i","-0.880405093077897+0.520003394636007i","0.000692141434400106+0.00365040044809017i","-1.03272471825413+0.0858641682360002i","-0.00449733490511051-0.00268631620618986i","1.1622991110189-0.462013773013496i","-0.00924114559858991-0.00956944079083i","1.2632390384303+0.00495411888709896i","0.00442065238476985+0.00511583870346999i","-0.50229850809415+0.161365950690104i","0.02955733546929+0.0233388195050099i","-0.5311882709522+0.0150744723617038i","-0.000197124167510054-0.00514485876230497i","-0.942366538087982+0.313186029474747i","-0.0380526388526807-0.0330670700916562i","-3.349638585939-2.060533080062i","0.000243312123769712-0.0153770624176099i"]
[{"$f":"COMPLEX(定数!O$13,計算!B11*定数!O$23)","v":"74.3688188913563+19.6390105103853i"},{"$f":"COMPLEX(定数!P$13,計算!B11*定数!P$23)","v":"-73.4757772913563+19.6390105103853i"},{"$f":"COMPLEX(定数!Q$13,計算!B11*定数!Q$23)","v":"125.193786513619+28.0974659872741i"},{"$f":"COMPLEX(定数!R$13,計算!B11*定数!R$23)","v":"-123.916114913619+28.0974659872741i"},{"$f":"COMPLEX(定数!S$13,計算!B11*定数!S$23)","v":"-77.7867441135484-12.9019913564386i"},{"$f":"COMPLEX(定数!T$13,計算!B11*定数!T$23)","v":"77.2000539135484-12.9019913564386i"},{"$f":"COMPLEX(定数!U$13,計算!B11*定数!U$23)","v":"124.646605989444+23.5435521347903i"},{"$f":"COMPLEX(定数!V$13,計算!B11*定数!V$23)","v":"-123.576013789444+23.5435521347903i"},{"$f":"IMPRODUCT(定数!D$31,計算!G11)","v":"-7.3743779429451-4.05409858116178i"},{"$f":"COMPLEX(定数!O$14,計算!B11*定数!O$24)","v":"86.1948356167649+24.1152340299i"},{"$f":"COMPLEX(定数!P$14,計算!B11*定数!P$24)","v":"-85.0982474167649+24.1152340299i"},{"$f":"COMPLEX(定数!Q$14,計算!B11*定数!Q$24)","v":"57.0863694248256+13.330897919998i"},{"$f":"COMPLEX(定数!R$14,計算!B11*定数!R$24)","v":"-56.4801756248256+13.330897919998i"},{"$f":"COMPLEX(定数!S$14,計算!B11*定数!S$24)","v":"163.969671876329+28.299766957409i"},{"$f":"COMPLEX(定数!T$14,計算!B11*定数!T$24)","v":"-162.682801076329+28.299766957409i"},{"$f":"COMPLEX(定数!U$14,計算!B11*定数!U$24)","v":"-101.525845343051-20.3185897773858i"},{"$f":"COMPLEX(定数!V$14,計算!B11*定数!V$24)","v":"100.601901343051-20.3185897773858i"},{"$f":"IMPRODUCT(定数!D$32,計算!G11)","v":"7.3743779429451+4.05409858116178i"},{"$f":"COMPLEX(定数!O$15,計算!B11*定数!O$25)","v":"86.1919999827348+24.1149657404206i"},{"$f":"COMPLEX(定数!P$15,計算!B11*定数!P$25)","v":"-85.0954239827348+24.1149657404206i"},{"$f":"COMPLEX(定数!Q$15,計算!B11*定数!Q$25)","v":"-57.0828842529623-13.3308495408715i"},{"$f":"COMPLEX(定数!R$15,計算!B11*定数!R$25)","v":"56.4766926529622-13.3308495408715i"},{"$f":"COMPLEX(定数!S$15,計算!B11*定数!S$25)","v":"-163.956966054068-28.2972599694442i"},{"$f":"COMPLEX(定数!T$15,計算!B11*定数!T$25)","v":"162.670209254068-28.2972599694442i"},{"$f":"COMPLEX(定数!U$15,計算!B11*定数!U$25)","v":"-101.548680976766-20.3225833721015i"},{"$f":"COMPLEX(定数!V$15,計算!B11*定数!V$25)","v":"100.624555376766-20.3225833721015i"},{"$f":"IMPRODUCT(定数!D$33,計算!G11)","v":"0"},{"$f":"COMPLEX(定数!O$16,計算!B11*定数!O$26)","v":"74.3664237452132+19.6386234661259i"},{"$f":"COMPLEX(定数!P$16,計算!B11*定数!P$26)","v":"-73.4733997452132+19.6386234661259i"},{"$f":"COMPLEX(定数!Q$16,計算!B11*定数!Q$26)","v":"-125.201328746793-28.098939394165i"},{"$f":"COMPLEX(定数!R$16,計算!B11*定数!R$26)","v":"123.923590146793-28.098939394165i"},{"$f":"COMPLEX(定数!S$16,計算!B11*定数!S$26)","v":"77.7704269443536+12.8984199938805i"},{"$f":"COMPLEX(定数!T$16,計算!B11*定数!T$26)","v":"-77.1838991443536+12.8984199938805i"},{"$f":"COMPLEX(定数!U$16,計算!B11*定数!U$26)","v":"124.65071095008+23.5433850020078i"},{"$f":"COMPLEX(定数!V$16,計算!B11*定数!V$26)","v":"-123.58012635008+23.5433850020078i"},{"$f":"IMPRODUCT(定数!D$34,計算!G11)","v":"0"},{"$f":"IMDIV(COMPLEX(定数!O$17,計算!B11*定数!O$27),計算!R11)","v":"-0.107473593374635+0.113722300657493i"},{"$f":"IMPRODUCT(COMPLEX(定数!P$17,計算!B11*定数!P$27),計算!R11)","v":"-0.0651400527013072-0.762478491694882i"},{"$f":"IMDIV(COMPLEX(定数!Q$17,計算!B11*定数!Q$27),計算!S11)","v":"-0.153294055963653+0.0524019207523404i"},{"$f":"IMPRODUCT(COMPLEX(定数!R$17,計算!B11*定数!R$27),計算!S11)","v":"-0.35907278170751-1.11803600630804i"},{"$f":"IMDIV(COMPLEX(定数!S$17,計算!B11*定数!S$27),計算!T11)","v":"0.0280999576458058+0.0592725394683509i"},{"$f":"IMPRODUCT(COMPLEX(定数!T$17,計算!B11*定数!T$27),計算!T11)","v":"0.277114024087417+0.560321255793014i"},{"$f":"IMDIV(COMPLEX(定数!U$17,計算!B11*定数!U$27),計算!U11)","v":"-0.0910455133817286-0.0422366813097165i"},{"$f":"IMPRODUCT(COMPLEX(定数!V$17,計算!B11*定数!V$27),計算!U11)","v":"-0.433818803000804-0.975341770830262i"},{"$f":"IMPRODUCT(定数!E$31,計算!G11)","v":"0"},{"$f":"IMDIV(COMPLEX(定数!O$18,計算!B11*定数!O$28),計算!R11)","v":"-0.136179155526216+0.16101091075244i"},{"$f":"IMPRODUCT(COMPLEX(定数!P$18,計算!B11*定数!P$28),計算!R11)","v":"-0.0757774738691611-0.914898038757039i"},{"$f":"IMDIV(COMPLEX(定数!Q$18,計算!B11*定数!Q$28),計算!S11)","v":"-0.0766711673427325+0.0338637794058277i"},{"$f":"IMPRODUCT(COMPLEX(定数!R$18,計算!B11*定数!R$28),計算!S11)","v":"-0.166422285092045-0.52145279385827i"},{"$f":"IMDIV(COMPLEX(定数!S$18,計算!B11*定数!S$28),計算!T11)","v":"-0.0763408952966951-0.105870227431723i"},{"$f":"IMPRODUCT(COMPLEX(定数!T$18,計算!B11*定数!T$28),計算!T11)","v":"-0.593128205847689-1.20489141854024i"},{"$f":"IMDIV(COMPLEX(定数!U$18,計算!B11*定数!U$28),計算!U11)","v":"0.0911733670792462+0.0140523766639793i"},{"$f":"IMPRODUCT(COMPLEX(定数!V$18,計算!B11*定数!V$28),計算!U11)","v":"0.361795780216746+0.819342055434259i"},{"$f":"IMPRODUCT(定数!E$32,計算!G11)","v":"0"},{"$f":"IMDIV(COMPLEX(定数!O$19,計算!B11*定数!O$29),計算!R11)","v":"-0.136179182427296+0.161016941163146i"},{"$f":"IMPRODUCT(COMPLEX(定数!P$19,計算!B11*定数!P$29),計算!R11)","v":"-0.0757750888623868-0.914880038411599i"},{"$f":"IMDIV(COMPLEX(定数!Q$19,計算!B11*定数!Q$29),計算!S11)","v":"0.0766764753903496-0.033876416293462i"},{"$f":"IMPRODUCT(COMPLEX(定数!R$19,計算!B11*定数!R$29),計算!S11)","v":"0.166416094809084+0.52143814161439i"},{"$f":"IMDIV(COMPLEX(定数!S$19,計算!B11*定数!S$29),計算!T11)","v":"0.0763301064802421+0.105867460254771i"},{"$f":"IMPRODUCT(COMPLEX(定数!T$19,計算!B11*定数!T$29),計算!T11)","v":"0.593079688417132+1.20479129239314i"},{"$f":"IMDIV(COMPLEX(定数!U$19,計算!B11*定数!U$29),計算!U11)","v":"0.0911852832193672+0.0140658141061312i"},{"$f":"IMPRODUCT(COMPLEX(定数!V$19,計算!B11*定数!V$29),計算!U11)","v":"0.361872894577553+0.819513771522806i"},{"$f":"IMPRODUCT(定数!E$33,計算!G11)","v":"0"},{"$f":"IMDIV(COMPLEX(定数!O$20,計算!B11*定数!O$30),計算!R11)","v":"-0.107472238879009+0.11372393470824i"},{"$f":"IMPRODUCT(COMPLEX(定数!P$20,計算!B11*定数!P$30),計算!R11)","v":"-0.0651380053395382-0.762459589541568i"},{"$f":"IMDIV(COMPLEX(定数!Q$20,計算!B11*定数!Q$30),計算!S11)","v":"0.153300428970951-0.0524008632936039i"},{"$f":"IMPRODUCT(COMPLEX(定数!R$20,計算!B11*定数!R$30),計算!S11)","v":"0.359093276776583+1.11809844052519i"},{"$f":"IMDIV(COMPLEX(定数!S$20,計算!B11*定数!S$30),計算!T11)","v":"-0.0280806494589091-0.0592750604643715i"},{"$f":"IMPRODUCT(COMPLEX(定数!T$20,計算!B11*定数!T$30),計算!T11)","v":"-0.277048846883841-0.560185082957892i"},{"$f":"IMDIV(COMPLEX(定数!U$20,計算!B11*定数!U$30),計算!U11)","v":"-0.0910344700529912-0.042254865655142i"},{"$f":"IMPRODUCT(COMPLEX(定数!V$20,計算!B11*定数!V$30),計算!U11)","v":"-0.433826120383468-0.975353331179473i"},{"$f":"IMPRODUCT(定数!E$34,計算!G11)","v":"0"},"-0.858394594098822+0.490757168259828i","1.6669428256295-0.0623869217588749i","-1.46434844981721+0.764511544376684i","-1.02060009896939+0.0960292878195957i","0.927571393577337-0.418435792956415i","1.64494849321001-0.11781293212688i","-1.47518972381379+0.706140280408371i","-0.106152557812478-0.0264810899505509i","0.725657480339493+2.5148871106892i","-88.0999686314754-21.490387968878i","88.1754731040374-17.2529434060061i","254.255898386944+44.6345485169899i","-252.725341942172+41.9981701118999i","-246.152996743321-49.8320413400711i","244.784375210709-45.6096897412885i","15.8855825323664+8.89652555092268i","0.725915156462094+2.5157801306979i","-202.264478731705-48.151865113003i","201.127983915124-43.9129158612072i","-73.6736593554727-11.9624799222161i","72.6304109031552-14.5997944880809i","-246.171136297141-49.8359276867714i","244.802656696234-45.6120767584781i","8.51091068421383+4.84232339946661i","0.000131620896993923+0.000456154179399704i","-250.391098542233-56.1959096265828i","247.835901832066-56.1951410322235i","155.554689403927+25.8002463370881i","-154.381569435685+25.7997681466266i","0.00809045149399878+0.000187355898898289i","-0.00791916315499464+0.000953212672499149i","7.3741339414095+4.05399406934319i","-0.101584770023805-0.612116447234765i","0.018763495183459-0.143871599103757i","-0.429509559856212-0.86934212878004i","-0.0706669308475977+0.185658143405594i","0.329217973814245+0.409864904625732i","0.0723450544110684-0.241965787582313i","-0.51205884625344-0.731688368169806i","-0.0144200873071104+0.00922589520164989i","-0.113655666182004-0.709856246634156i","0.14028672387054-0.243028001442027i","-0.242741320343432-0.181566179791017i","-0.199863591813578+0.071534711338425i","-0.534185044895384-1.41122276633478i","0.296211896268542-0.266845943975724i","0.274601979054367+1.15302528346722i","-0.0187195100905066+0.0134855475452083i","-0.11365034479969-0.709833056614868i","0.293634035227423-0.310778251169455i","0.0901016304837445+0.861333606870398i","-0.0471920383958399+0.283278556245974i","0.652020350982424+0.998454339705759i","0.296223146199187-0.266842429417872i","0.274683312046885+1.1532059145516i","-0.0187196726379734+0.0134861869763595i","-0.101580758048195-0.612096807149561i","0.325355620307901-0.248677022516058i","0.288659731332111+1.36679367534533i","-0.126845998637213+0.0671120811139755i","-0.224946837293728-0.710642383054452i","0.0723536771519568-0.241986500279951i","-0.512063011629023-0.731698474448068i","-0.0144199867953799+0.00922610452883679i","1.6391335073763+34.1939891803568i","-15.6648128417275-30.0627238712008i","-7.32243791592814-97.2163264204813i","38.89316769684+88.6023326861445i","5.31596191877839+94.6839499627908i","-40.0579394555252-85.0774967886317i","1.74211628512478-6.65139943091508i","-17.2197106741171+30.0627238694628i","3.00617097011561-34.1939891802249i","43.3138702489075-88.6023326817661i","-11.3514377023778+97.216326419452i","-44.3634876555043+85.077496784148i","9.18467740304587-94.6839499620432i","4.94819466713989-4.88884292488618i","-114.133226378019-26.6538460440705i","112.921200276092-26.6538460514788i","-328.01984234846-56.6128778864537i","325.445493964445-56.6128778650303i","0.0692677645830031+0.0138086959398009i","-0.0686398483539961+0.013808675214797i","-7.38031271431957-4.05736125021188i","-250.375118831331-56.1920116662725i","247.819908426071-56.1920116661478i","155.508572069115+25.7921504526514i","-154.33572971567+25.792150452291i","0.0527380692639491+0.00922596976497659i","-0.0523185381306418+0.0092259701135936i","7.3712525894563+4.05238040355633i","-20.1323845826985-7.63042482878635i","20.8065748005785-2.50280396184221i","58.564307715104+17.6981429271046i","-60.3316275557116+3.33716134911866i","-56.511644707667-18.7550082931943i","58.378567556398-4.72804354905956i","3.48078229225746+2.54146525087026i","-23.1570432938336-9.04974828006748i","24.3717438608455-1.93395755790289i","67.6179225067562+20.747998927201i","-70.8339568427558+1.58007461532384i","-65.1387423875996-22.0890052046131i","68.5304859445166-3.08854149834064i","4.01404654024517+2.97034774208916i","-23.0029071946664-9.11725917961935i","24.7037778554189-0.890945525114982i","67.768308880707+20.9592098095082i","-69.6454365930534+3.9894976361836i","-65.136522113799-22.0884256298075i","68.5283226797033-3.08807001060565i","4.01390667410039+2.97025964819282i","-19.8251329380566-7.73501266652876i","21.5240604582212-0.26659001372023i","58.5062147157602+17.5791016471085i","-60.8838374881942+2.21648697511165i","-56.5097871704099-18.7544990320565i","58.376666941476-4.72785417348668i","3.48066652344128+2.54138789115116i","0.852725968191901-0.472031843817199i","-17.6491003672507-193.891572396851i","80.8216237836504+175.500156708976i","5.31762182402962+94.7045130600095i","-40.0673074877286-85.0956750347698i","2.29174474290511-9.04914643989359i","0.98536024021111+0.0427785196937052i","87.1423575826525-176.696839771484i","-22.8973994738092+194.176519656368i","-44.3732678657741+85.0959425620907i","9.1865834468187-94.7045582079626i","6.72260328008826-6.63505247915349i","-0.88649575603917+0.440558538887959i","2.83522033346132-0.166092285167304i","-2.59413685572835+1.10184042128404i","-0.000602308815726461+0.0000196713137515494i","0.000543505161554087-0.000247913591974534i","0.0691923693772727+0.0193906591414104i","1.10755760742501+4.2989049946284i","874.710259598298+143.523508871231i","-865.757683040554+155.895808403451i","-0.0991704427385399-0.0196937667169109i","0.0976923947313652-0.0223047765582059i","23.6057001498215+12.7953774175695i","-0.402347504596701-0.3976492532531i","116.911408541644+35.9882447934204i","-120.965298903313+5.72547018595213i","-56.5239207208636-18.7592081348827i","58.3914012973607-4.72888746555717i","4.72583071578969+3.45981263127605i","-0.143820621123702+0.24551215709105i","134.776335888303+42.5598230251639i","-140.877874778411+3.61915540550691i","-65.1528680993594-22.0940004183181i","68.5453154726757-3.08936385922214i","5.44085664930325+4.04555160108854i","0.2951118679483+1.16077008930085i","134.500925499354+42.9880429995483i","-139.363890631064+5.68361252923432i","-65.1505563160556-22.093464537982i","68.5430851709665-3.08881746653079i","5.42874266040898+4.04714594573065i","0.541438367075902+1.61048568494257i","115.999560664894+36.2167652054043i","-120.835695127646+3.99493836582415i","-56.5218801806125-18.7587679119651i","58.3893596183305-4.72856507409578i","4.70242745057368+3.4610141399465i","-0.00564464802929976-0.0801333975909984i","0.0322604692613879+0.0728915131929853i","5.31634875638116+94.6823513019122i","-40.0571893918371-85.0761392108193i","0.87157447176005-3.32766649257107i","0.0359043670327992-0.0728915111420179i","-0.00895923712770141+0.0801333971269855i","-44.3626648924914+85.0761392081024i","9.18500250369756-94.6823513014594i","2.47555986565283-2.44586806011793i","-6.33940081039414-197.616108688399i","71.4808948433984+182.741501697606i","-0.000308550766508999+0.0225639675439533i","-0.0088433274813004-0.0205260522268357i","1.76785309488833-5.72209495233907i","80.4670607266498-182.741501690542i","-14.6491760580013+197.616108687333i","-0.00986938475307453+0.0205260480715265i","0.000624837477118644-0.0225639671849885i","4.1178099694423-4.43019522786207i","221.954151312837-5.5396757885988i","-205.441256384949+79.4105844641736i","-56.5360538108788-18.754874084139i","58.4006252438619-4.73771755529167i","8.14428510552302+3.31477869585643i","101.483898271906-3.4778149068242i","-94.4675712582567+35.6369777145746i","-65.1492481260661-22.0886252953953i","68.5398656089336-3.09276242819454i","4.94541585005092+2.39742576362935i","-101.366728336299+3.51347164967139i","94.346123207598-35.6309210411288i","-65.1238177208326-22.0880659317488i","68.5167091958072-3.08288386468062i","-0.928910041794921+0.5747184888472i","-221.870965815867+5.5689760680556i","205.35384499121-79.4097164921248i","-56.4834796104601-18.7539869990515i","58.3526823612003-4.7173543683607i","-4.66187885118278-0.77198219915303i","0.000186504767220499-0.0000611229670770957i","5.32219983966113+94.6616088305068i","-40.0545185876755-85.0551083216212i","0.870510011289339-3.32466838135911i","0.000193693257695859+0.0000474603345716057i","-44.3469821857931+85.0609976151967i","9.1766186496046-94.6626149247518i","2.47310196603965-2.44379097235958i","-0.536269870642997+0.298246495777988i","16.3427839340527-50.4418860941965i","4.58014057029216+51.9554853443106i","-1.13237090528496+1.55143127426633i","-0.6183391153437+0.0309160865529918i","36.897187953131-38.8067749880712i","-18.5026103487577+49.3162124161877i","-1.6977106674353+0.92835421065574i","-0.933950122099771+0.334469092584731i","-0.252453275843266-0.0907997587108649i","0.263488838650346-0.0147691529798602i","0.036298190275349+0.015840473723509i","-0.849893672112501-1.5543553092598i","-39.213520807598-13.7518975852726i","41.8513554919538-0.67756579878422i","1.20664376504634+0.91611112692431i","0.849802575544999+1.5545238800007i","-91.0332027288733-30.4051529784525i","95.1738197226393-5.50574514715018i","2.80617380629059+2.0528828230296i","0.0000797491960042862+0.000409993937296349i","-113.001193428431-37.4939109086054i","116.730956414763-9.46156364092811i","3.4798509016499+2.54041525190563i","5.31990845641355+94.6656018900048i","-40.0537455543553-85.0596806779623i","0.870634214125793-3.32478127770846i","-44.3511033542291+85.0632108607362i","9.17974139489347-94.6661433853235i","2.47326973305326-2.4438216318218i","21.0084816190434-64.058552715722i","4.91896249815751+66.449920335466i","-1.44668347151126+1.97165782359491i","47.1898087626002-49.0520356639319i","-24.6567099946319+62.5866995297122i","-2.16951950070854+1.16861476436275i","10.7763840011492-20.5814289286753i","-3.01397533873063+23.1941827990118i","-0.575743670475677+0.603341567627011i","17.4304453228177-15.6975020320493i","-10.998179837149+20.9116100096086i","-0.780502221920931+0.349533895068508i","-130.24778182228-44.1614188153608i","137.027698403754-6.17955199871782i","4.01280539145125+2.9691573611298i","-113.009019373095-37.4998054223458i","116.740407144086-9.45872213795901i","3.48005645285244+2.54070737803756i","-0.796329642183601+0.970741887250298i","0.00592094216648098+0.0062332078454701i","-1.19546630610433+0.446953142811509i","-0.00194246223048999+0.00509215471557978i","1.21908736579287-0.685405799579499i","-0.01096657165005-0.00979867082799002i","1.4094272312211-0.0954967795879043i","0.00492219587866982-0.00414022179967999i","-0.46143195953292+0.1646696933222i","0.024715529125233+0.011319053295735i","-0.492671533754599+0.00804427255400242i","-0.00414588279871597+0.0000286478117030309i","-0.929152537649979+0.362480233418899i","-0.0345646858955223-0.0110768242721002i","-1.85514820641599-3.33822578671169i","-0.0106860502383102-0.00724266628716963i"]
[{"$f":"COMPLEX(定数!O$13,計算!B12*定数!O$23)","v":"74.3688188913563+22.4445834404404i"},{"$f":"COMPLEX(定数!P$13,計算!B12*定数!P$23)","v":"-73.4757772913563+22.4445834404404i"},{"$f":"COMPLEX(定数!Q$13,計算!B12*定数!Q$23)","v":"125.193786513619+32.1113896997418i"},{"$f":"COMPLEX(定数!R$13,計算!B12*定数!R$23)","v":"-123.916114913619+32.1113896997418i"},{"$f":"COMPLEX(定数!S$13,計算!B12*定数!S$23)","v":"-77.7867441135484-14.7451329787869i"},{"$f":"COMPLEX(定数!T$13,計算!B12*定数!T$23)","v":"77.2000539135484-14.7451329787869i"},{"$f":"COMPLEX(定数!U$13,計算!B12*定数!U$23)","v":"124.646605989444+26.9069167254746i"},{"$f":"COMPLEX(定数!V$13,計算!B12*定数!V$23)","v":"-123.576013789444+26.9069167254746i"},{"$f":"IMPRODUCT(定数!D$31,計算!G12)","v":"-5.25471059156516-0.663824322946617i"},{"$f":"COMPLEX(定数!O$14,計算!B12*定数!O$24)","v":"86.1948356167649+27.5602674627428i"},{"$f":"COMPLEX(定数!P$14,計算!B12*定数!P$24)","v":"-85.0982474167649+27.5602674627428i"},{"$f":"COMPLEX(定数!Q$14,計算!B12*定数!Q$24)","v":"57.0863694248256+15.2353119085692i"},{"$f":"COMPLEX(定数!R$14,計算!B12*定数!R$24)","v":"-56.4801756248256+15.2353119085692i"},{"$f":"COMPLEX(定数!S$14,計算!B12*定数!S$24)","v":"163.969671876329+32.3425908084674i"},{"$f":"COMPLEX(定数!T$14,計算!B12*定数!T$24)","v":"-162.682801076329+32.3425908084674i"},{"$f":"COMPLEX(定数!U$14,計算!B12*定数!U$24)","v":"-101.525845343051-23.2212454598695i"},{"$f":"COMPLEX(定数!V$14,計算!B12*定数!V$24)","v":"100.601901343051-23.2212454598695i"},{"$f":"IMPRODUCT(定数!D$32,計算!G12)","v":"5.25471059156516+0.663824322946617i"},{"$f":"COMPLEX(定数!O$15,計算!B12*定数!O$25)","v":"86.1919999827348+27.5599608461949i"},{"$f":"COMPLEX(定数!P$15,計算!B12*定数!P$25)","v":"-85.0954239827348+27.5599608461949i"},{"$f":"COMPLEX(定数!Q$15,計算!B12*定数!Q$25)","v":"-57.0828842529623-15.2352566181389i"},{"$f":"COMPLEX(定数!R$15,計算!B12*定数!R$25)","v":"56.4766926529622-15.2352566181389i"},{"$f":"COMPLEX(定数!S$15,計算!B12*定数!S$25)","v":"-163.956966054068-32.3397256793647i"},{"$f":"COMPLEX(定数!T$15,計算!B12*定数!T$25)","v":"162.670209254068-32.3397256793647i"},{"$f":"COMPLEX(定数!U$15,計算!B12*定数!U$25)","v":"-101.548680976766-23.225809568116i"},{"$f":"COMPLEX(定数!V$15,計算!B12*定数!V$25)","v":"100.624555376766-23.225809568116i"},{"$f":"IMPRODUCT(定数!D$33,計算!G12)","v":"0"},{"$f":"COMPLEX(定数!O$16,計算!B12*定数!O$26)","v":"74.3664237452132+22.4441411041439i"},{"$f":"COMPLEX(定数!P$16,計算!B12*定数!P$26)","v":"-73.4733997452132+22.4441411041439i"},{"$f":"COMPLEX(定数!Q$16,計算!B12*定数!Q$26)","v":"-125.201328746793-32.1130735933314i"},{"$f":"COMPLEX(定数!R$16,計算!B12*定数!R$26)","v":"123.923590146793-32.1130735933314i"},{"$f":"COMPLEX(定数!S$16,計算!B12*定数!S$26)","v":"77.7704269443536+14.7410514215778i"},{"$f":"COMPLEX(定数!T$16,計算!B12*定数!T$26)","v":"-77.1838991443536+14.7410514215778i"},{"$f":"COMPLEX(定数!U$16,計算!B12*定数!U$26)","v":"124.65071095008+26.9067257165803i"},{"$f":"COMPLEX(定数!V$16,計算!B12*定数!V$26)","v":"-123.58012635008+26.9067257165803i"},{"$f":"IMPRODUCT(定数!D$34,計算!G12)","v":"0"},{"$f":"IMDIV(COMPLEX(定数!O$17,計算!B12*定数!O$27),計算!R12)","v":"-0.0281805159910651+0.160691653159535i"},{"$f":"IMPRODUCT(COMPLEX(定数!P$17,計算!B12*定数!P$27),計算!R12)","v":"0.41734597472932-0.643095349133737i"},{"$f":"IMDIV(COMPLEX(定数!Q$17,計算!B12*定数!Q$27),計算!S12)","v":"-0.111784532976961+0.134590041388395i"},{"$f":"IMPRODUCT(COMPLEX(定数!R$17,計算!B12*定数!R$27),計算!S12)","v":"0.367654640854802-1.11719876082272i"},{"$f":"IMDIV(COMPLEX(定数!S$17,計算!B12*定数!S$27),計算!T12)","v":"0.0643193539248127+0.0329588120473445i"},{"$f":"IMPRODUCT(COMPLEX(定数!T$17,計算!B12*定数!T$27),計算!T12)","v":"-0.0924215198095792+0.618975585739553i"},{"$f":"IMDIV(COMPLEX(定数!U$17,計算!B12*定数!U$27),計算!U12)","v":"-0.113231183521805+0.0177996292745244i"},{"$f":"IMPRODUCT(COMPLEX(定数!V$17,計算!B12*定数!V$27),計算!U12)","v":"0.20691356778601-1.048685846285i"},{"$f":"IMPRODUCT(定数!E$31,計算!G12)","v":"0"},{"$f":"IMDIV(COMPLEX(定数!O$18,計算!B12*定数!O$28),計算!R12)","v":"-0.0251127458722804+0.216919757228837i"},{"$f":"IMPRODUCT(COMPLEX(定数!P$18,計算!B12*定数!P$28),計算!R12)","v":"0.502978782460002-0.770070481555307i"},{"$f":"IMDIV(COMPLEX(定数!Q$18,計算!B12*定数!Q$28),計算!S12)","v":"-0.0510685483565453+0.0734837459296747i"},{"$f":"IMPRODUCT(COMPLEX(定数!R$18,計算!B12*定数!R$28),計算!S12)","v":"0.172466623574683-0.520429909824906i"},{"$f":"IMDIV(COMPLEX(定数!S$18,計算!B12*定数!S$28),計算!T12)","v":"-0.13972678736482-0.0440588200391182i"},{"$f":"IMPRODUCT(COMPLEX(定数!T$18,計算!B12*定数!T$28),計算!T12)","v":"0.201367252287981-1.32945249863595i"},{"$f":"IMDIV(COMPLEX(定数!U$18,計算!B12*定数!U$28),計算!U12)","v":"0.09547212976175-0.0409619826498494i"},{"$f":"IMPRODUCT(COMPLEX(定数!V$18,計算!B12*定数!V$28),計算!U12)","v":"-0.176322033998495+0.879437826194605i"},{"$f":"IMPRODUCT(定数!E$32,計算!G12)","v":"0"},{"$f":"IMDIV(COMPLEX(定数!O$19,計算!B12*定数!O$29),計算!R12)","v":"-0.0251089934295675+0.216924519899833i"},{"$f":"IMPRODUCT(COMPLEX(定数!P$19,計算!B12*定数!P$29),計算!R12)","v":"0.502969713558799-0.770054738207232i"},{"$f":"IMDIV(COMPLEX(定数!Q$19,計算!B12*定数!Q$29),計算!S12)","v":"0.0510655741834341-0.0734971262683665i"},{"$f":"IMPRODUCT(COMPLEX(定数!R$19,計算!B12*定数!R$29),計算!S12)","v":"-0.172463208823385+0.520414374053344i"},{"$f":"IMDIV(COMPLEX(定数!S$19,計算!B12*定数!S$29),計算!T12)","v":"0.139714781558241+0.0440626489335067i"},{"$f":"IMPRODUCT(COMPLEX(定数!T$19,計算!B12*定数!T$29),計算!T12)","v":"-0.201349785938663+1.32934245838406i"},{"$f":"IMDIV(COMPLEX(定数!U$19,計算!B12*定数!U$29),計算!U12)","v":"0.0954919674346444-0.0409578328057775i"},{"$f":"IMPRODUCT(COMPLEX(定数!V$19,計算!B12*定数!V$29),計算!U12)","v":"-0.176357762615656+0.879622879432483i"},{"$f":"IMPRODUCT(定数!E$33,計算!G12)","v":"0"},{"$f":"IMDIV(COMPLEX(定数!O$20,計算!B12*定数!O$30),計算!R12)","v":"-0.0281782395367556+0.160692041365296i"},{"$f":"IMPRODUCT(COMPLEX(定数!P$20,計算!B12*定数!P$30),計算!R12)","v":"0.417336028629975-0.643079119951205i"},{"$f":"IMDIV(COMPLEX(定数!Q$20,計算!B12*定数!Q$30),計算!S12)","v":"0.111791226968239-0.134593029448401i"},{"$f":"IMPRODUCT(COMPLEX(定数!R$20,計算!B12*定数!R$30),計算!S12)","v":"-0.367674752454509+1.11726141549106i"},{"$f":"IMDIV(COMPLEX(定数!S$20,計算!B12*定数!S$30),計算!T12)","v":"-0.0643026115894146-0.0329718266343867i"},{"$f":"IMPRODUCT(COMPLEX(定数!T$20,計算!B12*定数!T$30),計算!T12)","v":"0.0923969985957548-0.618826386735763i"},{"$f":"IMDIV(COMPLEX(定数!U$20,計算!B12*定数!U$30),計算!U12)","v":"-0.11323223567997+0.0177783766777584i"},{"$f":"IMPRODUCT(COMPLEX(定数!V$20,計算!B12*定数!V$30),計算!U12)","v":"0.206913954904657-1.04869952803489i"},{"$f":"IMPRODUCT(定数!E$34,計算!G12)","v":"0"},"-0.822033878160238+0.549891634952801i","1.66232051282987-0.0699043205569598i","-1.40770498356807+0.856632424888001i","-1.01348518780349+0.107600470248279i","0.896569044574115-0.468855795071652i","1.6362196088737-0.132008965035707i","-1.42287104604538+0.791227634385169i","-0.0672279705627002+0.0113633574457319i","0.911988117492697+2.8179219264839i","-88.1236556922724-24.553294614517i","88.4657427778964-19.8052532828708i","254.292358778236+50.9999088085227i","-252.884213606107+48.0458563253577i","-246.197727946711-56.937404467021i","245.052482488355-52.2062747471376i","11.3625916335449+1.53718244554263i","0.912311958409106+2.818922552179i","-202.288174203624-55.0235516693182i","201.418356661851-50.2738243391661i","-73.6371860173329-13.6824133150839i","72.471482824929-16.6375147630167i","-246.215883384289-56.941841212373i","245.070859177026-52.2090314991867i","6.10768692386524+0.873369731710828i","0.000165417841103022+0.000511119110800706i","-250.391102838629-64.2238954194378i","247.835954481636-64.2230342122337i","155.55469601717+29.4859938179314i","-154.381598252077+29.4854580072462i","0.00808233807799752+0.000216569664299726i","-0.00787053343599098+0.0010747094135013i","5.25454454432531+0.663821802476854i","0.482543631759793-0.495505136286884i","-0.0761725240161752-0.134500929722543i","0.465638468559974-0.86685197610423i","0.0530493158281481+0.198849659100666i","-0.142496954315356+0.461691825564753i","-0.0883344094925124-0.248847285357591i","0.293960004114566-0.797745142659767i","-0.0000685222060916571+0.0111231990044925i","0.601617614535489-0.577945803385046i","-0.0244867440040325-0.288861905587418i","0.32293578370025-0.193558494147329i","-0.141837515447484+0.17848828411932i","0.122178477619048-1.53571029455624i","0.107926744343062-0.399205450571599i","-0.040421326623281+1.20795656658015i","0.000776657798182423+0.0148684401612389i","0.601614249222262-0.577928208396921i","0.077640807842172-0.435850432559194i","-0.021984686507106+0.847289279702517i","0.137608368986323+0.266614176223854i","-0.280544157937471+1.1230821517549i","0.107939813480339-0.399208598147123i","-0.040447947641448+1.20814542744832i","0.000776964187223588+0.0148687177055966i","0.482535770454113-0.495489839789247i","0.14739942459507-0.403684486747747i","-0.269687387623618+1.36760679660416i","-0.0755703007622333+0.13291916891217i","0.0423193410789917-0.776109427635036i","-0.0883392376764981-0.248868872631858i","0.293963937493263-0.797760073236478i","-0.0000683647533675257+0.0111231992346139i","1.81027291901364+30.4764397043922i","-15.8359522533701-25.7549936365704i","-7.81734178636678-86.2277912929749i","39.3880715672896+76.3832270247132i","5.79473319062223+84.1445596196464i","-40.5367107273811-73.1657559915346i","-0.609484777550033-3.77875257830788i","-17.0485712624857+25.754993635049i","2.83503155847923-30.476439704277i","42.8189663784861-76.3832270208807i","-10.8565338319459+86.2277912920747i","-43.8847163836776+73.1657559876111i","8.70590613120683-84.1445596189914i","1.67504880102499-3.49014887117949i","-114.133226378002-30.4615383370721i","112.921200276073-30.4615383435564i","-328.019842348512-64.7004318673657i","325.4454939645-64.7004318486144i","0.0692677646350148+0.0157813640147992i","-0.0686398484060078+0.0157813458747995i","-5.25893949165866-0.664358557693822i","-250.375118831331-64.2194419042984i","247.819908426074-64.2194419041826i","155.508572069118+29.4767433744209i","-154.335729715677+29.4767433740861i","0.0527380692610531+0.010543965481925i","-0.0523185381242367+0.0105439658057425i","5.2524835795813+0.663542985914525i","-4.61122466190347-21.010063721244i","14.1988444533846+15.2441326206678i","17.2393110863664+58.2741072023245i","-37.6300591666216-46.5264480191399i","-15.1660518791384-57.2996192726757i","37.7870419236104+44.1194974527612i","0.92103403804773+2.52526759512485i","-4.65275645741423-25.6366699535468i","16.2310612895594+19.7800990519617i","18.2428835807776+70.8790250386757i","-43.1813296486981-59.6863565658391i","-15.7760964948764-69.7800007002133i","43.352947303829+56.8623477138921i","1.01015468718224+3.08269090343152i","-4.55023312054324-25.7832718374889i","15.8856141275266+20.8207943806993i","18.521129602473+70.966140478091i","-43.5825716429276-57.0270829154176i","-15.774943760948-69.7789854710388i","43.3514694583847+56.8621002216458i","1.01009922150722+3.08264996306796i","-4.38739277612305-21.2787840269614i","13.4630747014628+17.4783084427142i","17.1098596869081+58.2069212600215i","-37.4440092345526-47.7634053423701i","-15.165282518679-57.2983943991164i","37.785827179721+44.1186878662075i","0.920993976517147+2.5252145358478i","0.821224525681201-0.531057400427002i","-18.6246693316416-171.959132419601i","81.7302835555095+150.958229332158i","5.79649563611336+84.1628357754475i","-40.5461649797263-73.1813109586925i","-0.874241470390846-5.12289688537438i","0.98821510073728+0.0481277900135026i","86.1538361582331-152.304552480311i","-21.9028143139408+172.279711112096i","-43.8943925196708+73.1816119409843i","8.70770662166618-84.1628865692942i","2.27736918197968-4.73838480401737i","-0.857094711032859+0.495648493759647i","2.82413602496314-0.186861412780196i","-2.52060460754444+1.23962083806648i","-0.000600996028411311+0.0000221311499309972i","0.000526960433643724-0.00027891414565753i","0.0444635111627163-0.00604616564421504i","1.39444865156599+4.8364646178031i","874.6021005573+164.055734329546i","-865.040166249985+177.975136852868i","-0.0991576328668559-0.0225105747555018i","0.0975309538420613-0.0254480916027537i","16.773321853937+2.00515541624546i","-0.167018252945899-0.477935315213999i","34.1880069628001+116.747725089291i","-75.2976460937967-93.7683412598082i","-15.1692881837166-57.3121441858245i","37.7953318605309+44.1292827892636i","1.25309560273022+3.43156856979521i","-0.463568509303002+0.1131765562296i","36.1734050740404+142.411047569623i","-86.688839306088-118.538611113786i","-15.7794601520149-69.7953052661863i","43.362549552287+56.8745595050157i","1.37203612896909+4.1944559278422i","-0.793806464504501+0.977404648117602i","36.1895054818286+142.931344326377i","-87.0133912552541-116.375952912277i","-15.7782490464365-69.7943804131212i","43.3610585704399+56.8744178613707i","1.36830849503474+4.2015532950589i","-0.8441336941763+1.4149798170124i","33.4766373271429+117.481267385405i","-74.8805157696931-95.9601028936076i","-15.1683902482722-57.3110857657587i","37.7940741159884+44.1286772375579i","1.244727917128+3.44481708348895i","-0.00605221060169825-0.0710947264360016i","0.0326680318327988+0.0628182868979934i","5.79511215421761+84.1431283467105i","-40.5359527896812-73.1646002422993i","-0.304921917117524-1.89049387507915i","0.0354968044516113-0.062818285134i","-0.00855167454240302+0.0710947260250236i","-43.8839014946667+73.164600239924i","8.70623910586438-84.1431283463141i","0.83801910155721-1.74610684653551i","-7.35243391667096-174.926383620951i","72.4939279497135+157.92683277359i","-0.000193784931175072+0.0200186901590451i","-0.00895809332674692-0.0176896435748155i","-0.368542448915818-3.30310188165209i","79.4540276203848-157.926832767261i","-13.6361429517318+174.92638362i","-0.00975461892927538+0.0176896399364646i","0.000510071643571086-0.0200186898442484i","1.30595042009706-3.09156423817951i","122.937090444841+128.344947122994i","-161.178627161185-71.0696365533908i","-15.1793718867674-57.3138517699398i","37.8049846906466+44.1261830839113i","2.94878088900744+3.53938073754739i","55.1321751472952+60.2088079001127i","-73.2125600750554-35.904956521766i","-15.7819800336418-69.7860009119931i","43.3605203590616+56.8652217426543i","1.62754102459737+2.61350113138167i","-55.0977941714029-60.090732350824i","73.1360107473449+35.809770721092i","-15.7687023897039-69.7708040527028i","43.3418971081049+56.8580283495661i","-0.61672887552065+0.47100760654707i","-122.916821750843-128.255938831176i","161.126058791414+70.9960185790404i","-15.1515939673039-57.2823507557429i","37.7661786425565+44.1110570458662i","-2.0273763303657-1.01276994412506i","0.000227491837795205-0.000022792184874193i","5.80481941466189+84.1213942499312i","-40.5352660644833-73.1412821510871i","-0.304892946290249-1.88864459112319i","0.000202405334757379+0.000117270362894911i","-43.8633990725476+73.1519883764103i","8.69351250899721-84.123265339887i","0.836988509564386-1.74454611391289i","-0.418598430244003+0.456253637160017i","26.0853138058815-52.2393279936638i","-0.780293246962572+57.2190730286655i","-0.49220638900851+1.23348085198476i","-0.593112059987+0.189302532009009i","48.6767254834155-33.2682573712326i","-28.7999617160199+50.0935274489959i","-1.03193365171384+0.84971318483776i","-0.916111652759835+0.378312720030545i","-0.291966840352974-0.161394604438537i","0.326442809614856+0.0181303944736762i","0.0258588417269029+0.00179383669036085i","0.0724259058660977-1.604169146868i","-9.40258978885382-43.3089899082442i","26.4546276418191+36.2109212445681i","0.30989160209768+0.95767297872854i","-0.0728089387079081+1.6041469722963i","-22.1571112861637-96.2077920073986i","60.2387071592662+77.4731605929404i","0.70024330301757+2.12372078840332i","-0.00032701402997759+0.000255654218491941i","-30.3394135255764-114.566943798105i","75.5661605192292+88.2078165334997i","0.92104010003124+2.52427278336487i","5.79891126138563+84.1236097409196i","-40.5307086572391-73.1457540063363i","-0.304764399379089-1.8887079481553i","-43.8696276104365+73.1502899151627i","8.69997098008796-84.1242476867367i","0.837133098446491-1.74452173309021i","34.029178669528-67.3693628465471i","-1.9261719321224+74.4730025672861i","-0.637721872012879+1.59329391143658i","63.1626342920759-42.5094561213566i","-38.4123416370431+64.5817521748549i","-1.33854609979445+1.09114473914796i","21.4756515160191-16.7274178168569i","-13.0192821363155+24.2680800070423i","-0.428854920229988+0.425145847107775i","26.6787571667203-7.06585272891293i","-21.7840500925858+17.4746891610139i","-0.587071597351192+0.219684311365886i","-31.549325552586-139.51889677928i","86.6846033007245+113.690292165377i","1.00990516600746+3.08146489537671i","-30.3324956127379-114.576074967895i","75.56350430722+88.2191001863269i","0.920904282603242+2.52449471054727i","-0.282938492520003+0.902648678629902i","0.005710699593727-0.00249119976234002i","-0.758244315557921+0.601900943796508i","0.00320490489548997+0.0000759348088799072i","0.99172430281656-0.907400970665805i","-0.013542173484037+0.000175512512380127i","1.3211219823903-0.316814350715603i","-0.00377516294670999-0.00310520210915999i","-0.455156024588+0.135408922311502i","0.020119947849205+0.001773319887795i","-0.473734509157101-0.0400010719303019i","-0.0000402955395839566+0.00325663832648801i","-0.908894565332141+0.415783052369288i","-0.0225691345178596+0.00213493799434657i","0.355673713197802-3.3067340572386i","-0.00828670683508603+0.00336985941547008i"]
[{"$f":"COMPLEX(定数!O$13,計算!B13*定数!O$23)","v":"74.3688188913563+25.2501563704954i"},{"$f":"COMPLEX(定数!P$13,計算!B13*定数!P$23)","v":"-73.4757772913563+25.2501563704954i"},{"$f":"COMPLEX(定数!Q$13,計算!B13*定数!Q$23)","v":"125.193786513619+36.1253134122095i"},{"$f":"COMPLEX(定数!R$13,計算!B13*定数!R$23)","v":"-123.916114913619+36.1253134122095i"},{"$f":"COMPLEX(定数!S$13,計算!B13*定数!S$23)","v":"-77.7867441135484-16.5882746011353i"},{"$f":"COMPLEX(定数!T$13,計算!B13*定数!T$23)","v":"77.2000539135484-16.5882746011353i"},{"$f":"COMPLEX(定数!U$13,計算!B13*定数!U$23)","v":"124.646605989444+30.2702813161589i"},{"$f":"COMPLEX(定数!V$13,計算!B13*定数!V$23)","v":"-123.576013789444+30.2702813161589i"},{"$f":"IMPRODUCT(定数!D$31,計算!G13)","v":"-2.37018288147473+0.608559530053352i"},{"$f":"COMPLEX(定数!O$14,計算!B13*定数!O$24)","v":"86.1948356167649+31.0053008955857i"},{"$f":"COMPLEX(定数!P$14,計算!B13*定数!P$24)","v":"-85.0982474167649+31.0053008955857i"},{"$f":"COMPLEX(定数!Q$14,計算!B13*定数!Q$24)","v":"57.0863694248256+17.1397258971403i"},{"$f":"COMPLEX(定数!R$14,計算!B13*定数!R$24)","v":"-56.4801756248256+17.1397258971403i"},{"$f":"COMPLEX(定数!S$14,計算!B13*定数!S$24)","v":"163.969671876329+36.3854146595258i"},{"$f":"COMPLEX(定数!T$14,計算!B13*定数!T$24)","v":"-162.682801076329+36.3854146595258i"},{"$f":"COMPLEX(定数!U$14,計算!B13*定数!U$24)","v":"-101.525845343051-26.1239011423532i"},{"$f":"COMPLEX(定数!V$14,計算!B13*定数!V$24)","v":"100.601901343051-26.1239011423532i"},{"$f":"IMPRODUCT(定数!D$32,計算!G13)","v":"2.37018288147473-0.608559530053352i"},{"$f":"COMPLEX(定数!O$15,計算!B13*定数!O$25)","v":"86.1919999827348+31.0049559519693i"},{"$f":"COMPLEX(定数!P$15,計算!B13*定数!P$25)","v":"-85.0954239827348+31.0049559519693i"},{"$f":"COMPLEX(定数!Q$15,計算!B13*定数!Q$25)","v":"-57.0828842529623-17.1396636954062i"},{"$f":"COMPLEX(定数!R$15,計算!B13*定数!R$25)","v":"56.4766926529622-17.1396636954062i"},{"$f":"COMPLEX(定数!S$15,計算!B13*定数!S$25)","v":"-163.956966054068-36.3821913892853i"},{"$f":"COMPLEX(定数!T$15,計算!B13*定数!T$25)","v":"162.670209254068-36.3821913892853i"},{"$f":"COMPLEX(定数!U$15,計算!B13*定数!U$25)","v":"-101.548680976766-26.1290357641305i"},{"$f":"COMPLEX(定数!V$15,計算!B13*定数!V$25)","v":"100.624555376766-26.1290357641305i"},{"$f":"IMPRODUCT(定数!D$33,計算!G13)","v":"0"},{"$f":"COMPLEX(定数!O$16,計算!B13*定数!O$26)","v":"74.3664237452132+25.2496587421618i"},{"$f":"COMPLEX(定数!P$16,計算!B13*定数!P$26)","v":"-73.4733997452132+25.2496587421618i"},{"$f":"COMPLEX(定数!Q$16,計算!B13*定数!Q$26)","v":"-125.201328746793-36.1272077924979i"},{"$f":"COMPLEX(定数!R$16,計算!B13*定数!R$26)","v":"123.923590146793-36.1272077924979i"},{"$f":"COMPLEX(定数!S$16,計算!B13*定数!S$26)","v":"77.7704269443536+16.583682849275i"},{"$f":"COMPLEX(定数!T$16,計算!B13*定数!T$26)","v":"-77.1838991443536+16.583682849275i"},{"$f":"COMPLEX(定数!U$16,計算!B13*定数!U$26)","v":"124.65071095008+30.2700664311528i"},{"$f":"COMPLEX(定数!V$16,計算!B13*定数!V$26)","v":"-123.58012635008+30.2700664311528i"},{"$f":"IMPRODUCT(定数!D$34,計算!G13)","v":"0"},{"$f":"IMDIV(COMPLEX(定数!O$17,計算!B13*定数!O$27),計算!R13)","v":"0.0687005619326896+0.155926726794053i"},{"$f":"IMPRODUCT(COMPLEX(定数!P$17,計算!B13*定数!P$27),計算!R13)","v":"0.725684740053404-0.252087110372069i"},{"$f":"IMDIV(COMPLEX(定数!Q$17,計算!B13*定数!Q$27),計算!S13)","v":"-0.0254696959052102+0.186839018303601i"},{"$f":"IMPRODUCT(COMPLEX(定数!R$17,計算!B13*定数!R$27),計算!S13)","v":"0.956033117416662-0.688658803504913i"},{"$f":"IMDIV(COMPLEX(定数!S$17,計算!B13*定数!S$27),計算!T13)","v":"0.0780085849257393-0.0134561171369243i"},{"$f":"IMPRODUCT(COMPLEX(定数!T$17,計算!B13*定数!T$27),計算!T13)","v":"-0.429766891414038+0.45608779411369i"},{"$f":"IMDIV(COMPLEX(定数!U$17,計算!B13*定数!U$27),計算!U13)","v":"-0.0944493037796004+0.0876984361578983i"},{"$f":"IMPRODUCT(COMPLEX(定数!V$17,計算!B13*定数!V$27),計算!U13)","v":"0.773952354085824-0.73961242641154i"},{"$f":"IMPRODUCT(定数!E$31,計算!G13)","v":"0"},{"$f":"IMDIV(COMPLEX(定数!O$18,計算!B13*定数!O$28),計算!R13)","v":"0.10373230411969+0.201416821965024i"},{"$f":"IMPRODUCT(COMPLEX(定数!P$18,計算!B13*定数!P$28),計算!R13)","v":"0.871713350832316-0.299593611673332i"},{"$f":"IMDIV(COMPLEX(定数!Q$18,計算!B13*定数!Q$28),計算!S13)","v":"-0.00492738442157661+0.0953794023794245i"},{"$f":"IMPRODUCT(COMPLEX(定数!R$18,計算!B13*定数!R$28),計算!S13)","v":"0.446435027408264-0.320002258677945i"},{"$f":"IMDIV(COMPLEX(定数!S$18,計算!B13*定数!S$28),計算!T13)","v":"-0.154159495658024+0.0521379355712883i"},{"$f":"IMPRODUCT(COMPLEX(定数!T$18,計算!B13*定数!T$28),計算!T13)","v":"0.925720863612087-0.977779299634292i"},{"$f":"IMDIV(COMPLEX(定数!U$18,計算!B13*定数!U$28),計算!U13)","v":"0.0652005943707388-0.0955448660622231i"},{"$f":"IMPRODUCT(COMPLEX(定数!V$18,計算!B13*定数!V$28),計算!U13)","v":"-0.651626281305624+0.618442128804593i"},{"$f":"IMPRODUCT(定数!E$32,計算!G13)","v":"0"},{"$f":"IMDIV(COMPLEX(定数!O$19,計算!B13*定数!O$29),計算!R13)","v":"0.10373824099743+0.201418224676558i"},{"$f":"IMPRODUCT(COMPLEX(定数!P$19,計算!B13*定数!P$29),計算!R13)","v":"0.871696561715795-0.299586635012259i"},{"$f":"IMDIV(COMPLEX(定数!Q$19,計算!B13*定数!Q$29),計算!S13)","v":"0.00491722211850288-0.0953886013658979i"},{"$f":"IMPRODUCT(COMPLEX(定数!R$19,計算!B13*定数!R$29),計算!S13)","v":"-0.446423262784588+0.319991552187346i"},{"$f":"IMDIV(COMPLEX(定数!S$19,計算!B13*定数!S$29),計算!T13)","v":"0.154150481535633-0.0521271225259622i"},{"$f":"IMPRODUCT(COMPLEX(定数!T$19,計算!B13*定数!T$29),計算!T13)","v":"-0.925643499196915+0.977698875420352i"},{"$f":"IMDIV(COMPLEX(定数!U$19,計算!B13*定数!U$29),計算!U13)","v":"0.0652211840736155-0.0955541812753247i"},{"$f":"IMPRODUCT(COMPLEX(定数!V$19,計算!B13*定数!V$29),計算!U13)","v":"-0.651762132219946+0.618573146813275i"},{"$f":"IMPRODUCT(定数!E$33,計算!G13)","v":"0"},{"$f":"IMDIV(COMPLEX(定数!O$20,計算!B13*定数!O$30),計算!R13)","v":"0.0687027213538901+0.155925458551938i"},{"$f":"IMPRODUCT(COMPLEX(定数!P$20,計算!B13*定数!P$30),計算!R13)","v":"0.725666924943471-0.252080337506654i"},{"$f":"IMDIV(COMPLEX(定数!Q$20,計算!B13*定数!Q$30),計算!S13)","v":"0.0254740571114734-0.186845969784981i"},{"$f":"IMPRODUCT(COMPLEX(定数!R$20,計算!B13*定数!R$30),計算!S13)","v":"-0.956086276568537+0.688697762376449i"},{"$f":"IMDIV(COMPLEX(定数!S$20,計算!B13*定数!S$30),計算!T13)","v":"-0.0780002799893579+0.0134346546058631i"},{"$f":"IMPRODUCT(COMPLEX(定数!T$20,計算!B13*定数!T$30),計算!T13)","v":"0.429661217288647-0.455979283566647i"},{"$f":"IMDIV(COMPLEX(定数!U$20,計算!B13*定数!U$30),計算!U13)","v":"-0.094462093899635+0.08768142534671i"},{"$f":"IMPRODUCT(COMPLEX(定数!V$20,計算!B13*定数!V$30),計算!U13)","v":"0.773960320498772-0.739623564246486i"},{"$f":"IMPRODUCT(定数!E$34,計算!G13)","v":"0"},"-0.782507811705034+0.60520795742277i","1.65729580860778-0.07693634230849i","-1.3461304696064+0.942805322312426i","-1.00575089423125+0.118424534358082i","0.862867813029648-0.516020321141091i","1.62673083909976-0.145288400500239i","-1.36599781126598+0.870821140066626i","-0.0260852579723536+0.0170396194495335i","1.1145396062807+3.1013906466329i","-88.1494048095564-27.6137139435015i","88.7812816258734-22.3880436233278i","254.331993197198+57.3614404891833i","-253.056915704633+54.1102252390922i","-246.246353186125-64.0380704866291i","245.343929611986-58.8310130009866i","5.14691593260172-1.26850545510632i","1.1149353719096+3.1024919302214i","-202.313932464251-61.8927500257487i","201.734007555615-56.6652241041309i","-73.5975375244478-15.4061766783388i","72.2987194010136-18.6585464137579i","-246.264525890209-64.0430559627205i","245.362409791629-58.83414948493i","2.77665320517384-0.659906604871419i","0.00020215694860326+0.00056253511309734i","-250.391107509044-72.2518807611395i","247.836011714568-72.2509329208385i","155.554703206123+33.1717406043354i","-154.381629577055+33.1711508938003i","0.00807351835499048+0.000246635398397643i","-0.00781767029799596+0.00119109967439712i","2.37011192407227-0.608531698438001i","0.873811562264906-0.171651355363205i","-0.151323281272925-0.066292122512474i","1.19552158502553-0.54353234097744i","0.165569786538297+0.135231495713729i","-0.569507754677552+0.356994526403114i","-0.228860971270135-0.155970984201203i","1.00358146131227-0.586442760558438i","0.00444900396744191+0.00289675746190543i","1.07478375254417-0.204762990971934i","-0.192338770817756-0.230447068388109i","0.775969094418135-0.146668305959313i","-0.025977944675885+0.242428634562562i","0.732278424062194-1.09804741542609i","-0.132807471648776-0.408124721320439i","-0.334530154388372+0.803244783425719i","0.0061379499100472+0.00348645077410647i","1.07477245801304-0.204758509723778i","-0.182504111359766-0.421216940079719i","-0.116879881478797+0.493321795818782i","0.282338169653328+0.13816428417171i","-1.11909178531518+0.857432612823482i","-0.132796743445722-0.408135455808181i","-0.334656674029838+0.803372547576644i","0.00613812867670534+0.00348638620206129i","0.873794669368711-0.171646881806047i","-0.100383009482037-0.439974842610746i","-0.716596097802415+0.833820481770767i","0.00956294327202119+0.162120736192425i","0.289919145168788-0.555070342646702i","-0.228877089926363-0.155985618184979i","1.00359127307781-0.586457511278969i","0.00444903868613798+0.00289668758376721i","1.92762949098717+27.6496368846121i","-15.9533088253454-22.3380100581462i","-8.15671552345806-77.8151325431423i","39.7274453043846+66.7399977410011i","6.12304421311157+76.0970786817727i","-40.8650217498749-63.7459245997613i","-0.864512665254441-1.33533850967978i","-16.9312146905148+22.3380100567951i","2.71767498650599-27.6496368845096i","42.479592641402-66.7399977375973i","-10.5171600948571+77.8151325423423i","-43.5564053611951+63.7459245962758i","8.3775951087194-76.0970786811914i","0.165946060460024-1.5999153415581i","-114.133226377989-34.2692306299737i","112.921200276062-34.2692306357342i","-328.019842348548-72.787985848567i","325.445493964532-72.7879858319084i","0.0692677646680124+0.0177540323692966i","-0.0686398484379822+0.0177540162539955i","-2.37209036368351+0.609049288063281i","-250.375118831332-72.2468721423196i","247.819908426074-72.2468721422218i","155.508572069121+33.161336296177i","-154.335729715677+33.1613362958938i","0.0527380692571969+0.0118619612120945i","-0.0523185381241095+0.0118619614862418i","2.36917836836545-0.608301614920417i","10.8090181761226-22.4917695377021i","3.56688340586501+24.0835326560037i","-25.4975783552262+65.7450928365334i","-4.73656463026083-69.4440527931258i","26.8891552882079-63.3344129586922i","6.74530868614629+67.3460900007448i","0.134071054469995+1.42940614775553i","13.4310579377942-27.7058635024175i","3.5166785219859+30.1271914399842i","-32.0164723761391+80.6717422922897i","-3.89770806532698-86.8860127315603i","33.6281031471867-77.8399486060477i","6.24323217235386+84.3065699976588i","0.155385270968221+1.75702907700672i","13.4408014692872-27.8963052037845i","2.62373633606939+30.7668570735018i","-31.7079755532202+80.5665337833205i","-5.74884835217723-84.9296066878696i","33.6279075875205-77.8390441731445i","6.24285926382762+84.305800738903i","0.15538015440015+1.75701019849556i","10.859772361026-22.8649991613585i","1.6546879402075+25.4604062386318i","-25.6531661603382+65.7706646102725i","-3.87696728526506-70.3547560901023i","26.8886885467545-63.3331558873199i","6.74511959512533+67.3447522723227i","0.134066735185536+1.42937830830442i","0.7866892969045-0.5870701523341i","-19.2887767617466-155.167284113765i","82.3210380186422+131.563292836391i","6.12487639671204+76.1136090496136i","-40.8745278485011-63.7593990022855i","-1.19204948887665-1.80136389583271i","0.99134490221728+0.0532040208636992i","85.4755288650238-133.05161808426i","-21.2178593095873+155.521675526135i","-43.566010077301+63.7597317317742i","8.3793225578165-76.113665201148i","0.226636520118014-2.1727506156213i","-0.824862161198292+0.547926526397027i","2.8119842281143-0.206570434751831i","-2.43999074318888+1.37036861489628i","-0.000599556811225046+0.0000244654283328365i","0.000508822344551837-0.00030833235549287i","0.0175950046239979-0.0106193139186702i","1.70896910059099+5.3465859201424i","874.483525122969+184.598304142941i","-864.253548097202+199.985841841668i","-0.0991435892720781-0.0253286085444449i","0.0973539651217275-0.0285759657898382i","7.54174195685808-1.99592954980119i","0.15899634373754-0.391624757044401i","-51.2462323761426+131.224417622816i","-9.18467540550851-139.136101529458i","26.8950856379023-63.3481624995746i","6.74674375645637+67.3608670856889i","0.182733490987483+1.93993329393815i","-0.58532754997549-0.0855599281776023i","-64.0611831952365+161.354652964762i","-9.09329681818887-172.89356347232i","33.6354779936373-77.8568884418069i","6.2449407641188+84.3248085898147i","0.213283006367547+2.38714249394489i","-1.57458072535814+0.3916788126024i","-63.7407454041558+161.786976241949i","-11.181638308911-171.415185646838i","33.635283616534-77.8560984279025i","6.24462161720439+84.3241392362979i","0.215128812527825+2.39057790766949i","-1.91583632650921+0.649576267357102i","-51.4674419430928+132.309989525782i","-8.71270048157863-141.027033595307i","26.8946401952436-63.3471304422882i","6.74664391934106+67.3597349139963i","0.185799594122316+1.94701140606326i","-0.00633169120650123-0.0641773344249827i","0.0329475124288052+0.0548663397710243i","6.12341777720724+76.0957738164945i","-40.8642584126733-63.7449296987993i","-0.432511702212808-0.66806430778375i","0.0352173238592002-0.0548663382470238i","-0.00827219394480139+0.0641773340759926i","-43.5555958716803+63.7449296966879i","8.37793348287564-76.0957738161426i","0.083021777669261-0.8004308077036i","-8.0471078760051-157.509294726718i","73.1886019090533+138.384800022783i","-0.000115085782356675+0.0180707400554967i","-0.00903679248133318-0.015450562255221i","-0.684922061722132-1.19415117483243i","78.7593536610711-138.384800017199i","-12.9414689924017+157.509294725877i","-0.00967591978798371+0.0154505590237324i","0.000431372495906868-0.0180707397764599i","0.0703725000287712-1.38807785746384i","-9.5737679580112+184.071207596892i","-68.8115684323804-169.247703145498i","26.890573252347-63.3544084117042i","6.7537521188813+67.3639092033909i","0.715150174471227+2.18819221132431i","-6.1209701288052+87.0928616594024i","-30.144779100646-81.8063050495576i","33.6284924624937-77.8486726749499i","6.24673938952235+84.3142681961749i","0.373237811184564+1.58068334850849i","6.0698206592747-86.959432670974i","30.1340275899062+81.664813101557i","33.6260997563482-77.8279804226943i","6.2382229221234+84.2955164382859i","-0.217744692342727+0.17737385075937i","9.5311069990422-183.972844354497i","68.8078628464705+169.141466125576i","26.8861390330806-63.3112444521865i","6.7357320347466+67.3248341249499i","-0.581040647387698-0.75803088318231i","0.000276585757466599-0.0000764679814148975i","6.12940087826245+76.0724488177651i","-40.8583928716644-63.7219803294612i","-0.432149670238115-0.667344813274689i","0.000266579910369699+0.000120008584801309i","-43.5362263124932+63.7301829577768i","8.36819611295954-76.07389595987i","0.0828577724890901-0.799633214648315i","-0.269694125580301+0.388858707112007i","17.3127754602463-56.2701954293369i","11.6662549298025+56.7251839962669i","0.116286143687325+0.60534340235001i","-0.440376339102601+0.175906491658992i","45.3129322231889-38.4659132317544i","-20.9044679525927+54.6031872056836i","-0.225969119533045+0.57841335918508i","-0.897597072526577+0.420516361766113i","-0.35083338459058-0.127840612030354i","0.363076050240356-0.0555750033291269i","0.0116541489611623-0.00449132867202123i","0.9850293515271-1.05803929707159i","20.3470470572142-48.0760978127886i","3.62893097086367+52.3527630454635i","0.053409842153232+0.53819887663583i","-0.985583403610701+1.05782200730781i","46.872542576569-107.560282920733i","8.86718717167499+116.205734086952i","0.10208010678439+1.21807359224609i","-0.000634584968096874-6.83024902059515E-06i","53.7491705796935-126.636597557746i","13.4995067885863+134.650659107866i","0.134164922603339+1.42882338387463i","6.12096087394912+76.0784620449909i","-40.8535622120721-63.7312100076458i","-0.432102732849403-0.667441371208966i","-43.5467551851441+63.7294056616549i","8.37798818571685-76.0779885282459i","0.08295739227187-0.799678371681301i","21.6578833718593-72.7983045942113i","15.2894251921071+73.5181330973116i","0.158750844725699+0.777226113692928i","58.0816600074756-49.8776928196187i","-27.1598757512613+70.6413878152578i","-0.285499223630935+0.745545154089696i","24.9090354371955-25.4908381363063i","-10.7437616437838+34.1710104284416i","-0.0922848117441377+0.351492498747967i","33.9320582404998-12.3596791759997i","-24.7958720259942+26.514698263877i","-0.247316784703954+0.280730720526194i","67.2410753931208-155.635855550602i","12.4766185654555+168.567799767059i","0.155291922645798+1.75637426891683i","53.7707877734761-126.644209059954i","13.4835905989359+134.667315574837i","0.134006061628679+1.42899984213473i","-0.305651251381398+0.659639318895401i","0.000438802389564008-0.00186749670616193i","-0.661208992448129+0.3430087022994i","0.0000788763872056064-0.00122490663225594i","0.800190790064899-0.805328152958992i","-0.00346949484366299+0.00416200934264599i","1.1193891160735-0.254639296188302i","-0.00111386627820098+0.00184836417383605i","-0.509677224329801+0.143723746132601i","0.00938330124161429-0.004954267674318i","-0.524481835133301-0.0783746203235971i","0.00187599477990902-0.000268714714909968i","-0.883535936574571+0.461889227484763i","-0.00914674010944974+0.00494955716484067i","2.4964180466056-2.06354191463299i","-0.000999269465231989+0.00447658761317005i"]
[{"$f":"COMPLEX(定数!O$13,計算!B14*定数!O$23)","v":"74.3688188913563+28.0557293005504i"},{"$f":"COMPLEX(定数!P$13,計算!B14*定数!P$23)","v":"-73.4757772913563+28.0557293005504i"},{"$f":"COMPLEX(定数!Q$13,計算!B14*定数!Q$23)","v":"125.193786513619+40.1392371246772i"},{"$f":"COMPLEX(定数!R$13,計算!B14*定数!R$23)","v":"-123.916114913619+40.1392371246772i"},{"$f":"COMPLEX(定数!S$13,計算!B14*定数!S$23)","v":"-77.7867441135484-18.4314162234837i"},{"$f":"COMPLEX(定数!T$13,計算!B14*定数!T$23)","v":"77.2000539135484-18.4314162234837i"},{"$f":"COMPLEX(定数!U$13,計算!B14*定数!U$23)","v":"124.646605989444+33.6336459068433i"},{"$f":"COMPLEX(定数!V$13,計算!B14*定数!V$23)","v":"-123.576013789444+33.6336459068433i"},{"$f":"IMPRODUCT(定数!D$31,計算!G14)","v":"-6.97410074014886E-16+5.06698078231179E-16i"},{"$f":"COMPLEX(定数!O$14,計算!B14*定数!O$24)","v":"86.1948356167649+34.4503343284285i"},{"$f":"COMPLEX(定数!P$14,計算!B14*定数!P$24)","v":"-85.0982474167649+34.4503343284285i"},{"$f":"COMPLEX(定数!Q$14,計算!B14*定数!Q$24)","v":"57.0863694248256+19.0441398857115i"},{"$f":"COMPLEX(定数!R$14,計算!B14*定数!R$24)","v":"-56.4801756248256+19.0441398857115i"},{"$f":"COMPLEX(定数!S$14,計算!B14*定数!S$24)","v":"163.969671876329+40.4282385105843i"},{"$f":"COMPLEX(定数!T$14,計算!B14*定数!T$24)","v":"-162.682801076329+40.4282385105843i"},{"$f":"COMPLEX(定数!U$14,計算!B14*定数!U$24)","v":"-101.525845343051-29.0265568248369i"},{"$f":"COMPLEX(定数!V$14,計算!B14*定数!V$24)","v":"100.601901343051-29.0265568248369i"},{"$f":"IMPRODUCT(定数!D$32,計算!G14)","v":"6.97410074014886E-16-5.06698078231179E-16i"},{"$f":"COMPLEX(定数!O$15,計算!B14*定数!O$25)","v":"86.1919999827348+34.4499510577437i"},{"$f":"COMPLEX(定数!P$15,計算!B14*定数!P$25)","v":"-85.0954239827348+34.4499510577437i"},{"$f":"COMPLEX(定数!Q$15,計算!B14*定数!Q$25)","v":"-57.0828842529623-19.0440707726736i"},{"$f":"COMPLEX(定数!R$15,計算!B14*定数!R$25)","v":"56.4766926529622-19.0440707726736i"},{"$f":"COMPLEX(定数!S$15,計算!B14*定数!S$25)","v":"-163.956966054068-40.4246570992059i"},{"$f":"COMPLEX(定数!T$15,計算!B14*定数!T$25)","v":"162.670209254068-40.4246570992059i"},{"$f":"COMPLEX(定数!U$15,計算!B14*定数!U$25)","v":"-101.548680976766-29.032261960145i"},{"$f":"COMPLEX(定数!V$15,計算!B14*定数!V$25)","v":"100.624555376766-29.032261960145i"},{"$f":"IMPRODUCT(定数!D$33,計算!G14)","v":"0"},{"$f":"COMPLEX(定数!O$16,計算!B14*定数!O$26)","v":"74.3664237452132+28.0551763801798i"},{"$f":"COMPLEX(定数!P$16,計算!B14*定数!P$26)","v":"-73.4733997452132+28.0551763801798i"},{"$f":"COMPLEX(定数!Q$16,計算!B14*定数!Q$26)","v":"-125.201328746793-40.1413419916643i"},{"$f":"COMPLEX(定数!R$16,計算!B14*定数!R$26)","v":"123.923590146793-40.1413419916643i"},{"$f":"COMPLEX(定数!S$16,計算!B14*定数!S$26)","v":"77.7704269443536+18.4263142769722i"},{"$f":"COMPLEX(定数!T$16,計算!B14*定数!T$26)","v":"-77.1838991443536+18.4263142769722i"},{"$f":"COMPLEX(定数!U$16,計算!B14*定数!U$26)","v":"124.65071095008+33.6334071457254i"},{"$f":"COMPLEX(定数!V$16,計算!B14*定数!V$26)","v":"-123.58012635008+33.6334071457254i"},{"$f":"IMPRODUCT(定数!D$34,計算!G14)","v":"0"},{"$f":"IMDIV(COMPLEX(定数!O$17,計算!B14*定数!O$27),計算!R14)","v":"0.150703885115151+0.09498716406237i"},{"$f":"IMPRODUCT(COMPLEX(定数!P$17,計算!B14*定数!P$27),計算!R14)","v":"0.729324140707062+0.246888359245348i"},{"$f":"IMDIV(COMPLEX(定数!Q$17,計算!B14*定数!Q$27),計算!S14)","v":"0.0844784631075221+0.184255820837126i"},{"$f":"IMPRODUCT(COMPLEX(定数!R$17,計算!B14*定数!R$27),計算!S14)","v":"1.18057330281404+0.00512249901984252i"},{"$f":"IMDIV(COMPLEX(定数!S$17,計算!B14*定数!S$27),計算!T14)","v":"0.0596174129733649-0.0622738878986275i"},{"$f":"IMPRODUCT(COMPLEX(定数!T$17,計算!B14*定数!T$27),計算!T14)","v":"-0.614116350491874+0.129393321260595i"},{"$f":"IMDIV(COMPLEX(定数!U$17,計算!B14*定数!U$27),計算!U14)","v":"-0.0324279560055039+0.139435746202703i"},{"$f":"IMPRODUCT(COMPLEX(定数!V$17,計算!B14*定数!V$27),計算!U14)","v":"1.06038110890161-0.159696288443872i"},{"$f":"IMPRODUCT(定数!E$31,計算!G14)","v":"0"},{"$f":"IMDIV(COMPLEX(定数!O$18,計算!B14*定数!O$28),計算!R14)","v":"0.206514862905501+0.112932613541462i"},{"$f":"IMPRODUCT(COMPLEX(定数!P$18,計算!B14*定数!P$28),計算!R14)","v":"0.874093642662363+0.299455904509711i"},{"$f":"IMDIV(COMPLEX(定数!Q$18,計算!B14*定数!Q$28),計算!S14)","v":"0.0498102122556071+0.0887982101034264i"},{"$f":"IMPRODUCT(COMPLEX(定数!R$18,計算!B14*定数!R$28),計算!S14)","v":"0.550396082680199+0.0038080537447487i"},{"$f":"IMDIV(COMPLEX(定数!S$18,計算!B14*定数!S$28),計算!T14)","v":"-0.104051444229891+0.145828712518271i"},{"$f":"IMPRODUCT(COMPLEX(定数!T$18,計算!B14*定数!T$28),計算!T14)","v":"1.3203125839653-0.274582153019447i"},{"$f":"IMDIV(COMPLEX(定数!U$18,計算!B14*定数!U$28),計算!U14)","v":"0.00331045014182222-0.127516568077312i"},{"$f":"IMPRODUCT(COMPLEX(定数!V$18,計算!B14*定数!V$28),計算!U14)","v":"-0.89045603919005+0.130640785039489i"},{"$f":"IMPRODUCT(定数!E$32,計算!G14)","v":"0"},{"$f":"IMDIV(COMPLEX(定数!O$19,計算!B14*定数!O$29),計算!R14)","v":"0.206520421682409+0.112930002537227i"},{"$f":"IMPRODUCT(COMPLEX(定数!P$19,計算!B14*定数!P$29),計算!R14)","v":"0.874076061666205+0.299451218356254i"},{"$f":"IMDIV(COMPLEX(定数!Q$19,計算!B14*定数!Q$29),計算!S14)","v":"-0.0498238228570512-0.0887998415405259i"},{"$f":"IMPRODUCT(COMPLEX(定数!R$19,計算!B14*定数!R$29),計算!S14)","v":"-0.550380293808623-0.0038099936283284i"},{"$f":"IMDIV(COMPLEX(定数!S$19,計算!B14*定数!S$29),計算!T14)","v":"0.104049543339318-0.145813266741268i"},{"$f":"IMPRODUCT(COMPLEX(定数!T$19,計算!B14*定数!T$29),計算!T14)","v":"-1.3202029381714+0.274560355866799i"},{"$f":"IMDIV(COMPLEX(定数!U$19,計算!B14*定数!U$29),計算!U14)","v":"0.00332286128694791-0.127538210315821i"},{"$f":"IMPRODUCT(COMPLEX(定数!V$19,計算!B14*定数!V$29),計算!U14)","v":"-0.890642817655025+0.130669883295346i"},{"$f":"IMPRODUCT(定数!E$33,計算!G14)","v":"0"},{"$f":"IMDIV(COMPLEX(定数!O$20,計算!B14*定数!O$30),計算!R14)","v":"0.150704807325498+0.0949846204274767i"},{"$f":"IMPRODUCT(COMPLEX(定数!P$20,計算!B14*定数!P$30),計算!R14)","v":"0.729305874967305+0.246882821952561i"},{"$f":"IMDIV(COMPLEX(定数!Q$20,計算!B14*定数!Q$30),計算!S14)","v":"-0.0844787801510822-0.184264900952719i"},{"$f":"IMPRODUCT(COMPLEX(定数!R$20,計算!B14*定数!R$30),計算!S14)","v":"-1.18063932399724-0.00512218553808061i"},{"$f":"IMDIV(COMPLEX(定数!S$20,計算!B14*定数!S$30),計算!T14)","v":"-0.0596218576779628+0.0622494096038465i"},{"$f":"IMPRODUCT(COMPLEX(定数!T$20,計算!B14*定数!T$30),計算!T14)","v":"0.613967305965779-0.129364744715245i"},{"$f":"IMDIV(COMPLEX(定数!U$20,計算!B14*定数!U$30),計算!U14)","v":"-0.0324480888332959+0.139428831026763i"},{"$f":"IMPRODUCT(COMPLEX(定数!V$20,計算!B14*定数!V$30),計算!U14)","v":"1.06039394441866-0.159701080118946i"},{"$f":"IMPRODUCT(定数!E$34,計算!G14)","v":"0"},"-0.740312986775008+0.656535235910098i","1.65193184163635-0.0834612615846346i","-1.2803985091618+1.02276400551239i","-0.997494389283866+0.128468039206587i","0.826891109743054-0.559783656377326i","1.61660139756105-0.157610211709083i","-1.30528455543413+0.944674893343749i","-5.95927541037949E-18+9.06145755732228E-18i","1.3307671587597+3.3644174946201i","-88.1768924801824-30.671534623782i","89.1181253253114-25.0026787299276i","254.374303690482+63.7189721907252i","-253.241278467385+60.1920235691261i","-246.29826155061-71.1338291568319i","245.655054939163-65.4851646394463i","1.52323908076019E-15-1.08244989259011E-15i","1.3312397053821+3.3656121773268i","-202.34142989557-68.7593488107124i","202.070970866053-63.0884799431073i","-73.5552120069837-17.1339414410789i","72.1142911722474-20.6621424591278i","-246.316452687016-71.1393616210951i","245.67364559738-65.4886912997849i","8.25808635430115E-16-5.75728403397085E-16i","0.000241376642193813+0.000610243336502947i","-250.391112494801-80.2798656314943i","247.836072811808-80.2788374054967i","155.554710880467+36.8574866652171i","-154.381663017063+36.8568469417292i","0.00806410313499839+0.000277591235402497i","-0.00776123789700023+0.00130215488920271i","6.973907904149E-16-5.06679669720828E-16i","0.903254604181376+0.218266179611005i","-0.172401831919494+0.039921436353177i","1.47068378502906-0.0273905869118426i","0.222146507535896+0.0131146426860145i","-0.791904315305077+0.135210851597744i","-0.291027014338053+0.009631835267495i","1.34682455166598-0.178077186826416i","1.75880811245695E-18-7.9954218759595E-19i","1.10112351770675+0.247477100708294i","-0.300763763949376-0.0805227791708566i","0.930320817442804-0.06280916462409i","0.11645420424622+0.231947801388556i","1.08632944846645-0.252361482103426i","-0.348341098977469-0.277534737695053i","-0.514210773519591+0.0829605752108175i","2.25401302883408E-18-1.1983291182669E-18i","1.10110833772905+0.247466832061584i","-0.400406763864901-0.25811605367124i","-0.170451112037502-0.0704362404400331i","0.324560401233612-0.0596974964582279i","-1.55418920857596+0.296786297511472i","-0.348337262637931-0.277551282860462i","-0.514392762749069+0.0829810141261897i","2.25402249561256E-18-1.19839504858126E-18i","0.903235351179981+0.218258153768685i","-0.341360386311758-0.328595006556355i","-0.890530262523676-0.0376394715396393i","0.102907830008427+0.137635284452399i","0.436180002470279-0.123544594830736i","-0.291048237109546+0.00962917748504702i","1.34683618802193-0.178086169857793i","1.75879055912277E-18-7.99565702386741E-19i","2.01158591420884+25.4466811247676i","-16.0372652485694-19.544873539674i","-8.39950214053867-71.2065253648909i","39.9702319214704+58.9008200289043i","6.35791660831691+69.7948418549064i","-41.0998941450857-56.0713373190326i","-4.26559616296935E-16-2.81249807330076E-16i","-16.8472582672955+19.5448735384571i","2.63371856328464-25.4466811246752i","42.2368060243287-58.9008200258387i","-10.2743734777793+71.2065253641704i","-43.3215329659965+56.0713373158933i","8.14272271351596-69.794841854383i","-1.2335419624321E-16-5.01541439703633E-16i","-114.133226377976-38.0769229227991i","112.921200276048-38.0769229279849i","-328.019842348589-80.8755398299879i","325.445493964573-80.8755398149915i","0.0692677647069786+0.0197267009369995i","-0.0686398484790232+0.0197266864292942i","-6.97971337605995E-16+5.07105860031405E-16i","-250.375118831331-80.2743023803452i","247.819908426072-80.2743023802553i","155.508572069117+36.8459292179459i","-154.335729715673+36.8459292176861i","0.0527380692628521+0.0131799569303676i","-0.0523185381278182+0.0131799571815476i","6.97114502915031E-16-5.06483333255904E-16i","19.3109466440672-13.9368888764784i","-6.46238450623808+22.3825896111077i","-50.7844999628499+43.9966852311821i","24.0304470881897-61.9398627844556i","51.0778236790135-41.1814362625399i","-21.241980718+61.0871540879452i","3.70951985351418E-18+4.79144121565458E-16i","23.0870571600568-17.4325320520962i","-8.26719949899384+27.3053448352169i","-60.9680903912958+54.6363836459728i","30.0216681631883-76.1168690148986i","61.2303896647635-51.2979155488297i","-26.7529793580535+74.9205649466828i","1.39621981371275E-17+5.81588084090377E-16i","22.9869577197351-17.6100016343952i","-9.36767014570667+27.2973585240745i","-60.7587382088231+54.3442779498307i","27.3802623467331-75.566745825728i","61.2291601044453-51.297525785862i","-26.7523210423606+74.9196095161981i","1.39654852418126E-17+5.81579138091531E-16i","19.1415068653148-14.3051642353489i","-8.82334361575337+22.3718719393026i","-50.902452726398+44.1204108413236i","25.2577621010934-62.1973297520533i","51.0765183669955-41.1807070705794i","-21.2412521473969+61.0858666969347i","3.71115265417967E-18+4.791334518513E-16i","0.749482773255899-0.639887395366301i","-19.7591639582347-141.976131345856i","82.712398406944+115.775839152563i","6.3597981241363+69.8100054877638i","-41.1094303001729-56.0831118654338i","-5.83401696765083E-16-3.75603604116077E-16i","0.9947167933819+0.0579906544311974i","84.9898434481052-117.398065327353i","-20.7250119820455+142.362406473622i","-43.3310865380207+56.0834745308447i","8.14439727163543-69.8100666913112i","-1.67141093166423E-16-6.81312355428579E-16i","-0.790136428370072+0.597222114652155i","2.79889249156474-0.225155063569487i","-2.35314140827039+1.49365727452218i","-0.000598006270846544+0.0000266665356089694i","0.000489281276980963-0.000336072264998799i","4.16908446713034E-18-5.83398707874829E-18i","2.047817660135+5.82760497177169i","874.355777896202+205.151845619206i","-863.406085145893+221.92376186825i","-0.0991284594051429-0.0281479422589949i","0.0971632863603968-0.03168746292603i","2.20926876463311E-15-1.63249819419433E-15i","0.47247965706768-0.162378379048299i","-101.695802428992+87.3524962825616i","48.6548998146851-123.579269034981i","51.0890000976591-41.1902855655305i","-21.246745400822+61.1004630203098i","4.5081817774766E-18+6.49908001700391E-16i","-0.43636826886523-0.2568348760975i","-121.661258466538+108.626334538052i","58.3105500486688-151.622232912115i","61.2437310044839-51.3089559641455i","-26.7584168323311+74.9368532778182i","1.9411473481179E-17+7.88955375849618E-16i","-1.72191988906273-0.345264769717499i","-121.131780537055+108.808409227438i","55.1685173616406-151.340206488549i","61.2424368515737-51.3086696597956i","-26.7576498972517+74.9359510392317i","2.0867438857681E-17+7.89102336688296E-16i","-2.24230218265377-0.3628906445953i","-101.256592406181+88.4688348053178i","48.9334218991942-124.450255041055i","51.0875836389629-41.1897720861721i","-21.2458101593735+61.0992988755269i","7.36473701292463E-18+6.5044419358466E-16i","-0.00653163045280181-0.0587456103949933i","0.0331474516817991+0.0484000606709998i","6.35828630963434+69.7936346961575i","-41.0991269451032-56.0704745651999i","-2.1340587712307E-16-1.40708163633856E-16i","0.0350173846209998-0.0484000592529981i","-0.00807225471370288+0.058745610072009i","-43.3207273392567+56.0704745632983i","8.14306495044954-69.7936346958404i","-6.1713682745199E-17-2.50918994007228E-16i","-8.54407485406396-143.784971392627i","73.6855688871231+122.535532832191i","-0.000058784729031317+0.0165411366010066i","-0.00909309354189333-0.0136298276228587i","-3.53007791970928E-16-2.63588730224842E-16i","78.2623866830326-122.535532827181i","-12.4445020143472+143.784971391873i","-0.00961961874249974+0.0136298247127651i","0.000375071443835184-0.0165411363503235i","-1.30767541927888E-16-4.25055723296978E-16i","-118.776066853992+157.956162301396i","31.1871032726835-193.535461074852i","51.0913319829801-41.1982873985352i","-21.244236691541+61.1083392742332i","1.35313044497315E-16+8.29504362588021E-16i","-56.0386378811917+75.2562265906078i","15.951168935664-92.0752159899567i","61.2360326937648-51.3054789947185i","-26.7540048223494+74.9297315822118i","7.15178016138577E-17+5.69888880274634E-16i","55.936982181765-75.166716948925i","-15.9038032027973+91.9493473772i","61.221166740445-51.2885215089881i","-26.7512929826399+74.9075980265181i","-5.75470260105577E-17+1.20410075330289E-17i","118.698326566361-157.89216995474i","-31.1491330811293+193.443106786098i","51.0610674109846-41.1627007701157i","-21.2389665122238+61.062344759303i","-1.31606862256085E-16-3.5011350009598E-16i","0.000250573257367895-0.000130490367169799i","6.36096138353525+69.7741883956647i","-41.091221114723-56.0528140781648i","-2.13206318001905E-16-1.40555316936172E-16i","0.00027528488894878+0.0000804413317467972i","-43.3055156882716+56.0577387841212i","8.13698476968324-69.7750478325682i","-6.16681671875891E-17-2.50669049910496E-16i","-0.301252487073796+0.311165287378998i","8.9438195454758-46.9746070542461i","17.0209694503672+43.9555905843758i","1.13525572583182E-16+1.3336405244865E-16i","-0.430048999926701+0.0664684122330073i","35.1560489586826-33.0750717739525i","-12.153422709038+46.0019138464169i","1.505025137706E-17+1.75832621386316E-16i","-0.877527908506442+0.462420770358738i","-0.321982231058135-0.0813361681737188i","0.311735772166116-0.0999170402350486i","2.94315272695286E-18-3.06977038749625E-18i","1.5757425145526-0.122346768938698i","37.0715339412266-31.6322793309888i","-16.8041361915104+45.8704588397881i","5.42873564605519E-18+1.76372560640996E-16i","-1.5761913775301+0.122033071679297i","85.3456537928129-70.9411689436519i","-36.6784154339924+103.928810275066i","8.5664541587895E-18+4.04981826964839E-16i","-0.000657690219497908-0.00025049493797269i","102.122163510441-82.3467068672126i","-42.4653627010473+122.142967750491i","3.73854196997499E-18+4.78963878409592E-16i","6.35708030475247+69.7819871596016i","-41.0916704456436-56.0615348318726i","-2.13219564437482E-16-1.40583942493646E-16i","-43.3138389282397+56.0607262540803i","8.14278280841714-69.7817534495524i","-6.1657760623932E-17-2.50699331625697E-16i","10.8114005750981-60.1976968900153i","21.8985139755499+56.4222247631698i","1.46657530040033E-16+1.68583655834475E-16i","44.6735693986607-42.5328848874746i","-15.8096688084251+58.9457540466751i","2.02208465458301E-17+2.24140392985249E-16i","13.171326396369-27.52870913286i","2.03806367267863+30.5106678783633i","4.99391506432252E-17+9.72075853203717E-17i","24.9347337152529-18.1384934166709i","-12.8470585979635+28.1128815912788i","-5.21403988908042E-18+1.11524971931944E-16i","122.434070008533-102.573768015173i","-53.4971371283863+149.807857859518i","1.39578643373255E-17+5.81402811406778E-16i","102.143106441715-82.3523903523538i","-42.4808542203669+122.158239194609i","3.70717630600937E-18+4.79035921202263E-16i","-0.470206243810402+0.6832307261447i","-1.5916482259099E-19-2.27780759941004E-19i","-0.82028716933395+0.202573006673902i","-4.38710639232701E-19-1.17378880892011E-19i","0.855160674113701-0.7394235040965i","-1.38699850918996E-19+1.12218181907899E-18i","1.1376308183219-0.102278326516i","5.94576970201998E-19+4.05193891016005E-19i","-0.51738431380631+0.225002713930301i","1.4896695180743E-18-2.7911327315604E-18i","-0.5655357891583-0.0329967748483995i","-2.2481548657953E-19-6.3487136934601E-19i","-0.859073218050264+0.503858777862099i","-2.27065463707324E-18+2.84637445603795E-18i","3.7735781752084-0.0541945782800042i","1.23315430034917E-18+1.30455513856205E-18i"]
[{"$f":"COMPLEX(定数!O$13,計算!B15*定数!O$23)","v":"74.3688188913563+30.8613022306055i"},{"$f":"COMPLEX(定数!P$13,計算!B15*定数!P$23)","v":"-73.4757772913563+30.8613022306055i"},{"$f":"COMPLEX(定数!Q$13,計算!B15*定数!Q$23)","v":"125.193786513619+44.153160837145i"},{"$f":"COMPLEX(定数!R$13,計算!B15*定数!R$23)","v":"-123.916114913619+44.153160837145i"},{"$f":"COMPLEX(定数!S$13,計算!B15*定数!S$23)","v":"-77.7867441135484-20.274557845832i"},{"$f":"COMPLEX(定数!T$13,計算!B15*定数!T$23)","v":"77.2000539135484-20.274557845832i"},{"$f":"COMPLEX(定数!U$13,計算!B15*定数!U$23)","v":"124.646605989444+36.9970104975276i"},{"$f":"COMPLEX(定数!V$13,計算!B15*定数!V$23)","v":"-123.576013789444+36.9970104975276i"},{"$f":"IMPRODUCT(定数!D$31,計算!G15)","v":"1.0441742895253-1.64535540215379i"},{"$f":"COMPLEX(定数!O$14,計算!B15*定数!O$24)","v":"86.1948356167649+37.8953677612714i"},{"$f":"COMPLEX(定数!P$14,計算!B15*定数!P$24)","v":"-85.0982474167649+37.8953677612714i"},{"$f":"COMPLEX(定数!Q$14,計算!B15*定数!Q$24)","v":"57.0863694248256+20.9485538742826i"},{"$f":"COMPLEX(定数!R$14,計算!B15*定数!R$24)","v":"-56.4801756248256+20.9485538742826i"},{"$f":"COMPLEX(定数!S$14,計算!B15*定数!S$24)","v":"163.969671876329+44.4710623616427i"},{"$f":"COMPLEX(定数!T$14,計算!B15*定数!T$24)","v":"-162.682801076329+44.4710623616427i"},{"$f":"COMPLEX(定数!U$14,計算!B15*定数!U$24)","v":"-101.525845343051-31.9292125073205i"},{"$f":"COMPLEX(定数!V$14,計算!B15*定数!V$24)","v":"100.601901343051-31.9292125073205i"},{"$f":"IMPRODUCT(定数!D$32,計算!G15)","v":"-1.0441742895253+1.64535540215379i"},{"$f":"COMPLEX(定数!O$15,計算!B15*定数!O$25)","v":"86.1919999827348+37.894946163518i"},{"$f":"COMPLEX(定数!P$15,計算!B15*定数!P$25)","v":"-85.0954239827348+37.894946163518i"},{"$f":"COMPLEX(定数!Q$15,計算!B15*定数!Q$25)","v":"-57.0828842529623-20.948477849941i"},{"$f":"COMPLEX(定数!R$15,計算!B15*定数!R$25)","v":"56.4766926529622-20.948477849941i"},{"$f":"COMPLEX(定数!S$15,計算!B15*定数!S$25)","v":"-163.956966054068-44.4671228091265i"},{"$f":"COMPLEX(定数!T$15,計算!B15*定数!T$25)","v":"162.670209254068-44.4671228091265i"},{"$f":"COMPLEX(定数!U$15,計算!B15*定数!U$25)","v":"-101.548680976766-31.9354881561595i"},{"$f":"COMPLEX(定数!V$15,計算!B15*定数!V$25)","v":"100.624555376766-31.9354881561595i"},{"$f":"IMPRODUCT(定数!D$33,計算!G15)","v":"0"},{"$f":"COMPLEX(定数!O$16,計算!B15*定数!O$26)","v":"74.3664237452132+30.8606940181978i"},{"$f":"COMPLEX(定数!P$16,計算!B15*定数!P$26)","v":"-73.4733997452132+30.8606940181978i"},{"$f":"COMPLEX(定数!Q$16,計算!B15*定数!Q$26)","v":"-125.201328746793-44.1554761908307i"},{"$f":"COMPLEX(定数!R$16,計算!B15*定数!R$26)","v":"123.923590146793-44.1554761908307i"},{"$f":"COMPLEX(定数!S$16,計算!B15*定数!S$26)","v":"77.7704269443536+20.2689457046694i"},{"$f":"COMPLEX(定数!T$16,計算!B15*定数!T$26)","v":"-77.1838991443536+20.2689457046694i"},{"$f":"COMPLEX(定数!U$16,計算!B15*定数!U$26)","v":"124.65071095008+36.9967478602979i"},{"$f":"COMPLEX(定数!V$16,計算!B15*定数!V$26)","v":"-123.58012635008+36.9967478602979i"},{"$f":"IMPRODUCT(定数!D$34,計算!G15)","v":"0"},{"$f":"IMDIV(COMPLEX(定数!O$17,計算!B15*定数!O$27),計算!R15)","v":"0.186215608689-0.00660521897941707i"},{"$f":"IMPRODUCT(COMPLEX(定数!P$17,計算!B15*定数!P$27),計算!R15)","v":"0.425424394440287+0.644101939351092i"},{"$f":"IMDIV(COMPLEX(定数!Q$17,計算!B15*定数!Q$27),計算!S15)","v":"0.183011909617856+0.117067434436212i"},{"$f":"IMPRODUCT(COMPLEX(定数!R$17,計算!B15*定数!R$27),計算!S15)","v":"0.954037534153499+0.699788019164264i"},{"$f":"IMDIV(COMPLEX(定数!S$17,計算!B15*定数!S$27),計算!T15)","v":"0.012433023959914-0.0925542132778171i"},{"$f":"IMPRODUCT(COMPLEX(定数!T$17,計算!B15*定数!T$27),計算!T15)","v":"-0.579065802700958-0.244648542009177i"},{"$f":"IMDIV(COMPLEX(定数!U$17,計算!B15*定数!U$27),計算!U15)","v":"0.0564208837530555+0.146974319127545i"},{"$f":"IMPRODUCT(COMPLEX(定数!V$17,計算!B15*定数!V$27),計算!U15)","v":"0.960887855534103+0.480516801685348i"},{"$f":"IMPRODUCT(定数!E$31,計算!G15)","v":"0"},{"$f":"IMDIV(COMPLEX(定数!O$18,計算!B15*定数!O$28),計算!R15)","v":"0.243575255772575-0.0239799082135013i"},{"$f":"IMPRODUCT(COMPLEX(定数!P$18,計算!B15*定数!P$28),計算!R15)","v":"0.507472858984385+0.775039747176313i"},{"$f":"IMDIV(COMPLEX(定数!Q$18,計算!B15*定数!Q$28),計算!S15)","v":"0.0955751602999415+0.0510612947527042i"},{"$f":"IMPRODUCT(COMPLEX(定数!R$18,計算!B15*定数!R$28),計算!S15)","v":"0.443900181491835+0.327534220655198i"},{"$f":"IMDIV(COMPLEX(定数!S$18,計算!B15*定数!S$28),計算!T15)","v":"0.0000293753094082552+0.195684337414358i"},{"$f":"IMPRODUCT(COMPLEX(定数!T$18,計算!B15*定数!T$28),計算!T15)","v":"1.24284663878579+0.529294393437092i"},{"$f":"IMDIV(COMPLEX(定数!U$18,計算!B15*定数!U$28),計算!U15)","v":"-0.073112485609767-0.118835440266983i"},{"$f":"IMPRODUCT(COMPLEX(定数!V$18,計算!B15*定数!V$28),計算!U15)","v":"-0.804846746497407-0.406689746980955i"},{"$f":"IMPRODUCT(定数!E$32,計算!G15)","v":"0"},{"$f":"IMDIV(COMPLEX(定数!O$19,計算!B15*定数!O$29),計算!R15)","v":"0.243578007244558-0.0239854492372225i"},{"$f":"IMPRODUCT(COMPLEX(定数!P$19,計算!B15*定数!P$29),計算!R15)","v":"0.507461751789624+0.775025316726464i"},{"$f":"IMDIV(COMPLEX(定数!Q$19,計算!B15*定数!Q$29),計算!S15)","v":"-0.0955872098641478-0.0510547574688665i"},{"$f":"IMPRODUCT(COMPLEX(定数!R$19,計算!B15*定数!R$29),計算!S15)","v":"-0.443886174062418-0.327526679995151i"},{"$f":"IMDIV(COMPLEX(定数!S$19,計算!B15*定数!S$29),計算!T15)","v":"-0.0000218969577062617-0.195669010925484i"},{"$f":"IMPRODUCT(COMPLEX(定数!T$19,計算!B15*定数!T$29),計算!T15)","v":"-1.24274401450278-0.529249513440291i"},{"$f":"IMDIV(COMPLEX(定数!U$19,計算!B15*定数!U$29),計算!U15)","v":"-0.0731152178431313-0.118862614358072i"},{"$f":"IMPRODUCT(COMPLEX(定数!V$19,計算!B15*定数!V$29),計算!U15)","v":"-0.805016576017299-0.406773498464287i"},{"$f":"IMPRODUCT(定数!E$33,計算!G15)","v":"0"},{"$f":"IMDIV(COMPLEX(定数!O$20,計算!B15*定数!O$30),計算!R15)","v":"0.186214644125067-0.0066079666332495i"},{"$f":"IMPRODUCT(COMPLEX(定数!P$20,計算!B15*定数!P$30),計算!R15)","v":"0.42541330484677+0.644086367607109i"},{"$f":"IMDIV(COMPLEX(定数!Q$20,計算!B15*定数!Q$30),計算!S15)","v":"-0.183017810016029-0.117075468160777i"},{"$f":"IMPRODUCT(COMPLEX(定数!R$20,計算!B15*定数!R$30),計算!S15)","v":"-0.954091259650384-0.699826610255198i"},{"$f":"IMDIV(COMPLEX(定数!S$20,計算!B15*定数!S$30),計算!T15)","v":"-0.012450987932241+0.0925343393932399i"},{"$f":"IMPRODUCT(COMPLEX(定数!T$20,計算!B15*定数!T$30),計算!T15)","v":"0.578926918709457+0.244586567337871i"},{"$f":"IMDIV(COMPLEX(定数!U$20,計算!B15*定数!U$30),計算!U15)","v":"0.056400331209287+0.14697988325254i"},{"$f":"IMPRODUCT(COMPLEX(定数!V$20,計算!B15*定数!V$30),計算!U15)","v":"0.960901186330489+0.480519998034016i"},{"$f":"IMPRODUCT(定数!E$34,計算!G15)","v":"0"},"-0.695941467362059+0.703775627607289i","1.64629116496574-0.0894666402347757i","-1.21127564957522+1.09635605296315i","-0.988811957962877+0.137711839326891i","0.789058484748348-0.600062376766631i","1.60594941091051-0.168950910165722i","-1.24143929919161+1.01264811023621i","0.00414555189568106-0.0238445703260344i","1.55814919099569+3.6065010745797i","-88.2057981507914-33.7266929160053i","89.4723457012354-27.6499396873954i","254.418796845204+70.0724058021251i","-253.435151908501+66.2916788221575i","-246.352847699654-78.2245601107342i","245.982230215221-72.1694511105971i","-2.30509821532887+3.54353700809845i","1.5587024794945+3.6077817195863i","-202.370345830393-75.6232842622219i","202.425317023322-69.5443732181788i","-73.5107030530322-18.8658057491662i","71.9203488879375-22.647875240623i","-246.371058219245-78.2306377778598i","246.000937051245-72.1733786480138i","-1.26090211771826+1.89811573922497i","0.000282619552805841+0.000654152836901289i","-250.391117737758-88.3078500189409i","247.836137060857-88.3067478078831i","155.554718950705+40.5432319827805i","-154.381698182133+40.5425462285749i","0.00805420221300324+0.000309459007198143i","-0.00770189432999757+0.00140774420069789i","-1.04414985775914+1.64530081229924i","0.550370966264306+0.508451086686934i","-0.122962254995459+0.144601632953369i","1.17235429472008+0.487628668511982i","0.195655627736121-0.124729626773567i","-0.722037265329739-0.127695657188881i","-0.241516005564969+0.189043263231545i","1.18537446776631+0.283745939029132i","-0.000614467861132519+0.00446761345525167i","0.660110504946918+0.586928806166052i","-0.303275229461718+0.112331065559579i","0.712646440128838+0.031442735738825i","0.237577183614225+0.138429520935037i","1.06504095726093+0.694376290376873i","-0.460230596811749-0.0391726596411974i","-0.526746060406724-0.683115369886603i","-0.000437963255500315+0.00590735726990372i","0.660097412978159+0.586908583069102i","-0.494441633613049+0.0102243816413596i","-0.175142657569298-0.623627893211594i","0.237527868970942-0.252929685345588i","-1.42054854214009-0.364161593253911i","-0.460236811608922-0.0391904702648097i","-0.526918085248366-0.683208786487444i","-0.000437842538540412+0.00590744584817231i","0.55035727165895+0.508434281573299i","-0.488990140852906-0.0895368325016858i","-0.735778679843517-0.911988231568155i","0.170770283687151+0.0603563418163977i","0.435957865941721+0.361541041419211i","-0.241534544849242+0.189053076985639i","1.18538381870866+0.283746701096196i","-0.000614398345857639+0.00446760184618069i","2.07371059288249+23.6975996965762i","-16.0993899272445-17.2056113528658i","-8.57915534625641-65.9104397226114i","40.1498851271912+52.3741638528021i","6.53171357966833+64.7623417236598i","-41.2736911164406-49.6664867339483i","1.04925259761697+0.181005264758551i","-16.7851335886239+17.2056113517598i","2.57159388461141-23.6975996964922i","42.0571528186164-52.3741638500157i","-10.0947202720637+65.9104397219566i","-43.1477359946506+49.6664867310953i","7.96892574216617-64.7623417231838i","0.595288257454045+0.89633860221901i","-114.133226377973-41.8846152155773i","112.921200276047-41.8846152202893i","-328.019842348593-88.9630938115472i","325.445493964576-88.9630937979209i","0.0692677647120092+0.0216993696375027i","-0.0686398484810127+0.0216993564551018i","1.04501462301944-1.64667955564752i","-250.375118831333-88.3017326183721i","247.819908426074-88.3017326182893i","155.50857206912+40.5305221397181i","-154.335729715678+40.5305221394791i","0.0527380692584621+0.0144979526445873i","-0.0523185381221829+0.0144979528758694i","-1.04373175542079+1.64465807998193i","17.8632997259662-0.790447898561606i","-12.2920466339463+12.222569806467i","-49.5810807312314+7.3164844850607i","38.3460383856164-31.270216561736i","48.7587242962756-5.20743577535367i","-36.1289739185816+31.8752495774251i","0.127500495015792-0.791526090542502i","20.8752367093717-1.39359531326228i","-14.8936935964236+14.1651347087813i","-58.2646966625473+10.0266107715678i","46.4134075532383-36.8889152378947i","57.1727349614772-7.49989311853565i","-43.7980015680587+37.3899946542736i","0.132692950248491-0.935166996316473i","20.6835026040293-1.49581618923809i","-15.7809697880388+13.5098058371885i","-58.2631361984666+9.63541641024915i","43.9263529808623-37.9467943706145i","57.1711594476921-7.50013327791481i","-43.7967595688581+37.3892145274761i","0.132682737718267-0.935143134329084i","17.4967528320745-1.02463281603663i","-14.1997461506907+10.8226715930385i","-49.6045099653951+7.50155998537817i","39.5027876412482-30.7802468885884i","48.7572802148216-5.20747090127086i","-36.1277670978341+31.874497363483i","0.127493653696761-0.791503823261339i","0.709973288574201-0.689376942901603i","-20.1027174978245-131.405010384595i","82.9720336396945+102.615485314287i","6.5336310646923+64.7764144428955i","-41.2832427718639-49.6768389695997i","1.42780670907604+0.229142062896732i","0.99829739348261+0.062475711127i","84.6300447787083-104.363176127156i","-20.3576081034016+131.821160427381i","-43.1572516734532+49.6772296847886i","7.97056055204475-64.7764803801465i","0.807891604107792+1.21802443882239i","-0.75326128727366+0.643411885609407i","2.78499041972445-0.242568787164538i","-2.26091638612002+1.60917826029841i","-0.000596359756804087+0.0000287289636011248i","0.000468530681485501-0.000362064449391482i","-0.00340310689706352+0.0156765688253058i","2.407639827324+6.2783179180485i","874.220123537519+225.716812615861i","-862.506167034353+243.785886082825i","-0.0991123929798959-0.0309686294695519i","0.0969608051316601-0.0347819057050877i","-3.28005323795446+5.2691806271892i","0.6551019397007+0.1336966449838i","-99.1384613446428+13.8509532591303i","77.4614938719627-61.8025867441874i","48.769354540607-5.20842036075785i","-36.1370572294926+31.8820875922973i","0.175899702632921-1.07425131683904i","-0.0658417088623988-0.3159821045447i","-116.063988182691+18.9714412183411i","91.3680290118355-73.6316948085737i","57.1851440760154-7.50132392661334i","-43.8072776856205+37.3982057775205i","0.181886819429008-1.26716163515777i","-1.1633139060423-0.9249460025073i","-115.503654478189+18.8184223079199i","88.2829880475439-74.612152440716i","57.183451283026-7.5016195380871i","-43.8059088425637+37.3974041242364i","0.179621642644873-1.26447990883988i","-1.6793805215166-1.2067633726789i","-98.0842550395342+14.5993186755695i","77.4126659708228-61.2522502953108i","48.7676851374465-5.2085846146231i","-36.1355938802459+31.8813123875749i","0.170974247074544-1.06927980825593i","-0.00667957819329956-0.0543947707649863i","0.0332953994267058+0.0430146659689967i","6.5320804226706+64.7612113901946i","-41.2729210581424-49.6657352459892i","0.524936498841538+0.090556403472787i","0.0348694368739899-0.0430146646769884i","-0.0079243069628987+0.0543947704719869i","-43.146933226225+49.665735244261i","7.96927083741454-64.7612113899061i","0.297820351259459+0.44843418696287i","-8.91181221876535-132.747286512368i","74.053306251807+109.372904095466i","-0.0000171240095125741+0.0153158974870731i","-0.00913475426205143-0.0121134573574937i","0.889746399745786+0.211726851943502i","77.8946493183255-109.372904090961i","-12.0767646496428+132.747286511689i","-0.00957795802451745+0.0121134547132442i","0.00033341072468202-0.0153158972589823i","0.557004496742357+0.736044193465486i","-164.79018753448+75.0871016037677i","103.120872656569-147.150968712083i","48.7772486077416-5.2150753675833i","-36.1393233315835+31.8920764904046i","-0.090588384378867-1.63090492813906i","-76.3753909455077+36.3834575341249i","48.6271072252123-68.7074281278828i","57.1806858119781-7.50355281938862i","-43.8024161838397+37.3973027044947i","-0.014015845950565-1.04269577454024i","76.276304701656-36.3682534616326i","-48.5501522120631+68.644256761805i","57.161104819751-7.49638688175593i","-43.7913546032867+37.3798953148885i","0.146791585018739+0.10696961952064i","164.717716376522-75.078996311471i","-103.063380529545+147.107159716951i","48.7369820278397-5.19979984365845i","-36.1165512929374+31.8559935158992i","0.218165575953684+0.83899109831152i","0.000205346861189899-0.000136968682067196i","6.53501299723517+64.7466583742387i","-41.2670040583717-49.6524028080243i","0.524457530061844+0.0904341687309512i","0.000242607664176449+0.0000617342728061049i","-43.1342933121914+49.657658979256i","7.96372639538937-64.7475560650672i","0.297573246930463+0.448000141365922i","-0.382359135011001+0.344612632053995i","9.0561679744289-34.8688542051926i","12.5494686587214+33.0976858809212i","-0.254919442555534-0.148670575899382i","-0.518243089844201+0.0148291728920071i","29.3620325615754-21.4436949903785i","-11.3558055280732+33.8713213117578i","-0.106611690092169-0.277122132255884i","-0.855112257664286+0.503325282768204i","-0.257047874928891-0.0854778111790645i","0.25462341690261-0.0775115454739515i","-0.00327902191943444+0.00840276169856156i","1.6302882952551+0.846177629935198i","34.4385755594286-4.67966362364361i","-27.1755911971778+22.2132478400613i","0.0412690964627263-0.281629410031455i","-1.63041054970299-0.84647519555331i","79.876445553046-10.3248375782189i","-60.3941284031274+52.552398538537i","0.091309492837944-0.653214292406487i","-0.000399249935995272-0.000401494264991697i","97.4949092557901-10.4189864390371i","-72.2380500243872+63.7403888576286i","0.127407663899012-0.7912782945261i","6.53332957204345+64.7510149271887i","-41.2678552816009-49.6570420731155i","0.524487996843158+0.0904572959167544i","-43.1387186536579+49.6593481938593i","7.96664400909629-64.7513469640641i","0.297576505036007+0.448038797596128i","11.2144920257986-44.3663190882372i","15.7064489602012+42.4132923138061i","-0.324766153218601-0.187193029665957i","37.2163177934826-27.3211949498226i","-15.0136850191112+43.0783245015711i","-0.13505408020675-0.352260479450008i","7.48381710271401-17.1901766362257i","2.62272444102737+18.7345897322597i","-0.120332033583396-0.0913028552587905i","15.4674568574044-10.898612018549i","-7.56039706538811+17.5494645907051i","-0.050692132704584-0.146437205013346i","114.320155130095-15.0012310222972i","-87.5758660097527+74.7655421644766i","0.132615966639399-0.934876689273393i","97.5054603671722-10.4171276139657i","-72.2481145218185+63.7443600241804i","0.127446218766269-0.79135711217139i","-0.564844524802602+1.0142812883655i","-0.000716548764594926-0.000146811697014096i","-1.14004939855821+0.308383683232705i","0.000486083212999033-0.00132839344430896i","0.9579725315076-0.8434867618667i","0.000648342282689007-0.001316204447188i","1.2876515922879-0.0517374132009962i","-0.00120188146522199+0.00134158095564801i","-0.4632383019269+0.266547184968399i","-0.001137276864338+0.0054797822124945i","-0.53710859195311+0.00636199020819816i","0.00133778431023809-0.000478623935331018i","-0.837456662274712+0.544109315035007i","0.00219532745143837-0.00788963305707881i","3.7404267001656+1.9668378495439i","-0.00442288065996801+0.000794197403214958i"]
[{"$f":"COMPLEX(定数!O$13,計算!B16*定数!O$23)","v":"74.3688188913563+33.6668751606605i"},{"$f":"COMPLEX(定数!P$13,計算!B16*定数!P$23)","v":"-73.4757772913563+33.6668751606605i"},{"$f":"COMPLEX(定数!Q$13,計算!B16*定数!Q$23)","v":"125.193786513619+48.1670845496127i"},{"$f":"COMPLEX(定数!R$13,計算!B16*定数!R$23)","v":"-123.916114913619+48.1670845496127i"},{"$f":"COMPLEX(定数!S$13,計算!B16*定数!S$23)","v":"-77.7867441135484-22.1176994681804i"},{"$f":"COMPLEX(定数!T$13,計算!B16*定数!T$23)","v":"77.2000539135484-22.1176994681804i"},{"$f":"COMPLEX(定数!U$13,計算!B16*定数!U$23)","v":"124.646605989444+40.3603750882119i"},{"$f":"COMPLEX(定数!V$13,計算!B16*定数!V$23)","v":"-123.576013789444+40.3603750882119i"},{"$f":"IMPRODUCT(定数!D$31,計算!G16)","v":"0.62677112890948-3.28564932108501i"},{"$f":"COMPLEX(定数!O$14,計算!B16*定数!O$24)","v":"86.1948356167649+41.3404011941142i"},{"$f":"COMPLEX(定数!P$14,計算!B16*定数!P$24)","v":"-85.0982474167649+41.3404011941142i"},{"$f":"COMPLEX(定数!Q$14,計算!B16*定数!Q$24)","v":"57.0863694248256+22.8529678628538i"},{"$f":"COMPLEX(定数!R$14,計算!B16*定数!R$24)","v":"-56.4801756248256+22.8529678628538i"},{"$f":"COMPLEX(定数!S$14,計算!B16*定数!S$24)","v":"163.969671876329+48.5138862127011i"},{"$f":"COMPLEX(定数!T$14,計算!B16*定数!T$24)","v":"-162.682801076329+48.5138862127011i"},{"$f":"COMPLEX(定数!U$14,計算!B16*定数!U$24)","v":"-101.525845343051-34.8318681898042i"},{"$f":"COMPLEX(定数!V$14,計算!B16*定数!V$24)","v":"100.601901343051-34.8318681898042i"},{"$f":"IMPRODUCT(定数!D$32,計算!G16)","v":"-0.62677112890948+3.28564932108501i"},{"$f":"COMPLEX(定数!O$15,計算!B16*定数!O$25)","v":"86.1919999827348+41.3399412692924i"},{"$f":"COMPLEX(定数!P$15,計算!B16*定数!P$25)","v":"-85.0954239827348+41.3399412692924i"},{"$f":"COMPLEX(定数!Q$15,計算!B16*定数!Q$25)","v":"-57.0828842529623-22.8528849272083i"},{"$f":"COMPLEX(定数!R$15,計算!B16*定数!R$25)","v":"56.4766926529622-22.8528849272083i"},{"$f":"COMPLEX(定数!S$15,計算!B16*定数!S$25)","v":"-163.956966054068-48.5095885190471i"},{"$f":"COMPLEX(定数!T$15,計算!B16*定数!T$25)","v":"162.670209254068-48.5095885190471i"},{"$f":"COMPLEX(定数!U$15,計算!B16*定数!U$25)","v":"-101.548680976766-34.838714352174i"},{"$f":"COMPLEX(定数!V$15,計算!B16*定数!V$25)","v":"100.624555376766-34.838714352174i"},{"$f":"IMPRODUCT(定数!D$33,計算!G16)","v":"0"},{"$f":"COMPLEX(定数!O$16,計算!B16*定数!O$26)","v":"74.3664237452132+33.6662116562158i"},{"$f":"COMPLEX(定数!P$16,計算!B16*定数!P$26)","v":"-73.4733997452132+33.6662116562158i"},{"$f":"COMPLEX(定数!Q$16,計算!B16*定数!Q$26)","v":"-125.201328746793-48.1696103899972i"},{"$f":"COMPLEX(定数!R$16,計算!B16*定数!R$26)","v":"123.923590146793-48.1696103899972i"},{"$f":"COMPLEX(定数!S$16,計算!B16*定数!S$26)","v":"77.7704269443536+22.1115771323667i"},{"$f":"COMPLEX(定数!T$16,計算!B16*定数!T$26)","v":"-77.1838991443536+22.1115771323667i"},{"$f":"COMPLEX(定数!U$16,計算!B16*定数!U$26)","v":"124.65071095008+40.3600885748705i"},{"$f":"COMPLEX(定数!V$16,計算!B16*定数!V$26)","v":"-123.58012635008+40.3600885748705i"},{"$f":"IMPRODUCT(定数!D$34,計算!G16)","v":"0"},{"$f":"IMDIV(COMPLEX(定数!O$17,計算!B16*定数!O$27),計算!R16)","v":"0.156638460319312-0.115992597275321i"},{"$f":"IMPRODUCT(COMPLEX(定数!P$17,計算!B16*定数!P$27),計算!R16)","v":"-0.0594461058960933+0.771744382675515i"},{"$f":"IMDIV(COMPLEX(定数!Q$17,計算!B16*定数!Q$27),計算!S16)","v":"0.232137749091964-0.00188803996553333i"},{"$f":"IMPRODUCT(COMPLEX(定数!R$17,計算!B16*定数!R$27),計算!S16)","v":"0.361215114532745+1.12964945242034i"},{"$f":"IMDIV(COMPLEX(定数!S$17,計算!B16*定数!S$27),計算!T16)","v":"-0.0475067616633106-0.0887427874062561i"},{"$f":"IMPRODUCT(COMPLEX(定数!T$17,計算!B16*定数!T$27),計算!T16)","v":"-0.33648210915079-0.532316837444073i"},{"$f":"IMDIV(COMPLEX(定数!U$17,計算!B16*定数!U$27),計算!U16)","v":"0.140899185172003+0.0981412613374381i"},{"$f":"IMPRODUCT(COMPLEX(定数!V$17,計算!B16*定数!V$27),計算!U16)","v":"0.510389033599044+0.947841982056731i"},{"$f":"IMPRODUCT(定数!E$31,計算!G16)","v":"0"},{"$f":"IMDIV(COMPLEX(定数!O$18,計算!B16*定数!O$28),計算!R16)","v":"0.194710583466821-0.16408000498458i"},{"$f":"IMPRODUCT(COMPLEX(定数!P$18,計算!B16*定数!P$28),計算!R16)","v":"-0.0753656515053993+0.925994518887235i"},{"$f":"IMDIV(COMPLEX(定数!Q$18,計算!B16*定数!Q$28),計算!S16)","v":"0.114701557721744-0.00959819507423279i"},{"$f":"IMPRODUCT(COMPLEX(定数!R$18,計算!B16*定数!R$28),計算!S16)","v":"0.166815873785339+0.527261990557087i"},{"$f":"IMDIV(COMPLEX(定数!S$18,計算!B16*定数!S$28),計算!T16)","v":"0.122703980404081+0.173280641196858i"},{"$f":"IMPRODUCT(COMPLEX(定数!T$18,計算!B16*定数!T$28),計算!T16)","v":"0.719553254122147+1.14623449764683i"},{"$f":"IMDIV(COMPLEX(定数!U$18,計算!B16*定数!U$28),計算!U16)","v":"-0.137232903806192-0.0643013114442672i"},{"$f":"IMPRODUCT(COMPLEX(定数!V$18,計算!B16*定数!V$28),計算!U16)","v":"-0.424842779170196-0.797611233470845i"},{"$f":"IMPRODUCT(定数!E$32,計算!G16)","v":"0"},{"$f":"IMDIV(COMPLEX(定数!O$19,計算!B16*定数!O$29),計算!R16)","v":"0.19470928663532-0.164086104241861i"},{"$f":"IMPRODUCT(COMPLEX(定数!P$19,計算!B16*定数!P$29),計算!R16)","v":"-0.075365682435924+0.92597629209731i"},{"$f":"IMDIV(COMPLEX(定数!Q$19,計算!B16*定数!Q$29),計算!S16)","v":"-0.114707610995918+0.00961049571178762i"},{"$f":"IMPRODUCT(COMPLEX(定数!R$19,計算!B16*定数!R$29),計算!S16)","v":"-0.166808798827424-0.527247741545253i"},{"$f":"IMDIV(COMPLEX(定数!S$19,計算!B16*定数!S$29),計算!T16)","v":"-0.12268804558914-0.173271144734143i"},{"$f":"IMPRODUCT(COMPLEX(定数!T$19,計算!B16*定数!T$29),計算!T16)","v":"-0.719494575910869-1.14613881013864i"},{"$f":"IMDIV(COMPLEX(定数!U$19,計算!B16*定数!U$29),計算!U16)","v":"-0.137252426981989-0.064323671556304i"},{"$f":"IMPRODUCT(COMPLEX(定数!V$19,計算!B16*定数!V$29),計算!U16)","v":"-0.424933731244012-0.797777724701045i"},{"$f":"IMPRODUCT(定数!E$33,計算!G16)","v":"0"},{"$f":"IMDIV(COMPLEX(定数!O$20,計算!B16*定数!O$30),計算!R16)","v":"0.156635803412463-0.115994237607081i"},{"$f":"IMPRODUCT(COMPLEX(定数!P$20,計算!B16*定数!P$30),計算!R16)","v":"-0.0594453644492155+0.771725246886827i"},{"$f":"IMDIV(COMPLEX(定数!Q$20,計算!B16*定数!Q$30),計算!S16)","v":"-0.23214799341958+0.0018844599928235i"},{"$f":"IMPRODUCT(COMPLEX(定数!R$20,計算!B16*定数!R$30),計算!S16)","v":"-0.361235985119059-1.12971236924612i"},{"$f":"IMDIV(COMPLEX(定数!S$20,計算!B16*定数!S$30),計算!T16)","v":"0.0474791057160641+0.0887349796782536i"},{"$f":"IMPRODUCT(COMPLEX(定数!T$20,計算!B16*定数!T$30),計算!T16)","v":"0.336403474260691+0.532186245279368i"},{"$f":"IMDIV(COMPLEX(定数!U$20,計算!B16*定数!U$30),計算!U16)","v":"0.140885283662341+0.0981573967421212i"},{"$f":"IMPRODUCT(COMPLEX(定数!V$20,計算!B16*定数!V$30),計算!U16)","v":"0.510398311695176+0.947852085542372i"},{"$f":"IMPRODUCT(定数!E$34,計算!G16)","v":"0"},"-0.649869673690459+0.746898460450773i","1.64043434295074-0.0949485791092844i","-1.13950406800674+1.16353368309736i","-0.979796824163522+0.146149932939271i","0.749776149685861-0.636830330293165i","1.59488925030186-0.179303132624179i","-1.17514755368835+1.0746966573498i","-0.00960438039826762-0.0398325519939828i","1.7942442856061+3.8274842073967i","-88.2358114590984-36.7791688389627i","89.8401394637604-30.3300713525683i","254.464994935134+76.4217105672384i","-253.636454394772+72.4093250142988i","-246.40952553781-85.310225615351i","246.321942535476-78.8840985761987i","-1.44561681929659+7.11605853128787i","1.794881409933+3.8288433220725i","-202.40036979623-82.484536391974i","202.793241387014-76.0331488731289i","-73.4644885584616-20.6018003696662i","71.7189749204658-24.6156106945433i","-246.427756183332-85.3168466866312i","246.340770001129-78.8884377716841i","-0.818854604915624+3.83029184236997i","0.000325442852400215+0.000694235105100915i","-250.391123181618-96.3358339198552i","247.836203771869-96.3346641724102i","155.554727330188+44.2289765514476i","-154.381734694694+44.2282487786456i","0.0080439218979933+0.000342245558599075i","-0.00764027677499257+0.00150782658730009i","-0.626767703728856+3.28554754375265i","-0.0442862131296299+0.57937128647382i","-0.013804028344275+0.203262799374143i","0.40474398335313+0.815221291316415i","0.0890147939861754-0.225284666314472i","-0.380058286787321-0.34559623204516i","-0.088123975322422+0.311222374471121i","0.569805480487684+0.643194735405096i","0.00612469651979195+0.00512527258731116i","-0.0713802512774754+0.673934864563937i","-0.189129206999676+0.278051773331715i","0.197776763207406+0.113739835079406i","0.289500509990727-0.015941365312011i","0.678055026316141+1.39325537720536i","-0.418354661402702+0.232300342265798i","-0.372365346226797-1.19968426314007i","0.00840579984090523+0.00617993265609932i","-0.0713856805053376+0.673913642653124i","-0.418535669234594+0.297270346416538i","-0.135856483841416-0.940775338244285i","0.044106321960077-0.362498937744088i","-0.760987947191517-0.899114183364107i","-0.418371022659941+0.232287477267683i","-0.372464377120391-1.19985652819706i","0.00840603033462495+0.00617982242040406i","-0.0442884234872052+0.579353069122901i","-0.478085256627408+0.207037737919521i","-0.317712052436091-1.44413930811415i","0.18399781840228-0.0478081181150534i","0.292830333322564+0.718906388561046i","-0.088133345243289+0.311240649631574i","0.569809873467173+0.643205766627791i","0.00612473634044801+0.00512515100156075i","2.12096516238338+22.2890163486817i","-16.1466444967468-15.2068472463634i","-8.71580691656477-61.5990122382844i","40.2865366975025+46.8321658346704i","6.66391065878604+60.6824024163897i","-41.4058881955615-44.2141969728613i","1.65158026909259-0.404285934578157i","-16.7378790191244+15.2068472453492i","2.52433931511075-22.2890163486049i","41.9205012483124-46.8321658321157i","-9.95806870175693+61.599012237684i","-43.015538915537+44.2141969702453i","7.8367286630497-60.6824024159536i","1.37908577765192+1.02418021415572i","-114.133226377964-45.6923075083103i","112.921200276038-45.6923075126321i","-328.019842348619-97.0506477932352i","325.445493964604-97.0506477807365i","0.0692677647369919+0.0236720384631042i","-0.0686398485080133+0.0236720263724095i","0.627275543642866-3.28829355476705i","-250.375118831331-96.3291628563987i","247.819908426075-96.3291628563223i","155.508572069119+44.2151150614901i","-154.335729715676+44.2151150612697i","0.0527380692607889+0.0158159483600179i","-0.0523185381235976+0.0158159485730061i","-0.626505495479423+3.28425682186259i","8.05534934582566+10.5741629776646i","-12.3970786638536-1.63440455363987i","-25.1876971197383-26.5868386815399i","34.8676355259908+8.15180982701919i","23.6233168794361+27.1912698447102i","-34.2407770377545-6.58457463846315i","0.660579791449358-0.74852036532138i","8.86454132150213+12.6437605806841i","-14.6433804763308-3.17849602705435i","-28.2800329145298-31.6105204615106i","41.4809675498222+12.5012980310125i","26.3086742089157+32.3779922252209i","-40.7089643386749-10.8126540658684i","0.797076043098991-0.850127813087946i","8.63472126715211+12.6627065054319i","-14.9765270026492-4.23307864122282i","-28.5242056385605-31.9564426633035i","40.0405632629467+10.2090515762707i","26.3074859967514+32.3773065372425i","-40.7077330256509-10.8129894791586i","0.797062025902478-0.850093095980509i","7.59075409237219+10.5776666089643i","-13.1191230731178-3.89376843299142i","-25.0917682780254-26.4087019686911i","35.5393799643859+9.21626719383671i","23.6224069642511+27.1906022198885i","-34.239649850183-6.58455497261222i","0.660564221692344-0.748493099813076i","0.668527420113001-0.7354550582354i","-20.3597430268619-122.79979122324i","83.1410279748406+91.4282791719042i","6.66585499473174+60.6955911850016i","-41.4154452298494-44.2233356281491i","2.23627351687552-0.576969959442473i","1.00205348096325+0.0666516021987995i","84.3559779362137-93.2927860468902i","-20.0755633157458+123.243756832086i","-43.0250257251068+44.2237524595292i","7.83833265775858-60.6956615296426i","1.87263449825969+1.39240395139118i","-0.714578873173142+0.686417685811842i","2.77040699892177-0.258782141379788i","-2.16417135976447+1.71673610980652i","-0.000594632546301953+0.00003064922291244i","0.000446763086917776-0.000386264930224826i","0.0052041683337452+0.0267275638457332i","2.78509709690999+6.6979621491077i","874.07782067661+246.293492639741i","-861.562143391081+265.570307192209i","-0.0990955391658941-0.0337907042036278i","0.0967484002222354-0.0378588650744806i","-1.89815508095014+10.4774869747635i","0.6173962752283+0.39233465532127i","-50.2406978648325-53.7969932493263i","70.4538392878602+17.2072013976775i","23.6284309422072+27.1973106959689i","-34.2484602988192-6.58618728520362i","0.901280013567276-1.01884995338584i","0.3699343501371-0.22830977832705i","-56.1103996720133-64.3448982814011i","82.3713543478744+24.6464843759533i","26.31433287513+32.3852389254668i","-40.7178085298183-10.8148787699407i","1.08888039603085-1.15285566565499i","-0.114431913830401-1.11160148507793i","-55.7227801759568-64.8027817315131i","80.4661052346233+22.7897805349953i","26.3130085851595+32.384571547158i","-40.7164818598237-10.8153114189979i","1.09056877949696-1.1467770161535i","-0.4342331322416-1.54561920440943i","-48.8585577584966-53.7487919757154i","70.1261347952164+19.0768286710572i","23.6272448709472+27.1966593940039i","-34.247126900568-6.58634864149898i","0.903775919245547-1.0064234220655i","-0.00679211330599827-0.0508548143180008i","0.0334079345425948+0.0384401544491908i","6.66427532763751+60.6813332430211i","-41.4051159631107-44.2135410855809i","0.82627855034907-0.202262081114563i","0.0347569017584988-0.038440153276099i","-0.00781177184200033+0.0508548140500125i","-43.01473832126+44.2135410839968i","7.83707593244822-60.681333242757i","0.68995088392685+0.512392573335563i","-9.19152828693773-123.725127014836i","74.3330223199878+98.2258007415278i","0.000014564834576679+0.0143189935613073i","-0.0091664431109984-0.0108254223004034i","1.4329480134736-0.2508412793143i","77.614933250156-98.2258007373757i","-11.7970485814722+123.725127014209i","-0.0095462691855874+0.0108254198749769i","0.000301721881424745-0.0143189933521768i","1.233217929802+0.796180485703324i","-136.697254231526-23.6037778272367i","126.278948202449-54.5518401840233i","23.6385719606201+27.1943724542908i","-34.2542644181063-6.57746516799332i","0.452265053594701-1.99424295109341i","-62.3969187724969-10.2875523137118i","58.487831526297-23.8170716282276i","26.3153928188054+32.3790547241988i","-40.7146509809083-10.8095127963845i","0.450894932392878-1.16583446404345i","62.3467911503132+10.2339269676832i","-58.4168885425547+23.8342668854397i","26.299882634497+32.3751986736687i","-40.7005303189363-10.8166145743198i","0.346652857076285+0.31517832277258i","136.664101803623+23.5614422835518i","-126.22846694268+54.5686332685525i","23.606367587723+27.1866052530003i","-34.2248641718174-6.59210007569852i","0.208688154760886+1.2453898395951i","0.000185458963230405-0.0000916674274955981i","6.67125777740642+60.6699822129763i","-41.4036478497206-44.2007243239507i","0.825524703487272-0.202201078407164i","0.00019053053605392+0.0000921291598448004i","-43.0014313224868+44.2115105118264i","7.82815716084212-60.6718330989925i","0.689411645945657+0.511851444757472i","-0.40686063249629+0.503863263378705i","18.463651110961-26.397731176362i","1.71910367579646+31.1366653821187i","-0.39547121520975-0.210378209477167i","-0.6454911905514+0.0861613589619878i","31.7396041355804-7.01658821808237i","-19.9743353333743+24.3140403807766i","-0.15327747190447-0.421697679327296i","-0.830126565120822+0.542410040439i","-0.201276408237665-0.164183903755462i","0.251397761240506+0.0047076897705478i","-0.000766591000475482+0.0147211252052266i","1.1104200050625+1.4876731407491i","15.4454156221336+20.0638434385568i","-25.0766358979881-7.92949983985378i","0.251617670339012-0.255167955393781i","-1.1101762182491-1.4878039822634i","37.1685747420734+44.6713862935755i","-56.3261958813561-13.682910253619i","0.545102266313049-0.594791359582345i","-2.67529399877731E-06-0.000368565172898627i","47.2452175615603+54.3670134660854i","-68.4709934463752-13.1587661114429i","0.660304567163495-0.74839752450307i","6.66874706563169+60.6712699602963i","-41.4022725998418-44.203312566397i","0.825547589750547-0.202168351106073i","-43.0040484501568+44.2102926686106i","7.83111078238455-60.6723490498776i","0.689399604206874+0.511890484160502i","23.9103003904405-33.3518776190122i","1.20598153270622+40.2974804446357i","-0.503458013278285-0.273372064832886i","40.5253526480887-8.32247778092228i","-26.6869279460368+30.6434998984972i","-0.188489315127953-0.542376948182481i","11.0100626546354-7.72981405522428i","-4.81181455454716+13.1094207965973i","-0.128416895749613-0.12792734886567i","13.6380028588489-0.20266845606718i","-11.5031212710341+8.27019025951939i","-0.0290769844070108-0.19083851669762i","52.6106921163966+64.7370635569755i","-81.4011095542824-21.6159313426086i","0.796751994837945-0.849916595538938i","47.2453287437621+54.3720394167694i","-68.4740723247094-13.1629836361327i","0.660374825804915-0.748408751815994i","0.0722350343408991+1.3752939559025i","-0.00145187015955206+0.004356968995403i","-1.02809872381086+0.963668204648599i","-0.00335049910980201+0.0000575319890139259i","0.923145178023551-1.1337638429998i","0.00308183829405007-0.00530804594268602i","1.4602352000156-0.217724490534899i","0.00298505315306699+0.00273339017295304i","-0.412286832344161+0.259652795059001i","-0.000721244400969018+0.00987236346235801i","-0.4878830769325+0.00583445417893103i","-0.000592017431515601-0.00250021624393101i","-0.816511932015261+0.593846084103408i","-0.00188300897944034-0.0138377978747719i","2.3909250189206+3.1759818490023i","-0.00305108742235594+0.00774559631959804i"]
[{"$f":"COMPLEX(定数!O$13,計算!B17*定数!O$23)","v":"74.3688188913563+36.4724480907156i"},{"$f":"COMPLEX(定数!P$13,計算!B17*定数!P$23)","v":"-73.4757772913563+36.4724480907156i"},{"$f":"COMPLEX(定数!Q$13,計算!B17*定数!Q$23)","v":"125.193786513619+52.1810082620804i"},{"$f":"COMPLEX(定数!R$13,計算!B17*定数!R$23)","v":"-123.916114913619+52.1810082620804i"},{"$f":"COMPLEX(定数!S$13,計算!B17*定数!S$23)","v":"-77.7867441135484-23.9608410905287i"},{"$f":"COMPLEX(定数!T$13,計算!B17*定数!T$23)","v":"77.2000539135484-23.9608410905287i"},{"$f":"COMPLEX(定数!U$13,計算!B17*定数!U$23)","v":"124.646605989444+43.7237396788962i"},{"$f":"COMPLEX(定数!V$13,計算!B17*定数!V$23)","v":"-123.576013789444+43.7237396788962i"},{"$f":"IMPRODUCT(定数!D$31,計算!G17)","v":"-0.782761089988923-4.10337733387413i"},{"$f":"COMPLEX(定数!O$14,計算!B17*定数!O$24)","v":"86.1948356167649+44.7854346269571i"},{"$f":"COMPLEX(定数!P$14,計算!B17*定数!P$24)","v":"-85.0982474167649+44.7854346269571i"},{"$f":"COMPLEX(定数!Q$14,計算!B17*定数!Q$24)","v":"57.0863694248256+24.7573818514249i"},{"$f":"COMPLEX(定数!R$14,計算!B17*定数!R$24)","v":"-56.4801756248256+24.7573818514249i"},{"$f":"COMPLEX(定数!S$14,計算!B17*定数!S$24)","v":"163.969671876329+52.5567100637595i"},{"$f":"COMPLEX(定数!T$14,計算!B17*定数!T$24)","v":"-162.682801076329+52.5567100637595i"},{"$f":"COMPLEX(定数!U$14,計算!B17*定数!U$24)","v":"-101.525845343051-37.7345238722879i"},{"$f":"COMPLEX(定数!V$14,計算!B17*定数!V$24)","v":"100.601901343051-37.7345238722879i"},{"$f":"IMPRODUCT(定数!D$32,計算!G17)","v":"0.782761089988923+4.10337733387413i"},{"$f":"COMPLEX(定数!O$15,計算!B17*定数!O$25)","v":"86.1919999827348+44.7849363750668i"},{"$f":"COMPLEX(定数!P$15,計算!B17*定数!P$25)","v":"-85.0954239827348+44.7849363750668i"},{"$f":"COMPLEX(定数!Q$15,計算!B17*定数!Q$25)","v":"-57.0828842529623-24.7572920044757i"},{"$f":"COMPLEX(定数!R$15,計算!B17*定数!R$25)","v":"56.4766926529622-24.7572920044757i"},{"$f":"COMPLEX(定数!S$15,計算!B17*定数!S$25)","v":"-163.956966054068-52.5520542289677i"},{"$f":"COMPLEX(定数!T$15,計算!B17*定数!T$25)","v":"162.670209254068-52.5520542289677i"},{"$f":"COMPLEX(定数!U$15,計算!B17*定数!U$25)","v":"-101.548680976766-37.7419405481885i"},{"$f":"COMPLEX(定数!V$15,計算!B17*定数!V$25)","v":"100.624555376766-37.7419405481885i"},{"$f":"IMPRODUCT(定数!D$33,計算!G17)","v":"0"},{"$f":"COMPLEX(定数!O$16,計算!B17*定数!O$26)","v":"74.3664237452132+36.4717292942338i"},{"$f":"COMPLEX(定数!P$16,計算!B17*定数!P$26)","v":"-73.4733997452132+36.4717292942338i"},{"$f":"COMPLEX(定数!Q$16,計算!B17*定数!Q$26)","v":"-125.201328746793-52.1837445891636i"},{"$f":"COMPLEX(定数!R$16,計算!B17*定数!R$26)","v":"123.923590146793-52.1837445891636i"},{"$f":"COMPLEX(定数!S$16,計算!B17*定数!S$26)","v":"77.7704269443536+23.9542085600639i"},{"$f":"COMPLEX(定数!T$16,計算!B17*定数!T$26)","v":"-77.1838991443536+23.9542085600639i"},{"$f":"COMPLEX(定数!U$16,計算!B17*定数!U$26)","v":"124.65071095008+43.723429289443i"},{"$f":"COMPLEX(定数!V$16,計算!B17*定数!V$26)","v":"-123.58012635008+43.723429289443i"},{"$f":"IMPRODUCT(定数!D$34,計算!G17)","v":"0"},{"$f":"IMDIV(COMPLEX(定数!O$17,計算!B17*定数!O$27),計算!R17)","v":"0.0656076559588237-0.192976376572618i"},{"$f":"IMPRODUCT(COMPLEX(定数!P$17,計算!B17*定数!P$27),計算!R17)","v":"-0.521962934314588+0.574658405890626i"},{"$f":"IMDIV(COMPLEX(定数!Q$17,計算!B17*定数!Q$27),計算!S17)","v":"0.205528281683778-0.137568207127655i"},{"$f":"IMPRODUCT(COMPLEX(定数!R$17,計算!B17*定数!R$27),計算!S17)","v":"-0.372796055225121+1.12910705093223i"},{"$f":"IMDIV(COMPLEX(定数!S$17,計算!B17*定数!S$27),計算!T17)","v":"-0.0968639928088258-0.047786783330631i"},{"$f":"IMPRODUCT(COMPLEX(定数!T$17,計算!B17*定数!T$27),計算!T17)","v":"0.0275136669453042-0.630363750845365i"},{"$f":"IMDIV(COMPLEX(定数!U$17,計算!B17*定数!U$27),計算!U17)","v":"0.185977326756019+0.00221279012867024i"},{"$f":"IMPRODUCT(COMPLEX(定数!V$17,計算!B17*定数!V$27),計算!U17)","v":"-0.12822391469855+1.0712460927421i"},{"$f":"IMPRODUCT(定数!E$31,計算!G17)","v":"0"},{"$f":"IMDIV(COMPLEX(定数!O$18,計算!B17*定数!O$28),計算!R17)","v":"0.0694318704240719-0.255681312482899i"},{"$f":"IMPRODUCT(COMPLEX(定数!P$18,計算!B17*定数!P$28),計算!R17)","v":"-0.629801973286746+0.686916707988668i"},{"$f":"IMDIV(COMPLEX(定数!Q$18,計算!B17*定数!Q$28),計算!S17)","v":"0.0962268746148776-0.0750112310074978i"},{"$f":"IMPRODUCT(COMPLEX(定数!R$18,計算!B17*定数!R$28),計算!S17)","v":"-0.175587398289792+0.525965332961916i"},{"$f":"IMDIV(COMPLEX(定数!S$18,計算!B17*定数!S$28),計算!T17)","v":"0.215806838786273+0.0767488418109406i"},{"$f":"IMPRODUCT(COMPLEX(定数!T$18,計算!B17*定数!T$28),計算!T17)","v":"-0.0636909361783017+1.35459750580305i"},{"$f":"IMDIV(COMPLEX(定数!U$18,計算!B17*定数!U$28),計算!U17)","v":"-0.161888758971715+0.0237519958759785i"},{"$f":"IMPRODUCT(COMPLEX(定数!V$18,計算!B17*定数!V$28),計算!U17)","v":"0.112046327324983-0.898846642288819i"},{"$f":"IMPRODUCT(定数!E$32,計算!G17)","v":"0"},{"$f":"IMDIV(COMPLEX(定数!O$19,計算!B17*定数!O$29),計算!R17)","v":"0.0694270256893416-0.255685321647069i"},{"$f":"IMPRODUCT(COMPLEX(定数!P$19,計算!B17*定数!P$29),計算!R17)","v":"-0.629790894201459+0.686902212029318i"},{"$f":"IMDIV(COMPLEX(定数!Q$19,計算!B17*定数!Q$29),計算!S17)","v":"-0.0962247029000619+0.0750247681016566i"},{"$f":"IMPRODUCT(COMPLEX(定数!R$19,計算!B17*定数!R$29),計算!S17)","v":"0.175584938559573-0.525949614802163i"},{"$f":"IMDIV(COMPLEX(定数!S$19,計算!B17*定数!S$29),計算!T17)","v":"-0.215786808325262-0.0767497297419761i"},{"$f":"IMPRODUCT(COMPLEX(定数!T$19,計算!B17*定数!T$29),計算!T17)","v":"0.0636843812059711-1.35448519297787i"},{"$f":"IMDIV(COMPLEX(定数!U$19,計算!B17*定数!U$29),計算!U17)","v":"-0.161919918893489+0.0237444341090012i"},{"$f":"IMPRODUCT(COMPLEX(定数!V$19,計算!B17*定数!V$29),計算!U17)","v":"0.112067690781183-0.899035539626665i"},{"$f":"IMPRODUCT(定数!E$33,計算!G17)","v":"0"},{"$f":"IMDIV(COMPLEX(定数!O$20,計算!B17*定数!O$30),計算!R17)","v":"0.0656043448038675-0.19297596868215i"},{"$f":"IMPRODUCT(COMPLEX(定数!P$20,計算!B17*定数!P$30),計算!R17)","v":"-0.521950629342436+0.574643685289688i"},{"$f":"IMDIV(COMPLEX(定数!Q$20,計算!B17*定数!Q$30),計算!S17)","v":"-0.205539603604135+0.137571302964706i"},{"$f":"IMPRODUCT(COMPLEX(定数!R$20,計算!B17*定数!R$30),計算!S17)","v":"0.372816148523685-1.12917037845647i"},{"$f":"IMDIV(COMPLEX(定数!S$20,計算!B17*定数!S$30),計算!T17)","v":"0.0968345605123718+0.0477955635113763i"},{"$f":"IMPRODUCT(COMPLEX(定数!T$20,計算!B17*定数!T$30),計算!T17)","v":"-0.0275034313099165+0.630211269597975i"},{"$f":"IMDIV(COMPLEX(定数!U$20,計算!B17*定数!U$30),計算!U17)","v":"0.185974862795211+0.00223395116477207i"},{"$f":"IMPRODUCT(COMPLEX(定数!V$20,計算!B17*定数!V$30),計算!U17)","v":"-0.128221860721985+1.07125966484462i"},{"$f":"IMPRODUCT(定数!E$34,計算!G17)","v":"0"},"-0.602549335219944+0.785932845417471i","1.63441880116205-0.0999107789065056i","-1.06578747783893+1.22434224558968i","-0.97053738039662+0.153788016356616i","0.709429264033459-0.670112337938661i","1.58352935953508-0.188673867570351i","-1.10705930304685+1.13086242186362i","-0.0302979777677854-0.0403171108158262i","2.0367375531317+4.0275160723911i","-88.2666381275334-39.8289813568985i","90.2179004307854-33.0428413308535i","254.51244499249+82.7669156768436i","-253.843212174885+78.5448349503276i","-246.467739344385-92.3908614832078i","246.67086105364-85.6288923852299i","1.58867097241361+8.93541217583532i","2.03746078523611+4.0289462170774i","-202.431207411014-89.3431241709465i","203.171136494494-82.5545744308435i","-73.4170216519003-22.3418961014353i","71.5121437220143-26.5654760612772i","-246.48599066125-92.3980241726511i","246.689812417983-85.6336539435541i","0.805844056524565+4.83190542136507i","0.000369426662601313+0.000730517199301062i","-250.391128773007-104.363817337676i","247.836272290746-104.362586456926i","155.554735936754+47.9147203765124i","-154.381772196745+47.91395456887i","0.00803336298599788+0.000375944393098848i","-0.0075769893859956+0.0016024409827935i","0.782717501701739+4.10325899042183i","-0.634097557569331+0.406817406744753i","0.117578315378431+0.184390922931836i","-0.539141367292521+0.843109020437903i","-0.0628667644173766-0.245167241595566i","0.110285526735484-0.449496162316366i","0.118495276652613+0.320174998320084i","-0.273822081391614+0.783416567078721i","0.0097680292607518-0.00320168283144647i","-0.788914187359403+0.478287315638886i","0.0082914392759313+0.349816105475346i","-0.41462921250951+0.16845501964972i","0.243872342557488-0.182077219047029i","0.0583872651614233+1.58251246416223i","-0.223595782184056+0.441730840402665i","-0.100228862853785-1.26041891103053i","0.0124119770753932-0.00494733430720767i","-0.78890917839961+0.478274211596483i","-0.184151819354763+0.499858173196577i","-0.063466947706817-0.883458269417929i","-0.187726623111606-0.335578936581493i","0.185768706132665-1.12657063691682i","-0.223618513901636+0.441728713190019i","-0.100217396619342-1.26060676802242i","0.0124119919276442-0.00494765110248156i","-0.634086927156881+0.406805534263381i","-0.293484198848223+0.459529435540276i","0.206467806866327-1.41516392023935i","0.13082863803283-0.14958398966466i","0.0552705041780519+0.81107634991175i","0.11849797904462+0.320194888721243i","-0.273823231791944+0.783434335200891i","0.00976791249448735-0.00320180396939144i","2.15774251527196+21.1424083818289i","-16.1834218496365-13.4700585209086i","-8.8221602931186-58.0451696305008i","40.3928900740588+42.0477526930956i","6.76679718766358+57.3353526590659i","-41.508774724442-39.4947967617352i","1.58530306733769-1.20464051782685i","-16.7011016662372+13.4700585199725i","2.48756196222224-21.1424083817577i","41.8141478717626-42.0477526907369i","-9.85171532520481+58.0451696299465i","-42.9126523866634+39.49479675932i","7.73384213417331-57.335352658663i","1.92561562359832+0.579340377326154i","-114.13322637796-49.4999998010146i","112.921200276033-49.4999998050059i","-328.019842348631-105.138201775006i","325.445493964617-105.138201763464i","0.0692677647489859+0.0256447073691959i","-0.068639848521002+0.0256446962034005i","-0.783391042366585-4.10667966098245i","-250.375118831332-104.356593094426i","247.819908426075-104.356593094356i","155.508572069124+47.8997079832644i","-154.33572971568+47.8997079830612i","0.0527380692561563+0.0171339440722714i","-0.0523185381198539+0.0171339442688599i","0.782429346058346+4.10163827130744i","-4.99269518410438+15.5200210004014i","-7.56288415295022-13.5752240021561i","9.34562456381983-43.9182677265032i","17.4771222840689+40.3646534093175i","-11.0251419930147+42.8213431205835i","-18.6948311568787-38.7190521173534i","1.46648194292814-0.419217318947086i","-6.72488647873401+18.9644614605997i","-8.56430203962876-17.700860241062i","13.1207400678347-53.3533224046616i","20.0484976433922+52.0871207702408i","-15.1881357435267+52.1243136476683i","-21.4216629947273-50.1920906546331i","1.80864861584557-0.468895018887595i","-6.91742259443597+19.1142172053951i","-8.21287518390799-18.7526350315386i","12.6894826523143-53.5060655723267i","20.1751678048453+49.3776178259456i","-15.1884610689852+52.1235513633901i","-21.4209389421047-50.1918899765535i","1.80863139366572-0.468873004226742i","-5.40374008175081+15.7948180372137i","-6.81705040975136-15.833242656779i","9.53937467579247-43.8217410519269i","17.4215228491136+41.6244919131451i","-11.0251520126674+42.8204336853393i","-18.6942338083043-38.7183330308878i","1.46645447786574-0.41920073687657i","0.625503293136102-0.7780832577421i","-20.5557217986157-115.707425827883i","83.2456233251653+81.7612544308706i","6.7687619403986+57.3478167488893i","-41.5183298858046-39.5028828958186i","2.13181810093735-1.66442270712676i","1.00595260024089+0.070514840016898i","84.1423089178445-83.7338312293491i","-19.8536125520969+116.17712442277i","-42.9221166842733+39.5033238880137i","7.73542159688548-57.3478911709282i","2.61565312233614+0.788542342884824i","-0.674423432888451+0.726203597577343i","2.75526824150925-0.273781585109713i","-2.06374228316715+1.81624099263712i","-0.000592839563507348+0.0000324257100574355i","0.000424166582315471-0.000408653495776582i","0.0189118262327007+0.0277793274302741i","3.17692793790698+7.086187185526i","873.930098923239+266.882017822765i","-860.582171330948+287.27614864468i","-0.0990780435351727-0.0366141820181213i","0.0965279069070341-0.0409181438620921i","2.61852411731035+13.0304644325552i","0.34062030658788+0.517555043739101i","18.8527430936929-88.0469966979395i","35.3615844731857+81.4619146406003i","-11.0275986125473+42.8307058947454i","-18.6990557332623-38.7276754739589i","1.99203867177764-0.574035544955755i","0.6723370744027-0.0271462857677989i","26.4574858910104-107.446650864209i","40.6140973757578+103.438896257482i","-15.1915075861627+52.1357745899419i","-21.4265604160845-50.2028828938045i","2.46264848481884-0.640734795203031i","1.00266622264504-0.838101872858299i","26.5157167552378-108.06472412244i","40.6154151367803+101.388142561769i","-15.1919421987116+52.1351073299143i","-21.4258158942844-50.2028244176641i","2.4704325860719-0.638196411364859i","1.00879433558144-1.2566317665326i","20.1037977896633-88.8201460953819i","34.956791945591+84.0354200015063i","-11.0278434053887+42.8299726984793i","-18.6983963299482-38.7272409221476i","2.00741849325585-0.56779732589443i","-0.00687969730320148-0.0479387422300022i","0.0334955185316943+0.0344895272897929i","6.76716016441372+57.3343325931779i","-41.5080007998886-39.4942244225119i","0.79312054587419-0.60267598578854i","0.0346693177667987-0.0344895262372944i","-0.00772418784500317+0.047938741992013i","-42.9118534844861+39.4942244210494i","7.7341910956727-57.334332592934i","0.96337725970362+0.289840964158828i","-9.40922610235825-116.253690004998i","74.5507201354211+88.6294198752889i","0.00003922767304501+0.0134977681450004i","-0.00919110595225549-0.00971306576804629i","1.41960983064657-0.928849021927485i","77.3972354347575-88.6294198714671i","-11.5793507660567+116.253690004421i","-0.00952160635018762+0.00971306352845096i","0.000277059043359526-0.0134977679515865i","1.66904847055081+0.378754120972916i","-53.3809302472968-97.9153460993358i","99.4734300962785+47.8564985015189i","-11.0193283150538+42.8323253834595i","-18.7061359430812-38.7232212534063i","1.61955297567509-1.56687134394158i","-23.1735853887864-45.7567585310687i","45.2434683028699+24.9628940664902i","-15.1853695308038+52.1289856609787i","-21.4263802788851-50.193800322865i","1.33020355148875-0.850076766074048i","23.1926058433218+45.66776948723i","-45.206796289329-24.880181227027i","-15.1905357423733+52.1173882930812i","-21.4147811874292-50.1890584579548i","0.47949952255304+0.380872273907901i","53.400449553258+97.8485353259421i","-99.450104428089-47.7916239738447i","-11.0304438070172+42.8082090620026i","-18.6817141015565-38.7132762891i","-0.15226260976637+1.14749699026676i","0.000269878830177803-0.0000653095875355059i","6.77813765166995+57.3185725613859i","-41.5062586562429-39.4756303278174i","0.792223941577518-0.602283868456443i","0.00021431221685545+0.000188725408902801i","-42.8924694070719+39.4936066023597i","7.72018505921913-57.3217051619858i","0.962518867148332+0.289351460302134i","-0.1764277571653+0.6296163811638i","28.7299431983874-36.2368998504383i","1.41383234293955+44.9441127420741i","-0.7938667573886-0.119620648278503i","-0.5783149947125+0.304381575711005i","46.4123027321383-4.74233504864026i","-31.4876383961819+32.6572300780346i","-0.47383659897791-0.651393115117884i","-0.803724298696822+0.577742730052707i","-0.289920216734401-0.270596390017905i","0.385154953203199+0.0189326170218397i","0.00538456504764121+0.0194758650493928i","0.182660045874499+1.5754458930942i","-9.52224675180573+32.5924877606103i","-13.3672542683463-32.1316215149124i","0.563830775152992-0.152370901651712i","-0.182113603983396-1.575244639812i","-20.8240639930562+71.6332333369066i","-29.4829178157307-68.2173228018734i","1.24403674340544-0.316724863025068i","0.000414370066891934-0.000100051431800807i","-22.0260343265616+85.6264465052883i","-37.3966329047974-77.4111345937507i","1.46588406532962-0.41939476208835i","6.77227104935506+57.317612296907i","-41.5009598480798-39.4786378327855i","0.79226243317733-0.602189136173145i","-42.8951238271915+39.4880991958982i","7.72584575914161-57.3190181314507i","0.962461810362029+0.289439797254536i","37.4546129622975-47.1843573643082i","1.49420733883419+59.291562786969i","-1.03278909241285-0.14956883518304i","60.3535030303784-5.92751977834572i","-41.8493035298001+42.5706742706885i","-0.616205748543279-0.845432182625573i","20.3740848976495-4.96915422416145i","-13.0808119836729+17.0602691533156i","-0.24882629119852-0.241762862418464i","19.7219036053646+8.33075298023537i","-21.0954167997884+6.03890270662974i","-0.054489567526145-0.364204092677584i","-30.3554110277837+104.217199727272i","-42.8374293156367-100.347998704331i","1.80782399667171-0.468885782099319i","-22.0350399968414+85.6249676953122i","-37.3884957963893-77.4157475609245i","1.4659430833163-0.419249298573354i","0.297868667326696+0.752536992765798i","0.00461357444530208+0.00258524466038601i","-0.442303317591751+0.7137835583559i","0.00106358066823309+0.00303997482323198i","0.528183446681669-1.2549797336421i","-0.00552591000968006-0.011354819686433i","1.27986323419709-0.506737741988999i","0.00281158175348695-0.00546856770461701i","-0.4132574837954+0.211352357648298i","0.00401661816580201+0.015657634912309i","-0.457131672812398-0.0574507935453203i","-0.0039899930789522+0.000677778883725i","-0.777212229542255+0.637419026543162i","-0.00880472367645561-0.0147821376367658i","0.0645851957483998+3.1785782306589i","0.00621058732873014+0.00892988772435899i"]
[{"$f":"COMPLEX(定数!O$13,計算!B18*定数!O$23)","v":"74.3688188913563+39.2780210207706i"},{"$f":"COMPLEX(定数!P$13,計算!B18*定数!P$23)","v":"-73.4757772913563+39.2780210207706i"},{"$f":"COMPLEX(定数!Q$13,計算!B18*定数!Q$23)","v":"125.193786513619+56.1949319745481i"},{"$f":"COMPLEX(定数!R$13,計算!B18*定数!R$23)","v":"-123.916114913619+56.1949319745481i"},{"$f":"COMPLEX(定数!S$13,計算!B18*定数!S$23)","v":"-77.7867441135484-25.8039827128771i"},{"$f":"COMPLEX(定数!T$13,計算!B18*定数!T$23)","v":"77.2000539135484-25.8039827128771i"},{"$f":"COMPLEX(定数!U$13,計算!B18*定数!U$23)","v":"124.646605989444+47.0871042695806i"},{"$f":"COMPLEX(定数!V$13,計算!B18*定数!V$23)","v":"-123.576013789444+47.0871042695806i"},{"$f":"IMPRODUCT(定数!D$31,計算!G18)","v":"-2.39815891756098-3.77889378221147i"},{"$f":"COMPLEX(定数!O$14,計算!B18*定数!O$24)","v":"86.1948356167649+48.2304680597999i"},{"$f":"COMPLEX(定数!P$14,計算!B18*定数!P$24)","v":"-85.0982474167649+48.2304680597999i"},{"$f":"COMPLEX(定数!Q$14,計算!B18*定数!Q$24)","v":"57.0863694248256+26.661795839996i"},{"$f":"COMPLEX(定数!R$14,計算!B18*定数!R$24)","v":"-56.4801756248256+26.661795839996i"},{"$f":"COMPLEX(定数!S$14,計算!B18*定数!S$24)","v":"163.969671876329+56.599533914818i"},{"$f":"COMPLEX(定数!T$14,計算!B18*定数!T$24)","v":"-162.682801076329+56.599533914818i"},{"$f":"COMPLEX(定数!U$14,計算!B18*定数!U$24)","v":"-101.525845343051-40.6371795547716i"},{"$f":"COMPLEX(定数!V$14,計算!B18*定数!V$24)","v":"100.601901343051-40.6371795547716i"},{"$f":"IMPRODUCT(定数!D$32,計算!G18)","v":"2.39815891756098+3.77889378221147i"},{"$f":"COMPLEX(定数!O$15,計算!B18*定数!O$25)","v":"86.1919999827348+48.2299314808411i"},{"$f":"COMPLEX(定数!P$15,計算!B18*定数!P$25)","v":"-85.0954239827348+48.2299314808411i"},{"$f":"COMPLEX(定数!Q$15,計算!B18*定数!Q$25)","v":"-57.0828842529623-26.661699081743i"},{"$f":"COMPLEX(定数!R$15,計算!B18*定数!R$25)","v":"56.4766926529622-26.661699081743i"},{"$f":"COMPLEX(定数!S$15,計算!B18*定数!S$25)","v":"-163.956966054068-56.5945199388883i"},{"$f":"COMPLEX(定数!T$15,計算!B18*定数!T$25)","v":"162.670209254068-56.5945199388883i"},{"$f":"COMPLEX(定数!U$15,計算!B18*定数!U$25)","v":"-101.548680976766-40.645166744203i"},{"$f":"COMPLEX(定数!V$15,計算!B18*定数!V$25)","v":"100.624555376766-40.645166744203i"},{"$f":"IMPRODUCT(定数!D$33,計算!G18)","v":"0"},{"$f":"COMPLEX(定数!O$16,計算!B18*定数!O$26)","v":"74.3664237452132+39.2772469322517i"},{"$f":"COMPLEX(定数!P$16,計算!B18*定数!P$26)","v":"-73.4733997452132+39.2772469322517i"},{"$f":"COMPLEX(定数!Q$16,計算!B18*定数!Q$26)","v":"-125.201328746793-56.19787878833i"},{"$f":"COMPLEX(定数!R$16,計算!B18*定数!R$26)","v":"123.923590146793-56.19787878833i"},{"$f":"COMPLEX(定数!S$16,計算!B18*定数!S$26)","v":"77.7704269443536+25.7968399877611i"},{"$f":"COMPLEX(定数!T$16,計算!B18*定数!T$26)","v":"-77.1838991443536+25.7968399877611i"},{"$f":"COMPLEX(定数!U$16,計算!B18*定数!U$26)","v":"124.65071095008+47.0867700040155i"},{"$f":"COMPLEX(定数!V$16,計算!B18*定数!V$26)","v":"-123.58012635008+47.0867700040155i"},{"$f":"IMPRODUCT(定数!D$34,計算!G18)","v":"0"},{"$f":"IMDIV(COMPLEX(定数!O$17,計算!B18*定数!O$27),計算!R18)","v":"-0.0591471577944341-0.204657189580303i"},{"$f":"IMPRODUCT(COMPLEX(定数!P$17,計算!B18*定数!P$27),計算!R18)","v":"-0.767166373072772+0.134059872340605i"},{"$f":"IMDIV(COMPLEX(定数!Q$17,計算!B18*定数!Q$27),計算!S18)","v":"0.101205329423382-0.242449552218976i"},{"$f":"IMPRODUCT(COMPLEX(定数!R$17,計算!B18*定数!R$27),計算!S18)","v":"-0.96794226304253+0.696279271961378i"},{"$f":"IMDIV(COMPLEX(定数!S$17,計算!B18*定数!S$27),計算!T18)","v":"-0.113962678661429+0.0183159898270982i"},{"$f":"IMPRODUCT(COMPLEX(定数!T$17,計算!B18*定数!T$27),計算!T18)","v":"0.383089794616562-0.503005394957482i"},{"$f":"IMDIV(COMPLEX(定数!U$17,計算!B18*定数!U$27),計算!U18)","v":"0.166958877818115-0.110607524922535i"},{"$f":"IMPRODUCT(COMPLEX(定数!V$17,計算!B18*定数!V$27),計算!U18)","v":"-0.722915251755314+0.804313329020281i"},{"$f":"IMPRODUCT(定数!E$31,計算!G18)","v":"0"},{"$f":"IMDIV(COMPLEX(定数!O$18,計算!B18*定数!O$28),計算!R18)","v":"-0.0927800928565204-0.259564196478709i"},{"$f":"IMPRODUCT(COMPLEX(定数!P$18,計算!B18*定数!P$28),計算!R18)","v":"-0.921871035880723+0.156354987175374i"},{"$f":"IMDIV(COMPLEX(定数!Q$18,計算!B18*定数!Q$28),計算!S18)","v":"0.0413511795367504-0.122250224899144i"},{"$f":"IMPRODUCT(COMPLEX(定数!R$18,計算!B18*定数!R$28),計算!S18)","v":"-0.452576219986065+0.323131509420866i"},{"$f":"IMDIV(COMPLEX(定数!S$18,計算!B18*定数!S$28),計算!T18)","v":"0.237003894193021-0.0652924329956028i"},{"$f":"IMPRODUCT(COMPLEX(定数!T$18,計算!B18*定数!T$28),計算!T18)","v":"-0.827318556021148+1.07819567622259i"},{"$f":"IMDIV(COMPLEX(定数!U$18,計算!B18*定数!U$28),計算!U18)","v":"-0.130743593064207+0.117418939848031i"},{"$f":"IMPRODUCT(COMPLEX(定数!V$18,計算!B18*定数!V$28),計算!U18)","v":"0.610545852001858-0.672177354123976i"},{"$f":"IMPRODUCT(定数!E$32,計算!G18)","v":"0"},{"$f":"IMDIV(COMPLEX(定数!O$19,計算!B18*定数!O$29),計算!R18)","v":"-0.0927864364316066-0.259564334387925i"},{"$f":"IMPRODUCT(COMPLEX(定数!P$19,計算!B18*定数!P$29),計算!R18)","v":"-0.921853403889647+0.156350221992182i"},{"$f":"IMDIV(COMPLEX(定数!Q$19,計算!B18*定数!Q$29),計算!S18)","v":"-0.0413415812112337+0.122260015944946i"},{"$f":"IMPRODUCT(COMPLEX(定数!R$19,計算!B18*定数!R$29),計算!S18)","v":"0.45256512924164-0.323120101994601i"},{"$f":"IMDIV(COMPLEX(定数!S$19,計算!B18*定数!S$29),計算!T18)","v":"-0.236986451792962+0.0652797716504437i"},{"$f":"IMPRODUCT(COMPLEX(定数!T$19,計算!B18*定数!T$29),計算!T18)","v":"0.827248819426946-1.07810703940754i"},{"$f":"IMDIV(COMPLEX(定数!U$19,計算!B18*定数!U$29),計算!U18)","v":"-0.130775652365728+0.117431552287731i"},{"$f":"IMPRODUCT(COMPLEX(定数!V$19,計算!B18*定数!V$29),計算!U18)","v":"0.610672215817746-0.672319935816155i"},{"$f":"IMPRODUCT(定数!E$33,計算!G18)","v":"0"},{"$f":"IMDIV(COMPLEX(定数!O$20,計算!B18*定数!O$30),計算!R18)","v":"-0.0591496466827787-0.20465465457371i"},{"$f":"IMPRODUCT(COMPLEX(定数!P$20,計算!B18*定数!P$30),計算!R18)","v":"-0.767147599256442+0.13405573193556i"},{"$f":"IMDIV(COMPLEX(定数!Q$20,計算!B18*定数!Q$30),計算!S18)","v":"-0.101213454751674+0.242459214380912i"},{"$f":"IMPRODUCT(COMPLEX(定数!R$20,計算!B18*定数!R$30),計算!S18)","v":"0.967995839310295-0.696318835931749i"},{"$f":"IMDIV(COMPLEX(定数!S$20,計算!B18*定数!S$30),計算!T18)","v":"0.113941299908044-0.0182912260766733i"},{"$f":"IMPRODUCT(COMPLEX(定数!T$20,計算!B18*定数!T$30),計算!T18)","v":"-0.382993919572577+0.502885853258644i"},{"$f":"IMDIV(COMPLEX(定数!U$20,計算!B18*定数!U$30),計算!U18)","v":"0.166968705960503-0.110588616034432i"},{"$f":"IMPRODUCT(COMPLEX(定数!V$20,計算!B18*定数!V$30),計算!U18)","v":"-0.722921133233003+0.804325742999781i"},{"$f":"IMPRODUCT(定数!E$34,計算!G18)","v":"0"},"-0.554400596798489+0.820959378216581i","1.62829795001415-0.104363485260182i","-0.990780389300826+1.27890729408273i","-0.961115838829699+0.160641860206549i","0.668376057184393-0.699977118270408i","1.57197060009453-0.19708246310026i","-1.03777908494877+1.18126137126705i","-0.0461972782151903-0.0264137059947465i","2.28347595958519+4.2070096826037i","-88.2980044542104-42.8761829736051i","90.6022745619754-35.7876062220969i","254.560725720683+89.1081019475868i","-254.053589500851+84.6978564816658i","-246.52697225429-99.4665668637013i","247.025887813898-92.4032382618193i","5.1061803159407+8.28373517986563i","2.2842868068883+4.2085035643001i","-202.462584875669-96.1991001215757i","203.555647114431-89.1080062627012i","-73.3687237795357-24.0860120991302i","71.3016916924321-28.4978236144485i","-246.545244604374-99.4742694205239i","247.044965245927-92.4084326767287i","2.70790457284437+4.50474170956313i","0.000414180462797731+0.000763074032597899i","-250.391134462282-112.391800281929i","247.836342009131-112.390514544729i","155.554744693988+51.6004634726339i","-154.381810355316+51.5996635353753i","0.00802261922800085+0.000410537526995824i","-0.00751259407398663+0.00169169517749879i","2.39806871487479+3.77879475674276i","-0.967972831758339+0.0691552181843802i","0.218873262797377+0.084620526499627i","-1.28828167960886+0.569152673523356i","-0.203686460478243-0.168881767154875i","0.56587768853261-0.407619086578193i","0.30027081396378+0.199450692652167i","-1.02605056745183+0.661792630812249i","0.00267331713101799-0.0110169007621873i","-1.18640003607985+0.0886211290824232i","0.219513838730421+0.290714770270938i","-0.876459460665159+0.184617531285012i","0.106134602055171-0.299859326717786i","-0.583617565115164+1.1867382284207i","0.066259536354947+0.507160896322888i","0.207647453471487-0.831950108717136i","0.00256986461002737-0.0144418254943066i","-1.18638603418845+0.0886214952597379i","0.136831421605432+0.535224573634717i","0.02867542709965-0.461626103923754i","-0.367861862995295-0.169286235574769i","1.07095414675993-0.969568835391624i","0.066237476146449+0.507172475344418i","0.207767071150997-0.83208534010841i","0.00256957519681772-0.0144419994226643i","-0.967953356645756+0.069154526464731i","0.016458266711987+0.569524905604415i","0.647657198840626-0.823439739677493i","0.0242155332093953-0.205486146804005i","-0.20020613658976+0.59826872513533i","0.30028405496013+0.199465126068189i","-1.02605603734043+0.66181061559623i","0.00267313519223184-0.0110168493925474i","2.18692558064617+20.2016709881091i","-16.2126049150111-11.9391403685923i","-8.90655237946932-55.086667058528i","40.4772821604102+37.8586795873423i","6.8484383081501+54.5642363772109i","-41.5904158449292-35.3513300260901i","0.98719567974754-1.75489832319167i","-16.6719186008637+11.9391403677234i","2.45837889684817-20.201670988043i","41.7297557854135-37.8586795851531i","-9.76732323885457+55.0866670580134i","-42.8310112661785+35.3513300238484i","7.65220101368713-54.5642363768369i","2.02981724344087-0.111989625348425i","-114.133226377957-53.3076920936978i","112.921200276031-53.3076920974021i","-328.019842348639-113.225755756839i","325.445493964623-113.225755746126i","0.0692677647570008+0.0276173763349021i","-0.068639848526999+0.027617365971409i","-2.40008891418547-3.78193497064381i","-250.375118831334-112.384023332454i","247.819908426076-112.384023332388i","155.508572069124+51.5843009050389i","-154.335729715682+51.5843009048508i","0.0527380692553186+0.0184519397843318i","-0.0523185381189547+0.0184519399664979i","2.39714254785448+3.77729223982823i","-15.0934371390613+12.7943342054001i","-0.305688662158972-19.1555257280143i","37.5714581688286-39.7008854179483i","-5.07909536623325+53.5902393873562i","-38.7142555075251+37.3805656514305i","2.60767044524668-52.6840953982982i","1.95973659524103-0.259792269882828i","-18.5019908911934+15.9327955836791i","0.249866458941451-24.0005099713536i","46.2592394410672-48.913536226516i","-7.2897275760271+67.4071532271068i","-47.6155789938969+46.243712690238i","4.45067477696465-66.2451088086645i","2.40082046841988-0.327191016992949i","-18.5844354980824+16.1771443213745i","1.15495952735829-24.6464716451617i","45.7846448175184-48.7824483227429i","-5.63499893166494+65.2500784223369i","-47.614988394082+46.2432449675204i","4.45066726917104-66.2444828396061i","2.40079171671801-0.327190366127762i","-15.295535706193+13.2789945361084i","1.63021631297749-20.5477230108893i","37.7985736584168-39.7367236302582i","-5.84502707616593+54.5950476237775i","-38.7134325809719+37.3798619866623i","2.60755369103628-52.68300947569i","1.95969695984832-0.259788633438155i","0.581244924696101-0.817264259182799i","-20.7074175166124-109.804198029748i","83.3033140878188+73.2906891498672i","6.85041880993978+54.5761009831969i","-41.5999638262014-35.3584906198336i","1.30829961319863-2.40215880006694i","1.00996357430863+0.0740656708815024i","83.9724154696955-75.3625966232407i","-19.6751997786408+110.297548671273i","-42.8404576594578+35.3589538190228i","7.65376049408333-54.5761791529055i","2.75794655150784-0.150696841083705i","-0.633116045711455+0.762772157456347i","2.73969519563081-0.287568074644127i","-1.96043217819936+1.90769925272354i","-0.000590995145010316+0.0000340585384952269i","0.000400921847340534-0.000429231573642224i","0.029968050013429+0.0191391013572651i","3.57999930612601+7.443017778591i","873.778139447297+287.482378833503i","-859.574086622505+308.903472343504i","-0.0990600459902974-0.0394390617589106i","0.0963010882382433-0.0439597560443253i","7.74946741761304+11.9371770484158i","-0.102423994765307+0.457626161613i","75.2436333304701-79.0938520296199i","-10.2610134105413+107.466402613476i","-38.7227398992718+37.3886411012394i","2.6082300017425-52.6957035061782i","2.65692953345484-0.35433869400478i","0.68905200979359+0.199602075027499i","92.3672916455777-97.8851216377531i","-13.1666436510926+133.938552575051i","-47.6259709329549+46.2537590458434i","4.45125377041132-66.259438253169i","3.26022844637579-0.450554352920639i","1.72833048853029-0.228772041528899i","92.0483032193876-98.4471832335704i","-11.2073981626891+132.417786413315i","-47.6254207353415+46.2534385399863i","4.45117443426861-66.2589456366862i","3.26734701403378-0.456298441559817i","2.07521454079266-0.473569729100898i","75.8850644553147-80.5156289173226i","-10.49855950393+109.806897843209i","-38.722019905168+37.3882307515554i","2.60798624174655-52.6948986415711i","2.67222236122285-0.364991397629807i","-0.00694919573939856-0.0455129430819881i","0.0335650169825072+0.0310291730891095i","6.84879994220651+54.5632559473836i","-41.5896405776816-35.3508317634991i","0.493890172855701-0.87796768983017i","0.0345998193411106-0.0310291720928006i","-0.00765468941239789+0.0455129428570018i","-42.830213706694+35.3508317621417i","7.65255131788002-54.5632559471572i","1.01550866131919-0.0560284728658748i","-9.58197071501729-110.000871805933i","74.7234647480615+80.2516578198498i","0.000058797794925661+0.0128145978217662i","-0.00921067607514348-0.00873876434072434i","0.944972670738039-1.42327886283892i","77.2244908220836-80.2516578163243i","-11.4066061533926+110.000871805401i","-0.00950203623012289+0.00873876226209769i","0.000257488921856474-0.0128145976422372i","1.70918221872968-0.219077302919803i","46.4280160446203-122.653494727135i","38.909953158903+123.95309272246i","-38.7197140495496+37.3938845405471i","2.60239207965485-52.697133862127i","2.73173529884725-1.15894396478669i","23.1372036147992-58.0017241411773i","16.6495035110185+60.419013035731i","-47.6176792607127+46.2496342102921i","4.44851852687218-66.250659724232i","2.03878471920242-0.640755014502138i","-23.0618031349274+57.9210081468806i","-16.6581369900038-60.309586669499i","-47.610997260905+46.2361612705096i","4.45366102997849-66.2367388706165i","0.36343403679104+0.313352645945147i","-46.3675659520083+122.594959504399i","-38.920487615061-123.870334213251i","-38.7064395546932+37.3655960683172i","2.61352050252579-52.6681836632506i","-0.77094905295336+0.899057967254893i","0.0002949291127365-0.000167761073187098i","6.85419342804027+54.5451448820415i","-41.581350696899-35.3342680000895i","0.493254610862681-0.877142289814957i","0.000303195953084551+0.000166432044631196i","-42.8119351153287+35.3453753754138i","7.64314382751926-54.5470976040345i","1.01446016720882-0.0561090003285587i","-0.0687235101841992+0.436065641789696i","15.7132430338026-42.4963943505896i","17.2651846292666+40.9167221854168i","-0.703938254322061+0.45368287830421i","-0.3758825645656+0.225140222985004i","42.7134737783896-16.2513281469595i","-19.6364423496954+40.2612679101068i","-0.81080604536183-0.226836050181407i","-0.778907204556098+0.612074442039483i","-0.371184757245778-0.175179208977489i","0.382821264068959-0.123691866624035i","0.0156387400308698+0.0163522419824917i","-0.8301348411721+1.07936123261049i","-28.8688057992254+28.7734353423042i","2.76544651846844-41.1844824667526i","0.72848977827101-0.112026281623419i","0.830827142013099-1.0789558425062i","-66.3177434495422+63.695608188169i","6.11785204336728-91.262689903029i","1.67122992174893-0.215346757374892i","0.000722642697702724+0.000165045792996921i","-77.3934612972749+74.7483428258292i","5.20001133227734-105.335431812624i","1.95888370048401-0.259959074943027i","6.8447832283909+54.5489661659443i","-41.5767379198968-35.3434611866646i","0.493432767740977-0.877097666234464i","-42.8202795533318+35.3392470118525i","7.65358923756712-54.5480038891267i","1.01451659711378-0.0559304915219352i","19.4633598915844-55.167076906718i","22.8710890652546+53.067825636066i","-0.893889598012288+0.598649791599415i","54.7510810655901-21.4577538855539i","-25.3246574373397+52.2635388584142i","-1.0421012616252-0.279273329532183i","25.1442116231911-15.2828026697825i","-8.95508069034751+28.4169484070478i","-0.518072806154811-0.0353495994509076i","29.6751042935905+3.92312386415703i","-25.2130438787469+16.8291940718937i","-0.391372712330576-0.373922688426795i","-95.2055029528344+92.4542975548983i","8.90757596205701-132.448602116503i","2.39983906312017-0.326955513381977i","-77.414258299607+74.7406100578962i","5.22100894200427-105.343432000007i","1.95910480875002-0.259624268023066i","0.0174566477967986+0.630080512900399i","0.00317924680275999-0.00167814996388194i","-0.53112984685553+0.381181719324303i","0.00277087451997993-0.000591339111358599i","0.421934795505301-0.971283106860305i","-0.010493254833193-0.000916082670236018i","1.0197984856372-0.3298764599338i","-0.00544542070380993-0.00148514545754197i","-0.489321570555029+0.227899343911503i","0.016800243247319+0.0124838393895946i","-0.525746203726897-0.113458846451i","0.00204408084684798+0.005104774062268i","-0.743446415488614+0.669223774116927i","-0.0146893037500795-0.0108306107779609i","-2.31415075580139+2.02966874869401i","0.01245679715556-0.00018044472395401i"]
[{"$f":"COMPLEX(定数!O$13,計算!B19*定数!O$23)","v":"74.3688188913563+42.0835939508257i"},{"$f":"COMPLEX(定数!P$13,計算!B19*定数!P$23)","v":"-73.4757772913563+42.0835939508257i"},{"$f":"COMPLEX(定数!Q$13,計算!B19*定数!Q$23)","v":"125.193786513619+60.2088556870159i"},{"$f":"COMPLEX(定数!R$13,計算!B19*定数!R$23)","v":"-123.916114913619+60.2088556870159i"},{"$f":"COMPLEX(定数!S$13,計算!B19*定数!S$23)","v":"-77.7867441135484-27.6471243352255i"},{"$f":"COMPLEX(定数!T$13,計算!B19*定数!T$23)","v":"77.2000539135484-27.6471243352255i"},{"$f":"COMPLEX(定数!U$13,計算!B19*定数!U$23)","v":"124.646605989444+50.4504688602649i"},{"$f":"COMPLEX(定数!V$13,計算!B19*定数!V$23)","v":"-123.576013789444+50.4504688602649i"},{"$f":"IMPRODUCT(定数!D$31,計算!G19)","v":"-3.48221787846799-2.52997938048758i"},{"$f":"COMPLEX(定数!O$14,計算!B19*定数!O$24)","v":"86.1948356167649+51.6755014926428i"},{"$f":"COMPLEX(定数!P$14,計算!B19*定数!P$24)","v":"-85.0982474167649+51.6755014926428i"},{"$f":"COMPLEX(定数!Q$14,計算!B19*定数!Q$24)","v":"57.0863694248256+28.5662098285672i"},{"$f":"COMPLEX(定数!R$14,計算!B19*定数!R$24)","v":"-56.4801756248256+28.5662098285672i"},{"$f":"COMPLEX(定数!S$14,計算!B19*定数!S$24)","v":"163.969671876329+60.6423577658764i"},{"$f":"COMPLEX(定数!T$14,計算!B19*定数!T$24)","v":"-162.682801076329+60.6423577658764i"},{"$f":"COMPLEX(定数!U$14,計算!B19*定数!U$24)","v":"-101.525845343051-43.5398352372553i"},{"$f":"COMPLEX(定数!V$14,計算!B19*定数!V$24)","v":"100.601901343051-43.5398352372553i"},{"$f":"IMPRODUCT(定数!D$32,計算!G19)","v":"3.48221787846799+2.52997938048758i"},{"$f":"COMPLEX(定数!O$15,計算!B19*定数!O$25)","v":"86.1919999827348+51.6749265866155i"},{"$f":"COMPLEX(定数!P$15,計算!B19*定数!P$25)","v":"-85.0954239827348+51.6749265866155i"},{"$f":"COMPLEX(定数!Q$15,計算!B19*定数!Q$25)","v":"-57.0828842529623-28.5661061590104i"},{"$f":"COMPLEX(定数!R$15,計算!B19*定数!R$25)","v":"56.4766926529622-28.5661061590104i"},{"$f":"COMPLEX(定数!S$15,計算!B19*定数!S$25)","v":"-163.956966054068-60.6369856488089i"},{"$f":"COMPLEX(定数!T$15,計算!B19*定数!T$25)","v":"162.670209254068-60.6369856488089i"},{"$f":"COMPLEX(定数!U$15,計算!B19*定数!U$25)","v":"-101.548680976766-43.5483929402175i"},{"$f":"COMPLEX(定数!V$15,計算!B19*定数!V$25)","v":"100.624555376766-43.5483929402175i"},{"$f":"IMPRODUCT(定数!D$33,計算!G19)","v":"0"},{"$f":"COMPLEX(定数!O$16,計算!B19*定数!O$26)","v":"74.3664237452132+42.0827645702697i"},{"$f":"COMPLEX(定数!P$16,計算!B19*定数!P$26)","v":"-73.4733997452132+42.0827645702697i"},{"$f":"COMPLEX(定数!Q$16,計算!B19*定数!Q$26)","v":"-125.201328746793-60.2120129874965i"},{"$f":"COMPLEX(定数!R$16,計算!B19*定数!R$26)","v":"123.923590146793-60.2120129874965i"},{"$f":"COMPLEX(定数!S$16,計算!B19*定数!S$26)","v":"77.7704269443536+27.6394714154583i"},{"$f":"COMPLEX(定数!T$16,計算!B19*定数!T$26)","v":"-77.1838991443536+27.6394714154583i"},{"$f":"COMPLEX(定数!U$16,計算!B19*定数!U$26)","v":"124.65071095008+50.4501107185881i"},{"$f":"COMPLEX(定数!V$16,計算!B19*定数!V$26)","v":"-123.58012635008+50.4501107185881i"},{"$f":"IMPRODUCT(定数!D$34,計算!G19)","v":"0"},{"$f":"IMDIV(COMPLEX(定数!O$17,計算!B19*定数!O$27),計算!R19)","v":"-0.173380361926415-0.139446244954184i"},{"$f":"IMPRODUCT(COMPLEX(定数!P$17,計算!B19*定数!P$27),計算!R19)","v":"-0.690469739851073-0.365911034688886i"},{"$f":"IMDIV(COMPLEX(定数!Q$17,計算!B19*定数!Q$27),計算!S19)","v":"-0.0534568361143132-0.273141208156263i"},{"$f":"IMPRODUCT(COMPLEX(定数!R$17,計算!B19*定数!R$27),計算!S19)","v":"-1.19587863381812-0.00554897916735286i"},{"$f":"IMDIV(COMPLEX(定数!S$17,計算!B19*定数!S$27),計算!T19)","v":"-0.08785874370797+0.0859260694763611i"},{"$f":"IMPRODUCT(COMPLEX(定数!T$17,計算!B19*定数!T$27),計算!T19)","v":"0.602951932836097-0.19493759369468i"},{"$f":"IMDIV(COMPLEX(定数!U$17,計算!B19*定数!U$27),計算!U19)","v":"0.0812340495665195-0.198584499855798i"},{"$f":"IMPRODUCT(COMPLEX(定数!V$17,計算!B19*定数!V$27),計算!U19)","v":"-1.05668816339086+0.242614922768512i"},{"$f":"IMPRODUCT(定数!E$31,計算!G19)","v":"0"},{"$f":"IMDIV(COMPLEX(定数!O$18,計算!B19*定数!O$28),計算!R19)","v":"-0.233965336569165-0.165706605949874i"},{"$f":"IMPRODUCT(COMPLEX(定数!P$18,計算!B19*定数!P$28),計算!R19)","v":"-0.82677788992554-0.443788406549706i"},{"$f":"IMDIV(COMPLEX(定数!Q$18,計算!B19*定数!Q$28),計算!S19)","v":"-0.0349710700482121-0.131650374237423i"},{"$f":"IMPRODUCT(COMPLEX(定数!R$18,計算!B19*定数!R$28),計算!S19)","v":"-0.557778597388342-0.00469071563559036i"},{"$f":"IMDIV(COMPLEX(定数!S$18,計算!B19*定数!S$28),計算!T19)","v":"0.167895735355809-0.202005899217382i"},{"$f":"IMPRODUCT(COMPLEX(定数!T$18,計算!B19*定数!T$28),計算!T19)","v":"-1.29772265997099+0.414052195695145i"},{"$f":"IMDIV(COMPLEX(定数!U$18,計算!B19*定数!U$28),計算!U19)","v":"-0.0466913701309827+0.181973474480385i"},{"$f":"IMPRODUCT(COMPLEX(定数!V$18,計算!B19*定数!V$28),計算!U19)","v":"0.888529163964442-0.198791077453764i"},{"$f":"IMPRODUCT(定数!E$32,計算!G19)","v":"0"},{"$f":"IMDIV(COMPLEX(定数!O$19,計算!B19*定数!O$29),計算!R19)","v":"-0.233970445836575-0.165702742863868i"},{"$f":"IMPRODUCT(COMPLEX(定数!P$19,計算!B19*定数!P$29),計算!R19)","v":"-0.826760979448374-0.443781449687963i"},{"$f":"IMDIV(COMPLEX(定数!Q$19,計算!B19*定数!Q$29),計算!S19)","v":"0.0349845630243139+0.131652814915549i"},{"$f":"IMPRODUCT(COMPLEX(定数!R$19,計算!B19*定数!R$29),計算!S19)","v":"0.557762953203719+0.00469361707601529i"},{"$f":"IMDIV(COMPLEX(定数!S$19,計算!B19*定数!S$29),計算!T19)","v":"-0.167887659444031+0.201984300644421i"},{"$f":"IMPRODUCT(COMPLEX(定数!T$19,計算!B19*定数!T$29),計算!T19)","v":"1.29761449610212-0.414019219540927i"},{"$f":"IMDIV(COMPLEX(定数!U$19,計算!B19*定数!U$29),計算!U19)","v":"-0.0467117075542436+0.182004195359801i"},{"$f":"IMPRODUCT(COMPLEX(定数!V$19,計算!B19*定数!V$29),計算!U19)","v":"0.888714963518914-0.198835195355303i"},{"$f":"IMPRODUCT(定数!E$33,計算!G19)","v":"0"},{"$f":"IMDIV(COMPLEX(定数!O$20,計算!B19*定数!O$30),計算!R19)","v":"-0.173380765720945-0.139442495434508i"},{"$f":"IMPRODUCT(COMPLEX(定数!P$20,計算!B19*定数!P$30),計算!R19)","v":"-0.690452311360503-0.365902822017326i"},{"$f":"IMDIV(COMPLEX(定数!Q$20,計算!B19*定数!Q$30),計算!S19)","v":"0.0534555774555998+0.2731546618906i"},{"$f":"IMPRODUCT(COMPLEX(定数!R$20,計算!B19*定数!R$30),計算!S19)","v":"1.19594540655455+0.0055484005953107i"},{"$f":"IMDIV(COMPLEX(定数!S$20,計算!B19*定数!S$30),計算!T19)","v":"0.0878538824429719-0.085891674585955i"},{"$f":"IMPRODUCT(COMPLEX(定数!T$20,計算!B19*定数!T$30),計算!T19)","v":"-0.602804490130477+0.194894243535145i"},{"$f":"IMDIV(COMPLEX(定数!U$20,計算!B19*定数!U$30),計算!U19)","v":"0.0812527960437995-0.198574350644711i"},{"$f":"IMPRODUCT(COMPLEX(定数!V$20,計算!B19*定数!V$30),計算!U19)","v":"-1.0566999852415+0.242621939960133i"},{"$f":"IMPRODUCT(定数!E$34,計算!G19)","v":"0"},"-0.505807216394572+0.852101464130387i","1.62212057428266-0.10832238592016i","-0.915080628397053+1.32742107184679i","-0.951607291599546+0.166735611912965i","0.626943733874995-0.726529890713583i","1.56030509829933-0.204558544330134i","-0.967859080751816+1.22607107085361i","-0.0500481460657786-0.00569826884144576i","2.53249293569159+4.3665974289066i","-88.3296604413444-45.920854081019i","90.9901982955284-38.5633808748763i","254.609452309752+95.4453931230398i","-254.265909610664+90.8678504109395i","-246.586752165827-106.53749357086i","247.384193160629-99.2062262718948i","7.50164870151001+5.60740377330228i","2.5333922072986+4.3681479791707i","-202.494252103638-103.052544664345i","203.943708597171-95.692458867459i","-73.3199798879727-25.8340245752379i","71.0892961891326-30.4131927428964i","-246.605045743367-106.545734298186i","247.40339782455-99.2118637140242i","4.01929218078499+3.07737946162883i","0.000459347553501743+0.000792020308999497i","-250.391140204094-120.419782767193i","247.836412371348-120.418448257132i","155.554753532093+55.286205862257i","-154.381848866271+55.2853755803608i","0.00801177625299943+0.000445997424598943i","-0.00744760408699108+0.00177575421759713i","3.48210273187735+2.52992422334173i","-0.896989127587501-0.288706291436883i","0.242892166104143-0.065723559685192i","-1.53963952830355+0.0969952092379091i","-0.276099415318716-0.0178633132687249i","0.812963529429824-0.233478659610536i","0.38028523310542-0.016472247366187i","-1.39546692798287+0.320227254324969i","-0.00788276348595174-0.00796699394987522i","-1.08631808709437-0.32824179779706i","0.36249865098882+0.111802037088632i","-0.991838185081257+0.154244897105892i","-0.082376577246023-0.320683160146212i","-1.03064875595372+0.347958103548749i","0.352262639442197+0.392666727893553i","0.458915612580342-0.072313590012931i","-0.0107652905494367-0.00962650580599415i","-1.08630046918029-0.328228533344297i","0.432462153450438+0.375098406402277i","0.123703818060939+0.163639547001889i","-0.418164189947976+0.08331156775323i","1.56468879669513-0.480119445660381i","0.352249483807675+0.392690376035875i","0.459101203501951-0.072347704666635i","-0.010765568271701-0.00962634157968074i","-0.896968708367913-0.288695838157302i","0.349804828520554+0.480566184448674i","0.852189119756+0.108096556118762i","-0.100386548243135-0.189677421933849i","-0.39279536451842+0.156350533512627i","0.380303842629076-0.016468031149388i","-1.39547454347211+0.320238395604049i","-0.0078828050608905-0.00796680859429659i","2.21046986678468+19.4256508014838i","-16.2361492011506-10.5729394233748i","-8.97463814782173-52.6044965163263i","40.5453679287642+34.1459385113685i","6.91430465484011+52.2539249209708i","-41.6562821916209-31.668668116069i","0.192587356699702-1.82816815440931i","-16.6483743147259+10.5729394225637i","2.43483461070969-19.4256508014225i","41.6616700170638-34.1459385093255i","-9.69923747050314+52.6044965158461i","-42.7651449194912+31.668668113977i","7.5863346669979-52.2539249206216i","1.70651348689473-0.728236436506797i","-114.133226377955-57.1153843863607i","112.921200276029-57.1153843898178i","-328.019842348645-121.313309738729i","325.445493964629-121.313309728732i","0.069267764764021+0.0295900453569971i","-0.0686398485320012+0.0295900356851888i","-3.48502030704972-2.53201546426071i","-250.375118831334-120.411453570481i","247.819908426076-120.411453570422i","155.508572069127+55.2688938268129i","-154.335729715683+55.2688938266415i","0.0527380692521498+0.0197699354973286i","-0.0523185381183893+0.0197699356636191i","3.48074207103466+2.52890714362801i","-17.7429927164872+4.61159774213815i","6.25268824660339-16.6246502852293i","46.9521129017849-18.6184126617114i","-23.0743961294952+44.1519518974434i","-47.1225285253138+16.043412343581i","20.4954296634083-44.3607527259381i","1.73308772121315-0.168505979721136i","-21.193412131877+6.13268505010866i","8.02947723405287-20.1489764321008i","56.3835733446165-23.7389322980098i","-28.8341003597552+54.3094789866266i","-56.4992683393832+20.75760564287i","25.8520104339886-54.3465452231698i","2.0820888132751-0.240573863561223i","-21.1230150755316+6.39601597785866i","9.14471866986066-20.1392718395067i","56.0465988130033-23.3348886091535i","-26.2378941569149+53.4806033109949i","-56.4981079948167+20.7576386113831i","25.8513692497992-54.3457593612418i","2.08204881068704-0.240583505295478i","-17.635629585368+5.15784562521153i","8.64426411548149-16.613177733726i","47.1266181330302-18.7899650380445i","-24.2794070830743+44.5408083366418i","-47.1213056434635+16.0432169463257i","20.4947209159993-44.3597539023691i","1.73304522150552-0.168508763008436i","0.536077669135199-0.8530373491293i","-20.826235788974-104.852645135429i","83.3261969248827+65.7790371906405i","6.91629744021431+52.2652902407137i","-41.6658190564612-31.6750051326256i","0.22624407548476-2.48720540608845i","1.01405691749176+0.077307655190701i","83.8350257597197-67.9416356886355i","-19.5291157910198+105.367590599965i","-42.7745768296493+31.6754886072599i","7.58787754361396-52.2653718321216i","2.31924763289475-0.988366764815194i","-0.590960372583111+0.796160032540361i","2.7238023426442-0.300155433619469i","-1.85500050329782+1.99120259475444i","-0.000589112849648288+0.0000355493455006091i","0.00037719975991746-0.000448019797442562i","0.0332978256886598+0.00552159411262025i","3.991348123064+7.76881172034399i","873.623059340933+308.094440782937i","-858.545299948755+330.45317312948i","-0.0990416788488132-0.0422653274417788i","0.0960696116325067-0.0469839029817547i","11.1528259615311+7.92081651762173i","-0.56114753142754+0.226882893189899i","93.8963219085017-36.5051490676043i","-46.8050311584793+88.0363611658952i","-47.1328172110329+16.0467598468466i","20.5000562289149-44.3704414315021i","2.34935417082466-0.22409255336145i","0.387609233345709+0.348545102602802i","112.26948021758-46.8044720125145i","-55.936472146397+107.885990069839i","-56.5115356378583+20.7619718983661i","25.8572570196426-54.3583535387088i","2.8216455538575-0.327757521709484i","1.75410609980646+0.457820515702i","111.661717810174-47.0965596625814i","-52.6853341419904+107.405418596459i","-56.5103244602392+20.7621574959431i","25.8564713042316-54.3576354658686i","2.82071548885859-0.336924214746255i","2.32877642578125+0.475688063231498i","93.6144319214833-38.1323470803413i","-46.7231932476418+89.2247259578546i","-47.1315116614277+16.0468824345493i","20.4990622542926-44.3696005516952i","2.34875287138685-0.242877019074827i","-0.00700526560179782-0.0434794116590069i","0.0336210868540974+0.0279610866316915i","6.91466520563922+52.2529765491124i","-41.6555058411157-31.6682363520151i","0.096351135680644-0.91462445430907i","0.0345437494529932-0.0279610856590011i","-0.00759861953670082+0.0434794114329975i","-42.764348443263+31.6682363507477i","7.58668605444785-52.252976548901i","0.85376100247807-0.36433397492084i","-9.721337451731-104.723071473627i","74.862831484805+72.848913631191i","0.00007458655922672+0.0122418854891213i","-0.00922646484049765-0.00787492091331645i","0.280516746040954-1.52758016932355i","77.0851240853956-72.8489136278713i","-11.2672394166872+104.723071473127i","-0.00948624746766599+0.00787491897423858i","0.00024170015764536-0.0122418853211355i","1.39017804976833-0.721364040421793i","120.624276709175-94.8734330914593i","-29.3677413036008+149.357798083671i","-47.1363537109814+16.0533311054602i","20.4974143840019-44.3773657728611i","2.96578399116286-0.944291821885265i","56.9994422935519-45.4352029346415i","-15.0684724226907+71.2215017410719i","-56.5051139163082+20.7622258921568i","25.8528964852545-54.353692714331i","2.03137180228998-0.532689910031096i","-56.905495757799+45.3970128346131i","15.0229698345248-71.131586504735i","-56.490079276226+20.7526870512426i","25.8504427502599-54.3362725554445i","0.0519404349481301+0.291972817076108i","-120.55294645917+94.8480122398787i","29.3312033342782-149.292202828079i","-47.1056743070009+16.0330560035724i","20.4926760699447-44.3412069116321i","-1.23180526182528+0.775727448624523i","0.000235474050300902-0.000209103181007898i","6.9172020295317+52.238913659507i","-41.6472257353484-31.6569127413642i","0.096175017679965-0.913748788053872i","0.00029956997847606+0.000111657658563899i","-42.7507645418422+31.6633967403084i","7.58093069102412-52.2400433357877i","0.852906046889109-0.364048515398075i","-0.170237400657399+0.374552794472791i","8.29914263348836-33.0892441639208i","17.9047556670759+28.3007369275152i","-0.279508062576409+0.53066846844531i","-0.402045086990201+0.0853111055350126i","31.4286896077566-13.9914422419122i","-11.3301968798768+31.8146143284998i","-0.59200488322865+0.114193253308355i","-0.752087423161604+0.646674818631159i","-0.306091747807808-0.107661941727887i","0.283752982549533-0.144720006989424i","0.0189941086388456+0.00711087764913346i","-1.5817103637139+0.190153037872903i","-34.1664128298605+12.9915558486204i","16.2545176170664-33.2123586817671i","0.62563403398086-0.07500478968081i","1.582167207528-0.189712954425701i","-78.7959124830208+28.5217818867701i","35.427690880271-75.4531740899107i","1.45562220742221-0.165654958686609i","0.000669590011700194+0.000349076346992661i","-94.2174575588451+32.086285549361i","40.9735291885801-88.701036527759i","1.73244311025442-0.168588747524596i","6.91311658176078+52.2448734229335i","-41.648327889045-31.6641385256128i","0.0962681812619148-0.913831463373667i","-42.7580531511633+31.6625691470989i","7.5868859957078-52.2444702302943i","0.853024520393977-0.36400431277629i","10.0159452223725-42.3718025954916i","23.0531823172547+36.3433911754727i","-0.346890319004037+0.678792082473084i","39.9085036020519-18.1170415994603i","-14.741485796439+40.7232551744628i","-0.751035707393362+0.147883772877099i","12.8598395044793-18.6709864482992i","3.39123612680677+22.6665877253207i","-0.27856100974409+0.26279038385478i","22.2665537519879-5.53672986573645i","-12.6185188184853+19.4807530517952i","-0.395527080502967-0.000130166838728978i","-112.97493427339+41.5060680144475i","51.6965463465598-108.668879231943i","2.08143687821884-0.240485623980454i","-94.2342997622682+32.0822201611327i","40.9887786928554-88.7096758189693i","1.73270790579872-0.168450591217782i","-0.170150506983198+0.831874545660298i","-0.000341394632718192-0.00148733924964506i","-0.821423540176979+0.283281683217702i","0.0000321176295170478-0.003021801465111i","0.576359752306299-0.937638918919994i","-0.00417329135382999+0.00272984276216193i","1.1040562807367-0.132840219381798i","-0.00164114643403102+0.00446719655793701i","-0.47787744360977+0.331708138507899i","0.015384105915361-0.000582907769872021i","-0.580489297496001-0.0480034359199983i","0.00390056477422401-0.00278977262143975i","-0.714535958754716+0.699370188947404i","-0.0169218758395313-0.0040882954127636i","-3.9076686594126+0.118884152909303i","0.00692519188041008-0.010816900437658i"]
[{"$f":"COMPLEX(定数!O$13,計算!B20*定数!O$23)","v":"74.3688188913563+44.8891668808807i"},{"$f":"COMPLEX(定数!P$13,計算!B20*定数!P$23)","v":"-73.4757772913563+44.8891668808807i"},{"$f":"COMPLEX(定数!Q$13,計算!B20*定数!Q$23)","v":"125.193786513619+64.2227793994836i"},{"$f":"COMPLEX(定数!R$13,計算!B20*定数!R$23)","v":"-123.916114913619+64.2227793994836i"},{"$f":"COMPLEX(定数!S$13,計算!B20*定数!S$23)","v":"-77.7867441135484-29.4902659575738i"},{"$f":"COMPLEX(定数!T$13,計算!B20*定数!T$23)","v":"77.2000539135484-29.4902659575738i"},{"$f":"COMPLEX(定数!U$13,計算!B20*定数!U$23)","v":"124.646605989444+53.8138334509492i"},{"$f":"COMPLEX(定数!V$13,計算!B20*定数!V$23)","v":"-123.576013789444+53.8138334509492i"},{"$f":"IMPRODUCT(定数!D$31,計算!G20)","v":"-3.63695224120061-0.933810620281928i"},{"$f":"COMPLEX(定数!O$14,計算!B20*定数!O$24)","v":"86.1948356167649+55.1205349254856i"},{"$f":"COMPLEX(定数!P$14,計算!B20*定数!P$24)","v":"-85.0982474167649+55.1205349254856i"},{"$f":"COMPLEX(定数!Q$14,計算!B20*定数!Q$24)","v":"57.0863694248256+30.4706238171383i"},{"$f":"COMPLEX(定数!R$14,計算!B20*定数!R$24)","v":"-56.4801756248256+30.4706238171383i"},{"$f":"COMPLEX(定数!S$14,計算!B20*定数!S$24)","v":"163.969671876329+64.6851816169348i"},{"$f":"COMPLEX(定数!T$14,計算!B20*定数!T$24)","v":"-162.682801076329+64.6851816169348i"},{"$f":"COMPLEX(定数!U$14,計算!B20*定数!U$24)","v":"-101.525845343051-46.442490919739i"},{"$f":"COMPLEX(定数!V$14,計算!B20*定数!V$24)","v":"100.601901343051-46.442490919739i"},{"$f":"IMPRODUCT(定数!D$32,計算!G20)","v":"3.63695224120061+0.933810620281928i"},{"$f":"COMPLEX(定数!O$15,計算!B20*定数!O$25)","v":"86.1919999827348+55.1199216923899i"},{"$f":"COMPLEX(定数!P$15,計算!B20*定数!P$25)","v":"-85.0954239827348+55.1199216923899i"},{"$f":"COMPLEX(定数!Q$15,計算!B20*定数!Q$25)","v":"-57.0828842529623-30.4705132362778i"},{"$f":"COMPLEX(定数!R$15,計算!B20*定数!R$25)","v":"56.4766926529622-30.4705132362778i"},{"$f":"COMPLEX(定数!S$15,計算!B20*定数!S$25)","v":"-163.956966054068-64.6794513587295i"},{"$f":"COMPLEX(定数!T$15,計算!B20*定数!T$25)","v":"162.670209254068-64.6794513587295i"},{"$f":"COMPLEX(定数!U$15,計算!B20*定数!U$25)","v":"-101.548680976766-46.451619136232i"},{"$f":"COMPLEX(定数!V$15,計算!B20*定数!V$25)","v":"100.624555376766-46.451619136232i"},{"$f":"IMPRODUCT(定数!D$33,計算!G20)","v":"0"},{"$f":"COMPLEX(定数!O$16,計算!B20*定数!O$26)","v":"74.3664237452132+44.8882822082877i"},{"$f":"COMPLEX(定数!P$16,計算!B20*定数!P$26)","v":"-73.4733997452132+44.8882822082877i"},{"$f":"COMPLEX(定数!Q$16,計算!B20*定数!Q$26)","v":"-125.201328746793-64.2261471866629i"},{"$f":"COMPLEX(定数!R$16,計算!B20*定数!R$26)","v":"123.923590146793-64.2261471866629i"},{"$f":"COMPLEX(定数!S$16,計算!B20*定数!S$26)","v":"77.7704269443536+29.4821028431555i"},{"$f":"COMPLEX(定数!T$16,計算!B20*定数!T$26)","v":"-77.1838991443536+29.4821028431555i"},{"$f":"COMPLEX(定数!U$16,計算!B20*定数!U$26)","v":"124.65071095008+53.8134514331606i"},{"$f":"COMPLEX(定数!V$16,計算!B20*定数!V$26)","v":"-123.58012635008+53.8134514331606i"},{"$f":"IMPRODUCT(定数!D$34,計算!G20)","v":"0"},{"$f":"IMDIV(COMPLEX(定数!O$17,計算!B20*定数!O$27),計算!R20)","v":"-0.231739472214577-0.014499113341391i"},{"$f":"IMPRODUCT(COMPLEX(定数!P$17,計算!B20*定数!P$27),計算!R20)","v":"-0.322124749542418-0.715040135115333i"},{"$f":"IMDIV(COMPLEX(定数!Q$17,計算!B20*定数!Q$27),計算!S20)","v":"-0.207803613512132-0.208093466817483i"},{"$f":"IMPRODUCT(COMPLEX(定数!R$17,計算!B20*定数!R$27),計算!S20)","v":"-0.967385451687188-0.709466958819701i"},{"$f":"IMDIV(COMPLEX(定数!S$17,計算!B20*定数!S$27),計算!T20)","v":"-0.0238435889014255+0.128203490529513i"},{"$f":"IMPRODUCT(COMPLEX(定数!T$17,計算!B20*定数!T$27),計算!T20)","v":"0.607841629641172+0.184343308735286i"},{"$f":"IMDIV(COMPLEX(定数!U$17,計算!B20*定数!U$27),計算!U20)","v":"-0.0475761074363311-0.223842411819597i"},{"$f":"IMPRODUCT(COMPLEX(定数!V$17,計算!B20*定数!V$27),計算!U20)","v":"-1.00662070107581-0.410488460863415i"},{"$f":"IMPRODUCT(定数!E$31,計算!G20)","v":"0"},{"$f":"IMDIV(COMPLEX(定数!O$18,計算!B20*定数!O$28),計算!R20)","v":"-0.298066136168208-0.000719301784861361i"},{"$f":"IMPRODUCT(COMPLEX(定数!P$18,計算!B20*定数!P$28),計算!R20)","v":"-0.382037646209795-0.860931209150933i"},{"$f":"IMDIV(COMPLEX(定数!Q$18,計算!B20*定数!Q$28),計算!S20)","v":"-0.107630956275568-0.0948743966895724i"},{"$f":"IMPRODUCT(COMPLEX(定数!R$18,計算!B20*定数!R$28),計算!S20)","v":"-0.449939803809907-0.332752034680505i"},{"$f":"IMDIV(COMPLEX(定数!S$18,計算!B20*定数!S$28),計算!T20)","v":"0.0241623720851395-0.278502059169965i"},{"$f":"IMPRODUCT(COMPLEX(定数!T$18,計算!B20*定数!T$28),計算!T20)","v":"-1.30512807746967-0.401641482269784i"},{"$f":"IMDIV(COMPLEX(定数!U$18,計算!B20*定数!U$28),計算!U20)","v":"0.0663647364639475+0.188700434641672i"},{"$f":"IMPRODUCT(COMPLEX(定数!V$18,計算!B20*定数!V$28),計算!U20)","v":"0.843429689503229+0.349779972805448i"},{"$f":"IMPRODUCT(定数!E$32,計算!G20)","v":"0"},{"$f":"IMDIV(COMPLEX(定数!O$19,計算!B20*定数!O$29),計算!R20)","v":"-0.298067766306045-0.000713041453244145i"},{"$f":"IMPRODUCT(COMPLEX(定数!P$19,計算!B20*定数!P$29),計算!R20)","v":"-0.382028449634398-0.860915378603924i"},{"$f":"IMDIV(COMPLEX(定数!Q$19,計算!B20*定数!Q$29),計算!S20)","v":"0.107643377984668+0.0948685876400717i"},{"$f":"IMPRODUCT(COMPLEX(定数!R$19,計算!B20*定数!R$29),計算!S20)","v":"0.449925358563661+0.332745362324907i"},{"$f":"IMDIV(COMPLEX(定数!S$19,計算!B20*定数!S$29),計算!T20)","v":"-0.0241679367116093+0.278478130987965i"},{"$f":"IMPRODUCT(COMPLEX(定数!T$19,計算!B20*定数!T$29),計算!T20)","v":"1.30502016521064+0.401606645537963i"},{"$f":"IMDIV(COMPLEX(定数!U$19,計算!B20*定数!U$29),計算!U20)","v":"0.0663657203446228+0.18873966072135i"},{"$f":"IMPRODUCT(COMPLEX(定数!V$19,計算!B20*定数!V$29),計算!U20)","v":"0.84360752454205+0.349850858860331i"},{"$f":"IMPRODUCT(定数!E$33,計算!G20)","v":"0"},{"$f":"IMDIV(COMPLEX(定数!O$20,計算!B20*定数!O$30),計算!R20)","v":"-0.231737355028822-0.0144957294059794i"},{"$f":"IMPRODUCT(COMPLEX(定数!P$20,計算!B20*定数!P$30),計算!R20)","v":"-0.322115951211691-0.715022944967553i"},{"$f":"IMDIV(COMPLEX(定数!Q$20,計算!B20*定数!Q$30),計算!S20)","v":"0.207810690004776+0.208106009540803i"},{"$f":"IMPRODUCT(COMPLEX(定数!R$20,計算!B20*定数!R$30),計算!S20)","v":"0.967440001098553+0.7095057931378i"},{"$f":"IMDIV(COMPLEX(定数!S$20,計算!B20*定数!S$30),計算!T20)","v":"0.0238590503700464-0.128170123892095i"},{"$f":"IMPRODUCT(COMPLEX(定数!T$20,計算!B20*定数!T$30),計算!T20)","v":"-0.607695436318531-0.184294402198826i"},{"$f":"IMDIV(COMPLEX(定数!U$20,計算!B20*定数!U$30),計算!U20)","v":"-0.0475548869405557-0.223844520492858i"},{"$f":"IMPRODUCT(COMPLEX(定数!V$20,計算!B20*定数!V$30),計算!U20)","v":"-1.00663443796042-0.41048924455974i"},{"$f":"IMPRODUCT(定数!E$34,計算!G20)","v":"0"},"-0.457113682989502+0.879516714870575i","1.61593046671994-0.111807517087968i","-0.83922484710165+1.37012910962681i","-0.942079146853562+0.172100112269244i","0.585426016804355-0.749905040226418i","1.5486155534142-0.211139948094745i","-0.89779496848494+1.26551830483654i","-0.0413999231769694+0.0124325954593337i","2.7820231462611+4.5070869931595i","-88.3613816728014-48.9630973547384i","91.3789215562144-41.3689070658872i","254.658279326371+101.778947246974i","-254.478667321156+97.054128081882i","-246.646655286275-113.603835499698i","247.743236989753-106.036694258832i","7.89070312621682+2.14417100976349i","2.7830110244183+4.5086874303516i","-202.525984599097-109.903560511312i","204.332569890952-102.306673575025i","-73.2711355331987-27.585775429867i","70.8764629297659-32.3122723474251i","-246.664970135023-113.612612769503i","247.762569147795-106.042784486142i","4.2536258659062+1.21037025596927i","0.000504607735592799+0.000817502527198144i","-250.391145957741-128.447764812094i","247.836482878584-128.446387365916i","155.554762388414+58.9719475740477i","-154.381887456599+58.9710905789168i","0.0080009109319974+0.000482288916501261i","-0.00738248015198906+0.00185482889530419i","3.63684208355783+0.93380377278761i","-0.440808245715023-0.517849138906893i","0.16829236984368-0.210574122828292i","-1.1817326320767-0.404121978265994i","-0.244655812211486+0.154426567388066i","0.754380903969619+0.01904886867281i","0.314360585613482-0.250318319523293i","-1.23302412656684-0.130235147828103i","-0.00977425795744747+0.00228086093153558i","-0.518920393430917-0.599105862942164i","0.374103617602736-0.12703808963362i","-0.701069847675896+0.075033399147125i","-0.256763311100073-0.227882482883569i","-1.13009299859454-0.624741682124345i","0.52810646422163+0.12688068805395i","0.574917122600221+0.726342338654945i","-0.0123488579271243+0.00367595665247169i","-0.518906435947532-0.599085736978438i","0.589379886100233+0.0626945961737676i","0.19880252410808+0.740538283477685i","-0.305094078211911+0.329103885549135i","1.48005150375664+0.178501558273819i","0.528108650753021+0.126909875099498i","0.57510141667375+0.726420908173327i","-0.0123488475825351+0.00367623609656397i","-0.440795503361961-0.517832264016194i","0.583902873786206+0.205620122042948i","0.753099233932343+1.01485071275635i","-0.196950596007801-0.101944223466462i","-0.461159939075929-0.349589235616862i","0.31437781291852-0.250325221589074i","-1.23303168022053-0.130235572781569i","-0.00977412823501982+0.00228097470408765i","2.22973972336432+18.7834769170599i","-16.2554190577306-9.34058478036199i","-9.03036304784813-50.5093849944251i","40.6010928287916+30.8202564557033i","6.96821306585198+50.3180553523308i","-41.710190602634-28.3604480936573i","-0.454205251104649-1.46107270792263i","-16.6291044581466+9.34058477960117i","2.41556475413002-18.7834769170022i","41.6059451170383-30.8202564537866i","-9.64351257047728+50.5093849939746i","-42.7112365084799+28.3604480916946i","7.53242625598625-50.3180553520034i","1.126993061137-1.05508998421273i","-114.13322637795-60.9230766790065i","112.921200276025-60.9230766822476i","-328.01984234866-129.400863720669i","325.445493964644-129.400863711296i","0.0692677647760149+0.031562714426002i","-0.0686398485459847+0.0315627053579988i","-3.6398791973908-0.93456213505524i","-250.375118831333-128.438883808509i","247.819908426074-128.438883808453i","155.508572069121+58.9534867485876i","-154.335729715678+58.9534867484262i","0.052738069258342+0.0210879312099941i","-0.0523185381225009+0.0210879313657093i","3.63541085541271+0.933414859679776i","-11.9989677791671-4.70453475662385i","9.6100755767495-7.43313535857829i","34.0558311316287+8.11420623977302i","-29.6528004805998+17.290117579352i","-33.1995382753067-9.86677599609639i","28.1444931128166-18.410188404794i","1.0333910160492+0.12080088218307i","-13.85107691499-5.24261213728145i","11.8057071123099-8.22491682610846i","39.7980064369432+8.70522356534327i","-36.3947770192157+19.8081233305733i","-38.6265359160809-10.7448566360664i","34.6294886920795-20.8720020091445i","1.20458142022541+0.131356397362096i","-13.6353805577728-5.05267514577781i","12.7051677333139-7.55919838727955i","39.7484746681803+9.26180274725114i","-33.7834813676479+20.6108556720537i","-38.625366806826-10.7443636847073i","34.628555153082-20.8713727235422i","1.20454446588031+0.131348721385644i","-11.5829877599572-4.28817891846152i","11.5445596936596-6.01396408425254i","34.1024861017313+7.8575260757314i","-30.8673661022523+16.9209985998663i","-33.1984982268846-9.86642352955705i","28.1435404666439-18.4096747681906i","1.03335898069999+0.120795422399988i","0.490304763997901-0.88547342609959i","-20.920163001693-100.674620575545i","83.3229023001287+59.0480013950645i","6.97021551156091+50.3290028299855i","-41.7197134140218-28.3660447060088i","-0.646283610680913-1.9758343985995i","1.01820514848113+0.0802472182190002i","83.72227808422-61.2928310075344i","-19.4075572559507+101.209146438147i","-42.7206565292737+28.3665465647286i","7.53395509414283-50.3290875239062i","1.53206259473788-1.43303208301335i","-0.548239432309386+0.826433394101529i","2.70769638174193-0.311568608863342i","-1.74815509075486+2.06691651360979i","-0.000587205314554835+0.0000369010857977114i","0.000353159582104556-0.000465055403609751i","0.0282212417259017-0.00687584819507263i","4.40821273311099+8.06421470027101i","873.465899759105+328.717960243588i","-857.502718232442+351.926865877205i","-0.099023065422895-0.0450929502162461i","0.0958350311621031-0.049990948044447i","11.584433873515+2.8365783377372i","-0.8562163333849-0.0959991553775694i","68.011178121388+17.1141562793114i","-60.3527376648713+33.8667258439591i","-33.2067577353965-9.86909574896849i","28.1509185325732-18.4141071380688i","1.40436445302137+0.171065613810537i","-0.120669175009199+0.347868978746579i","78.9359506533136+18.585064714674i","-71.4446492415907+39.2722438408037i","-38.634862800138-10.7474240059979i","34.636818437718-20.8765920485981i","1.63152341520899+0.184071519557716i","1.0540149669805+0.939459693381649i","78.2432002343443+18.6945564058836i","-68.0636990008122+39.9611891382461i","-38.6335600239546-10.7468274820578i","34.6357203922608-20.8759295303079i","1.62409326390726+0.180186681239805i","1.65041480159532+1.20765502814694i","66.8017620893106+15.8597172346607i","-59.9795329408542+33.3656654714857i","-33.2054580573139-9.86851414618261i","28.1496253505384-18.4135470877635i","1.38973014545856+0.162170290738956i","-0.00705115610149676-0.0417646300800101i","0.0336669773430032+0.0252117500018016i","6.96857273005799+50.3171328806178i","-41.709413365535-28.3600766703131i","-0.227236454703299-0.73096837786518i","0.034497858970397-0.0252117490954049i","-0.00755272905839988+0.0417646298800065i","-42.7104409188443+28.3600766691239i","7.53277853002917-50.3171328804193i","0.56382935700938-0.527857199218761i","-9.83540236811667-100.237553491991i","74.9768964011883+66.238451793181i","0.000087508896741823+0.0117589293751138i","-0.00923938718026853-0.00710083371343023i","-0.283549272958074-1.25555754140849i","76.9710591690366-66.2384517901249i","-11.1531745003049+100.237553491529i","-0.00947332513211093+0.00710083189485256i","0.000228777820474056-0.0117589292181977i","0.875420471753372-0.957984687938198i","140.273891605223-32.2111313727774i","-79.524988313425+118.621061030141i","-33.2155506249705-9.8639253319308i","28.1522432631529-18.424153362851i","2.24587948042283-0.565136897246227i","65.1816822848402-16.1837183629022i","-37.9209582421223+55.2476701487704i","-38.6335357793268-10.7432716785322i","34.6327554774506-20.8780905735926i","1.40390652627371-0.236059327889925i","-65.1138037629877+16.1996683360876i","37.8610551203328-55.2127345990455i","-38.6169040521236-10.7454120580291i","34.6244322169761-20.8637503704573i","-0.19860101691666+0.367494632491368i","-140.225612618749+32.2261518765582i","79.4802168224178-118.598689221543i","-33.1812477859537-9.86879295551645i","28.1350470422412-18.3944162616161i","-1.21199178401911+0.686036464958105i","0.0001850397096715-0.0001914604725297i","6.97204178760971+50.3075441754203i","-41.7044846674749-28.3514890752066i","-0.227109043429009-0.730298848293834i","0.00025441052780003+0.0000914445084574042i","-42.7002241886862+28.3588786886289i","7.5272552712119-50.3088102288606i","0.563282808803662-0.527440060817498i","-0.257330638423198+0.452268272118602i","9.81156799312476-22.1621629934576i","10.2656287696045+21.17765509217i","-0.091779603253331+0.35372435145753i","-0.5209663847958+0.0369730519459921i","23.9687942327755-4.75888045187594i","-11.5143964329179+20.7475460854708i","-0.340687201288758+0.133384200992382i","-0.722987622948467+0.679619069774964i","-0.209591529306752-0.118447598672263i","0.219292121702535-0.0809880291454933i","0.0160875146799598-0.000334629972059673i","-1.7941723265191-0.751672201682098i","-23.0550847287863-6.41462821602493i","21.6496135275246-12.0501926521186i","0.36071081287547+0.046108223371378i","1.7941844418322+0.752007846727302i","-54.1830175754846-15.0626724933492i","47.5913971849338-29.6896486476861i","0.84349736242575+0.085093199990171i","0.000341839469101046+0.000420127045003937i","-66.3884586869194-19.7238515870748i","56.2754866230186-36.8179534826466i","1.03310598118933+0.120674080732698i","6.97007779950122+50.3101656915755i","-41.7049454530943-28.3548490922773i","-0.227085234759812-0.730342559995352i","-42.7034700683283+28.3581539130183i","7.53017352423737-50.3106381063915i","0.563333203080052-0.527436251003003i","12.2567115426525-28.0781774354228i","12.7691167397273+27.3144762844777i","-0.115628357140527+0.448029363500046i","30.2705861661321-6.01154328568191i","-15.2448083075818+26.2555144943991i","-0.432717148512756+0.165985360518019i","7.56941131696445-9.5257037344596i","1.33416048516268+12.5084463618446i","-0.0803462194684516+0.158121068709838i","12.2055216805464-1.53827093277296i","-7.87125464211498+10.0139745181642i","-0.180186003556584+0.0497904160675655i","-77.2387664910044-21.4813787956164i","69.2444672161027-41.7373206746212i","1.20422707021752+0.131261298674378i","-66.3932772851922-19.7284536151122i","56.2823844700497-36.8180697274262i","1.0331884941775+0.120732761416528i","0.00024704203080006+1.3828501647115i","-0.000031053796168995+0.00273916309164002i","-1.26133254621246+0.6330464440558i","-0.00398555248787302-0.0000957120349669438i","0.677235873758301-1.1177548802896i","-0.00159499736177299-0.000621810600734962i","1.3153056355387-0.0967105186193002i","0.00391413311821598+0.00226771928918798i","-0.40532916853804+0.3621805180936i","0.0092030193955971-0.00243536201184i","-0.544790639842771+0.00183803342100042i","-0.00196262842085002-0.003017246309929i","-0.692638928995599+0.733001864854477i","-0.0149103098976713+0.00244738134469747i","-4.1651772918459-1.8163686462906i","-0.00503889460409002-0.010934927545523i"]
[{"$f":"COMPLEX(定数!O$13,計算!B21*定数!O$23)","v":"74.3688188913563+47.6947398109357i"},{"$f":"COMPLEX(定数!P$13,計算!B21*定数!P$23)","v":"-73.4757772913563+47.6947398109357i"},{"$f":"COMPLEX(定数!Q$13,計算!B21*定数!Q$23)","v":"125.193786513619+68.2367031119513i"},{"$f":"COMPLEX(定数!R$13,計算!B21*定数!R$23)","v":"-123.916114913619+68.2367031119513i"},{"$f":"COMPLEX(定数!S$13,計算!B21*定数!S$23)","v":"-77.7867441135484-31.3334075799222i"},{"$f":"COMPLEX(定数!T$13,計算!B21*定数!T$23)","v":"77.2000539135484-31.3334075799222i"},{"$f":"COMPLEX(定数!U$13,計算!B21*定数!U$23)","v":"124.646605989444+57.1771980416335i"},{"$f":"COMPLEX(定数!V$13,計算!B21*定数!V$23)","v":"-123.576013789444+57.1771980416335i"},{"$f":"IMPRODUCT(定数!D$31,計算!G21)","v":"-2.91340579110571+0.368048742751682i"},{"$f":"COMPLEX(定数!O$14,計算!B21*定数!O$24)","v":"86.1948356167649+58.5655683583285i"},{"$f":"COMPLEX(定数!P$14,計算!B21*定数!P$24)","v":"-85.0982474167649+58.5655683583285i"},{"$f":"COMPLEX(定数!Q$14,計算!B21*定数!Q$24)","v":"57.0863694248256+32.3750378057095i"},{"$f":"COMPLEX(定数!R$14,計算!B21*定数!R$24)","v":"-56.4801756248256+32.3750378057095i"},{"$f":"COMPLEX(定数!S$14,計算!B21*定数!S$24)","v":"163.969671876329+68.7280054679932i"},{"$f":"COMPLEX(定数!T$14,計算!B21*定数!T$24)","v":"-162.682801076329+68.7280054679932i"},{"$f":"COMPLEX(定数!U$14,計算!B21*定数!U$24)","v":"-101.525845343051-49.3451466022226i"},{"$f":"COMPLEX(定数!V$14,計算!B21*定数!V$24)","v":"100.601901343051-49.3451466022226i"},{"$f":"IMPRODUCT(定数!D$32,計算!G21)","v":"2.91340579110571-0.368048742751682i"},{"$f":"COMPLEX(定数!O$15,計算!B21*定数!O$25)","v":"86.1919999827348+58.5649167981642i"},{"$f":"COMPLEX(定数!P$15,計算!B21*定数!P$25)","v":"-85.0954239827348+58.5649167981642i"},{"$f":"COMPLEX(定数!Q$15,計算!B21*定数!Q$25)","v":"-57.0828842529623-32.3749203135451i"},{"$f":"COMPLEX(定数!R$15,計算!B21*定数!R$25)","v":"56.4766926529622-32.3749203135451i"},{"$f":"COMPLEX(定数!S$15,計算!B21*定数!S$25)","v":"-163.956966054068-68.7219170686501i"},{"$f":"COMPLEX(定数!T$15,計算!B21*定数!T$25)","v":"162.670209254068-68.7219170686501i"},{"$f":"COMPLEX(定数!U$15,計算!B21*定数!U$25)","v":"-101.548680976766-49.3548453322465i"},{"$f":"COMPLEX(定数!V$15,計算!B21*定数!V$25)","v":"100.624555376766-49.3548453322465i"},{"$f":"IMPRODUCT(定数!D$33,計算!G21)","v":"0"},{"$f":"COMPLEX(定数!O$16,計算!B21*定数!O$26)","v":"74.3664237452132+47.6937998463057i"},{"$f":"COMPLEX(定数!P$16,計算!B21*定数!P$26)","v":"-73.4733997452132+47.6937998463057i"},{"$f":"COMPLEX(定数!Q$16,計算!B21*定数!Q$26)","v":"-125.201328746793-68.2402813858293i"},{"$f":"COMPLEX(定数!R$16,計算!B21*定数!R$26)","v":"123.923590146793-68.2402813858293i"},{"$f":"COMPLEX(定数!S$16,計算!B21*定数!S$26)","v":"77.7704269443536+31.3247342708528i"},{"$f":"COMPLEX(定数!T$16,計算!B21*定数!T$26)","v":"-77.1838991443536+31.3247342708528i"},{"$f":"COMPLEX(定数!U$16,計算!B21*定数!U$26)","v":"124.65071095008+57.1767921477331i"},{"$f":"COMPLEX(定数!V$16,計算!B21*定数!V$26)","v":"-123.58012635008+57.1767921477331i"},{"$f":"IMPRODUCT(定数!D$34,計算!G21)","v":"0"},{"$f":"IMDIV(COMPLEX(定数!O$17,計算!B21*定数!O$27),計算!R21)","v":"-0.20576764819101+0.127533653947763i"},{"$f":"IMPRODUCT(COMPLEX(定数!P$17,計算!B21*定数!P$27),計算!R21)","v":"0.184706032911772-0.76525955149927i"},{"$f":"IMDIV(COMPLEX(定数!Q$17,計算!B21*定数!Q$27),計算!S21)","v":"-0.30426616549429-0.0592523755767418i"},{"$f":"IMPRODUCT(COMPLEX(定数!R$17,計算!B21*定数!R$27),計算!S21)","v":"-0.367138760975737-1.14629429848419i"},{"$f":"IMDIV(COMPLEX(定数!S$17,計算!B21*定数!S$27),計算!T21)","v":"0.0571092289732791+0.125571150903654i"},{"$f":"IMPRODUCT(COMPLEX(定数!T$17,計算!B21*定数!T$27),計算!T21)","v":"0.395046674939254+0.499416612736589i"},{"$f":"IMDIV(COMPLEX(定数!U$17,計算!B21*定数!U$27),計算!U21)","v":"-0.175661665875815-0.168091288892879i"},{"$f":"IMPRODUCT(COMPLEX(定数!V$17,計算!B21*定数!V$27),計算!U21)","v":"-0.589015634066642-0.917381810422122i"},{"$f":"IMPRODUCT(定数!E$31,計算!G21)","v":"0"},{"$f":"IMDIV(COMPLEX(定数!O$18,計算!B21*定数!O$28),計算!R21)","v":"-0.253180898448216+0.178374867195232i"},{"$f":"IMPRODUCT(COMPLEX(定数!P$18,計算!B21*定数!P$28),計算!R21)","v":"0.227318812305586-0.91790832289736i"},{"$f":"IMDIV(COMPLEX(定数!Q$18,計算!B21*定数!Q$28),計算!S21)","v":"-0.149523307454357-0.0197522004187105i"},{"$f":"IMPRODUCT(COMPLEX(定数!R$18,計算!B21*定数!R$28),計算!S21)","v":"-0.169026078565953-0.535501375720546i"},{"$f":"IMDIV(COMPLEX(定数!S$18,計算!B21*定数!S$28),計算!T21)","v":"-0.147050735337683-0.257421049368522i"},{"$f":"IMPRODUCT(COMPLEX(定数!T$18,計算!B21*定数!T$28),計算!T21)","v":"-0.844726918000734-1.07742930678499i"},{"$f":"IMDIV(COMPLEX(定数!U$18,計算!B21*定数!U$28),計算!U21)","v":"0.169955524404226+0.127079985635035i"},{"$f":"IMPRODUCT(COMPLEX(定数!V$18,計算!B21*定数!V$28),計算!U21)","v":"0.489977364344665+0.773733755038372i"},{"$f":"IMPRODUCT(定数!E$32,計算!G21)","v":"0"},{"$f":"IMDIV(COMPLEX(定数!O$19,計算!B21*定数!O$29),計算!R21)","v":"-0.2531782722316+0.178380852687128i"},{"$f":"IMPRODUCT(COMPLEX(定数!P$19,計算!B21*定数!P$29),計算!R21)","v":"0.227316473815439-0.917890140798826i"},{"$f":"IMDIV(COMPLEX(定数!Q$19,計算!B21*定数!Q$29),計算!S21)","v":"0.149530085583176+0.0197402786236217i"},{"$f":"IMPRODUCT(COMPLEX(定数!R$19,計算!B21*定数!R$29),計算!S21)","v":"0.169018144356935+0.535487582167308i"},{"$f":"IMDIV(COMPLEX(定数!S$19,計算!B21*定数!S$29),計算!T21)","v":"0.147031744615176+0.25740318005937i"},{"$f":"IMPRODUCT(COMPLEX(定数!T$19,計算!B21*定数!T$29),計算!T21)","v":"0.844658050134416+1.07733879541935i"},{"$f":"IMDIV(COMPLEX(定数!U$19,計算!B21*定数!U$29),計算!U21)","v":"0.169980182254407+0.127113536689667i"},{"$f":"IMPRODUCT(COMPLEX(定数!V$19,計算!B21*定数!V$29),計算!U21)","v":"0.490082415451516+0.773894405056278i"},{"$f":"IMPRODUCT(定数!E$33,計算!G21)","v":"0"},{"$f":"IMDIV(COMPLEX(定数!O$20,計算!B21*定数!O$30),計算!R21)","v":"-0.205763686438434+0.127535089210746i"},{"$f":"IMPRODUCT(COMPLEX(定数!P$20,計算!B21*定数!P$30),計算!R21)","v":"0.184702486240005-0.765240521131629i"},{"$f":"IMDIV(COMPLEX(定数!Q$20,計算!B21*定数!Q$30),計算!S21)","v":"0.304279938526553+0.0592590171365362i"},{"$f":"IMPRODUCT(COMPLEX(定数!R$20,計算!B21*定数!R$30),計算!S21)","v":"0.367160195840462+1.14635794358765i"},{"$f":"IMDIV(COMPLEX(定数!S$20,計算!B21*定数!S$30),計算!T21)","v":"-0.0570763398880797-0.125550514773456i"},{"$f":"IMPRODUCT(COMPLEX(定数!T$20,計算!B21*定数!T$30),計算!T21)","v":"-0.394954404069854-0.499292493536447i"},{"$f":"IMDIV(COMPLEX(定数!U$20,計算!B21*定数!U$30),計算!U21)","v":"-0.175645271499652-0.168104938801509i"},{"$f":"IMPRODUCT(COMPLEX(定数!V$20,計算!B21*定数!V$30),計算!U21)","v":"-0.589026600094382-0.917390141211144i"},{"$f":"IMPRODUCT(定数!E$34,計算!G21)","v":"0"},"-0.408624010731303+0.903388768099352i","1.60976627476323-0.114842223483166i","-0.76368664486635+1.40731748192525i","-0.932590892794897+0.176771294716724i","0.544082118490039-0.770259142353344i","1.53697494816973-0.216870759112226i","-0.828024187781466+1.29986730562784i","-0.0255092329879904+0.021308728530508i","3.03050866955169+4.6294194273116i","-88.3929700996284-52.003032424873i","91.7660173817124-44.2027188051742i","254.706901923+108.108948460457i","-254.690534296721+103.255887122477i","-246.706307615336-120.665818562534i","248.100777640083-112.893288162557i","6.36012773259783-0.710788367314407i","3.0315847832973+4.631063303953i","-202.557584242769-116.752267335066i","204.719803171651-108.949183874882i","-73.2224956710029-29.3410804565632i","70.6645207216193-34.1958650849674i","-246.724643646237-120.675130827013i","248.120236758478-112.89984045219i","3.44663572272432-0.342695821607003i","0.00054967843060183+0.00083969137660489i","-250.391151687299-136.475746438328i","247.836553090634-136.474331605176i","155.554771207657+62.6576886414063i","-154.381925885365+62.6568083855082i","0.00799009109799442+0.000519371025802684i","-0.00731762886699983+0.00192916481370276i","2.91332466331358-0.368021683009479i","0.215836901760292-0.52725805610594i","0.012325406612649-0.288182564838333i","-0.344800425110277-0.759318141679424i","-0.112243516633181+0.280881688681734i","0.40876720997274+0.271533419898243i","0.112939734193563-0.40873230612306i","-0.593619396697754-0.544310221757798i","-0.00253139486861868+0.00763793264802654i","0.285004869676507-0.61629928929496i","0.23755379791962-0.335969903216223i","-0.111346880506174-0.042972967388023i","-0.351633379241094-0.046315157502515i","-0.844370590635008-1.36949478411292i","0.520403929819066-0.201985250266319i","0.512201114558089+1.25053403187065i","-0.00265750890489566+0.00994516908062817i","0.285009011547677-0.616281033875314i","0.536602275975017-0.296486757816328i","0.226707771510653+1.0280168656195i","-0.057547392039385+0.468514189700897i","0.845008338242787+0.785272084359664i","0.520423253161929-0.201960329213193i","0.512316120581044+1.2506962242875i","-0.0026573143689022+0.00994526580459856i","0.215836270556211-0.527242018258161i","0.620864968309014-0.169673027586526i","0.389503577114142+1.53332962103993i","-0.226425137086872+0.029760661193678i","-0.381237130079537-0.727173415699576i","0.112949728188693-0.40874730280665i","-0.593625216647108-0.544322513867i","-0.00253126322371991+0.00763788484057422i","2.24571050714527+18.2515385304983i","-16.2713898415116-8.2184656352142i","-9.07654763286851-48.7330543660067i","40.6472774138115+27.8133552935253i","7.01289215169193+48.6905752365298i","-41.7548696884739-25.3606175240894i","-0.744545262727878-0.872070595187093i","-16.6131336743659+8.21846563449877i","2.39959397034915-18.2515385304444i","41.5597605320189-27.8133552917235i","-9.59732798545705+48.733054365583i","-42.666557422641+25.3606175222444i","7.48774717014631-48.6905752362221i","0.52208460049267-1.03208315850094i","-114.133226377951-64.7307689716425i","112.921200276023-64.7307689746932i","-328.019842348659-137.48841770264i","325.445493964642-137.488417693817i","0.0692677647749917+0.0335353835239971i","-0.0686398485460131+0.0335353749909899i","-2.91575044968472+0.368344941901295i","-250.375118831331-136.466314046535i","247.819908426073-136.466314046485i","155.508572069119+62.6380796703603i","-154.335729715674+62.6380796702139i","0.0527380692600581+0.0224059269242911i","-0.0523185381280164+0.0224059270656802i","2.91217105334161-0.367892759095556i","-0.735199507201931-10.8214392915862i","8.76054937335166+4.44524263934012i","5.58244217713419+28.1967486727462i","-23.2146707653713-15.3071265451083i","-4.04963259935084-28.3787755462463i","23.4627465026639+13.9128876996989i","0.428957642395168+0.505672875516458i","-0.092656733935981-12.9169351067912i","10.4531673775504+6.63767245139969i","4.94498358574143+33.4938774218335i","-28.1432321495786-21.1734790090818i","-2.94914998743646-33.7252537583456i","28.3861236216064+19.7422783409258i","0.484617954649006+0.625854263399982i","0.206610585117829-12.8771827214904i","10.7908789012631+7.70869407433354i","5.23838969329654+34.0080632775024i","-26.4529238274466-19.0187387833923i","-2.94849097599414-33.7245549817924i","28.3853187474614+19.7425055114657i","0.484597145666677+0.625849104005959i","-0.126538625282516-10.7026581278964i","9.4945621748129+6.73784039729104i","5.46784072301256+27.9449435602417i","-24.0038995899884-16.305648699718i","-4.04924280693747-28.3780902554513i","23.4619645169773+13.9127245865506i","0.428941551189406+0.505663803140553i","0.444204923370499-0.914669946338909i","-20.9949318727311-97.1338573066085i","83.2997549213731+52.9611077221841i","7.01490223934348+48.7011719712393i","-41.7643762586385-25.3655425097162i","-1.02949726046858-1.16948244198172i","1.02238300843863+0.0828931920678002i","83.6285543242058-55.2799556075845i","-19.3049597043215+97.6860079728796i","-42.6759675565394+25.366060916409i","7.48926395696376-48.7012594578089i","0.710033942238344-1.40225112261857i","-0.505213355373234+0.853683200368804i","2.69147538312899-0.321841891982493i","-1.64054652898401+2.13506849654595i","-0.000585284154671735+0.0000381178208387396i","0.000328947695918163-0.000480389576630901i","0.0179444932611208-0.0134045609508474i","4.82805482154399+8.330114275298i","873.307617656256+349.352602602942i","-856.452689818876+373.326770373653i","-0.0990043190253219-0.0479218904115118i","0.0955987751559806-0.0529813906925623i","9.23429671033701-1.27524244726775i","-0.84896416358861-0.39426554691218i","11.0440060480345+57.0857681356928i","-47.5253138837724-31.4904999070283i","-4.05047538965706-28.3850811389913i","23.4681868514877+13.9160942050404i","0.587207067557695+0.690003093354633i","-0.620614542821+0.19096382212157i","9.35157773759602+68.2296694686818i","-55.8737810512626-42.1664835900203i","-2.94969658337284-33.7328103039177i","28.3923592618129+19.7464828256383i","0.659426476723841+0.85640009554058i","-0.0977732291896984+1.02658939832168i","8.82671924004676+68.7331795180657i","-53.6076367021002-40.5854839515642i","-2.94886090023637-33.7320996683414i","28.3914368477413+19.7468406846234i","0.653502604079771+0.859693146755267i","0.293953728273811+1.43873847168533i","9.25298005909942+56.7101590149505i","-47.0624002906511-33.593688709904i","-4.04972482999482-28.3843495282898i","23.4671475869734+13.9161844134453i","0.574676655909529+0.696021385077434i","-0.00708918997879948-0.0403123701680101i","0.033705011230694+0.0227249350267016i","7.01325108109259+48.689673593394i","-41.75409171657-25.3603013698844i","-0.372492439937238-0.436293290970978i","0.0344598251075894-0.0227249341934979i","-0.00751469517700087+0.0403123699779968i","-42.665762567811+25.3603013687668i","7.48810017899473-48.6896735932076i","0.261196309368223-0.516346796784973i","-9.92993893650071-96.4045573801002i","75.0714329695734+60.2805118250245i","0.000098218881354518+0.0113498962670837i","-0.00925009716436256-0.00640066952638081i","-0.562052961439291-0.778927850165645i","76.876522600588-60.2805118220287i","-11.0586379319123+96.4045573796488i","-0.00946261514709332+0.00640066781533743i","0.000218067835820919-0.0113498961196951i","0.366347782389522-0.896212139051629i","100.075947718902+36.2195380638383i","-94.9226967261815+45.9934745825862i","-4.06103237360759-28.3833779845292i","23.4728468562666+13.9065445266089i","1.25156877536908+0.073589413110577i","45.5508687280491+16.138072596014i","-44.3271498284434+19.7753864809479i","-2.9543469239561-33.727030939232i","28.3903271783394+19.7393972719795i","0.715643142699954+0.230238635841559i","-45.5401492583182-16.0812638615825i","44.2790211126986-19.8070186071732i","-2.94321523295448-33.7217596339897i","28.3798064859093+19.7455071025004i","-0.230720270827118+0.395978842381441i","-100.073051827305-36.1753704275633i","94.8892731069609-46.0216799371574i","-4.03773437196271-28.3726168000027i","23.450753952923+13.9192070151404i","-0.822427523813691+0.432387636135497i","0.0001851102483717-0.000121984050872i","7.02193899868046+48.6828827772554i","-41.7542335741673-25.3498096356761i","-0.372277259620801-0.435861802062645i","0.00018512074836147+0.000133655767210805i","-42.6559949628646+25.3656175453391i","7.47833489879955-48.6855977312754i","0.260883322591921-0.515974657654043i","-0.232058189011113+0.6576889512204i","21.6661577457332-14.5584037722529i","-2.11736685223939+24.7481544570274i","-0.126778547096934+0.276492921636185i","-0.684196717736199+0.142020591925387i","24.0599036526135+10.6526447022642i","-22.2433458550719+11.4951116887912i","-0.299773107004358+0.042220133924385i","-0.691584857407453+0.709884445455133i","-0.126638839875686-0.237785184609317i","0.251853390848343+0.0478090006572771i","0.0112930818759757-0.0033518622945902i","-1.3686920588339-1.3996200709173i","-1.02323232438804-20.8520024182293i","17.6897315564425+13.4972274539578i","0.147140855590336+0.200670300069709i","1.3683044029733+1.3996664203678i","-4.88648060671595-46.5870450316803i","39.0804183418281+25.9728569609903i","0.337470545378218+0.424941562650495i","-0.0000669464592988334+0.000284565463601893i","-8.10890242276345-56.749712846196i","46.9249830796231+27.8144893231044i","0.428960504179809+0.505487967143205i","7.01959876019441+48.6825469408896i","-41.7523516389712-25.3514852384865i","-0.372251778014171-0.435873833458969i","-42.6565269913581+25.3632413633375i","7.48063623196387-48.6843980754487i","0.260904221749051-0.515954519025999i","28.1704517110127-18.1659581705813i","-3.64872285510298+32.5260292271111i","-0.167773605727687+0.355095873078805i","30.5251011997418+14.3589066552332i","-29.7058293747401+14.2146343988877i","-0.388419258778281+0.0478240270246433i","10.414365439573-1.01140606039829i","-6.36236265145004+9.16642454144679i","-0.0884649265203759+0.0735798141344373i","7.98103901960984+7.07359990665669i","-11.2473709296003+1.64011957961905i","-0.125840474845768-0.0179305824004837i","-5.90629117708563-67.4366752442232i","56.7658658076546+39.4712415263773i","0.484561787098338+0.625610744461713i","-8.10635521822279-56.7515104217964i","46.9246968293515+27.817799736626i","0.428946977181088+0.505522576607265i","1.0293026414205+0.980890549090599i","0.00464595997853801-0.00167444873904504i","-0.520316247990389+1.3669626343103i","0.00195896429169196+0.00316705755485402i","0.52427086795797-1.4540873751704i","-0.00572119530563298-0.00165383663606i","1.5224099715797-0.340900074665701i","0.002482260676268-0.0040681087950837i","-0.34463795763328+0.335035872241951i","0.00752131865722321-0.0022280055091834i","-0.478513911216101+0.00535905766278i","-0.00264313611321298+0.0011340129925215i","-0.654015609658215+0.784484985225985i","-0.00983092030548675+0.00632441483348402i","-2.8976938355958-2.9392599973056i","-0.00966604927145903-0.00112904637779698i"]
[{"$f":"COMPLEX(定数!O$13,計算!B22*定数!O$23)","v":"74.3688188913563+50.5003127409908i"},{"$f":"COMPLEX(定数!P$13,計算!B22*定数!P$23)","v":"-73.4757772913563+50.5003127409908i"},{"$f":"COMPLEX(定数!Q$13,計算!B22*定数!Q$23)","v":"125.193786513619+72.250626824419i"},{"$f":"COMPLEX(定数!R$13,計算!B22*定数!R$23)","v":"-123.916114913619+72.250626824419i"},{"$f":"COMPLEX(定数!S$13,計算!B22*定数!S$23)","v":"-77.7867441135484-33.1765492022706i"},{"$f":"COMPLEX(定数!T$13,計算!B22*定数!T$23)","v":"77.2000539135484-33.1765492022706i"},{"$f":"COMPLEX(定数!U$13,計算!B22*定数!U$23)","v":"124.646605989444+60.5405626323179i"},{"$f":"COMPLEX(定数!V$13,計算!B22*定数!V$23)","v":"-123.576013789444+60.5405626323179i"},{"$f":"IMPRODUCT(定数!D$31,計算!G22)","v":"-1.72194209851165+0.946645679463353i"},{"$f":"COMPLEX(定数!O$14,計算!B22*定数!O$24)","v":"86.1948356167649+62.0106017911713i"},{"$f":"COMPLEX(定数!P$14,計算!B22*定数!P$24)","v":"-85.0982474167649+62.0106017911713i"},{"$f":"COMPLEX(定数!Q$14,計算!B22*定数!Q$24)","v":"57.0863694248256+34.2794517942806i"},{"$f":"COMPLEX(定数!R$14,計算!B22*定数!R$24)","v":"-56.4801756248256+34.2794517942806i"},{"$f":"COMPLEX(定数!S$14,計算!B22*定数!S$24)","v":"163.969671876329+72.7708293190517i"},{"$f":"COMPLEX(定数!T$14,計算!B22*定数!T$24)","v":"-162.682801076329+72.7708293190517i"},{"$f":"COMPLEX(定数!U$14,計算!B22*定数!U$24)","v":"-101.525845343051-52.2478022847063i"},{"$f":"COMPLEX(定数!V$14,計算!B22*定数!V$24)","v":"100.601901343051-52.2478022847063i"},{"$f":"IMPRODUCT(定数!D$32,計算!G22)","v":"1.72194209851165-0.946645679463353i"},{"$f":"COMPLEX(定数!O$15,計算!B22*定数!O$25)","v":"86.1919999827348+62.0099119039386i"},{"$f":"COMPLEX(定数!P$15,計算!B22*定数!P$25)","v":"-85.0954239827348+62.0099119039386i"},{"$f":"COMPLEX(定数!Q$15,計算!B22*定数!Q$25)","v":"-57.0828842529623-34.2793273908125i"},{"$f":"COMPLEX(定数!R$15,計算!B22*定数!R$25)","v":"56.4766926529622-34.2793273908125i"},{"$f":"COMPLEX(定数!S$15,計算!B22*定数!S$25)","v":"-163.956966054068-72.7643827785707i"},{"$f":"COMPLEX(定数!T$15,計算!B22*定数!T$25)","v":"162.670209254068-72.7643827785707i"},{"$f":"COMPLEX(定数!U$15,計算!B22*定数!U$25)","v":"-101.548680976766-52.258071528261i"},{"$f":"COMPLEX(定数!V$15,計算!B22*定数!V$25)","v":"100.624555376766-52.258071528261i"},{"$f":"IMPRODUCT(定数!D$33,計算!G22)","v":"0"},{"$f":"COMPLEX(定数!O$16,計算!B22*定数!O$26)","v":"74.3664237452132+50.4993174843237i"},{"$f":"COMPLEX(定数!P$16,計算!B22*定数!P$26)","v":"-73.4733997452132+50.4993174843237i"},{"$f":"COMPLEX(定数!Q$16,計算!B22*定数!Q$26)","v":"-125.201328746793-72.2544155849958i"},{"$f":"COMPLEX(定数!R$16,計算!B22*定数!R$26)","v":"123.923590146793-72.2544155849958i"},{"$f":"COMPLEX(定数!S$16,計算!B22*定数!S$26)","v":"77.7704269443536+33.16736569855i"},{"$f":"COMPLEX(定数!T$16,計算!B22*定数!T$26)","v":"-77.1838991443536+33.16736569855i"},{"$f":"COMPLEX(定数!U$16,計算!B22*定数!U$26)","v":"124.65071095008+60.5401328623057i"},{"$f":"COMPLEX(定数!V$16,計算!B22*定数!V$26)","v":"-123.58012635008+60.5401328623057i"},{"$f":"IMPRODUCT(定数!D$34,計算!G22)","v":"0"},{"$f":"IMDIV(COMPLEX(定数!O$17,計算!B22*定数!O$27),計算!R22)","v":"-0.0973548686132305+0.232601132144511i"},{"$f":"IMPRODUCT(COMPLEX(定数!P$17,計算!B22*定数!P$27),計算!R22)","v":"0.617568839264251-0.493278144367816i"},{"$f":"IMDIV(COMPLEX(定数!Q$17,計算!B22*定数!Q$27),計算!S22)","v":"-0.299825221767999+0.127980942245273i"},{"$f":"IMPRODUCT(COMPLEX(定数!R$17,計算!B22*定数!R$27),計算!S22)","v":"0.377663568854721-1.14731741859793i"},{"$f":"IMDIV(COMPLEX(定数!S$17,計算!B22*定数!S$27),計算!T22)","v":"0.125199035094911+0.0741783569885463i"},{"$f":"IMPRODUCT(COMPLEX(定数!T$17,計算!B22*定数!T$27),計算!T22)","v":"0.0396879502493159+0.637221581652632i"},{"$f":"IMDIV(COMPLEX(定数!U$17,計算!B22*定数!U$27),計算!U22)","v":"-0.253913176239301-0.0423231156675477i"},{"$f":"IMPRODUCT(COMPLEX(定数!V$17,計算!B22*定数!V$27),計算!U22)","v":"0.0458798392227179-1.09250871325999i"},{"$f":"IMPRODUCT(定数!E$31,計算!G22)","v":"0"},{"$f":"IMDIV(COMPLEX(定数!O$18,計算!B22*定数!O$28),計算!R22)","v":"-0.106857708016457+0.303319226543255i"},{"$f":"IMPRODUCT(COMPLEX(定数!P$18,計算!B22*定数!P$28),計算!R22)","v":"0.745641502288812-0.588006159920215i"},{"$f":"IMDIV(COMPLEX(定数!Q$18,計算!B22*定数!Q$28),計算!S22)","v":"-0.141654024590639+0.0705288528677999i"},{"$f":"IMPRODUCT(COMPLEX(定数!R$18,計算!B22*定数!R$28),計算!S22)","v":"0.178584581242456-0.534538959153156i"},{"$f":"IMDIV(COMPLEX(定数!S$18,計算!B22*定数!S$28),計算!T22)","v":"-0.282561080099917-0.135578361053733i"},{"$f":"IMPRODUCT(COMPLEX(定数!T$18,計算!B22*定数!T$28),計算!T22)","v":"-0.0791089234888841-1.37058089724413i"},{"$f":"IMDIV(COMPLEX(定数!U$18,計算!B22*定数!U$28),計算!U22)","v":"0.22412625553185+0.0113165045104826i"},{"$f":"IMPRODUCT(COMPLEX(定数!V$18,計算!B22*定数!V$28),計算!U22)","v":"-0.0445890297455524+0.917649169536387i"},{"$f":"IMPRODUCT(定数!E$32,計算!G22)","v":"0"},{"$f":"IMDIV(COMPLEX(定数!O$19,計算!B22*定数!O$29),計算!R22)","v":"-0.106851877341286+0.303322333527464i"},{"$f":"IMPRODUCT(COMPLEX(定数!P$19,計算!B22*定数!P$29),計算!R22)","v":"0.745628564878141-0.587993136570213i"},{"$f":"IMDIV(COMPLEX(定数!Q$19,計算!B22*定数!Q$29),計算!S22)","v":"0.141652663377697-0.0705425001883862i"},{"$f":"IMPRODUCT(COMPLEX(定数!R$19,計算!B22*定数!R$29),計算!S22)","v":"-0.17858308600105+0.534523115919008i"},{"$f":"IMDIV(COMPLEX(定数!S$19,計算!B22*定数!S$29),計算!T22)","v":"0.282533876312012+0.135573780333645i"},{"$f":"IMPRODUCT(COMPLEX(定数!T$19,計算!B22*定数!T$29),計算!T22)","v":"0.0791040880228012+1.37046691137698i"},{"$f":"IMDIV(COMPLEX(定数!U$19,計算!B22*定数!U$29),計算!U22)","v":"0.224167929481172+0.0113307436694484i"},{"$f":"IMPRODUCT(COMPLEX(定数!V$19,計算!B22*定数!V$29),計算!U22)","v":"-0.0445954158850041+0.917841547210207i"},{"$f":"IMPRODUCT(定数!E$33,計算!G22)","v":"0"},{"$f":"IMDIV(COMPLEX(定数!O$20,計算!B22*定数!O$30),計算!R22)","v":"-0.097350649419691+0.232599758732533i"},{"$f":"IMPRODUCT(COMPLEX(定数!P$20,計算!B22*定数!P$30),計算!R22)","v":"0.617554367730973-0.493265212202914i"},{"$f":"IMDIV(COMPLEX(定数!Q$20,計算!B22*定数!Q$30),計算!S22)","v":"0.299841197938133-0.127983507281473i"},{"$f":"IMPRODUCT(COMPLEX(定数!R$20,計算!B22*定数!R$30),計算!S22)","v":"-0.377683626800841+1.14738172911112i"},{"$f":"IMDIV(COMPLEX(定数!S$20,計算!B22*定数!S$30),計算!T22)","v":"-0.125158150450051-0.0741790939205734i"},{"$f":"IMPRODUCT(COMPLEX(定数!T$20,計算!B22*定数!T$30),計算!T22)","v":"-0.0396831930095495-0.637066464234807i"},{"$f":"IMDIV(COMPLEX(定数!U$20,計算!B22*定数!U$30),計算!U22)","v":"-0.253907253195847-0.0423436186757862i"},{"$f":"IMPRODUCT(COMPLEX(定数!V$20,計算!B22*定数!V$30),計算!U22)","v":"0.0458753929818792-1.09252176113214i"},{"$f":"IMPRODUCT(定数!E$34,計算!G22)","v":"0"},"-0.360601927232905+0.923919780703181i","1.60366152447189-0.117452204059686i","-0.688876861955327+1.43930111287052i","-0.923194134527837+0.180788716460256i","0.503136901817355-0.787764562741892i","1.52544659396586-0.221799507892336i","-0.758926210817431+1.32940895256606i","-0.00993105671194435+0.0194727732785518i","3.2765980323352+4.7346306851517i","-88.4242539174004-55.0407909858171i","92.1493804194104-47.0632022627572i","254.755055649071+114.435599474545i","-254.900358226588+109.472244244262i","-246.765384713482-127.723691454163i","248.454870504906-119.774517370711i","3.7854662888445-2.00926736808073i","3.27776153080841+4.7363119216246i","-202.58887916922-123.598796876766i","205.103302339064-115.618375363987i","-73.1743248458572-31.0997368722877i","70.4546222846438-36.0648545576373i","-246.783741722275-127.73353725382i","248.474455359368-119.781540470504i","2.06348259547281-1.06257332226805i","0.000594314506201954+0.000858774759997516i","-250.391157361608-144.503727669784i","247.836622625624-144.502280682195i","155.554779941856+66.3434291011001i","-154.381963943559+66.3425288399225i","0.00797937560099626+0.000557198644699497i","-0.00725340294599164+0.00199903234229737i","1.72189893177204-0.946608923275946i","0.797367273019082-0.319453638980427i","-0.171020480390096-0.256467087818046i","0.645381120818903-0.846960909860577i","0.0773732515510569+0.306515019606636i","-0.0945641519368771+0.443498653162338i","-0.156994340152108-0.418736982399333i","0.281216705131364-0.786557183499391i","0.00356255238920265+0.00420574431865824i","0.987351040109289-0.379900712104914i","-0.00591594134258-0.42844319369949i","0.541540478987073-0.171788944134442i","-0.326374795725326+0.1637628376567i","-0.264289005211236-1.60737070877992i","0.319855927082975-0.475081763556837i","0.277549150064899+1.2899036744927i","0.00484525657108267+0.00509309636189431i","0.987343075855491-0.379891955446543i","0.277381031274179-0.569518844481059i","0.184381300246611+0.897266879169992i","0.238726105239409+0.434916793273396i","-0.106081374899449+1.13368012980205i","0.319888017521148-0.475070970695468i","0.277551319430284+1.2900906587865i","0.00484537497744755+0.00509301367811503i","0.797353054012632-0.319445100266901i","0.428639334467956-0.512428839303265i","-0.109965145085242+1.44773121904678i","-0.172980287156566+0.15815553798905i","-0.173936336102423-0.8307853779797i","-0.156994548640967-0.418754454525896i","0.281213635120912-0.786576882723553i","0.0035625675461129+0.00420564851982678i","2.25909445721047+17.8114693564001i","-16.2847737915776-7.18821570253147i","-9.1152515680149-47.2223926935992i","40.6859813489604+25.072123087363i","7.05033443768373+47.3201039492236i","-41.7923119744677-22.6177957830213i","-0.661448615362617-0.327630482103507i","-16.599749724302+7.18821570185579i","2.38621002028424-17.8114693563489i","41.5210565968755-25.0721230856608i","-9.55862405031172+47.2223926931993i","-42.6291151366525+22.6177957812785i","7.4503048841556-47.3201039489326i","0.0871814901272855-0.739193365348041i","-114.133226377947-68.5384612642656i","112.92120027602-68.5384612671461i","-328.019842348669-145.575971684647i","325.445493964654-145.575971676315i","0.0692677647869857+0.035508052659992i","-0.0686398485560176+0.0355080445980036i","-1.7233278877487+0.94740752346371i","-250.375118831333-144.493744284564i","247.819908426072-144.493744284517i","155.508572069122+66.3226725921374i","-154.335729715675+66.3226725920021i","0.0527380692570024+0.0237239226339576i","-0.0523185381260746+0.0237239227653334i","1.72121231794287-0.946244479199292i","10.7687750263418-11.2909654954723i","4.43263404556807+14.1176053136256i","-25.020777463291+33.5622580574029i","-7.55819534633046-40.2636290705682i","26.6087297795314-32.0714530831391i","9.45716681991005+39.3249720679976i","0.170184895819289+0.621464786552921i","13.6530559506021-13.8319921844824i","4.95210342565202+18.3209067366693i","-31.7973157988624+40.6926286125334i","-8.7663922185666-51.8637773343161i","33.8172403726443-39.0016171499983i","10.8984240606406+50.8418336574404i","0.199586607494579+0.768056744661891i","13.9362836633483-13.9728652281524i","4.59480728234154+19.3897998096853i","-31.2321037616815+40.9632193016908i","-8.60784720520243-49.1222667030084i","33.8171310103011-39.0010529346731i","10.8980712001406+50.841578532642i","0.199580947372687+0.768050011436019i","11.3682601873661-11.5466832971647i","3.67716962216529+16.4120238059716i","-25.2707546975036+33.4131875386979i","-7.6373002261498-41.5371600278514i","26.6083165542582-32.0707849548796i","9.45686563302117+39.3242159078912i","0.170179838849983+0.621453435741091i","0.3980308874192-0.94074596205501i","-21.0547471837948-94.12434012052i","83.2614963914788+47.4120880965165i","7.05235059277177+47.3304058795619i","-41.8018006904652-22.622106697154i","-0.905604713756914-0.431199231201285i","1.02656759244684+0.085256366005197i","83.5497536172557-49.7970432314203i","-19.217270923839+94.6922318632516i","-42.6385169545507+22.6226398831803i","7.45181118704395-47.3304958603023i","0.118822622249176-1.00452376761488i","-0.462118030176958+0.878020565598514i","2.67522827765243-0.331017173484567i","-1.53276477676204+2.19593644120515i","-0.000583359902896371+0.0000392045120408619i","0.000304696841995471-0.000494084843564453i","0.00743374842715286-0.0127649524009945i","5.24857262423501+8.56759468188901i","873.14908080657+369.997959099671i","-855.400971438605+394.655598302955i","-0.0989855424897446-0.0507520996400635i","0.0953621389369544-0.0559558410832693i","5.42689373178743-3.06814080916579i","-0.50462076232793-0.555359359369801i","-50.0922054452149+67.3328177039991i","-15.8464388849766-81.2175687851476i","26.6145691942924-32.0784619642443i","9.45946430308789+39.3337330780514i","0.234261168515833+0.842861884174197i","-0.88334685373341-0.0587701529425999i","-63.7437301977159+82.2157612309231i","-18.2136446546921-103.046210842878i","33.8246627415337-39.0102214410123i","10.9010981953035+50.852793989791i","0.274657946141806+1.04516090414523i","-1.2334477938188+0.696343190088999i","-63.8895855499527+82.9569727069912i","-17.9303264296061-101.142575506482i","33.8247130800226-39.0097505091765i","10.9007286394496+50.8527217270843i","0.274345080152792+1.04981677395801i","-1.20757777287342+1.0945270260264i","-51.8612953503068+68.066290563029i","-15.5682140651876-84.1994862927109i","26.6144956593328-32.07796651402i","9.45910680125366+39.3333510308836i","0.233063915240351+0.85240387471407i","-0.00712106338919938-0.0390788932376012i","0.0337368846260944+0.0204569030572017i","7.05069275129759+47.3192189080656i","-41.7915333867762-22.6175306713548i","-0.330919706874841-0.163912281892802i","0.0344279516840089-0.0204569022715972i","-0.00748282176779824+0.0390788930592123i","-42.6283208976078+22.6175306702988i","7.4506585087904-47.3192189078894i","0.0436162874321097-0.369815187166638i","-10.0091631455084-93.1153667706058i","75.1506571785822+54.8663773591771i","0.000107194138754004+0.0110024698938354i","-0.00925907242371452-0.00576211207767823i","-0.526961253562685-0.318426668194037i","76.797298391609-54.8663773563948i","-10.9794137229085+93.1153667701868i","-0.00945363989260182+0.00576211046192652i","0.000209092578829687-0.0110024697539724i","0.0217615951353859-0.62008960700844i","19.1318619934735+82.2962029723387i","-73.0993694447194-40.3271415925416i","26.6065986493483-32.0808044510649i","9.46568014009847+39.3282971248973i","0.589615088142602+0.542037299507224i","7.31942710037951+38.2631083894551i","-33.3846795690509-21.4383063959164i","33.8159732583651-39.0056870907272i","10.9019295134053+50.8430872811534i","0.330323743778872+0.49868563303592i","-7.3699555145573-38.1951151503138i","33.3673914795076+21.35580818395i","33.8170649151342-38.9960602689787i","10.8933250493423+50.8390051548463i","-0.130608303422779+0.269815077645483i","-19.1753176326091-82.245845826069i","73.0905754321767+40.2618259815711i","26.6093864395533-32.0606610531446i","9.44731679630557+39.3198358354835i","-0.419362099600714+0.079778794095739i","0.000322878772309403-0.000135383157504301i","7.06391332561163+47.304756328245i","-41.7879787330059-22.5988480626062i","-0.330655098859488-0.163644396199706i","0.00023924064323227+0.000269173945603801i","-42.6100097242509+22.6249436933897i","7.43425217698204-47.3092969989332i","0.0434560871300881-0.369471031388634i","0.131594614671499+0.688088976360497i","33.5788003921864-31.7171045495369i","5.12917073072867+44.5361835902274i","0.049056480635142+0.357069139939936i","-0.537478425365201+0.442019576856197i","44.4628359206617+13.7851958899088i","-36.5624922757792+26.5421946089033i","-0.286241492422289+0.219898069395109i","-0.660806896649637+0.734625668136885i","-0.298527275411776-0.392703188197841i","0.478752277049774-0.0037214067655581i","0.0078288903594819-0.00534452164665234i","-0.438890095998403-1.5308195089074i","20.9749772333179-24.708743236337i","7.25534453196698+32.5517755782308i","0.068522740460133+0.238246789220976i","0.438162060622602+1.5303711683164i","46.6162756685793-53.2925489562838i","14.5638475936238+69.0975769029236i","0.13122488997218+0.52945155964266i","-0.00051614635799524-0.000115633485599176i","53.1832369834605-64.1434976905698i","18.933614023166+78.623862645829i","0.170324063117879+0.621189603421972i","7.05797665273781+47.3008154494455i","-41.7810592634052-22.6012733467082i","-0.330604853709197-0.163665513674289i","-42.6081504784298+22.6178540186679i","7.43891592079792-47.3033699856607i","0.0434933651774747-0.369429160110406i","43.7480752882847-41.7109763045056i","7.01730511475484+59.0855390301173i","0.0696319697669266+0.464167424966646i","58.0148138043348+17.9004285108272i","-48.3526220978487+35.1085487321591i","-0.369853468579773+0.288778019478779i","19.6011334153062+2.50933494828001i","-14.2564412568786+14.5248503506624i","-0.0949434707785981+0.109101847583047i","11.2849153424226+16.9372121666996i","-20.9047730697434-1.253938375013i","-0.155671003839867+0.000130830995764548i","67.5918750797666-77.983901817382i","21.804534902745+101.639067111345i","0.199634237777685+0.767628650483367i","53.1871031425356-64.1334506960996i","18.9229690979464+78.6207981383279i","0.170243698967758+0.621171670169133i","0.558883220602205+0.376273462282398i","-0.000291466026674014-0.00242779908888799i","-0.17424829764379+0.687259418147995i","0.0012366786327967-0.00109202372890299i","-0.0435034974241901-1.3899918276751i","-0.00407635812911941+0.00548211696981099i","1.2005099472661-0.7320827777747i","-0.00389237079903804-0.000728630379818962i","-0.361770606457402+0.271729495604699i","0.0062897849422249-0.004118513258354i","-0.438103276804299-0.0737008703001401i","0.000735088939911976+0.00239864212982152i","-0.605850745424837+0.804718939960714i","-0.00435383751293063+0.00633359280003611i","-0.462987276348702-3.0351700330135i","-0.00438345773644699+0.00507959317642603i"]
[{"$f":"COMPLEX(定数!O$13,計算!B23*定数!O$23)","v":"74.3688188913563+53.3058856710458i"},{"$f":"COMPLEX(定数!P$13,計算!B23*定数!P$23)","v":"-73.4757772913563+53.3058856710458i"},{"$f":"COMPLEX(定数!Q$13,計算!B23*定数!Q$23)","v":"125.193786513619+76.2645505368867i"},{"$f":"COMPLEX(定数!R$13,計算!B23*定数!R$23)","v":"-123.916114913619+76.2645505368867i"},{"$f":"COMPLEX(定数!S$13,計算!B23*定数!S$23)","v":"-77.7867441135484-35.0196908246189i"},{"$f":"COMPLEX(定数!T$13,計算!B23*定数!T$23)","v":"77.2000539135484-35.0196908246189i"},{"$f":"COMPLEX(定数!U$13,計算!B23*定数!U$23)","v":"124.646605989444+63.9039272230022i"},{"$f":"COMPLEX(定数!V$13,計算!B23*定数!V$23)","v":"-123.576013789444+63.9039272230022i"},{"$f":"IMPRODUCT(定数!D$31,計算!G23)","v":"-0.607302816186187+0.734102998588079i"},{"$f":"COMPLEX(定数!O$14,計算!B23*定数!O$24)","v":"86.1948356167649+65.4556352240142i"},{"$f":"COMPLEX(定数!P$14,計算!B23*定数!P$24)","v":"-85.0982474167649+65.4556352240142i"},{"$f":"COMPLEX(定数!Q$14,計算!B23*定数!Q$24)","v":"57.0863694248256+36.1838657828518i"},{"$f":"COMPLEX(定数!R$14,計算!B23*定数!R$24)","v":"-56.4801756248256+36.1838657828518i"},{"$f":"COMPLEX(定数!S$14,計算!B23*定数!S$24)","v":"163.969671876329+76.8136531701101i"},{"$f":"COMPLEX(定数!T$14,計算!B23*定数!T$24)","v":"-162.682801076329+76.8136531701101i"},{"$f":"COMPLEX(定数!U$14,計算!B23*定数!U$24)","v":"-101.525845343051-55.15045796719i"},{"$f":"COMPLEX(定数!V$14,計算!B23*定数!V$24)","v":"100.601901343051-55.15045796719i"},{"$f":"IMPRODUCT(定数!D$32,計算!G23)","v":"0.607302816186187-0.734102998588079i"},{"$f":"COMPLEX(定数!O$15,計算!B23*定数!O$25)","v":"86.1919999827348+65.454907009713i"},{"$f":"COMPLEX(定数!P$15,計算!B23*定数!P$25)","v":"-85.0954239827348+65.454907009713i"},{"$f":"COMPLEX(定数!Q$15,計算!B23*定数!Q$25)","v":"-57.0828842529623-36.1837344680798i"},{"$f":"COMPLEX(定数!R$15,計算!B23*定数!R$25)","v":"56.4766926529622-36.1837344680798i"},{"$f":"COMPLEX(定数!S$15,計算!B23*定数!S$25)","v":"-163.956966054068-76.8068484884913i"},{"$f":"COMPLEX(定数!T$15,計算!B23*定数!T$25)","v":"162.670209254068-76.8068484884913i"},{"$f":"COMPLEX(定数!U$15,計算!B23*定数!U$25)","v":"-101.548680976766-55.1612977242756i"},{"$f":"COMPLEX(定数!V$15,計算!B23*定数!V$25)","v":"100.624555376766-55.1612977242756i"},{"$f":"IMPRODUCT(定数!D$33,計算!G23)","v":"0"},{"$f":"COMPLEX(定数!O$16,計算!B23*定数!O$26)","v":"74.3664237452132+53.3048351223417i"},{"$f":"COMPLEX(定数!P$16,計算!B23*定数!P$26)","v":"-73.4733997452132+53.3048351223417i"},{"$f":"COMPLEX(定数!Q$16,計算!B23*定数!Q$26)","v":"-125.201328746793-76.2685497841622i"},{"$f":"COMPLEX(定数!R$16,計算!B23*定数!R$26)","v":"123.923590146793-76.2685497841622i"},{"$f":"COMPLEX(定数!S$16,計算!B23*定数!S$26)","v":"77.7704269443536+35.0099971262472i"},{"$f":"COMPLEX(定数!T$16,計算!B23*定数!T$26)","v":"-77.1838991443536+35.0099971262472i"},{"$f":"COMPLEX(定数!U$16,計算!B23*定数!U$26)","v":"124.65071095008+63.9034735768782i"},{"$f":"COMPLEX(定数!V$16,計算!B23*定数!V$26)","v":"-123.58012635008+63.9034735768782i"},{"$f":"IMPRODUCT(定数!D$34,計算!G23)","v":"0"},{"$f":"IMDIV(COMPLEX(定数!O$17,計算!B23*定数!O$27),計算!R23)","v":"0.0585794161293671+0.255754094463336i"},{"$f":"IMPRODUCT(COMPLEX(定数!P$17,計算!B23*定数!P$27),計算!R23)","v":"0.793630736864336-0.0111937552470685i"},{"$f":"IMDIV(COMPLEX(定数!Q$17,計算!B23*定数!Q$27),計算!S23)","v":"-0.184573110387046+0.288053163102346i"},{"$f":"IMPRODUCT(COMPLEX(定数!R$17,計算!B23*定数!R$27),計算!S23)","v":"0.983197785632817-0.709264913308154i"},{"$f":"IMDIV(COMPLEX(定数!S$17,計算!B23*定数!S$27),計算!T23)","v":"0.152720270914179-0.0111408146304715i"},{"$f":"IMPRODUCT(COMPLEX(定数!T$17,計算!B23*定数!T$27),計算!T23)","v":"-0.331781445217017+0.547556318558279i"},{"$f":"IMDIV(COMPLEX(定数!U$17,計算!B23*定数!U$27),計算!U23)","v":"-0.24660200548651+0.114064442318576i"},{"$f":"IMPRODUCT(COMPLEX(定数!V$17,計算!B23*定数!V$27),計算!U23)","v":"0.667884844422956-0.870155262990406i"},{"$f":"IMPRODUCT(定数!E$31,計算!G23)","v":"0"},{"$f":"IMDIV(COMPLEX(定数!O$18,計算!B23*定数!O$28),計算!R23)","v":"0.0927145054178689+0.320557087758985i"},{"$f":"IMPRODUCT(COMPLEX(定数!P$18,計算!B23*定数!P$28),計算!R23)","v":"0.953735735750169-0.00723487849186177i"},{"$f":"IMDIV(COMPLEX(定数!Q$18,計算!B23*定数!Q$28),計算!S23)","v":"-0.0814290228623513+0.144337544526682i"},{"$f":"IMPRODUCT(COMPLEX(定数!R$18,計算!B23*定数!R$28),計算!S23)","v":"0.460338068552183-0.328841975584724i"},{"$f":"IMDIV(COMPLEX(定数!S$18,計算!B23*定数!S$28),計算!T23)","v":"-0.326355811307341+0.0513548757990019i"},{"$f":"IMPRODUCT(COMPLEX(定数!T$18,計算!B23*定数!T$28),計算!T23)","v":"0.719116073237801-1.17411476174449i"},{"$f":"IMDIV(COMPLEX(定数!U$18,計算!B23*定数!U$28),計算!U23)","v":"0.202710096634323-0.122065822440322i"},{"$f":"IMPRODUCT(COMPLEX(定数!V$18,計算!B23*定数!V$28),計算!U23)","v":"-0.566286210245364+0.727336864597746i"},{"$f":"IMPRODUCT(定数!E$32,計算!G23)","v":"0"},{"$f":"IMDIV(COMPLEX(定数!O$19,計算!B23*定数!O$29),計算!R23)","v":"0.0927210808496195+0.320555907170469i"},{"$f":"IMPRODUCT(COMPLEX(定数!P$19,計算!B23*定数!P$29),計算!R23)","v":"0.953717518124072-0.00723241225836441i"},{"$f":"IMDIV(COMPLEX(定数!Q$19,計算!B23*定数!Q$29),計算!S23)","v":"0.0814200220109495-0.144347894342208i"},{"$f":"IMPRODUCT(COMPLEX(定数!R$19,計算!B23*定数!R$29),計算!S23)","v":"-0.46032769256316+0.328829908504944i"},{"$f":"IMDIV(COMPLEX(定数!S$19,計算!B23*定数!S$29),計算!T23)","v":"0.326329266124932-0.0513429558905096i"},{"$f":"IMPRODUCT(COMPLEX(定数!T$19,計算!B23*定数!T$29),計算!T23)","v":"-0.719054734609257+1.17401812099663i"},{"$f":"IMDIV(COMPLEX(定数!U$19,計算!B23*定数!U$29),計算!U23)","v":"0.202754760832375-0.122078555442073i"},{"$f":"IMPRODUCT(COMPLEX(定数!V$19,計算!B23*定数!V$29),計算!U23)","v":"-0.566402334859016+0.727491080597198i"},{"$f":"IMPRODUCT(定数!E$33,計算!G23)","v":"0"},{"$f":"IMDIV(COMPLEX(定数!O$20,計算!B23*定数!O$30),計算!R23)","v":"0.0585820307361533+0.255750235124069i"},{"$f":"IMPRODUCT(COMPLEX(定数!P$20,計算!B23*定数!P$30),計算!R23)","v":"0.793611326960788-0.0111923535971995i"},{"$f":"IMDIV(COMPLEX(定数!Q$20,計算!B23*定数!Q$30),計算!S23)","v":"0.184585386139379-0.288065026264946i"},{"$f":"IMPRODUCT(COMPLEX(定数!R$20,計算!B23*定数!R$30),計算!S23)","v":"-0.983251940576364+0.709305348647865i"},{"$f":"IMDIV(COMPLEX(定数!S$20,計算!B23*定数!S$30),計算!T23)","v":"-0.15268476146024+0.0111166250756284i"},{"$f":"IMPRODUCT(COMPLEX(定数!T$20,計算!B23*定数!T$30),計算!T23)","v":"0.331696370362622-0.547425856792152i"},{"$f":"IMDIV(COMPLEX(定数!U$20,計算!B23*定数!U$30),計算!U23)","v":"-0.246608600608686+0.114044136138408i"},{"$f":"IMPRODUCT(COMPLEX(定数!V$20,計算!B23*定数!V$30),計算!U23)","v":"0.667888448910999-0.870168582318101i"},{"$f":"IMPRODUCT(定数!E$34,計算!G23)","v":"0"},"-0.313272164153518+0.941323754779584i","1.597644784591-0.119664663579835i","-0.61514558993925+1.46641337930286i","-0.913932846593318+0.184194252525504i","0.46278198043172-0.802603766658311i","1.51408444069355-0.225977568548835i","-0.690824399302279+1.35445116881755i","-0.000720522057849376+0.0103875666783926i","3.5191395963076+4.8238174213022i","-88.4550867254634-58.0765124484861i","92.5272166236274-49.9486490476584i","254.802515156871+120.759114877979i","-255.107157185848+115.702264403234i","-246.823610114275-134.77771744144i","248.803858515823-126.678803929775i","1.34933287188676-1.58229537190087i","3.52038921970809+4.8255303274033i","-202.619722925813-130.44328859683i","205.481272710453-122.312539044725i","-73.1268484854955-32.8615300121015i","70.2477498924221-37.9201761414643i","-246.841987798529-134.788095410266i","248.823567293651-126.686306027241i","0.742020448189094-0.848163442669694i","0.000638307076599176+0.000874951590397188i","-250.391162954111-152.531708531748i","247.836691158149-152.530234287101i","155.554788550136+70.029168992052i","-154.38200145308+70.0282517725598i","0.0079688145859933+0.000595724021195565i","-0.00719010295199496+0.00206471769169525i","0.607290177785848-0.734078875791329i","1.05272944183051+0.0137846874728925i","-0.308766936723636-0.113541145930973i","1.39427388105854-0.63784054955398i","0.253366357709077+0.211811261182972i","-0.564160142980458+0.47621399225309i","-0.393090876406131-0.259931218728105i","1.05475936655774-0.772817052958744i","0.00269887047096697-0.000424221124578981i","1.28452861098134+0.00591236776266423i","-0.267913224963954-0.35670416479534i","0.98744019000352-0.267610487926226i","-0.182576206278778+0.327245048486519i","0.418929144741392-1.24804979438677i","-0.010106204718341-0.5864649228667i","-0.0680578455455499+0.823208251961361i","0.00339661096956398-0.000732109654551998i","1.28451134193897+0.00590827454053739i","-0.105074544020168-0.645386930656316i","0.066776742505225+0.390051027628529i","0.470114663198933+0.224544926661648i","-1.0192437585522+1.10008891217573i","-0.010071229492671-0.586474382457669i","-0.068171026740008+0.823352746280241i","0.00339660344386566-0.000732178807927814i","1.05270721812276+0.0137824189077198i","0.060387844416429-0.689652856568972i","-0.572179896173547+0.780723504252136i","-0.05203699595843+0.234064692116607i","0.099319560126507-0.618764298571417i","-0.393100558139657-0.259945090700253i","1.05475954999337-0.772836579769388i","0.00269883226570486-0.000424251064720381i","2.27042149161182+17.4487681685356i","-16.296100825979-6.23533375608534i","-9.14800727935098-45.935465083784i","40.7187370602964+22.5546249437986i","7.08202239672647+46.1660735671115i","-41.8239999335106-20.091414947154i","-0.344925987628807-0.0195810823855655i","-16.5884226899002+6.23533375544479i","2.37488298588274-17.4487681684869i","41.4883008855386-22.5546249421848i","-9.52586833897544+45.9354650834047i","-42.5974271776088+20.0914149455017i","7.41861692511273-46.1660735668357i","-0.0808955235706169-0.338739087601505i","-114.133226377947-72.3461535568814i","112.92120027602-72.3461535596093i","-328.019842348671-153.663525666675i","325.445493964654-153.663525658782i","0.0692677647880089+0.0374807218129831i","-0.0686398485570123+0.0374807141789972i","-0.607791563008246+0.734693791957576i","-250.375118831332-152.521174522594i","247.819908426074-152.521174522547i","155.508572069121+70.00726551392i","-154.335729715678+70.0072655137833i","0.0527380692582756+0.0250419183384686i","-0.0523185381235694+0.0250419184710297i","0.607045433667582-0.733791876567588i","17.2403061495716-6.44899434747879i","-1.34636117507212+17.6982544053421i","-43.7334979319165+23.3838257257772i","10.0972079465567-47.7500914072637i","44.7274287356058-20.8235630390986i","-7.39142198413995+47.7253044887687i","0.0831905573886099+0.357291509002707i","21.07725591755-8.26809191713668i","-2.16632848751322+22.1317902692699i","-53.6088369521628+29.0540120039929i","12.9267669335188-60.1971485158757i","54.8262955931444-26.1426106002444i","-9.87043434484861+60.0809890136796i","0.105306475434847+0.434866224112998i","21.2397826097134-8.55673490485366i","-3.08687950137266+22.7891601822313i","-52.9553372983693+28.9510922062254i","11.4882415035391-57.8482555393155i","54.825512712971-26.1424474610709i","-9.87023044563923+60.0803666301649i","0.105306457455254+0.434859974136619i","17.6090781291927-7.02500511779967i","-3.31272258993102+19.1164360704007i","-44.0379280950735+23.4056720282322i","10.7603717419534-48.84407045179i","44.7264268024154-20.8232270403765i","-7.39115220078321+47.7242758102471i","0.0831894898365704+0.357283767507312i","0.352008811721198-0.96383740165247i","-21.10275173293-91.5623481770173i","83.2117498638486+42.3169329653193i","7.08404337670485+46.1761278178694i","-41.8334696315208-20.0951604608207i","-0.46908547360319-0.0191840749883718i","1.0307384048527+0.0873490587241008i","83.4828261537774-44.7604289285273i","-19.1414846377752+92.1441793236908i","-42.6068219294513+20.0957067345868i","7.42011400115239-46.1762200073071i","-0.109811385149945-0.460397289129163i","-0.419164533097275+0.899572355000923i","2.65903464192816-0.339142282048076i","-1.42533773779137+2.24983763849044i","-0.000581441983792784+0.000040166824126451i","0.000280525798365584-0.000506212594682104i","0.000888095458396993-0.00700010073944871i","5.66770648916699+8.777893851979i","872.991065706758+390.653563028552i","-854.352714297675+415.916445742713i","-0.0989668277199764-0.0535835225826165i","0.0951262814765126-0.0589149958258117i","1.89706602615449-2.35098956863547i","0.078826670018-0.513838103172798i","-87.3889425611554+46.3788418720954i","20.1612766992479-95.7299760959328i","44.7371939377929-20.8280052435105i","-7.3929937726249+47.7358408581658i","0.113023129896288+0.483702711419869i","-0.76923726912434-0.2944173614896i","-106.849931032753+58.1873435054948i","24.3671108082166-119.402375624298i","54.8382186916441-26.1482646224424i","-9.87216164662979+60.0939779991724i","0.144465336521978+0.589751993728207i","-1.88131811016233+0.0957591290735991i","-106.530704442108+58.9070550844904i","22.5108409481238-117.830555060168i","54.8375187174409-26.1482758406013i","-9.87185722563474+60.0935188605208i","0.146341509316961+0.591139789496311i","-2.25112197534711+0.3311631981191i","-88.4786005859664+48.0573869376814i","20.0541344025947-98.4746421085439i","44.7363832875905-20.8280189740326i","-7.39253585541555+47.735160442546i","0.116726691043217+0.486787963480817i","-0.00714803834209832-0.0380296652409982i","0.0337638595774905+0.0183731200032042i","7.0823801891914+46.1652015684885i","-41.8232208246698-20.0911973185803i","-0.172564929958907-0.00979643699100931i","0.0344009767432993-0.0183731192859966i","-0.0074558468148993+0.0380296650744043i","-42.5966334597131+20.0911973175792i","7.41897107089644-46.1652015683215i","-0.040471775197751-0.169469632001499i","-10.0762117623911-90.2841439121444i","75.2177057954821+49.9102106444035i","0.000114790031318028+0.010706925846412i","-0.00926666831675349-0.00517543696116772i","-0.284066951600539-0.0406458871416125i","76.730249774732-49.9102106417399i","-10.9123651060287+90.2841439117431i","-0.00944604400012874+0.00517543543013426i","0.000201496686264765-0.0107069257141945i","-0.0905407397643419-0.274578891599087i","-67.7915646754405+89.740023577104i","-25.3699711516132-108.453963503132i","44.7352792020618-20.8332669431829i","-7.3875080295379+47.7367883861411i","0.261249251743442+0.458823569121487i","-33.1317307082784+42.3852670551368i","-10.6083065604754-53.165237058528i","54.8294287045095-26.1470645639766i","-9.86885434305067+60.085801156998i","0.1556588179065+0.351878911286603i","33.043945753441-42.3375499698596i","10.6267418395925+53.067598520183i","54.8202432989834-26.137634655252i","-9.87250343215118+60.0733564321233i","-0.050287859630713+0.083239650448162i","67.7221258808886-89.7068199400196i","25.3878553466604+108.379752004138i","44.7168330041104-20.8132402554632i","-7.39562800155868+47.7109911184953i","-0.178021981782428-0.101338852423911i","0.000285865315451397-0.000276270977809901i","7.08743358692722+46.1489921967928i","-41.8127805185836-20.0782660138946i","-0.172387666508225-0.00975671647115089i","0.00034982618374919+0.000203196497051701i","-42.5795211335689+20.0911537900246i","7.40969591939476-46.1512533521473i","-0.040456356009975-0.169287194354592i","0.106321245376208+0.388028831947501i","14.6687853030356-37.0528886756793i","22.1688745941038+32.0966912135675i","0.123976671873982+0.0833809876761525i","-0.299660286721499+0.256796807116302i","39.9960833777556-3.55266884649323i","-18.8711650433618+34.4781105420857i","-0.0176398265234016+0.148907005019383i","-0.633473905188862+0.761245157315261i","-0.38756145258407-0.205726287865735i","0.378268900365474-0.20343133271645i","0.0018550400498869-0.00431251635373563i","0.6691858893227-1.0939068594874i","33.2690833731338-16.5362368651054i","-5.95864236539432+37.3127406631668i","0.034332347959695+0.130371412867157i","-0.670035688274801+1.09332172125229i","76.3367499069255-35.7480287241293i","-13.7592162417239+82.810508826223i","0.070995674212483+0.304280057710007i","-0.000827361373403335-0.000317915261007329i","89.418369545089-41.6479241342636i","-14.7636241547818+95.4210935748305i","0.083212890477994+0.357123666683893i","7.07616376580582+46.1513686427963i","-41.8080917096855-20.0890006964856i","-0.172387835317848-0.00979851098023238i","-42.5849757747851+20.0807796591312i","7.42150711058968-46.1496422233586i","-0.0404154839348295-0.169298959849706i","18.0361758350562-48.2121177949828i","29.4194389431403+41.4758938507418i","0.161160024492995+0.103542698868278i","51.3044753673586-5.23877776929468i","-24.1543326734233+44.836986453741i","-0.0199525771956019+0.190331613997101i","26.8815914399091-9.12894156175154i","-8.3399018493424+27.6449867198509i","0.0135393898169955+0.0991462473080774i","24.5386001909689+15.4018582436727i","-27.2457788837493+11.2201951206052i","-0.0727538350840441+0.0758914591969467i","109.617673940638-52.256818633031i","-19.7475774066333+120.116841852475i","0.105221789044868+0.434673392009005i","89.4337753492609-41.6273800361897i","-14.7897333310788+95.4217148819702i","0.0831285697120197+0.357163326791334i","0.2200012516087+0.506817759845703i","-0.000696735004147991-0.000310250824269439i","-0.43142724896996+0.388019096964101i","-0.0003321366784877-0.000601268587882009i","0.0707908474001009-0.964233018581304i","0.00108137133646299+0.00198898781148299i","0.9032747951292-0.379753662116904i","0.0000643833662427006+0.00146212478110699i","-0.46400900578349+0.2986917639297i","0.0010199600725532-0.0046542999127846i","-0.524980559450601-0.155761091158899i","0.00135760674192141-0.000866778617883895i","-0.572436193834733+0.822888720856448i","-0.000758162694257424+0.0036039281568299i","2.1506951195373-2.0013491037744i","0.0009118347809456+0.00329009903541799i"]
[{"$f":"COMPLEX(定数!O$13,計算!B24*定数!O$23)","v":"74.3688188913563+56.1114586011009i"},{"$f":"COMPLEX(定数!P$13,計算!B24*定数!P$23)","v":"-73.4757772913563+56.1114586011009i"},{"$f":"COMPLEX(定数!Q$13,計算!B24*定数!Q$23)","v":"125.193786513619+80.2784742493545i"},{"$f":"COMPLEX(定数!R$13,計算!B24*定数!R$23)","v":"-123.916114913619+80.2784742493545i"},{"$f":"COMPLEX(定数!S$13,計算!B24*定数!S$23)","v":"-77.7867441135484-36.8628324469673i"},{"$f":"COMPLEX(定数!T$13,計算!B24*定数!T$23)","v":"77.2000539135484-36.8628324469673i"},{"$f":"COMPLEX(定数!U$13,計算!B24*定数!U$23)","v":"124.646605989444+67.2672918136865i"},{"$f":"COMPLEX(定数!V$13,計算!B24*定数!V$23)","v":"-123.576013789444+67.2672918136865i"},{"$f":"IMPRODUCT(定数!D$31,計算!G24)","v":"-2.15511564918892E-16+6.63276395421741E-16i"},{"$f":"COMPLEX(定数!O$14,計算!B24*定数!O$24)","v":"86.1948356167649+68.900668656857i"},{"$f":"COMPLEX(定数!P$14,計算!B24*定数!P$24)","v":"-85.0982474167649+68.900668656857i"},{"$f":"COMPLEX(定数!Q$14,計算!B24*定数!Q$24)","v":"57.0863694248256+38.0882797714229i"},{"$f":"COMPLEX(定数!R$14,計算!B24*定数!R$24)","v":"-56.4801756248256+38.0882797714229i"},{"$f":"COMPLEX(定数!S$14,計算!B24*定数!S$24)","v":"163.969671876329+80.8564770211685i"},{"$f":"COMPLEX(定数!T$14,計算!B24*定数!T$24)","v":"-162.682801076329+80.8564770211685i"},{"$f":"COMPLEX(定数!U$14,計算!B24*定数!U$24)","v":"-101.525845343051-58.0531136496737i"},{"$f":"COMPLEX(定数!V$14,計算!B24*定数!V$24)","v":"100.601901343051-58.0531136496737i"},{"$f":"IMPRODUCT(定数!D$32,計算!G24)","v":"2.15511564918892E-16-6.63276395421741E-16i"},{"$f":"COMPLEX(定数!O$15,計算!B24*定数!O$25)","v":"86.1919999827348+68.8999021154873i"},{"$f":"COMPLEX(定数!P$15,計算!B24*定数!P$25)","v":"-85.0954239827348+68.8999021154873i"},{"$f":"COMPLEX(定数!Q$15,計算!B24*定数!Q$25)","v":"-57.0828842529623-38.0881415453472i"},{"$f":"COMPLEX(定数!R$15,計算!B24*定数!R$25)","v":"56.4766926529622-38.0881415453472i"},{"$f":"COMPLEX(定数!S$15,計算!B24*定数!S$25)","v":"-163.956966054068-80.8493141984119i"},{"$f":"COMPLEX(定数!T$15,計算!B24*定数!T$25)","v":"162.670209254068-80.8493141984119i"},{"$f":"COMPLEX(定数!U$15,計算!B24*定数!U$25)","v":"-101.548680976766-58.0645239202901i"},{"$f":"COMPLEX(定数!V$15,計算!B24*定数!V$25)","v":"100.624555376766-58.0645239202901i"},{"$f":"IMPRODUCT(定数!D$33,計算!G24)","v":"0"},{"$f":"COMPLEX(定数!O$16,計算!B24*定数!O$26)","v":"74.3664237452132+56.1103527603596i"},{"$f":"COMPLEX(定数!P$16,計算!B24*定数!P$26)","v":"-73.4733997452132+56.1103527603596i"},{"$f":"COMPLEX(定数!Q$16,計算!B24*定数!Q$26)","v":"-125.201328746793-80.2826839833286i"},{"$f":"COMPLEX(定数!R$16,計算!B24*定数!R$26)","v":"123.923590146793-80.2826839833286i"},{"$f":"COMPLEX(定数!S$16,計算!B24*定数!S$26)","v":"77.7704269443536+36.8526285539444i"},{"$f":"COMPLEX(定数!T$16,計算!B24*定数!T$26)","v":"-77.1838991443536+36.8526285539444i"},{"$f":"COMPLEX(定数!U$16,計算!B24*定数!U$26)","v":"124.65071095008+67.2668142914508i"},{"$f":"COMPLEX(定数!V$16,計算!B24*定数!V$26)","v":"-123.58012635008+67.2668142914508i"},{"$f":"IMPRODUCT(定数!D$34,計算!G24)","v":"0"},{"$f":"IMDIV(COMPLEX(定数!O$17,計算!B24*定数!O$27),計算!R24)","v":"0.204636465527303+0.180306455906194i"},{"$f":"IMPRODUCT(COMPLEX(定数!P$17,計算!B24*定数!P$27),計算!R24)","v":"0.636730110379703+0.479681779333292i"},{"$f":"IMDIV(COMPLEX(定数!Q$17,計算!B24*定数!Q$27),計算!S24)","v":"0.0104483845498298+0.358165175207439i"},{"$f":"IMPRODUCT(COMPLEX(定数!R$17,計算!B24*定数!R$27),計算!S24)","v":"1.21699317670581+0.00343720739424236i"},{"$f":"IMDIV(COMPLEX(定数!S$17,計算!B24*定数!S$27),計算!T24)","v":"0.125064263121076-0.100993186189534i"},{"$f":"IMPRODUCT(COMPLEX(定数!T$17,計算!B24*定数!T$27),計算!T24)","v":"-0.586522035284774+0.261307952762246i"},{"$f":"IMDIV(COMPLEX(定数!U$17,計算!B24*定数!U$27),計算!U24)","v":"-0.146793352763726+0.245445942348519i"},{"$f":"IMPRODUCT(COMPLEX(定数!V$17,計算!B24*定数!V$27),計算!U24)","v":"1.0502257805334-0.328990744463049i"},{"$f":"IMPRODUCT(定数!E$31,計算!G24)","v":"0"},{"$f":"IMDIV(COMPLEX(定数!O$18,計算!B24*定数!O$28),計算!R24)","v":"0.271797170572313+0.214101769906431i"},{"$f":"IMPRODUCT(COMPLEX(定数!P$18,計算!B24*定数!P$28),計算!R24)","v":"0.761337970068423+0.581712245209417i"},{"$f":"IMDIV(COMPLEX(定数!Q$18,計算!B24*定数!Q$28),計算!S24)","v":"0.0143972448056387+0.172660303775033i"},{"$f":"IMPRODUCT(COMPLEX(定数!R$18,計算!B24*定数!R$28),計算!S24)","v":"0.567964814659006+0.00435892275117702i"},{"$f":"IMDIV(COMPLEX(定数!S$18,計算!B24*定数!S$28),計算!T24)","v":"-0.252088040607649+0.238978417040968i"},{"$f":"IMPRODUCT(COMPLEX(定数!T$18,計算!B24*定数!T$28),計算!T24)","v":"1.26426880045419-0.555708040179196i"},{"$f":"IMDIV(COMPLEX(定数!U$18,計算!B24*定数!U$28),計算!U24)","v":"0.104999301274318-0.225614205079858i"},{"$f":"IMPRODUCT(COMPLEX(定数!V$18,計算!B24*定数!V$28),計算!U24)","v":"-0.88468083738416+0.270136959704852i"},{"$f":"IMPRODUCT(定数!E$32,計算!G24)","v":"0"},{"$f":"IMDIV(COMPLEX(定数!O$19,計算!B24*定数!O$29),計算!R24)","v":"0.271801658660311+0.214096718164409i"},{"$f":"IMPRODUCT(COMPLEX(定数!P$19,計算!B24*定数!P$29),計算!R24)","v":"0.761321987922113+0.5817031036479i"},{"$f":"IMDIV(COMPLEX(定数!Q$19,計算!B24*定数!Q$29),計算!S24)","v":"-0.0144105735661396-0.17266354593704i"},{"$f":"IMPRODUCT(COMPLEX(定数!R$19,計算!B24*定数!R$29),計算!S24)","v":"-0.567949372388716-0.00436277571296168i"},{"$f":"IMDIV(COMPLEX(定数!S$19,計算!B24*定数!S$29),計算!T24)","v":"0.252071799574402-0.238952469128645i"},{"$f":"IMPRODUCT(COMPLEX(定数!T$19,計算!B24*定数!T$29),計算!T24)","v":"-1.26416289338249+0.555663589216878i"},{"$f":"IMDIV(COMPLEX(定数!U$19,計算!B24*定数!U$29),計算!U24)","v":"0.105030275659244-0.225651979608099i"},{"$f":"IMPRODUCT(COMPLEX(定数!V$19,計算!B24*定数!V$29),計算!U24)","v":"-0.884865057168111+0.270196624427827i"},{"$f":"IMPRODUCT(定数!E$33,計算!G24)","v":"0"},{"$f":"IMDIV(COMPLEX(定数!O$20,計算!B24*定数!O$30),計算!R24)","v":"0.204636153946967+0.180301578732636i"},{"$f":"IMPRODUCT(COMPLEX(定数!P$20,計算!B24*定数!P$30),計算!R24)","v":"0.636713840367719+0.479671002092265i"},{"$f":"IMDIV(COMPLEX(定数!Q$20,計算!B24*定数!Q$30),計算!S24)","v":"-0.0104449416747782-0.358182804366345i"},{"$f":"IMPRODUCT(COMPLEX(定数!R$20,計算!B24*定数!R$30),計算!S24)","v":"-1.21706098556083-0.00343623492355466i"},{"$f":"IMDIV(COMPLEX(定数!S$20,計算!B24*定数!S$30),計算!T24)","v":"-0.125047077001537+0.100951544203807i"},{"$f":"IMPRODUCT(COMPLEX(定数!T$20,計算!B24*定数!T$30),計算!T24)","v":"0.586377114387665-0.261249307228315i"},{"$f":"IMDIV(COMPLEX(定数!U$20,計算!B24*定数!U$30),計算!U24)","v":"-0.146810207261552+0.245432821225273i"},{"$f":"IMPRODUCT(COMPLEX(定数!V$20,計算!B24*定数!V$30),計算!U24)","v":"1.05023622167752-0.32899978773217i"},{"$f":"IMPRODUCT(定数!E$34,計算!G24)","v":"0"},"-0.266822569981566+0.955820776101135i","1.59173993513641-0.121507580185886i","-0.542785463031704+1.48899713533581i","-0.904843786389351+0.187030968365948i","0.423177520167262-0.814964406511416i","1.50293358393703-0.229457775664412i","-0.623989044518279+1.37531063122212i","2.44147201744313E-18+7.07664646601512E-18i","3.7571707311231+4.89810746620189i","-88.4853461505814-61.1103401869846i","92.8980263891434-52.857302202575i","254.849092082963+127.07971535985i","-255.310110404032+121.944985973859i","-246.880752725212-141.828167275399i","249.146356564054-133.604525027991i","4.92654959069076E-16-1.44146582878671E-15i","3.75850487782689+4.89984675221339i","-202.649993095855-137.285885920274i","205.852214148098-129.02991733591i","-73.0802550202407-34.6262391085474i","70.0447246068748-39.7627918034495i","-246.899150700433-141.839076143525i","249.166186960705-133.612513734396i","2.77144892729045E-16-7.78167495096128E-16i","0.000681481538094886+0.000888426435501799i","-250.391168442613-160.559689050225i","247.836758416208-160.558192101216i","155.554796998332+73.7149083542907i","-154.382038265053+73.7139770089993i","0.00795844996899575+0.00063489804620076i","-0.00712798011699078+0.00212651521029272i","2.15509586957204E-16-6.63256745940027E-16i","0.863672394643946+0.332195825983551i","-0.337188250964198+0.096029070522653i","1.59654267172709-0.203398180404508i","0.343951188472902+0.023882633772515i","-0.82006293113018+0.351777749560767i","-0.495721087613051+0.021412742566161i","1.42589407881715-0.497920197897084i","7.76350839654903E-19-1.88835308725093E-18i","1.03850250951084+0.379050047174932i","-0.44424815382624-0.135108617070808i","1.03428928979981-0.284134957308806i","0.033889601697378+0.3818725851845i","0.974765025978082-0.424806076424674i","-0.352621110286416-0.485028971261188i","-0.420625940300184+0.029928580314244i","8.51537347003408E-19-2.44613596671507E-18i","1.03848289632772+0.379035267886872i","-0.473062502241969-0.48042388038665i","-0.101629983208391-0.29286608053525i","0.538052558065765-0.096063711433936i","-1.55366445012661+0.686571348387033i","-0.352595722038182-0.485058123529998i","-0.420814307280902+0.029978920290404i","8.51490640069822E-19-2.44615539364035E-18i","0.86365137979148+0.332184045217499i","-0.358080488620385-0.620311183718581i","-0.837518921758279-0.210273806038986i","0.093838654236265+0.225823009360839i","0.352840325118907-0.170777700446466i","-0.495736354720929+0.021406880016319i","1.42589761790991-0.497931855949325i","7.76317086336551E-19-1.88833897482428E-18i","2.28009247354569+17.1518329589399i","-16.3057718079136-5.34821778790902i","-9.17597398990734-44.8387206519813i","40.7467037708544+20.2273099782484i","7.10907746414887+45.196026878519i","-41.8510550009349-17.7490178048081i","-2.30399066163868E-16+8.29242819846191E-17i","-16.5787517079672+5.3482177873004i","2.36521200394903-17.1518329588937i","41.4603341749847-20.227309976715i","-9.49790162842018+44.8387206516209i","-42.5703721101888+17.7490178032382i","7.39156185769093-45.196026878257i","-1.36703438577798E-16-2.05441208524106E-16i","-114.133226377946-76.1538458494878i","112.921200276019-76.1538458520818i","-328.019842348674-161.751079648728i","325.44549396466-161.751079641228i","0.0692677647919879+0.0394533909920085i","-0.0686398485619861+0.0394533837369977i","-2.15685004918227E-16+6.63810188780202E-16i","-250.375118831334-160.548604760624i","247.819908426076-160.54860476058i","155.508572069126+73.6918584356994i","-154.335729715682+73.6918584355719i","0.0527380692525077+0.0263599140458167i","-0.0523185381189869+0.0263599141690457i","2.15420228426195E-16-6.62995290600597E-16i","15.7580775622554+0.984313124491941i","-6.14399296047576+13.8244529084581i","-42.1836228563145+3.72070192175424i","22.278248355291-35.219024211832i","42.1672837632211-1.16622404056331i","-19.9719253309709+36.0811945678151i","5.05966250354789E-17+2.20957859130453E-16i","18.8000693040329+0.594930406413666i","-7.92339240403163+16.6315528915374i","-50.689934285078+5.67244313174028i","27.8344788804401-43.389749936073i","50.5845831925811-2.78112694465516i","-25.2283375990396+44.1643440424493i","6.49459015860702E-17+2.62722519484399E-16i","18.7708507506727+0.249475016525484i","-9.05901179582362+16.6225203224198i","-50.1846592143424+5.19472286740908i","25.3052004358827-42.2776334534464i","50.5835113224787-2.78143714197984i","-25.2277130288637+44.1636171864959i","6.49462099643628E-17+2.62716450321933E-16i","15.7367739184755+0.267889951863158i","-8.57780278764836+13.8172447035937i","-42.4326258145386+3.92270565790498i","23.4504237800606-35.7407492752971i","42.1661647889975-1.16635842171718i","-19.9712340154772+36.080320200187i","5.05961387343824E-17+2.20951945454964E-16i","0.306338366765598-0.9840927015669i","-21.1413337087632-89.3808839137053i","83.1533276280533+37.6083294865925i","7.11110227886339+45.2058735210703i","-41.8605048729749-17.7522394587172i","-3.11248742884733E-16+1.17718437755056E-16i","1.03487735025067+0.089184722476201i","83.4254658437543-40.1031761691742i","-19.0753331908176+89.9749423971088i","-42.5797608032538+17.7527972127629i","7.39305073066947-45.2059676479287i","-1.85732402446606E-16-2.79257841870117E-16i","-0.37653922134664+0.918477107828926i","2.64296473335143-0.346269447511092i","-1.31873149294768+2.29711857617907i","-0.000579538718547937+0.0000410109430237331i","0.000256539433138458-0.000516850789683253i","-1.37762385084848E-18-4.89689858195497E-18i","6.083637970246+8.96236363109301i","872.834257918153+411.318904738556i","-853.312466344341+437.112693669427i","-0.0989482559536693-0.0564160988888623i","0.0948922260910501-0.0618596156595068i","6.56687728052275E-16-2.11023244210125E-15i","0.69361036651726-0.278348098408699i","-84.1725036805677+6.5757378584662i","45.3200054679967-70.1191521887702i","42.1764565469078-1.16629984661756i","-19.9764766422718+36.0890866275161i","6.7485246985238E-17+2.99479580036401E-16i","-0.2979989879859-0.411865757827702i","-100.583860663336+10.6099526598682i","53.9933480293739-85.791184904771i","50.5955029593112-2.78155316802087i","-25.2334680484122+44.173908250006i","8.79320115933813E-17+3.55604142517443E-16i","-1.76191317849743-0.524139258078502i","-99.8817413395137+11.0351413156286i","50.6319861649687-85.0675128425057i","50.5943999884745-2.7820623718391i","-25.2326574336341+44.1732549153501i","8.95837278045498E-17+3.54979085477947E-16i","-2.40623940167378-0.535750817724201i","-84.1171264034194+8.66384597306891i","44.8183781285485-71.5367100563913i","42.1752958452078-1.16684854905631i","-19.9754095776708+36.0883850398774i","7.09636638944859E-17+2.98382382927982E-16i","-0.00717106943529799-0.0371370564123055i","0.0337868906796075+0.0164459561397052i","7.1094348116582+45.1951648967559i","-41.8502754471378-17.7488446336514i","-1.15267649994266E-16+4.14865742914984E-17i","0.0343779456486004-0.0164459554423999i","-0.00743281571979892+0.0371370562523055i","-42.5695788372476+17.7488446327001i","7.39191644842986-45.1951648965971i","-6.8392184016057E-17-1.02781275637989E-16i","-10.1334576345184-87.8422125245544i","75.2749516675959+45.3433354004899i","0.000121275377666634+0.0104554839191963i","-0.00927315366425132-0.00463286396793826i","-1.9581343534516E-16+5.17906494588602E-17i","76.6730039026081-45.3433353979932i","-10.8551192339+87.8422125241784i","-0.00943955865523164+0.00463286251322008i","0.000195011340309109-0.010455483793519i","-1.27137421244625E-16-1.59572388517428E-16i","-124.732462835896+59.368130178557i","28.3985158822928-134.068923210108i","42.1817143741757-1.17214073128488i","-19.9737016401272+36.096392940498i","2.00085751235142E-16+3.74772183481982E-16i","-59.0600158983897+28.676669456635i","14.5793340526726-64.0851463797038i","50.590781862955-2.78406041065955i","-25.2291036794741+44.1708728449101i","1.15767591452453E-16+2.55688181879579E-16i","58.9756568457853-28.6685474989615i","-14.5353435677976+64.0132448906063i","50.5753400405602-2.77884731359303i","-25.2268337110653+44.154935473766i","-5.07832168391952E-17+7.18867757960698E-18i","124.669205649542-59.3654497266986i","-28.3631746724602+134.017043843433i","42.1500999473573-1.16075802400296i","-19.9693387997079+36.0633311202949i","-1.49468370897112E-16-1.53700963137004E-16i","0.000201564075673004-0.000286799097788899i","7.11202048432824+45.1839040539881i","-41.8420794837518-17.7410720478816i","-1.15154577153459E-16+4.14592743411007E-17i","0.00032855926145857+0.000135649746493598i","-42.557942695712+17.7484983040941i","7.38642590492526-45.1851960151046i","-6.83367817813642E-17-1.02677995199253E-16i","-0.0503807724654024+0.3836614823867i","8.02381822993527-25.7815903220338i","17.7186947301606+19.5670898886937i","7.2612561248168E-17+8.1952333630869E-18i","-0.3719735269711+0.0961238547606911i","27.0132066063407-3.18817828742939i","-10.7395405488548+24.3271952092549i","2.3042968839715E-17+6.9544250881258E-17i","-0.602723966942699+0.78797713156861i","-0.279362960020031-0.123569402029122i","0.242855007690963-0.173800346249138i","-1.41890609447133E-19-3.07214300866411E-18i","1.5790067240767-0.263088488086602i","30.5480421058076-2.07087199613244i","-15.8700981450775+26.9419488508481i","1.92887002197003E-17+7.8316317051866E-17i","-1.5794615451247+0.262555301830503i","70.5935093776145-3.50019095166939i","-34.5667638261487+61.3672253771829i","4.56587528206878E-17+1.84302531763168E-16i","-0.000673277697600838-0.000418577843021239i","84.3138113848774-2.33996658901428i","-39.9281439788177+72.1480789787452i","5.0600170005869E-17+2.2087726555312E-16i","7.1076499016143+45.1889887152465i","-41.8438448500121-17.7476879198902i","-1.1516976071222E-16+4.14502506976056E-17i","-42.5639449395921+17.7453048083448i","7.39257878014292-45.1884135450306i","-6.83312301857808E-17-1.02695023307675E-16i","9.69660391070693-32.9914067337893i","22.830960331865+25.1345644716673i","9.20810928747567E-17+9.25111979827342E-18i","34.2730653934115-4.32605808458295i","-13.9668694752108+31.10241249981i","2.93024049680573E-17+8.78622716983775E-17i","12.6601950386777-14.0025945471178i","4.47934725338925+18.7358119986835i","4.17628924885964E-17+2.41783632696155E-17i","19.0364133955724+1.86027657635076i","-12.5453217320165+14.9723359396306i","3.84505416943357E-18+5.02391188905792E-17i","101.14921777101-5.56006690087187i","-50.4505508913486+88.3092949684283i","6.49224150442441E-17+2.62643748753775E-16i","84.3258495069022-2.33074588542607i","-39.9428575522317+72.1529083249037i","5.05817298130668E-17+2.20912699885897E-16i","0.129272690258006+0.893199338810899i","-1.32959599238001E-19+3.13543195233201E-19i","-0.848796799867439+0.370315172562599i","-5.88100062307609E-19+1.60367783372008E-19i","0.3018577814154-1.0247897482554i","6.88138508554903E-19+2.2463831785871E-19i","1.0687024827569-0.1512495505659i","8.96351480571899E-19+8.4155454151707E-20i","-0.42487614413202+0.429003920168999i","-1.2790841010222E-18-2.0734966846894E-18i","-0.599848352037-0.063100517140299i","-7.4642284290261E-19-6.371771183451E-19i","-0.54511756974574+0.84309504997717i","4.97612119590255E-19+2.62395015283499E-18i","4.0596042789585-0.212328512243701i","2.5044040814051E-18+8.05681584593993E-19i"]
[{"$f":"COMPLEX(定数!O$13,計算!B25*定数!O$23)","v":"74.3688188913563+58.9170315311559i"},{"$f":"COMPLEX(定数!P$13,計算!B25*定数!P$23)","v":"-73.4757772913563+58.9170315311559i"},{"$f":"COMPLEX(定数!Q$13,計算!B25*定数!Q$23)","v":"125.193786513619+84.2923979618222i"},{"$f":"COMPLEX(定数!R$13,計算!B25*定数!R$23)","v":"-123.916114913619+84.2923979618222i"},{"$f":"COMPLEX(定数!S$13,計算!B25*定数!S$23)","v":"-77.7867441135484-38.7059740693157i"},{"$f":"COMPLEX(定数!T$13,計算!B25*定数!T$23)","v":"77.2000539135484-38.7059740693157i"},{"$f":"COMPLEX(定数!U$13,計算!B25*定数!U$23)","v":"124.646605989444+70.6306564043708i"},{"$f":"COMPLEX(定数!V$13,計算!B25*定数!V$23)","v":"-123.576013789444+70.6306564043708i"},{"$f":"IMPRODUCT(定数!D$31,計算!G25)","v":"-0.0510150052262833-0.810860288279168i"},{"$f":"COMPLEX(定数!O$14,計算!B25*定数!O$24)","v":"86.1948356167649+72.3457020896999i"},{"$f":"COMPLEX(定数!P$14,計算!B25*定数!P$24)","v":"-85.0982474167649+72.3457020896999i"},{"$f":"COMPLEX(定数!Q$14,計算!B25*定数!Q$24)","v":"57.0863694248256+39.9926937599941i"},{"$f":"COMPLEX(定数!R$14,計算!B25*定数!R$24)","v":"-56.4801756248256+39.9926937599941i"},{"$f":"COMPLEX(定数!S$14,計算!B25*定数!S$24)","v":"163.969671876329+84.8993008722269i"},{"$f":"COMPLEX(定数!T$14,計算!B25*定数!T$24)","v":"-162.682801076329+84.8993008722269i"},{"$f":"COMPLEX(定数!U$14,計算!B25*定数!U$24)","v":"-101.525845343051-60.9557693321574i"},{"$f":"COMPLEX(定数!V$14,計算!B25*定数!V$24)","v":"100.601901343051-60.9557693321574i"},{"$f":"IMPRODUCT(定数!D$32,計算!G25)","v":"0.0510150052262833+0.810860288279168i"},{"$f":"COMPLEX(定数!O$15,計算!B25*定数!O$25)","v":"86.1919999827348+72.3448972212617i"},{"$f":"COMPLEX(定数!P$15,計算!B25*定数!P$25)","v":"-85.0954239827348+72.3448972212617i"},{"$f":"COMPLEX(定数!Q$15,計算!B25*定数!Q$25)","v":"-57.0828842529623-39.9925486226146i"},{"$f":"COMPLEX(定数!R$15,計算!B25*定数!R$25)","v":"56.4766926529622-39.9925486226146i"},{"$f":"COMPLEX(定数!S$15,計算!B25*定数!S$25)","v":"-163.956966054068-84.8917799083325i"},{"$f":"COMPLEX(定数!T$15,計算!B25*定数!T$25)","v":"162.670209254068-84.8917799083325i"},{"$f":"COMPLEX(定数!U$15,計算!B25*定数!U$25)","v":"-101.548680976766-60.9677501163046i"},{"$f":"COMPLEX(定数!V$15,計算!B25*定数!V$25)","v":"100.624555376766-60.9677501163046i"},{"$f":"IMPRODUCT(定数!D$33,計算!G25)","v":"0"},{"$f":"COMPLEX(定数!O$16,計算!B25*定数!O$26)","v":"74.3664237452132+58.9158703983776i"},{"$f":"COMPLEX(定数!P$16,計算!B25*定数!P$26)","v":"-73.4733997452132+58.9158703983776i"},{"$f":"COMPLEX(定数!Q$16,計算!B25*定数!Q$26)","v":"-125.201328746793-84.296818182495i"},{"$f":"COMPLEX(定数!R$16,計算!B25*定数!R$26)","v":"123.923590146793-84.296818182495i"},{"$f":"COMPLEX(定数!S$16,計算!B25*定数!S$26)","v":"77.7704269443536+38.6952599816416i"},{"$f":"COMPLEX(定数!T$16,計算!B25*定数!T$26)","v":"-77.1838991443536+38.6952599816416i"},{"$f":"COMPLEX(定数!U$16,計算!B25*定数!U$26)","v":"124.65071095008+70.6301550060233i"},{"$f":"COMPLEX(定数!V$16,計算!B25*定数!V$26)","v":"-123.58012635008+70.6301550060233i"},{"$f":"IMPRODUCT(定数!D$34,計算!G25)","v":"0"},{"$f":"IMDIV(COMPLEX(定数!O$17,計算!B25*定数!O$27),計算!R25)","v":"0.281884100914919+0.0275136234876181i"},{"$f":"IMPRODUCT(COMPLEX(定数!P$17,計算!B25*定数!P$27),計算!R25)","v":"0.210161453741513+0.772774967898694i"},{"$f":"IMDIV(COMPLEX(定数!Q$17,計算!B25*定数!Q$27),計算!S25)","v":"0.220541005988482+0.302794915286554i"},{"$f":"IMPRODUCT(COMPLEX(定数!R$17,計算!B25*定数!R$27),計算!S25)","v":"0.986976701078613+0.720342163590238i"},{"$f":"IMDIV(COMPLEX(定数!S$17,計算!B25*定数!S$27),計算!T25)","v":"0.0475106242931031-0.161552628011739i"},{"$f":"IMPRODUCT(COMPLEX(定数!T$17,計算!B25*定数!T$27),計算!T25)","v":"-0.632740732605727-0.12018704932082i"},{"$f":"IMDIV(COMPLEX(定数!U$17,計算!B25*定数!U$27),計算!U25)","v":"0.0179164964938158+0.299747235349689i"},{"$f":"IMPRODUCT(COMPLEX(定数!V$17,計算!B25*定数!V$27),計算!U25)","v":"1.05206978536737+0.3357613343907i"},{"$f":"IMPRODUCT(定数!E$31,計算!G25)","v":"0"},{"$f":"IMDIV(COMPLEX(定数!O$18,計算!B25*定数!O$28),計算!R25)","v":"0.358132373680806+0.0156095232925322i"},{"$f":"IMPRODUCT(COMPLEX(定数!P$18,計算!B25*定数!P$28),計算!R25)","v":"0.246062715437886+0.930734637505937i"},{"$f":"IMDIV(COMPLEX(定数!Q$18,計算!B25*定数!Q$28),計算!S25)","v":"0.113922869646021+0.14045037358904i"},{"$f":"IMPRODUCT(COMPLEX(定数!R$18,計算!B25*定数!R$28),計算!S25)","v":"0.458986278067906+0.338556485620295i"},{"$f":"IMDIV(COMPLEX(定数!S$18,計算!B25*定数!S$28),計算!T25)","v":"-0.076015274156622+0.356349280380028i"},{"$f":"IMPRODUCT(COMPLEX(定数!T$18,計算!B25*定数!T$28),計算!T25)","v":"1.35968344803843+0.265616291585523i"},{"$f":"IMDIV(COMPLEX(定数!U$18,計算!B25*定数!U$28),計算!U25)","v":"-0.0411468768993736-0.257823776567712i"},{"$f":"IMPRODUCT(COMPLEX(定数!V$18,計算!B25*定数!V$28),計算!U25)","v":"-0.882274202768442-0.288904715439065i"},{"$f":"IMPRODUCT(定数!E$32,計算!G25)","v":"0"},{"$f":"IMDIV(COMPLEX(定数!O$19,計算!B25*定数!O$29),計算!R25)","v":"0.358132784429706+0.0156026983216683i"},{"$f":"IMPRODUCT(COMPLEX(定数!P$19,計算!B25*定数!P$29),計算!R25)","v":"0.246055582767222+0.930717631387406i"},{"$f":"IMDIV(COMPLEX(定数!Q$19,計算!B25*定数!Q$29),計算!S25)","v":"-0.113935621012258-0.140445313420095i"},{"$f":"IMPRODUCT(COMPLEX(定数!R$19,計算!B25*定数!R$29),計算!S25)","v":"-0.45897144749841-0.338550706484172i"},{"$f":"IMDIV(COMPLEX(定数!S$19,計算!B25*定数!S$29),計算!T25)","v":"0.0760162620684629-0.35631717031517i"},{"$f":"IMPRODUCT(COMPLEX(定数!T$19,計算!B25*定数!T$29),計算!T25)","v":"-1.35957071966125-0.265592219282282i"},{"$f":"IMDIV(COMPLEX(定数!U$19,計算!B25*定数!U$29),計算!U25)","v":"-0.0411427233464091-0.257874866120957i"},{"$f":"IMPRODUCT(COMPLEX(定数!V$19,計算!B25*定数!V$29),計算!U25)","v":"-0.882459853542091-0.288961913910707i"},{"$f":"IMPRODUCT(定数!E$33,計算!G25)","v":"0"},{"$f":"IMDIV(COMPLEX(定数!O$20,計算!B25*定数!O$30),計算!R25)","v":"0.281880722169527+0.0275097853054782i"},{"$f":"IMPRODUCT(COMPLEX(定数!P$20,計算!B25*定数!P$30),計算!R25)","v":"0.210155135288296+0.772756442159265i"},{"$f":"IMDIV(COMPLEX(定数!Q$20,計算!B25*定数!Q$30),計算!S25)","v":"-0.220548645330424-0.302812151690123i"},{"$f":"IMPRODUCT(COMPLEX(定数!R$20,計算!B25*定数!R$30),計算!S25)","v":"-0.987032382926859-0.720381295812449i"},{"$f":"IMDIV(COMPLEX(定数!S$20,計算!B25*定数!S$30),計算!T25)","v":"-0.0475195811429756+0.161506346725163i"},{"$f":"IMPRODUCT(COMPLEX(定数!T$20,計算!B25*定数!T$30),計算!T25)","v":"0.632587693619313+0.120152218319215i"},{"$f":"IMDIV(COMPLEX(定数!U$20,計算!B25*定数!U$30),計算!U25)","v":"0.0178951737193021+0.29974582140993i"},{"$f":"IMPRODUCT(COMPLEX(定数!V$20,計算!B25*定数!V$30),計算!U25)","v":"1.05208351244322+0.335759664791361i"},{"$f":"IMPRODUCT(定数!E$34,計算!G25)","v":"0"},"-0.221406791290846+0.967632181169609i","1.58596650824619-0.123009091017571i","-0.472035835004815+1.50739718349441i","-0.895957018827898+0.189342174172469i","0.384454525174505-0.8250352011231i","1.4920309086458-0.232293264076307i","-0.558641225324224+1.3923058162678i","-0.00572847845020893-0.00636497055969351i","3.98990407428799+4.95863505965769i","-88.5149321002314-64.1424183901989i","93.2605831465764-55.7873947855599i","254.894632359584+133.397622863409i","-255.508546549834+128.199441865765i","-246.936623529217-148.875313245732i","249.481231730087-140.550048631295i","0.0843019996549252+1.77391867476358i","3.9913208630838+4.9603958386227i","-202.679589551283-144.126733087186i","206.21489964707-135.768742668163i","-73.0346985725652-36.3936421395646i","69.8462179976911-41.5936689773732i","-246.955041343796-148.886751839976i","249.501181038725-140.55853097838i","0.0332758735241213+0.963035727085788i","0.00072369507799408+0.000899405025698741i","-250.391173808959-168.587669251369i","247.836824177323-168.586153804048i","155.554805258499+77.400647228073i","-154.382074257713+77.3997043738283i","0.00794831603499802+0.000674671331097443i","-0.00706723993299363+0.00218472091999899i","0.0510086752591677+0.810838391720383i","0.299195575548193+0.506106543586535i","-0.22990216308548+0.293833536940545i","1.16151005658153+0.308418280036221i","0.305276152294324-0.190274152466502i","-0.763812058664947+0.101799519517162i","-0.40905452413358+0.324175836590061i","1.24784924291031-0.041337294488329i","0.00143964359405845+0.00195179520280512i","0.340459932222498+0.587650282079508i","-0.455983193801879+0.159747730187836i","0.651567343567435-0.193922991422902i","0.247811480790196+0.302525180060259i","1.20911943017627+0.555086954668329i","-0.579117434934122-0.197921929735687i","-0.660473464637763-0.778814379089777i","0.00195219942874485+0.00236892083275079i","0.340446286432987+0.587631367412224i","-0.683841496360694-0.12113708212024i","-0.266400476052539-0.871034024319925i","0.399842092773818-0.410147463287578i","-1.51012926459648+0.023881406573758i","-0.579112308836452-0.197962740807249i","-0.660668388396773-0.778875962159588i","0.00195224522244969+0.00236888435045693i","0.299184795069245+0.506090437430287i","-0.670985983696058-0.311767858424205i","-0.812506407977792-1.13230189801469i","0.210242192917845+0.132782023163171i","0.501520833169422+0.342137475179805i","-0.40906991413168+0.324179364476892i","1.24785573855638-0.041336404007581i","0.00143964866890461+0.00195175171024649i","2.28841516820772+16.9112709203512i","-16.3140945025752-4.5174749907418i","-9.20004170032684-43.9049971178979i","40.7707714812727+18.0630159104217i","7.13236062885266+44.3836870239204i","-41.8743381656374-15.5643274964608i","0.203275196679531-0.188120878372537i","-16.5704290133048+4.51747499016249i","2.35688930928702-16.9112709203075i","41.4362664645644-18.0630159089624i","-9.47383391800015+43.9049971175549i","-42.5470889454842+15.5643274949667i","7.36827869298683-44.3836870236711i","0.225454437645861+0.164408061869123i","-114.133226377946-79.9615381420908i","112.921200276019-79.961538144559i","-328.019842348673-169.838633630795i","325.445493964657-169.838633623653i","0.0692677647909932+0.0414260601839942i","-0.0686398485599966+0.0414260532760125i","-0.0510560611950083-0.811512854609162i","-250.375118831332-168.576034998652i","247.819908426074-168.57603499861i","155.50857206912+77.3764513574756i","-154.335729715676+77.3764513573535i","0.0527380692584154+0.0276779097571219i","-0.0523185381245266+0.0276779098750382i","0.0509933844294419+0.810516635560941i","7.01422053564048+7.32862756090404i","-8.10256566994629+4.17535861434973i","-21.2340819895729-15.7570653109597i","24.2913234704216-8.2396120237595i","20.1980542325372+17.2007580395809i","-23.4195815726141+9.50893142801993i","0.0171926692930539-0.161342335666083i","7.8402793972217+8.35934578506732i","-10.0887721575701+4.1786604924686i","-24.4743133853972-17.8977753240634i","30.235364224617-8.82550421391618i","23.0528430265051+19.5058570067149i","-29.2511633282375+10.0020816443997i","0.021808440802109-0.18609380064671i","7.61210953154006+8.07820919312053i","-11.0063879445118+3.50136327170535i","-24.3213756869072-18.6099106983306i","27.5151558034881-9.35628983807807i","23.0519731699065+19.505223819149i","-29.2504182033435+10.001553779419i","0.0218084533758252-0.186087329255522i","6.57288531871072+6.72280798016453i","-10.0762843505382+2.73449408512616i","-21.3283783203945-15.4335364843107i","25.5558470890452-7.99895333824907i","20.1973294830519+17.2002440883101i","-23.4187807927966+9.508572515745i","0.0171924568927859-0.161336975556591i","0.261193414587698-1.00166886236141i","-21.172334410493-87.5256932496203i","83.0884402669541+33.231690109539i","7.13438848284327+44.3933604176527i","-41.883767688491-15.5670610379967i","0.272041657031435-0.260134729306584i","1.03896867216014+0.0907775856475972i","83.3759028748919-35.7710954263899i","-19.0170802375092+88.1303617776744i","-42.5564724008212+15.5676287538488i","7.36976020862672-44.3934562256734i","0.306389563585749+0.223503688316487i","-0.334404364495514+0.934881356439658i","2.6270797281823-0.352453913143213i","-1.21335187972147+2.33814573286561i","-0.000577657352581397+0.0000417434116137718i","0.000232829059527723-0.000526081886103833i","0.00364140739888152+0.00455906079680537i","6.49478366503499+9.12243386026799i","872.679254389589+431.993445173985i","-852.284187680661+458.247918126946i","-0.0989298978551106-0.059249764685645i","0.0946608637661114-0.0647905051855716i","0.19416280219445+2.56584604543855i","1.09441756568498+0.0686196477516807i","-42.2440020295638-32.5377647361728i","49.937440401411-15.7476778117441i","20.2024119705191+17.2046986776808i","-23.4250701451945+9.51091516492623i","0.0250626933444909-0.220007112154192i","0.348048018217-0.35566883041824i","-48.0176365863879-37.095106023193i","59.2937506456807-17.0143921094511i","23.0577209691571+19.5103585642604i","-29.2573864735132+10.0042599747552i","0.0313695550514082-0.252277894674138i","-0.9086981260791-0.91366760102078i","-47.1661907672242-37.1490925179274i","55.6393535663185-17.352800948098i","23.0567075729575+19.5095725006637i","-29.2564403231754+10.0036775305095i","0.0309187082473272-0.250207450127297i","-1.59325496905327-1.16223752712014i","-40.9653520767659-30.778249894242i","49.2499746373931-15.2101853990684i","20.2014069915246+17.2038531931125i","-23.4238478990059+9.5104651265912i","0.0239075939680514-0.215783642055253i","-0.00719088963409931-0.0363786981170051i","0.0338067108690012+0.0146530428171019i","7.13271759344046+44.3828324654763i","-41.8735582289194-15.564196189178i","0.101697730345375-0.094115966623332i","0.0343581254317087-0.0146530421409992i","-0.0074129955196014+0.0363786979626894i","-42.5462960554654+15.564196188273i","7.36863366664752-44.3828324653254i","0.112793896539303+0.082252544590854i","-10.1827225299768-85.733973347432i","75.3242165630681+41.1101523670793i","0.000126856564640735+0.0102418453697683i","-0.00927873485028468-0.00412809435686629i","0.180454675519078-0.1396268674818i","76.6237390071385-41.1101523646568i","-10.8058543384424+85.7339733470671i","-0.00943397746743554+0.00412809297169251i","0.000189430153280341-0.0102418452500763i","0.196711377185226+0.118766006273118i","-128.923332121718+7.196014159607i","67.6465922530633-108.834950300382i","20.2130199494593+17.2008281764305i","-23.4259802526951+9.52211102164255i","-0.182072011701769-0.363484981036943i","-60.064777286346+4.4658766708661i","32.5618048058572-50.6972372009906i","23.0595362123194+19.5055664179506i","-29.2538096991812+10.0078920030984i","-0.0793368164832518-0.223650062335614i","60.0226715703518-4.4971831346227i","-32.5122597757021+50.6805409633127i","23.0443632305091+19.5047041714506i","-29.2469105461704+9.99454386111687i","0.101157316039602+0.037443809301303i","128.895562667629-7.2222194854128i","-67.6097476552749+108.826924228096i","20.1815784354795+17.1994657751097i","-23.4116426315763+9.49436741858715i","0.199284663700921+0.202066232170158i","0.0001547606418675-0.0002429013149915i","7.13680296780054+44.3763975232326i","-41.8699153864519-15.557913787483i","0.101601620200468-0.0940496813898737i","0.000269130638087521+0.000114412241833201i","-42.5391043208883+15.5668842804674i","7.36319956285469-44.3779356024964i","0.112708579257416+0.0821716073554627i","-0.127748375545494+0.509833101961604i","10.6351511169728-14.1963719530511i","7.32278638237387+15.2313065183422i","-0.054510679869002-0.00295486723253i","-0.523179479306599+0.0527542421290121i","17.2242161830417+4.74372812925659i","-11.5831016214249+12.4724625209208i","-0.017919815724645-0.051188174403631i","-0.570047217503906+0.81236561860424i","-0.14887250419651-0.141728549238503i","0.185250114666572-0.0635187474498542i","0.00125098525309456+0.00288921394212804i","1.9499703081222+0.643083325500598i","13.4846001820555+11.6575189162476i","-18.4104697118624+5.36534841865054i","0.00870620727366679-0.05569681622648i","-1.9498598190066-0.643420489712398i","32.617467897082+27.3421234194541i","-40.0804618974082+14.640212469225i","0.0130765148408988-0.130348620461651i","-0.000273607955605826-0.000405395595990399i","40.3941783195772+34.3924569746231i","-46.8308140602455+19.019569098899i","0.017171678384028-0.161305734496731i","7.13475246852224+44.3778282854804i","-41.8700091295013-15.5606020271213i","0.101608891792484-0.094046574581209i","-42.5408798759433+15.5650697046365i","7.36587624851791-44.378478650995i","0.112706682667538+0.0821794091605777i","13.3593567412812-17.8567136606071i","9.03647096898745+19.8311916582889i","-0.068892492367451-0.00413703223207513i","21.5935042562105+6.06569108361104i","-15.3308783025854+15.6460509773369i","-0.0216869453119155-0.0651248699231347i","7.1293586476457-4.75184922787893i","0.0949771859110874+9.20461599963402i","-0.023302769077706-0.00892241646413406i","8.01513377072561+3.33498413260439i","-7.69686010128153+5.28986044840285i","-0.00446895508063448-0.0270890820807321i","46.1000580567993+39.0019762725146i","-58.4918647416337+20.0023813101036i","0.0217923493544682-0.186043950411127i","40.3950193360621+34.3966187527455i","-46.8350644685316+19.0178961736137i","0.0171814374369396-0.161314957979807i","0.866471607050499+1.4940984582169i","-0.000884464503900992+0.000480938634773193i","-1.3172138132527+1.1747508563848i","-0.000465533542807997-0.0011118675389251i","0.36998433311518-1.2898516259757i","0.000174331822255-0.00021459449834196i","1.346399059006-0.1364605886454i","-0.000347350275891001+0.001097797147112i","-0.332790812448502+0.44400067336554i","0.0012044966006366+0.00136165324537424i","-0.55466339716515+0.00110121905582972i","0.00065085883170489-0.000650782410053199i","-0.525549030627571+0.878520198017621i","-0.00171443216570743-0.0025851964788533i","4.6126231035164+1.6071654299423i","-0.002486059762999+0.002084773352274i"]
[{"$f":"COMPLEX(定数!O$13,計算!B26*定数!O$23)","v":"74.3688188913563+61.722604461211i"},{"$f":"COMPLEX(定数!P$13,計算!B26*定数!P$23)","v":"-73.4757772913563+61.722604461211i"},{"$f":"COMPLEX(定数!Q$13,計算!B26*定数!Q$23)","v":"125.193786513619+88.3063216742899i"},{"$f":"COMPLEX(定数!R$13,計算!B26*定数!R$23)","v":"-123.916114913619+88.3063216742899i"},{"$f":"COMPLEX(定数!S$13,計算!B26*定数!S$23)","v":"-77.7867441135484-40.549115691664i"},{"$f":"COMPLEX(定数!T$13,計算!B26*定数!T$23)","v":"77.2000539135484-40.549115691664i"},{"$f":"COMPLEX(定数!U$13,計算!B26*定数!U$23)","v":"124.646605989444+73.9940209950552i"},{"$f":"COMPLEX(定数!V$13,計算!B26*定数!V$23)","v":"-123.576013789444+73.9940209950552i"},{"$f":"IMPRODUCT(定数!D$31,計算!G26)","v":"-0.608022339201209-1.29211324249867i"},{"$f":"COMPLEX(定数!O$14,計算!B26*定数!O$24)","v":"86.1948356167649+75.7907355225427i"},{"$f":"COMPLEX(定数!P$14,計算!B26*定数!P$24)","v":"-85.0982474167649+75.7907355225427i"},{"$f":"COMPLEX(定数!Q$14,計算!B26*定数!Q$24)","v":"57.0863694248256+41.8971077485652i"},{"$f":"COMPLEX(定数!R$14,計算!B26*定数!R$24)","v":"-56.4801756248256+41.8971077485652i"},{"$f":"COMPLEX(定数!S$14,計算!B26*定数!S$24)","v":"163.969671876329+88.9421247232854i"},{"$f":"COMPLEX(定数!T$14,計算!B26*定数!T$24)","v":"-162.682801076329+88.9421247232854i"},{"$f":"COMPLEX(定数!U$14,計算!B26*定数!U$24)","v":"-101.525845343051-63.8584250146411i"},{"$f":"COMPLEX(定数!V$14,計算!B26*定数!V$24)","v":"100.601901343051-63.8584250146411i"},{"$f":"IMPRODUCT(定数!D$32,計算!G26)","v":"0.608022339201209+1.29211324249867i"},{"$f":"COMPLEX(定数!O$15,計算!B26*定数!O$25)","v":"86.1919999827348+75.7898923270361i"},{"$f":"COMPLEX(定数!P$15,計算!B26*定数!P$25)","v":"-85.0954239827348+75.7898923270361i"},{"$f":"COMPLEX(定数!Q$15,計算!B26*定数!Q$25)","v":"-57.0828842529623-41.8969556998819i"},{"$f":"COMPLEX(定数!R$15,計算!B26*定数!R$25)","v":"56.4766926529622-41.8969556998819i"},{"$f":"COMPLEX(定数!S$15,計算!B26*定数!S$25)","v":"-163.956966054068-88.9342456182531i"},{"$f":"COMPLEX(定数!T$15,計算!B26*定数!T$25)","v":"162.670209254068-88.9342456182531i"},{"$f":"COMPLEX(定数!U$15,計算!B26*定数!U$25)","v":"-101.548680976766-63.8709763123191i"},{"$f":"COMPLEX(定数!V$15,計算!B26*定数!V$25)","v":"100.624555376766-63.8709763123191i"},{"$f":"IMPRODUCT(定数!D$33,計算!G26)","v":"0"},{"$f":"COMPLEX(定数!O$16,計算!B26*定数!O$26)","v":"74.3664237452132+61.7213880363956i"},{"$f":"COMPLEX(定数!P$16,計算!B26*定数!P$26)","v":"-73.4733997452132+61.7213880363956i"},{"$f":"COMPLEX(定数!Q$16,計算!B26*定数!Q$26)","v":"-125.201328746793-88.3109523816615i"},{"$f":"COMPLEX(定数!R$16,計算!B26*定数!R$26)","v":"123.923590146793-88.3109523816615i"},{"$f":"COMPLEX(定数!S$16,計算!B26*定数!S$26)","v":"77.7704269443536+40.5378914093389i"},{"$f":"COMPLEX(定数!T$16,計算!B26*定数!T$26)","v":"-77.1838991443536+40.5378914093389i"},{"$f":"COMPLEX(定数!U$16,計算!B26*定数!U$26)","v":"124.65071095008+73.9934957205958i"},{"$f":"COMPLEX(定数!V$16,計算!B26*定数!V$26)","v":"-123.58012635008+73.9934957205958i"},{"$f":"IMPRODUCT(定数!D$34,計算!G26)","v":"0"},{"$f":"IMDIV(COMPLEX(定数!O$17,計算!B26*定数!O$27),計算!R26)","v":"0.253634889119797-0.148318852925785i"},{"$f":"IMPRODUCT(COMPLEX(定数!P$17,計算!B26*定数!P$27),計算!R26)","v":"-0.308857750489907+0.743013708418553i"},{"$f":"IMDIV(COMPLEX(定数!Q$17,計算!B26*定数!Q$27),計算!S26)","v":"0.368590289120107+0.130299502461636i"},{"$f":"IMPRODUCT(COMPLEX(定数!R$17,計算!B26*定数!R$27),計算!S26)","v":"0.377546791578053+1.16747073916934i"},{"$f":"IMDIV(COMPLEX(定数!S$17,計算!B26*定数!S$27),計算!T26)","v":"-0.0551345683650911-0.167198177874013i"},{"$f":"IMPRODUCT(COMPLEX(定数!T$17,計算!B26*定数!T$27),計算!T26)","v":"-0.452697369362089-0.46098741150979i"},{"$f":"IMDIV(COMPLEX(定数!U$17,計算!B26*定数!U$27),計算!U26)","v":"0.192500801913301+0.248794911765558i"},{"$f":"IMPRODUCT(COMPLEX(定数!V$17,計算!B26*定数!V$27),計算!U26)","v":"0.670261399566604+0.882679004008295i"},{"$f":"IMPRODUCT(定数!E$31,計算!G26)","v":"0"},{"$f":"IMDIV(COMPLEX(定数!O$18,計算!B26*定数!O$28),計算!R26)","v":"0.310097887837639-0.203861912697042i"},{"$f":"IMPRODUCT(COMPLEX(定数!P$18,計算!B26*定数!P$28),計算!R26)","v":"-0.377907425656144+0.890627715833116i"},{"$f":"IMDIV(COMPLEX(定数!Q$18,計算!B26*定数!Q$28),計算!S26)","v":"0.180616762523046+0.0538441933361268i"},{"$f":"IMPRODUCT(COMPLEX(定数!R$18,計算!B26*定数!R$28),計算!S26)","v":"0.173389440846681+0.545932123623175i"},{"$f":"IMDIV(COMPLEX(定数!S$18,計算!B26*定数!S$28),計算!T26)","v":"0.145401915606247+0.35258463422477i"},{"$f":"IMPRODUCT(COMPLEX(定数!T$18,計算!B26*定数!T$28),計算!T26)","v":"0.968497876768891+0.996994215499965i"},{"$f":"IMDIV(COMPLEX(定数!U$18,計算!B26*定数!U$28),計算!U26)","v":"-0.186842544753871-0.199499220741144i"},{"$f":"IMPRODUCT(COMPLEX(定数!V$18,計算!B26*定数!V$28),計算!U26)","v":"-0.557739714937677-0.746554769738345i"},{"$f":"IMPRODUCT(定数!E$32,計算!G26)","v":"0"},{"$f":"IMDIV(COMPLEX(定数!O$19,計算!B26*定数!O$29),計算!R26)","v":"0.310093948129541-0.203867601855497i"},{"$f":"IMPRODUCT(COMPLEX(定数!P$19,計算!B26*定数!P$29),計算!R26)","v":"-0.377902731538724+0.890609850022141i"},{"$f":"IMDIV(COMPLEX(定数!Q$19,計算!B26*定数!Q$29),計算!S26)","v":"-0.180624242807933-0.0538326918195126i"},{"$f":"IMPRODUCT(COMPLEX(定数!R$19,計算!B26*定数!R$29),計算!S26)","v":"-0.173380675801628-0.545918836219858i"},{"$f":"IMDIV(COMPLEX(定数!S$19,計算!B26*定数!S$29),計算!T26)","v":"-0.145382336381114-0.352557279414756i"},{"$f":"IMPRODUCT(COMPLEX(定数!T$19,計算!B26*定数!T$29),計算!T26)","v":"-0.968418778973504-0.996909774390168i"},{"$f":"IMDIV(COMPLEX(定数!U$19,計算!B26*定数!U$29),計算!U26)","v":"-0.186869399741749-0.199545686108783i"},{"$f":"IMPRODUCT(COMPLEX(定数!V$19,計算!B26*定数!V$29),計算!U26)","v":"-0.557859206631372-0.74670875816766i"},{"$f":"IMPRODUCT(定数!E$33,計算!G26)","v":"0"},{"$f":"IMDIV(COMPLEX(定数!O$20,計算!B26*定数!O$30),計算!R26)","v":"0.253629646709762-0.148319872131509i"},{"$f":"IMPRODUCT(COMPLEX(定数!P$20,計算!B26*定数!P$30),計算!R26)","v":"-0.308851419751668+0.74299512289444i"},{"$f":"IMDIV(COMPLEX(定数!Q$20,計算!B26*定数!Q$30),計算!S26)","v":"-0.368607192387237-0.130309707648813i"},{"$f":"IMPRODUCT(COMPLEX(定数!R$20,計算!B26*定数!R$30),計算!S26)","v":"-0.377569015097815-1.16753533272428i"},{"$f":"IMDIV(COMPLEX(定数!S$20,計算!B26*定数!S$30),計算!T26)","v":"0.0551001226213239+0.167162994902013i"},{"$f":"IMPRODUCT(COMPLEX(定数!T$20,計算!B26*定数!T$30),計算!T26)","v":"0.452591243631018+0.460870905598456i"},{"$f":"IMDIV(COMPLEX(定数!U$20,計算!B26*定数!U$30),計算!U26)","v":"0.192482345039561+0.248805702794262i"},{"$f":"IMPRODUCT(COMPLEX(定数!V$20,計算!B26*定数!V$30),計算!U26)","v":"0.670273731799485+0.882685295173185i"},{"$f":"IMPRODUCT(定数!E$34,計算!G26)","v":"0"},"-0.177147303494213+0.97697662124091i","1.58034007346166-0.124196991855935i","-0.403087500559275+1.52195414317281i","-0.887296509379932+0.191170654698392i","0.346717422041203-0.833002579785816i","1.48140581670828-0.234536523991974i","-0.494957169043871+1.4057513366982i","-0.0133795643401624-0.00626998911396854i","4.2167120000491+5.00652068092161i","-88.5437647882374-67.1728894977238i","93.6139091677024-58.7371812911388i","254.939013175579+139.713056639298i","-255.701930488782+134.464676721282i","-246.991071856193-155.919424338719i","249.807580936281-147.513762505399i","1.28606460145943+2.84660094580819i","4.21820932686001+5.00829846375849i","-202.708432477588-150.965972587739i","206.568351131961-142.527268916194i","-72.9903019972321-38.1635197766563i","69.6527653893685-43.4137633601463i","-247.009509005018-155.931391581418i","249.827646129393-147.52274495241i","0.678009609536913+1.55445864232648i","0.000764833856194969+0.00090809059490482i","-250.391179038677-176.615649161015i","247.836888264152-176.614119078994i","155.554813308361+81.0863856531666i","-154.382109333997+81.0854336937628i","0.00793844011199951+0.000714995087008674i","-0.00700804620099404+0.00223962725020499i","0.607997920159632+1.29208194972434i","-0.408831065608042+0.468944066564323i","-0.013818334815008+0.396194419648513i","0.254049352366944+0.721664593108615i","0.141560571189934-0.347288526157683i","-0.417087017139359-0.198284164222773i","-0.148449209941235+0.528001968474563i","0.587300380498129+0.45271994003486i","0.00432348191112925-0.00039415364187588i","-0.522142743672921+0.551555741000103i","-0.284124320011624+0.414528568274119i","-0.011882459280531-0.00819683040874097i","0.381578273732314+0.112417054454658i","1.03079903571411+1.32598903287756i","-0.598410295167182+0.175232283244222i","-0.690833698522794-1.28337820525779i","0.00542718661543541-0.00078327319643201i","-0.522144305638972+0.551540716372755i","-0.645358392687652+0.306860184623675i","-0.358662822614212-1.10004408742537i","0.090789438455563-0.59272915399873i","-0.90611151497918-0.667916266269231i","-0.598429979533119+0.175193321823568i","-0.690963137745359-1.28352947132694i","0.00542716957481901-0.000783374016820487i","-0.408826659288769+0.468930422202708i","-0.751007404949407+0.135586169138156i","-0.501070118643257-1.61333391090642i","0.251790415761999-0.01292725552438i","0.488204262489638+0.723570139320771i","-0.148459661637288+0.528013039823928i","0.587308685212771+0.452733096261484i","0.00432341816037569-0.00039420014825829i","2.29562903241776+16.7193965344864i","-16.3213083667858-3.73541984629867i","-9.22090287592763-43.1120693686364i","40.7916326568749+16.0395176274182i","7.15254178355973+43.7075533721741i","-41.8945193203458-13.5158433909675i","0.194849456711279-0.43188365862675i","-16.5632151490956+3.73541984574571i","2.34967544507711-16.7193965344444i","41.4154052889656-16.039517626025i","-9.4529727424003+43.1120693683089i","-42.5269077907788+13.5158433895409i","7.34809753828042-43.707553371936i","0.459192739977537+0.129874413186202i","-114.133226377943-83.7692304346847i","112.921200276016-83.7692304370404i","-328.019842348682-177.926187612884i","325.445493964666-177.926187606068i","0.0692677647990081+0.0433987293979783i","-0.0686398485680115+0.0433987228049943i","-0.608511665020747-1.29315311289458i","-250.375118831334-176.603465236682i","247.819908426075-176.603465236642i","155.508572069125+81.0610442792569i","-154.335729715682+81.0610442791405i","0.0527380692539173+0.0289959054628496i","-0.0523185381202493+0.0289959055755545i","0.607764651738712+1.29156562876766i","-5.03367226132596+9.69057156307485i","-6.62579213295294-7.21561046671248i","9.55182822678838-26.3262501836616i","15.9353931909993+21.8601845751336i","-11.1965956769224+25.9964397018258i","-16.9049668905477-20.8621324212466i","0.252959574577815-0.162633169725622i","-6.87219466103852+11.5004873402056i","-8.00669562027711-10.0340853906783i","13.1596435921324-31.1054052389632i","19.8737072786173+29.0504846038521i","-15.3487855930102+30.6883919726987i","-20.9612298764685-28.1578454247784i","0.316824321943862-0.186240682722656i","-7.23351072818548+11.3925759350189i","-8.3532211107951-11.1259234598268i","12.8691604340879-31.8099542495676i","17.9361342199251+27.0565046169012i","-15.3490747734725+30.6877351716248i","-20.9606911485105-28.1579545581348i","0.316823070832056-0.186233681483821i","-5.77083931606538+9.42972085861504i","-7.38069383189104-9.55050323990689i","9.66209443084054-25.9912531510264i","16.8401378867798+22.7817199333567i","-11.1966031565398+25.9958109655456i","-16.9043946022333-20.8618264154852i","0.252955715423783-0.162627523108339i","0.216723133870399-1.01672796941921i","-21.1971917039555-85.9523709521584i","83.0188425025327+29.1422653315299i","7.15457203346898+43.7170832012339i","-41.903928200187-13.5181198082995i","0.255081369430953-0.591242411603488i","1.04299885106245+0.0921423374451003i","83.3327607192266-31.7198481122669i","-18.9653779653893+86.5661300774252i","-42.5362866846016+13.5186960593487i","7.34957240447114-43.7171804496611i","0.624106508699271+0.176583223188233i","-0.292899194553389+0.948936378974103i","2.61143211743096-0.35775271139288i","-1.10954711847973+2.37329745638808i","-0.00057580410287925+0.0000423709846362944i","0.00020947302705937-0.000533991012194498i","0.00886952218310546+0.00482033219205299i","6.89978496819199+9.25958068921301i","872.526567320665+452.676627820706i","-851.271276189547+479.325810977514i","-0.0989118141403047-0.0620844540898121i","0.0944329590804917-0.0677084951052052i","1.9771849536024+4.06484522668948i","1.09558520531261+0.39938486747916i","19.2300933869995-53.4333298994909i","33.3489054796659+44.5587319034611i","-11.1990834870042+26.0022328543411i","-16.9090871500996-20.8668502703517i","0.344317616427011-0.224319936725772i","0.893674911742819-0.14432639450958i","26.9915829189079-63.5966935184905i","39.5427608465635+58.1205793021363i","-15.3522553439194+30.6953051821487i","-20.9659314939258-28.1639241568573i","0.433213574286853-0.255118249148474i","0.338919178090419-0.924905666896802i","27.6832577409506-64.1487010224448i","36.9481847232631+56.8643770296214i","-15.3527571439681+30.6946015545625i","-20.965259456277-28.1642036252174i","0.435896855227408-0.252412461837551i","-0.122762853152899-1.31238623132678i","21.3587413604994-52.6808624719574i","32.8166522806306+46.9403578101435i","-11.1995264829374+26.001485153649i","-16.9082211532391-20.8668832639854i","0.349594689769618-0.218447278913922i","-0.00720806920499939-0.0357362876248999i","0.0338238904376027+0.0129760772818983i","7.15289841624225+43.70670399709i","-41.8937390517217-13.5157517075996i","0.097482447183185-0.216069388699756i","0.0343409458602935-0.0129760766514977i","-0.00739581594219985+0.0357362874780023i","-42.5261152326639+13.5157517067353i","7.34845284384598-43.7067039969457i","0.229732103870056+0.064975437634978i","-10.2254238762196-83.9139331516368i","75.3669179093108+37.1651683149719i","0.000131694171666741+0.0100608563590209i","-0.00928357245909171-0.00365597428563091i","0.190812316697967-0.33871889911886i","76.5810376609067-37.165168312675i","-10.7631529922012+83.9139331512911i","-0.00942913986260353+0.00365597296352414i","0.000184592546643314-0.0100608562448674i","0.384567815389578+0.0730324947716958i","-79.5141643031761-43.3010289207889i","78.6548117317212-43.0774913452366i","-11.1872929205944+26.0019932802257i","-16.9133075407008-20.8559014685668i","-0.047841119307136-0.457923823490829i","-36.0830544099663-19.3304499533526i","37.0505252260996-18.424604565756i","-15.3443564115811+30.6906770570735i","-20.9646444125461-28.1549063804639i","0.078994449157005-0.264882271228324i","36.1027501831712+19.2775229850891i","-37.0164486141872+18.4694345794873i","-15.3529428577478+30.6846414103177i","-20.9560166752765-28.1606230773955i","0.238011279033592+0.078524376820477i","79.5351032196589+43.2605348349625i","-78.6321535738434+43.1164578704492i","-11.2054820796291+25.9895592979921i","-16.8949947629203-20.8678761066866i","0.300958491439801+0.295219904445827i","0.000185067579880398-0.000150260698965i","7.16381560058645+43.7034296475853i","-41.8957991615033-13.505137819059i","0.0973535254426207-0.215936168980732i","0.000176884472955149+0.000172078150129006i","-42.521085484768+13.5260681951502i","7.33757004267542-43.7070247765215i","0.229578744185922+0.0648689897441447i","-0.0346514039125054+0.759283941480199i","25.8284388757331-5.59276390798799i","-6.68404739736496+24.1624375694422i","-0.131230401717029-0.053967333811091i","-0.732608893323999+0.1996510216985i","13.7685394945584+22.7723921920473i","-25.1981434932516+1.53095865807947i","0.00810374752624199-0.140627259813618i","-0.535392725429489+0.833317532966793i","-0.0288338336152679-0.311308794274343i","0.274221970057289+0.112958591605818i","0.00288291221469545+0.00418907450295495i","1.6235175174614+1.2946550327599i","-10.36703013101+18.9003339173081i","-13.2534185483983-18.7781813051758i","0.102042032428781-0.057999677724719i","-1.6230009024741-1.2945745659529i","-20.3132246029967+42.4795899300951i","-28.6786221089474-37.525059221979i","0.214685199563394-0.128288139941183i","0.000124269740510385-0.000162479988297548i","-22.3795650859557+51.9969034473283i","-33.8186183694532-41.715038437778i","0.252887374332119-0.162674892831508i","7.16195075040698+43.7018027734974i","-41.8933677632352-13.5061627894413i","0.097357522934365-0.215923300998664i","-42.5196386417804+13.5239540209852i","7.33891812743035-43.7046491398586i","0.229565998571032+0.0648746571992935i","33.6565212170797-6.5833436700289i","-9.39925919817816+32.1251974486906i","-0.170346571912712-0.0717353590540717i","17.1085404771471+29.9125626343367i","-33.6016169935171+1.38842566526319i","0.0130162145209587-0.1832654359436i","9.4435712658559+3.68903752552705i","-7.991834348426+7.31478774872152i","-0.0295995650997024-0.0414109370310779i","1.77144302042067+10.2289788173277i","-10.628259156366-3.09097502486872i","0.0210061911913048-0.0524758420856916i","-30.6803467947559+61.3744968612778i","-41.9267986602674-56.3007884610533i","0.316712157315522-0.186262398160542i","-22.3814472270787+51.9959201188262i","-33.8167953768599-41.7163812025371i","0.252893290172399-0.16266495858653i","1.3250998918095+0.0859765071317007i","0.0021443222456517+0.00125898414455999i","0.10270978950112+1.365064270138i","-0.000850368099169996+0.0016850827724845i","0.0933769707818186-1.6509653498716i","0.0000262699134880029-0.00320360065329291i","1.6038047042284-0.45794413473979i","0.002676187320391+0.000969134001212985i","-0.27132471057589+0.388280410825161i","0.0020674712933275+0.0026866488505302i","-0.468599564873699+0.0035800076113004i","-0.000852543753180102-0.0013642991024628i","-0.460716225734574+0.91343693401657i","-0.00449194865082232-0.00291485265171969i","3.3667025849139+2.6830234021613i","0.000796532860305954+0.005659423840322i"]
[{"$f":"COMPLEX(定数!O$13,計算!B27*定数!O$23)","v":"74.3688188913563+64.528177391266i"},{"$f":"COMPLEX(定数!P$13,計算!B27*定数!P$23)","v":"-73.4757772913563+64.528177391266i"},{"$f":"COMPLEX(定数!Q$13,計算!B27*定数!Q$23)","v":"125.193786513619+92.3202453867576i"},{"$f":"COMPLEX(定数!R$13,計算!B27*定数!R$23)","v":"-123.916114913619+92.3202453867576i"},{"$f":"COMPLEX(定数!S$13,計算!B27*定数!S$23)","v":"-77.7867441135484-42.3922573140124i"},{"$f":"COMPLEX(定数!T$13,計算!B27*定数!T$23)","v":"77.2000539135484-42.3922573140124i"},{"$f":"COMPLEX(定数!U$13,計算!B27*定数!U$23)","v":"124.646605989444+77.3573855857395i"},{"$f":"COMPLEX(定数!V$13,計算!B27*定数!V$23)","v":"-123.576013789444+77.3573855857395i"},{"$f":"IMPRODUCT(定数!D$31,計算!G27)","v":"-1.32402402482118-1.24334131851114i"},{"$f":"COMPLEX(定数!O$14,計算!B27*定数!O$24)","v":"86.1948356167649+79.2357689553856i"},{"$f":"COMPLEX(定数!P$14,計算!B27*定数!P$24)","v":"-85.0982474167649+79.2357689553856i"},{"$f":"COMPLEX(定数!Q$14,計算!B27*定数!Q$24)","v":"57.0863694248256+43.8015217371364i"},{"$f":"COMPLEX(定数!R$14,計算!B27*定数!R$24)","v":"-56.4801756248256+43.8015217371364i"},{"$f":"COMPLEX(定数!S$14,計算!B27*定数!S$24)","v":"163.969671876329+92.9849485743438i"},{"$f":"COMPLEX(定数!T$14,計算!B27*定数!T$24)","v":"-162.682801076329+92.9849485743438i"},{"$f":"COMPLEX(定数!U$14,計算!B27*定数!U$24)","v":"-101.525845343051-66.7610806971248i"},{"$f":"COMPLEX(定数!V$14,計算!B27*定数!V$24)","v":"100.601901343051-66.7610806971248i"},{"$f":"IMPRODUCT(定数!D$32,計算!G27)","v":"1.32402402482118+1.24334131851114i"},{"$f":"COMPLEX(定数!O$15,計算!B27*定数!O$25)","v":"86.1919999827348+79.2348874328104i"},{"$f":"COMPLEX(定数!P$15,計算!B27*定数!P$25)","v":"-85.0954239827348+79.2348874328104i"},{"$f":"COMPLEX(定数!Q$15,計算!B27*定数!Q$25)","v":"-57.0828842529623-43.8013627771493i"},{"$f":"COMPLEX(定数!R$15,計算!B27*定数!R$25)","v":"56.4766926529622-43.8013627771493i"},{"$f":"COMPLEX(定数!S$15,計算!B27*定数!S$25)","v":"-163.956966054068-92.9767113281736i"},{"$f":"COMPLEX(定数!T$15,計算!B27*定数!T$25)","v":"162.670209254068-92.9767113281736i"},{"$f":"COMPLEX(定数!U$15,計算!B27*定数!U$25)","v":"-101.548680976766-66.7742025083336i"},{"$f":"COMPLEX(定数!V$15,計算!B27*定数!V$25)","v":"100.624555376766-66.7742025083336i"},{"$f":"IMPRODUCT(定数!D$33,計算!G27)","v":"0"},{"$f":"COMPLEX(定数!O$16,計算!B27*定数!O$26)","v":"74.3664237452132+64.5269056744136i"},{"$f":"COMPLEX(定数!P$16,計算!B27*定数!P$26)","v":"-73.4733997452132+64.5269056744136i"},{"$f":"COMPLEX(定数!Q$16,計算!B27*定数!Q$26)","v":"-125.201328746793-92.3250865808279i"},{"$f":"COMPLEX(定数!R$16,計算!B27*定数!R$26)","v":"123.923590146793-92.3250865808279i"},{"$f":"COMPLEX(定数!S$16,計算!B27*定数!S$26)","v":"77.7704269443536+42.3805228370361i"},{"$f":"COMPLEX(定数!T$16,計算!B27*定数!T$26)","v":"-77.1838991443536+42.3805228370361i"},{"$f":"COMPLEX(定数!U$16,計算!B27*定数!U$26)","v":"124.65071095008+77.3568364351684i"},{"$f":"COMPLEX(定数!V$16,計算!B27*定数!V$26)","v":"-123.58012635008+77.3568364351684i"},{"$f":"IMPRODUCT(定数!D$34,計算!G27)","v":"0"},{"$f":"IMDIV(COMPLEX(定数!O$17,計算!B27*定数!O$27),計算!R27)","v":"0.122462627499295-0.278800799476855i"},{"$f":"IMPRODUCT(COMPLEX(定数!P$17,計算!B27*定数!P$27),計算!R27)","v":"-0.702738031920693+0.400024475799591i"},{"$f":"IMDIV(COMPLEX(定数!Q$17,計算!B27*定数!Q$27),計算!S27)","v":"0.3933699664333-0.10579474262984i"},{"$f":"IMPRODUCT(COMPLEX(定数!R$17,計算!B27*定数!R$27),計算!S27)","v":"-0.381393998320859+1.17182072911208i"},{"$f":"IMDIV(COMPLEX(定数!S$17,計算!B27*定数!S$27),計算!T27)","v":"-0.146428912910137-0.11097246440272i"},{"$f":"IMPRODUCT(COMPLEX(定数!T$17,計算!B27*定数!T$27),計算!T27)","v":"-0.109439658768519-0.638927637502828i"},{"$f":"IMDIV(COMPLEX(定数!U$17,計算!B27*定数!U$27),計算!U27)","v":"0.312847570812704+0.101373463990634i"},{"$f":"IMPRODUCT(COMPLEX(定数!V$17,計算!B27*定数!V$27),計算!U27)","v":"0.041302131502213+1.11169304068462i"},{"$f":"IMPRODUCT(定数!E$31,計算!G27)","v":"0"},{"$f":"IMDIV(COMPLEX(定数!O$18,計算!B27*定数!O$28),計算!R27)","v":"0.136223399877368-0.358901422004165i"},{"$f":"IMPRODUCT(COMPLEX(定数!P$18,計算!B27*定数!P$28),計算!R27)","v":"-0.848758136488442+0.474645175074742i"},{"$f":"IMDIV(COMPLEX(定数!Q$18,計算!B27*定数!Q$28),計算!S27)","v":"0.186727254075917-0.0600203874934701i"},{"$f":"IMPRODUCT(COMPLEX(定数!R$18,計算!B27*定数!R$28),計算!S27)","v":"-0.181045232483859+0.546146782344247i"},{"$f":"IMDIV(COMPLEX(定数!S$18,計算!B27*定数!S$28),計算!T27)","v":"0.333511092671996+0.217974642002858i"},{"$f":"IMPRODUCT(COMPLEX(定数!T$18,計算!B27*定数!T$28),計算!T27)","v":"0.227721724121211+1.37601357971049i"},{"$f":"IMDIV(COMPLEX(定数!U$18,計算!B27*定数!U$28),計算!U27)","v":"-0.278495359407134-0.0632351854844341i"},{"$f":"IMPRODUCT(COMPLEX(定数!V$18,計算!B27*定数!V$28),計算!U27)","v":"-0.0271434193506909-0.935162620570304i"},{"$f":"IMPRODUCT(定数!E$32,計算!G27)","v":"0"},{"$f":"IMDIV(COMPLEX(定数!O$19,計算!B27*定数!O$29),計算!R27)","v":"0.13621670674359-0.358903491215896i"},{"$f":"IMPRODUCT(COMPLEX(定数!P$19,計算!B27*定数!P$29),計算!R27)","v":"-0.848743516109244+0.474633832310292i"},{"$f":"IMDIV(COMPLEX(定数!Q$19,計算!B27*定数!Q$29),計算!S27)","v":"-0.18672670884157+0.0600340981053369i"},{"$f":"IMPRODUCT(COMPLEX(定数!R$19,計算!B27*定数!R$29),計算!S27)","v":"0.181044707870718-0.546130871829026i"},{"$f":"IMDIV(COMPLEX(定数!S$19,計算!B27*定数!S$29),計算!T27)","v":"-0.333478175543281-0.21796229994832i"},{"$f":"IMPRODUCT(COMPLEX(定数!T$19,計算!B27*定数!T$29),計算!T27)","v":"-0.227704923328657-1.37589865048177i"},{"$f":"IMDIV(COMPLEX(定数!U$19,計算!B27*定数!U$29),計算!U27)","v":"-0.278546048416092-0.0632591736233517i"},{"$f":"IMPRODUCT(COMPLEX(定数!V$19,計算!B27*定数!V$29),計算!U27)","v":"-0.0271528032489889-0.935357984920563i"},{"$f":"IMPRODUCT(定数!E$33,計算!G27)","v":"0"},{"$f":"IMDIV(COMPLEX(定数!O$20,計算!B27*定数!O$30),計算!R27)","v":"0.122457647899373-0.278798307543674i"},{"$f":"IMPRODUCT(COMPLEX(定数!P$20,計算!B27*定数!P$30),計算!R27)","v":"-0.70272161629459+0.400013589492784i"},{"$f":"IMDIV(COMPLEX(定数!Q$20,計算!B27*定数!Q$30),計算!S27)","v":"-0.393390556156038+0.105796136668939i"},{"$f":"IMPRODUCT(COMPLEX(定数!R$20,計算!B27*定数!R$30),計算!S27)","v":"0.381413960034128-1.17188633212967i"},{"$f":"IMDIV(COMPLEX(定数!S$20,計算!B27*定数!S$30),計算!T27)","v":"0.146378714739953+0.110961691018969i"},{"$f":"IMPRODUCT(COMPLEX(定数!T$20,計算!B27*定数!T$30),計算!T27)","v":"0.109419030707004+0.638770722390254i"},{"$f":"IMDIV(COMPLEX(定数!U$20,計算!B27*定数!U$30),計算!U27)","v":"0.312838335048266+0.101392758193853i"},{"$f":"IMPRODUCT(COMPLEX(定数!V$20,計算!B27*定数!V$30),計算!U27)","v":"0.0413088532022506+1.11170516275564i"},{"$f":"IMPRODUCT(定数!E$34,計算!G27)","v":"0"},"-0.134138610276746+0.984066958722773i","1.57487264445146-0.125098342581577i","-0.336087679466696+1.53299961577922i","-0.878880750127001+0.192558061959702i","0.310046787734864-0.83904803602861i","1.47108099501925-0.236238655927142i","-0.433072855063763+1.41595347580376i","-0.0184325835898491-0.000725039010297965i","4.43711022388709+5.0428551442711i","-88.5717826505034-70.2018921780276i","93.9572500242034-61.7049624265426i","254.982139768201+146.026230133444i","-255.889849303875+140.73976047608i","-247.043981447056-162.960762419163i","250.124707355717-154.494097100335i","2.85536851383689+2.76635587139563i","4.4386858126696+5.0446458292388i","-202.736460288814-157.803743139641i","206.911813906561-149.303796183826i","-72.9471600906385-39.9356584981028i","69.4647798455301-45.2240053463584i","-247.062437383732-162.973257325637i","250.144885158352-154.503585549182i","1.53129286009268+1.52299624820065i","0.000804810032704495+0.000914680997098571i","-250.391184120602-184.643628804316i","247.836950539857-184.642087617834i","155.554821130731+84.7721236682867i","-154.382143419007+84.7711648001061i","0.00792884328799914+0.000755821816198932i","-0.00695052531199281+0.00229151888690637i","1.32398079813401+1.24331614090957i","-0.960669720087765+0.242115098613289i","0.235384442341984+0.348600881445803i","-0.767637336500185+0.890384054478711i","-0.0924842086111118-0.379586286396703i","0.086518460202015-0.44973431811693i","0.198558653038194+0.540442428018948i","-0.300431589844177+0.817550599397431i","0.00245944407373629-0.00505022885903331i","-1.18366834977464+0.292449690276558i","0.01709072111777+0.522244965621105i","-0.685457968165011+0.216694016593426i","0.384125854285364-0.123687822863757i","0.486621629835381+1.6015877888446i","-0.394104624499034+0.496919108404132i","-0.476336478597016-1.28347908062626i","0.00277116673693746-0.00651671318258097i","-1.183656663446+0.292444656442723i","-0.356352442111466+0.64230187266492i","-0.323373449391023-0.875574072444906i","-0.282869694839749-0.559625294588425i","0.03119879373818-1.15032941565596i","-0.394144978538296+0.496896583066338i","-0.476351691017411-1.28366586392991i","0.00277104486544884-0.00651675617628225i","-0.960651520189169+0.242109446830687i","-0.551368549748367+0.560187213327486i","-0.00482723159477105-1.45331453553023i","0.200319522406287-0.1576489820008i","0.305376602734856+0.827959091036739i","0.198556153977619+0.540456880012631i","-0.300423496212245+0.817570851538886i","0.00245935048009571-0.00505018653667085i","2.30192263170824+16.5698605427764i","-16.3276019660761-2.99570309601221i","-9.23910281373298-42.4415765099418i","40.8098325946798+14.138454234985i","7.17014845000767+43.1498635471509i","-41.9121259867934-11.5858031122008i","0.0143706180175722-0.587643177144232i","-16.556921549805+2.99570309548338i","2.34338184578652-16.5698605427363i","41.3972053511598-14.1384542336526i","-9.43477280459466+42.4415765096286i","-42.5093011243304+11.5858031108366i","7.3304908718323-43.1498635469234i","0.590002194830505-0.047089146177122i","-114.133226377943-87.5769227272757i","112.921200276018-87.5769227295295i","-328.019842348681-186.013741594981i","325.445493964663-186.013741588464i","0.0692677647969901+0.0453713986189825i","-0.0686398485649988+0.0453713923139958i","-1.32508957641024-1.24434193812568i","-250.375118831334-184.63089547471i","247.819908426074-184.630895474672i","155.508572069123+84.7456372010332i","-154.335729715677+84.7456372009237i","0.0527380692577244+0.0303139011740246i","-0.0523185381240593+0.0303139012794308i","1.32346288690111+1.24281437493099i","-14.9450437980452+7.2351628294134i","-2.52823477396274-15.5951473616863i","36.253424227483-23.984859613424i","1.29856439285258+42.6069040554499i","-37.8337418965044+21.9627162931975i","-3.70548444370845-42.4100392563683i","0.557855694162435-0.193135785319625i","-18.7047208446534+8.91023048424043i","-2.75752162952002-20.0818467630232i","45.2499010359536-28.9655284972374i","1.73100557881189+54.5975350023642i","-47.3227544050391+26.6424995051053i","-4.41863067507071-54.5024066432565i","0.68736688484049-0.234800604271022i","-19.0779855981278+9.03016903772147i","-2.39538108635177-21.1739094150308i","44.5824928761113-29.4010923556864i","1.27547935672648+51.8450743185739i","-47.3223563024229+26.6421275995065i","-4.41851434477342-54.5020522626009i","0.687360105048392-0.234797126992475i","-15.7315123869049+7.44660106368137i","-1.76537366911976-17.9385311376288i","36.5455544410305-23.7624310225898i","1.51735437673003+43.88377170893i","-37.8330362110357+21.9622796314209i","-3.70536589061896-42.409192250745i","0.557845128726295-0.193131551415438i","0.173053474629-1.02943419175022i","-21.2170410636621-84.6242209931408i","82.9459373276343+25.3030104287468i","7.17218057263254+43.1592756319584i","-41.9215141151997-11.587649444722i","0.00622359794532514-0.798865081356464i","1.0469564725683+0.0932938559048999i","83.2949556891452-27.9128057000751i","-18.9191669310642+85.2456503706294i","-42.5186760188288+11.5882328974092i","7.33195968835484-43.15937409574i","0.801932107215272-0.0639753126060179i","-0.252141263663462+0.960795398270932i","2.59606621871301-0.362223607867172i","-1.00761120807051+2.40295695828847i","-0.00057398421810555+0.0000429005036667333i","0.000186537485292818-0.00054066439027041i","0.0125730089774828+0.00125499389617718i","7.29749482330899+9.37529924370199i","872.376629156001+473.367889010403i","-850.2766006681+500.350111542568i","-0.0988940559660676-0.0649201002996719i","0.0942091574495417-0.0706144267331802i","4.23972085683931+3.87839952714317i","0.65501414953365+0.588265045052301i","72.4310007851979-48.181269106013i","3.6255556221266+85.8094322010206i","-37.8420097236539+21.9675103123833i","-3.70660842772044-42.4194691384408i","0.754839949192893-0.265347613782742i","1.08715486702836+0.136199724291298i","90.5810991182857-58.8723683268195i","4.29481955396861+108.52222221128i","-47.3331083662324+26.6484162787281i","-4.41995898781317-54.5141817117351i","0.93372379281288-0.32335470165108i","1.47041637383439-0.566990411804699i","90.8392664000103-59.7545059179751i","3.75139476435904+106.787552094902i","-47.3329193662696+26.6481292292121i","-4.41983787615231-54.514051515076i","0.938560596269729-0.324390767894928i","1.42272295305312-0.946171026254099i","74.6882676143054-48.7926256622372i","3.55996801735606+89.1891975572395i","-37.8417463879365+21.9672287527148i","-3.70645748588214-42.4190867895341i","0.764983014078419-0.267014781417636i","-0.00722305717870242-0.03519470441789i","0.0338388784306005+0.0113999390410982i","7.17050479312587+43.1490174075796i","-41.9113454286055-11.5857491048986i","0.00718974731129732-0.293995225450952i","0.0343259578948931-0.0113999384057024i","-0.00738082797840178+0.0351947042726124i","-42.5085088557805+11.5857491040719i","7.33084646696238-43.1490174074417i","0.295175420603193-0.0235586774410664i","-10.262677857551-82.3445084894301i","75.4041718906193+33.4707997964405i","0.000135914650320378+0.00990825912065645i","-0.00928779293678095-0.00321224599097995i","0.0548821348383321-0.477301076602031i","76.5437836795936-33.4707997943087i","-10.7258990108689+82.3445084891083i","-0.00942491938312628+0.00321224472678349i","0.000180372067909395-0.00990825901158362i","0.476802381311395-0.0810915926751591i","2.6040378672857-71.2854539992825i","59.0915672368696+38.1822854691161i","-37.8339466168108+21.970950597261i","-3.71255525641094-42.4130851951736i","0.394824293484175-0.492717647495486i","2.80743844645551-32.9096676604784i","27.1708322200084+20.4618535223445i","-47.3224245124075+26.6462077426607i","-4.42150458233026-54.5034344663528i","0.404321110794786-0.300135934875246i","-2.73434387889399+32.8610975744917i","-27.1656144840603-20.374643379976i","-47.320882122447+26.6380620530468i","-4.4144852103371-54.4993799795561i","0.283440723231013+0.065190016284144i","-2.5432293492587+71.2505598196638i","-59.0920373712799-38.1127596027045i","-37.8313766716892+21.9537410327661i","-3.69733919776586-42.4048194191889i","0.163351837578346+0.299492687226748i","0.0003703832802818-0.0002411350752264i","7.18640025680575+43.1337558051058i","-41.9044729241625-11.5654363530685i","0.00705526877326862-0.293707044953174i","0.00028241658642178+0.000354416511928898i","-42.491364560293+11.5998273560024i","7.31135616161929-43.1397350499582i","0.294871362135996-0.0236588941203175i","0.447947069057093+0.610309583288199i","39.3618813752197-32.2542365397614i","12.1392275140115+48.0114739119431i","-0.306909377751595+0.161913002623062i","-0.458924243174501+0.5912329382612i","42.3970272140297+28.7627980320163i","-42.8680272691688+25.4567647271854i","-0.243717129891069-0.247372801830211i","-0.504670703423506+0.847378328539538i","-0.327162017664734-0.518787526196389i","0.592282485004199-0.0737160385559842i","0.00710474022649969+0.00527910337641856i","0.700724980671399+1.474345896462i","-29.3308122122707+17.335878516768i","-3.65833087176881-34.8046614829799i","0.210641452267588-0.08114205298888i","-0.699775796175999-1.4735864060393i","-65.2633831016239+35.9704215414936i","-5.21737115868294-74.1639975097434i","0.476344657338793-0.15384466153692i","0.000649571555499051+0.000387975871397828i","-75.6273263859281+43.9448222804572i","-7.4433380136531-84.7927548398864i","0.557559892356939-0.193298060639962i","7.18069192694848+43.1265096606123i","-41.8952652908931-11.5676716430481i","0.00708462929447139-0.293653444554621i","-42.4845278739947+11.5932909030534i","7.31453993515362-43.1305559807278i","0.294819529959345-0.0236236740119004i","51.2068401805447-42.7123289481576i","16.8457676539761+63.5443757622318i","-0.395762188027732+0.217270846494367i","55.549197123251+37.191710432186i","-56.3614646135368+34.1395103493448i","-0.3204205880038-0.316856254870115i","18.2354557435737+8.37983244709733i","-15.6519791489426+13.4619192663369i","-0.104436462910499-0.073200621320444i","1.8787207803259+20.7870343508237i","-20.2189232435717-7.12829584461785i","0.0104965496615816-0.137882336971729i","-94.5801910130247+53.2851424571109i","-8.86192441441945-108.946536846268i","0.686871426129797-0.234863810778296i","-75.6204818817417+43.9305907158879i","-7.43296998302315-84.7802800473024i","0.557499579077011-0.193212568603861i","0.567793920793498+0.0431610379427987i","0.00164633722424675-0.00135014022840402i","0.00933980354707042+0.6052901803697i","0.00135014146548001+0.000732591019399497i","-0.6291446186816-1.2836563448084i","-0.006957977373306-0.00103093474410498i","1.06113542506549-0.981071655927494i","-0.000612796405839-0.00452414303451998i","-0.3031921945779+0.3186925493485i","0.005223436145208+0.0041545003081431i","-0.418621479942502-0.0848690646649102i","-0.0025281593641458+0.001076495644663i","-0.421483894357241+0.914437860250824i","-0.00657454647012601-0.00122078242004569i","0.86601019408043+2.8859880521202i","0.00669951400399993+0.003294986641216i"]
[{"$f":"COMPLEX(定数!O$13,計算!B28*定数!O$23)","v":"74.3688188913563+67.3337503213211i"},{"$f":"COMPLEX(定数!P$13,計算!B28*定数!P$23)","v":"-73.4757772913563+67.3337503213211i"},{"$f":"COMPLEX(定数!Q$13,計算!B28*定数!Q$23)","v":"125.193786513619+96.3341690992254i"},{"$f":"COMPLEX(定数!R$13,計算!B28*定数!R$23)","v":"-123.916114913619+96.3341690992254i"},{"$f":"COMPLEX(定数!S$13,計算!B28*定数!S$23)","v":"-77.7867441135484-44.2353989363608i"},{"$f":"COMPLEX(定数!T$13,計算!B28*定数!T$23)","v":"77.2000539135484-44.2353989363608i"},{"$f":"COMPLEX(定数!U$13,計算!B28*定数!U$23)","v":"124.646605989444+80.7207501764238i"},{"$f":"COMPLEX(定数!V$13,計算!B28*定数!V$23)","v":"-123.576013789444+80.7207501764238i"},{"$f":"IMPRODUCT(定数!D$31,計算!G28)","v":"-1.83411998498105-0.726179473549666i"},{"$f":"COMPLEX(定数!O$14,計算!B28*定数!O$24)","v":"86.1948356167649+82.6808023882285i"},{"$f":"COMPLEX(定数!P$14,計算!B28*定数!P$24)","v":"-85.0982474167649+82.6808023882285i"},{"$f":"COMPLEX(定数!Q$14,計算!B28*定数!Q$24)","v":"57.0863694248256+45.7059357257075i"},{"$f":"COMPLEX(定数!R$14,計算!B28*定数!R$24)","v":"-56.4801756248256+45.7059357257075i"},{"$f":"COMPLEX(定数!S$14,計算!B28*定数!S$24)","v":"163.969671876329+97.0277724254022i"},{"$f":"COMPLEX(定数!T$14,計算!B28*定数!T$24)","v":"-162.682801076329+97.0277724254022i"},{"$f":"COMPLEX(定数!U$14,計算!B28*定数!U$24)","v":"-101.525845343051-69.6637363796085i"},{"$f":"COMPLEX(定数!V$14,計算!B28*定数!V$24)","v":"100.601901343051-69.6637363796085i"},{"$f":"IMPRODUCT(定数!D$32,計算!G28)","v":"1.83411998498105+0.726179473549666i"},{"$f":"COMPLEX(定数!O$15,計算!B28*定数!O$25)","v":"86.1919999827348+82.6798825385848i"},{"$f":"COMPLEX(定数!P$15,計算!B28*定数!P$25)","v":"-85.0954239827348+82.6798825385848i"},{"$f":"COMPLEX(定数!Q$15,計算!B28*定数!Q$25)","v":"-57.0828842529623-45.7057698544166i"},{"$f":"COMPLEX(定数!R$15,計算!B28*定数!R$25)","v":"56.4766926529622-45.7057698544166i"},{"$f":"COMPLEX(定数!S$15,計算!B28*定数!S$25)","v":"-163.956966054068-97.0191770380943i"},{"$f":"COMPLEX(定数!T$15,計算!B28*定数!T$25)","v":"162.670209254068-97.0191770380943i"},{"$f":"COMPLEX(定数!U$15,計算!B28*定数!U$25)","v":"-101.548680976766-69.6774287043481i"},{"$f":"COMPLEX(定数!V$15,計算!B28*定数!V$25)","v":"100.624555376766-69.6774287043481i"},{"$f":"IMPRODUCT(定数!D$33,計算!G28)","v":"0"},{"$f":"COMPLEX(定数!O$16,計算!B28*定数!O$26)","v":"74.3664237452132+67.3324233124316i"},{"$f":"COMPLEX(定数!P$16,計算!B28*定数!P$26)","v":"-73.4733997452132+67.3324233124316i"},{"$f":"COMPLEX(定数!Q$16,計算!B28*定数!Q$26)","v":"-125.201328746793-96.3392207799943i"},{"$f":"COMPLEX(定数!R$16,計算!B28*定数!R$26)","v":"123.923590146793-96.3392207799943i"},{"$f":"COMPLEX(定数!S$16,計算!B28*定数!S$26)","v":"77.7704269443536+44.2231542647333i"},{"$f":"COMPLEX(定数!T$16,計算!B28*定数!T$26)","v":"-77.1838991443536+44.2231542647333i"},{"$f":"COMPLEX(定数!U$16,計算!B28*定数!U$26)","v":"124.65071095008+80.7201771497409i"},{"$f":"COMPLEX(定数!V$16,計算!B28*定数!V$26)","v":"-123.58012635008+80.7201771497409i"},{"$f":"IMPRODUCT(定数!D$34,計算!G28)","v":"0"},{"$f":"IMDIV(COMPLEX(定数!O$17,計算!B28*定数!O$27),計算!R28)","v":"-0.0672966220053744-0.308026518217982i"},{"$f":"IMPRODUCT(COMPLEX(定数!P$17,計算!B28*定数!P$27),計算!R28)","v":"-0.80458951612514-0.114796444299822i"},{"$f":"IMDIV(COMPLEX(定数!Q$17,計算!B28*定数!Q$27),計算!S28)","v":"0.274521712280363-0.322874611863225i"},{"$f":"IMPRODUCT(COMPLEX(定数!R$17,計算!B28*定数!R$27),計算!S28)","v":"-1.00108515464171+0.728101259253988i"},{"$f":"IMDIV(COMPLEX(定数!S$17,計算!B28*定数!S$27),計算!T28)","v":"-0.191218851760622-0.00869775861684379i"},{"$f":"IMPRODUCT(COMPLEX(定数!T$17,計算!B28*定数!T$27),計算!T28)","v":"0.275267443262368-0.58933639412314i"},{"$f":"IMDIV(COMPLEX(定数!U$17,計算!B28*定数!U$27),計算!U28)","v":"0.329247265082004-0.0966943075053597i"},{"$f":"IMPRODUCT(COMPLEX(定数!V$17,計算!B28*定数!V$27),計算!U28)","v":"-0.607425053861866+0.937126168462492i"},{"$f":"IMPRODUCT(定数!E$31,計算!G28)","v":"0"},{"$f":"IMDIV(COMPLEX(定数!O$18,計算!B28*定数!O$28),計算!R28)","v":"-0.103898431448594-0.382945907330121i"},{"$f":"IMPRODUCT(COMPLEX(定数!P$18,計算!B28*定数!P$28),計算!R28)","v":"-0.96671244582464-0.145673848622238i"},{"$f":"IMDIV(COMPLEX(定数!Q$18,計算!B28*定数!Q$28),計算!S28)","v":"0.12465952025276-0.161271319483219i"},{"$f":"IMPRODUCT(COMPLEX(定数!R$18,計算!B28*定数!R$28),計算!S28)","v":"-0.469378972470454+0.337366246712081i"},{"$f":"IMDIV(COMPLEX(定数!S$18,計算!B28*定数!S$28),計算!T28)","v":"0.415377932224845-0.00889726742144877i"},{"$f":"IMPRODUCT(COMPLEX(定数!T$18,計算!B28*定数!T$28),計算!T28)","v":"-0.599733624862502+1.26469977814859i"},{"$f":"IMDIV(COMPLEX(定数!U$18,計算!B28*定数!U$28),計算!U28)","v":"-0.277469899177396+0.108265669337491i"},{"$f":"IMPRODUCT(COMPLEX(定数!V$18,計算!B28*定数!V$28),計算!U28)","v":"0.517543289284683-0.783943545195958i"},{"$f":"IMPRODUCT(定数!E$32,計算!G28)","v":"0"},{"$f":"IMDIV(COMPLEX(定数!O$19,計算!B28*定数!O$29),計算!R28)","v":"-0.103905058175588-0.382943375336703i"},{"$f":"IMPRODUCT(COMPLEX(定数!P$19,計算!B28*定数!P$29),計算!R28)","v":"-0.96669390810617-0.145673956379199i"},{"$f":"IMDIV(COMPLEX(定数!Q$19,計算!B28*定数!Q$29),計算!S28)","v":"-0.124651148515081+0.161282192959867i"},{"$f":"IMPRODUCT(COMPLEX(定数!R$19,計算!B28*定数!R$29),計算!S28)","v":"0.469369349676109-0.337353563578776i"},{"$f":"IMDIV(COMPLEX(定数!S$19,計算!B28*定数!S$29),計算!T28)","v":"-0.41534224820995+0.00888881879598823i"},{"$f":"IMPRODUCT(COMPLEX(定数!T$19,計算!B28*定数!T$29),計算!T28)","v":"0.599681609333238-1.26459540265589i"},{"$f":"IMDIV(COMPLEX(定数!U$19,計算!B28*定数!U$29),計算!U28)","v":"-0.277527620857463+0.108275122333083i"},{"$f":"IMPRODUCT(COMPLEX(定数!V$19,計算!B28*定数!V$29),計算!U28)","v":"0.517648197079541-0.784109454769266i"},{"$f":"IMPRODUCT(定数!E$33,計算!G28)","v":"0"},{"$f":"IMDIV(COMPLEX(定数!O$20,計算!B28*定数!O$30),計算!R28)","v":"-0.0672991518481218-0.308021302763307i"},{"$f":"IMPRODUCT(COMPLEX(定数!P$20,計算!B28*定数!P$30),計算!R28)","v":"-0.804569803212722-0.114795037009629i"},{"$f":"IMDIV(COMPLEX(定数!Q$20,計算!B28*定数!Q$30),計算!S28)","v":"-0.274538470721308+0.322888126634322i"},{"$f":"IMPRODUCT(COMPLEX(定数!R$20,計算!B28*定数!R$30),計算!S28)","v":"1.00114001344478-0.728142856753816i"},{"$f":"IMDIV(COMPLEX(定数!S$20,計算!B28*定数!S$30),計算!T28)","v":"0.191169096434239+0.00871728562526468i"},{"$f":"IMPRODUCT(COMPLEX(定数!T$20,計算!B28*定数!T$30),計算!T28)","v":"-0.275194422690955+0.589195196247445i"},{"$f":"IMDIV(COMPLEX(定数!U$20,計算!B28*定数!U$30),計算!U28)","v":"0.329250438855448-0.0966731420499597i"},{"$f":"IMPRODUCT(COMPLEX(定数!V$20,計算!B28*定数!V$30),計算!U28)","v":"-0.607426252886012+0.937139994955758i"},{"$f":"IMPRODUCT(定数!E$34,計算!G28)","v":"0"},"-0.0924504687550009+0.989107911059066i","1.56957308900612-0.125739167656246i","-0.271145040788602+1.54085251433068i","-0.870723390846747+0.193544454200295i","0.274502099480214-0.843346118714945i","1.46107318972318-0.237448805088196i","-0.373088655447787+1.42320679725578i","-0.0184109204513518+0.00690473312555244i","4.65074127517339+5.0686875250819i","-88.5989402440014-73.2295597935695i","94.2900488410294-64.6891039207135i","255.023942189109+152.337348624479i","-256.071998203833+147.023798653796i","-247.095266486121-169.999579331876i","250.432096631342-161.489542923365i","3.99193512193591+1.65325681243866i","4.6523927229486+5.07048738295951i","-202.763627525796-164.64017815271i","207.244730898076-156.096689619682i","-72.9053428259635-41.7098529523772i","69.2825662656857-47.0252897299953i","-247.11374063378-170.012601006874i","250.452383585904-161.499542739945i","2.157756579006+0.927079982906591i","0.000843558768806929+0.000919366514906983i","-250.391189046488-192.671608205461i","247.837010903429-192.670059124142i","155.55482871292+88.4578613106672i","-154.382176457461+88.4568975306168i","0.00791954112600024+0.000797105838401535i","-0.00689477056199905+0.00234066962620716i","1.83406672549371+0.726171579939481i","-1.11548258636055-0.0767100190849778i","0.418879677177796+0.15213370059494i","-1.49395573503699+0.748275565630745i","-0.30943241901339-0.263878765054769i","0.553513475891183-0.561536813147583i","0.500713083939329+0.337375477505064i","-1.07091809454489+0.917981978808684i","-0.00336583365827392-0.00520638650861984i","-1.35509273096289-0.0783106167702844i","0.335887001889476+0.426726168916035i","-1.08761368106572+0.393624522381807i","0.250794081067822-0.322228261155831i","-0.248257342672531+1.28219689479532i","-0.034736638424611+0.643107109253742i","-0.066231255101117-0.778947365009133i","-0.00455700504805731-0.00633299569570955i","-1.35507230147371-0.0783039358951729i","0.086586415883248+0.749274873971254i","-0.148863254294889-0.281084390562641i","-0.579931379359887-0.30443868770624i","0.95115757522686-1.24710456967116i","-0.034785279190343+0.643111289313228i","-0.06612521611268-0.77910289872152i","-0.00455710956946203-0.00633290332359876i","-1.1154579486858-0.0767056273360802i","-0.130177190837709+0.797887934954861i","0.508276783341629-0.70796323811783i","0.072954335810544-0.246458689957247i","0.00304790595154797+0.616991212036682i","0.500718715594705+0.337388422091329i","-1.07091281475412+0.918001351618316i","-0.00336584422368484-0.00520627301940968i","2.30744608824191+16.4573716414818i","-16.33312542261-2.29303343614196i","-9.25507563957466-41.8782170593825i","40.8258054205219+12.3445242506888i","7.18560060263739+42.6958148555556i","-41.9275781394238-9.75940396686362i","-0.227985058569251-0.580817580603695i","-16.5513980932714+2.29303343563483i","2.337858389253-16.4573716414433i","41.3812325253185-12.3445242494114i","-9.41879997875332+41.8782170590823i","-42.4938489717012+9.75940396555553i","7.31503871920264-42.6958148553373i","0.569415410935744-0.265104400483934i","-114.133226377944-91.3846150198626i","112.921200276017-91.3846150220239i","-328.019842348678-194.101295577094i","325.445493964663-194.101295570843i","0.0692677647940059+0.0473440678580062i","-0.0686398485649988+0.0473440618099801i","-1.83559605298707-0.726763890272699i","-250.375118831332-192.658325712741i","247.819908426074-192.658325712702i","155.508572069122+88.4302301228152i","-154.335729715679+88.4302301227057i","0.0527380692578182+0.0316318968790246i","-0.0523185381224099+0.0316318969851011i","1.83334266202196+0.725871709619272i","-18.2198153143977+1.44031450437018i","2.37632988025534-17.4302987560057i","46.7975605558835-10.8596254654017i","-13.1654727146683+45.4303687379583i","-47.6490795358843+7.96411668872699i","10.3640769876804-46.1473192430368i","0.652143305266519-0.25724586177584i","-22.2723611041951+2.23784891630506i","3.36918815189084-21.7245610273088i","57.2929087821192-13.8096134969561i","-16.2911137354111+57.2934723816717i","-58.3821074344648+10.5402849595912i","13.1898601348338-58.0628905242148i","0.78781416831963-0.320982769708881i","-22.5213082341231+2.5604613536821i","4.30778086776441-22.3989493434973i","56.4612554520245-13.7918481940283i","-15.0912266131014+54.7633782924493i","-58.3812227462436+10.540373656111i","13.189531485911-58.0622226750997i","0.787800659802857-0.320981065582536i","-18.7684543240233+2.08608493330246i","4.37843252259559-18.8861423556714i","47.1788735593089-10.842082985913i","-13.715522308664+46.607906346256i","-47.6479840937475+7.96407580660698i","10.3637145326287-46.1462800704408i","0.652128101357457-0.25724171746014i","0.130288836899702-1.03995125133504i","-21.2327880280338-83.5106517313143i","82.8708520267923+21.6829860137764i","7.18763417061748+42.7051317954068i","-41.9369455579044-9.76084394802127i","-0.32304772333144-0.784078196617953i","1.05083207528484+0.0942469785510021i","83.2616251724385-24.3194438661832i","-18.8776046183583+84.1384298486238i","-42.5032203383078+9.76143336157907i","7.31650199998143-42.7052312651497i","0.773946785887544-0.360354013243982i","-0.2122280108611+0.970611219945365i","2.58101876692452-0.365924210878299i","-0.907787844299007+2.42750640663007i","-0.000572202049123516+0.0000433387916183422i","0.000164077265752496-0.00054618800810778i","0.0129068883677026-0.00396665501082897i","7.68696243471399+9.471080578298i","872.229798349316+494.066666609741i","-849.302539063983+521.324548961504i","-0.0988766658186168-0.0677566367730628i","0.0939899939543131-0.0735091391417329i","5.8291154838946+2.2193394930029i","-0.0924398639841502+0.559733495758i","93.2961998638145-21.244175772724i","-26.2088268955306+90.9665871403102i","-47.6594425300517+7.96573046441701i","10.3662797626495-46.1575070105372i","0.881591196863679-0.348107562011363i","0.81445052427565+0.368176779212803i","113.959407677003-27.7355397089303i","-31.0772998282367+113.391263696483i","-58.3947547394596+10.5425307185435i","13.1922922367036-58.0754226008935i","1.0664042721593-0.438213208632362i","2.0133409373671+0.00388673636919989i","113.652239859657-28.6415389433852i","-29.3202601257575+111.758354009144i","-58.3939985176631+10.5428148036288i","13.1918282273006-58.0749436570821i","1.06832420421669-0.443362914601636i","2.42001823649306-0.226544351860198i","94.8572574127349-23.0941391860888i","-25.6893124599273+94.0621720049937i","-47.6586330333704+7.96608287081141i","10.3656546147221-46.1568734542353i","0.886095666898252-0.358614566209723i","-0.00723621110529749-0.0347413474109999i","0.0338520323391123+0.00991202699900029i","7.18595669162558+42.6949702470825i","-41.9267973271056-9.75938593121183i","-0.114059702647933-0.290580481642796i","0.0343128039611003-0.00991202640259914i","-0.00736767405379979+0.0347413472745046i","-42.4930569572816+9.7593859304197i","7.31539456846286-42.6949702469504i","0.284875867157149-0.132630715844108i","-10.2953730986684-80.9943783120019i","75.4368671317401+29.9957257627337i","0.000139618671177664+0.00978050535458502i","-0.00929149695822645-0.0027933611707376i","-0.142051857938418-0.487795234116009i","76.5110884384614-29.9957257606646i","-10.6932037697508+80.9943783116899i","-0.00942121536161276+0.00279335995780361i","0.000176668046633475-0.00978050524970549i","0.442418168003142-0.256387180527593i","83.5792620345301-66.8427955780552i","18.137961311587+104.439040781819i","-47.6587498887842+7.97126205204021i","10.360821617426-46.1585100061355i","0.778979779313759-0.619444225869862i","40.6011818846855-31.475111252467i","7.4520349293645+51.3623391405599i","-58.3860531753966+10.5437243377895i","13.1885473943985-58.0675219083376i","0.611680756921968-0.392286631194734i","-40.507252134246+31.4527052465169i","-7.4763914286252-51.269381878384i","-58.3750195420421+10.5372274354533i","13.1914345200445-58.0552528521369i","0.176589085761856+0.071112328986723i","-83.5056096512491+66.8292191119737i","-18.1603832695355-104.368185480041i","-47.6364663403065+7.9571885656446i","10.3674427930501-46.1331644300208i","-0.126481300187318+0.362074423391538i","0.000244577547071197-0.00038402070027801i","7.19074549026768+42.6796799617621i","-41.9146995781202-9.74940039744865i","-0.113993308497145-0.290257215464752i","0.00040134781329462+0.000229087054657295i","-42.4773470488076+9.76302538659518i","7.30629638251944-42.6820678064047i","0.284556516971138-0.132539426724778i","0.223172476465308+0.285223840715197i","13.7569713583955-34.1910312763432i","25.9266120306597+25.0940724172721i","-0.0484062306060882+0.265682452998867i","-0.2213609444381+0.272008207002102i","36.7571057396586+5.00557404503781i","-18.1054909638576+31.4834954672932i","-0.269876928197217+0.020578895883639i","-0.477152203452977+0.867976718397223i","-0.394300726273123-0.219969647290224i","0.344988877429971-0.276366271167102i","0.00929954877198943+0.0000258869438627972i","-0.49468544766653+1.1030398371996i","-35.4534085500922+7.06409277015492i","7.88025036508477-35.9881613679177i","0.233293291346854-0.100633339514836i","0.49569984428087-1.1023024866797i","-81.2656989573035+14.0286859927431i","18.473519094513-80.1009245548357i","0.554102467018599-0.220335028502233i","0.000937382546698728+0.000448707129990567i","-95.2631886304159+15.9392986960211i","20.7066072347545-92.2666356718334i","0.65181319374273-0.257245454104959i","7.17714837691587+42.6803761689465i","-41.9097977315469-9.76238065283857i","-0.113900878533766-0.290281974989709i","-42.4787210586635+9.74927453462252i","7.31969694512019-42.6777360681734i","0.284586160867314-0.132446935828079i","16.8391849235391-44.5730668723405i","34.3620764199527+32.2111636159151i","-0.054338752928113+0.341565842529207i","47.2222631426469+5.68510318951263i","-23.0130723194766+40.9776264229053i","-0.342802007768576+0.0312820873534047i","29.0271316992421-3.63702712317722i","-8.47764448712476+28.5904385726132i","-0.187893669574948+0.066732093546567i","17.3327478667658+24.3682499088799i","-29.8305086839923+6.23410682503932i","-0.154925236371385-0.14202028444897i","-116.71872184641+21.0552793820422i","26.3886261485194-116.073414238523i","0.787448195270129-0.320710068917772i","-95.268501838273+15.9086789963128i","20.7373671211355-92.2590942528277i","0.651894692441112-0.257042810710864i","0.329576155323196+0.36934606073973i","-0.000289306165455-0.00156287062284i","-0.357145938372661+0.385467464919095i","0.00109449274650297-0.00109349330877201i","-0.194132061460401-0.846037902224403i","-0.0023063213810661+0.00396858977374803i","0.782234073629702-0.405712495259898i","-0.003158679209256+0.0011528519425714i","-0.43783979912666+0.351831732982497i","0.010310036477085-0.00180900525923629i","-0.516620081255301-0.20542969572741i","0.0027706879005+0.00320302784032001i","-0.392704053749584+0.923630065228313i","-0.00701396879492819+0.00148244423539286i","-1.9812255263433+1.98116104591291i","0.00726812287870593-0.00422959129753497i"]
[{"$f":"COMPLEX(定数!O$13,計算!B29*定数!O$23)","v":"74.3688188913563+70.1393232513761i"},{"$f":"COMPLEX(定数!P$13,計算!B29*定数!P$23)","v":"-73.4757772913563+70.1393232513761i"},{"$f":"COMPLEX(定数!Q$13,計算!B29*定数!Q$23)","v":"125.193786513619+100.348092811693i"},{"$f":"COMPLEX(定数!R$13,計算!B29*定数!R$23)","v":"-123.916114913619+100.348092811693i"},{"$f":"COMPLEX(定数!S$13,計算!B29*定数!S$23)","v":"-77.7867441135484-46.0785405587091i"},{"$f":"COMPLEX(定数!T$13,計算!B29*定数!T$23)","v":"77.2000539135484-46.0785405587091i"},{"$f":"COMPLEX(定数!U$13,計算!B29*定数!U$23)","v":"124.646605989444+84.0841147671082i"},{"$f":"COMPLEX(定数!V$13,計算!B29*定数!V$23)","v":"-123.576013789444+84.0841147671082i"},{"$f":"IMPRODUCT(定数!D$31,計算!G29)","v":"-1.9153279776128-7.03968333724672E-16i"},{"$f":"COMPLEX(定数!O$14,計算!B29*定数!O$24)","v":"86.1948356167649+86.1258358210713i"},{"$f":"COMPLEX(定数!P$14,計算!B29*定数!P$24)","v":"-85.0982474167649+86.1258358210713i"},{"$f":"COMPLEX(定数!Q$14,計算!B29*定数!Q$24)","v":"57.0863694248256+47.6103497142786i"},{"$f":"COMPLEX(定数!R$14,計算!B29*定数!R$24)","v":"-56.4801756248256+47.6103497142786i"},{"$f":"COMPLEX(定数!S$14,計算!B29*定数!S$24)","v":"163.969671876329+101.070596276461i"},{"$f":"COMPLEX(定数!T$14,計算!B29*定数!T$24)","v":"-162.682801076329+101.070596276461i"},{"$f":"COMPLEX(定数!U$14,計算!B29*定数!U$24)","v":"-101.525845343051-72.5663920620921i"},{"$f":"COMPLEX(定数!V$14,計算!B29*定数!V$24)","v":"100.601901343051-72.5663920620921i"},{"$f":"IMPRODUCT(定数!D$32,計算!G29)","v":"1.9153279776128+7.03968333724672E-16i"},{"$f":"COMPLEX(定数!O$15,計算!B29*定数!O$25)","v":"86.1919999827348+86.1248776443592i"},{"$f":"COMPLEX(定数!P$15,計算!B29*定数!P$25)","v":"-85.0954239827348+86.1248776443592i"},{"$f":"COMPLEX(定数!Q$15,計算!B29*定数!Q$25)","v":"-57.0828842529623-47.610176931684i"},{"$f":"COMPLEX(定数!R$15,計算!B29*定数!R$25)","v":"56.4766926529622-47.610176931684i"},{"$f":"COMPLEX(定数!S$15,計算!B29*定数!S$25)","v":"-163.956966054068-101.061642748015i"},{"$f":"COMPLEX(定数!T$15,計算!B29*定数!T$25)","v":"162.670209254068-101.061642748015i"},{"$f":"COMPLEX(定数!U$15,計算!B29*定数!U$25)","v":"-101.548680976766-72.5806549003626i"},{"$f":"COMPLEX(定数!V$15,計算!B29*定数!V$25)","v":"100.624555376766-72.5806549003626i"},{"$f":"IMPRODUCT(定数!D$33,計算!G29)","v":"0"},{"$f":"COMPLEX(定数!O$16,計算!B29*定数!O$26)","v":"74.3664237452132+70.1379409504495i"},{"$f":"COMPLEX(定数!P$16,計算!B29*定数!P$26)","v":"-73.4733997452132+70.1379409504495i"},{"$f":"COMPLEX(定数!Q$16,計算!B29*定数!Q$26)","v":"-125.201328746793-100.353354979161i"},{"$f":"COMPLEX(定数!R$16,計算!B29*定数!R$26)","v":"123.923590146793-100.353354979161i"},{"$f":"COMPLEX(定数!S$16,計算!B29*定数!S$26)","v":"77.7704269443536+46.0657856924305i"},{"$f":"COMPLEX(定数!T$16,計算!B29*定数!T$26)","v":"-77.1838991443536+46.0657856924305i"},{"$f":"COMPLEX(定数!U$16,計算!B29*定数!U$26)","v":"124.65071095008+84.0835178643134i"},{"$f":"COMPLEX(定数!V$16,計算!B29*定数!V$26)","v":"-123.58012635008+84.0835178643134i"},{"$f":"IMPRODUCT(定数!D$34,計算!G29)","v":"0"},{"$f":"IMDIV(COMPLEX(定数!O$17,計算!B29*定数!O$27),計算!R29)","v":"-0.243987802382944-0.216438588075142i"},{"$f":"IMPRODUCT(COMPLEX(定数!P$17,計算!B29*定数!P$27),計算!R29)","v":"-0.568753762451227-0.58653917997073i"},{"$f":"IMDIV(COMPLEX(定数!Q$17,計算!B29*定数!Q$27),計算!S29)","v":"0.0441287966743082-0.438089709075017i"},{"$f":"IMPRODUCT(COMPLEX(定数!R$17,計算!B29*定数!R$27),計算!S29)","v":"-1.24360709578902+0.00201996748234184i"},{"$f":"IMDIV(COMPLEX(定数!S$17,計算!B29*定数!S$27),計算!T29)","v":"-0.169020001702347+0.105258006743351i"},{"$f":"IMPRODUCT(COMPLEX(定数!T$17,計算!B29*定数!T$27),計算!T29)","v":"0.564094389548478-0.328471884829786i"},{"$f":"IMDIV(COMPLEX(定数!U$17,計算!B29*定数!U$27),計算!U29)","v":"0.226436771147857-0.276571803043943i"},{"$f":"IMPRODUCT(COMPLEX(定数!V$17,計算!B29*定数!V$27),計算!U29)","v":"-1.03976630113758+0.419605426077742i"},{"$f":"IMPRODUCT(定数!E$31,計算!G29)","v":"0"},{"$f":"IMDIV(COMPLEX(定数!O$18,計算!B29*定数!O$28),計算!R29)","v":"-0.319419568357387-0.25674450074551i"},{"$f":"IMPRODUCT(COMPLEX(定数!P$18,計算!B29*定数!P$28),計算!R29)","v":"-0.678566202570514-0.711200308723231i"},{"$f":"IMDIV(COMPLEX(定数!Q$18,計算!B29*定数!Q$28),計算!S29)","v":"0.0117120649257109-0.211237307403842i"},{"$f":"IMPRODUCT(COMPLEX(定数!R$18,計算!B29*定数!R$28),計算!S29)","v":"-0.580806899747027-0.00242640697443847i"},{"$f":"IMDIV(COMPLEX(定数!S$18,計算!B29*定数!S$28),計算!T29)","v":"0.351700758161336-0.251774505119887i"},{"$f":"IMPRODUCT(COMPLEX(定数!T$18,計算!B29*定数!T$28),計算!T29)","v":"-1.21827342896283+0.699586762807611i"},{"$f":"IMDIV(COMPLEX(定数!U$18,計算!B29*定数!U$28),計算!U29)","v":"-0.175896156908525+0.255398817983537i"},{"$f":"IMPRODUCT(COMPLEX(定数!V$18,計算!B29*定数!V$28),計算!U29)","v":"0.877816962287847-0.345417042419335i"},{"$f":"IMPRODUCT(定数!E$32,計算!G29)","v":"0"},{"$f":"IMDIV(COMPLEX(定数!O$19,計算!B29*定数!O$29),計算!R29)","v":"-0.319423271627703-0.256738343791237i"},{"$f":"IMPRODUCT(COMPLEX(定数!P$19,計算!B29*定数!P$29),計算!R29)","v":"-0.678551396293249-0.711189095759001i"},{"$f":"IMDIV(COMPLEX(定数!Q$19,計算!B29*定数!Q$29),計算!S29)","v":"-0.0116989465118146+0.211241340733364i"},{"$f":"IMPRODUCT(COMPLEX(定数!R$19,計算!B29*定数!R$29),計算!S29)","v":"0.580791715972785+0.00243119812098377i"},{"$f":"IMDIV(COMPLEX(定数!S$19,計算!B29*定数!S$29),計算!T29)","v":"-0.35167481792659+0.251746481389526i"},{"$f":"IMPRODUCT(COMPLEX(定数!T$19,計算!B29*定数!T$29),計算!T29)","v":"1.21817072167076-0.699530508314742i"},{"$f":"IMDIV(COMPLEX(定数!U$19,計算!B29*定数!U$29),計算!U29)","v":"-0.175940035858116+0.255441054148832i"},{"$f":"IMPRODUCT(COMPLEX(定数!V$19,計算!B29*定数!V$29),計算!U29)","v":"0.877998802865261-0.345492895835496i"},{"$f":"IMPRODUCT(定数!E$33,計算!G29)","v":"0"},{"$f":"IMDIV(COMPLEX(定数!O$20,計算!B29*定数!O$30),計算!R29)","v":"-0.243986588740073-0.216432686084752i"},{"$f":"IMPRODUCT(COMPLEX(定数!P$20,計算!B29*定数!P$30),計算!R29)","v":"-0.568738958641449-0.586525984064337i"},{"$f":"IMDIV(COMPLEX(定数!Q$20,計算!B29*定数!Q$30),計算!S29)","v":"-0.0441350107064897+0.438111251942718i"},{"$f":"IMPRODUCT(COMPLEX(定数!R$20,計算!B29*定数!R$30),計算!S29)","v":"1.24367620943175-0.00202150358761921i"},{"$f":"IMDIV(COMPLEX(定数!S$20,計算!B29*定数!S$30),計算!T29)","v":"0.168988140655681-0.105212485891977i"},{"$f":"IMPRODUCT(COMPLEX(定数!T$20,計算!B29*定数!T$30),計算!T29)","v":"-0.563953169114887+0.328397346177197i"},{"$f":"IMDIV(COMPLEX(定数!U$20,計算!B29*定数!U$30),計算!U29)","v":"0.226451275533998-0.276556049427719i"},{"$f":"IMPRODUCT(COMPLEX(定数!V$20,計算!B29*定数!V$30),計算!U29)","v":"-1.03977503179921+0.419616237618972i"},{"$f":"IMPRODUCT(定数!E$34,計算!G29)","v":"0"},"-0.0521310325024149+0.992294347168502i","1.56444752859144-0.126144239559636i","-0.208334599145615+1.54581640961054i","-0.862833854026831+0.1941679625463i","0.240124414606594-0.846062979530008i","1.45139396074021-0.238213752409125i","-0.315073857371042+1.42779169388765i","-0.0136303663082557+0.0128551815502953i","4.8573583907245+5.0850164299231i","-88.6252061992544-76.2560192910234i","94.6119212054504-67.6880501239354i","255.064372152726+158.646607515518i","-256.248166790204+153.315939809442i","-247.144867734528-177.03611480594i","250.729393700745-168.49866310027i","4.19735841659999+0.0658764302945208i","4.85908320688979+5.0868220860884i","-202.789902807919-171.475404618696i","207.566717557274-162.904393021644i","-72.8648985059298-43.4859076669816i","69.1063351229983-48.8184682583883i","-247.163359495267-177.049662439341i","250.749786223557-168.509179140259i","2.28197947072105+0.0658998225852132i","0.000881035306093736+0.000922328277297879i","-250.391193810649-200.699587387475i","247.837069285145-200.698033315752i","155.55483604617+92.1435986157503i","-154.382208411196+92.1426317308582i","0.00791054437399907+0.00083880367179745i","-0.00684084635199156+0.00238734008918584i","1.91527756116414+0.0000119487705277921i","-0.79624388596354-0.355714629957791i","0.453137392222862-0.130260550662464i","-1.62901251791438+0.334088669664433i","-0.421566377230908-0.034117919890804i","0.805802494478954-0.482928742623057i","0.63211784225225-0.020555393388241i","-1.42566969747632+0.699775042901234i","-0.00610800046542136+0.000186370256984468i","-0.949983991226829-0.407626432580373i","0.54381405903383+0.150133053716004i","-1.0442329098097+0.43784884069747i","0.026243184339222-0.411281305412958i","-0.924350974818431+0.490988314027949i","0.348867546480626+0.551946101847514i","0.410598541149921+0.02975408393783i","-0.00765430289185956+0.00060667494915964i","-0.949963268493948-0.40761122391356i","0.520408064504083+0.572601602475097i","0.11737445191172+0.442713453075516i","-0.677134391572436+0.092245712581492i","1.5120888558897-0.908133568729362i","0.348827575764026+0.551978519676643i","0.410788005771842+0.029685457915599i","-0.00765427422002553+0.000606806476913965i","-0.796223162373605-0.355702330665506i","0.364870941659384+0.745931330095049i","0.858280163543784+0.330046552114209i","-0.083556041723275-0.244583555739581i","-0.322250349065269+0.173940097990242i","0.63212917922918-0.020547916778803i","-1.42566961893795+0.699785981176132i","-0.00610790805186649+0.000186435101675987i","2.31232011614975+16.3774849482422i","-16.3379994505179-1.62296598432741i","-9.26917043663588-41.4091372303142i","40.8399002175836+10.6448738878847i","7.19923594541524+42.3329725112655i","-41.9412134822018-8.02421116883364i","-0.413646679743575-0.425138296861802i","-16.5465240653636+1.62296598384058i","2.33298436134509-16.3774849482052i","41.3671377282577-10.6448738866584i","-9.404705181692+41.4091372300259i","-42.4802136289237+8.02421116757796i","7.30140337642505-42.332972511056i","0.419059708671711-0.425138296849433i","-114.133226377942-95.1923073124444i","112.921200276015-95.1923073145188i","-328.019842348684-202.188849559223i","325.445493964668-202.188849553221i","0.0692677648000029+0.0493167371059826i","-0.0686398485709958+0.049316731301019i","-1.91686940042549-4.90106011330482E-11i","-250.375118831334-200.685755950771i","247.819908426075-200.685755950735i","155.508572069125+92.1148230445957i","-154.335729715682+92.1148230444924i","0.0527380692543518+0.0329498925852207i","-0.0523185381196748+0.0329498926852867i","1.91451623769249+8.40571700311547E-13i","-13.2992439731474-4.72382449390109i","6.05432301384531-11.8765069190107i","36.303301494246+6.20486242042467i","-21.4124724323829+29.1434523762425i","-36.0468218403814-8.74215978306443i","19.4464857517393-30.4103794934721i","0.478793642362773-0.189261730097952i","-15.8366827477033-5.0528758196992i","7.84796064932632-14.1695135841749i","43.6634937567459+6.33859769186369i","-26.7381292249404+35.9953993503842i","-43.2775359174041-9.1412396835402i","24.602853427448-37.2096470914484i","0.563743319012474-0.232448087031221i","-15.8597211698858-4.63018925265924i","9.0092705855242-14.1643450671329i","42.9590970463489+6.84171616172152i","-24.3008647252678+34.5955623901648i","-43.2765735444468-9.14072748188044i","24.6022477589639-37.2089495072004i","0.563728197835198-0.232445518815588i","-13.3871475589983-3.84746273628933i","8.54136591601797-11.8802383303352i","36.6403236297393+5.99410859805931i","-22.5398210735915+29.7995787420942i","-36.0458314687584-8.74179612035303i","19.4458138533859-30.4095810661284i","0.478779821454591-0.189258008999372i","0.0885138828900018-1.04844033980616i","-21.2451610149404-82.5859561859438i","82.794494840749+18.2561427341934i","7.20127060849131+42.3422141985405i","-41.9505603532277-8.02526574164899i","-0.571846178283821-0.568252839313456i","1.05461798658511+0.0950163135921009i","83.23207556183-20.9141219070851i","-18.840013716682+83.2188588357943i","-42.4895818660944+8.02585996667356i","7.30286156638234-42.3423144802707i","0.569543394699499-0.577906282744037i","-0.17323845339658+0.978534287979816i","2.56631955187676-0.368911238393779i","-0.810274649938627+2.44732206301359i","-0.000570461124156714+0.0000436925660721497i","0.000142136833473869-0.000550646524486821i","0.00990487137346605-0.00826111369621657i","8.06741676377098+9.54839270311101i","872.086365585235+514.77240717317i","-848.351019750966+542.252794739385i","-0.0988596781466602-0.0705939979343353i","0.0937759024799572-0.0763934584430103i","6.05233743195362-0.0806107241893579i","-0.87204168108765+0.318911263482601i","72.1760832717133+13.4214650149226i","-43.7492325929014+57.8633903349594i","-36.0546149380626-8.74427346319953i","19.4509772217051-30.4170312464888i","0.649544994506231-0.252339422630927i","0.160025980702111+0.451871100101499i","86.1695450051415+13.4635614566584i","-51.9362062697425+70.658645257795i","-43.2867909023579-9.14343020745321i","24.6078867518953-37.2176493059939i","0.762346006250263-0.313228638720692i","1.73095807518948+0.5528090703356i","85.3683384231367+12.873431992348i","-48.4831590582826+69.657682946622i","-43.285823203664-9.14267587293147i","24.6070516071305-37.2170244871032i","0.759067215893171-0.317603049607913i","2.45732296832155+0.553016080454201i","72.4153943969743+10.9292582587656i","-42.8030678167791+59.4447388022505i","-36.053636421524-8.74340602944149i","19.449835252133-30.4164057862343i","0.643162123190522-0.261742133535136i","-0.00724781843920042-0.0343656313365983i","0.0338636396704999+0.00850175588189828i","7.19959181015236+42.3321279339708i","-41.940432445632-8.02422760491242i","-0.206945416744039-0.212694895906469i","0.034301196633308-0.00850175532490027i","-0.00735606671760181+0.0343656312082885i","-42.4794218387542+8.02422760415186i","7.30175944993593-42.3321279338439i","0.209653532274651-0.212694895900317i","-10.3242241481388-79.8372318301397i","75.465718181215+26.7136354245839i","0.000142887187647689+0.00967461435972975i","-0.00929476547561233-0.00239633912239376i","-0.302793089187896-0.374006647647663i","76.4822373889881-26.7136354225874i","-10.6643527202801+79.8372318298385i","-0.00941794684679325+0.00239633795822843i","0.000173399530824159-0.00967461425922067i","0.30755508974199-0.374006647634262i","130.35250291292-34.2649854866515i","-27.588000190999+130.885766393485i","-36.0620635610973-8.73918026728966i","19.4480430898663-30.4255232124347i","0.798470919443965-0.676571590631988i","61.8592801345621-16.8216755839094i","-14.1534949911189+62.7015267332667i","-43.2842009503081-9.13955798578271i","24.603487324877-37.2161794705959i","0.544126406082608-0.392353114887439i","-61.7867479571353+16.8335403965502i","14.1111343055759-62.641867276983i","-43.2681964151589-9.1416175070303i","24.6014032452979-37.2003739922603i","0.019947982560618+0.159767534051908i","-130.299234163689+34.2773810048318i","27.5539640858983-130.843566158473i","-36.0291682709978-8.74408632969497i","19.4440589362257-30.3927280271344i","-0.31943175319518+0.487230081748625i","0.000151764321639901-0.000355609082624761i","7.20232841662739+42.322854112868i","-41.9327628523963-8.01877604781982i","-0.206779557967141-0.212478410321971i","0.00036019523991407+0.000153114122329198i","-42.4699997009501+8.02665197582025i","7.29654834846666-42.3242230910596i","0.209441697242841-0.212520468138983i","0.0448475414520999+0.357788486312099i","7.93592377235219-20.6834544596374i","16.5256566426649+13.8456528584211i","0.036891891936334+0.150739180556919i","-0.3409437570349+0.102049576132501i","22.0134461331438+3.52865282735697i","-10.2101542861339+19.1436460819124i","-0.138802222834232+0.069263269815962i","-0.444843341978188+0.887157616099037i","-0.242285877553211-0.130730917814866i","0.196942526728149-0.181640473817426i","0.00700574422788428-0.00334876474625079i","-1.5592836935078+0.339584851066896i","-26.0974578898274-5.12829194918741i","15.4762615170563-22.6671272236528i","0.167087945507086-0.06735258171905i","1.5597144230702-0.338994885492596i","-60.4389170512271-13.1405266689568i","33.7121892526373-51.7385881463092i","0.396438568786504-0.165073227760418i","0.000656921689401457+0.000456522164995476i","-72.07994604391-17.4732994655067i","38.8793596162273-60.8110166833896i","0.478624469342039-0.189249964203804i","7.1976530690745+42.3272885362744i","-41.9350675606209-8.02501365832447i","-0.20676941057779-0.212520861744037i","-42.474495334688+8.02192562303863i","7.30285922613502-42.3265651143178i","0.209484684628743-0.212510257482704i","9.61849512116817-26.4527609285777i","21.3134347297468+17.7875398854128i","0.0486659071377039+0.189705677067479i","27.9037814589902+4.2248014867807i","-13.2656702302871+24.4473342769191i","-0.174809678458133+0.087083702321923i","12.4345353552487-10.7551064673706i","5.11887954553925+16.1621584489907i","-0.0256797933968423+0.103812733977229i","15.2951280168049+6.61988947989442i","-12.4983317100306+11.814965543488i","-0.111285687586345+0.0189584795872914i","-86.5390574979533-18.2806935992274i","49.200804593574-74.4034308394552i","0.563585633179403-0.232368320732496i","-72.086971618969-17.4846307794436i","38.8929638350582-60.8130724250636i","0.478706230290081-0.189211614057213i","0.434276141619101+0.901193791011931i","-0.001263252344708+0.000397450228912993i","-0.904697010731951+0.486163600352398i","-0.001067173361542-0.001740649903377i","0.0631072292139976-1.0325799437522i","0.000576104386174198+0.00176378010850101i","1.0325602949146-0.161843062898999i","0.000423142517452013+0.0026559868053396i","-0.36386325210886+0.514846345157798i","0.0032800481045064-0.005735738714486i","-0.6236259285184-0.0800561794463004i","0.00149781361432201-0.0028234682585307i","-0.370391631723074+0.938009369614667i","-0.00569132319978517+0.00388737370209861i","-4.20819470423771+0.329021456202298i","0.000466682429875021-0.00849330111642901i"]
[{"$f":"COMPLEX(定数!O$13,計算!B30*定数!O$23)","v":"74.3688188913563+72.9448961814311i"},{"$f":"COMPLEX(定数!P$13,計算!B30*定数!P$23)","v":"-73.4757772913563+72.9448961814311i"},{"$f":"COMPLEX(定数!Q$13,計算!B30*定数!Q$23)","v":"125.193786513619+104.362016524161i"},{"$f":"COMPLEX(定数!R$13,計算!B30*定数!R$23)","v":"-123.916114913619+104.362016524161i"},{"$f":"COMPLEX(定数!S$13,計算!B30*定数!S$23)","v":"-77.7867441135484-47.9216821810575i"},{"$f":"COMPLEX(定数!T$13,計算!B30*定数!T$23)","v":"77.2000539135484-47.9216821810575i"},{"$f":"COMPLEX(定数!U$13,計算!B30*定数!U$23)","v":"124.646605989444+87.4474793577925i"},{"$f":"COMPLEX(定数!V$13,計算!B30*定数!V$23)","v":"-123.576013789444+87.4474793577925i"},{"$f":"IMPRODUCT(定数!D$31,計算!G30)","v":"-1.56280046057557+0.61875647450384i"},{"$f":"COMPLEX(定数!O$14,計算!B30*定数!O$24)","v":"86.1948356167649+89.5708692539142i"},{"$f":"COMPLEX(定数!P$14,計算!B30*定数!P$24)","v":"-85.0982474167649+89.5708692539142i"},{"$f":"COMPLEX(定数!Q$14,計算!B30*定数!Q$24)","v":"57.0863694248256+49.5147637028498i"},{"$f":"COMPLEX(定数!R$14,計算!B30*定数!R$24)","v":"-56.4801756248256+49.5147637028498i"},{"$f":"COMPLEX(定数!S$14,計算!B30*定数!S$24)","v":"163.969671876329+105.113420127519i"},{"$f":"COMPLEX(定数!T$14,計算!B30*定数!T$24)","v":"-162.682801076329+105.113420127519i"},{"$f":"COMPLEX(定数!U$14,計算!B30*定数!U$24)","v":"-101.525845343051-75.4690477445758i"},{"$f":"COMPLEX(定数!V$14,計算!B30*定数!V$24)","v":"100.601901343051-75.4690477445758i"},{"$f":"IMPRODUCT(定数!D$32,計算!G30)","v":"1.56280046057557-0.61875647450384i"},{"$f":"COMPLEX(定数!O$15,計算!B30*定数!O$25)","v":"86.1919999827348+89.5698727501335i"},{"$f":"COMPLEX(定数!P$15,計算!B30*定数!P$25)","v":"-85.0954239827348+89.5698727501335i"},{"$f":"COMPLEX(定数!Q$15,計算!B30*定数!Q$25)","v":"-57.0828842529623-49.5145840089514i"},{"$f":"COMPLEX(定数!R$15,計算!B30*定数!R$25)","v":"56.4766926529622-49.5145840089514i"},{"$f":"COMPLEX(定数!S$15,計算!B30*定数!S$25)","v":"-163.956966054068-105.104108457935i"},{"$f":"COMPLEX(定数!T$15,計算!B30*定数!T$25)","v":"162.670209254068-105.104108457935i"},{"$f":"COMPLEX(定数!U$15,計算!B30*定数!U$25)","v":"-101.548680976766-75.4838810963771i"},{"$f":"COMPLEX(定数!V$15,計算!B30*定数!V$25)","v":"100.624555376766-75.4838810963771i"},{"$f":"IMPRODUCT(定数!D$33,計算!G30)","v":"0"},{"$f":"COMPLEX(定数!O$16,計算!B30*定数!O$26)","v":"74.3664237452132+72.9434585884675i"},{"$f":"COMPLEX(定数!P$16,計算!B30*定数!P$26)","v":"-73.4733997452132+72.9434585884675i"},{"$f":"COMPLEX(定数!Q$16,計算!B30*定数!Q$26)","v":"-125.201328746793-104.367489178327i"},{"$f":"COMPLEX(定数!R$16,計算!B30*定数!R$26)","v":"123.923590146793-104.367489178327i"},{"$f":"COMPLEX(定数!S$16,計算!B30*定数!S$26)","v":"77.7704269443536+47.9084171201278i"},{"$f":"COMPLEX(定数!T$16,計算!B30*定数!T$26)","v":"-77.1838991443536+47.9084171201278i"},{"$f":"COMPLEX(定数!U$16,計算!B30*定数!U$26)","v":"124.65071095008+87.446858578886i"},{"$f":"COMPLEX(定数!V$16,計算!B30*定数!V$26)","v":"-123.58012635008+87.446858578886i"},{"$f":"IMPRODUCT(定数!D$34,計算!G30)","v":"0"},{"$f":"IMDIV(COMPLEX(定数!O$17,計算!B30*定数!O$27),計算!R30)","v":"-0.335578927867114-0.031833640647918i"},{"$f":"IMPRODUCT(COMPLEX(定数!P$17,計算!B30*定数!P$27),計算!R30)","v":"-0.0910563141689296-0.816375334621799i"},{"$f":"IMDIV(COMPLEX(定数!Q$17,計算!B30*定数!Q$27),計算!S30)","v":"-0.220857765071254-0.399916967444663i"},{"$f":"IMPRODUCT(COMPLEX(定数!R$17,計算!B30*定数!R$27),計算!S30)","v":"-1.01301774825753-0.73157331828719i"},{"$f":"IMDIV(COMPLEX(定数!S$17,計算!B30*定数!S$27),計算!T30)","v":"-0.0828075654747906+0.189524002564602i"},{"$f":"IMPRODUCT(COMPLEX(定数!T$17,計算!B30*定数!T$27),計算!T30)","v":"0.653102510543386+0.0517957686935198i"},{"$f":"IMDIV(COMPLEX(定数!U$17,計算!B30*定数!U$27),計算!U30)","v":"0.0322618417955822-0.370331505580608i"},{"$f":"IMPRODUCT(COMPLEX(定数!V$17,計算!B30*定数!V$27),計算!U30)","v":"-1.09662299209378-0.25499287182445i"},{"$f":"IMPRODUCT(定数!E$31,計算!G30)","v":"0"},{"$f":"IMDIV(COMPLEX(定数!O$18,計算!B30*定数!O$28),計算!R30)","v":"-0.422470397007006-0.0199562267586516i"},{"$f":"IMPRODUCT(COMPLEX(定数!P$18,計算!B30*定数!P$28),計算!R30)","v":"-0.101405727152125-0.983314668313635i"},{"$f":"IMDIV(COMPLEX(定数!Q$18,計算!B30*定数!Q$28),計算!S30)","v":"-0.114275868815535-0.187190689447101i"},{"$f":"IMPRODUCT(COMPLEX(定数!R$18,計算!B30*定数!R$28),計算!S30)","v":"-0.471138791846663-0.344545696485971i"},{"$f":"IMDIV(COMPLEX(定数!S$18,計算!B30*定数!S$28),計算!T30)","v":"0.154156637705645-0.42234563435749i"},{"$f":"IMPRODUCT(COMPLEX(定数!T$18,計算!B30*定数!T$28),計算!T30)","v":"-1.40506540045024-0.120246771100072i"},{"$f":"IMDIV(COMPLEX(定数!U$18,計算!B30*定数!U$28),計算!U30)","v":"-0.00229313182481524+0.322372669202733i"},{"$f":"IMPRODUCT(COMPLEX(定数!V$18,計算!B30*定数!V$28),計算!U30)","v":"0.920859602467061+0.222832957791423i"},{"$f":"IMPRODUCT(定数!E$32,計算!G30)","v":"0"},{"$f":"IMDIV(COMPLEX(定数!O$19,計算!B30*定数!O$29),計算!R30)","v":"-0.422469508829144-0.0199490028951488i"},{"$f":"IMPRODUCT(COMPLEX(定数!P$19,計算!B30*定数!P$29),計算!R30)","v":"-0.101400786990129-0.98329672668663i"},{"$f":"IMDIV(COMPLEX(定数!Q$19,計算!B30*定数!Q$29),計算!S30)","v":"0.114288906241954+0.187186396452498i"},{"$f":"IMPRODUCT(COMPLEX(定数!R$19,計算!B30*定数!R$29),計算!S30)","v":"0.471123629831947+0.344540832418198i"},{"$f":"IMDIV(COMPLEX(定数!S$19,計算!B30*定数!S$29),計算!T30)","v":"-0.154150507053325+0.422306407199454i"},{"$f":"IMPRODUCT(COMPLEX(定数!T$19,計算!B30*定数!T$29),計算!T30)","v":"1.40494845556625+0.120234305968506i"},{"$f":"IMDIV(COMPLEX(定数!U$19,計算!B30*定数!U$29),計算!U30)","v":"-0.00230575953805885+0.32243471483512i"},{"$f":"IMPRODUCT(COMPLEX(定数!V$19,計算!B30*定数!V$29),計算!U30)","v":"0.921052773233854+0.22287543902208i"},{"$f":"IMPRODUCT(定数!E$33,計算!G30)","v":"0"},{"$f":"IMDIV(COMPLEX(定数!O$20,計算!B30*定数!O$30),計算!R30)","v":"-0.335574201716731-0.0318295436133461i"},{"$f":"IMPRODUCT(COMPLEX(定数!P$20,計算!B30*定数!P$30),計算!R30)","v":"-0.0910526322224669-0.816355775895617i"},{"$f":"IMDIV(COMPLEX(定数!Q$20,計算!B30*定数!Q$30),計算!S30)","v":"0.220865335326824+0.39993901775419i"},{"$f":"IMPRODUCT(COMPLEX(定数!R$20,計算!B30*定数!R$30),計算!S30)","v":"1.01307488137284+0.731612760370556i"},{"$f":"IMDIV(COMPLEX(定数!S$20,計算!B30*定数!S$30),計算!T30)","v":"0.0828061877415445-0.189466338391429i"},{"$f":"IMPRODUCT(COMPLEX(定数!T$20,計算!B30*定数!T$30),計算!T30)","v":"-0.652943271132751-0.0517762286703343i"},{"$f":"IMDIV(COMPLEX(定数!U$20,計算!B30*定数!U$30),計算!U30)","v":"0.0322826970171846-0.370326592510446i"},{"$f":"IMPRODUCT(COMPLEX(定数!V$20,計算!B30*定数!V$30),計算!U30)","v":"-1.09663629154883-0.254988777528809i"},{"$f":"IMPRODUCT(定数!E$34,計算!G30)","v":"0"},"-0.0132098354561077+0.993810139237546i","1.55949971767408-0.126336932824919i","-0.147702363108445+1.54817774146794i","-0.855217918743204+0.194464566329774i","0.206938914725598-0.847355393981369i","1.44205039809359-0.2385776389088i","-0.259070956601271+1.42997273556346i","-0.00655092147049306+0.0147455987255046i","5.0568102237593+5.0927841125644i","-88.6505612764844-79.2813904532812i","94.9226313463594-70.7003331740332i","255.103400044155+164.954191182791i","-256.418226019718+159.615380546289i","-247.192748859426-184.070595042192i","251.016380794192-175.520101841705i","3.44823215537591-1.30297920219329i","5.0586058639694+5.09459252698299i","-202.815266888571-178.309542363023i","207.877538029327-169.725438006309i","-72.8258567559515-45.2636382002106i","68.9362155065616-50.6043446135451i","-247.21125762244-184.084667904191i","251.036875224249-175.531138479343i","1.88539842473961-0.684187442585926i","0.000917212193300543+0.000923737191897089i","-250.391198409592-208.727566372085i","247.837125642239-208.726009926419i","155.55484312511+95.829335616979i","-154.382239256806+95.8283672551093i","0.00790185961999157+0.000880874287389588i","-0.00678879218099837+0.00243177619150003i","1.56276357199231-0.618730574198538i","-0.127125851433337-0.483294110747924i","0.306499242714989-0.392668426309103i","-1.1118676827939-0.216739395607691i","-0.375991192862675+0.227557513340759i","0.749521256794064-0.225971226893719i","0.523778363141825-0.404487419689592i","-1.22908298415179+0.216628673920383i","-0.00266775729457583+0.00473977253105911i","-0.126819192075336-0.563722922712168i","0.547087804521994-0.209442573618335i","-0.564434453899392+0.306565986738419i","-0.211028394935502-0.357257034530857i","-1.30072981860246-0.474099620893956i","0.611691581823503+0.250358564117698i","0.782872932409143+0.821784028337597i","-0.00306183690625918+0.00609884727332665i","-0.126807061031863-0.563705768339279i","0.7756502818256+0.164923358877838i","0.37783928278987+0.995652207567101i","-0.519333375323366+0.487401012284475i","1.50927773243576-0.233619286121549i","0.611675949860721+0.250410404474222i","0.783076663204879+0.821827110991355i","-0.00306172456768329+0.00609888149957482i","-0.127118035380707-0.483279194796759i","0.748214455076098+0.407181766652836i","0.914231987837783+1.24643997127092i","-0.210372601029795-0.151430242826677i","-0.556528974550848-0.329540067364441i","0.523791425555552-0.404487287195966i","-1.2290892005508+0.216627071372498i","-0.00266766592070805+0.00473972968049379i","2.31664267306377+16.3264392694528i","-16.3423220074318-0.9817395469638i","-9.2816704804685-41.0234603388984i","40.8524002614156+9.02862646273552i","7.21132851983478+42.050814382478i","-41.9533060566209-6.36970258630828i","-0.469740219578143-0.199851562882428i","-16.5422015084495+0.981739546495893i","2.32866180443088-16.3264392694172i","41.3546376844247-9.02862646155675i","-9.39220513785929+41.0234603386213i","-42.4681210545037+6.36970258510127i","7.2893108020052-42.0508143822766i","0.209701600599794-0.468861609828152i","-114.133226377943-98.9999996050242i","112.921200276017-98.9999996070191i","-328.019842348681-210.27640354135i","325.445493964664-210.276403535582i","0.0692677647959954+0.0512894063579949i","-0.0686398485649988+0.0512894007779892i","-1.56405817535799+0.619254438968814i","-250.375118831333-208.713186188798i","247.819908426073-208.713186188764i","155.508572069122+95.7994159663718i","-154.335729715676+95.7994159662751i","0.052738069256927+0.0342678882966696i","-0.0523185381238248+0.0342678883900325i","1.56213812622043-0.618494237780708i","-2.27091114973829-8.2626125184141i","7.07463738018764-1.16682335260194i","9.24473433050023+19.0662385321385i","-20.2708676023495+0.449973667331456i","-7.95345743128126-20.119326355353i","20.0204878010237-1.60623592587141i","0.250588792014343+0.046482889761544i","-2.10420991241976-9.4101573399401i","8.9344726171938-0.451219812474143i","10.1231770417567+21.8102970752311i","-25.6177066478459-0.566138855641692i","-8.36482857734677-22.8820942232186i","25.4123054251093-0.401914687868893i","0.28784038769857+0.0648517959073145i","-1.87542991982426-9.03551954587597i","9.87643803495831+0.23802451836615i","9.81421550603623+22.6543552358311i","-22.806881427823-0.325995060860882i","-8.36421975843348-22.8813911400166i","25.4116993736086-0.401486528513385i","0.287829913111024+0.0648539206146823i","-1.82905199908044-7.46252325611026i","9.10047532550526+0.296448888379504i","9.40989502175709+18.6867045004344i","-21.5762325197937+0.346224279008831i","-7.95301742562558-20.1187425563703i","20.0197973830941-1.60601758404489i","0.250580250832589+0.0464833836591635i","0.0477954075489002-1.05505844854717i","-21.2547504051178-81.8283737269625i","82.71759802298+15.0003865095962i","7.21336399022632+42.0599984180829i","-41.9626326397456-6.37039032099668i","-0.642928994465464-0.260791055529407i","1.05830815308715+0.0956160885830002i","83.2057439406822-17.6751437429261i","-18.8058441668115+82.4652714716659i","-42.4774865014654+6.37098829706215i","7.29076428997146-42.0600993328421i","0.284936844960602-0.637328052514406i","-0.135234932583228+0.984711126163905i","2.55199207648744-0.371239930453067i","-0.715227541111464+2.4627703846059i","-0.000568764226695016+0.0000439683694172111i","0.00012075126947749-0.000554122392011772i","0.00513439336320983-0.00987932625478232i","8.43824949317201+9.60866537558698i","871.946560201652+535.48457167651i","-847.42356413541+563.138424710912i","-0.098843120061441-0.0734321199294004i","0.0935672252959712-0.0792681891680285i","4.90960813469516-2.0204161248132i","-1.36875561411324-0.04802572381405i","18.107493287736+39.3093073129233i","-42.2440032098836+0.133058358276133i","-7.95511233790479-20.1239259855122i","20.0253405150409-1.60649656763895i","0.34387758793626+0.0664713204949764i","-0.616376700045201+0.348237106605603i","18.98653022195+45.043777303713i","-50.2977523407746-2.11435669605748i","-8.36643912594461-22.8873538654024i","25.4177738900219-0.401944389254077i","0.391610243577801+0.0923790690669215i","0.72543776869081+0.862863350116804i","17.9546434492535+45.0166950508488i","-46.4006505050169-2.16969422337532i","-8.36568371294282-22.8864477607084i","25.4169326178561-0.401434695771055i","0.386723953519706+0.0927178481582565i","1.50469392216973+1.0883429127655i","16.8480078454966+37.0519875836974i","-41.2629021532421-0.486642784706501i","-7.95438583995073-20.1229065522053i","20.024153394682-1.60612999355705i","0.333696025208647+0.0667291121022576i","-0.00725811245679964-0.0340585990537932i","0.0338739337041005+0.00716016855430013i","7.21168418569388+42.0499685094837i","-41.9525248211738-6.36975216723817i","-0.235008828009466-0.099984981314795i","0.034290902634396-0.00716016800679853i","-0.00734577271159864+0.0340585989279987i","-42.4673294632129+6.36975216650679i","7.28966707439441-42.0499685093616i","0.104912604254638-0.234569397133158i","-10.3498108509298-78.8508052437824i","75.4913048839993+23.6022649819209i","0.000145785888127116+0.00958806390711297i","-0.00929766417479621-0.00201865761926168i","-0.363386787178252-0.195555263828911i","76.456650686215-23.6022649800327i","-10.6387660174906+78.8508052434972i","-0.00941504814518639+0.00201865650055973i","0.000170500829918478-0.00958806381044341i","0.134623175762861-0.392731356805571i","123.891479010105+10.6754606053187i","-60.5927409187007+107.549606274184i","-7.96809618535023-20.121615102596i","20.0260343627135-1.6196120953822i","0.547005023226491-0.464616553512802i","57.8934438024425+3.8708482860052i","-29.3964635596711+50.1922555316211i","-8.37153937115212-22.8828309434454i","25.4145400631615-0.407913623101066i","0.337825201036854-0.196572173854887i","-57.8754280571425-3.8329722558048i","29.3545821481468-50.1912451517308i","-8.35711185671345-22.8797882703919i","25.4085357412539-0.394626271071643i","-0.049810276948948+0.261458602892098i","-123.883207567737-10.6448816595375i","60.5618994652749-107.55434459708i","-7.93802208373404-20.1156972114505i","20.0134617418243-1.59188845558596i","-0.296297037945039+0.511153418497578i","0.000116273321255099-0.00028762499313013i","7.21642343289226+42.0461908422145i","-41.9504555262274-6.36452006671947i","-0.234839699490892-0.0998763987000582i","0.00028604534272224+0.000131322503047704i","-42.4635489897801+6.37453520038839i","7.28439533530031-42.0479085938914i","0.104802676457055-0.234399713964419i","-0.00881768767439439+0.528283058645499i","11.4738924702961-7.73132559044065i","3.75313175845312+12.2840610758773i","0.00195660594179098+0.08229180346827i","-0.523301704347499+0.0641451426987061i","9.60900242525056+10.0728092607852i","-11.5492489880067+5.80021632524263i","-0.079161465922758+0.016625549449156i","-0.411223978137568+0.90352954494654i","-0.0777327655291497-0.155715164437367i","0.159332258207844-0.0268021446476208i","0.00406189003138121-0.00410019401321794i","-2.0918655007356-0.5243957716498i","-4.47407165574925-13.5670520796876i","16.0864998910189+0.527003833251733i","0.086797169805031+0.025079217762543i","2.091614707994+0.524703925202402i","-12.259077030682-32.1898176008331i","34.7326902651744-1.33509574023675i","0.200989277234361+0.039727231056191i","0.000188942976301121+0.000362980276989333i","-15.9102369125647-40.2336473390155i","40.0373586156186-3.21615107105831i","0.25054900798173+0.046446571188215i","7.21440155153088+42.0465587600662i","-41.950060851288-6.36680155604198i","-0.234834401883629-0.0998882670703072i","-42.4638270717512+6.37246885657271i","7.28668903017202-42.0474016480431i","0.104814456215382-0.234393788650591i","14.4622911654187-9.55316828031881i","4.5217765364045+16.1516636228956i","0.00079842427128338+0.10439632175187i","11.8216244246149+12.7748863727008i","-15.2654699561272+7.09325327629965i","-0.101166401988877+0.0185295508637992i","6.43652078353878-1.05415046789912i","-1.41581312081001+7.21262643461653i","-0.0145043269508761+0.0331138033940483i","3.54204315768985+5.59769240454335i","-7.29476222700032+1.57674507879118i","-0.0418671154946855-0.00149353743099517i","-16.730535418916-45.7565573130784i","50.8178465623726-0.805448563868257i","0.287775486831849+0.0648189757507639i","-15.9088743048016-40.2359906754853i","40.0393092370706-3.21380113115264i","0.25055637635451+0.0464620503188014i","1.9513511814902+0.93286120519936i","0.00286086318683901+0.00121322038419981i","-0.985531267767579+1.9766464074918i","-0.001940859476824+0.00266582551660002i","0.0646755356976403-1.3718923646013i","-0.00042679508264764-0.000542037287693004i","1.3727897741314-0.177224133268201i","0.002617837522253+0.000225009874646701i","-0.24887658359599+0.50937762097007i","0.0012281054673251-0.00310810522691461i","-0.56549720479295+0.00487305783540015i","-0.0017601659630255-0.00117589478731069i","-0.342671199765575+0.985318314251011i","-0.00327798218062085+0.00509070401128754i","-5.0574623124641-1.32621111803934i","-0.00642214926018797-0.0044434398965433i"]
[{"$f":"COMPLEX(定数!O$13,計算!B31*定数!O$23)","v":"74.3688188913563+75.7504691114862i"},{"$f":"COMPLEX(定数!P$13,計算!B31*定数!P$23)","v":"-73.4757772913563+75.7504691114862i"},{"$f":"COMPLEX(定数!Q$13,計算!B31*定数!Q$23)","v":"125.193786513619+108.375940236629i"},{"$f":"COMPLEX(定数!R$13,計算!B31*定数!R$23)","v":"-123.916114913619+108.375940236629i"},{"$f":"COMPLEX(定数!S$13,計算!B31*定数!S$23)","v":"-77.7867441135484-49.7648238034059i"},{"$f":"COMPLEX(定数!T$13,計算!B31*定数!T$23)","v":"77.2000539135484-49.7648238034059i"},{"$f":"COMPLEX(定数!U$13,計算!B31*定数!U$23)","v":"124.646605989444+90.8108439484768i"},{"$f":"COMPLEX(定数!V$13,計算!B31*定数!V$23)","v":"-123.576013789444+90.8108439484768i"},{"$f":"IMPRODUCT(定数!D$31,計算!G31)","v":"-0.960780122263956+0.902232589152773i"},{"$f":"COMPLEX(定数!O$14,計算!B31*定数!O$24)","v":"86.1948356167649+93.015902686757i"},{"$f":"COMPLEX(定数!P$14,計算!B31*定数!P$24)","v":"-85.0982474167649+93.015902686757i"},{"$f":"COMPLEX(定数!Q$14,計算!B31*定数!Q$24)","v":"57.0863694248256+51.4191776914209i"},{"$f":"COMPLEX(定数!R$14,計算!B31*定数!R$24)","v":"-56.4801756248256+51.4191776914209i"},{"$f":"COMPLEX(定数!S$14,計算!B31*定数!S$24)","v":"163.969671876329+109.156243978577i"},{"$f":"COMPLEX(定数!T$14,計算!B31*定数!T$24)","v":"-162.682801076329+109.156243978577i"},{"$f":"COMPLEX(定数!U$14,計算!B31*定数!U$24)","v":"-101.525845343051-78.3717034270595i"},{"$f":"COMPLEX(定数!V$14,計算!B31*定数!V$24)","v":"100.601901343051-78.3717034270595i"},{"$f":"IMPRODUCT(定数!D$32,計算!G31)","v":"0.960780122263956-0.902232589152773i"},{"$f":"COMPLEX(定数!O$15,計算!B31*定数!O$25)","v":"86.1919999827348+93.0148678559079i"},{"$f":"COMPLEX(定数!P$15,計算!B31*定数!P$25)","v":"-85.0954239827348+93.0148678559079i"},{"$f":"COMPLEX(定数!Q$15,計算!B31*定数!Q$25)","v":"-57.0828842529623-51.4189910862187i"},{"$f":"COMPLEX(定数!R$15,計算!B31*定数!R$25)","v":"56.4766926529622-51.4189910862187i"},{"$f":"COMPLEX(定数!S$15,計算!B31*定数!S$25)","v":"-163.956966054068-109.146574167856i"},{"$f":"COMPLEX(定数!T$15,計算!B31*定数!T$25)","v":"162.670209254068-109.146574167856i"},{"$f":"COMPLEX(定数!U$15,計算!B31*定数!U$25)","v":"-101.548680976766-78.3871072923916i"},{"$f":"COMPLEX(定数!V$15,計算!B31*定数!V$25)","v":"100.624555376766-78.3871072923916i"},{"$f":"IMPRODUCT(定数!D$33,計算!G31)","v":"0"},{"$f":"COMPLEX(定数!O$16,計算!B31*定数!O$26)","v":"74.3664237452132+75.7489762264855i"},{"$f":"COMPLEX(定数!P$16,計算!B31*定数!P$26)","v":"-73.4733997452132+75.7489762264855i"},{"$f":"COMPLEX(定数!Q$16,計算!B31*定数!Q$26)","v":"-125.201328746793-108.381623377494i"},{"$f":"COMPLEX(定数!R$16,計算!B31*定数!R$26)","v":"123.923590146793-108.381623377494i"},{"$f":"COMPLEX(定数!S$16,計算!B31*定数!S$26)","v":"77.7704269443536+49.751048547825i"},{"$f":"COMPLEX(定数!T$16,計算!B31*定数!T$26)","v":"-77.1838991443536+49.751048547825i"},{"$f":"COMPLEX(定数!U$16,計算!B31*定数!U$26)","v":"124.65071095008+90.8101992934585i"},{"$f":"COMPLEX(定数!V$16,計算!B31*定数!V$26)","v":"-123.58012635008+90.8101992934585i"},{"$f":"IMPRODUCT(定数!D$34,計算!G31)","v":"0"},{"$f":"IMDIV(COMPLEX(定数!O$17,計算!B31*定数!O$27),計算!R31)","v":"-0.299021374583197+0.178179827585423i"},{"$f":"IMPRODUCT(COMPLEX(定数!P$17,計算!B31*定数!P$27),計算!R31)","v":"0.430125617928377-0.705185881907224i"},{"$f":"IMDIV(COMPLEX(定数!Q$17,計算!B31*定数!Q$27),計算!S31)","v":"-0.424090844604356-0.210434096735972i"},{"$f":"IMPRODUCT(COMPLEX(定数!R$17,計算!B31*定数!R$27),計算!S31)","v":"-0.393088952210709-1.19260612704626i"},{"$f":"IMDIV(COMPLEX(定数!S$17,計算!B31*定数!S$27),計算!T31)","v":"0.0404060510844648+0.210703454589952i"},{"$f":"IMPRODUCT(COMPLEX(定数!T$17,計算!B31*定数!T$27),計算!T31)","v":"0.509072847043686+0.416320407412216i"},{"$f":"IMDIV(COMPLEX(定数!U$17,計算!B31*定数!U$27),計算!U31)","v":"-0.189231509566163-0.33646250480496i"},{"$f":"IMPRODUCT(COMPLEX(定数!V$17,計算!B31*定数!V$27),計算!U31)","v":"-0.75434835181369-0.842253671097162i"},{"$f":"IMPRODUCT(定数!E$31,計算!G31)","v":"0"},{"$f":"IMDIV(COMPLEX(定数!O$18,計算!B31*定数!O$28),計算!R31)","v":"-0.363978525889784+0.24033465990682i"},{"$f":"IMPRODUCT(COMPLEX(定数!P$18,計算!B31*定数!P$28),計算!R31)","v":"0.52496471759939-0.844372271230839i"},{"$f":"IMDIV(COMPLEX(定数!Q$18,計算!B31*定数!Q$28),計算!S31)","v":"-0.207495483766853-0.0922871952623868i"},{"$f":"IMPRODUCT(COMPLEX(定数!R$18,計算!B31*定数!R$28),計算!S31)","v":"-0.180217075794268-0.558280644054324i"},{"$f":"IMDIV(COMPLEX(定数!S$18,計算!B31*定数!S$28),計算!T31)","v":"-0.11510233049829-0.452259083635222i"},{"$f":"IMPRODUCT(COMPLEX(定数!T$18,計算!B31*定数!T$28),計算!T31)","v":"-1.09014764507194-0.90326789982467i"},{"$f":"IMDIV(COMPLEX(定数!U$18,計算!B31*定数!U$28),計算!U31)","v":"0.185961068387659+0.278233045000736i"},{"$f":"IMPRODUCT(COMPLEX(定数!V$18,計算!B31*定数!V$28),計算!U31)","v":"0.628368562860115+0.714741655234101i"},{"$f":"IMPRODUCT(定数!E$32,計算!G31)","v":"0"},{"$f":"IMDIV(COMPLEX(定数!O$19,計算!B31*定数!O$29),計算!R31)","v":"-0.363973310037905+0.24033987255405i"},{"$f":"IMPRODUCT(COMPLEX(定数!P$19,計算!B31*定数!P$29),計算!R31)","v":"0.524957710709144-0.844354990767669i"},{"$f":"IMDIV(COMPLEX(定数!Q$19,計算!B31*定数!Q$29),計算!S31)","v":"0.207503641241317+0.0922761541855907i"},{"$f":"IMPRODUCT(COMPLEX(定数!R$19,計算!B31*定数!R$29),計算!S31)","v":"0.180207511232448+0.55826791179298i"},{"$f":"IMDIV(COMPLEX(定数!S$19,計算!B31*定数!S$29),計算!T31)","v":"0.115084885656306+0.452221736688497i"},{"$f":"IMPRODUCT(COMPLEX(定数!T$19,計算!B31*定数!T$29),計算!T31)","v":"1.0900583204564+0.903190599368199i"},{"$f":"IMDIV(COMPLEX(定数!U$19,計算!B31*定数!U$29),計算!U31)","v":"0.185986825507459+0.278293520727662i"},{"$f":"IMPRODUCT(COMPLEX(定数!V$19,計算!B31*定数!V$29),計算!U31)","v":"0.628502861177695+0.714887926164652i"},{"$f":"IMPRODUCT(定数!E$33,計算!G31)","v":"0"},{"$f":"IMDIV(COMPLEX(定数!O$20,計算!B31*定数!O$30),計算!R31)","v":"-0.299014902184707+0.178180223110425i"},{"$f":"IMPRODUCT(COMPLEX(定数!P$20,計算!B31*定数!P$30),計算!R31)","v":"0.430116561736834-0.70516807707398i"},{"$f":"IMDIV(COMPLEX(定数!Q$20,計算!B31*定数!Q$30),計算!S31)","v":"0.424110427386346+0.210448325430734i"},{"$f":"IMPRODUCT(COMPLEX(定数!R$20,計算!B31*定数!R$30),計算!S31)","v":"0.393112221634552+1.1926718599977i"},{"$f":"IMDIV(COMPLEX(定数!S$20,計算!B31*定数!S$30),計算!T31)","v":"-0.0403741089896548-0.210652898269111i"},{"$f":"IMPRODUCT(COMPLEX(定数!T$20,計算!B31*定数!T$30),計算!T31)","v":"-0.508952689490238-0.41621293486346i"},{"$f":"IMDIV(COMPLEX(定数!U$20,計算!B31*定数!U$30),計算!U31)","v":"-0.189211474958415-0.336470136219485i"},{"$f":"IMPRODUCT(COMPLEX(定数!V$20,計算!B31*定数!V$30),計算!U31)","v":"-0.754361688066129-0.842257711963518i"},{"$f":"IMPRODUCT(定数!E$34,計算!G31)","v":"0"},"0.0242994342668972+0.9938274759291i","1.55473139633964-0.126339136731227i","-0.0892696563054867+1.54820474892029i","-0.847878263428732+0.19446795870028i","0.174957270778521-0.847370175817981i","1.43304578780196-0.238581800817373i","-0.205099648685312+1.42999768096829i","-0.000275763694528266+0.0124127535187264i","5.24902662946599+5.0928729545109i","-88.6749965586134-82.3057854520411i","95.2220699907354-73.7245784790671i","255.141012137754+171.260272286982i","-256.582116084587+165.921368516681i","-247.238893021598-191.103231868309i","251.292956981772-182.552589507276i","2.13913300195545-1.94649742927603i","5.25089052446801+5.0946814004768i","-202.83971084751-185.142703597225i","208.177083002413-176.558449493629i","-72.7882313065428-47.0428718300728i","68.7722672453994-52.383671410277i","-247.257418170103-191.117829304325i","251.31354962223-182.564150665964i","1.17833925262631-1.04422992746575i","0.000952076707292804+0.000923753306096842i","-250.391202841702-216.755545179637i","247.837179954891-216.753988706821i","155.554849947251+99.5150723456702i","-154.382268983444+99.5141039669078i","0.00789348991899885+0.000923279263489007i","-0.00673862635699152+0.00247420822269362i","0.960760930956065-0.902203270477544i","0.614471676475162-0.412339892964454i","0.018295989036715-0.525233971206439i","-0.143923632318195-0.71375376291876i","-0.178477405373103+0.419928333704057i","0.410404538816927+0.131764756316185i","0.19676934760838-0.663143414228475i","-0.560880790447618-0.37810917884266i","0.00212924304282904+0.00376081414707735i","0.772660378297285-0.488480407823863i","0.328029684568194-0.51192776939775i","0.159377948094855+0.026687230721424i","-0.376974420238064-0.177702388611169i","-1.23011937858067-1.25374074347265i","0.650219485804981-0.153016179207186i","0.897394701394178+1.28452265749254i","0.00288284283240197+0.00458425130171836i","0.772658425136828-0.48846843768198i","0.743020041766338-0.327371865249854i","0.519811070984071+1.14322817669331i","-0.146781767983169+0.726781837086763i","0.95008125735466+0.552721263487013i","0.650236524727452-0.152961929035083i","0.897537523554596+1.28466253887912i","0.0028829089740498+0.00458418799609346i","0.614462856091612-0.412328530189699i","0.866487148215988-0.104351346257634i","0.642278731669541+1.6715142388355i","-0.259252000724292-0.00142894247207598i","-0.607622465266263-0.700763170642019i","0.196780012607668-0.663150068251951i","-0.560892233613565-0.378122394101808i","0.00212924973723592+0.00376073391586165i","2.32049392042432+16.301030520475i","-16.3461732547929-0.36615003941205i","-9.29280758329349-40.7119207585117i","40.8635373642413+7.48651634861582i","7.22210258163268+41.8403768782659i","-41.9640801184197-4.78691462835847i","-0.393121853363035-0.0024309776753878i","-16.5383502610893+0.366150038961469i","2.32481055707028-16.3010305204408i","41.3435005816009-7.48651634748073i","-9.3810680350349+40.711920758245i","-42.4573469927071+4.7869146271963i","7.27853674020754-41.840376878072i","0.0245861084238064-0.394684862960025i","-114.133226377942-102.807691897599i","112.921200276015-102.807691899521i","-328.019842348684-218.363957523495i","325.44549396467-218.363957517938i","0.0692677648000029+0.0532620756270035i","-0.0686398485709958+0.0532620702520035i","-0.96155334150197+0.90295869030513i","-250.375118831332-216.740616426829i","247.819908426075-216.740616426796i","155.508572069122+99.4840088881555i","-154.33572971568+99.4840088880568i","0.0527380692570793+0.0355858839997502i","-0.0523185381199749+0.0355858840953443i","0.960372931647886-0.901850211711739i","10.0296655322274-7.56964437595475i","5.14911130720053+10.2613799255142i","-22.4958981697044+22.0677551892924i","-10.6123439063997-28.7527460339851i","24.3117706678967-21.1114247848728i","12.2191210600076+28.3328484061738i","0.149766089929279+0.256421316885378i","12.9277005333578-8.87349747728608i","6.32582298017357+13.7574720483117i","-28.6644426611545+25.8023221895286i","-13.8687154570784-37.2926967773246i","31.1170152653783-24.5912576200503i","15.7117621111595+37.1683466794221i","0.176681953817424+0.321551439094286i","13.3426629713721-8.68874289158926i","6.68606551814267+14.8739533274432i","-28.434258873072+26.706296905291i","-11.6880458164063-35.4860429607358i","31.1170066783368-24.5906857997984i","15.7114183142224+37.1683177147216i","0.176677343545878+0.321550310606587i","10.8777149772945-7.14857059987332i","5.93514895197098+12.6464777296284i","-22.5763931671221+21.6458621022859i","-11.6299910547157-29.5848082712241i","24.3114612354437-21.1109067832027i","12.2186983935492+28.3323834383693i","0.149761828767396+0.256417476015878i","0.00818420747409832-1.05995707172563i","-21.2620378668808-81.2193602202198i","82.6407511339904+11.8968514315972i","7.22413862251632+41.8495189102581i","-41.9733867504726-4.78725206379938i","-0.534275427427064+0.00574081389291663i","1.06189797128158+0.0960600328857986i","83.1821695267457-14.5840275294617i","-18.7746449643649+81.8592150732235i","-42.4667099402062+4.78785281634217i","7.27998586891633-41.8496202935784i","0.0333080260377664-0.536468291128799i","-0.0982648580934048+0.989283127604379i","2.53805421438801-0.372963592808209i","-0.622765089786555+2.47420499669561i","-0.000567113473783253+0.0000441725150219414i","0.0000999472524904671-0.000556695176404253i","0.000716825693849109-0.00855713902407831i","8.79899800635999+9.65327828872299i","871.810556606899+556.202639970208i","-846.521329225141+583.984889499348i","-0.0988270122672307-0.0762709411942948i","0.0933642227948911-0.0821341077347477i","2.99452783685552-2.88897966896613i","-1.35384649564824-0.404628991454301i","-45.1285312799398+45.020623090667i","-23.0950702888891-58.2823048684516i","24.3171242561277-21.1161606677415i","12.2223326070054+28.3391884377542i","0.207351067262943+0.347672674791639i","-1.18223969856113+0.0963630615410001i","-58.1661559822862+53.1453014957856i","-27.7726466701552-74.8045824859058i","31.1239547738352-24.5968609490753i","15.7154098562536+37.1764303496439i","0.243346797455672+0.438536320805904i","-0.59844634112906+0.820483885301i","-59.0580760928879+53.735124938455i","-24.8764321904216-73.909572100743i","31.1241896786581-24.596202681943i","15.7149217329743+37.1766139268178i","0.241463760771431+0.44195364675598i","-0.0679142103480599+1.1828845601343i","-47.5184669337841+43.84631349962i","-22.5427590076462-60.9503852321525i","24.3173143638291-21.1154413299364i","12.221590770595+28.3391534898181i","0.203135715627859+0.354623874421169i","-0.00726728406479893-0.0338126201228022i","0.0338831053135067+0.00587963459130059i","7.22245807029877+41.8395285301006i","-41.9632987057787-4.786996174668i","-0.196677068080856-0.00121633581747816i","0.0342817310201013-0.00587963406849923i","-0.0073366010927991+0.0338126200016973i","-42.4565555786089+4.78699617396459i","7.27889318978961-41.8395285299832i","0.0123001900477245-0.197459043489157i","-10.3726077101588-78.0161324726805i","75.5141017432486+20.6426483545333i","0.000148368528492827+0.00951870536928703i","-0.00930024681683025-0.00165816803137065i","-0.31518940626824-0.0309222163811055i","76.4338538269924-20.6426483526917i","-10.6159691582658+78.0161324724027i","-0.00941246550567135+0.00165816695314746i","0.000167918189577528-0.0095187052762075i","-0.00902231382173302-0.318432253401072i","66.7037878565192+48.0009991444578i","-69.0350519311905+43.0440337895204i","24.3037102802655-21.1177243206474i","12.2264114865738+28.3263695165406i","0.323983160852947-0.087086405319047i","30.2077915324231+21.3753429696497i","-32.8053934731287+18.4521737404881i","31.1129867694972-24.5939935842837i","15.7146911242211+37.1651607772766i","0.201995153051616+0.062942487314925i","-30.2534762550497-21.3311377959266i","32.7814593963898-18.510871452384i","31.1199173223794-24.5874875817286i","15.7072122787124+37.1707797183044i","-0.025204142399367+0.258791692909487i","-66.7453921239456-47.968041226257i","69.0203443728882-43.0945151927051i","24.3186365437539-21.1041948567177i","12.2103426451226+28.3383084066319i","-0.174145623687757+0.343670155098496i","0.000185100050084701-0.00017556641637483i","7.23600515849005+41.8397988273917i","-41.9674796674746-4.77470372253003i","-0.196551365927929-0.00115205147769546i","0.00016577732406616+0.000206635039660494i","-42.4573972098242+4.80059732370841i","7.26671728742214-41.8442469228364i","0.0122303059632588-0.197335439098815i","0.166497568557205+0.814560041478899i","30.682200433371+3.07181040337825i","-11.7159244444837+27.12731566235i","-0.041661878496912+0.137629013039412i","-0.788145922822061+0.2569348434604i","0.986783778446156+31.004149183789i","-28.6000267016652-8.10306442454297i","-0.141006757490379-0.023402453202818i","-0.375915617846516+0.915815443218326i","0.0899501674955707-0.381319008275184i","0.322091481552356+0.192877451184377i","0.00258098647963396-0.00316288387660423i","-1.8739436597456-1.1772629913077i","20.2449662787557-14.9979041553519i","10.1078404652961+24.4539430548096i","0.05642152389124+0.103316752898443i","1.8733197630402+1.1770214691045i","41.9751908885684-34.2049737265663i","21.3373037788693+49.8765708837329i","0.120347582581203+0.218158838897657i","-0.000163881732291316+9.82361159884704E-06i","48.6135216541598-42.2407482456227i","24.4565113510896+56.6620869835299i","0.149840675148829+0.256367096371535i","7.23490980339757+41.8371088169687i","-41.9644596067089-4.77513253852479i","-0.196538213724633-0.00115539490308707i","-42.4545193596919+4.79969495961969i","7.26690153000563-41.841084799337i","0.0122326357047211-0.197321541391637i","40.0100394753065+4.67927938347838i","-15.735754140805+36.2190306950674i","-0.0550859912018785+0.179767109165198i","0.447779598694372+40.4263769192743i","-38.0607781918979-11.0585569654656i","-0.18426721008664-0.031942246934238i","8.24541536782668+7.39771519023002i","-9.68528309317844+6.51409684796463i","-0.038653073725283+0.0295897843539497i","-4.14108847094978+10.6049369481204i","-9.74561399506448-6.9269918032712i","-0.0464229711442712-0.02596914094544i","62.2150122281338-49.1972616615065i","31.4407370100236+74.3238384290145i","0.176746415457828+0.321448177556352i","48.6129471841892-42.2389696097401i","24.4548461749088+56.6610475132403i","0.149832812161146+0.256363296544969i","1.0287038566705-0.563446317959531i","-0.000173347217487019-0.00211326450387886i","0.499654440796991+1.0994655447731i","0.0016103558737656-5.62875466197932E-06i","-0.331403894232499-1.7616393644794i","-0.0031011348347971+0.000860328446283004i","1.7140887005039-0.570754630358801i","0.000465147316218023-0.0030236481317174i","-0.200247264058769+0.42581149319152i","0.001403607830957-0.0023528974948125i","-0.462649087871059+0.00141654927502i","-0.001224113689381+0.0010407511558002i","-0.27029444044974+0.98089014099658i","-0.000765860711301129+0.00456111664345027i","-3.8371333233762-2.4398717603566i","-0.005593308819102+0.00228480674605197i"]
[{"$f":"COMPLEX(定数!O$13,計算!B32*定数!O$23)","v":"74.3688188913563+78.5560420415412i"},{"$f":"COMPLEX(定数!P$13,計算!B32*定数!P$23)","v":"-73.4757772913563+78.5560420415412i"},{"$f":"COMPLEX(定数!Q$13,計算!B32*定数!Q$23)","v":"125.193786513619+112.389863949096i"},{"$f":"COMPLEX(定数!R$13,計算!B32*定数!R$23)","v":"-123.916114913619+112.389863949096i"},{"$f":"COMPLEX(定数!S$13,計算!B32*定数!S$23)","v":"-77.7867441135484-51.6079654257542i"},{"$f":"COMPLEX(定数!T$13,計算!B32*定数!T$23)","v":"77.2000539135484-51.6079654257542i"},{"$f":"COMPLEX(定数!U$13,計算!B32*定数!U$23)","v":"124.646605989444+94.1742085391611i"},{"$f":"COMPLEX(定数!V$13,計算!B32*定数!V$23)","v":"-123.576013789444+94.1742085391611i"},{"$f":"IMPRODUCT(定数!D$31,計算!G32)","v":"-0.375360729812999+0.797682154807846i"},{"$f":"COMPLEX(定数!O$14,計算!B32*定数!O$24)","v":"86.1948356167649+96.4609361195999i"},{"$f":"COMPLEX(定数!P$14,計算!B32*定数!P$24)","v":"-85.0982474167649+96.4609361195999i"},{"$f":"COMPLEX(定数!Q$14,計算!B32*定数!Q$24)","v":"57.0863694248256+53.3235916799921i"},{"$f":"COMPLEX(定数!R$14,計算!B32*定数!R$24)","v":"-56.4801756248256+53.3235916799921i"},{"$f":"COMPLEX(定数!S$14,計算!B32*定数!S$24)","v":"163.969671876329+113.199067829636i"},{"$f":"COMPLEX(定数!T$14,計算!B32*定数!T$24)","v":"-162.682801076329+113.199067829636i"},{"$f":"COMPLEX(定数!U$14,計算!B32*定数!U$24)","v":"-101.525845343051-81.2743591095432i"},{"$f":"COMPLEX(定数!V$14,計算!B32*定数!V$24)","v":"100.601901343051-81.2743591095432i"},{"$f":"IMPRODUCT(定数!D$32,計算!G32)","v":"0.375360729812999-0.797682154807846i"},{"$f":"COMPLEX(定数!O$15,計算!B32*定数!O$25)","v":"86.1919999827348+96.4598629616823i"},{"$f":"COMPLEX(定数!P$15,計算!B32*定数!P$25)","v":"-85.0954239827348+96.4598629616823i"},{"$f":"COMPLEX(定数!Q$15,計算!B32*定数!Q$25)","v":"-57.0828842529623-53.3233981634861i"},{"$f":"COMPLEX(定数!R$15,計算!B32*定数!R$25)","v":"56.4766926529622-53.3233981634861i"},{"$f":"COMPLEX(定数!S$15,計算!B32*定数!S$25)","v":"-163.956966054068-113.189039877777i"},{"$f":"COMPLEX(定数!T$15,計算!B32*定数!T$25)","v":"162.670209254068-113.189039877777i"},{"$f":"COMPLEX(定数!U$15,計算!B32*定数!U$25)","v":"-101.548680976766-81.2903334884061i"},{"$f":"COMPLEX(定数!V$15,計算!B32*定数!V$25)","v":"100.624555376766-81.2903334884061i"},{"$f":"IMPRODUCT(定数!D$33,計算!G32)","v":"0"},{"$f":"COMPLEX(定数!O$16,計算!B32*定数!O$26)","v":"74.3664237452132+78.5544938645035i"},{"$f":"COMPLEX(定数!P$16,計算!B32*定数!P$26)","v":"-73.4733997452132+78.5544938645035i"},{"$f":"COMPLEX(定数!Q$16,計算!B32*定数!Q$26)","v":"-125.201328746793-112.39575757666i"},{"$f":"COMPLEX(定数!R$16,計算!B32*定数!R$26)","v":"123.923590146793-112.39575757666i"},{"$f":"COMPLEX(定数!S$16,計算!B32*定数!S$26)","v":"77.7704269443536+51.5936799755222i"},{"$f":"COMPLEX(定数!T$16,計算!B32*定数!T$26)","v":"-77.1838991443536+51.5936799755222i"},{"$f":"COMPLEX(定数!U$16,計算!B32*定数!U$26)","v":"124.65071095008+94.1735400080311i"},{"$f":"COMPLEX(定数!V$16,計算!B32*定数!V$26)","v":"-123.58012635008+94.1735400080311i"},{"$f":"IMPRODUCT(定数!D$34,計算!G32)","v":"0"},{"$f":"IMDIV(COMPLEX(定数!O$17,計算!B32*定数!O$27),計算!R32)","v":"-0.140063147229012+0.330701878797027i"},{"$f":"IMPRODUCT(COMPLEX(定数!P$17,計算!B32*定数!P$27),計算!R32)","v":"0.77616431346571-0.296114366719052i"},{"$f":"IMDIV(COMPLEX(定数!Q$17,計算!B32*定数!Q$27),計算!S32)","v":"-0.484857236873065+0.0710975713854939i"},{"$f":"IMPRODUCT(COMPLEX(定数!R$17,計算!B32*定数!R$27),計算!S32)","v":"0.383126171357112-1.20251756190852i"},{"$f":"IMDIV(COMPLEX(定数!S$17,計算!B32*定数!S$27),計算!T32)","v":"0.157955077352602+0.156376677848113i"},{"$f":"IMPRODUCT(COMPLEX(定数!T$17,計算!B32*定数!T$27),計算!T32)","v":"0.181826602469882+0.634658813028856i"},{"$f":"IMDIV(COMPLEX(定数!U$17,計算!B32*定数!U$27),計算!U32)","v":"-0.358847951306213-0.177430871277233i"},{"$f":"IMPRODUCT(COMPLEX(定数!V$17,計算!B32*定数!V$27),計算!U32)","v":"-0.134330197439902-1.12766398599183i"},{"$f":"IMPRODUCT(定数!E$31,計算!G32)","v":"0"},{"$f":"IMDIV(COMPLEX(定数!O$18,計算!B32*定数!O$28),計算!R32)","v":"-0.156474062421483+0.421363682921508i"},{"$f":"IMPRODUCT(COMPLEX(定数!P$18,計算!B32*定数!P$28),計算!R32)","v":"0.937558653443224-0.348319720854122i"},{"$f":"IMDIV(COMPLEX(定数!Q$18,計算!B32*定数!Q$28),計算!S32)","v":"-0.230823855461885+0.0435274810343381i"},{"$f":"IMPRODUCT(COMPLEX(定数!R$18,計算!B32*定数!R$28),計算!S32)","v":"0.182557351625403-0.560741720370005i"},{"$f":"IMDIV(COMPLEX(定数!S$18,計算!B32*定数!S$28),計算!T32)","v":"-0.362836014475696-0.319959396706085i"},{"$f":"IMPRODUCT(COMPLEX(定数!T$18,計算!B32*定数!T$28),計算!T32)","v":"-0.382455320096632-1.3690434174137i"},{"$f":"IMDIV(COMPLEX(定数!U$18,計算!B32*定数!U$28),計算!U32)","v":"0.321531989892421+0.130316705259917i"},{"$f":"IMPRODUCT(COMPLEX(定数!V$18,計算!B32*定数!V$28),計算!U32)","v":"0.104091316035904+0.950388236644005i"},{"$f":"IMPRODUCT(定数!E$32,計算!G32)","v":"0"},{"$f":"IMDIV(COMPLEX(定数!O$19,計算!B32*定数!O$29),計算!R32)","v":"-0.156466645949167+0.421364593662809i"},{"$f":"IMPRODUCT(COMPLEX(定数!P$19,計算!B32*定数!P$29),計算!R32)","v":"0.937542547079834-0.3483102470647i"},{"$f":"IMDIV(COMPLEX(定数!Q$19,計算!B32*定数!Q$29),計算!S32)","v":"0.230824129095112-0.0435412077267134i"},{"$f":"IMPRODUCT(COMPLEX(定数!R$19,計算!B32*定数!R$29),計算!S32)","v":"-0.182557800427541+0.560725800662388i"},{"$f":"IMDIV(COMPLEX(定数!S$19,計算!B32*定数!S$29),計算!T32)","v":"0.362799392746281+0.319937365806758i"},{"$f":"IMPRODUCT(COMPLEX(定数!T$19,計算!B32*定数!T$29),計算!T32)","v":"0.382425918716231+1.36892845132743i"},{"$f":"IMDIV(COMPLEX(定数!U$19,計算!B32*定数!U$29),計算!U32)","v":"0.321589547554159+0.130353191433098i"},{"$f":"IMPRODUCT(COMPLEX(定数!V$19,計算!B32*定数!V$29),計算!U32)","v":"0.104117414085288+0.950585906817622i"},{"$f":"IMPRODUCT(定数!E$33,計算!G32)","v":"0"},{"$f":"IMDIV(COMPLEX(定数!O$20,計算!B32*定数!O$30),計算!R32)","v":"-0.140057573894593+0.330698134075333i"},{"$f":"IMPRODUCT(COMPLEX(定数!P$20,計算!B32*定数!P$30),計算!R32)","v":"0.776146203894988-0.296105758190997i"},{"$f":"IMDIV(COMPLEX(定数!Q$20,計算!B32*定数!Q$30),計算!S32)","v":"0.484882332445222-0.0710971588813573i"},{"$f":"IMPRODUCT(COMPLEX(定数!R$20,計算!B32*定数!R$30),計算!S32)","v":"-0.383145932239674+1.20258476169504i"},{"$f":"IMDIV(COMPLEX(定数!S$20,計算!B32*定数!S$30),計算!T32)","v":"-0.157898518720501-0.156351459852888i"},{"$f":"IMPRODUCT(COMPLEX(定数!T$20,計算!B32*定数!T$30),計算!T32)","v":"-0.181789107128006-0.634501203153294i"},{"$f":"IMDIV(COMPLEX(定数!U$20,計算!B32*定数!U$30),計算!U32)","v":"-0.358835635021767-0.177448435422108i"},{"$f":"IMPRODUCT(COMPLEX(定数!V$20,計算!B32*定数!V$30),計算!U32)","v":"-0.134339012714411-1.12767480455078i"},{"$f":"IMPRODUCT(定数!E$34,計算!G32)","v":"0"},"0.0603964005362503+0.9925065499519i","1.55014261240325-0.126171215586277i","-0.0330370646802878+1.54614698344247i","-0.840814961683013+0.194209485489786i","0.144179803466539-0.846243910641527i","1.42438022016052-0.23826469457306i","-0.153160474829297+1.42809702805833i","0.00296943197067782+0.00758940830974234i","5.4340056803634+5.08610386395239i","-88.6985118006154-85.3293086442809i","95.5102341359084-76.7595072114839i","255.177208056363+177.565011459936i","-256.739835341377+172.233203787148i","-247.283299758326-198.134222354465i","251.559119490073-189.594944909265i","0.851492459376874-1.73828414412965i","5.43593526021979+5.0879099062584i","-202.863234439621-191.974992715334i","208.465349472794-183.402148201948i","-72.752022534999-48.823447867684i","68.6144919835295-54.1571488305977i","-247.301840675374-198.149343779893i","251.579806643101-189.607034092973i","0.476132005152604-0.9405772818679i","0.000985628498398228+0.000922525517893291i","-250.391207106934-224.783523829059i","247.837232222557-224.781969424997i","155.554856512523+103.20080883096i","-154.382297590811+103.199841739299i","0.00788543535499286+0.000965982855390735i","-0.00669034938299262+0.00251485042819866i","0.375356092288856-0.797659379859412i","1.11284740419357-0.177073978817296i","-0.30946444197055-0.459209440484317i","0.889812608423563-0.975033929969214i","0.104413329313714+0.461637357156762i","-0.077833571659431+0.468450695690046i","-0.238139356966088-0.681848189201102i","0.316492034707757-0.876989764910088i","0.00292573957428514+0.0000809996818054151i","1.36521533880222-0.218467038768375i","-0.041430711644615-0.629388841844905i","0.828878095185696-0.304889201523438i","-0.412568923210733+0.064718239359549i","-0.716471371366905-1.56221077290278i","0.444014460158271-0.507147634878929i","0.681873897648879+1.23838464190842i","0.00366254012012432-0.0000636652417489328i","1.3651996884273-0.2184649808818i","0.420205661413274-0.716458006639528i","0.463764596291143+0.816566882640875i","0.31307289676673+0.704614327288031i","0.048408027431157+1.17576724067238i","0.444061236946041-0.507110678864131i","0.681902432235629+1.23857186012953i","0.00366252500940191-0.000063724232769893i","1.1128252413527-0.177070675692446i","0.660266960360649-0.60139766270412i","0.123534899063236+1.43005965272553i","-0.211436307876896+0.148904988443324i","-0.441446915871649-0.800704064178552i","-0.238134086993978-0.681859091509643i","0.316478725221872-0.877009116274711i","0.00292569460442579+0.0000809685031911819i","2.32393996672695+16.298512263167i","-16.3496193010951+0.22654897646861i","-9.30277291878491-40.4665762924784i","40.8735026997323+6.01060134885127i","7.23174307271113+41.6939766972222i","-41.9737206094977-3.26816399357992i","-0.239262219309407+0.0981100350314249i","-16.5349042147868-0.226548976902967i","2.32136451076796-16.298512263134i","41.3335352461092-6.01060134775713i","-9.37110269954316+40.4665762922212i","-42.4477065016284+3.26816399245956i","7.26889624912916-41.6939766970354i","-0.076070702588661-0.248689590929819i","-114.133226377942-106.615384190173i","112.921200276014-106.615384192026i","-328.019842348685-226.451511505646i","325.445493964671-226.451511500287i","0.0692677648009976+0.055234744899991i","-0.0686398485730138+0.0552347397149902i","-0.375662813651176+0.79832411559402i","-250.375118831334-224.768046664857i","247.819908426074-224.768046664826i","155.508572069124+103.168601809932i","-154.335729715678+103.168601809844i","0.0527380692543456+0.0369038797107808i","-0.0523185381234977+0.0369038797956079i","0.375201647247553-0.797344087147035i","18.1314767207814-3.13499627829032i","1.19253055366399+17.5737763844835i","-44.8291829797304+14.4696130092642i","3.18519606878126-46.224052128623i","46.4209738357694-11.8352002866008i","-0.389761941028326+46.8091763533364i","0.131617278841646+0.263364423419213i","22.5817676321278-3.93243226371021i","1.2204033685911+22.4532313703327i","-55.5286269704595+17.3004984417887i","3.23648868388422-58.855078492617i","57.680288363514-14.2423199890256i","-0.132975134345216+59.7476554030252i","0.161845908630582+0.322832237764515i","23.0431447615234-4.01947094712387i","0.855292659431884+23.5744275995646i","-54.8023506342945+17.9402154018252i","4.00130469703571-56.1164478772846i","57.6796775432913-14.2421445324537i","-0.132918640281816+59.7471751363151i","0.161844191209873+0.322828443233035i","19.1008409143421-3.27713490462604i","0.426250456315043+19.9785010780877i","-45.1441364021234+14.1566108987221i","2.82150870046488-47.4922790802785i","46.4200491391307-11.8349985470366i","-0.389751871533865+46.8082089349292i","0.131614726476143+0.263359131843798i","-0.0302830981569997-1.06328123860837i","-21.2674186405111-80.7430145108508i","82.5644271933345+8.92932830258152i","7.23377948905159+41.7030906990583i","-41.9830076880658-3.26816591891747i","-0.322878199335447+0.138827907695836i","1.06538412250661+0.0963612899726982i","83.1609721364512-11.6249317435756i","-18.746042974629+81.38487603413i","-42.4570672004046+3.26876855557415i","7.27034132302792-41.703192400344i","-0.103483467634334-0.337992983149692i","-0.0623624074752426+0.992385651562665i","2.52451885064706-0.374133256428096i","-0.532972774284405+2.48196443387557i","-0.000565510391377066+0.0000443110468415478i","0.0000797440150613668-0.000558441047715294i","-0.00173154671453202-0.00537717732913898i","9.14932880388+9.68355225815901i","871.678480531529+576.926114101543i","-845.645149104861+604.795492475129i","-0.0988113696312914-0.0791104027092282i","0.0931670825960223-0.0849919573878471i","1.15028307767571-2.53285187264167i","-0.78787223122443-0.615146870202597i","-89.4295313849247+29.1675586399126i","5.06783025548038-92.896600147057i","46.4310884592991-11.8377765842874i","-0.389457107174801+46.8195517113834i","0.179870208701687+0.355432196480266i","-1.273832591071-0.201826757911402i","-111.065471350193+35.6765880805284i","5.51179900987161-116.998101942876i","57.6928843375754-14.2455444420974i","-0.132579863569969+59.7605795769386i","0.222092679799116+0.43744921656153i","-1.69654665223772+0.456077486308001i","-111.471386208384+36.7086523654404i","6.30648955506439-115.450982201876i","57.6925305741385-14.245438650909i","-0.132511555597767+59.7603639029701i","0.223357880866182+0.439775617124117i","-1.63475677705104+0.818730599639899i","-92.1384841999687+29.5760595533618i","4.86800459545282-96.6465105686137i","46.4307056498735-11.8376981791356i","-0.389444962629779+46.8191369604368i","0.182310460319856+0.360393228398705i","-0.00727549070450095-0.0336211540119962i","0.0338913119406925+0.00465361345353088i","7.2320984028266+41.6931248207709i","-41.9729390383063-3.26827645215377i","-0.119701825443845+0.049083923399474i","0.0342735243708034-0.00465361294959976i","-0.00732839445520028+0.0336211538959077i","-42.4469152460804+3.26827645147515i","7.26925285726181-41.6931248206579i","-0.0380579047288648-0.12441823979456i","-10.393006044805-77.31695640374i","75.5345000778821+17.8185284293248i","0.000150679442363092+0.00946469700408565i","-0.0093025577306395-0.00131302861765232i","-0.19851099894812+0.0608621020704624i","76.4134554923236-17.8185284275436i","-10.5955708236138+77.3169564034718i","-0.00941015459229365+0.00131302757831895i","0.00016560727584124-0.00946469691427682i","-0.0788966349485706-0.193331360479051i","-18.2644797167996+62.1343328780362i","-50.841409515603-38.4985494241277i","46.422866754999-11.8425307134652i","-0.383504451116643+46.8121966123051i","0.236636922199356+0.154578768075851i","-10.131265524435+28.4010458274211i","-23.5898150687386-20.6477127412686i","57.6806323718695-14.245771085768i","-0.130458678531861+59.7485565615242i","0.160611016563883+0.17525397666543i","10.040976238092-28.3717690871586i","23.5931324711955+20.553242652876i","57.6771646501853-14.2389192787145i","-0.136547230305683+59.7442310733557i","0.001331978059571+0.147762923676323i","18.1903555598123-62.1149347864286i","50.8485814633723+38.4228259468663i","46.4163973517372-11.8278473168914i","-0.396923271993304+46.8035288952692i","-0.104952649043053+0.108938565880092i","0.000393763061723104-0.000378293071382149i","7.25073912806373+41.6758015184563i","-41.9612188181723-3.24634644230281i","-0.119552169414677+0.0490958665120342i","0.00034541152636092+0.0004377331618668i","-42.4310135055859+3.28832217541537i","7.24634977776761-41.683097922529i","-0.0380816255277647-0.124269159910731i","0.713319018282405+0.410670373078801i","45.2605391804658-35.796166592274i","22.5371946759563+51.6860897090926i","0.1376630937763+0.114812081997401i","-0.3405171713881+0.736774730220105i","40.1787665394113+41.8831347808194i","-49.5876626203108+27.5198473503573i","-0.100679648649333+0.148419576948164i","-0.34892627301585+0.920817263203998i","-0.377590989516784-0.636143689887359i","0.695151127727414-0.198168526980735i","0.00125948084449259-0.00417869915891651i","-0.9727064981765-1.4087974779509i","35.7880117081252-9.96673272242321i","1.28410855975261+37.9978395605265i","0.054691725110983+0.0971478927565206i","0.9714781243005+1.4076827469712i","79.5170686793782-18.5643399685053i","-1.49415149785973+81.456703820467i","0.107242648449172+0.225454842326782i","-0.000829820443200902-0.000700170078800966i","92.7989355193802-23.7102071004874i","-0.73274432302849+93.5875518273137i","0.131696572323057+0.263183159878685i","7.2457707247745+41.6650445079334i","-41.9493219647056-3.24869440737812i","-0.119524382803754+0.0490736789802262i","-42.4195876794007+3.28433978199968i","7.24755579959773-41.6707736004741i","-0.0380618320401222-0.124238717667089i","58.7385439167358-47.5162105960477i","30.9442885560173+67.9171258211627i","0.181475714909518+0.14568943353802i","52.8770457085065+54.0885047053624i","-64.788796810654+37.2067379167186i","-0.127147337931045+0.194170858919492i","16.035849255256+13.0459492160244i","-16.8704907559431+12.8277717717589i","-0.026849086386397+0.0534573002042155i","-7.0866793527409+20.510224573406i","-18.6908166177843-11.993611917284i","-0.0648479172381788-0.00595278278890961i","115.273511912986-28.5137782078894i","-0.21963259819889+119.418975509116i","0.161861351824097+0.322523134858121i","92.7786942024231-23.6981491776826i","-0.739856776556814+93.5645125324128i","0.131646928156028+0.26313281556651i","0.469567161638203-0.18301803678911i","-0.000896414500275999-0.0003596855842736i","0.132808505400011+0.520677351346897i","0.000136655566631796-0.000716204229403994i","-1.1318539944487-0.958583167953208i","0.00122925740003899+0.00347975778050899i","0.853616117924489-1.2316661088819i","-0.00231698918189299+0.001155795991194i","-0.239333366754899+0.353941342192501i","0.0010572034545975-0.002824958235328i","-0.401219032373898-0.0889322708754001i","0.000697079290530797+0.00128861069964494i","-0.243273498334906+0.975786432347478i","0.000671013487733687+0.00296387486554379i","-1.29359170631811-2.7328101357446i","-0.000847175735758016+0.00405015349452503i"]
[{"$f":"COMPLEX(定数!O$13,計算!B33*定数!O$23)","v":"74.3688188913563+81.3616149715963i"},{"$f":"COMPLEX(定数!P$13,計算!B33*定数!P$23)","v":"-73.4757772913563+81.3616149715963i"},{"$f":"COMPLEX(定数!Q$13,計算!B33*定数!Q$23)","v":"125.193786513619+116.403787661564i"},{"$f":"COMPLEX(定数!R$13,計算!B33*定数!R$23)","v":"-123.916114913619+116.403787661564i"},{"$f":"COMPLEX(定数!S$13,計算!B33*定数!S$23)","v":"-77.7867441135484-53.4511070481026i"},{"$f":"COMPLEX(定数!T$13,計算!B33*定数!T$23)","v":"77.2000539135484-53.4511070481026i"},{"$f":"COMPLEX(定数!U$13,計算!B33*定数!U$23)","v":"124.646605989444+97.5375731298455i"},{"$f":"COMPLEX(定数!V$13,計算!B33*定数!V$23)","v":"-123.576013789444+97.5375731298455i"},{"$f":"IMPRODUCT(定数!D$31,計算!G33)","v":"-0.0267510312779831+0.425195466267678i"},{"$f":"COMPLEX(定数!O$14,計算!B33*定数!O$24)","v":"86.1948356167649+99.9059695524427i"},{"$f":"COMPLEX(定数!P$14,計算!B33*定数!P$24)","v":"-85.0982474167649+99.9059695524427i"},{"$f":"COMPLEX(定数!Q$14,計算!B33*定数!Q$24)","v":"57.0863694248256+55.2280056685632i"},{"$f":"COMPLEX(定数!R$14,計算!B33*定数!R$24)","v":"-56.4801756248256+55.2280056685632i"},{"$f":"COMPLEX(定数!S$14,計算!B33*定数!S$24)","v":"163.969671876329+117.241891680694i"},{"$f":"COMPLEX(定数!T$14,計算!B33*定数!T$24)","v":"-162.682801076329+117.241891680694i"},{"$f":"COMPLEX(定数!U$14,計算!B33*定数!U$24)","v":"-101.525845343051-84.1770147920269i"},{"$f":"COMPLEX(定数!V$14,計算!B33*定数!V$24)","v":"100.601901343051-84.1770147920269i"},{"$f":"IMPRODUCT(定数!D$32,計算!G33)","v":"0.0267510312779831-0.425195466267678i"},{"$f":"COMPLEX(定数!O$15,計算!B33*定数!O$25)","v":"86.1919999827348+99.9048580674566i"},{"$f":"COMPLEX(定数!P$15,計算!B33*定数!P$25)","v":"-85.0954239827348+99.9048580674566i"},{"$f":"COMPLEX(定数!Q$15,計算!B33*定数!Q$25)","v":"-57.0828842529623-55.2278052407534i"},{"$f":"COMPLEX(定数!R$15,計算!B33*定数!R$25)","v":"56.4766926529622-55.2278052407534i"},{"$f":"COMPLEX(定数!S$15,計算!B33*定数!S$25)","v":"-163.956966054068-117.231505587697i"},{"$f":"COMPLEX(定数!T$15,計算!B33*定数!T$25)","v":"162.670209254068-117.231505587697i"},{"$f":"COMPLEX(定数!U$15,計算!B33*定数!U$25)","v":"-101.548680976766-84.1935596844206i"},{"$f":"COMPLEX(定数!V$15,計算!B33*定数!V$25)","v":"100.624555376766-84.1935596844206i"},{"$f":"IMPRODUCT(定数!D$33,計算!G33)","v":"0"},{"$f":"COMPLEX(定数!O$16,計算!B33*定数!O$26)","v":"74.3664237452132+81.3600115025215i"},{"$f":"COMPLEX(定数!P$16,計算!B33*定数!P$26)","v":"-73.4733997452132+81.3600115025215i"},{"$f":"COMPLEX(定数!Q$16,計算!B33*定数!Q$26)","v":"-125.201328746793-116.409891775826i"},{"$f":"COMPLEX(定数!R$16,計算!B33*定数!R$26)","v":"123.923590146793-116.409891775826i"},{"$f":"COMPLEX(定数!S$16,計算!B33*定数!S$26)","v":"77.7704269443536+53.4363114032194i"},{"$f":"COMPLEX(定数!T$16,計算!B33*定数!T$26)","v":"-77.1838991443536+53.4363114032194i"},{"$f":"COMPLEX(定数!U$16,計算!B33*定数!U$26)","v":"124.65071095008+97.5368807226036i"},{"$f":"COMPLEX(定数!V$16,計算!B33*定数!V$26)","v":"-123.58012635008+97.5368807226036i"},{"$f":"IMPRODUCT(定数!D$34,計算!G33)","v":"0"},{"$f":"IMDIV(COMPLEX(定数!O$17,計算!B33*定数!O$27),計算!R33)","v":"0.0854593898906989+0.360252749457381i"},{"$f":"IMPRODUCT(COMPLEX(定数!P$17,計算!B33*定数!P$27),計算!R33)","v":"0.799738473173265+0.242150918152565i"},{"$f":"IMDIV(COMPLEX(定数!Q$17,計算!B33*定数!Q$27),計算!S33)","v":"-0.369930215110766+0.346238245962003i"},{"$f":"IMPRODUCT(COMPLEX(定数!R$17,計算!B33*定数!R$27),計算!S33)","v":"1.02083977261541-0.753198639627915i"},{"$f":"IMDIV(COMPLEX(定数!S$17,計算!B33*定数!S$27),計算!T33)","v":"0.226293671243896+0.0411369188275514i"},{"$f":"IMPRODUCT(COMPLEX(定数!T$17,計算!B33*定数!T$27),計算!T33)","v":"-0.213007801833056+0.627676667224911i"},{"$f":"IMDIV(COMPLEX(定数!U$17,計算!B33*定数!U$27),計算!U33)","v":"-0.410544288108978+0.0579102117279695i"},{"$f":"IMPRODUCT(COMPLEX(定数!V$17,計算!B33*定数!V$27),計算!U33)","v":"0.540049602604487-1.00482024902785i"},{"$f":"IMPRODUCT(定数!E$31,計算!G33)","v":"0"},{"$f":"IMDIV(COMPLEX(定数!O$18,計算!B33*定数!O$28),計算!R33)","v":"0.1265255908552+0.445243608034682i"},{"$f":"IMPRODUCT(COMPLEX(定数!P$18,計算!B33*定数!P$28),計算!R33)","v":"0.960431087647973+0.30022340448845i"},{"$f":"IMDIV(COMPLEX(定数!Q$18,計算!B33*定数!Q$28),計算!S33)","v":"-0.17050810862666+0.172728944560902i"},{"$f":"IMPRODUCT(COMPLEX(定数!R$18,計算!B33*定数!R$28),計算!S33)","v":"0.47933342658791-0.348901045129656i"},{"$f":"IMDIV(COMPLEX(定数!S$18,計算!B33*定数!S$28),計算!T33)","v":"-0.497002100638028-0.0619718237926579i"},{"$f":"IMPRODUCT(COMPLEX(定数!T$18,計算!B33*定数!T$28),計算!T33)","v":"0.467860319511596-1.34851261696069i"},{"$f":"IMDIV(COMPLEX(定数!U$18,計算!B33*定数!U$28),計算!U33)","v":"0.351199788309678-0.0754881362655862i"},{"$f":"IMPRODUCT(COMPLEX(定数!V$18,計算!B33*定数!V$28),計算!U33)","v":"-0.462965648640285+0.841671014373254i"},{"$f":"IMPRODUCT(定数!E$32,計算!G33)","v":"0"},{"$f":"IMDIV(COMPLEX(定数!O$19,計算!B33*定数!O$29),計算!R33)","v":"0.126532084880916+0.445239713060748i"},{"$f":"IMPRODUCT(COMPLEX(定数!P$19,計算!B33*定数!P$29),計算!R33)","v":"0.960412500776941+0.300221122924621i"},{"$f":"IMDIV(COMPLEX(定数!Q$19,計算!B33*定数!Q$29),計算!S33)","v":"0.170500395692539-0.172740304865225i"},{"$f":"IMPRODUCT(COMPLEX(定数!R$19,計算!B33*定数!R$29),計算!S33)","v":"-0.479324592864201+0.348887791724518i"},{"$f":"IMDIV(COMPLEX(定数!S$19,計算!B33*定数!S$29),計算!T33)","v":"0.496957902445186+0.0619740729083464i"},{"$f":"IMPRODUCT(COMPLEX(定数!T$19,計算!B33*定数!T$29),計算!T33)","v":"-0.467818702901185+1.34840089531068i"},{"$f":"IMDIV(COMPLEX(定数!U$19,計算!B33*定数!U$29),計算!U33)","v":"0.351270301338308-0.0754908158001722i"},{"$f":"IMPRODUCT(COMPLEX(定数!V$19,計算!B33*定数!V$29),計算!U33)","v":"-0.463058129104426+0.841848601285288i"},{"$f":"IMPRODUCT(定数!E$33,計算!G33)","v":"0"},{"$f":"IMDIV(COMPLEX(定数!O$20,計算!B33*定数!O$30),計算!R33)","v":"0.0854616206866373+0.360246172559647i"},{"$f":"IMPRODUCT(COMPLEX(定数!P$20,計算!B33*定数!P$30),計算!R33)","v":"0.799718796961133+0.242146668797277i"},{"$f":"IMDIV(COMPLEX(定数!Q$20,計算!B33*定数!Q$30),計算!S33)","v":"0.369951730881402-0.346252828380275i"},{"$f":"IMPRODUCT(COMPLEX(定数!R$20,計算!B33*定数!R$30),計算!S33)","v":"-1.02089542152351+0.753241710734494i"},{"$f":"IMDIV(COMPLEX(定数!S$20,計算!B33*定数!S$30),計算!T33)","v":"-0.226230530047728-0.0411476894270774i"},{"$f":"IMPRODUCT(COMPLEX(定数!T$20,計算!B33*定数!T$30),計算!T33)","v":"0.21294833825958-0.627525079470505i"},{"$f":"IMDIV(COMPLEX(定数!U$20,計算!B33*定数!U$30),計算!U33)","v":"-0.410543939815872+0.0578887488442892i"},{"$f":"IMPRODUCT(COMPLEX(定数!V$20,計算!B33*定数!V$30),計算!U33)","v":"0.540048334969366-1.00483416772103i"},{"$f":"IMPRODUCT(定数!E$34,計算!G33)","v":"0"},"0.0950917187979801+0.989995541912862i","1.545732011304-0.125852006673601i","0.0210120110387099+1.54223528381172i","-0.834025928493417+0.193718142052963i","0.11459742760395-0.844102942138385i","1.41605113718454-0.237661892945684i","-0.103238103133599+1.42448399082632i","0.00268345544278209+0.00278161198231226i","5.611801980328+5.073236193013i","-88.7211139439404-88.3520565617388i","95.7872088449114-79.8039364370318i","255.211998484638+183.868557288465i","-256.89143034716+178.550238908951i","-247.325982178013-205.163748793465i","251.814946887475-196.646075431698i","0.0733506725140662-0.933049271594631i","5.61379469449081+5.075037666093i","-202.88584460882-198.806506283365i","208.74242253371-190.25535077696i","-72.7172197528704-50.6052176734679i","68.462843147349-55.9254245531472i","-247.344538251309-205.179393688432i","251.835724883142-196.658695756414i","0.0466041588136994-0.507842935072922i","0.00101787747099991+0.000920191559401928i","-250.391211206547-232.811502337861i","247.837282460665-232.809951866388i","155.554862822866+106.886545099799i","-154.382325087352+106.885580454847i","0.00787769355200396+0.00100895199899753i","-0.00664394700798709+0.00255390098919861i","0.0267529983171455-0.425184501062651i","1.14826060882579+0.12328944999858i","-0.547366061160222-0.199860725327704i","1.57463860027502-0.892566760798698i","0.367356511540323+0.325042018455444i","-0.526891633809551+0.658529151289935i","-0.617177504721728-0.431915663443605i","1.06204654216496-1.08936397129029i","0.000772756899612555-0.00120443706422968i","1.38918873876116+0.132624653632079i","-0.422117566190454-0.499574853702107i","1.1633452716789-0.553388739258611i","-0.305224712737405+0.284862587421604i","0.077529372763135-1.29273576560189i","0.066215642788738-0.675905542318527i","0.184339005020617+0.707403441296041i","0.000898969169725608-0.00154673648293657i","1.38916567835523+0.132616313391508i","-0.081118609704401-0.845037265256173i","0.204681108808022+0.144390164121205i","0.688739952004522+0.40880397760276i","-0.85814710608933+1.40418367464968i","0.066277885631746-0.6759011629884i","0.184241646659359+0.707571375462686i","0.00089894090899079-0.00154674409480731i","1.148234209384+0.123283617573767i","0.192513264335031-0.892341352798475i","-0.467106783861151+0.613870287345352i","-0.085167103274057+0.242751492751932i","-0.100930197781664-0.596669958688504i","-0.617178752271782-0.431927282928585i","1.06203613614745-1.08938174670302i","0.000772732618993509-0.00120442562062638i","2.32703572339274+16.3165168169924i","-16.3527150577616+0.798725181215698i","-9.31172528072915-40.280580041827i","40.8824550616779+4.59403456446969i","7.24040361058529+41.6049901317458i","-41.9823811473734-1.80682697436943i","-0.0871491506172179+0.0868634185400328i","-16.5318084581209-0.798725181635783i","2.31826875410207-16.3165168169604i","41.3245828841652-4.59403456341138i","-9.36215033759935+40.2805800415782i","-42.4390459637543+1.80682697328582i","7.26023571125527-41.6049901315651i","-0.0755188946470749-0.0979942064852782i","-114.133226377941-110.423076482743i","112.921200276014-110.423076484532i","-328.019842348688-234.539065487802i","325.445493964673-234.539065482629i","0.0692677648050051+0.0572074141780092i","-0.068639848575998+0.0572074091749926i","-0.026772560054423+0.425537656220584i","-250.375118831333-232.795476902888i","247.819908426075-232.795476902855i","155.508572069121+106.853194731716i","-154.335729715681+106.853194731622i","0.0527380692593565+0.0382218754138121i","-0.0523185381206896+0.0382218755045267i","0.0267396938569635-0.425015263118152i","18.3369839956092+2.75548151030549i","-3.09899247498766+17.5572286937184i","-47.6504301851005+0.505305847995457i","15.1894673717108-44.439819845182i","48.3366699553835+2.72566273150409i","-12.4040524863767+45.7888968596709i","0.0754064770242962+0.120629133121494i","22.4377539246259+2.80253054466144i","-4.22113996627293+21.805873088131i","-58.3221521321681+1.18618517688968i","18.4255211684586-56.0084120043543i","59.2616901809086+2.44253454492169i","-15.4193460913717+57.5417009618429i","0.092812519484072+0.144601378875493i","22.7783783124583+2.45691183492085i","-5.17961458524975+22.5032950609288i","-57.3271961904166+1.3103652837317i","17.4892928448912-53.3106417601619i","59.2607586927528+2.44222663856233i","-15.4189290301236+57.5409700201609i","0.092811567022228+0.144598481631694i","19.0764315490938+2.06288337640592i","-5.14058149326525+19.0632485160547i","-48.1018360596334+0.423135064866506i","15.6149467187413-45.6940101743703i","48.3355378025274+2.72545128869789i","-12.4036285682475+45.787823080522i","0.0754050306308553+0.120626117114473i","-0.0675823287580002-1.06516883094361i","-21.271218671694-80.3856235052277i","82.4890035063703+6.08381116752031i","7.24244024177947+41.614088632652i","-41.9916491170039-1.8065066630833i","-0.116430370676564+0.12004156414764i","1.06876441536291+0.0965323555625979i","83.1418357664591-8.78419998452194i","-18.7197268488023+81.0286244946049i","-42.4484046312937+1.80711036963674i","7.26167700267231-41.6141905144952i","-0.102686088260916-0.133160460306323i","-0.0275501490448375+0.994147386352612i","2.51139449360777-0.374797437308369i","-0.44590703814369+2.48637054664574i","-0.00056395598721217+0.0000443897109685163i","0.00006015425695785-0.000559432422249936i","-0.00174203606808003-0.00204302184069646i","9.48902166743699+9.70074300540099i","871.550414998704+597.654520658662i","-844.795574542325+625.573374207761i","-0.0987962019890295-0.0819504484228529i","0.0929759286459544-0.0878424447581603i","0.0661834500309064-1.34207521650826i","0.14554890873732-0.596522092807i","-94.7345782296603+0.457859365295133i","30.2172056627316-88.803668167259i","48.3471335223231+2.72640272837988i","-12.4066970397196+45.7989894091015i","0.101720655617264+0.162892140092905i","-0.81684808526957-0.423351197450799i","-115.722585053517+2.55753806876494i","35.3988029659067-110.547314400952i","59.2744684900948+2.4431190433902i","-15.4222636442379+57.5540847847283i","0.126174264995512+0.195324309490373i","-2.10953438855647-0.0740819165105009i","-115.45353431706+3.67736824778162i","33.7551252739685-108.850576417323i","59.2737137571873+2.44260110307206i","-15.4216737226848+57.5535651898093i","0.127472799075493+0.195415235052218i","-2.56421284383988+0.1552966950707i","-96.7834446126561+2.39221876999455i","29.2503542774094-92.2052334967317i","48.346387641111+2.72576786684616i","-12.4059301406568+45.7983709636147i","0.10442234664683+0.163193300657764i","-0.00728286313800197-0.033478562213304i","0.033898684383189+0.00347646661853052i","7.24075879826738+41.604133782822i","-41.9815994337482-1.80696940102i","-0.0436003485052289+0.0434573414497005i","0.0342661519405993-0.00347646613194108i","-0.00732102201619966+0.0334785621007967i","-42.43825485064+1.80696940036362i","7.26059246182118-41.6041337827126i","-0.0377817881082077-0.0490260276886172i","-10.4113308944955-76.7392619206518i","75.5528249275801+15.1158900899329i","0.000152755452217014+0.00942445106577889i","-0.00930463374111753-0.000981651632370254i","-0.0758142388048687+0.0628514370469353i","76.3951306426605-15.1158900882312i","-10.5772459739283+76.7392619203952i","-0.00940807858279527+0.000981650628475923i","0.000163531266296964-0.00942445097925568i","-0.0672896187811759-0.0726435181559508i","-96.8368437374723+48.2293438834544i","-14.0199528495356-106.282544901582i","48.3479172816068+2.72064772347664i","-12.4010989482953+45.8004586776702i","0.154848049679465+0.133325580667811i","-46.9200386947538+22.5521222300285i","-5.7288585808117-52.3408849850714i","59.2663679361493+2.43993798149274i","-15.4181402114288+57.5464556711486i","0.10196258913395+0.107498450090421i","46.824434999395-22.5506240169036i","5.7570695610821+52.249952903041i","59.2537943693268+2.44397496033828i","-15.4206305664643+57.5336961010849i","-0.00909539468919501+0.037186291475943i","96.7624828143249-48.2320520486194i","14.045398057011+106.213178889039i","48.3224157722715+2.72974607150674i","-12.4069743977733+45.7741792695024i","-0.079403856376878-0.012630286210157i","0.000178283670917802-0.00047764521415718i","7.24535090169035+41.5895013488042i","-41.9685013294763-1.79960314001784i","-0.0435473824690824+0.0434201596838438i","0.00045395995245435+0.000245636101586601i","-42.424160249801+1.8132161919639i","7.25174877573696-41.5918864576929i","-0.0377506579975124-0.0489689046432475i","0.282032470387904+0.1645833268992i","12.9689073854823-32.1377873367881i","28.1836750407908+18.94362962339i","0.0501915983029953-0.0114368467553837i","-0.145764124322499+0.276202764831893i","33.0472347541106+11.0641533537344i","-17.3017544793431+29.441406546825i","0.0149388087086687+0.0493202066450812i","-0.321981243338872+0.937180491328334i","-0.388829535021581-0.221750732998815i","0.291350937121804-0.327858621936584i","-0.000731818016346868-0.00174128644563682i","0.29917801477824-1.1069797124228i","36.0215214720859+0.80431620905016i","-9.14185068400352+35.5927344976712i","0.0283559547299435+0.0423012720372827i","-0.30034553509475+1.1061279451063i","82.4611350631189+4.05897909277037i","-21.669557069745+79.455636272952i","0.0644386663899115+0.102218092529557i","-0.00103565457529875-0.00054838443899996i","96.6420198683175+5.43285119116715i","-24.7855203261254+91.5510471038422i","0.07539449033061+0.120563828906033i","7.22943828478453+41.5876535084967i","-41.9629804057169-1.81498065363594i","-0.0435581831641777+0.043400259523905i","-42.4200795173325+1.7975197665276i","7.26639439286213-41.5841977458796i","-0.0377291924281561-0.0489769479475934i","15.8695358319609-41.9795809923565i","37.2873981852505+24.1041899370387i","0.0639287234574489-0.0160846841578762i","42.5696771602096+13.4344718433495i","-21.8616099331683+38.3507534916837i","0.0199401437119246+0.0622569565826966i","30.6238566643314+2.55493054305706i","-9.6494897491793+29.8329406787782i","0.0212714905644829+0.0363724258640626i","7.51874559194476+30.5083080685821i","-32.0443418061462+0.402095790410158i","-0.0291602664679255+0.0334966078836859i","118.465448843744+4.90531859306923i","-30.8491626658888+115.021545902599i","0.0927320446005099+0.14453363477516i","96.6330764101853+5.46857042308642i","-24.8189276984038+91.5338909177828i","0.0753459213487029+0.120582528784877i","0.383446158662004+0.24199384192362i","-0.000265666182660697+0.000233506930088896i","-0.29701991433387+0.383955065101297i","-0.000310071468390904-0.000178855815463001i","-0.365372493745795-0.6766610147675i","0.000956201157311404+0.0000218767341020991i","0.662520315200101-0.415620569613999i","0.000455679390581699+0.000610469953053701i","-0.413654886377621+0.382239114433801i","-0.0011744307554704-0.0020606944832495i","-0.492424671811598-0.259989142341726i","0.000755873963840401-0.000796577626518601i","-0.219826088859298+0.980031427194084i","0.000831869615933855+0.00118560348736253i","1.7829144197377-1.9674264228873i","0.00144335735335399+0.001464878820831i"]
[{"$f":"COMPLEX(定数!O$13,計算!B34*定数!O$23)","v":"74.3688188913563+84.1671879016513i"},{"$f":"COMPLEX(定数!P$13,計算!B34*定数!P$23)","v":"-73.4757772913563+84.1671879016513i"},{"$f":"COMPLEX(定数!Q$13,計算!B34*定数!Q$23)","v":"125.193786513619+120.417711374032i"},{"$f":"COMPLEX(定数!R$13,計算!B34*定数!R$23)","v":"-123.916114913619+120.417711374032i"},{"$f":"COMPLEX(定数!S$13,計算!B34*定数!S$23)","v":"-77.7867441135484-55.294248670451i"},{"$f":"COMPLEX(定数!T$13,計算!B34*定数!T$23)","v":"77.2000539135484-55.294248670451i"},{"$f":"COMPLEX(定数!U$13,計算!B34*定数!U$23)","v":"124.646605989444+100.90093772053i"},{"$f":"COMPLEX(定数!V$13,計算!B34*定数!V$23)","v":"-123.576013789444+100.90093772053i"},{"$f":"IMPRODUCT(定数!D$31,計算!G34)","v":"1.43674376612612E-16+4.42184263614488E-16i"},{"$f":"COMPLEX(定数!O$14,計算!B34*定数!O$24)","v":"86.1948356167649+103.351002985286i"},{"$f":"COMPLEX(定数!P$14,計算!B34*定数!P$24)","v":"-85.0982474167649+103.351002985286i"},{"$f":"COMPLEX(定数!Q$14,計算!B34*定数!Q$24)","v":"57.0863694248256+57.1324196571344i"},{"$f":"COMPLEX(定数!R$14,計算!B34*定数!R$24)","v":"-56.4801756248256+57.1324196571344i"},{"$f":"COMPLEX(定数!S$14,計算!B34*定数!S$24)","v":"163.969671876329+121.284715531753i"},{"$f":"COMPLEX(定数!T$14,計算!B34*定数!T$24)","v":"-162.682801076329+121.284715531753i"},{"$f":"COMPLEX(定数!U$14,計算!B34*定数!U$24)","v":"-101.525845343051-87.0796704745106i"},{"$f":"COMPLEX(定数!V$14,計算!B34*定数!V$24)","v":"100.601901343051-87.0796704745106i"},{"$f":"IMPRODUCT(定数!D$32,計算!G34)","v":"-1.43674376612612E-16-4.42184263614488E-16i"},{"$f":"COMPLEX(定数!O$15,計算!B34*定数!O$25)","v":"86.1919999827348+103.349853173231i"},{"$f":"COMPLEX(定数!P$15,計算!B34*定数!P$25)","v":"-85.0954239827348+103.349853173231i"},{"$f":"COMPLEX(定数!Q$15,計算!B34*定数!Q$25)","v":"-57.0828842529623-57.1322123180208i"},{"$f":"COMPLEX(定数!R$15,計算!B34*定数!R$25)","v":"56.4766926529622-57.1322123180208i"},{"$f":"COMPLEX(定数!S$15,計算!B34*定数!S$25)","v":"-163.956966054068-121.273971297618i"},{"$f":"COMPLEX(定数!T$15,計算!B34*定数!T$25)","v":"162.670209254068-121.273971297618i"},{"$f":"COMPLEX(定数!U$15,計算!B34*定数!U$25)","v":"-101.548680976766-87.0967858804351i"},{"$f":"COMPLEX(定数!V$15,計算!B34*定数!V$25)","v":"100.624555376766-87.0967858804351i"},{"$f":"IMPRODUCT(定数!D$33,計算!G34)","v":"0"},{"$f":"COMPLEX(定数!O$16,計算!B34*定数!O$26)","v":"74.3664237452132+84.1655291405395i"},{"$f":"COMPLEX(定数!P$16,計算!B34*定数!P$26)","v":"-73.4733997452132+84.1655291405395i"},{"$f":"COMPLEX(定数!Q$16,計算!B34*定数!Q$26)","v":"-125.201328746793-120.424025974993i"},{"$f":"COMPLEX(定数!R$16,計算!B34*定数!R$26)","v":"123.923590146793-120.424025974993i"},{"$f":"COMPLEX(定数!S$16,計算!B34*定数!S$26)","v":"77.7704269443536+55.2789428309166i"},{"$f":"COMPLEX(定数!T$16,計算!B34*定数!T$26)","v":"-77.1838991443536+55.2789428309166i"},{"$f":"COMPLEX(定数!U$16,計算!B34*定数!U$26)","v":"124.65071095008+100.900221437176i"},{"$f":"COMPLEX(定数!V$16,計算!B34*定数!V$26)","v":"-123.58012635008+100.900221437176i"},{"$f":"IMPRODUCT(定数!D$34,計算!G34)","v":"0"},{"$f":"IMDIV(COMPLEX(定数!O$17,計算!B34*定数!O$27),計算!R34)","v":"0.290820894663072+0.246772850056297i"},{"$f":"IMPRODUCT(COMPLEX(定数!P$17,計算!B34*定数!P$27),計算!R34)","v":"0.487363119778587+0.684897191993632i"},{"$f":"IMDIV(COMPLEX(定数!Q$17,計算!B34*定数!Q$27),計算!S34)","v":"-0.109742459879907+0.511718470144237i"},{"$f":"IMPRODUCT(COMPLEX(定数!R$17,計算!B34*定数!R$27),計算!S34)","v":"1.27532641385997-0.0115966965294872i"},{"$f":"IMDIV(COMPLEX(定数!S$17,計算!B34*定数!S$27),計算!T34)","v":"0.217043590025804-0.0970230615227584i"},{"$f":"IMPRODUCT(COMPLEX(定数!T$17,計算!B34*定数!T$27),計算!T34)","v":"-0.534820495445941+0.396153609820931i"},{"$f":"IMDIV(COMPLEX(定数!U$17,計算!B34*定数!U$27),計算!U34)","v":"-0.316872654931379+0.289045357264776i"},{"$f":"IMPRODUCT(COMPLEX(定数!V$17,計算!B34*定数!V$27),計算!U34)","v":"1.02382138634635-0.514939188514317i"},{"$f":"IMPRODUCT(定数!E$31,計算!G34)","v":"0"},{"$f":"IMDIV(COMPLEX(定数!O$18,計算!B34*定数!O$28),計算!R34)","v":"0.37608432080165+0.292333764953704i"},{"$f":"IMPRODUCT(COMPLEX(定数!P$18,計算!B34*定数!P$28),計算!R34)","v":"0.579467366449373+0.830317643309702i"},{"$f":"IMDIV(COMPLEX(定数!Q$18,計算!B34*定数!Q$28),計算!S34)","v":"-0.0431032697861746+0.246810532494095i"},{"$f":"IMPRODUCT(COMPLEX(定数!R$18,計算!B34*定数!R$28),計算!S34)","v":"0.596116865988988-0.00147737613874824i"},{"$f":"IMDIV(COMPLEX(定数!S$18,計算!B34*定数!S$28),計算!T34)","v":"-0.460761910734514+0.236575791149483i"},{"$f":"IMPRODUCT(COMPLEX(定数!T$18,計算!B34*定数!T$28),計算!T34)","v":"1.15778705364561-0.84517852755806i"},{"$f":"IMDIV(COMPLEX(定数!U$18,計算!B34*定数!U$28),計算!U34)","v":"0.256497885120528-0.268751630152942i"},{"$f":"IMPRODUCT(COMPLEX(定数!V$18,計算!B34*定数!V$28),計算!U34)","v":"-0.866609782721192+0.425104253689024i"},{"$f":"IMPRODUCT(定数!E$32,計算!G34)","v":"0"},{"$f":"IMDIV(COMPLEX(定数!O$19,計算!B34*定数!O$29),計算!R34)","v":"0.37608708579746+0.292326605299941i"},{"$f":"IMPRODUCT(COMPLEX(定数!P$19,計算!B34*定数!P$29),計算!R34)","v":"0.579453970543451+0.830304498361445i"},{"$f":"IMDIV(COMPLEX(定数!Q$19,計算!B34*定数!Q$29),計算!S34)","v":"0.0430904072603122-0.246815344138295i"},{"$f":"IMPRODUCT(COMPLEX(定数!R$19,計算!B34*定数!R$29),計算!S34)","v":"-0.59610199646485+0.00147166340747262i"},{"$f":"IMDIV(COMPLEX(定数!S$19,計算!B34*定数!S$29),計算!T34)","v":"0.460725290392283-0.236548329375671i"},{"$f":"IMPRODUCT(COMPLEX(定数!T$19,計算!B34*定数!T$29),計算!T34)","v":"-1.1576886859498+0.84511015998184i"},{"$f":"IMDIV(COMPLEX(定数!U$19,計算!B34*定数!U$29),計算!U34)","v":"0.256556389983081-0.268795257545563i"},{"$f":"IMPRODUCT(COMPLEX(定数!V$19,計算!B34*定数!V$29),計算!U34)","v":"-0.866788204289308+0.425197002774312i"},{"$f":"IMPRODUCT(定数!E$33,計算!G34)","v":"0"},{"$f":"IMDIV(COMPLEX(定数!O$20,計算!B34*定数!O$30),計算!R34)","v":"0.290818605283403+0.246766049450836i"},{"$f":"IMPRODUCT(COMPLEX(定数!P$20,計算!B34*定数!P$30),計算!R34)","v":"0.487350072763341+0.684881756864965i"},{"$f":"IMDIV(COMPLEX(定数!Q$20,計算!B34*定数!Q$30),計算!S34)","v":"0.109752004548043-0.511743603640547i"},{"$f":"IMPRODUCT(COMPLEX(定数!R$20,計算!B34*定数!R$30),計算!S34)","v":"-1.27539708074834+0.0115990052305081i"},{"$f":"IMDIV(COMPLEX(定数!S$20,計算!B34*定数!S$30),計算!T34)","v":"-0.216995515751123+0.0969775744468997i"},{"$f":"IMPRODUCT(COMPLEX(定数!T$20,計算!B34*定数!T$30),計算!T34)","v":"0.534684458274589-0.396062582103417i"},{"$f":"IMDIV(COMPLEX(定数!U$20,計算!B34*定数!U$30),計算!U34)","v":"-0.316884410157169+0.289027379540489i"},{"$f":"IMPRODUCT(COMPLEX(定数!V$20,計算!B34*定数!V$30),計算!U34)","v":"1.0238281230316-0.514951458852964i"},{"$f":"IMPRODUCT(定数!E$34,計算!G34)","v":"0"},"0.128405050183767+0.986430832288499i","1.54149709364388-0.125398847199196i","0.0729081993641692+1.53668210632103i","-0.827507316652822+0.193020614744855i","0.0861933794596111-0.841063552813481i","1.40805381895201-0.236806135923292i","-0.0553042436048417+1.41935480430288i","3.79729842517782E-18+1.6482221362554E-18i","5.7825162829097+5.0549688240019i","-88.7428157967654-91.3741180489976i","96.0531510736854-82.8567774225686i","255.245403137607+190.171046526905i","-257.036987007745+184.871877991921i","-247.36696446792-212.191978961514i","252.060584146167-203.70497546736i","-3.00636479234068E-16-9.7670710058551E-16i","5.7845696166073+5.05676381045789i","-202.90755416783-205.63733317745i","209.008459196834-197.116968098924i","-72.6838032381275-52.3880444445305i","68.3172348005441-57.689094679695i","-247.38553509376-212.208146865721i","252.081449366022-203.718129691986i","-1.56953230018501E-16-5.34513797036737E-16i","0.00104884189970278+0.000916878195411641i","-250.391215142862-240.839480722157i","247.837330697685-240.837935833519i","155.554868881855+110.572281176992i","-154.382351488648+110.571320005469i","0.00787026011899172+0.00105215626099664i","-0.00659939293498724+0.0025915423029943i","-1.43668015534718E-16-4.42174017070638E-16i","0.693444596072125+0.366335614628782i","-0.588987054691065+0.167787443924426i","1.63333460909996-0.476487725652072i","0.505332255415222+0.0510488495815826i","-0.767438981180676+0.619482278813417i","-0.784801451365367+0.010444075640252i","1.39016324624909-0.914069636731436i","-6.97597251223264E-19-1.41640759116469E-18i","0.819543279432822+0.421799341971386i","-0.659494474389546-0.156660576277793i","1.01792130102806-0.600712950798664i","-0.0931229405707+0.405892093756304i","0.87949980011464-0.554064947678691i","-0.342275508310803-0.59131422951425i","-0.430885390080627-0.092525536112863i","-9.46273416542598E-19-1.72994904792886E-18i","0.819522465984254+0.421784388881711i","-0.573304161763736-0.650275069597429i","-0.174308765128471-0.597767638174565i","0.82836516664959-0.067238485135915i","-1.43597015608127+1.13622668251316i","-0.342219201261217-0.591347120961074i","-0.431073820821707-0.092437107496898i","-9.46295716756653E-19-1.7299264179142E-18i","0.693425134697886+0.366323311046893i","-0.369488208402924-0.855664433832376i","-0.917399168962522-0.453288010023406i","0.071289942502822+0.245044299897935i","0.302071889610615-0.172735252457562i","-0.78480837259627+0.010435131395303i","1.3901602038499-0.914079033730392i","-6.97599766673914E-19-1.41637799383004E-18i","2.32982710578349+16.3529921444245i","-16.3555064401511+1.35243061235449i","-9.31979744795107-40.1479978894274i","40.8905272288974+3.23088187834345i","7.2482126458309+41.5676765017261i","-41.9901901826161-0.39716289061936i","-5.07018043419084E-17+1.22263962411423E-16i","-16.529017075729-1.35243061276043i","2.31547737171107-16.3529921443935i","41.3165107169397-3.23088187732088i","-9.35407817037609+40.1479978891871i","-42.4312369285054+0.397162889572237i","7.25242667600865-41.5676765015513i","-1.1316555606001E-16-6.99796979296533E-17i","-114.133226377947-114.230768775319i","112.921200276021-114.23076877705i","-328.019842348668-242.62661946995i","325.445493964652-242.626619464949i","0.0692677647840014+0.0591800834459946i","-0.0686398485549944+0.0591800786089891i","1.43790003255257E-16+4.42540125861094E-16i","-250.375118831332-240.822907140916i","247.819908426073-240.822907140887i","155.50857206912+110.537787653491i","-154.335729715676+110.537787653406i","0.0527380692592995+0.039539871125498i","-0.0523185381255045+0.0395398712080579i","-1.43613485617072E-16-4.41996860400498E-16i","10.3775270150887+7.16079077355248i","-5.96300408987641+10.0151644803627i","-29.328965928124-12.8442229198496i","20.4267374601532-23.7941979247281i","28.7844054126219+15.2791068757695i","-18.8667131605246+25.2539888206378i","5.21403904074917E-17+8.85672093069647E-17i","12.3162960431303+7.92364336928553i","-7.77739394340495+11.8246050280194i","-35.316575478094-14.373537410003i","25.4799707910633-29.5115427834316i","34.5994825999446+16.9806614089722i","-23.9077815276166+30.9149155827349i","6.22804069776328E-17+1.03354599166996E-16i","12.4021625529255+7.42975356734632i","-8.9693312887343+11.8272446020233i","-34.3941791201365-14.8461174251991i","23.1637058076298-27.8205554073202i","34.5986498278144+16.980002305764i","-23.9071974451538+30.9142472908404i","6.22790757246366E-17+1.03351473103459E-16i","10.5967208237306+6.13710920952225i","-8.51349160518923+10.0380744329568i","-29.7621644135394-12.6497820058617i","21.4955723235489-24.585749209454i","28.7835678346835+15.278583604662i","-18.8660636294223+25.2532596903557i","5.21390465357477E-17+8.85644846615229E-17i","-0.103700109271799-1.06575014255114i","-21.2737079266566-80.1352981765664i","82.4147784479849+3.34813425503605i","7.25024935975961+41.5767707787478i","-41.9994395232671-0.396532296509656i","-6.60939731069187E-17+1.67305167401383E-16i","1.07203763771902+0.0965850377075981i","83.1244959499539-6.04999679849655i","-18.6954346946506+80.7786500811772i","-42.4405937544568+0.397136332593498i","7.25386443006591-41.5768727162033i","-1.53845647179732E-16-9.50582951764387E-17i","0.0061594339392591+0.994689938292006i","2.49868584950688-0.375001981504499i","-0.361599102093659+2.48772747337698i","-0.000562450818492119+0.0000444139371989846i","0.0000411850028264279-0.000559737730819196i","-2.56808271613204E-18-1.30712210329268E-18i","9.81795478724999+9.70603714689901i","871.42640593109+618.387412282433i","-843.972910184649+646.321502434397i","-0.0987815147312785-0.084791025303599i","0.0927908294235695-0.0906862375489111i","-4.71812555934229E-16-1.38772085781672E-15i","1.09584275068816-0.351363643622101i","-57.9444565628228-26.8451963032299i","41.9933378492329-47.0213214718789i","28.7905603000972+15.282673561568i","-18.8711487237825+25.2595025968725i","6.94307102739696E-17+1.20521407265302E-16i","0.0283129787835206-0.4750958809993i","-69.0625120836183-29.5535975524059i","49.6453976803919-57.285948492527i","34.6067618309338+16.9845710534717i","-23.9127239364633+30.9214831430596i","8.35525045861596E-17+1.39802073541124E-16i","-1.65542047225448-0.554824778716599i","-68.1694595042606-28.7599019969627i","46.1315187206953-55.9871637007906i","34.6059554189017+16.9836303478704i","-23.9118669416559+30.9208832547434i","8.44172599095686E-17+1.38642835626439E-16i","-2.47424062616478-0.5401782680515i","-58.5414689012503-24.0106986382243i","40.5947922461904-48.7283295507406i","28.7898005421672+15.2815647846669i","-18.8699352269821+25.2589383179636i","7.13303510327591E-17+1.18176296760632E-16i","-0.0072895107291977-0.0333799578461935i","0.0339053319635951+0.00234330720935993i","7.24856770508345+41.566814830553i","-41.9894083405633-0.397334435568009i","-2.53659191333376E-17+6.116808175495E-17i","0.0342595043613017-0.00234330675681971i","-0.00731437443119987+0.0333799577423974i","-42.4304459438226+0.397334434933364i","7.25278355500482-41.566814830447i","-5.66162297825338E-17-3.50104848656671E-17i","-10.4278540480436-76.2709023066536i","75.5693480811064+12.5225866196529i","0.000154627348948595+0.00939659147016913i","-0.00930650563371129-0.000662660994365793i","-4.91874604736481E-17+9.34523476169608E-17i","76.3786074891094-12.5225866180342i","-10.5607228203771+76.2709023064086i","-0.00940620668153162+0.000662660024387722i","0.000161659368668908-0.00939659138644256i","-9.49714698676079E-17-4.74563443693168E-17i","-137.243418225734+13.7142552841632i","26.7674072572451-134.312890902252i","28.80063518886+15.2786423913318i","-18.8680242564426+25.2698565846493i","1.90178941121175E-16+1.39156576523749E-16i","-65.2755886552873+7.0881159913635i","13.7084116756691-64.4627608436648i","34.6067133216159+16.9800834415423i","-23.9082642316584+30.9218259922523i","1.08787743534708E-16+9.60251498658463E-17i","65.2170923248104-7.1133042512094i","-13.6679045326305+64.4138987126564i","34.5900165315934+16.9795085323003i","-23.9063858656908+30.9054176376163i","-4.64704998259644E-17+7.390106865428E-18i","137.202013869053-13.7365272835795i","-26.7348611082531+134.279562567537i","28.7661693689134+15.2781233365864i","-18.8644594083438+25.2357762146856i","-1.38017032130788E-16-5.0543642554587E-17i","0.0000917400218394052-0.00041200086624487i","7.25150574398365+41.5592921033139i","-41.9826520361852-0.393412450429494i","-2.5337102075211E-17+6.11173154304599E-17i","0.000393230911428249+0.000165153640556304i","-42.4233980431775+0.401360906354797i","7.24789138903044-41.5606735237932i","-5.65699886434717E-17-3.49743742048253E-17i","0.113379829120092+0.3121541354852i","7.93883732393652-16.3637074429341i","14.4671493626524+10.0115090529926i","2.45778246282785E-17-1.54387609772132E-17i","-0.3083784707995+0.1053155093404i","16.6592724960755+7.54129017954758i","-9.67524716107691+14.8085227317854i","1.64467277856251E-17+2.37679883309937E-17i","-0.289933720833839+0.949675164931228i","-0.196761698927132-0.130986846531292i","0.154336344619458-0.16870206858905i","-1.2716877037721E-18-1.14101520028775E-18i","1.5142251003723-0.417071578394001i","20.8345276377762+9.82450967276569i","-15.0296483158602+18.8157452453916i","1.76899319977451E-17+3.05585809515602E-17i","-1.5145986809075+0.416459033780704i","48.3539917087943+24.1224639664138i","-32.7717243601294+43.0055173964726i","4.45816628341682E-17+7.27578989771534E-17i","-0.000609534918300625-0.000465049116002092i","57.5615751051793+30.5469600253602i","-37.7223361353518+50.5020851776915i","5.2134668268987E-17+8.8537367941035E-17i","7.24654895475756+41.5630004071816i","-41.9852254041308-0.399350579201674i","-2.53465847972669E-17+6.11176653444638E-17i","-42.4261961438421+0.395766488959253i","7.25425799933434-41.562166960474i","-5.65686350581487E-17-3.49838665803905E-17i","9.6592170382091-20.9204696484571i","18.6859417284706+12.8629868721497i","3.0721436289434E-17-1.9681450060792E-17i","21.0969796075298+9.31533941962914i","-12.5525293377996+18.8932477788523i","2.04925360463391E-17+2.98753866960102E-17i","12.1020040317178-7.92910826678441i","5.11245811951156+14.2257855420348i","2.10329490609973E-17-2.40948194557042E-19i","11.1279178120729+9.5531687563025i","-12.406946772762+9.00867405280196i","5.69210047119285E-18+2.17488101811024E-17i","69.1868247780007+33.9573588631893i","-47.8115258845691+61.8170282987252i","6.22603991733317E-17+1.03328091526343E-16i","57.5639152669686+30.557958043639i","-37.7340880785439+50.5018064394653i","5.21280235380338E-17+8.85532717065642E-17i","0.776477149367402+0.860367135457636i","3.46949158015198E-19+2.82591089673405E-19i","-0.98641397498941+0.6628525030169i","-4.04482493019405E-19+4.56277155792602E-19i","-0.1299442715681-0.989446433643801i","2.78426329036401E-19-3.394359214756E-19i","0.9942298529686-0.167955869918202i","6.267775442499E-19-2.64726059035297E-19i","-0.30121922725646+0.590552108036499i","-1.6129002044537E-18-6.4820791041085E-20i","-0.652660245539799-0.101265055275631i","-8.5376749374324E-19-2.54370737365698E-19i","-0.203501876268088+0.993359859496634i","1.31590152773846E-18+8.47611540325464E-19i","4.3353255923547-0.461274545404699i","2.2808573821923E-18-4.49830854227898E-19i"]
[{"$f":"COMPLEX(定数!O$13,計算!B35*定数!O$23)","v":"74.3688188913563+86.9727608317064i"},{"$f":"COMPLEX(定数!P$13,計算!B35*定数!P$23)","v":"-73.4757772913563+86.9727608317064i"},{"$f":"COMPLEX(定数!Q$13,計算!B35*定数!Q$23)","v":"125.193786513619+124.431635086499i"},{"$f":"COMPLEX(定数!R$13,計算!B35*定数!R$23)","v":"-123.916114913619+124.431635086499i"},{"$f":"COMPLEX(定数!S$13,計算!B35*定数!S$23)","v":"-77.7867441135484-57.1373902927993i"},{"$f":"COMPLEX(定数!T$13,計算!B35*定数!T$23)","v":"77.2000539135484-57.1373902927993i"},{"$f":"COMPLEX(定数!U$13,計算!B35*定数!U$23)","v":"124.646605989444+104.264302311214i"},{"$f":"COMPLEX(定数!V$13,計算!B35*定数!V$23)","v":"-123.576013789444+104.264302311214i"},{"$f":"IMPRODUCT(定数!D$31,計算!G35)","v":"-0.228133524082419-0.275766058782832i"},{"$f":"COMPLEX(定数!O$14,計算!B35*定数!O$24)","v":"86.1948356167649+106.796036418128i"},{"$f":"COMPLEX(定数!P$14,計算!B35*定数!P$24)","v":"-85.0982474167649+106.796036418128i"},{"$f":"COMPLEX(定数!Q$14,計算!B35*定数!Q$24)","v":"57.0863694248256+59.0368336457055i"},{"$f":"COMPLEX(定数!R$14,計算!B35*定数!R$24)","v":"-56.4801756248256+59.0368336457055i"},{"$f":"COMPLEX(定数!S$14,計算!B35*定数!S$24)","v":"163.969671876329+125.327539382811i"},{"$f":"COMPLEX(定数!T$14,計算!B35*定数!T$24)","v":"-162.682801076329+125.327539382811i"},{"$f":"COMPLEX(定数!U$14,計算!B35*定数!U$24)","v":"-101.525845343051-89.9823261569942i"},{"$f":"COMPLEX(定数!V$14,計算!B35*定数!V$24)","v":"100.601901343051-89.9823261569942i"},{"$f":"IMPRODUCT(定数!D$32,計算!G35)","v":"0.228133524082419+0.275766058782832i"},{"$f":"COMPLEX(定数!O$15,計算!B35*定数!O$25)","v":"86.1919999827348+106.794848279005i"},{"$f":"COMPLEX(定数!P$15,計算!B35*定数!P$25)","v":"-85.0954239827348+106.794848279005i"},{"$f":"COMPLEX(定数!Q$15,計算!B35*定数!Q$25)","v":"-57.0828842529623-59.0366193952881i"},{"$f":"COMPLEX(定数!R$15,計算!B35*定数!R$25)","v":"56.4766926529622-59.0366193952881i"},{"$f":"COMPLEX(定数!S$15,計算!B35*定数!S$25)","v":"-163.956966054068-125.316437007538i"},{"$f":"COMPLEX(定数!T$15,計算!B35*定数!T$25)","v":"162.670209254068-125.316437007538i"},{"$f":"COMPLEX(定数!U$15,計算!B35*定数!U$25)","v":"-101.548680976766-90.0000120764496i"},{"$f":"COMPLEX(定数!V$15,計算!B35*定数!V$25)","v":"100.624555376766-90.0000120764496i"},{"$f":"IMPRODUCT(定数!D$33,計算!G35)","v":"0"},{"$f":"COMPLEX(定数!O$16,計算!B35*定数!O$26)","v":"74.3664237452132+86.9710467785574i"},{"$f":"COMPLEX(定数!P$16,計算!B35*定数!P$26)","v":"-73.4733997452132+86.9710467785574i"},{"$f":"COMPLEX(定数!Q$16,計算!B35*定数!Q$26)","v":"-125.201328746793-124.438160174159i"},{"$f":"COMPLEX(定数!R$16,計算!B35*定数!R$26)","v":"123.923590146793-124.438160174159i"},{"$f":"COMPLEX(定数!S$16,計算!B35*定数!S$26)","v":"77.7704269443536+57.1215742586138i"},{"$f":"COMPLEX(定数!T$16,計算!B35*定数!T$26)","v":"-77.1838991443536+57.1215742586138i"},{"$f":"COMPLEX(定数!U$16,計算!B35*定数!U$26)","v":"124.65071095008+104.263562151749i"},{"$f":"COMPLEX(定数!V$16,計算!B35*定数!V$26)","v":"-123.58012635008+104.263562151749i"},{"$f":"IMPRODUCT(定数!D$34,計算!G35)","v":"0"},{"$f":"IMDIV(COMPLEX(定数!O$17,計算!B35*定数!O$27),計算!R35)","v":"0.391686538192601+0.0269799574982695i"},{"$f":"IMPRODUCT(COMPLEX(定数!P$17,計算!B35*定数!P$27),計算!R35)","v":"-0.0335757971709455+0.845075304322514i"},{"$f":"IMDIV(COMPLEX(定数!Q$17,計算!B35*定数!Q$27),計算!S35)","v":"0.208505009584107+0.498173469073732i"},{"$f":"IMPRODUCT(COMPLEX(定数!R$17,計算!B35*定数!R$27),計算!S35)","v":"1.045627142458+0.742298975034873i"},{"$f":"IMDIV(COMPLEX(定数!S$17,計算!B35*定数!S$27),計算!T35)","v":"0.128429027187255-0.209213825835278i"},{"$f":"IMPRODUCT(COMPLEX(定数!T$17,計算!B35*定数!T$27),計算!T35)","v":"-0.668034168435978+0.0210722621378906i"},{"$f":"IMDIV(COMPLEX(定数!U$17,計算!B35*定数!U$27),計算!U35)","v":"-0.101848656958488+0.43133084279878i"},{"$f":"IMPRODUCT(COMPLEX(定数!V$17,計算!B35*定数!V$27),計算!U35)","v":"1.13928265163628+0.166947852824527i"},{"$f":"IMPRODUCT(定数!E$31,計算!G35)","v":"0"},{"$f":"IMDIV(COMPLEX(定数!O$18,計算!B35*定数!O$28),計算!R35)","v":"0.489695189930173+0.013177973996425i"},{"$f":"IMPRODUCT(COMPLEX(定数!P$18,計算!B35*定数!P$28),計算!R35)","v":"-0.0499620208397262+1.01773778823394i"},{"$f":"IMDIV(COMPLEX(定数!Q$18,計算!B35*定数!Q$28),計算!S35)","v":"0.108570869268652+0.23448185955608i"},{"$f":"IMPRODUCT(COMPLEX(定数!R$18,計算!B35*定数!R$28),計算!S35)","v":"0.486454593415644+0.350307685328138i"},{"$f":"IMDIV(COMPLEX(定数!S$18,計算!B35*定数!S$28),計算!T35)","v":"-0.25570329752794+0.469993571925445i"},{"$f":"IMPRODUCT(COMPLEX(定数!T$18,計算!B35*定数!T$28),計算!T35)","v":"1.43929576217599-0.035125556123571i"},{"$f":"IMDIV(COMPLEX(定数!U$18,計算!B35*定数!U$28),計算!U35)","v":"0.0629944173334865-0.378594147928162i"},{"$f":"IMPRODUCT(COMPLEX(定数!V$18,計算!B35*定数!V$28),計算!U35)","v":"-0.958322175912873-0.150425964665879i"},{"$f":"IMPRODUCT(定数!E$32,計算!G35)","v":"0"},{"$f":"IMDIV(COMPLEX(定数!O$19,計算!B35*定数!O$29),計算!R35)","v":"0.489692942943955+0.0131705260087847i"},{"$f":"IMPRODUCT(COMPLEX(定数!P$19,計算!B35*定数!P$29),計算!R35)","v":"-0.0499646660679815+1.01771916410038i"},{"$f":"IMDIV(COMPLEX(定数!Q$19,計算!B35*定数!Q$29),計算!S35)","v":"-0.108584148168475-0.234478349619976i"},{"$f":"IMPRODUCT(COMPLEX(定数!R$19,計算!B35*定数!R$29),計算!S35)","v":"-0.486439155047978-0.350303755036668i"},{"$f":"IMDIV(COMPLEX(定数!S$19,計算!B35*定数!S$29),計算!T35)","v":"0.255687767287205-0.469948903118031i"},{"$f":"IMPRODUCT(COMPLEX(定数!T$19,計算!B35*定数!T$29),計算!T35)","v":"-1.43917538105125+0.0351254779520337i"},{"$f":"IMDIV(COMPLEX(定数!U$19,計算!B35*定数!U$29),計算!U35)","v":"0.063018668353738-0.378665539222636i"},{"$f":"IMPRODUCT(COMPLEX(定数!V$19,計算!B35*定数!V$29),計算!U35)","v":"-0.958522402447829-0.150452509798593i"},{"$f":"IMPRODUCT(定数!E$33,計算!G35)","v":"0"},{"$f":"IMDIV(COMPLEX(定数!O$20,計算!B35*定数!O$30),計算!R35)","v":"0.391680403317611+0.0269758077169846i"},{"$f":"IMPRODUCT(COMPLEX(定数!P$20,計算!B35*定数!P$30),計算!R35)","v":"-0.0335767199168349+0.845055031576628i"},{"$f":"IMDIV(COMPLEX(定数!Q$20,計算!B35*定数!Q$30),計算!S35)","v":"-0.20851186618984-0.498200387448741i"},{"$f":"IMPRODUCT(COMPLEX(定数!R$20,計算!B35*定数!R$30),計算!S35)","v":"-1.04568605146387-0.742338695141486i"},{"$f":"IMDIV(COMPLEX(定数!S$20,計算!B35*定数!S$30),計算!T35)","v":"-0.128413861830437+0.209147214885978i"},{"$f":"IMPRODUCT(COMPLEX(定数!T$20,計算!B35*定数!T$30),計算!T35)","v":"0.667869636556694-0.0210751282680566i"},{"$f":"IMDIV(COMPLEX(定数!U$20,計算!B35*定数!U$30),計算!U35)","v":"-0.101868484905287+0.431322544351137i"},{"$f":"IMPRODUCT(COMPLEX(定数!V$20,計算!B35*定数!V$30),計算!U35)","v":"1.13929511496903+0.166941431198631i"},{"$f":"IMPRODUCT(定数!E$34,計算!G35)","v":"0"},"0.160363282384201+0.981937383372987i","1.53743444135718-0.1248276228462i","0.12269338648988+1.52968211978562i","-0.821253864891612+0.192141355658859i","0.058944733699243-0.837232289651826i","1.40038181070712-0.235727422403987i","-0.00932020810437415+1.41288927413355i","-0.00312716391035091-0.0000509350556161519i","5.9462863741869+5.031942126703i","-88.7636348749804-94.3955745123005i","96.3082754681994-85.9170325869575i","255.277448976666+196.472604480106i","-257.176622804098+191.197575035597i","-247.406279705466-219.21906658808i","252.296229523671-210.770723601486i","0.492239241227253+0.614125108384088i","5.9483978615762+5.03372893653i","-202.928380638765-212.46755483274i","209.263674184357-203.986002232464i","-72.6517460197991-54.1718028315229i","68.1775494204298-59.4487054045798i","-247.424864291891-219.235757095821i","252.317178419663-210.78441415774i","0.264096910170365+0.338355189662293i","0.00107854677629859+0.000912701576595509i","-250.391218919059-248.867458996711i","247.837376972549-248.865921145443i","155.554874694379+114.258017085267i","-154.382376816008+114.25706029213i","0.00786312905900388+0.00109556776099851i","-0.00655665120599735+0.00262794149800527i","0.228126121373233+0.275760576660782i","-0.0698953072318506+0.456137055364239i","-0.397055208408163+0.505586852652979i","1.03884055322233+0.139832818648108i","0.45528707611328-0.262315613906865i","-0.713710518714304+0.347414552924727i","-0.656719276379882+0.485879859103035i","1.1810529442498-0.386210396991769i","0.00122349378077049+0.000104321324998328i","-0.115551203560477+0.534774511618328i","-0.645948356664845+0.275349074944869i","0.446530343412637-0.400387141109768i","0.148992803609557+0.386725336348644i","1.39939778426976+0.374086296805239i","-0.62587222927818-0.281613758128856i","-0.935139096720653-0.842188224652971i","0.00153068590418366+0.0000661523364272185i","-0.115560801912142+0.53475928826828i","-0.863098989793379-0.193599963924418i","-0.526374522414158-1.10099423048111i","0.660380592012144-0.553222823644489i","-1.47906699081373+0.444335888651076i","-0.625843075924372-0.281675249073182i","-0.935349867379839-0.842211664459753i","0.00153067925685311+0.000066128930898697i","-0.069899320994426+0.456123472153996i","-0.814062134206674-0.490781389654684i","-1.05247823583718-1.34479495796895i","0.198438351461191+0.15604319755367i","0.622197122227827+0.305262270811097i","-0.656729534942089+0.485875925775353i","1.18105948722277-0.386208189395419i","0.00122347480738017+0.000104308035471859i","2.33235274550487+16.4061509495846i","-16.3580320798763+1.88945256576821i","-9.3271011359893-40.0636613025633i","40.8978309169437+1.91597475774528i","7.2552782523453+41.5770357553754i","-41.9972557891395+0.965828309469269i","-0.0000176794712199802-0.100530114638101i","-16.5264914360099-1.88945256616277i","2.31295173199041-16.4061509495547i","41.3092070289092-1.91597475675154i","-9.34677448234129+40.0636613023298i","-42.4241713219981-0.965828310486969i","7.24536106949698-41.5770357552058i","0.0991654605094087+0.0193617062630346i","-114.133226377941-118.03846106787i","112.921200276004-118.038461069554i","-328.019842348692-250.714173452157i","325.445493964699-250.71417344729i","0.0692677648069946+0.0611527527770193i","-0.0686398486020039+0.0611527480679968i","-0.228317121989189-0.275987990539742i","-250.375118831333-248.850337378948i","247.819908426077-248.850337378917i","155.508572069125+114.222380575281i","-154.335729715686+114.222380575192i","0.052738069253782+0.0408578668230778i","-0.0523185381145668+0.0408578669087001i","0.228036838245312+0.275649185682758i","-2.41402873457251+7.91186812416489i","-6.28294835884885-2.06190313469286i","2.46865970920615-19.2388933117769i","16.9075143007706+7.41108665801264i","-4.06251984652055+19.7696095756925i","-17.2773569779453-6.59712774818256i","0.0169862857915115-0.0437754274178145i","-3.56603540602339+8.894966943311i","-8.05979666176326-3.53304526199762i","3.89770692911408-21.9257788670109i","21.7443916500224+10.0019073383295i","-6.04453664863876+22.2941491176954i","-22.332267895438-9.52109917408268i","0.0233435212285867-0.0507277399152204i","-3.78331590243071+8.42574818024733i","-9.03242957048711-4.23377461250138i","4.40952038536714-22.8651165526846i","18.8652272581703+10.0723991860657i","-6.04489999425794+22.2934325183808i","-22.3317761808044-9.52141138623204i","0.0233441716561871-0.0507260678497653i","-2.8310763289524+6.91526781523548i","-8.37403501607164-3.54656534439495i","2.21200281499119-18.81998107894i","18.2428402328445+7.36896822272049i","-4.0626872665849+19.7690255093209i","-17.2767566041952-6.59719400567363i","0.0169864018506085-0.0437740160087499i","-0.1386323578676-1.06514764090806i","-21.2751108420286-79.9816799626878i","82.3419851246805+0.71167888149118i","7.25731494053689+41.5861359945376i","-42.0064870065408+0.966758387078884i","-0.00232204446295204-0.136606399769949i","1.07520341965344+0.0965304351865015i","83.1087299286839-3.41201397826407i","-18.6729445396102+80.6246681605153i","-42.4335264725732-0.966154692429106i","7.24679550806428-41.5862378743736i","0.134791085033886+0.026259904672671i","0.0387625318064166+0.994127609188131i","2.48639435460621-0.374789981243067i","-0.280058494151304+2.48632108380265i","-0.000560995055948436+0.0000443888292182447i","0.0000228383966462136-0.000559421294636368i","0.0021749598136592+0.000168742108342532i","10.136090989119+9.70055002275899i","871.306467343797+639.124368485622i","-843.177249005224+667.042666629737i","-0.098767309669915-0.0876320837273102i","0.0926118060668742-0.0935239635020539i","0.730601129452534+0.859137494525615i","1.67603204924445+0.0312654399080401i","5.50559822085103-39.81567133424i","35.9028895779055+15.628923070463i","-4.0635229061426+19.7741552505027i","-17.2817279129086-6.59865890164498i","0.0235717665864249-0.0605760743405731i","0.92116412024675-0.33274244858448i","9.43053273713527-45.3786888022038i","42.861436995003+21.3593274015815i","-6.04614233970233+22.29929744231i","-22.3371624868301-9.52329723700944i","0.0326004604064249-0.0694721952279123i","-0.509509773434891-0.7992791514442i","10.658449684429-45.2327981574937i","38.7547928509976+21.8386396284232i","-6.04664840667729+22.2983272584161i","-22.3364033188905-9.52372028429118i","0.0329945102186499-0.0684133268399134i","-1.38963666976855-1.00016749070234i","6.65940192199482-37.0751229795573i","34.6435494284926+16.3446124802373i","-4.06396852576641+19.7730306085395i","-17.280560495025-6.59893570368807i","0.0243107759663779-0.0583367238189519i","-0.00729552543710099-0.0333210845457046i","0.0339113466800001+0.00124987889155492i","7.25563319539561+41.5761679943958i","-41.99647383088+0.965628413776349i","-8.81261343238992E-06-0.0502947530268079i","0.0342534896334001-0.00124987842138014i","-0.00730835972579769+0.0333210844368921i","-42.4233804535147-0.965628414391901i","7.24571806469394-41.5761679942932i","0.0496120290795637+0.0096865408340593i","-10.4428041791968-75.901297942033i","75.5842982122858+10.0280383987669i","0.000156321036982109+0.0093799196882857i","-0.00930819933132294-0.000354858163869693i","0.00726251168228723-0.0796416256965494i","76.3636573579451-10.0280383971559i","-10.5457726892255+75.90129794179i","-0.0094045129990295+0.000354857218953916i","0.000159965682338067-0.00937991960683483i","0.079960703637459+0.00823539263065488i","-122.795869940489-25.3959009298358i","55.9510300588356-111.25436663693i","-4.04774954618164+19.7738545346669i","-17.2822892878318-6.58294285716202i","-0.110187452216681-0.0768788629022438i","-57.5761744610516-10.7317893021382i","27.3202406887043-52.0672511693822i","-6.03759731581916+22.295841279889i","-22.3341887440596-9.51460356424399i","-0.0437967355230648-0.05045202311655i","57.5816814642639+10.693697525009i","-27.2847064150129+52.0820764997912i","-6.05172372794154+22.2909912304677i","-22.328824640628-9.52837158777006i","0.0671528925790264-0.000306390454291705i","122.806858424587+25.3659946984571i","-55.9252537149896+111.272300375077i","-4.07739229854541+19.764117642976i","-17.2709567101908-6.61181039145811i","0.127190329899136+0.0330815760824186i","0.0000723486359854031-0.00032442567931071i","7.26099427262611+41.5749828190296i","-41.9961945460929+0.970651367407304i","-0.0000157044348986045-0.0502588604424043i","0.00030490156406524+0.000143031210526397i","-42.4231680985965-0.960115282948701i","7.24070140691113-41.5767908610105i","0.0495777721945628+0.00967330208296974i","0.0919864003231083+0.518329590039421i","12.2140393306348-1.69627687036371i","-0.272281259633449+11.2962059300387i","-0.0145171247068577-0.000491447081290092i","-0.5192656847734+0.0721874489193084i","1.6296411849333+12.2887958183805i","-11.3539744238761-0.343606633426626i","0.000530453438419093-0.014147969118131i","-0.257263278350241+0.959216294683864i","-0.000326125446148791-0.160962842599876i","0.145599460329117+0.0234968276099556i","0.000984685269059666+0.000422423762193913i","2.2138981222638+0.399858260787298i","-4.32895505914771+13.0247166630376i","-14.2032918178941-6.59920338773482i","0.0083643125054605-0.0155630440515119i","-2.2134853521879-0.400114953056899i","-7.75423282791272+31.5629898475125i","-30.4614184194098-12.4383550191914i","0.0149703310137578-0.0351601873965337i","-0.000083267161897993-0.000300369981005133i","-8.1203244690886+39.5397311620961i","-34.5555486169402-13.1906571119874i","0.016979424381262-0.043772480391127i","7.25909751519465+41.5742653919146i","-41.9951348786753+0.968594278168369i","-0.0000134572283145195-0.0502575320169318i","-42.4220406773534-0.961833017590081i","7.24250229564983-41.5752896531707i","0.0495759633080167+0.00967523177292041i","15.4239235913499-1.80367568667828i","-0.567430268664947+14.9490574672956i","-0.0186116941775881-0.0010635758669698i","1.61665859937104+15.4872157285346i","-14.9781941090045-0.773737665165588i","0.00125272357777312-0.0182014342255789i","5.57025791363711+2.22204721622466i","-3.27942443237986+6.02911208832638i","-0.00555422670352729-0.0038290576042759i","-0.86457711004021+6.03931356556868i","-6.73420824752396-1.76452319590293i","0.00242919612813579-0.00746844582600416i","-12.0843812606071+44.5849917323706i","-44.6614776181905-19.0385586837518i","0.0233355579120576-0.0507195251412277i","-8.12221048847177+39.5399743455864i","-34.5555793455498-13.1928267928294i","0.0169818699504602-0.0437723726098199i","2.33449030355-0.565195882825671i","0.000309518498359419+0.000748850154453307i","0.0956458160565896+2.4459015175229i","-0.000793874602205695+0.0000298924145408896i","-0.210585235984522-1.3682463343938i","0.0001333254831111-0.000123297044127835i","1.3779027548376-0.213042412477507i","0.00007686029060096+0.000581555422150503i","-0.15936241060554+0.55248458760011i","0.00063975431673923-0.0000646557038633602i","-0.57264849682706+0.01038976728668i","0.00018878158657761-0.00044344170834207i","-0.144868249344254+1.04098080929162i","-0.00119189301423477-0.000200342491029448i","5.4281247338182+0.9903253172586i","-0.000620472946528901+0.0017278227137806i"]
[{"$f":"COMPLEX(定数!O$13,計算!B36*定数!O$23)","v":"74.3688188913563+89.7783337617614i"},{"$f":"COMPLEX(定数!P$13,計算!B36*定数!P$23)","v":"-73.4757772913563+89.7783337617614i"},{"$f":"COMPLEX(定数!Q$13,計算!B36*定数!Q$23)","v":"125.193786513619+128.445558798967i"},{"$f":"COMPLEX(定数!R$13,計算!B36*定数!R$23)","v":"-123.916114913619+128.445558798967i"},{"$f":"COMPLEX(定数!S$13,計算!B36*定数!S$23)","v":"-77.7867441135484-58.9805319151477i"},{"$f":"COMPLEX(定数!T$13,計算!B36*定数!T$23)","v":"77.2000539135484-58.9805319151477i"},{"$f":"COMPLEX(定数!U$13,計算!B36*定数!U$23)","v":"124.646605989444+107.627666901898i"},{"$f":"COMPLEX(定数!V$13,計算!B36*定数!V$23)","v":"-123.576013789444+107.627666901898i"},{"$f":"IMPRODUCT(定数!D$31,計算!G36)","v":"-0.544833242107198-0.299524609517707i"},{"$f":"COMPLEX(定数!O$14,計算!B36*定数!O$24)","v":"86.1948356167649+110.241069850971i"},{"$f":"COMPLEX(定数!P$14,計算!B36*定数!P$24)","v":"-85.0982474167649+110.241069850971i"},{"$f":"COMPLEX(定数!Q$14,計算!B36*定数!Q$24)","v":"57.0863694248256+60.9412476342767i"},{"$f":"COMPLEX(定数!R$14,計算!B36*定数!R$24)","v":"-56.4801756248256+60.9412476342767i"},{"$f":"COMPLEX(定数!S$14,計算!B36*定数!S$24)","v":"163.969671876329+129.37036323387i"},{"$f":"COMPLEX(定数!T$14,計算!B36*定数!T$24)","v":"-162.682801076329+129.37036323387i"},{"$f":"COMPLEX(定数!U$14,計算!B36*定数!U$24)","v":"-101.525845343051-92.8849818394779i"},{"$f":"COMPLEX(定数!V$14,計算!B36*定数!V$24)","v":"100.601901343051-92.8849818394779i"},{"$f":"IMPRODUCT(定数!D$32,計算!G36)","v":"0.544833242107198+0.299524609517707i"},{"$f":"COMPLEX(定数!O$15,計算!B36*定数!O$25)","v":"86.1919999827348+110.23984338478i"},{"$f":"COMPLEX(定数!P$15,計算!B36*定数!P$25)","v":"-85.0954239827348+110.23984338478i"},{"$f":"COMPLEX(定数!Q$15,計算!B36*定数!Q$25)","v":"-57.0828842529623-60.9410264725555i"},{"$f":"COMPLEX(定数!R$15,計算!B36*定数!R$25)","v":"56.4766926529622-60.9410264725555i"},{"$f":"COMPLEX(定数!S$15,計算!B36*定数!S$25)","v":"-163.956966054068-129.358902717459i"},{"$f":"COMPLEX(定数!T$15,計算!B36*定数!T$25)","v":"162.670209254068-129.358902717459i"},{"$f":"COMPLEX(定数!U$15,計算!B36*定数!U$25)","v":"-101.548680976766-92.9032382724641i"},{"$f":"COMPLEX(定数!V$15,計算!B36*定数!V$25)","v":"100.624555376766-92.9032382724641i"},{"$f":"IMPRODUCT(定数!D$33,計算!G36)","v":"0"},{"$f":"COMPLEX(定数!O$16,計算!B36*定数!O$26)","v":"74.3664237452132+89.7765644165754i"},{"$f":"COMPLEX(定数!P$16,計算!B36*定数!P$26)","v":"-73.4733997452132+89.7765644165754i"},{"$f":"COMPLEX(定数!Q$16,計算!B36*定数!Q$26)","v":"-125.201328746793-128.452294373326i"},{"$f":"COMPLEX(定数!R$16,計算!B36*定数!R$26)","v":"123.923590146793-128.452294373326i"},{"$f":"COMPLEX(定数!S$16,計算!B36*定数!S$26)","v":"77.7704269443536+58.9642056863111i"},{"$f":"COMPLEX(定数!T$16,計算!B36*定数!T$26)","v":"-77.1838991443536+58.9642056863111i"},{"$f":"COMPLEX(定数!U$16,計算!B36*定数!U$26)","v":"124.65071095008+107.626902866321i"},{"$f":"COMPLEX(定数!V$16,計算!B36*定数!V$26)","v":"-123.58012635008+107.626902866321i"},{"$f":"IMPRODUCT(定数!D$34,計算!G36)","v":"0"},{"$f":"IMDIV(COMPLEX(定数!O$17,計算!B36*定数!O$27),計算!R36)","v":"0.340730998151147-0.216807812917661i"},{"$f":"IMPRODUCT(COMPLEX(定数!P$17,計算!B36*定数!P$27),計算!R36)","v":"-0.546759638973162+0.652142990345443i"},{"$f":"IMDIV(COMPLEX(定数!Q$17,計算!B36*定数!Q$27),計算!S36)","v":"0.469826804587154+0.298743858648653i"},{"$f":"IMPRODUCT(COMPLEX(定数!R$17,計算!B36*定数!R$27),計算!S36)","v":"0.414354983973797+1.22106011797823i"},{"$f":"IMDIV(COMPLEX(定数!S$17,計算!B36*定数!S$27),計算!T36)","v":"-0.0124095330890191-0.252935192773285i"},{"$f":"IMPRODUCT(COMPLEX(定数!T$17,計算!B36*定数!T$27),計算!T36)","v":"-0.563536737020292-0.364699608949511i"},{"$f":"IMDIV(COMPLEX(定数!U$17,計算!B36*定数!U$27),計算!U36)","v":"0.164396494073852+0.426926033968444i"},{"$f":"IMPRODUCT(COMPLEX(定数!V$17,計算!B36*定数!V$27),計算!U36)","v":"0.841116308516631+0.79450141743078i"},{"$f":"IMPRODUCT(定数!E$31,計算!G36)","v":"0"},{"$f":"IMDIV(COMPLEX(定数!O$18,計算!B36*定数!O$28),計算!R36)","v":"0.413367591570958-0.287415386747968i"},{"$f":"IMPRODUCT(COMPLEX(定数!P$18,計算!B36*定数!P$28),計算!R36)","v":"-0.666355331881667+0.779591119151468i"},{"$f":"IMDIV(COMPLEX(定数!Q$18,計算!B36*定数!Q$28),計算!S36)","v":"0.229710297248606+0.134646272245347i"},{"$f":"IMPRODUCT(COMPLEX(定数!R$18,計算!B36*定数!R$28),計算!S36)","v":"0.189791488889992+0.572241032937207i"},{"$f":"IMDIV(COMPLEX(定数!S$18,計算!B36*定数!S$28),計算!T36)","v":"0.0549688029492962+0.549413776414142i"},{"$f":"IMPRODUCT(COMPLEX(定数!T$18,計算!B36*定数!T$28),計算!T36)","v":"1.20833581228475+0.794562517020741i"},{"$f":"IMDIV(COMPLEX(定数!U$18,計算!B36*定数!U$28),計算!U36)","v":"-0.166014591902057-0.359622816767256i"},{"$f":"IMPRODUCT(COMPLEX(定数!V$18,計算!B36*定数!V$28),計算!U36)","v":"-0.701764494174468-0.676848245924803i"},{"$f":"IMPRODUCT(定数!E$32,計算!G36)","v":"0"},{"$f":"IMDIV(COMPLEX(定数!O$19,計算!B36*定数!O$29),計算!R36)","v":"0.413361158041751-0.287419947423715i"},{"$f":"IMPRODUCT(COMPLEX(定数!P$19,計算!B36*定数!P$29),計算!R36)","v":"-0.666346083758584+0.779574687584376i"},{"$f":"IMDIV(COMPLEX(定数!Q$19,計算!B36*定数!Q$29),計算!S36)","v":"-0.229719104742253-0.134635730379089i"},{"$f":"IMPRODUCT(COMPLEX(定数!R$19,計算!B36*定数!R$29),計算!S36)","v":"-0.189781158939452-0.572228902950989i"},{"$f":"IMDIV(COMPLEX(定数!S$19,計算!B36*定数!S$29),計算!T36)","v":"-0.0549563353574771-0.549366585581697i"},{"$f":"IMPRODUCT(COMPLEX(定数!T$19,計算!B36*定数!T$29),計算!T36)","v":"-1.20823636753374-0.794493609201298i"},{"$f":"IMDIV(COMPLEX(定数!U$19,計算!B36*定数!U$29),計算!U36)","v":"-0.166035719813847-0.359697709091276i"},{"$f":"IMPRODUCT(COMPLEX(定数!V$19,計算!B36*定数!V$29),計算!U36)","v":"-0.701913927121379-0.676985488497253i"},{"$f":"IMPRODUCT(定数!E$33,計算!G36)","v":"0"},{"$f":"IMDIV(COMPLEX(定数!O$20,計算!B36*定数!O$30),計算!R36)","v":"0.340723372453561-0.216807383480256i"},{"$f":"IMPRODUCT(COMPLEX(定数!P$20,計算!B36*定数!P$30),計算!R36)","v":"-0.546747952877854+0.652126294562548i"},{"$f":"IMDIV(COMPLEX(定数!Q$20,計算!B36*定数!Q$30),計算!S36)","v":"-0.469848567957857-0.298762523773631i"},{"$f":"IMPRODUCT(COMPLEX(定数!R$20,計算!B36*定数!R$30),計算!S36)","v":"-0.414379586335759-1.22112714857473i"},{"$f":"IMDIV(COMPLEX(定数!S$20,計算!B36*定数!S$30),計算!T36)","v":"0.0123843407311441+0.252869401044736i"},{"$f":"IMPRODUCT(COMPLEX(定数!T$20,計算!B36*定数!T$30),計算!T36)","v":"0.563402503374007+0.364602880039487i"},{"$f":"IMDIV(COMPLEX(定数!U$20,計算!B36*定数!U$30),計算!U36)","v":"0.164375408879302+0.42693028539947i"},{"$f":"IMPRODUCT(COMPLEX(定数!V$20,計算!B36*定数!V$30),計算!U36)","v":"0.841130255701675+0.794503059490175i"},{"$f":"IMPRODUCT(定数!E$34,計算!G36)","v":"0"},"0.190998983539424+0.976629242633347i","1.53353991425781-0.124152831763302i","0.170418307730039+1.52141298967995i","-0.815259200413817+0.191102681121141i","0.0328237216493999-0.832706393295811i","1.39302729402495-0.234453131033173i","0.0347608649871595+1.40525150084614i","-0.00495990491463972+0.00196006056716279i","6.10327914972899+5.00474053783i","-88.7835923949884-97.4165002474773i","96.5528420217784-88.9837914827493i","255.308168659237+202.773345508177i","-257.310480036903+197.526831729911i","-247.443967956205-226.245151975151i","252.522123162547-217.842478900253i","1.18843060479608+0.677362735281179i","6.1054463842293+5.00651768855001i","-202.948345245558-219.297245571446i","209.508327581924-210.861542406841i","-72.6210154288698-55.9563784337328i","68.0436446557944-61.2047552148188i","-247.462565925482-226.262364730535i","252.543152271898-217.856707921236i","0.643580894265702+0.377837600622229i","0.00110702237290639+0.000907767709790619i","-250.391222538986-256.895437175004i","247.837421332415-256.893907637026i","155.554880266364+117.943752845367i","-154.382401095243+117.942801224446i","0.00785629310499303+0.00113916104700706i","-0.00651567826299981+0.00266325110500532i","0.544817894386342+0.299520528365331i","-0.823579763407172+0.360785205570063i","-0.025780477180398+0.673530011770828i","0.026433961040682+0.739615571984539i","0.223941993683311-0.494804364263772i","-0.394183544527909-0.073854289092363i","-0.25941981570006+0.808830684277196i","0.524602699795247+0.323225098007069i","0.00126503690754726-0.00174319953030868i","-1.0260063931807+0.430780287988805i","-0.368521969528974+0.626729996847912i","-0.317931419368218-0.00768094656640106i","0.337044684127414+0.236100082989567i","1.43410017959676+1.14821039595554i","-0.674461492095588+0.137669987806853i","-1.12002441280899-1.24774286692707i","0.00148691238302504-0.00223577850525561i","-1.02600037034938+0.430771010678902i","-0.827940939225195+0.3574541894609i","-0.697509909477825-1.15214031717705i","0.227113429269401-0.862682767674455i","-0.982467991345503-0.440850937809051i","-0.674472588660887+0.137599940267562i","-1.1201800310173-1.24787091023991i","0.00148687153413122-0.00223578851566676i","-0.823566201410249+0.360775875244318i","-0.965444208729657+0.076022024037193i","-0.80229865635875-1.70256016591705i","0.248729732649997+0.011002036948298i","0.732755588574892+0.655441835833768i","-0.259430378772681+0.80883254962152i","0.524617515523693+0.323237441161827i","0.00126499992653565-0.00174318245351085i","2.33464533420126+16.4744293190225i","-16.3603246685707+2.41135495490111i","-9.33373088309531-40.0230477296385i","40.9044606640453+0.644790651093749i","7.26169188667662+41.6286927646955i","-42.0036694234656+2.28652175387935i","-0.0660239711572883-0.159333867423148i","-16.5241988473132-2.41135495528145i","2.3106591432937-16.4744293189938i","41.3025772818016-0.644790650135484i","-9.3401447352339+40.0230477294132i","-42.4177576876655-2.28652175486044i","7.23894743516454-41.6286927645319i","0.170847273153709-0.0291127988889046i","-114.133226377933-121.846153360438i","112.921200276006-121.846153362059i","-328.019842348712-258.801727434322i","325.445493964695-258.801727429636i","0.0692677648270035+0.0631254220649851i","-0.0686398485959785+0.0631254175330014i","-0.545271714466548-0.299765661751293i","-250.375118831333-256.877767616976i","247.819908426074-256.877767616948i","155.508572069123+117.906973497055i","-154.335729715679+117.906973496973i","0.0527380692569646+0.0421758625363603i","-0.0523185381224567+0.0421758626156745i","0.544602334973838+0.299397667247164i","-14.5047574475873+4.64927334621791i","-4.01428429691353-13.6620426628362i","34.0072778922771-15.9271997305377i","6.3531857668362+36.2581039290872i","-36.0187698777382+14.2293970655494i","-8.53256316089962-36.5730289784627i","0.131467926578386-0.0873590801171989i","-18.3612198111409+5.27096353473104i","-5.04403977237481-17.9059371630496i","42.4359899281379-18.2177953824469i","9.09219199508003+46.2356634798109i","-45.1803405640816+16.0644179217052i","-11.6256383221337-47.077443643948i","0.164236087006697-0.105703333819913i","-18.8205168874875+5.00154895041457i","-5.4234793408084-19.0502758742504i","42.3258158967466-19.3161911728365i","6.67530877203696+44.6462744425637i","-45.1800749728765+16.0639681228173i","-11.6254513370177-47.0772538067075i","0.164235287261953-0.105701583485748i","-15.4441745792754+4.05164388511484i","-4.84289453967314-16.1039734153754i","34.0315115019246-15.4209992181767i","7.47987814288053+36.9867701149703i","-36.0181838373187+14.2290341691981i","-8.53225811049019-36.5723845253672i","0.131465844199079-0.0873570741520009i","-0.172382902367001-1.06347589402538i","-21.2756145998997-79.9157021579074i","82.2708025881654-1.83486500168355i","7.26372846034734+41.6378081970111i","-42.0128830410383+2.28774153002631i","-0.0933434543227424-0.215006637652707i","1.07826210806697+0.0963789308801992i","83.0943489466173-0.861231925199723i","-18.6520668908546+80.557681187198i","-42.4271113091934-2.28713878281587i","7.24037876005215-41.6379099169576i","0.232183612515617-0.0396738423088023i","0.0702627171543878+0.992567328089197i","2.47451866202121-0.374201749192271i","-0.201276279220308+2.48241880832444i","-0.000559588539387148+0.000044319161776564i","5.11242758542538E-06-0.000558543284823364i","0.00354319030910638-0.00115617907444711i","10.443465133917+9.68532503080598i","871.190586093913+659.864995902702i","-842.408503816168+687.739476339977i","-0.0987535851285644-0.0904735768491427i","0.0924388386646393-0.0963562097091705i","1.72872572926781+0.920086010937518i","1.61957619583113+0.408235103398701i","68.1598046657953-32.8596189990885i","14.9751657564856+73.2007750673668i","-36.0266805218749+14.2326415843223i","-8.53508582678436-36.5811542824064i","0.177485650048334-0.120602437422736i","1.4778556139485-0.0515424946189i","85.8987672336546-38.1316935866048i","18.481253006156+92.876820810943i","-45.1903816875715+16.068181246362i","-11.6284885130139-47.0877261273941i","0.223199205363874-0.14560821886279i","0.86327539197683-0.7210681332161i","87.0259477978039-38.7352877296504i","15.303124345185+92.3733727095281i","-45.190385053975+16.0676010418218i","-11.628148700068-47.0877914500887i","0.225137274073779-0.14518291105297i","0.26378447589084-1.059269826991i","70.732277488941-31.2261047661532i","14.4292091329769+76.1411793755314i","-36.0266466549528+14.2319858955536i","-8.53444217175056-36.5810314791041i","0.181503068023433-0.119569050972356i","-0.00730098514129907-0.0332982179169079i","0.033916806400498+0.000192457242150113i","7.26204672424507+41.6278182183121i","-42.0028873597256+2.28629420304016i","-0.0330314368973781-0.07971401903387i","0.0342480299153038-0.000192456764538051i","-0.00730290001189715+0.033298217807797i","-42.4169669246624-2.28629420363461i","7.23930453584359-41.6278182182131i","0.08547409254919-0.0145650529082033i","-10.4563748011049-75.6211914845855i","75.5978688341926+7.62298808503551i","0.000157858446669483+0.00937338695381052i","-0.0093097367393312-0.000057194380870924i","-0.0407016005114896-0.130615053489057i","76.3500867360446-7.62298808348288i","-10.5322020673185+75.6211914843512i","-0.00940297559333978+0.000057193471843841i","0.000158428272219424-0.0093733868753741i","0.132917738329908-0.0351670142464975i","-58.6069496900127-51.6823945111642i","62.9040944391451-44.9738919611082i","-36.0114283380511+14.2363875798503i","-8.53916895900306-36.5660380441308i","-0.052141164651638-0.117908464921286i","-26.5427292523914-22.930743917622i","30.1486221034257-19.42323752606i","-45.1764883951973+16.0676120698496i","-11.6282395193828-47.0738654491903i","0.028578575222245-0.0867855376201711i","26.6114905301656+22.8990648098i","-30.1327161619698+19.4970237057838i","-45.1823089369239+16.0607714820472i","-11.6215266167207-47.0795853982812i","0.13575047472986-0.018981347595817i","58.6671111433987+51.6600643178083i","-62.895805885201+45.0370391519082i","-36.0242268792831+14.2220105204736i","-8.52455501677552-36.5783911068714i","0.18369278917816+0.030503211134059i","0.000184152036313195-0.000197533653269551i","7.27839051444059+41.6320922937033i","-42.0093094345477+2.30136435117909i","-0.0330434854398658-0.0796590809530349i","0.00015253360333383+0.000235787713981798i","-42.4245930096561-2.27113161270253i","7.22584370900022-41.6372878047307i","0.0854226389004434-0.014588409352238i","0.35645139820879+0.83263160450687i","35.738446025299+12.4196047552568i","-16.9915493017896+32.5178121831084i","-0.0772415645002705-0.010077387402564i","-0.84747566354242+0.309174932075294i","-13.8345844283734+35.4221804848408i","-32.0133889097643-18.3039513420568i","0.013243990792039-0.0764560461236586i","-0.223107332856826+0.964128204163769i","0.225153028353496-0.441463603778172i","0.391473295355404+0.278700066107872i","0.00149850302970435+0.000690400035796884i","2.1185676197476+1.0513392457697i","-29.0772236760666+9.51288959543169i","-7.6282696769668-30.6996311654831i","0.0525215490020004-0.0340986471602419i","-2.1178632543376-1.0509155945558i","-61.2830702928753+22.6529822050134i","-15.6572436325841-63.4605819299167i","0.111682590709859-0.0716682396053333i","0.000181846130999475+0.000161806905303763i","-72.0393427831223+28.489984903002i","-17.0934990045535-73.152454477659i","0.131446055640059-0.087413327394401i","7.27829804298009+41.628600156249i","-42.0057012381449+2.3015310303673i","-0.0330414673764962-0.0796522213940558i","-42.4210477555052-2.27033968520834i","7.22476100997881-41.6336911946754i","0.0854152095097234-0.01458811289553i","46.5770626137501+16.8682093358105i","-22.3924603286616+43.3612964247737i","-0.101020301756714-0.0131818771557229i","-18.8488317794041+45.9592839018538i","-42.5034942456667-24.2655552973082i","0.0176258829084884-0.0999355776062959i","6.90982357563369+10.4756816236333i","-11.3684029469463+6.35305729430498i","-0.017462141255802-0.017393089545375i","-9.22489881185027+9.06810222884127i","-8.65924630415056-10.193597544796i","0.013483378807608-0.02278626937195i","-90.3499545567911+32.1633926824805i","-23.2837325659514-94.1493645776776i","0.164184989055538-0.105756549155406i","-72.0361979894059+28.4898285560247i","-17.0935737485884-73.1491996855378i","0.13143991676406-0.0874113655032737i","0.615508647218597-0.83818962951287i","0.000734680944758502-0.000499784260686004i","0.67631476682897+0.825172717365298i","0.000254138062275297+0.000624722023181801i","-0.7368699462486-1.8123673230572i","-0.000835323535148008-0.0013836847380715i","1.8494383698817-0.679017168359699i","0.0016137170128084-0.0000549922325128044i","-0.132502591360401+0.45284632355692i","0.0011059141893126+0.000165328082029299i","-0.46150247488087+0.000611767885699166i","-0.0005921714008416-0.000520377915357601i","-0.100513067942886+1.00627082492402i","-0.00198264758764364+0.000464724929293227i","4.3343302715701+2.2023247629846i","0.00185745615861899+0.0025509413728891i"]
[{"$f":"COMPLEX(定数!O$13,計算!B37*定数!O$23)","v":"74.3688188913563+92.5839066918165i"},{"$f":"COMPLEX(定数!P$13,計算!B37*定数!P$23)","v":"-73.4757772913563+92.5839066918165i"},{"$f":"COMPLEX(定数!Q$13,計算!B37*定数!Q$23)","v":"125.193786513619+132.459482511435i"},{"$f":"COMPLEX(定数!R$13,計算!B37*定数!R$23)","v":"-123.916114913619+132.459482511435i"},{"$f":"COMPLEX(定数!S$13,計算!B37*定数!S$23)","v":"-77.7867441135484-60.8236735374961i"},{"$f":"COMPLEX(定数!T$13,計算!B37*定数!T$23)","v":"77.2000539135484-60.8236735374961i"},{"$f":"COMPLEX(定数!U$13,計算!B37*定数!U$23)","v":"124.646605989444+110.991031492583i"},{"$f":"COMPLEX(定数!V$13,計算!B37*定数!V$23)","v":"-123.576013789444+110.991031492583i"},{"$f":"IMPRODUCT(定数!D$31,計算!G37)","v":"-0.773162785702069-0.0976731741553894i"},{"$f":"COMPLEX(定数!O$14,計算!B37*定数!O$24)","v":"86.1948356167649+113.686103283814i"},{"$f":"COMPLEX(定数!P$14,計算!B37*定数!P$24)","v":"-85.0982474167649+113.686103283814i"},{"$f":"COMPLEX(定数!Q$14,計算!B37*定数!Q$24)","v":"57.0863694248256+62.8456616228478i"},{"$f":"COMPLEX(定数!R$14,計算!B37*定数!R$24)","v":"-56.4801756248256+62.8456616228478i"},{"$f":"COMPLEX(定数!S$14,計算!B37*定数!S$24)","v":"163.969671876329+133.413187084928i"},{"$f":"COMPLEX(定数!T$14,計算!B37*定数!T$24)","v":"-162.682801076329+133.413187084928i"},{"$f":"COMPLEX(定数!U$14,計算!B37*定数!U$24)","v":"-101.525845343051-95.7876375219616i"},{"$f":"COMPLEX(定数!V$14,計算!B37*定数!V$24)","v":"100.601901343051-95.7876375219616i"},{"$f":"IMPRODUCT(定数!D$32,計算!G37)","v":"0.773162785702069+0.0976731741553894i"},{"$f":"COMPLEX(定数!O$15,計算!B37*定数!O$25)","v":"86.1919999827348+113.684838490554i"},{"$f":"COMPLEX(定数!P$15,計算!B37*定数!P$25)","v":"-85.0954239827348+113.684838490554i"},{"$f":"COMPLEX(定数!Q$15,計算!B37*定数!Q$25)","v":"-57.0828842529623-62.8454335498229i"},{"$f":"COMPLEX(定数!R$15,計算!B37*定数!R$25)","v":"56.4766926529622-62.8454335498229i"},{"$f":"COMPLEX(定数!S$15,計算!B37*定数!S$25)","v":"-163.956966054068-133.40136842738i"},{"$f":"COMPLEX(定数!T$15,計算!B37*定数!T$25)","v":"162.670209254068-133.40136842738i"},{"$f":"COMPLEX(定数!U$15,計算!B37*定数!U$25)","v":"-101.548680976766-95.8064644684786i"},{"$f":"COMPLEX(定数!V$15,計算!B37*定数!V$25)","v":"100.624555376766-95.8064644684786i"},{"$f":"IMPRODUCT(定数!D$33,計算!G37)","v":"0"},{"$f":"COMPLEX(定数!O$16,計算!B37*定数!O$26)","v":"74.3664237452132+92.5820820545934i"},{"$f":"COMPLEX(定数!P$16,計算!B37*定数!P$26)","v":"-73.4733997452132+92.5820820545934i"},{"$f":"COMPLEX(定数!Q$16,計算!B37*定数!Q$26)","v":"-125.201328746793-132.466428572492i"},{"$f":"COMPLEX(定数!R$16,計算!B37*定数!R$26)","v":"123.923590146793-132.466428572492i"},{"$f":"COMPLEX(定数!S$16,計算!B37*定数!S$26)","v":"77.7704269443536+60.8068371140083i"},{"$f":"COMPLEX(定数!T$16,計算!B37*定数!T$26)","v":"-77.1838991443536+60.8068371140083i"},{"$f":"COMPLEX(定数!U$16,計算!B37*定数!U$26)","v":"124.65071095008+110.990243580894i"},{"$f":"COMPLEX(定数!V$16,計算!B37*定数!V$26)","v":"-123.58012635008+110.990243580894i"},{"$f":"IMPRODUCT(定数!D$34,計算!G37)","v":"0"},{"$f":"IMDIV(COMPLEX(定数!O$17,計算!B37*定数!O$27),計算!R37)","v":"0.149391714357133-0.387332781448833i"},{"$f":"IMPRODUCT(COMPLEX(定数!P$17,計算!B37*定数!P$27),計算!R37)","v":"-0.836675474958057+0.182899041360813i"},{"$f":"IMDIV(COMPLEX(定数!Q$17,計算!B37*定数!Q$27),計算!S37)","v":"0.572992483551997-0.0240985313843017i"},{"$f":"IMPRODUCT(COMPLEX(定数!R$17,計算!B37*定数!R$27),計算!S37)","v":"-0.382009352153037+1.23921859466426i"},{"$f":"IMDIV(COMPLEX(定数!S$17,計算!B37*定数!S$27),計算!T37)","v":"-0.157603368648776-0.208038163707141i"},{"$f":"IMPRODUCT(COMPLEX(定数!T$17,計算!B37*定数!T$27),計算!T37)","v":"-0.25670480580083-0.623434513426629i"},{"$f":"IMDIV(COMPLEX(定数!U$17,計算!B37*定数!U$27),計算!U37)","v":"0.388374165727216+0.267841012552985i"},{"$f":"IMPRODUCT(COMPLEX(定数!V$17,計算!B37*定数!V$27),計算!U37)","v":"0.233962008318842+1.13896978901176i"},{"$f":"IMPRODUCT(定数!E$31,計算!G37)","v":"0"},{"$f":"IMDIV(COMPLEX(定数!O$18,計算!B37*定数!O$28),計算!R37)","v":"0.166680622672466-0.48952222962205i"},{"$f":"IMPRODUCT(COMPLEX(定数!P$18,計算!B37*定数!P$28),計算!R37)","v":"-1.01061360622732+0.210679740988892i"},{"$f":"IMDIV(COMPLEX(定数!Q$18,計算!B37*定数!Q$28),計算!S37)","v":"0.273326213915442-0.0211494948847224i"},{"$f":"IMPRODUCT(COMPLEX(定数!R$18,計算!B37*定数!R$28),計算!S37)","v":"-0.182713892127405+0.578233796756462i"},{"$f":"IMDIV(COMPLEX(定数!S$18,計算!B37*定数!S$28),計算!T37)","v":"0.36565526445047+0.436305706932265i"},{"$f":"IMPRODUCT(COMPLEX(定数!T$18,計算!B37*定数!T$28),計算!T37)","v":"0.543105597586267+1.34745341807624i"},{"$f":"IMDIV(COMPLEX(定数!U$18,計算!B37*定数!U$28),計算!U37)","v":"-0.350114127289532-0.210241457528278i"},{"$f":"IMPRODUCT(COMPLEX(定数!V$18,計算!B37*定数!V$28),計算!U37)","v":"-0.186975320954914-0.962044250633275i"},{"$f":"IMPRODUCT(定数!E$32,計算!G37)","v":"0"},{"$f":"IMDIV(COMPLEX(定数!O$19,計算!B37*定数!O$29),計算!R37)","v":"0.166672635945544-0.489521877741336i"},{"$f":"IMPRODUCT(COMPLEX(定数!P$19,計算!B37*定数!P$29),計算!R37)","v":"-1.01059623039481+0.210672302831339i"},{"$f":"IMDIV(COMPLEX(定数!Q$19,計算!B37*定数!Q$29),計算!S37)","v":"-0.273327306702249+0.0211631903028686i"},{"$f":"IMPRODUCT(COMPLEX(定数!R$19,計算!B37*定数!R$29),計算!S37)","v":"0.182715313764669-0.57821792605503i"},{"$f":"IMDIV(COMPLEX(定数!S$19,計算!B37*定数!S$29),計算!T37)","v":"-0.36561740975107-0.4362725407664i"},{"$f":"IMPRODUCT(COMPLEX(定数!T$19,計算!B37*定数!T$29),計算!T37)","v":"-0.543062947903814-1.34733953608476i"},{"$f":"IMDIV(COMPLEX(定数!U$19,計算!B37*定数!U$29),計算!U37)","v":"-0.350175825370409-0.210292748609149i"},{"$f":"IMPRODUCT(COMPLEX(定数!V$19,計算!B37*定数!V$29),計算!U37)","v":"-0.187019187111482-0.962243307582238i"},{"$f":"IMPRODUCT(定数!E$33,計算!G37)","v":"0"},{"$f":"IMDIV(COMPLEX(定数!O$20,計算!B37*定数!O$30),計算!R37)","v":"0.149385730831893-0.387327670496618i"},{"$f":"IMPRODUCT(COMPLEX(定数!P$20,計算!B37*定数!P$30),計算!R37)","v":"-0.836655946493604+0.182892914225036i"},{"$f":"IMDIV(COMPLEX(定数!Q$20,計算!B37*定数!Q$30),計算!S37)","v":"-0.573021910826067+0.0240956876920157i"},{"$f":"IMPRODUCT(COMPLEX(定数!R$20,計算!B37*定数!R$30),計算!S37)","v":"0.382028764435927-1.23928768562028i"},{"$f":"IMDIV(COMPLEX(定数!S$20,計算!B37*定数!S$30),計算!T37)","v":"0.157544092008674+0.20799626992031i"},{"$f":"IMPRODUCT(COMPLEX(定数!T$20,計算!B37*定数!T$30),計算!T37)","v":"0.256649399005737+0.623277634989987i"},{"$f":"IMDIV(COMPLEX(定数!U$20,計算!B37*定数!U$30),計算!U37)","v":"0.388359081368001+0.267856368046241i"},{"$f":"IMPRODUCT(COMPLEX(定数!V$20,計算!B37*定数!V$30),計算!U37)","v":"0.233972674791468+1.13897896047089i"},{"$f":"IMPRODUCT(定数!E$34,計算!G37)","v":"0"},"0.220349071677482+0.970610127686051i","1.52980881918532-0.123387658929237i","0.216140474743072+1.51203628942623i","-0.809516099255797+0.189924886156387i","0.00779886577834571-0.827574296815594i","1.38598140623082-0.233008160635154i","0.0769920962523293+1.39659072156142i","-0.0047184656975449+0.00456079333746238i","6.2536837961201+4.97389555872901i","-88.8027124069074-100.436962821001i","96.7871454531514-92.0562261262832i","255.337599204549+209.07337361305i","-257.438720012898+203.859194899234i","-247.480074636949-233.270362716853i","252.738537279439-224.919476597427i","1.69836898328417+0.240980320783006i","6.2559044383287+4.975661756598i","-202.967472046869-226.126472984033i","209.742714212916-217.742760344381i","-72.5915744329631-57.7416672122936i","67.9153591426209-62.9576974469593i","-247.498685427472-233.288097409298i","252.759643236031-224.934245944684i","0.92518704927953+0.143314111484797i","0.00113430300419282+0.000902172998905826i","-250.391226007004-264.923415269286i","247.83746383074-264.921895158085i","155.554885604522+121.629488476156i","-154.382424355612+121.62854272022i","0.00784974401899774+0.00118291297800965i","-0.00647642472999621+0.0026976098360052i","0.773143162493862+0.0976754884338138i","-1.245542920992+0.123246349235905i","0.392243806544762+0.586879667533655i","-0.999960169851903+1.09705119248258i","-0.11023250520256-0.549963490401484i","0.062676762511648-0.496781014093376i","0.271571726342374+0.839486534241221i","-0.31848534166026+0.960152269653425i","-0.00106164508932105-0.00250896117831307i","-1.52247676049844+0.156763609396689i","0.078737729270688+0.748292260998775i","-0.958915696711682+0.43201221363933i","0.407613458205823+0.00837278282407899i","0.946921692737263+1.48921173534153i","-0.467067696778292+0.507065195966971i","-0.883470615387325-1.157139519101i","-0.00144613292287452-0.003069989722026i","-1.52245728325908+0.156763845700585i","-0.467903616599459+0.790603422412609i","-0.59348423250825-0.724427509006887i","-0.323665614548836-0.864203663143282i","-0.139247081672841-1.20558783117366i","-0.467118407395236+0.507011556213423i","-0.883513375195704-1.15732744895329i","-0.00144616900311632-0.00306995163587799i","-1.24551711332134+0.12324490357675i","-0.753762064812049+0.635065329537028i","-0.235913032035731-1.38144714517829i","0.204911082391896-0.133923782955583i","0.57602678429024+0.749926142651917i","0.271563744144311+0.839493411839529i","-0.318467076595041+0.960169404145463i","-0.00106165001238284-0.00250890977283831i","2.33673268675332+16.5564528810477i","-16.3624120211224+2.91951215144684i","-9.33976712481835-40.0221827391479i","40.9104969057672-0.586644873123374i","7.26753136237984+41.7188026544698i","-42.009508899168+3.56876231783547i","-0.151018115872954-0.151167378600762i","-16.5221114947611-2.91951215181534i","2.30857179074158-16.5564528810199i","41.2965410400783+0.586644874051757i","-9.33410849351073+40.0221827389296i","-42.4119182119621-3.56876231878608i","7.23310795946104-41.7188026543111i","0.185121489700301-0.108703071153738i","-114.133226377942-125.653845653006i","112.921200276008-125.653845654582i","-328.019842348689-266.889281416495i","325.445493964685-266.889281411933i","0.0692677648040103+0.0650980913580099i","-0.0686398485869972+0.0650980869449995i","-0.77378501373101-0.097751779850811i","-250.375118831333-264.905197855006i","247.819908426075-264.905197854979i","155.508572069123+121.591566418838i","-154.335729715682+121.591566418757i","0.0527380692568851+0.0434938582400932i","-0.052318538119464+0.0434938583189211i","0.772835109656261+0.0976317790444636i","-20.5465744198565-1.01320810251218i","-0.165057292173888-19.8092445353672i","51.3986836877474-4.90892003965044i","-6.63076808432661+50.5029601742256i","-52.9941296953397+1.62155397509034i","3.5489709523803-51.8938611983188i","0.216117859259953-0.160718849714615i","-25.5334663184633-1.10653130935959i","-0.039618107800249-25.136702580469i","63.3726020485855-5.57226885880776i","-6.99001974651546+63.8853033977267i","-65.597679604823+1.72235288221699i","3.58877807527043-65.8069351469913i","0.26335634722812-0.197588202250712i","-26.0797865491053-1.06415937966945i","0.325764479443516-26.292820374644i","62.6405187718428-6.44486648953129i","-8.07599726086251+61.1897265152647i","-65.5969050916696+1.72237877420285i","3.5885845761714-65.8063122189501i","0.263352679805354-0.197586090673757i","-21.6921496733818-0.964970980042442i","0.598954201769496-22.2873122521369i","51.7127606597228-4.49283577141962i","-6.117235029385+51.7486209577203i","-52.9930379655066+1.62159164095339i","3.54886285894645-51.8927569420987i","0.216113233930043-0.160715725313504i","-0.204962227896299-1.06084162980984i","-21.2753757344329-79.9293946358394i","82.2013651021973-4.29969421138789i","7.26956774916577+41.7279416714264i","-42.0187054513276+3.5702629023695i","-0.20863066880277-0.201987952500408i","1.08121465318879+0.0961401971480988i","83.0811921584262+1.61027560378404i","-18.6326388847704+80.5697834623129i","-42.4212704338354-3.56966164814057i","7.23453635505785-41.7280431394168i","0.251522775748774-0.147862889325434i","0.100669776000781+0.990108706686811i","2.46305508238525-0.37327483934711i","-0.125227982393371+2.47626977657795i","-0.00055823083190807+0.0000442093822583035i","-0.0000119984107209516-0.000557159755438908i","0.00349111510282588-0.00298703777379974i","10.74017271216+9.66133416717497i","871.07872618099+680.608928087601i","-841.666435795184+708.414362535001i","-0.0987403367715949-0.0933154613988958i","0.092271873621881-0.0991835230231109i","2.43820530084895+0.274566378524363i","0.900175588273512+0.636097123043299i","102.384233329872-10.0828519389493i","-11.7127507456553+101.254939415904i","-53.0056442199753+1.621896722451i","3.54928894492011-51.9053210795846i","0.290874806403374-0.218555017519928i","1.43524394338445+0.255598992387i","126.675976331923-12.3778218314705i","-12.9275942552901+126.974485650082i","-65.6119820920331+1.72286400109649i","3.58908822896812-65.8211746434579i","0.355801867938952-0.26999460247415i","1.89757728237697-0.363867957460798i","127.273693500625-13.5587114552927i","-13.9770620209941+125.637051194357i","-65.6115106784397+1.72293769887982i","3.58886456696059-65.820855594667i","0.357578900769827-0.271772295346391i","1.82727188132413-0.71258258136i","105.501919548157-10.2131927790969i","-11.2232276399115+105.343394214022i","-53.0051898530356+1.62201196093735i","3.54914023062049-51.9048545130238i","0.294725430035553-0.222142171020598i","-0.00730595611939933-0.0333080849360954i","0.0339217773628064-0.000832230791339761i","7.2678861039116+41.717920690313i","-42.0087267393914+3.56850774422357i","-0.075553616458196-0.075628387761633i","0.0342430589613087+0.000832231228919955i","-0.00729792904930093+0.0333080848340046i","-42.4111275449978-3.56850774479757i","7.23346515617713-41.7179206902173i","0.092615390473415-0.0543837016401301i","-10.4687305595807-75.4224475550017i","75.6102245926859+5.29930029919994i","0.000159258220273959+0.00937607162757254i","-0.00931113651161039+0.000231251983991505i","-0.108189127838021-0.129870349847373i","76.3377309775419-5.29930029764759i","-10.5198463088416+75.4224475547684i","-0.00940157581477217-0.000231252869103262i","0.000157028498308847-0.00937607155097509i","0.138190867538465-0.0987453181656766i","30.296001766222-53.8707622305441i","45.7329599964254+40.0531372911741i","-52.9973282502203+1.62808520596633i","3.54318349956025-51.8969808542365i","0.103667148123727-0.21756970592296i","15.75821447826-24.283880294066i","21.4488530431702+21.413736718475i","-65.598547645287+1.72559893868137i","3.58646634032601-65.8077578298776i","0.132225058447247-0.163592429139209i","-15.654805015287+24.2739746500069i","-21.4586525896868-21.31070685604i","-65.5935863162459+1.71995558688208i","3.59197824525377-65.803006636655i","0.131281307126632-0.03411219414316i","-30.211680665692+53.8670070406292i","-45.7453306549799-39.970182661715i","-52.9878458311427+1.6157351236396i","3.55553452212977-51.8876099853487i","0.112577337242441+0.056764777386885i","0.0003818950525784-0.000532364349260718i","7.28911191560492+41.6977895145395i","-41.9911290788246+3.59117934906461i","-0.0755164131808066-0.075500728396193i","0.000425186308094149+0.000513254812655406i","-42.396559322236-3.54298765523565i","7.20713996298418-41.7061698193623i","0.0924819485009463-0.0543779135344602i","0.890874281060292+0.13059597200637i","50.7565192975027-41.1135559709474i","35.2218752543855+53.5343886610611i","-0.0475804317023959+0.16080127540146i","-0.1899259891397+0.866990803572889i","37.7223702502521+53.7199339790085i","-56.0990293062377+31.6241125782334i","-0.15740424344711-0.0580070353511104i","-0.202142944855409+0.962620183261335i","-0.443286565287818-0.734489657227901i","0.75998562332447-0.361631086703569i","0.00389049968649699-0.000263583373650894i","1.2581116244987+1.3357463343822i","-40.7768839607984+2.53512660192526i","0.39225590770737-41.653697701574i","0.0773185570530685-0.0649623971333207i","-1.2565430505435-1.334262864206i","-90.3621343819653+0.981990065719428i","6.71118116152282-89.9121425414136i","0.185788105000612-0.132676431228824i","0.00105943541599629+0.00102635106620141i","-105.945037522174+3.3040886805919i","7.035993190954-103.75124381802i","0.215917423956617-0.160768093330741i","7.28543041931535+41.6836741005476i","-41.9765058912529+3.58846360827148i","-0.0754883528434248-0.0754780841665188i","-42.3817197409324-3.54296451381727i","7.20603543172172-41.6910800388316i","0.0924524208235026-0.054356151962067i","65.6705672065859-54.5102743461629i","47.7595660483938+69.6774764735028i","-0.0575349029838829+0.20934425367568i","49.8658055403518+69.3100614862503i","-72.8383763368715+42.8379978642989i","-0.204449856890805-0.0711469820894429i","13.1638352434965+16.425709779838i","-17.6827065266463+12.2264124189731i","-0.0483714963886156-0.0143730819195906i","-14.2306763529887+17.1238385821239i","-16.3778551752407-15.7196208198807i","0.00311906583584985-0.054946378798303i","-131.091293770633+3.51136744438858i","7.10580735763251-131.516886795481i","0.263020258254008-0.197557267944574i","-105.912385969666+3.30055274938785i","7.03721062117594-103.717780465876i","0.215857725233342-0.160713082447607i","0.3422976851719-0.32761720584507i","-0.0000530060779267982-0.000803085265537504i","0.22551054718486+0.449209124056601i","0.000624330994037706-0.0000542761353646976i","-1.4887837592674-0.480173583071206i","-0.0023813955111663+0.00248581733595399i","0.586392811933592-1.4660138384919i","-0.001805297019979-0.0018047915125073i","-0.172788805321801+0.3792111259402i","0.0024063605588399+0.000105246588042202i","-0.388547519899001-0.0862616200548985i","-0.00111892503465824+0.000743123031399805i","-0.0810195250423381+1.0010763773718i","-0.0020452890884703+0.00145223607875937i","1.76034480349453+2.576016415574i","0.004029459658239-0.000152709830726988i"]
[{"$f":"COMPLEX(定数!O$13,計算!B38*定数!O$23)","v":"74.3688188913563+95.3894796218715i"},{"$f":"COMPLEX(定数!P$13,計算!B38*定数!P$23)","v":"-73.4757772913563+95.3894796218715i"},{"$f":"COMPLEX(定数!Q$13,計算!B38*定数!Q$23)","v":"125.193786513619+136.473406223903i"},{"$f":"COMPLEX(定数!R$13,計算!B38*定数!R$23)","v":"-123.916114913619+136.473406223903i"},{"$f":"COMPLEX(定数!S$13,計算!B38*定数!S$23)","v":"-77.7867441135484-62.6668151598444i"},{"$f":"COMPLEX(定数!T$13,計算!B38*定数!T$23)","v":"77.2000539135484-62.6668151598444i"},{"$f":"COMPLEX(定数!U$13,計算!B38*定数!U$23)","v":"124.646605989444+114.354396083267i"},{"$f":"COMPLEX(定数!V$13,計算!B38*定数!V$23)","v":"-123.576013789444+114.354396083267i"},{"$f":"IMPRODUCT(定数!D$31,計算!G38)","v":"-0.805415029193206+0.206795431481152i"},{"$f":"COMPLEX(定数!O$14,計算!B38*定数!O$24)","v":"86.1948356167649+117.131136716657i"},{"$f":"COMPLEX(定数!P$14,計算!B38*定数!P$24)","v":"-85.0982474167649+117.131136716657i"},{"$f":"COMPLEX(定数!Q$14,計算!B38*定数!Q$24)","v":"57.0863694248256+64.750075611419i"},{"$f":"COMPLEX(定数!R$14,計算!B38*定数!R$24)","v":"-56.4801756248256+64.750075611419i"},{"$f":"COMPLEX(定数!S$14,計算!B38*定数!S$24)","v":"163.969671876329+137.456010935986i"},{"$f":"COMPLEX(定数!T$14,計算!B38*定数!T$24)","v":"-162.682801076329+137.456010935986i"},{"$f":"COMPLEX(定数!U$14,計算!B38*定数!U$24)","v":"-101.525845343051-98.6902932044453i"},{"$f":"COMPLEX(定数!V$14,計算!B38*定数!V$24)","v":"100.601901343051-98.6902932044453i"},{"$f":"IMPRODUCT(定数!D$32,計算!G38)","v":"0.805415029193206-0.206795431481152i"},{"$f":"COMPLEX(定数!O$15,計算!B38*定数!O$25)","v":"86.1919999827348+117.129833596328i"},{"$f":"COMPLEX(定数!P$15,計算!B38*定数!P$25)","v":"-85.0954239827348+117.129833596328i"},{"$f":"COMPLEX(定数!Q$15,計算!B38*定数!Q$25)","v":"-57.0828842529623-64.7498406270902i"},{"$f":"COMPLEX(定数!R$15,計算!B38*定数!R$25)","v":"56.4766926529622-64.7498406270902i"},{"$f":"COMPLEX(定数!S$15,計算!B38*定数!S$25)","v":"-163.956966054068-137.4438341373i"},{"$f":"COMPLEX(定数!T$15,計算!B38*定数!T$25)","v":"162.670209254068-137.4438341373i"},{"$f":"COMPLEX(定数!U$15,計算!B38*定数!U$25)","v":"-101.548680976766-98.7096906644931i"},{"$f":"COMPLEX(定数!V$15,計算!B38*定数!V$25)","v":"100.624555376766-98.7096906644931i"},{"$f":"IMPRODUCT(定数!D$33,計算!G38)","v":"0"},{"$f":"COMPLEX(定数!O$16,計算!B38*定数!O$26)","v":"74.3664237452132+95.3875996926114i"},{"$f":"COMPLEX(定数!P$16,計算!B38*定数!P$26)","v":"-73.4733997452132+95.3875996926114i"},{"$f":"COMPLEX(定数!Q$16,計算!B38*定数!Q$26)","v":"-125.201328746793-136.480562771659i"},{"$f":"COMPLEX(定数!R$16,計算!B38*定数!R$26)","v":"123.923590146793-136.480562771659i"},{"$f":"COMPLEX(定数!S$16,計算!B38*定数!S$26)","v":"77.7704269443536+62.6494685417055i"},{"$f":"COMPLEX(定数!T$16,計算!B38*定数!T$26)","v":"-77.1838991443536+62.6494685417055i"},{"$f":"COMPLEX(定数!U$16,計算!B38*定数!U$26)","v":"124.65071095008+114.353584295466i"},{"$f":"COMPLEX(定数!V$16,計算!B38*定数!V$26)","v":"-123.58012635008+114.353584295466i"},{"$f":"IMPRODUCT(定数!D$34,計算!G38)","v":"0"},{"$f":"IMDIV(COMPLEX(定数!O$17,計算!B38*定数!O$27),計算!R38)","v":"-0.113086854404223-0.411195339041648i"},{"$f":"IMPRODUCT(COMPLEX(定数!P$17,計算!B38*定数!P$27),計算!R38)","v":"-0.778961305563034-0.369083824825329i"},{"$f":"IMDIV(COMPLEX(定数!Q$17,計算!B38*定数!Q$27),計算!S38)","v":"0.469616991412009-0.357573829840867i"},{"$f":"IMPRODUCT(COMPLEX(定数!R$17,計算!B38*定数!R$27),計算!S38)","v":"-1.04165409928082+0.784887663894324i"},{"$f":"IMDIV(COMPLEX(定数!S$17,計算!B38*定数!S$27),計算!T38)","v":"-0.254823213766287-0.0854110239414361i"},{"$f":"IMPRODUCT(COMPLEX(定数!T$17,計算!B38*定数!T$27),計算!T38)","v":"0.144569911239878-0.661648475048235i"},{"$f":"IMDIV(COMPLEX(定数!U$17,計算!B38*定数!U$27),計算!U38)","v":"0.486064790921065+0.00205633129020035i"},{"$f":"IMPRODUCT(COMPLEX(定数!V$17,計算!B38*定数!V$27),計算!U38)","v":"-0.464305723935782+1.07242738924383i"},{"$f":"IMPRODUCT(定数!E$31,計算!G38)","v":"0"},{"$f":"IMDIV(COMPLEX(定数!O$18,計算!B38*定数!O$28),計算!R38)","v":"-0.160617109824787-0.505944069018336i"},{"$f":"IMPRODUCT(COMPLEX(定数!P$18,計算!B38*定数!P$28),計算!R38)","v":"-0.934751220219196-0.454234283523742i"},{"$f":"IMDIV(COMPLEX(定数!Q$18,計算!B38*定数!Q$28),計算!S38)","v":"0.218411285499055-0.178438027472092i"},{"$f":"IMPRODUCT(COMPLEX(定数!R$18,計算!B38*定数!R$28),計算!S38)","v":"-0.489815414823056+0.363605072054432i"},{"$f":"IMDIV(COMPLEX(定数!S$18,計算!B38*定数!S$28),計算!T38)","v":"0.564251901870135+0.159580860963561i"},{"$f":"IMPRODUCT(COMPLEX(定数!T$18,計算!B38*定数!T$28),計算!T38)","v":"-0.322417701086141+1.42352416476473i"},{"$f":"IMDIV(COMPLEX(定数!U$18,計算!B38*定数!U$28),計算!U38)","v":"-0.420006634474244+0.0239191354393331i"},{"$f":"IMPRODUCT(COMPLEX(定数!V$18,計算!B38*定数!V$28),計算!U38)","v":"0.401228093600651-0.899834014237926i"},{"$f":"IMPRODUCT(定数!E$32,計算!G38)","v":"0"},{"$f":"IMDIV(COMPLEX(定数!O$19,計算!B38*定数!O$29),計算!R38)","v":"-0.160623286050654-0.505938821123723i"},{"$f":"IMPRODUCT(COMPLEX(定数!P$19,計算!B38*定数!P$29),計算!R38)","v":"-0.934732857564889-0.454229610922009i"},{"$f":"IMDIV(COMPLEX(定数!Q$19,計算!B38*定数!Q$29),計算!S38)","v":"-0.218404259019631+0.178449836144196i"},{"$f":"IMPRODUCT(COMPLEX(定数!R$19,計算!B38*定数!R$29),計算!S38)","v":"0.489807403363111-0.363591296198205i"},{"$f":"IMDIV(COMPLEX(定数!S$19,計算!B38*定数!S$29),計算!T38)","v":"-0.564200467578624-0.159574328251522i"},{"$f":"IMPRODUCT(COMPLEX(定数!T$19,計算!B38*定数!T$29),計算!T38)","v":"0.322387690156549-1.42340566313037i"},{"$f":"IMDIV(COMPLEX(定数!U$19,計算!B38*定数!U$29),計算!U38)","v":"-0.420088941530992+0.0239115912203217i"},{"$f":"IMPRODUCT(COMPLEX(定数!V$19,計算!B38*定数!V$29),計算!U38)","v":"0.401306709759441-0.900023120945553i"},{"$f":"IMPRODUCT(定数!E$33,計算!G38)","v":"0"},{"$f":"IMDIV(COMPLEX(定数!O$20,計算!B38*定数!O$30),計算!R38)","v":"-0.113088571063777-0.411187422183949i"},{"$f":"IMPRODUCT(COMPLEX(定数!P$20,計算!B38*定数!P$30),計算!R38)","v":"-0.778942008482125-0.369076737898341i"},{"$f":"IMDIV(COMPLEX(定数!Q$20,計算!B38*定数!Q$30),計算!S38)","v":"-0.469643478404123+0.357588866820445i"},{"$f":"IMPRODUCT(COMPLEX(定数!R$20,計算!B38*定数!R$30),計算!S38)","v":"1.04171058340696-0.78493253661305i"},{"$f":"IMDIV(COMPLEX(定数!S$20,計算!B38*定数!S$30),計算!T38)","v":"0.254748512333141+0.0854091500450363i"},{"$f":"IMPRODUCT(COMPLEX(定数!T$20,計算!B38*定数!T$30),計算!T38)","v":"-0.144525728701253+0.661487094546714i"},{"$f":"IMDIV(COMPLEX(定数!U$20,計算!B38*定数!U$30),計算!U38)","v":"0.486060910214532+0.00207751993663517i"},{"$f":"IMPRODUCT(COMPLEX(定数!V$20,計算!B38*定数!V$30),計算!U38)","v":"-0.464301997694142+1.07244097946013i"},{"$f":"IMPRODUCT(定数!E$34,計算!G38)","v":"0"},"0.248453680247902+0.963974060924848i","1.52623605422264-0.122544056829064i","0.259922408236705+1.5016984890306i","-0.804016708273825+0.188626368669091i","-0.0161640530203607-0.821916166813781i","1.37923451274437-0.231415082564183i","0.117431232876771+1.38704222314584i","-0.00274586477747138+0.00630266892366434i","6.39770597738629+4.939889007541i","-88.8210210555334-103.457023483431i","97.0115061499384-95.133585931414i","255.36578085607+215.372783074864i","-257.561518088034+210.194253729485i","-247.514649120143-240.294814480178i","252.945767800035-232.001023414907i","1.78033316769077-0.428426680647839i","6.39997776093161+4.941643129905i","-202.985787196776-232.955298342809i","209.967154578723-224.62890519241i","-72.5633827743217-59.5275748535891i","67.7925174626899-64.7079430609601i","-247.533272187839-240.313070840177i","252.966947342832-232.016334703799i","0.974902139093957-0.221616955296419i","0.00116042597400678+0.000896004837201758i","-250.391229327855-272.951393290671i","247.837504525636-272.949883572477i","155.554890716154+125.315223994734i","-154.38244662892+125.314284704937i","0.00784347284499631+0.00122680257400987i","-0.00643883693199143+0.00273114344101089i","0.805396603874048-0.206785497699528i","-1.14724610120799-0.157908035262392i","0.692603770857726+0.256149200020067i","-1.62975171107943+1.06158890506178i","-0.423309217810493-0.394687784204762i","0.480710066206187-0.761242972199176i","0.737194886787397+0.543021130627186i","-1.02137109241247+1.27757080680208i","-0.00290214929523701-0.000416337795206413i","-1.38256226698489-0.173699889964726i","0.525551348184793+0.574069379849712i","-1.20784287281221+0.7363097440431i","0.339678669447762-0.216910001806852i","0.090829685264392+1.28333225877588i","-0.081394884761908+0.684565435216418i","-0.281676227450166-0.617637665359781i","-0.00362983082544129-0.00037693753178653i","-1.38253731099026-0.173690567500193i","0.088744586946409+0.930948477080259i","-0.228210568531128+0.00912128657410999i","-0.788777675898484-0.536059806627926i","0.735630663344815-1.56360256063186i","-0.081469887796747+0.684549223648219i","-0.281589606958147-0.617818821648085i","-0.00362981470878006-0.000376884195070719i","-1.14721874597123-0.157901260492554i","-0.246655049094561+0.971299603321297i","0.453625306539881-0.508230775309252i","0.08626262139409-0.223860921125166i","0.191607891523546+0.56189131441404i","0.73719154167669+0.543031002809338i","-1.02135618356548+1.2775858484113i","-0.00290210411161902-0.000416305237048886i","2.33863858891447+16.6510089358897i","-16.3643179232829+3.41513685517483i","-9.34527864520503-40.0575594252067i","40.9160084261526-1.78183872078975i","7.27286322131854+41.8439728349624i","-42.0148407581051+4.81594259107136i","-0.208217258770279-0.0866595474532281i","-16.5202055925996-3.41513685553222i","2.30666588858028-16.6510089358627i","41.2910295196904+1.78183872168998i","-9.32859697312352+40.0575594249952i","-42.4065863530224-4.81594259199328i","7.22777610052214-41.8439728348085i","0.141944305189468-0.176565756152149i","-114.133226377947-129.461537945577i","112.921200276017-129.461537947104i","-328.019842348673-274.976835398654i","325.445493964663-274.976835394237i","0.0692677647899984+0.0670707606400072i","-0.068639848566022+0.0670707563649842i","-0.806063213275273+0.206961856850735i","-250.375118831332-272.932628093036i","247.819908426075-272.932628093008i","155.50857206912+125.276159340617i","-154.33572971568+125.276159340537i","0.052738069259893+0.0448118539486066i","-0.0523185381210701+0.0448118540258777i","0.805073684243847-0.206707788994032i","-17.7208601353973-6.27052644983917i","3.64588984258237-17.6769750993136i","46.6662967618218+8.16970508765124i","-16.5468969471579+43.7215754822533i","-47.1531199396194-11.6783909648693i","13.8781663972333-45.5864399636351i","0.187824053070662-0.180566566798445i","-21.7214526509557-7.01712786682777i","4.87354476724108-21.8840793068771i","57.1175928584385+9.41884026475478i","-19.7645301580628+55.0450261595224i","-57.8746123497814-13.3397944557386i","16.9794677604401-57.2140716941564i","0.223286461958072-0.219834379436873i","-22.1578789715243-6.66000953242947i","5.85296427794039-22.6108737256675i","55.9881226655096+9.09926105821791i","-19.1191229403894+52.1971786293911i","-57.8736739507289-13.3392951467721i","16.978983915638-57.2132759731697i","0.223281289685415-0.219831242996846i","-18.6596901779805-5.55517070407012i","5.72909095405706-19.2463549145234i","47.1747511466851+8.34020347088936i","-16.8354725551164+45.0436771839418i","-47.1519958694228-11.6779620565752i","13.8777001052688-45.5853292367615i","0.187819019141845-0.180562665882223i","-0.236386354084999-1.05734389915852i","-21.2745254459025-80.0157229836874i","82.1337698412787-6.69005354493709i","7.27489936259258+41.8531430870609i","-42.0240207847025+4.81771588615198i","-0.284876031481509-0.113061974386109i","1.08406250681907+0.0958232106113002i","83.0691217770508+4.00950229467081i","-18.6145196506555+80.6540003662448i","-42.4159372901251-4.81711661429304i","7.22920173594854-41.853244220506i","0.19278089698034-0.240067155565961i","0.129998659846491+0.986844191537516i","2.45199797892452-0.37204410442011i","-0.0518762098469327+2.46810519813919i","-0.000556921266058877+0.0000440636187915968i","-0.0000285025321680003-0.000555322728766898i","0.0021890653127808-0.00429639671521107i","11.026359618372+9.62947951168297i","870.970832602433+701.355824952617i","-840.950680058837+729.069581323836i","-0.098727558189374-0.0961576970466594i","0.0921108288025189-0.102006411190792i","2.52578801887373-0.684951278226981i","-0.23845469339502+0.625912829362999i","92.4507223958931+16.9520817308217i","-32.9425069321273+87.1332313519623i","-47.1632653655688-11.6811023091729i","13.8811434737062-45.5964594859234i","0.253556842547433-0.242975820130663i","0.772492625129311+0.463827292134798i","112.989231910702+18.5434852138428i","-38.210366558089+108.291834360738i","-57.8870186887397-13.3427453176651i","16.9827454146323-57.2263341164281i","0.300984505616745-0.297797406047432i","2.16106712661678+0.121292747953202i","112.797014402863+17.1858827335431i","-36.7061938663249+106.539658846662i","-57.8863076088601-13.3420278913806i","16.982050814647-57.2257705741198i","0.300400377025178-0.300451085575917i","2.67273772803428-0.109983299746101i","94.9950422599476+15.0192430888265i","-31.5142122497341+90.8095743067024i","-47.1626326286252-11.6802336358021i","13.8802531694034-45.5958497232608i","0.252533516823102-0.248571465974899i","-0.00731049494990188-0.0333477976074903i","0.0339263162003078-0.00182707314280961i","7.27321787516099+41.8430828764547i","-42.0140585106409+4.81566157126442i","-0.104170101705118-0.0433554352273592i","0.0342385201217894+0.00182707357249967i","-0.00729339020639941+0.0333477975099044i","-42.4057957737492-4.81566157182137i","7.22813338492806-41.8430828763616i","0.071014022689577-0.088335073399098i","-10.4800122507523-75.2978877657851i","75.6215062838497+3.04979665369076i","0.000160536315998931+0.00938716048598227i","-0.00931241460316506+0.000511294164937282i","-0.157479961839723-0.0828342724609518i","76.32644928639-3.04979665221091i","-10.5085646176719+75.2978877655624i","-0.00940029771571421-0.00051129502252726i","0.000155750402056986-0.00938716041184393i","0.0991776978920995-0.148732759029763i","108.742215606843-31.5488604228742i","11.6815904903447+111.665811504783i","-47.1658269367926-11.6753404629306i","13.8753050689875-45.5987953845561i","0.184112488066633-0.340518438080253i","52.6130338119026-14.5028596549505i","4.8326374955281+54.9989304448648i","-57.8799941806661-13.3379902313962i","16.9782710774007-57.2191548455263i","0.155384152545283-0.228903769635261i","-52.519484257982+14.518853246045i","-4.8633926009891-54.909518427653i","-57.8660549508646-13.3397827605739i","16.9805756330913-57.2055031817357i","0.06803050936365+0.00894085510131404i","-108.670111695317+31.5651844144438i","-11.7090852889644-111.597697777854i","-47.1374518643519-11.6799009540666i","13.880869320305-45.5707431755258i","0.00381566150573698+0.159860080953975i","0.0000974197763460027-0.0005522735245108i","7.27767636717008+41.8291272234674i","-42.0006184214809+4.82075049276279i","-0.104071349505105-0.0432932155364688i","0.00050574081396416+0.000255207448823104i","-42.3934748603128-4.80761839752429i","7.21961751805605-41.8314294612854i","0.0709274134721952-0.0882560788874055i","0.296286450909804+0.0466696456456499i","12.3051860580083-30.2055142292897i","28.9522474627383+13.6162853657826i","0.051036211115348+0.0723317005913972i","-0.0735055968774994+0.274455907065587i","28.989198154646+15.2848479963194i","-16.4721927239363+27.6066326417889i","-0.0765507602960195+0.044458415418987i","-0.175710758086289+0.975907440646658i","-0.371333740281815-0.215100425118738i","0.22990448161342-0.352628192919844i","0.00239963248856649-0.0024352342478445i","-0.0761350960833598+1.1051708084444i","-35.2234282705015-7.40630541212442i","9.9964160050612-35.3320433775209i","0.064450067811612-0.065977174608376i","0.0774259182121595-1.1042442509572i","-80.4913229835138-19.245406071026i","23.9352834526056-79.0633034378634i","0.158701161407663-0.153796303588792i","0.00110533916939914+0.00061528410500955i","-94.2800154835148-23.3336701861294i","27.7338410772424-91.1478656468777i","0.187715373940388-0.18052193879204i","7.26034086028951+41.8235154896355i","-41.9936970149067+4.80349880160186i","-0.104035377468669-0.0433229824012516i","-42.3829941329827-4.82274884797523i","7.23428513800865-41.8197064991281i","0.0709457171025901-0.0882126110839297i","15.1357603438047-39.5308428287143i","38.2456222275268+17.1480331769298i","0.0673075055256216+0.0912753756226032i","37.4916622002775+18.8811133351762i","-20.7257948697991+36.0090839422506i","-0.0960185219428918+0.0578975728682297i","30.2457880161097+9.81589772627756i","-12.1163015885849+30.1080983474257i","-0.0613915132197246+0.0499727645017434i","-4.48459714853261+32.1804224591853i","-32.4389270266892-6.81041801098367i","-0.0634151063927214-0.0539481789943289i","-115.679145425406-26.6890954475098i","33.9672620987083-114.356499246396i","0.223183100752739-0.219645082952284i","-94.2552583801959-23.3664811662185i","27.7655067519477-91.1203786689071i","0.187752275684386-0.180423289449699i","0.404108015545802+0.125076300943959i","-0.000680942239403001-0.000262780877791996i","-0.24056533791754+0.3871428195269i","0.000203490151011801-0.00072141956342571i","-0.458830132758095-0.492486511421099i","0.000765609163872208+0.00162076802029179i","0.544116345233501-0.417103248733305i","-0.000916210440984597+0.0011967001307733i","-0.389130033925399+0.3847558039148i","0.0032775948662675-0.0034383849498209i","-0.4434594270232-0.30973387181369i","0.0018499341079882+0.0015958109075097i","-0.0622416659642882+1.00292643573289i","-0.00141588908179885+0.00222541306691709i","-1.5359592271853+1.95634295191681i","0.00229721192656199-0.00375075138807199i"]
[{"$f":"COMPLEX(定数!O$13,計算!B39*定数!O$23)","v":"74.3688188913563+98.1950525519265i"},{"$f":"COMPLEX(定数!P$13,計算!B39*定数!P$23)","v":"-73.4757772913563+98.1950525519265i"},{"$f":"COMPLEX(定数!Q$13,計算!B39*定数!Q$23)","v":"125.193786513619+140.48732993637i"},{"$f":"COMPLEX(定数!R$13,計算!B39*定数!R$23)","v":"-123.916114913619+140.48732993637i"},{"$f":"COMPLEX(定数!S$13,計算!B39*定数!S$23)","v":"-77.7867441135484-64.5099567821928i"},{"$f":"COMPLEX(定数!T$13,計算!B39*定数!T$23)","v":"77.2000539135484-64.5099567821928i"},{"$f":"COMPLEX(定数!U$13,計算!B39*定数!U$23)","v":"124.646605989444+117.717760673951i"},{"$f":"COMPLEX(定数!V$13,計算!B39*定数!V$23)","v":"-123.576013789444+117.717760673951i"},{"$f":"IMPRODUCT(定数!D$31,計算!G39)","v":"-0.639591038902298+0.464690090293619i"},{"$f":"COMPLEX(定数!O$14,計算!B39*定数!O$24)","v":"86.1948356167649+120.5761701495i"},{"$f":"COMPLEX(定数!P$14,計算!B39*定数!P$24)","v":"-85.0982474167649+120.5761701495i"},{"$f":"COMPLEX(定数!Q$14,計算!B39*定数!Q$24)","v":"57.0863694248256+66.6544895999901i"},{"$f":"COMPLEX(定数!R$14,計算!B39*定数!R$24)","v":"-56.4801756248256+66.6544895999901i"},{"$f":"COMPLEX(定数!S$14,計算!B39*定数!S$24)","v":"163.969671876329+141.498834787045i"},{"$f":"COMPLEX(定数!T$14,計算!B39*定数!T$24)","v":"-162.682801076329+141.498834787045i"},{"$f":"COMPLEX(定数!U$14,計算!B39*定数!U$24)","v":"-101.525845343051-101.592948886929i"},{"$f":"COMPLEX(定数!V$14,計算!B39*定数!V$24)","v":"100.601901343051-101.592948886929i"},{"$f":"IMPRODUCT(定数!D$32,計算!G39)","v":"0.639591038902298-0.464690090293619i"},{"$f":"COMPLEX(定数!O$15,計算!B39*定数!O$25)","v":"86.1919999827348+120.574828702103i"},{"$f":"COMPLEX(定数!P$15,計算!B39*定数!P$25)","v":"-85.0954239827348+120.574828702103i"},{"$f":"COMPLEX(定数!Q$15,計算!B39*定数!Q$25)","v":"-57.0828842529623-66.6542477043576i"},{"$f":"COMPLEX(定数!R$15,計算!B39*定数!R$25)","v":"56.4766926529622-66.6542477043576i"},{"$f":"COMPLEX(定数!S$15,計算!B39*定数!S$25)","v":"-163.956966054068-141.486299847221i"},{"$f":"COMPLEX(定数!T$15,計算!B39*定数!T$25)","v":"162.670209254068-141.486299847221i"},{"$f":"COMPLEX(定数!U$15,計算!B39*定数!U$25)","v":"-101.548680976766-101.612916860508i"},{"$f":"COMPLEX(定数!V$15,計算!B39*定数!V$25)","v":"100.624555376766-101.612916860508i"},{"$f":"IMPRODUCT(定数!D$33,計算!G39)","v":"0"},{"$f":"COMPLEX(定数!O$16,計算!B39*定数!O$26)","v":"74.3664237452132+98.1931173306294i"},{"$f":"COMPLEX(定数!P$16,計算!B39*定数!P$26)","v":"-73.4733997452132+98.1931173306294i"},{"$f":"COMPLEX(定数!Q$16,計算!B39*定数!Q$26)","v":"-125.201328746793-140.494696970825i"},{"$f":"COMPLEX(定数!R$16,計算!B39*定数!R$26)","v":"123.923590146793-140.494696970825i"},{"$f":"COMPLEX(定数!S$16,計算!B39*定数!S$26)","v":"77.7704269443536+64.4920999694027i"},{"$f":"COMPLEX(定数!T$16,計算!B39*定数!T$26)","v":"-77.1838991443536+64.4920999694027i"},{"$f":"COMPLEX(定数!U$16,計算!B39*定数!U$26)","v":"124.65071095008+117.716925010039i"},{"$f":"COMPLEX(定数!V$16,計算!B39*定数!V$26)","v":"-123.58012635008+117.716925010039i"},{"$f":"IMPRODUCT(定数!D$34,計算!G39)","v":"0"},{"$f":"IMDIV(COMPLEX(定数!O$17,計算!B39*定数!O$27),計算!R39)","v":"-0.344400039604871-0.270312560416414i"},{"$f":"IMPRODUCT(COMPLEX(定数!P$17,計算!B39*定数!P$27),計算!R39)","v":"-0.39354613508374-0.773262600274258i"},{"$f":"IMDIV(COMPLEX(定数!Q$17,計算!B39*定数!Q$27),計算!S39)","v":"0.185750133827337-0.577906669052964i"},{"$f":"IMPRODUCT(COMPLEX(定数!R$17,計算!B39*定数!R$27),計算!S39)","v":"-1.31167625768736+0.0260263413514231i"},{"$f":"IMDIV(COMPLEX(定数!S$17,計算!B39*定数!S$27),計算!T39)","v":"-0.266098916500492+0.0752011744753799i"},{"$f":"IMPRODUCT(COMPLEX(定数!T$17,計算!B39*定数!T$27),計算!T39)","v":"0.497799617236107-0.463798061196309i"},{"$f":"IMDIV(COMPLEX(定数!U$17,計算!B39*定数!U$27),計算!U39)","v":"0.414286654844078-0.280585708736717i"},{"$f":"IMPRODUCT(COMPLEX(定数!V$17,計算!B39*定数!V$27),計算!U39)","v":"-1.00070578219684+0.61511528254088i"},{"$f":"IMPRODUCT(定数!E$31,計算!G39)","v":"0"},{"$f":"IMDIV(COMPLEX(定数!O$18,計算!B39*定数!O$28),計算!R39)","v":"-0.440894191805289-0.319657821673486i"},{"$f":"IMPRODUCT(COMPLEX(定数!P$18,計算!B39*定数!P$28),計算!R39)","v":"-0.465248441862246-0.937242801922605i"},{"$f":"IMDIV(COMPLEX(定数!Q$18,計算!B39*定数!Q$28),計算!S39)","v":"0.0794702590801455-0.27883366729307i"},{"$f":"IMPRODUCT(COMPLEX(定数!R$18,計算!B39*定数!R$28),計算!S39)","v":"-0.613668119893501+0.00770353563331225i"},{"$f":"IMDIV(COMPLEX(定数!S$18,計算!B39*定数!S$28),計算!T39)","v":"0.572509081561024-0.190918494193917i"},{"$f":"IMPRODUCT(COMPLEX(定数!T$18,計算!B39*定数!T$28),計算!T39)","v":"-1.08073108035392+0.99134495184322i"},{"$f":"IMDIV(COMPLEX(定数!U$18,計算!B39*定数!U$28),計算!U39)","v":"-0.343461512843917+0.26365238594151i"},{"$f":"IMPRODUCT(COMPLEX(定数!V$18,計算!B39*定数!V$28),計算!U39)","v":"0.849553780471891-0.509356754873251i"},{"$f":"IMPRODUCT(定数!E$32,計算!G39)","v":"0"},{"$f":"IMDIV(COMPLEX(定数!O$19,計算!B39*定数!O$29),計算!R39)","v":"-0.440895877294185-0.319649779733475i"},{"$f":"IMPRODUCT(COMPLEX(定数!P$19,計算!B39*定数!P$29),計算!R39)","v":"-0.465236675159517-0.93722788909272i"},{"$f":"IMDIV(COMPLEX(定数!Q$19,計算!B39*定数!Q$29),計算!S39)","v":"-0.0794576972645423+0.27883924189113i"},{"$f":"IMPRODUCT(COMPLEX(定数!R$19,計算!B39*定数!R$29),計算!S39)","v":"0.613653619365734-0.00769692113374482i"},{"$f":"IMDIV(COMPLEX(定数!S$19,計算!B39*定数!S$29),計算!T39)","v":"-0.572461427371901+0.19089447205191i"},{"$f":"IMPRODUCT(COMPLEX(定数!T$19,計算!B39*定数!T$29),計算!T39)","v":"1.08063840431189-0.991264240834971i"},{"$f":"IMDIV(COMPLEX(定数!U$19,計算!B39*定数!U$29),計算!U39)","v":"-0.343535732235222+0.263693961737585i"},{"$f":"IMPRODUCT(COMPLEX(定数!V$19,計算!B39*定数!V$29),計算!U39)","v":"0.84972747164482-0.509467113025523i"},{"$f":"IMPRODUCT(定数!E$33,計算!G39)","v":"0"},{"$f":"IMDIV(COMPLEX(定数!O$20,計算!B39*定数!O$30),計算!R39)","v":"-0.344396516427649-0.270305009234421i"},{"$f":"IMPRODUCT(COMPLEX(定数!P$20,計算!B39*定数!P$30),計算!R39)","v":"-0.393535114870515-0.77324513698884i"},{"$f":"IMDIV(COMPLEX(定数!Q$20,計算!B39*定数!Q$30),計算!S39)","v":"-0.185763535463421+0.577935011401633i"},{"$f":"IMPRODUCT(COMPLEX(定数!R$20,計算!B39*定数!R$30),計算!S39)","v":"1.31174870192117-0.0260296687304846i"},{"$f":"IMDIV(COMPLEX(定数!S$20,計算!B39*定数!S$30),計算!T39)","v":"0.266034011776248-0.0751599967908076i"},{"$f":"IMPRODUCT(COMPLEX(定数!T$20,計算!B39*定数!T$30),計算!T39)","v":"-0.497670576117903+0.463690040077368i"},{"$f":"IMDIV(COMPLEX(定数!U$20,計算!B39*定数!U$30),計算!U39)","v":"0.414295331107636-0.280565974218477i"},{"$f":"IMPRODUCT(COMPLEX(定数!V$20,計算!B39*定数!V$30),計算!U39)","v":"-1.00071029554443+0.615128658589917i"},{"$f":"IMPRODUCT(定数!E$34,計算!G39)","v":"0"},"0.275355199606616+0.956806028613411i","1.52281623054613-0.121632829240555i","0.301830144773563+1.49053198183114i","-0.798752732702276+0.187223758412014i","-0.0391011781662052-0.815804465389615i","1.3727764371842-0.229694298928593i","0.156139269461812+1.37672829056626i","-0.00012755312927097+0.0064168717970726i","6.5355629230794+4.903156396721i","-88.8385459559134-106.476737598769i","97.2262625167754-98.2151924479409i","255.392756120359+221.671659112856i","-257.679059479411+216.53163688834i","-247.547743554695-247.318611815817i","253.144127291416-239.086492702884i","1.42430728554357-1.00241143219807i","6.5378836587273+4.904897475574i","-203.003318320134-239.783777031438i","210.181987204146-231.519298259817i","-72.5363979312915-61.3140161081233i","67.6749343331309-66.4558635210037i","-247.56637837401-247.337389610989i","253.165377270375-239.102347326255i","0.784707277051306-0.537703317110229i","0.00118543068370514+0.000889342218599154i","-250.391232506549-280.979371249196i","247.837543478484-280.977872757143i","155.55489560897+129.000959416559i","-154.382467948762+129.000027111244i","0.00783747012400227+0.00127081087100578i","-0.00640285817598851+0.00276396558300007i","0.639578315326949-0.464674967791415i","-0.557350480850166-0.369306597095983i","0.743086985441071-0.208160665938067i","-1.61063546026473+0.620954094170993i","-0.59179832278479-0.0762318520289091i","0.704855363765679-0.755330690971728i","0.949160168235391+0.011386279229846i","-1.319078360831+1.13146696604682i","-0.00177849034810322+0.00217549168808882i","-0.649696464542925-0.427373137929948i","0.789751975553777+0.15431924382733i","-0.957053168597894+0.761352795716398i","0.160496102244481-0.363700185133457i","-0.837192284382197+0.619162503966644i","0.335211224204087+0.601200229208096i","0.478312711091652+0.14754589088529i","-0.00210744069445241+0.00278838814943808i","-0.64967653915538-0.427358826804123i","0.630825607735021+0.711979701603973i","0.270281066161481+0.745952423924528i","-0.984474247335072+0.018119520197496i","1.32417057372844-1.36344774929159i","0.335137471424451+0.601230378071224i","0.47849773700191+0.147436597530626i","-0.00210738930534375+0.00278839999077886i","-0.557333205745654-0.369294584064996i","0.371567032527227+0.947669943988045i","1.01279969122097+0.568890553506404i","-0.059661166599943-0.226587651390326i","-0.290620852115939+0.172160579785771i","0.949162273500821+0.011396456917095i","-1.31907302835903+1.13147431260206i","-0.00177844144374417+0.00217547004348916i","2.34038347790783+16.7570233628125i","-16.3660628122748+3.8993031868216i","-9.35032454496557-40.1260716271438i","40.9210543259104-2.94389705257702i","7.27774463767105+42.0011983983843i","-42.0197221744545+6.03106748137695i","-0.212249757497896-0.00072838175159232i","-16.5184607036058-3.89930318716788i","2.30492099958679-16.7570233627863i","41.2859836199283+2.9438970534493i","-9.3235510733619+40.1260716269388i","-42.4017049366685-6.0310674822701i","7.2228946841688-42.0011983982353i","0.065818307238981-0.202756656458578i","-114.133226377938-133.269230238145i","112.921200276025-133.269230239616i","-328.019842348691-283.06438938082i","325.445493964647-283.06438937657i","0.0692677648090125+0.0690434299250171i","-0.0686398485480026+0.0690434258139874i","-0.640105770711024+0.465064064825461i","-250.375118831331-280.960058331063i","247.819908426073-280.960058331037i","155.508572069117+128.960752262393i","-154.335729715674+128.960752262318i","0.0527380692621375+0.0461298496607485i","-0.0523185381270828+0.0461298497335287i","0.639319972231308-0.464493148828908i","-7.0234466395197-8.48181568399905i","5.86249264274511-7.86735840376295i","21.3317638971441+16.8117367047207i","-19.3104532775781+18.165705705177i","-20.4561374583502-19.0092614432822i","18.2179251189261-19.6104585004998i","0.109784745675564-0.0865238932116256i","-8.27577610442996-9.43859063572915i","7.70194751280382-9.14056471907502i","25.7257111738137+19.193459694644i","-24.0434755977375+22.7042940971121i","-24.6355103287767-21.4385126838064i","23.1211858074341-24.0536130489034i","0.127307229327801-0.100812918216284i","-8.4344291389361-8.88061608505578i","8.92899600924922-9.15566418669672i","24.5799603154914+19.574629892779i","-21.8813527149986+20.7210177468386i","-24.6348255225185-21.4377555474518i","23.1206258299335-24.0529888198573i","0.127303067585607-0.100809808304062i","-7.39472807674853-7.32571927642257i","8.48568667383874-7.91916015418503i","21.8632231987736+16.6608340794294i","-20.3052863923986+19.0926157979614i","-20.4554753106011-19.0086377052785i","18.2173011134397-19.6098123477102i","0.10978122183979-0.0865212028911587i","-0.266675837117802-1.05307431802185i","-21.2731739038305-80.1684551689812i","82.0680833135125-9.01236962746254i","7.27978048630254+42.0104068796408i","-42.0288862161884+6.03310609311537i","-0.288413522807293+0.00376152263554577i","1.08680753189012+0.0954362740878025i","83.0580191808844+6.34264251016891i","-18.5975866100214+80.8041551715088i","-42.4110546913909-6.03250924108648i","7.22431771508373-42.0105076047153i","0.0892894897546311-0.275602774088942i","0.158268554267215+0.982859289985025i","2.44134011860258-0.370541781013054i","0.0188270216969443+2.4581389275575i","-0.000555658985331939+0.0000438856894178483i","-0.0000444107330047077-0.000553080322141321i","0.00035984596495764-0.00449492646322697i","11.30221306257+9.59059543233104i","870.866834779457+722.105371937822i","-840.260768393473+749.707219467621i","-0.0987152410787815-0.0990002465673035i","0.0919555988900652-0.104825343781403i","1.99231124977064-1.48880855289276i","-1.36234795260433+0.37810607947061i","41.6212530388415+34.9162531860024i","-40.0277040045143+35.5900006233154i","-20.4604123299123-19.0136662115811i","18.2223043278635-19.6147197142815i","0.150437242383111-0.115041622225264i","-0.265063858400939+0.48719080123697i","49.4270875745474+39.1697488597155i","-47.0890344444259+43.225002045849i","-24.6405230571869-21.4433941333622i","23.1260385729005-24.0586093925459i","0.172711004789978-0.134615484476674i","1.53550489515039+0.539715117010969i","48.4619098505365+38.1299258241633i","-43.5523456339674+41.6212118966983i","-24.639901920815-21.4423199908371i","23.1251629447581-24.0580481313124i","0.170255879128451-0.135526293178333i","2.45588834909062+0.50824803180723i","42.630754586584+31.8053507349144i","-38.1737014121873+37.4078062178823i","-20.459905751942-19.0123837842788i","18.2210244193228-19.6142275668599i","0.145370754337931-0.11712383128967i","-0.00731465034149892-0.0334147979627915i","0.0339304715998026-0.00279462782479989i","7.27809921123051+42.0002999183628i","-42.0189398467098+6.03076054253533i","-0.106187567317442-0.00036447221398582i","0.0342343647343029+0.00279462825033061i","-0.0072892348209983+0.033414797864296i","-42.4009144376767-6.03076054307763i","7.22325204885778-42.0002999182724i","0.0329285306694658-0.101438233729327i","-10.4903408495444-75.2411540264118i","75.6318348826065+0.86811905804026i","0.000161706440224743+0.00940593323658911i","-0.00931358472279246+0.000783652459298019i","-0.166317694769161-0.0154656258836406i","76.3161206876-0.868119056646749i","-10.4982360188748+75.2411540262014i","-0.00939912759536718-0.00078365328402899i","0.000154580277915198-0.00940593316549385i","0.0374976467395075-0.163546139344813i","145.262122715275+4.8779837729685i","-25.8808165870941+142.064079624951i","-20.473513516219-19.0111799527426i","18.2189584794757-19.6275923158147i","0.139684295085938-0.352026458516062i","69.2327933634176+1.7591298879202i","-13.2149392739732+68.2833566601837i","-24.6433962148843-21.4390226830212i","23.1214970624301-24.0611778755721i","0.102972101049095-0.196234163757509i","-69.1904040223985-1.7260371215135i","13.1765354127506-68.2458917459627i","-24.6258924639061-21.4360438361334i","23.1198490616657-24.0436887042061i","0.024409735270139+0.095361557570926i","-145.234336859802-4.850163922879i","25.8499625572923-142.040359533158i","-20.4372208342281-19.0056821312078i","18.2158642404006-19.5912062103084i","-0.029841282839614+0.26546912171325i","0.0000266344989816036-0.00045589579994414i","7.28124758617981+41.9945273455964i","-42.0134061740336+6.03377730057341i","-0.106099172457771-0.000353035073169438i","0.00042699730807167+0.000172918830719196i","-42.3962966551013-6.02604130831427i","7.21872938909225-41.9958728564406i","0.0328915757598694-0.101356716939349i","0.157602715403797+0.256536300148418i","7.95763323293169-12.2353618377702i","11.7289253557131+7.62600878291297i","0.027465740352433+0.0249568700980297i","-0.2733230365832+0.107156038910702i","11.1790247826274+9.4890205737275i","-9.09402597369612+10.7165779990238i","-0.0274724657287331+0.024413935420744i","-0.145161355802414+0.982858929046919i","-0.145173009370053-0.126000006241392i","0.120747745015848-0.139173223402846i","0.000879231442841649-0.00245291290369846i","-1.4360366056555+0.492645199651506i","-14.8143136320793-12.4603121074194i","14.5169696057631-14.6382378251584i","0.0377854598468585-0.027958833866795i","1.4363115595964-0.492039236908695i","-34.4529909472839-30.4046091780146i","31.7146524740198-33.4647251703121i","0.0894779327571721-0.072838891158979i","0.000522390716099608+0.00044888279700217i","-40.910205895475-38.0093223746297i","36.427595862273-39.218290663217i","0.109750342379262-0.086513640606316i","7.27608992409298+41.9972299311085i","-42.01582521519+6.02806725350163i","-0.106102645785085-0.000366740865853165i","-42.3972106446426-6.03184371338251i","7.22496788478629-41.9963372358144i","0.0329057952987529-0.101355602303202i","9.72655950192101-15.6424721976984i","15.1911399555882+9.80056828407859i","0.0345146545677987+0.0310566920998135i","14.1450045600879+11.7726830240397i","-11.7764902150664+13.6656988112046i","-0.0345391236373911+0.0301306270766502i","11.5503107563751-4.99349479671664i","4.26782737569471+12.6989943058965i","0.00577744015662848+0.0279149744240896i","6.56661066562912+10.9296108943251i","-12.17334902727+6.01732283784446i","-0.0295175826428728+0.0093431730219319i","-49.2624871578487-42.8719055464318i","46.238615463523-48.0972408861326i","0.127277170194455-0.100782407412677i","-40.9087301176146-38.0179795404539i","36.4366561794946-39.215969649843i","0.109769956080035-0.0865052714581041i","1.2056718792875+0.72882150807445i","-0.000153027343257006+0.00104862997797373i","-1.07523141723863+0.959880240349797i","-0.0012115280890504-0.000511087341630995i","-0.278003908896499-0.915806142399409i","0.000736458494119005+0.0001394539560137i","0.951940817157901-0.171913957371601i","0.000693573217979596+0.000946824832647099i","-0.242982109873161+0.6605569371116i","-0.001145458015774-0.0025915684170914i","-0.688660517152899-0.13007811954429i","0.0001912285980324-0.0017074715210488i","-0.0506024174891409+1.02038418783205i","-0.000457057621460827+0.00244359035717187i","-4.4263696372691+0.602850033660005i","-0.00182805900871501-0.0039175003200608i"]
[{"$f":"COMPLEX(定数!O$13,計算!B40*定数!O$23)","v":"74.3688188913563+101.000625481982i"},{"$f":"COMPLEX(定数!P$13,計算!B40*定数!P$23)","v":"-73.4757772913563+101.000625481982i"},{"$f":"COMPLEX(定数!Q$13,計算!B40*定数!Q$23)","v":"125.193786513619+144.501253648838i"},{"$f":"COMPLEX(定数!R$13,計算!B40*定数!R$23)","v":"-123.916114913619+144.501253648838i"},{"$f":"COMPLEX(定数!S$13,計算!B40*定数!S$23)","v":"-77.7867441135484-66.3530984045411i"},{"$f":"COMPLEX(定数!T$13,計算!B40*定数!T$23)","v":"77.2000539135484-66.3530984045411i"},{"$f":"COMPLEX(定数!U$13,計算!B40*定数!U$23)","v":"124.646605989444+121.081125264636i"},{"$f":"COMPLEX(定数!V$13,計算!B40*定数!V$23)","v":"-123.576013789444+121.081125264636i"},{"$f":"IMPRODUCT(定数!D$31,計算!G40)","v":"-0.362684527655833+0.571499368297412i"},{"$f":"COMPLEX(定数!O$14,計算!B40*定数!O$24)","v":"86.1948356167649+124.021203582343i"},{"$f":"COMPLEX(定数!P$14,計算!B40*定数!P$24)","v":"-85.0982474167649+124.021203582343i"},{"$f":"COMPLEX(定数!Q$14,計算!B40*定数!Q$24)","v":"57.0863694248256+68.5589035885613i"},{"$f":"COMPLEX(定数!R$14,計算!B40*定数!R$24)","v":"-56.4801756248256+68.5589035885613i"},{"$f":"COMPLEX(定数!S$14,計算!B40*定数!S$24)","v":"163.969671876329+145.541658638103i"},{"$f":"COMPLEX(定数!T$14,計算!B40*定数!T$24)","v":"-162.682801076329+145.541658638103i"},{"$f":"COMPLEX(定数!U$14,計算!B40*定数!U$24)","v":"-101.525845343051-104.495604569413i"},{"$f":"COMPLEX(定数!V$14,計算!B40*定数!V$24)","v":"100.601901343051-104.495604569413i"},{"$f":"IMPRODUCT(定数!D$32,計算!G40)","v":"0.362684527655833-0.571499368297412i"},{"$f":"COMPLEX(定数!O$15,計算!B40*定数!O$25)","v":"86.1919999827348+124.019823807877i"},{"$f":"COMPLEX(定数!P$15,計算!B40*定数!P$25)","v":"-85.0954239827348+124.019823807877i"},{"$f":"COMPLEX(定数!Q$15,計算!B40*定数!Q$25)","v":"-57.0828842529623-68.558654781625i"},{"$f":"COMPLEX(定数!R$15,計算!B40*定数!R$25)","v":"56.4766926529622-68.558654781625i"},{"$f":"COMPLEX(定数!S$15,計算!B40*定数!S$25)","v":"-163.956966054068-145.528765557141i"},{"$f":"COMPLEX(定数!T$15,計算!B40*定数!T$25)","v":"162.670209254068-145.528765557141i"},{"$f":"COMPLEX(定数!U$15,計算!B40*定数!U$25)","v":"-101.548680976766-104.516143056522i"},{"$f":"COMPLEX(定数!V$15,計算!B40*定数!V$25)","v":"100.624555376766-104.516143056522i"},{"$f":"IMPRODUCT(定数!D$33,計算!G40)","v":"0"},{"$f":"COMPLEX(定数!O$16,計算!B40*定数!O$26)","v":"74.3664237452132+100.998634968647i"},{"$f":"COMPLEX(定数!P$16,計算!B40*定数!P$26)","v":"-73.4733997452132+100.998634968647i"},{"$f":"COMPLEX(定数!Q$16,計算!B40*定数!Q$26)","v":"-125.201328746793-144.508831169992i"},{"$f":"COMPLEX(定数!R$16,計算!B40*定数!R$26)","v":"123.923590146793-144.508831169992i"},{"$f":"COMPLEX(定数!S$16,計算!B40*定数!S$26)","v":"77.7704269443536+66.3347313971i"},{"$f":"COMPLEX(定数!T$16,計算!B40*定数!T$26)","v":"-77.1838991443536+66.3347313971i"},{"$f":"COMPLEX(定数!U$16,計算!B40*定数!U$26)","v":"124.65071095008+121.080265724611i"},{"$f":"COMPLEX(定数!V$16,計算!B40*定数!V$26)","v":"-123.58012635008+121.080265724611i"},{"$f":"IMPRODUCT(定数!D$34,計算!G40)","v":"0"},{"$f":"IMDIV(COMPLEX(定数!O$17,計算!B40*定数!O$27),計算!R40)","v":"-0.449016413047371-0.012605595892806i"},{"$f":"IMPRODUCT(COMPLEX(定数!P$17,計算!B40*定数!P$27),計算!R40)","v":"0.16204417254969-0.858282976762308i"},{"$f":"IMDIV(COMPLEX(定数!Q$17,計算!B40*定数!Q$27),計算!S40)","v":"-0.183353752700111-0.596257268820472i"},{"$f":"IMPRODUCT(COMPLEX(定数!R$17,計算!B40*定数!R$27),計算!S40)","v":"-1.08483370712303-0.751644797901406i"},{"$f":"IMDIV(COMPLEX(定数!S$17,計算!B40*定数!S$27),計算!T40)","v":"-0.182435989859264+0.218031234306187i"},{"$f":"IMPRODUCT(COMPLEX(定数!T$17,計算!B40*定数!T$27),計算!T40)","v":"0.676444505604415-0.0984509565787257i"},{"$f":"IMDIV(COMPLEX(定数!U$17,計算!B40*定数!U$27),計算!U40)","v":"0.188943896968024-0.478716192520435i"},{"$f":"IMPRODUCT(COMPLEX(定数!V$17,計算!B40*定数!V$27),計算!U40)","v":"-1.17868762953056-0.0705801826486842i"},{"$f":"IMPRODUCT(定数!E$31,計算!G40)","v":"0"},{"$f":"IMDIV(COMPLEX(定数!O$18,計算!B40*定数!O$28),計算!R40)","v":"-0.558357082915954+0.00514532509663802i"},{"$f":"IMPRODUCT(COMPLEX(定数!P$18,計算!B40*定数!P$28),計算!R40)","v":"0.205976664515155-1.03328316117814i"},{"$f":"IMDIV(COMPLEX(定数!Q$18,計算!B40*定数!Q$28),計算!S40)","v":"-0.0967459026182205-0.281700374711278i"},{"$f":"IMPRODUCT(COMPLEX(定数!R$18,計算!B40*定数!R$28),計算!S40)","v":"-0.504948128447774-0.355424293068845i"},{"$f":"IMDIV(COMPLEX(定数!S$18,計算!B40*定数!S$28),計算!T40)","v":"0.376361279059809-0.493486990489128i"},{"$f":"IMPRODUCT(COMPLEX(定数!T$18,計算!B40*定数!T$28),計算!T40)","v":"-1.4599402000368+0.200698271459718i"},{"$f":"IMDIV(COMPLEX(定数!U$18,計算!B40*定数!U$28),計算!U40)","v":"-0.139304257579311+0.422939447837412i"},{"$f":"IMPRODUCT(COMPLEX(定数!V$18,計算!B40*定数!V$28),計算!U40)","v":"0.993474298458324+0.0707093293058708i"},{"$f":"IMPRODUCT(定数!E$32,計算!G40)","v":"0"},{"$f":"IMDIV(COMPLEX(定数!O$19,計算!B40*定数!O$29),計算!R40)","v":"-0.558353437817551+0.00515281558453702i"},{"$f":"IMPRODUCT(COMPLEX(定数!P$19,計算!B40*定数!P$29),計算!R40)","v":"0.205976939795527-1.03326411774125i"},{"$f":"IMDIV(COMPLEX(定数!Q$19,計算!B40*定数!Q$29),計算!S40)","v":"0.0967593775370179+0.281697661256083i"},{"$f":"IMPRODUCT(COMPLEX(定数!R$19,計算!B40*定数!R$29),計算!S40)","v":"0.50493246985955+0.355421312054628i"},{"$f":"IMDIV(COMPLEX(定数!S$19,計算!B40*定数!S$29),計算!T40)","v":"-0.376334459738906+0.493439103497324i"},{"$f":"IMPRODUCT(COMPLEX(定数!T$19,計算!B40*定数!T$29),計算!T40)","v":"1.45981738972986-0.200684662674427i"},{"$f":"IMDIV(COMPLEX(定数!U$19,計算!B40*定数!U$29),計算!U40)","v":"-0.139342962361823+0.423017910962971i"},{"$f":"IMPRODUCT(COMPLEX(定数!V$19,計算!B40*定数!V$29),計算!U40)","v":"0.993680889259279+0.0707185620565102i"},{"$f":"IMPRODUCT(定数!E$33,計算!G40)","v":"0"},{"$f":"IMDIV(COMPLEX(定数!O$20,計算!B40*定数!O$30),計算!R40)","v":"-0.449008833800902-0.0126016073913424i"},{"$f":"IMPRODUCT(COMPLEX(定数!P$20,計算!B40*定数!P$30),計算!R40)","v":"0.162042248931618-0.858262321711489i"},{"$f":"IMDIV(COMPLEX(定数!Q$20,計算!B40*定数!Q$30),計算!S40)","v":"0.183359244654024+0.596289042279564i"},{"$f":"IMPRODUCT(COMPLEX(定数!R$20,計算!B40*定数!R$30),計算!S40)","v":"1.08489471782897+0.751684719748901i"},{"$f":"IMDIV(COMPLEX(定数!S$20,計算!B40*定数!S$30),計算!T40)","v":"0.182404152597201-0.217958926449191i"},{"$f":"IMPRODUCT(COMPLEX(定数!T$20,計算!B40*定数!T$30),計算!T40)","v":"-0.676275923288561+0.098435659925198i"},{"$f":"IMDIV(COMPLEX(定数!U$20,計算!B40*定数!U$30),計算!U40)","v":"0.188962162078637-0.478704710133222i"},{"$f":"IMPRODUCT(COMPLEX(定数!V$20,計算!B40*定数!V$30),計算!U40)","v":"-1.17869886857432-0.0705715975679101i"},{"$f":"IMPRODUCT(定数!E$34,計算!G40)","v":"0"},"0.301097474538641+0.949182645023001i","1.51954377443963-0.120663715661881i","0.341931986655637+1.47865611910509i","-0.793715593178986+0.185732046941843i","-0.0610498931730123-0.809304516404711i","1.3665966540134-0.227864202026088i","0.193179293356533+1.36575916250384i","0.00195459392609765+0.00503012102081058i","6.6674793159783+4.864090336413i","-88.8553156705804-109.496155077114i","97.4317645690874-101.30043405976i","255.418568962394+227.970078551317i","-257.791535758999+222.871009623403i","-247.579411878763-254.341848975174i","253.333939044961-246.175319542786i","0.818050288664091-1.24748091404798i","6.6698468942764+4.865817543163i","-203.020093989618-246.611958977739i","210.387562228895-238.413327713311i","-72.5105759232848-63.1009141243232i","67.5624181139509-68.2017936983522i","-247.598057943292-254.3611480066i","253.355256424835-246.19171869288i","0.455364363088764-0.675964585269437i","0.00120935788559962+0.00088225635499839i","-250.391235548266-289.007349153917i","247.837580752768-289.005862601151i","155.554900290944+132.686694755565i","-154.382488349886+132.685769878424i","0.00783172607400218+0.00131492077399287i","-0.00636842982198971+0.00279617872499216i","0.362679196670968-0.571483429777175i","0.285276867693028-0.428288877078885i","0.500467380405793-0.631282502849923i","-0.949939974470618-0.0833936747236871i","-0.541168581616351+0.291422713790526i","0.659233867242964-0.462611537880445i","0.805440588684838-0.563804194007137i","-1.109163164242+0.545103237692282i","0.000814237080780298+0.00228324571912547i","0.378980425356641-0.504849552740926i","0.751081272596542-0.35689236172011i","-0.306419815384147+0.468434472998216i","-0.065859792450136-0.385698261793495i","-1.49819197514029-0.250868515963233i","0.622572228281004+0.288678272632277i","1.10836460007144+0.832296660980993i","0.00111724297078863+0.00279854667871233i","0.378986712948206-0.504836224535169i","0.944580110035092+0.206494731954113i","0.703470612403206+1.17927212703722i","-0.81855124685376+0.601233100498416i","1.42155977507355-0.652248042809292i","0.622526835305163+0.288747329869575i","1.10858071691734+0.832299468397931i","0.00111727352416207+0.00279851370256408i","0.285276447799354-0.428276617044995i","0.867168379495735+0.561258662087586i","1.21979175651668+1.41992327203122i","-0.176321682601238-0.144565688938008i","-0.693489326850072-0.265718543960534i","0.805447587185883-0.56379643525373i","-1.10917042010682+0.545100700851852i","0.000814242329076239+0.00228319979869775i","2.34198499257846+16.87354137546i","-16.3676643269485+4.3729659327456i","-9.35495583241511-40.224958277484i","40.925685613366-4.07558093596527i","7.28222495701128+42.1878082809891i","-42.0242024938015+7.21680805250457i","-0.166687682711215+0.0679362755395205i","-16.5168591889361-4.37296593308403i","2.30331948491656-16.8735413754346i","41.2813523324824+4.07558093681792i","-9.31891978591474+40.2249582772836i","-42.3972246173316-7.21680805337752i","7.21841436483023-42.1878082808434i","-0.00900726103234023-0.180528311474246i","-114.133226377946-137.076922530704i","112.921200276022-137.07692253214i","-328.019842348673-291.151943363016i","325.445493964652-291.151943358857i","0.0692677647920164+0.0710160992429962i","-0.0686398485530049+0.0710160952210117i","-0.362976409897725+0.571959301093033i","-250.375118831345-288.987488569098i","247.819908426076-288.987488569084i","155.508572069154+132.645345184182i","-154.335729715688+132.645345184136i","0.0527380692246146+0.0474478453551388i","-0.0523185381148505+0.047447845399212i","0.36253081742307-0.571257159726833i","7.08523790293707-6.45776355383089i","5.61972634560505+5.71672347149783i","-14.0633094520331+16.8090977848824i","-13.9101960970715-15.9290513290042i","15.9912666436698-16.663275520416i","14.9001592310706+15.6718756214885i","0.0807020680968318+0.0499260872333123i","9.21833748904407-7.03815284654907i","7.3392670030336+8.02600617251289i","-17.7682394718236+18.9106086027902i","-18.274055986119-20.1999927997889i","20.3336927656631-18.3805126270979i","19.6712229953913+20.4648634517027i","0.0956704558929709+0.0666679312465405i","9.41188189395741-6.4745181173534i","8.34891805445749+8.7369192213723i","-18.5211361663287+19.8969641331359i","-15.3537095158231-20.601501040263i","20.3338177620166-18.3798331145859i","19.6708314380067+20.4650353103152i","0.0956681369618426+0.0666691534093091i","7.45187835399178-5.2650217278207i","7.78925217355253+7.22000509438451i","-13.6983952524788+16.3726049826859i","-15.2624300447683-15.7320271946064i","15.9911673615332-16.662751000544i","14.899637782213+15.6717668722496i","0.080699856279819+0.0499260759395141i","-0.295854889852901-1.0481173674247i","-21.2714137529837-80.3820503880938i","82.004346735486-11.2723627006269i","7.2842604754948+42.1970614017314i","-42.0333510884567+7.21910521446007i","-0.224973764626838+0.096013107027268i","1.0894519227242+0.094987043783501i","83.0477817695388+8.61520231784447i","-18.5817325017453+81.0147580723774i","-42.4065732812489-7.21851117186152i","7.21983493495001-42.197161652685i","-0.0123910910094521-0.245328396410419i","0.185502057698316+0.978232850178287i","2.43107298172092-0.368797595184464i","0.086938231104773+2.44656816468222i","-0.000554442980554052+0.0000436791143851117i","-0.0000597357295752756-0.000550476905276085i","-0.00116212593699135-0.00361558738986884i","11.567953556937+9.54545131766599i","870.766649577883+742.857278980875i","-839.596149296466+770.329201213041i","-0.0987033754858874-0.101843075695321i","0.0918060598652875-0.107640753641001i","1.11642291735217-1.81235013804249i","-2.01179631171333-0.0163605691187101i","-28.9064322180057+35.1214109828558i","-30.3255328731571-32.7021422812669i","15.9949129346977-16.6671654590053i","14.9041373226221+15.6753901221051i","0.112284615305575+0.068038649528528i","-1.25570588881172+0.31391745213007i","-37.5830368334757+39.4205725268161i","-36.2948026336778-42.1413992730568i","20.338496387893-18.3848175303574i","19.6756480001045+20.4695175044003i","0.131830381664881+0.0918184160559993i","0.269408284845291+0.730943604079011i","-39.0143212342187+39.108069606548i","-32.0123117866259-43.0654284993897i","20.3387533126491-18.3838339683744i","19.6749577363347+20.4698295738696i","0.13001511508729+0.0931744294663396i","1.25649619411286+0.907005257314331i","-29.8727280301249+31.9204918699237i","-28.7915177129186-33.5058238668223i","15.9950690316922-16.6659956463305i","14.9029811984701+15.6755544492703i","0.108396023560791+0.0707503750383199i","-0.00731846428640281-0.0335068121853084i","0.0339342855366027-0.00373716861539997i","7.28257945688553+42.1869007962159i","-42.0234200923702+7.21647567786462i","-0.083393092833942+0.0339881509287054i","0.0342305507708005+0.00373716902493015i","-0.00728542085920125+0.0335068120923978i","-42.3964341920222-7.21647567839709i","7.2187718032038-42.186900796127i","-0.00450634611728619-0.090317471387062i","-10.4998207663036-75.2465946277277i","75.641314799426-1.2513841969076i","0.000162780412357867+0.00943174960689912i","-0.00931465869730826+0.00104896713062197i","-0.135069451806464+0.041533190656844i","76.3066407708302+1.25138419834056i","-10.4887561021231+75.2465946275124i","-0.00939805362340528-0.00104896793478348i","0.000153506305742271-0.0094317495374098i","-0.0194945510199307-0.140583711917373i","124.586512886313+38.8873611681614i","-52.65785082622+118.507077240172i","15.9760231267932-16.6694295263335i","14.904600454832+15.6564178746233i","0.0753655790009601-0.215106085543212i","58.6284926770752+17.0379567824547i","-25.8443761704907+55.6387963053311i","20.3263659072733-18.3831845125218i","19.6728799680927+20.457625812656i","0.063219278493324-0.0785936990830597i","-58.6572711705712-17.0049146842025i","25.8144630767139-55.6707953108451i","20.3405184897539-18.3766819205354i","19.6680223034645+20.4722583608832i","0.0325083435777085+0.145298263553594i","-124.616719697395-38.8623919598033i","52.6366213325312-118.539526708931i","16.0059262308705-16.6561535380677i","14.8942336719651+15.6872661756415i","0.00538068692145201+0.265074934280818i","0.0000253305259413014-0.00035379375947788i","7.28846330984208+42.1883817227019i","-42.0250574976439+7.22191495807049i","-0.0833341719960553+0.0339773932489518i","0.0003257433645163+0.000150478160715999i","-42.3997232668381-7.21134830079878i","7.21411756767949-42.1901968020171i","-0.00451492775786815-0.0902579523985307i","0.171788703388401+0.48869046235177i","12.7459280449703+4.27527180052383i","-4.54561733659302+11.7383936986322i","-0.003107337401238+0.0277336987573095i","-0.509242384225169+0.0774731343969961i","-6.22005811656815+11.9867029498885i","-10.9448456643447-6.33208965226831i","-0.0262686146511381-0.00747831730182602i","-0.114595955822141+0.98697209444207i","0.0787932858984397-0.158391883964996i","0.14475432675892+0.0804846676979008i","0.0000601517596769971-0.00174533521895017i","-2.3098001231571-0.2734089634016i","13.0081602482867-10.4393837032571i","12.5574462716195+13.272613098521i","0.0299557254602189+0.0227078109384363i","2.3092007593277+0.273600018719897i","27.6557581006139-26.3276445050969i","26.7902811936868+27.6548043158169i","0.0657159581500507+0.043944537873498i","-0.0000471602073019994+0.000225181138986841i","31.9803745316124-33.3323349840899i","29.8052163318362+31.3425008344714i","0.080704503276516+0.049914625784552i","7.28678112773674+42.1864738877823i","-42.0231243418692+7.21990825371306i","-0.0833309244561588+0.0339726695266081i","-42.3973163463571-7.21225798538801i","7.21532529897828-42.1876498792581i","-0.0045116188570219-0.0902531901171777i","16.1088323127448+5.8529613369988i","-5.9685259157669+15.55076910314i","-0.00471118354624625+0.0359502229685741i","-8.38343133675122+14.9806612384481i","-14.4065819804037-8.42735435947877i","-0.0339999533859913-0.0105648174961967i","4.55073102855441+5.38855320781641i","-5.51314344573764+5.4574785918719i","-0.00961174689295971+0.0110729278362788i","-5.02631896163677+5.1145656465447i","-6.03224957483344-5.03218520024968i","-0.013937383730655-0.00818131625790995i","40.6618829200875-36.7630024177333i","39.3431505273561+40.9255537979086i","0.0956617669626032+0.0666501080381773i","31.9812891930859-33.3309619478851i","29.8037986965008+31.3436218644041i","0.0807020037084966+0.0499173783879242i","1.4146367379916-1.65970586922151i","0.000599390174226694-0.0013372305728268i","1.0931677657846+1.9278111266147i","0.00085358605687711+0.00105994720615331i","-0.42038604894486-1.3095062647889i","-0.00029944743818892-0.000235296899239103i","1.3660710484162-0.224088362972589i","0.0010599545896093-0.0003688420054826i","-0.0794719779766604+0.57610675298485i","-0.000625363673618321-0.0009387836941026i","-0.57871175750058+0.00865821869614969i","-0.000930795070786-0.00021568501012649i","0.0316882835418295+1.03513431301474i","0.000479059568891313+0.00207225465414787i","-5.7116558615274-0.705106980880103i","-0.003689179928662-0.0003884807266104i"]
[{"$f":"COMPLEX(定数!O$13,計算!B41*定数!O$23)","v":"74.3688188913563+103.806198412037i"},{"$f":"COMPLEX(定数!P$13,計算!B41*定数!P$23)","v":"-73.4757772913563+103.806198412037i"},{"$f":"COMPLEX(定数!Q$13,計算!B41*定数!Q$23)","v":"125.193786513619+148.515177361306i"},{"$f":"COMPLEX(定数!R$13,計算!B41*定数!R$23)","v":"-123.916114913619+148.515177361306i"},{"$f":"COMPLEX(定数!S$13,計算!B41*定数!S$23)","v":"-77.7867441135484-68.1962400268895i"},{"$f":"COMPLEX(定数!T$13,計算!B41*定数!T$23)","v":"77.2000539135484-68.1962400268895i"},{"$f":"COMPLEX(定数!U$13,計算!B41*定数!U$23)","v":"124.646605989444+124.44448985532i"},{"$f":"COMPLEX(定数!V$13,計算!B41*定数!V$23)","v":"-123.576013789444+124.44448985532i"},{"$f":"IMPRODUCT(定数!D$31,計算!G41)","v":"-0.0966301126428881+0.506552789937714i"},{"$f":"COMPLEX(定数!O$14,計算!B41*定数!O$24)","v":"86.1948356167649+127.466237015186i"},{"$f":"COMPLEX(定数!P$14,計算!B41*定数!P$24)","v":"-85.0982474167649+127.466237015186i"},{"$f":"COMPLEX(定数!Q$14,計算!B41*定数!Q$24)","v":"57.0863694248256+70.4633175771324i"},{"$f":"COMPLEX(定数!R$14,計算!B41*定数!R$24)","v":"-56.4801756248256+70.4633175771324i"},{"$f":"COMPLEX(定数!S$14,計算!B41*定数!S$24)","v":"163.969671876329+149.584482489162i"},{"$f":"COMPLEX(定数!T$14,計算!B41*定数!T$24)","v":"-162.682801076329+149.584482489162i"},{"$f":"COMPLEX(定数!U$14,計算!B41*定数!U$24)","v":"-101.525845343051-107.398260251896i"},{"$f":"COMPLEX(定数!V$14,計算!B41*定数!V$24)","v":"100.601901343051-107.398260251896i"},{"$f":"IMPRODUCT(定数!D$32,計算!G41)","v":"0.0966301126428881-0.506552789937714i"},{"$f":"COMPLEX(定数!O$15,計算!B41*定数!O$25)","v":"86.1919999827348+127.464818913652i"},{"$f":"COMPLEX(定数!P$15,計算!B41*定数!P$25)","v":"-85.0954239827348+127.464818913652i"},{"$f":"COMPLEX(定数!Q$15,計算!B41*定数!Q$25)","v":"-57.0828842529623-70.4630618588923i"},{"$f":"COMPLEX(定数!R$15,計算!B41*定数!R$25)","v":"56.4766926529622-70.4630618588923i"},{"$f":"COMPLEX(定数!S$15,計算!B41*定数!S$25)","v":"-163.956966054068-149.571231267062i"},{"$f":"COMPLEX(定数!T$15,計算!B41*定数!T$25)","v":"162.670209254068-149.571231267062i"},{"$f":"COMPLEX(定数!U$15,計算!B41*定数!U$25)","v":"-101.548680976766-107.419369252537i"},{"$f":"COMPLEX(定数!V$15,計算!B41*定数!V$25)","v":"100.624555376766-107.419369252537i"},{"$f":"IMPRODUCT(定数!D$33,計算!G41)","v":"0"},{"$f":"COMPLEX(定数!O$16,計算!B41*定数!O$26)","v":"74.3664237452132+103.804152606665i"},{"$f":"COMPLEX(定数!P$16,計算!B41*定数!P$26)","v":"-73.4733997452132+103.804152606665i"},{"$f":"COMPLEX(定数!Q$16,計算!B41*定数!Q$26)","v":"-125.201328746793-148.522965369158i"},{"$f":"COMPLEX(定数!R$16,計算!B41*定数!R$26)","v":"123.923590146793-148.522965369158i"},{"$f":"COMPLEX(定数!S$16,計算!B41*定数!S$26)","v":"77.7704269443536+68.1773628247972i"},{"$f":"COMPLEX(定数!T$16,計算!B41*定数!T$26)","v":"-77.1838991443536+68.1773628247972i"},{"$f":"COMPLEX(定数!U$16,計算!B41*定数!U$26)","v":"124.65071095008+124.443606439184i"},{"$f":"COMPLEX(定数!V$16,計算!B41*定数!V$26)","v":"-123.58012635008+124.443606439184i"},{"$f":"IMPRODUCT(定数!D$34,計算!G41)","v":"0"},{"$f":"IMDIV(COMPLEX(定数!O$17,計算!B41*定数!O$27),計算!R41)","v":"-0.377605398985069+0.263756562100402i"},{"$f":"IMPRODUCT(COMPLEX(定数!P$17,計算!B41*定数!P$27),計算!R41)","v":"0.657054548390409-0.584436500962008i"},{"$f":"IMDIV(COMPLEX(定数!Q$17,計算!B41*定数!Q$27),計算!S41)","v":"-0.50494333894314-0.394230495471845i"},{"$f":"IMPRODUCT(COMPLEX(定数!R$17,計算!B41*定数!R$27),計算!S41)","v":"-0.44186841097899-1.25213038919835i"},{"$f":"IMDIV(COMPLEX(定数!S$17,計算!B41*定数!S$27),計算!T41)","v":"-0.0286668977796432+0.290651166913165i"},{"$f":"IMPRODUCT(COMPLEX(定数!T$17,計算!B41*定数!T$27),計算!T41)","v":"0.615169779034805+0.305475506879391i"},{"$f":"IMDIV(COMPLEX(定数!U$17,計算!B41*定数!U$27),計算!U41)","v":"-0.117325891490476-0.515770777786129i"},{"$f":"IMPRODUCT(COMPLEX(定数!V$17,計算!B41*定数!V$27),計算!U41)","v":"-0.929995613554987-0.737773759230421i"},{"$f":"IMPRODUCT(定数!E$31,計算!G41)","v":"0"},{"$f":"IMDIV(COMPLEX(定数!O$18,計算!B41*定数!O$28),計算!R41)","v":"-0.456856042247998+0.344558701630146i"},{"$f":"IMPRODUCT(COMPLEX(定数!P$18,計算!B41*定数!P$28),計算!R41)","v":"0.799998668233094-0.696958853964234i"},{"$f":"IMDIV(COMPLEX(定数!Q$18,計算!B41*定数!Q$28),計算!S41)","v":"-0.246853079141306-0.1804455061078i"},{"$f":"IMPRODUCT(COMPLEX(定数!R$18,計算!B41*定数!R$28),計算!S41)","v":"-0.202363615171964-0.587477795623875i"},{"$f":"IMDIV(COMPLEX(定数!S$18,計算!B41*定数!S$28),計算!T41)","v":"0.0346213353617936-0.636812162160087i"},{"$f":"IMPRODUCT(COMPLEX(定数!T$18,計算!B41*定数!T$28),計算!T41)","v":"-1.3210812625996-0.669328488888926i"},{"$f":"IMDIV(COMPLEX(定数!U$18,計算!B41*定数!U$28),計算!U41)","v":"0.126395254233096+0.439792134589809i"},{"$f":"IMPRODUCT(COMPLEX(定数!V$18,計算!B41*定数!V$28),計算!U41)","v":"0.777465637577736+0.631385462738065i"},{"$f":"IMPRODUCT(定数!E$32,計算!G41)","v":"0"},{"$f":"IMDIV(COMPLEX(定数!O$19,計算!B41*定数!O$29),計算!R41)","v":"-0.456848470051029+0.344562441875461i"},{"$f":"IMPRODUCT(COMPLEX(定数!P$19,計算!B41*定数!P$29),計算!R41)","v":"0.799987278431634-0.696943526402752i"},{"$f":"IMDIV(COMPLEX(定数!Q$19,計算!B41*定数!Q$29),計算!S41)","v":"0.246862507349084+0.180435500718713i"},{"$f":"IMPRODUCT(COMPLEX(定数!R$19,計算!B41*定数!R$29),計算!S41)","v":"0.202352556665877+0.587466313032222i"},{"$f":"IMDIV(COMPLEX(定数!S$19,計算!B41*定数!S$29),計算!T41)","v":"-0.0346260066127362+0.636755950890617i"},{"$f":"IMPRODUCT(COMPLEX(定数!T$19,計算!B41*定数!T$29),計算!T41)","v":"1.32097197024852+0.669269397096216i"},{"$f":"IMDIV(COMPLEX(定数!U$19,計算!B41*定数!U$29),計算!U41)","v":"0.126408116297419+0.439881119455508i"},{"$f":"IMPRODUCT(COMPLEX(定数!V$19,計算!B41*定数!V$29),計算!U41)","v":"0.777630428204434+0.631512105024984i"},{"$f":"IMPRODUCT(定数!E$33,計算!G41)","v":"0"},{"$f":"IMDIV(COMPLEX(定数!O$20,計算!B41*定数!O$30),計算!R41)","v":"-0.377596721923381+0.263755115678083i"},{"$f":"IMPRODUCT(COMPLEX(定数!P$20,計算!B41*定数!P$30),計算!R41)","v":"0.657040363964865-0.584421231256086i"},{"$f":"IMDIV(COMPLEX(定数!Q$20,計算!B41*定数!Q$30),計算!S41)","v":"0.504966740225556+0.394253958560624i"},{"$f":"IMPRODUCT(COMPLEX(定数!R$20,計算!B41*定数!R$30),計算!S41)","v":"0.441894659690555+1.25219883981983i"},{"$f":"IMDIV(COMPLEX(定数!S$20,計算!B41*定数!S$30),計算!T41)","v":"0.0286811187550681-0.290571273127615i"},{"$f":"IMPRODUCT(COMPLEX(定数!T$20,計算!B41*定数!T$30),計算!T41)","v":"-0.615021651861383-0.30539150961161i"},{"$f":"IMDIV(COMPLEX(定数!U$20,計算!B41*定数!U$30),計算!U41)","v":"-0.117304312164413-0.515771514993365i"},{"$f":"IMPRODUCT(COMPLEX(定数!V$20,計算!B41*定数!V$30),計算!U41)","v":"-0.930009758076801-0.737772920466284i"},{"$f":"IMPRODUCT(定数!E$34,計算!G41)","v":"0"},"0.32572513876236+0.941172807008481i","1.51641301189473-0.119645474523834i","0.380297465201432+1.46617822978072i","-0.788896555966652+0.184164715703845i","-0.0820482542252969-0.802475063596222i","1.36068444830091-0.225941331483621i","0.228615527089817+1.35423397320981i","0.00278399391007382+0.0029253787941491i","6.79368388175649+4.823043888833i","-88.8713592760134-112.515320801082i","97.6283686203994-104.388760759337i","255.443264138247+234.26811047597i","-257.89914194587+229.212070902155i","-247.609709001054-261.364610715634i","253.515532169283-253.266995920736i","0.229551241940209-1.11357056180647i","6.7960962744731+4.82475652025799i","-203.03614329203-253.439889080267i","210.584236093024-245.310443350059i","-72.485871978336-64.8881997919351i","67.4547737168244-69.9460347324226i","-247.628365823895-261.3844308145i","253.536914031691-253.283940609408i","0.132924875201036-0.607005528579061i","0.00123224906839425+0.000874811285001442i","-250.39123845828-297.035327012975i","247.837616413121-297.033853004735i","155.554904770194+136.372430024283i","-154.382507867666+136.371512951874i","0.00782623073399691+0.00135911690900059i","-0.00633549217499763+0.00282787501500081i","0.0966307959595122-0.506540087718282i","1.02829062329118-0.31495671044731i","0.0361051224082419-0.839373155357845i","0.088448094414823-0.798799525755806i","-0.277983844279133+0.568269401320099i","0.372529851316592+0.024097355775375i","0.33688239367446-0.95997689659555i","-0.486481059180667-0.286706544925377i","0.00182283898477161+0.000370342164117604i","1.27309744638119-0.379209801183158i","0.404704478528432-0.75759956258515i","0.476562046868539-0.0486802131791211i","-0.262335267611205-0.280854225977537i","-1.63506526930161-1.00767363049932i","0.670182114211667-0.132266194726934i","1.34852312199304+1.17130396682992i","0.00227984915848723+0.00037722765096991i","1.273087110342-0.379202818659477i","0.898408134937384-0.396723321536201i","0.881280822885321+1.12625137088082i","-0.33157594708441+0.992715443208312i","1.00698558337846+0.330930638865667i","0.670183827829329-0.132180588282603i","1.34869124666521+1.1714194995123i","0.00227983901917131+0.000377195086605293i","1.02827225119516-0.314949136219783i","1.04600221662557-0.050885469780588i","0.972205744506888+1.70551753121417i","-0.220629248820296-0.012955777806866i","-0.85765970692399-0.586762816266422i","0.336892493064212-0.959973705171559i","-0.486499146207757-0.286717126258365i","0.00182281059655154+0.000370320807256274i","2.34345842091535+16.9997113975028i","-16.3691377552858+4.83697666927188i","-9.35921671761859-40.3517567732698i","40.9299464985705-5.17935297390226i","7.2863469482703+42.401420154367i","-42.0283244850617+8.37554663285212i","-0.0969161368128432+0.0952947995911781i","-16.5153857605982-4.8369766696023i","2.30184605657954-16.9997113974778i","41.2770914472764+5.17935297473471i","-9.31465890071084+40.3517567730742i","-42.3931026260697-8.37554663370453i","7.21429237357103-42.4014201542249i","-0.0549053099175101-0.124933667376483i","-114.133226377942-140.884614823247i","112.921200276008-140.884614824655i","-328.019842348688-299.239497345243i","325.445493964687-299.239497341174i","0.0692677648019924+0.0729887685910171i","-0.0686398485900099+0.0729887646539851i","-0.096707878894212+0.506960454855809i","-250.375118831338-297.014918807141i","247.81990842609-297.014918807109i","155.508572069143+136.329938105995i","-154.335729715718+136.329938105905i","0.0527380692380926+0.0487658410291856i","-0.0523185380824578+0.0487658411169378i","0.0965891595944104-0.506338106538324i","18.5421597004363-1.06718697185395i","3.07565455847755+17.4068261648632i","-44.3541019114139+8.24288624175209i","-2.75835031594413-44.4029500936098i","46.5672469322323-5.69947297698131i","5.44974154946412+45.5864660080788i","0.097630151242859+0.111545665063026i","23.2646288775537-0.862453067048671i","3.99254488948314+22.4664915416369i","-54.7761563949882+8.7780023691216i","-5.07837847220343-55.9116020851224i","57.8168221854041-5.54525918168023i","8.24306003031964+57.8881740647686i","0.119555730174156+0.138609328897289i","23.7581280559841-0.501511502107966i","4.39716875658356+23.6412313433189i","-54.8449342678717+10.0513373540343i","-2.43614213910557-54.5725156985917i","57.8163272397989-5.54496413437114i","8.24300665328018+57.8878009607432i","0.119554280179114+0.138608388391268i","19.5517167360389-0.27866306038707i","3.95932573862438+19.9108134667974i","-44.2959497396697+7.66144357611301i","-3.98840537060551-45.0129983679557i","46.5664147431741-5.69930256689942i","5.44953484610551+45.5856217810914i","0.0976281678529906+0.11154376427814i","-0.323950611879898-1.0425507339055i","-21.2693229857987-80.6515659031613i","81.9425805399648-13.4751405088181i","7.28838210718141+42.4107238042293i","-42.0374581644634+8.3780961395332i","-0.129577118382077+0.131616076537648i","1.09199813525834+0.0944825601463997i","83.038320408029+10.8320925131226i","-18.5668629744147+81.2809132273357i","-42.4024502813664-8.37750525191676i","7.2157106159412-42.4108235227471i","-0.0747232661915551-0.169730688799066i","0.211724462832327+0.973037378809498i","2.42118703283651-0.366838882240344i","0.152520675602897+2.43357424932971i","-0.000553272122597953+0.0000434471314883826i","-0.000074491755001395-0.000547553279850011i","-0.00183682398582723-0.00217447822155322i","11.823827903819+9.494754677282i","870.670183952397+763.611279347952i","-838.95620551322+790.93729604732i","-0.0986919504348614-0.104686152833215i","0.0916620728643482-0.110453038955538i","0.282546608293191-1.59633747666935i","-1.88858705764096-0.409438719158999i","-88.8566528629976+17.6287306384469i","-8.18349177451541-89.3639043896089i","46.5774594260746-5.70086902543302i","5.45170712920837+45.5965393318078i","0.134009409758281+0.149904952884923i","-1.77234523431761+0.0117404519852968i","-110.787792837974+19.4005330046681i","-10.7255589614837-112.396261917287i","57.8296563848928-5.54674713430915i","8.24526529235976+57.9008484429724i","0.164164143929225+0.187613583243842i","-1.12099758142526+0.629866947691799i","-112.183831922626+19.9809956399366i","-7.28021335853702-112.313193474788i","57.8294501605012-5.54627382921799i","8.24505104220248+57.9007724432114i","0.164284305489893+0.189348732077638i","-0.45140055861334+0.945262049507999i","-91.5320883250656+15.5084688777811i","-7.64859366438001-92.5510508687329i","46.5772200558825-5.70030620941018i","5.45114387067116+45.5963066296165i","0.13414717687381+0.153546691521351i","-0.00732197321699957-0.0336218123221954i","0.0339377944645918-0.00465672352919988i","7.28670138035595+42.4005032207839i","-42.0275420158354+8.37518926647455i","-0.0484867205743368+0.0476755142733408i","0.0342270418611008+0.00465672391990068i","-0.00728191194540173+0.0336218122314023i","-42.3923122685495-8.37518926698906i","7.21464987973213-42.4005032206981i","-0.0274689085634111-0.0625037147552i","-10.5085424960008-75.3091687961551i","75.6500365291022-3.3137538847648i","0.000163768487085165+0.00946403853884155i","-0.00931564678227365+0.00130780924081764i","-0.0821772153154001+0.0676732560901234i","76.2979190411467+3.31375388612393i","-10.4800343724242+75.3091687959502i","-0.00939706554945401-0.00130781003246982i","0.000152518232088544-0.0094640384707298i","-0.0513845709352324-0.0937474386855632i","53.8818304163074+55.1263655866921i","-58.8104386666509+48.5730852699331i","46.5602477177627-5.70718646101662i","5.45587011695707+45.5787281181086i","0.075349005347421-0.048184079411877i","24.477365331344+24.3778768573607i","-28.415634256633+21.200624838989i","57.8129861862688-5.5489546993907i","8.2454244952323+57.8840731088584i","0.0719923072120783+0.022064035147852i","-24.5668251640655-24.361831649963i","28.4064497394335-21.2907701335172i","57.8180923264345-5.54182098010646i","8.23926092974738+57.8900672127819i","0.047633912690123+0.116623522899736i","-53.958799258894-55.1172280929451i","58.8076122084244-48.6500712357427i","46.5717419920525-5.69201386614876i","5.44226672108486+45.5918903876674i","0.022336256821498+0.159800930165445i","0.000180152064596206-0.00021601629235129i","7.30566778781477+42.4093763961919i","-42.036277699395+8.39372480889233i","-0.0484467984330872+0.0476751394721164i","0.000138875847500769+0.000257501975032604i","-42.407202988067-8.36035322425553i","7.20017290865662-42.4151161005868i","-0.0274822838523305-0.062465934857253i","0.523622582993497+0.82332232230318i","40.3072705324508+22.7342866816634i","-22.3590952258959+39.3820257317084i","0.0058521505773773+0.0735265744943836i","-0.90605345613616+0.350305135729599i","-29.7851222452074+35.6801964326772i","-34.8344999754703-29.2462905926434i","-0.0731728027066601-0.00786017529607221i","-0.0826561013729693+0.986039548428376i","0.369248224966449-0.483697359599468i","0.472312795105958+0.362679592598079i","0.000236231824947028-0.0011359428750697i","-2.3548799783877-0.920045158266099i","36.9832478172684-2.71080547669916i","5.52581010578926+37.4926490653633i","0.0385180990045144+0.0441100935581221i","2.3541222692429+0.9194370310863i","78.6731025554206-8.42916635202641i","11.006947612115+78.3063581552082i","0.0811110277182078+0.0944720528412558i","-0.000178472473798763-0.00033637341299908i","93.1559905367192-11.4398039564426i","10.9378041897297+91.1942177790361i","0.0976930649881494+0.111527259978406i","7.30668643588261+42.4053785094269i","-42.0321267572665+8.39446440451225i","-0.0484407853714731+0.0476726313609643i","-42.4037370449258-8.35782317185503i","7.19785307614375-42.4113944327388i","-0.0274821883349142-0.0624591589565683i","52.4424354161275+30.3205734485029i","-29.1848606831244+52.3175185363217i","0.00779228430397883+0.0960435782029314i","-39.5620648380578+46.0445399391916i","-46.1287361827652-38.4371697313039i","-0.0955334515221846-0.0103656992271182i","5.50904349902735+13.0890393091046i","-12.9777261420241+6.61536101893719i","-0.0120185731578993+0.0182320822440745i","-13.234950458136+6.32200269322932i","-7.43241159512535-13.0174340282155i","-0.0205397298047998-0.0107065391147384i","115.642477548027-11.1432301225683i","16.5350423671145+115.784623940264i","0.119620074519055+0.138561543188821i","93.1515019087474-11.4431275384391i","10.9408564275586+91.1893944597275i","0.0976930006068634+0.111518440136868i","0.276978443365003-0.907624228945579i","-0.000563374926974204-0.000332663932867898i","0.746549875386131+0.617857940628596i","0.000378263917099098-0.000321558174614996i","-1.1088627852586-1.8193562261322i","-0.00096585313212331+0.001000232460533i","1.9998061563083-0.772482014412297i","-0.000303065466616209-0.00141480518367195i","-0.0683300766136004+0.47196117755096i","-0.000202981875727601-0.000769495897084398i","-0.46472028641246+0.00124041462919955i","-0.000359899066903001+0.000556495469064i","0.0460785534462411+1.0056692863289i","0.000910485006621281+0.00128592270153492i","-4.8594319366939-1.96292722143561i","-0.00183502270354301+0.00215160520294i"]
[{"$f":"COMPLEX(定数!O$13,計算!B42*定数!O$23)","v":"74.3688188913563+106.611771342092i"},{"$f":"COMPLEX(定数!P$13,計算!B42*定数!P$23)","v":"-73.4757772913563+106.611771342092i"},{"$f":"COMPLEX(定数!Q$13,計算!B42*定数!Q$23)","v":"125.193786513619+152.529101073773i"},{"$f":"COMPLEX(定数!R$13,計算!B42*定数!R$23)","v":"-123.916114913619+152.529101073773i"},{"$f":"COMPLEX(定数!S$13,計算!B42*定数!S$23)","v":"-77.7867441135484-70.0393816492379i"},{"$f":"COMPLEX(定数!T$13,計算!B42*定数!T$23)","v":"77.2000539135484-70.0393816492379i"},{"$f":"COMPLEX(定数!U$13,計算!B42*定数!U$23)","v":"124.646605989444+127.807854446004i"},{"$f":"COMPLEX(定数!V$13,計算!B42*定数!V$23)","v":"-123.576013789444+127.807854446004i"},{"$f":"IMPRODUCT(定数!D$31,計算!G42)","v":"0.0625034920796292+0.327654779941993i"},{"$f":"COMPLEX(定数!O$14,計算!B42*定数!O$24)","v":"86.1948356167649+130.911270448028i"},{"$f":"COMPLEX(定数!P$14,計算!B42*定数!P$24)","v":"-85.0982474167649+130.911270448028i"},{"$f":"COMPLEX(定数!Q$14,計算!B42*定数!Q$24)","v":"57.0863694248256+72.3677315657035i"},{"$f":"COMPLEX(定数!R$14,計算!B42*定数!R$24)","v":"-56.4801756248256+72.3677315657035i"},{"$f":"COMPLEX(定数!S$14,計算!B42*定数!S$24)","v":"163.969671876329+153.62730634022i"},{"$f":"COMPLEX(定数!T$14,計算!B42*定数!T$24)","v":"-162.682801076329+153.62730634022i"},{"$f":"COMPLEX(定数!U$14,計算!B42*定数!U$24)","v":"-101.525845343051-110.30091593438i"},{"$f":"COMPLEX(定数!V$14,計算!B42*定数!V$24)","v":"100.601901343051-110.30091593438i"},{"$f":"IMPRODUCT(定数!D$32,計算!G42)","v":"-0.0625034920796292-0.327654779941993i"},{"$f":"COMPLEX(定数!O$15,計算!B42*定数!O$25)","v":"86.1919999827348+130.909814019426i"},{"$f":"COMPLEX(定数!P$15,計算!B42*定数!P$25)","v":"-85.0954239827348+130.909814019426i"},{"$f":"COMPLEX(定数!Q$15,計算!B42*定数!Q$25)","v":"-57.0828842529623-72.3674689361597i"},{"$f":"COMPLEX(定数!R$15,計算!B42*定数!R$25)","v":"56.4766926529622-72.3674689361597i"},{"$f":"COMPLEX(定数!S$15,計算!B42*定数!S$25)","v":"-163.956966054068-153.613696976983i"},{"$f":"COMPLEX(定数!T$15,計算!B42*定数!T$25)","v":"162.670209254068-153.613696976983i"},{"$f":"COMPLEX(定数!U$15,計算!B42*定数!U$25)","v":"-101.548680976766-110.322595448551i"},{"$f":"COMPLEX(定数!V$15,計算!B42*定数!V$25)","v":"100.624555376766-110.322595448551i"},{"$f":"IMPRODUCT(定数!D$33,計算!G42)","v":"0"},{"$f":"COMPLEX(定数!O$16,計算!B42*定数!O$26)","v":"74.3664237452132+106.609670244683i"},{"$f":"COMPLEX(定数!P$16,計算!B42*定数!P$26)","v":"-73.4733997452132+106.609670244683i"},{"$f":"COMPLEX(定数!Q$16,計算!B42*定数!Q$26)","v":"-125.201328746793-152.537099568324i"},{"$f":"COMPLEX(定数!R$16,計算!B42*定数!R$26)","v":"123.923590146793-152.537099568324i"},{"$f":"COMPLEX(定数!S$16,計算!B42*定数!S$26)","v":"77.7704269443536+70.0199942524944i"},{"$f":"COMPLEX(定数!T$16,計算!B42*定数!T$26)","v":"-77.1838991443536+70.0199942524944i"},{"$f":"COMPLEX(定数!U$16,計算!B42*定数!U$26)","v":"124.65071095008+127.806947153756i"},{"$f":"COMPLEX(定数!V$16,計算!B42*定数!V$26)","v":"-123.58012635008+127.806947153756i"},{"$f":"IMPRODUCT(定数!D$34,計算!G42)","v":"0"},{"$f":"IMDIV(COMPLEX(定数!O$17,計算!B42*定数!O$27),計算!R42)","v":"-0.149796913523385+0.447635248586894i"},{"$f":"IMPRODUCT(COMPLEX(定数!P$17,計算!B42*定数!P$27),計算!R42)","v":"0.883246497955395-0.0618497918481249i"},{"$f":"IMDIV(COMPLEX(定数!Q$17,計算!B42*定数!Q$27),計算!S42)","v":"-0.656502451687015-0.0348733542893156i"},{"$f":"IMPRODUCT(COMPLEX(定数!R$17,計算!B42*定数!R$27),計算!S42)","v":"0.377211612300834-1.28164572504571i"},{"$f":"IMDIV(COMPLEX(定数!S$17,計算!B42*定数!S$27),計算!T42)","v":"0.143735343976191+0.263139027662394i"},{"$f":"IMPRODUCT(COMPLEX(定数!T$17,計算!B42*定数!T$27),計算!T42)","v":"0.333653885451225+0.604174090966356i"},{"$f":"IMDIV(COMPLEX(定数!U$17,計算!B42*定数!U$27),計算!U42)","v":"-0.398401748050803-0.369303983227232i"},{"$f":"IMPRODUCT(COMPLEX(定数!V$17,計算!B42*定数!V$27),計算!U42)","v":"-0.340637073580948-1.14389373194716i"},{"$f":"IMPRODUCT(定数!E$31,計算!G42)","v":"0"},{"$f":"IMDIV(COMPLEX(定数!O$18,計算!B42*定数!O$28),計算!R42)","v":"-0.166052302659009+0.562087672423704i"},{"$f":"IMPRODUCT(COMPLEX(定数!P$18,計算!B42*定数!P$28),計算!R42)","v":"1.06667346026583-0.0635217990920288i"},{"$f":"IMDIV(COMPLEX(定数!Q$18,計算!B42*定数!Q$28),計算!S42)","v":"-0.313626837069973-0.00695707368932478i"},{"$f":"IMPRODUCT(COMPLEX(定数!R$18,計算!B42*定数!R$28),計算!S42)","v":"0.181116749788782-0.598490673687813i"},{"$f":"IMDIV(COMPLEX(定数!S$18,計算!B42*定数!S$28),計算!T42)","v":"-0.338275819031127-0.560748984745398i"},{"$f":"IMPRODUCT(COMPLEX(定数!T$18,計算!B42*定数!T$28),計算!T42)","v":"-0.708849664886356-1.30878954301963i"},{"$f":"IMDIV(COMPLEX(定数!U$18,計算!B42*定数!U$28),計算!U42)","v":"0.361569541925773+0.300123550289183i"},{"$f":"IMPRODUCT(COMPLEX(定数!V$18,計算!B42*定数!V$28),計算!U42)","v":"0.276236790881175+0.968611094651344i"},{"$f":"IMPRODUCT(定数!E$32,計算!G42)","v":"0"},{"$f":"IMDIV(COMPLEX(定数!O$19,計算!B42*定数!O$29),計算!R42)","v":"-0.166043910885592+0.56208597178772i"},{"$f":"IMPRODUCT(COMPLEX(定数!P$19,計算!B42*定数!P$29),計算!R42)","v":"1.0666550487073-0.063516539562335i"},{"$f":"IMDIV(COMPLEX(定数!Q$19,計算!B42*定数!Q$29),計算!S42)","v":"0.313628746683868+0.0069434569114193i"},{"$f":"IMPRODUCT(COMPLEX(定数!R$19,計算!B42*定数!R$29),計算!S42)","v":"-0.181119140308605+0.598474910114741i"},{"$f":"IMDIV(COMPLEX(定数!S$19,計算!B42*定数!S$29),計算!T42)","v":"0.338239557271742+0.56070381470906i"},{"$f":"IMPRODUCT(COMPLEX(定数!T$19,計算!B42*定数!T$29),計算!T42)","v":"0.708793164959662+1.30867810632805i"},{"$f":"IMDIV(COMPLEX(定数!U$19,計算!B42*定数!U$29),計算!U42)","v":"0.361632156515495+0.300191404016418i"},{"$f":"IMPRODUCT(COMPLEX(定数!V$19,計算!B42*定数!V$29),計算!U42)","v":"0.27629953630249+0.968810338742125i"},{"$f":"IMPRODUCT(定数!E$33,計算!G42)","v":"0"},{"$f":"IMDIV(COMPLEX(定数!O$20,計算!B42*定数!O$30),計算!R42)","v":"-0.149790717840223+0.4476286806431i"},{"$f":"IMPRODUCT(COMPLEX(定数!P$20,計算!B42*定数!P$30),計算!R42)","v":"0.883225847500265-0.0618463188971706i"},{"$f":"IMDIV(COMPLEX(定数!Q$20,計算!B42*定数!Q$30),計算!S42)","v":"0.656535971179806+0.0348792367259696i"},{"$f":"IMPRODUCT(COMPLEX(定数!R$20,計算!B42*定数!R$30),計算!S42)","v":"-0.377230486022176+1.28171698715336i"},{"$f":"IMDIV(COMPLEX(定数!S$20,計算!B42*定数!S$30),計算!T42)","v":"-0.143677523087349-0.263079072539456i"},{"$f":"IMPRODUCT(COMPLEX(定数!T$20,計算!B42*定数!T$30),計算!T42)","v":"-0.333579561622363-0.604019734924022i"},{"$f":"IMDIV(COMPLEX(定数!U$20,計算!B42*定数!U$30),計算!U42)","v":"-0.398384280733188-0.369316706257254i"},{"$f":"IMPRODUCT(COMPLEX(定数!V$20,計算!B42*定数!V$30),計算!U42)","v":"-0.340649294554488-1.14390095626153i"},{"$f":"IMPRODUCT(定数!E$34,計算!G42)","v":"0"},"0.349283068615026+0.932838328367022i","1.51341823806039-0.118585963831921i","0.416996489686065+1.4531946086543i","-0.78428683985333+0.182533860160512i","-0.102134524372436-0.795368811452045i","1.35502904687168-0.223940526543817i","0.262512542289794+1.34224166527102i","0.00234246652709211+0.00104775462809186i","6.91440658938529+4.780333819036i","-88.8867060067444-115.534275039051i","97.8164329210754-107.479679083593i","255.466886647274+240.56581687006i","-258.002074119176+235.554550640231i","-247.638690128748-268.386973080956i","253.689237561949-260.361066050087i","-0.127249119838801-0.724621086920684i","6.9168618499484+4.78203128439399i","-203.051495472285-260.2676076217i","210.772367174107-252.210151531758i","-72.4622410811101-66.6758111057036i","67.3518049929745-71.6888568034824i","-247.657357242598-268.407314105444i","253.71068110601-260.37855712734i","-0.0647405113611818-0.396959924294763i","0.00125414594289452+0.00086706446600715i","-250.391241241895-305.063304833672i","247.837650524519-305.061843878391i","155.554909054882+140.058165233956i","-154.382526537665+140.057256282607i","0.00782097409100402+0.00140338548300178i","-0.00630398521799691+0.0028591371220017i","-0.0625000829644961-0.327647348666185i","1.35313934058986-0.0784649026891114i","-0.482880328154387-0.730096514868635i","1.09017752929599-1.25062398524096i","0.107960185917629+0.641556471049123i","-0.037680666696543+0.530749311104836i","-0.295666252363013-1.00940834715516i","0.29952117651252-1.06033994041214i","0.000819906159194209-0.000891620176743352i","1.6490096428286-0.104949553712933i","-0.128975962146311-0.877322280881601i","1.06718275225905-0.591572949005604i","-0.365908422137794-0.089600852626807i","-1.17287634178687-1.3834538085458i","0.460701026002305-0.498707412824702i","1.07428509646757+1.04393835001676i","0.000977901920900614-0.00114268948932735i","1.64898671374727-0.10495152834777i","0.498267123016148-0.863418181360804i","0.70494089146656+0.605381149076298i","0.310613225298878+1.03184908125843i","0.244768697781756+1.23402034166308i","0.46075265033661-0.498635375428152i","1.07434335627864+1.04412677675789i","0.000977880481603059-0.00114269429816392i","1.35311039925779-0.0784649152373182i","0.830149496918484-0.660333249086366i","0.335723302894343+1.31273246223425i","-0.179449020825277+0.115332088773426i","-0.704908257039329-0.677440257746205i","-0.295655709547256-1.00941078296602i","0.299498513326626-1.06035375666297i","0.000819884764420282-0.00089161128311057i","2.34481706624426+17.1347714839207i","-16.3704964006146+5.29209734142594i","-9.36314567136079-40.504263708891i","40.9338754523132-6.25741657201097i","7.2901478281836+42.6399024382886i","-42.0321253649754+9.50941480266433i","-0.034299928061284+0.0801526791143616i","-16.5140271152721-5.29209734174623i","2.30048741125111-17.1347714838962i","41.273162493541+6.25741657281746i","-9.31072994697028+40.5042637087014i","-42.3893017461633-9.50941480349006i","7.21049149365883-42.6399024381508i","-0.0614738939609437-0.0622982387660902i","-114.133226377935-144.6923071158i","112.921200276004-144.69230711717i","-328.019842348706-307.32705132745i","325.445493964699-307.327051323492i","0.0692677648209781+0.0749614379209902i","-0.0686398486010091+0.074961434094007i","0.0625537938029532+0.327918470840134i","-250.375118831343-305.042349045159i","247.819908426079-305.042349045141i","155.50857206915+140.01453102775i","-154.335729715693+140.014531027696i","0.0527380692294577+0.050083836761053i","-0.0523185381091768+0.0500838368136283i","-0.06247700231892-0.327515915753746i","22.2781433360294+5.13507706187403i","-0.67822431231554+22.1156169224976i","-56.231367277122-4.58710538536158i","9.38287120375972-55.0077288940188i","57.8091208676912+8.53208249286275i","-6.11154273306308+57.2031600409538i","0.0888908757394808+0.0785830344395474i","27.658217247092+6.11625749069445i","-0.92805655189184+27.9052655827368i","-69.0824644407317-6.0765411363798i","9.92970272284103-69.1525321925431i","71.3590771978942+10.7336709953248i","-6.3408461748625+72.1142865041086i","0.108887118200323+0.0951360492309967i","28.2850921307434+6.13000763811166i","-1.29021182970468+29.1018313388723i","-68.4050087937082-4.95486622625655i","11.3470542947953-66.5341477020691i","71.358175652103+10.7334412871839i","-6.34053838686875+72.1135114751465i","0.108885810237383+0.0951344945922842i","23.5906952895661+5.20468696008836i","-1.43261174453644+24.6784774957284i","-56.5175820620829-5.11314815176216i","8.71537364023385-56.2147463323565i","57.807904726975+8.53180431001054i","-6.11135617996595+57.2019122596058i","0.0888890759900594+0.0785812395677775i","-0.350992320663899-1.03644567592898i","-21.266967307393-80.9725785570233i","81.8827881616483-15.6252775624801i","7.29218260486992+42.6492620409306i","-42.0412446525253+9.51221095146765i","-0.0448471963587019+0.109652085024455i","1.09444882642751+0.0939292810700003i","83.0295573367848+12.9977069537895i","-18.5528946251033+81.5982404951918i","-42.398648466821-9.51162352398785i","7.21190753174622-42.6493611755141i","-0.0835949781059829-0.0846015124479857i","0.236963132355081+0.967339383097217i","2.41167195610947-0.364690715661308i","0.215642789487153+2.4193235165837i","-0.00055214518941518+0.0000431927104387509i","-0.0000886942070959568-0.000544346870873156i","-0.00160727675539425-0.000835496305105573i","12.07010310426+9.439154478756i","870.577337242562+784.367128375329i","-838.340269271611+811.533127043614i","-0.0986809540363863-0.107529448823388i","0.0915234874360502-0.113262564945957i","-0.210037355417656-1.02699087945884i","-0.989960663086647-0.651732454194899i","-111.831655723482-8.84659469112243i","17.0021629254451-110.013107314551i","57.8216434352599+8.53395554756551i","-6.11236205393464+57.215742530156i","0.120407679765194+0.105449830880121i","-1.56553759820798-0.298944759919202i","-138.015553652977-10.7402527612742i","18.7626131841547-137.385634431729i","71.3746127272337+10.7358534241067i","-6.34172241684059+72.1298846447295i","0.148231417342669+0.128074906041549i","-2.06293805292553+0.287961954983501i","-138.854929133947-9.42312324612045i","20.0780497625419-136.286828209373i","71.3740579013001+10.7356042316182i","-6.34136651352581+72.1294520727072i","0.1492261826114+0.128619203344217i","-1.98803812160027+0.624949942494901i","-115.308701329321-9.0618381856362i","16.2200318610487-114.410623433445i","57.8211550204309+8.53365910680727i","-6.112096977013+57.2152154063515i","0.122457355448183+0.106656550687135i","-0.00732520879699905-0.0337579837970026i","0.033941030029311-0.00555510709630092i","7.29050219775687+42.6389756468965i","-42.0313428332388+9.50903285354664i","-0.0171601181325821+0.0401000006654109i","0.0342238063004032+0.00555510744299959i","-0.00727867635949764+0.0337579837187008i","-42.3885114511526-9.50903285404727i","7.21084906233235-42.6389756468129i","-0.030755120875421-0.0311674995019493i","-10.5165847855342-75.4243663167477i","75.6580788185967-5.32350022042837i","0.000164679595005055+0.009502289070599i","-0.00931655788979931+0.00156068975419442i","-0.0321686814996876+0.0600596091992965i","76.2898767515988+5.32350022172173i","-10.4719920828832+75.4243663165521i","-0.00939615444651965-0.00156069052051348i","0.000151607124195388-0.00950228900454359i","-0.052086362967614-0.0443525335738047i","-39.7771766120805+46.144049723861i","-42.5212046663456-42.1708887234139i","57.8133587646367+8.52628674654552i","-6.10601901871204+57.2064344451153i","0.0977502148998205+0.0275961941668552i","-20.172315731409+20.4003458796719i","-20.1794032302949-22.436500301248i","71.3603692544221+10.7306011732825i","-6.33864441068236+72.1150537761792i","0.0799472152639909+0.0430684018835582i","20.059326201127-20.409654118814i","20.1943267827333+22.324502495596i","71.3542247972478+10.7350903587583i","-6.34379005513878+72.109805782046i","0.029003400130634+0.0521215649992925i","39.68540310248-46.1558708933607i","42.5377657834243+42.080362951409i","57.8014997537437+8.53642852073749i","-6.11773403123755+57.1962297467045i","-0.008810433053395+0.0510333926942343i","0.0003351206988347-0.000687291717225589i","7.31408924607543+42.6157030718295i","-42.007519324187+9.53131676296493i","-0.0171142686051728+0.040065148639689i","0.00051605353628095+0.000578711175319602i","-42.3754347049658-9.47845312125765i","7.18128427163298-42.6249056897308i","-0.0307394035800915-0.0311118716370325i","0.974716656576206-0.18397338650319i","55.7044284973674-47.2483276427823i","48.6753275445588+52.9322388992438i","0.0743927986480434-0.0089696112517005i","-0.0191745999234989+0.97870505520649i","34.8600071348325+64.5393266002817i","-62.1117725478769+36.83752527298i","-0.0063826683227678+0.0746764550073793i","-0.0685874490098756+0.980612235158569i","-0.513597270599039-0.810156664797565i","0.776672235374647-0.537183229599957i","-0.000704520933936008-0.0015110585590342i","-1.5581421358611-1.2560730007408i","44.4724467745166+4.86542710215657i","-1.6300905434841+45.4344418262902i","0.0349092792965103+0.0269593222738364i","1.5561882514621+1.2542356825507i","98.1916572947727+16.5039445226565i","-10.9595878613147+98.7369511020491i","0.0739757979031405+0.0680533529628667i","-0.0013253772767996-0.00134232948749968i","115.577300893592+16.9822930264379i","-12.1461249790905+114.362546175681i","0.0888929879670814+0.0784825834525388i","7.31211393543564+42.5987252210862i","-41.9904587153273+9.52805454418331i","-0.0171072007484348+0.0400498509495313i","-42.3587444282403-9.47377876154017i","7.17778563347797-42.6076429528688i","-0.0307277668700878-0.0310993578323259i","71.8364040036966-62.4602085989278i","65.2901629689859+68.1530289502348i","0.0957847866381566-0.0134714960588439i","46.2956145893562+83.1949790069335i","-80.1706384861842+49.8123934597094i","-0.00635504753565147+0.0962497501540172i","10.0147801420907+18.4769846683977i","-17.9895556619077+11.5650714749711i","-0.00176477007405743+0.0201269838248596i","-18.8254224789649+12.0532507073439i","-13.6134577216159-18.1850836860803i","-0.0220336827793959+0.000459901414484437i","142.605175713229+21.3583339921705i","-12.5828657424126+144.110849123528i","0.108841180945381+0.0949730909447364i","115.536170672568+16.9729982113288i","-12.1397575725489+114.32017033326i","0.0888631676853714+0.0784536165333101i","0.212770545181897-0.423418583388509i","-0.000293926071772501+0.000149103103549597i","0.30652185910263+0.391540331353397i","-0.0000867584022841011-0.000247481379787001i","-1.6867202938908+0.0782279694088999i","0.0014497295845225+0.0004870238979711i","0.275539102844391-1.6798849270657i","-0.00054112459727845+0.0010494671446445i","-0.106568415616302+0.3965016171567i","-0.00024807012148495-0.000872153310382401i","-0.3822318202515-0.0790430103335993i","0.0003594523755194+0.000444042664551803i","0.0617333721830277+1.00131237472844i","0.000844047364974737+0.000539571197423633i","-2.27692185203314-2.415427505561i","0.000503308238674699+0.00178761216177839i"]
[{"$f":"COMPLEX(定数!O$13,計算!B43*定数!O$23)","v":"74.3688188913563+109.417344272147i"},{"$f":"COMPLEX(定数!P$13,計算!B43*定数!P$23)","v":"-73.4757772913563+109.417344272147i"},{"$f":"COMPLEX(定数!Q$13,計算!B43*定数!Q$23)","v":"125.193786513619+156.543024786241i"},{"$f":"COMPLEX(定数!R$13,計算!B43*定数!R$23)","v":"-123.916114913619+156.543024786241i"},{"$f":"COMPLEX(定数!S$13,計算!B43*定数!S$23)","v":"-77.7867441135484-71.8825232715863i"},{"$f":"COMPLEX(定数!T$13,計算!B43*定数!T$23)","v":"77.2000539135484-71.8825232715863i"},{"$f":"COMPLEX(定数!U$13,計算!B43*定数!U$23)","v":"124.646605989444+131.171219036689i"},{"$f":"COMPLEX(定数!V$13,計算!B43*定数!V$23)","v":"-123.576013789444+131.171219036689i"},{"$f":"IMPRODUCT(定数!D$31,計算!G43)","v":"0.0830671196795236+0.130892836068778i"},{"$f":"COMPLEX(定数!O$14,計算!B43*定数!O$24)","v":"86.1948356167649+134.356303880871i"},{"$f":"COMPLEX(定数!P$14,計算!B43*定数!P$24)","v":"-85.0982474167649+134.356303880871i"},{"$f":"COMPLEX(定数!Q$14,計算!B43*定数!Q$24)","v":"57.0863694248256+74.2721455542747i"},{"$f":"COMPLEX(定数!R$14,計算!B43*定数!R$24)","v":"-56.4801756248256+74.2721455542747i"},{"$f":"COMPLEX(定数!S$14,計算!B43*定数!S$24)","v":"163.969671876329+157.670130191279i"},{"$f":"COMPLEX(定数!T$14,計算!B43*定数!T$24)","v":"-162.682801076329+157.670130191279i"},{"$f":"COMPLEX(定数!U$14,計算!B43*定数!U$24)","v":"-101.525845343051-113.203571616864i"},{"$f":"COMPLEX(定数!V$14,計算!B43*定数!V$24)","v":"100.601901343051-113.203571616864i"},{"$f":"IMPRODUCT(定数!D$32,計算!G43)","v":"-0.0830671196795236-0.130892836068778i"},{"$f":"COMPLEX(定数!O$15,計算!B43*定数!O$25)","v":"86.1919999827348+134.3548091252i"},{"$f":"COMPLEX(定数!P$15,計算!B43*定数!P$25)","v":"-85.0954239827348+134.3548091252i"},{"$f":"COMPLEX(定数!Q$15,計算!B43*定数!Q$25)","v":"-57.0828842529623-74.271876013427i"},{"$f":"COMPLEX(定数!R$15,計算!B43*定数!R$25)","v":"56.4766926529622-74.271876013427i"},{"$f":"COMPLEX(定数!S$15,計算!B43*定数!S$25)","v":"-163.956966054068-157.656162686903i"},{"$f":"COMPLEX(定数!T$15,計算!B43*定数!T$25)","v":"162.670209254068-157.656162686903i"},{"$f":"COMPLEX(定数!U$15,計算!B43*定数!U$25)","v":"-101.548680976766-113.225821644566i"},{"$f":"COMPLEX(定数!V$15,計算!B43*定数!V$25)","v":"100.624555376766-113.225821644566i"},{"$f":"IMPRODUCT(定数!D$33,計算!G43)","v":"0"},{"$f":"COMPLEX(定数!O$16,計算!B43*定数!O$26)","v":"74.3664237452132+109.415187882701i"},{"$f":"COMPLEX(定数!P$16,計算!B43*定数!P$26)","v":"-73.4733997452132+109.415187882701i"},{"$f":"COMPLEX(定数!Q$16,計算!B43*定数!Q$26)","v":"-125.201328746793-156.551233767491i"},{"$f":"COMPLEX(定数!R$16,計算!B43*定数!R$26)","v":"123.923590146793-156.551233767491i"},{"$f":"COMPLEX(定数!S$16,計算!B43*定数!S$26)","v":"77.7704269443536+71.8626256801916i"},{"$f":"COMPLEX(定数!T$16,計算!B43*定数!T$26)","v":"-77.1838991443536+71.8626256801916i"},{"$f":"COMPLEX(定数!U$16,計算!B43*定数!U$26)","v":"124.65071095008+131.170287868329i"},{"$f":"COMPLEX(定数!V$16,計算!B43*定数!V$26)","v":"-123.58012635008+131.170287868329i"},{"$f":"IMPRODUCT(定数!D$34,計算!G43)","v":"0"},{"$f":"IMDIV(COMPLEX(定数!O$17,計算!B43*定数!O$27),計算!R43)","v":"0.150055423233246+0.459616382700499i"},{"$f":"IMPRODUCT(COMPLEX(定数!P$17,計算!B43*定数!P$27),計算!R43)","v":"0.742331602435795+0.493802575061174i"},{"$f":"IMDIV(COMPLEX(定数!Q$17,計算!B43*定数!Q$27),計算!S43)","v":"-0.57234905911439+0.3564216129861i"},{"$f":"IMPRODUCT(COMPLEX(定数!R$17,計算!B43*定数!R$27),計算!S43)","v":"1.06268515465908-0.823415337974729i"},{"$f":"IMDIV(COMPLEX(定数!S$17,計算!B43*定数!S$27),計算!T43)","v":"0.273874896638597+0.140069146897238i"},{"$f":"IMPRODUCT(COMPLEX(定数!T$17,計算!B43*定数!T$27),計算!T43)","v":"-0.0696999554028717+0.690085495879183i"},{"$f":"IMDIV(COMPLEX(定数!U$17,計算!B43*定数!U$27),計算!U43)","v":"-0.551447265181065-0.0821491171159196i"},{"$f":"IMPRODUCT(COMPLEX(定数!V$17,計算!B43*定数!V$27),計算!U43)","v":"0.378859300637319-1.13873846648279i"},{"$f":"IMPRODUCT(定数!E$31,計算!G43)","v":"0"},{"$f":"IMDIV(COMPLEX(定数!O$18,計算!B43*定数!O$28),計算!R43)","v":"0.206020006798879+0.5635407640232i"},{"$f":"IMPRODUCT(COMPLEX(定数!P$18,計算!B43*定数!P$28),計算!R43)","v":"0.889764424947378+0.605518847850031i"},{"$f":"IMDIV(COMPLEX(定数!Q$18,計算!B43*定数!Q$28),計算!S43)","v":"-0.267781060694918+0.178178802514111i"},{"$f":"IMPRODUCT(COMPLEX(定数!R$18,計算!B43*定数!R$28),計算!S43)","v":"0.500421984258843-0.381597156099479i"},{"$f":"IMDIV(COMPLEX(定数!S$18,計算!B43*定数!S$28),計算!T43)","v":"-0.610565823086125-0.280733607762816i"},{"$f":"IMPRODUCT(COMPLEX(定数!T$18,計算!B43*定数!T$28),計算!T43)","v":"0.162719975366201-1.48716245049357i"},{"$f":"IMDIV(COMPLEX(定数!U$18,計算!B43*定数!U$28),計算!U43)","v":"0.480053691417741+0.045533476845101i"},{"$f":"IMPRODUCT(COMPLEX(定数!V$18,計算!B43*定数!V$28),計算!U43)","v":"-0.331106581292703+0.9573927168166i"},{"$f":"IMPRODUCT(定数!E$32,計算!G43)","v":"0"},{"$f":"IMDIV(COMPLEX(定数!O$19,計算!B43*定数!O$29),計算!R43)","v":"0.20602568138049+0.56353419496387i"},{"$f":"IMPRODUCT(COMPLEX(定数!P$19,計算!B43*定数!P$29),計算!R43)","v":"0.889746559308023+0.605511811767052i"},{"$f":"IMDIV(COMPLEX(定数!Q$19,計算!B43*定数!Q$29),計算!S43)","v":"0.267774746197758-0.178191019570243i"},{"$f":"IMPRODUCT(COMPLEX(定数!R$19,計算!B43*定数!R$29),計算!S43)","v":"-0.500414825460682+0.381582907503089i"},{"$f":"IMDIV(COMPLEX(定数!S$19,計算!B43*定数!S$29),計算!T43)","v":"0.610509047315474+0.280715997772702i"},{"$f":"IMPRODUCT(COMPLEX(定数!T$19,計算!B43*定数!T$29),計算!T43)","v":"-0.162702872907466+1.48703796661365i"},{"$f":"IMDIV(COMPLEX(定数!U$19,計算!B43*定数!U$29),計算!U43)","v":"0.480146075671285+0.0455545149136864i"},{"$f":"IMPRODUCT(COMPLEX(定数!V$19,計算!B43*定数!V$29),計算!U43)","v":"-0.331169690184105+0.957592979641208i"},{"$f":"IMPRODUCT(定数!E$33,計算!G43)","v":"0"},{"$f":"IMDIV(COMPLEX(定数!O$20,計算!B43*定数!O$30),計算!R43)","v":"0.150056412881232+0.459607174213479i"},{"$f":"IMPRODUCT(COMPLEX(定数!P$20,計算!B43*定数!P$30),計算!R43)","v":"0.742313025688114+0.49379269283512i"},{"$f":"IMDIV(COMPLEX(定数!Q$20,計算!B43*定数!Q$30),計算!S43)","v":"0.572380667829146-0.356436468023102i"},{"$f":"IMPRODUCT(COMPLEX(定数!R$20,計算!B43*定数!R$30),計算!S43)","v":"-1.06274247617703+0.823462352572867i"},{"$f":"IMDIV(COMPLEX(定数!S$20,計算!B43*定数!S$30),計算!T43)","v":"-0.273791373550762-0.140051152793706i"},{"$f":"IMPRODUCT(COMPLEX(定数!T$20,計算!B43*定数!T$30),計算!T43)","v":"0.0696729493839375-0.689915253357193i"},{"$f":"IMDIV(COMPLEX(定数!U$20,計算!B43*定数!U$30),計算!U43)","v":"-0.551439932638847-0.0821694643264333i"},{"$f":"IMPRODUCT(COMPLEX(定数!V$20,計算!B43*定数!V$30),計算!U43)","v":"0.378853193275455-1.13875131309778i"},{"$f":"IMPRODUCT(定数!E$34,計算!G43)","v":"0"},"0.371815939600342+0.924234546516555i","1.5105537736163-0.11749221828962i","0.452098656522079+1.43979146148622i","-0.779877702925339+0.180850308503823i","-0.121346795426485-0.788032942484935i","1.3496197247635-0.221875071706388i","0.294934621609387+1.329861862547i","0.0011712103518365+0.0000368717673301624i","7.02987637866789+4.73624370384599i","-88.9013849664734-118.55305384039i","97.9963141182194-110.572747270765i","255.489481287448+246.863253222703i","-258.100527480565+241.898207050654i","-247.666410221958-275.409004147616i","253.855384639683-267.457121898048i","-0.179065449052688-0.291430485932468i","7.0323726417995+4.737925513091i","-203.066179644416-267.095150664205i","210.95231224589-259.112010339772i","-72.4396384177273-68.4636925568087i","67.2533166714394-73.4305017843669i","-247.685087179032-275.429865980085i","253.876887181487-267.475160068999i","-0.0959950633635177-0.160535794635536i","0.00127509003499426+0.000859067331006713i","-250.391243904388-313.09128262255i","247.837683151654-313.089835141995i","155.554913153133+143.743900394649i","-154.382544395291+143.742999826766i","0.00781594617699+0.00144771414801426i","-0.00627384919899043+0.00289003905601248i","-0.0830643939694564-0.130890222169865i","1.11133194329097+0.184223471827349i","-0.853017193296693-0.32022330377595i","1.65659704278284-1.24725580423009i","0.474021540026027+0.471376146080152i","-0.413684061130909+0.864107087751719i","-0.855942442053493-0.669162895243154i","0.945829059920785-1.47384823502628i","-0.000158799596715921-0.000543840273944556i","1.33400674502356+0.205574601614551i","-0.645197013867133-0.648874077556904i","1.21866179620842-0.932999025094153i","-0.347978892399077+0.121500487000851i","-0.256368843498423-1.25642803251868i","0.076969379118943-0.669321550207451i","0.357562356023158+0.51720688485445i","-0.000220514020716148-0.000667621098261869i","1.33398069813274+0.205564763368177i","-0.109649006921771-1.00523331000472i","0.217812962942643-0.169824161842838i","0.873099215465788+0.682943943223633i","-0.581785826544643+1.71777605921149i","0.077055562355725-0.669290387358619i","0.357488837559701+0.517401538712415i","-0.0002205209090577-0.000667613613743433i","1.11130448777457+0.184216098796691i","0.29171212065591-1.0330673585944i","-0.468844293772781+0.399624624575395i","-0.073645623716653+0.19124848591736i","-0.274303779662366-0.515893999029834i","-0.855934402025999-0.669170594919732i","0.945810414661768-1.47385968183475i","-0.000158801095335078-0.000543829525359304i","2.34607254855628+17.2780378310247i","-16.3717518829266+5.73901175289071i","-9.36677629653072-40.6805016491754i","40.937506077483-7.31174916544929i","7.29366010427191+42.9013421569024i","-42.0356376410638+10.6203255377763i","-0.00061581463911294+0.0401970032848429i","-16.5127716329595-5.73901175320297i","2.29923192893909-17.278037831001i","41.2695318683697+7.31174916623581i","-9.30709932179995+40.6805016489905i","-42.3857894700735-10.6203255385817i","7.20697921757019-42.9013421567682i","-0.0367300060631734-0.0167098565673209i","-114.133226377938-148.499999408371i","112.921200276016-148.499999409698i","-328.019842348692-315.414605309617i","325.445493964668-315.414605305779i","0.0692677648080178+0.0769341072069665i","-0.068639848570001+0.0769341034949775i","0.0831339706578723+0.130998176359582i","-250.375118831338-313.069779283199i","247.819908426089-313.069779283169i","155.50857206914+143.699123949555i","-154.335729715715+143.699123949469i","0.0527380692407935+0.0514018324433234i","-0.0523185380849455+0.0514018325269279i","-0.0830319147966228-0.130837362049993i","16.4408927246472+9.09976390019679i","-4.08163296047297+17.5308070662657i","-44.0431316934232-15.2572207051693i","17.4238959640223-42.6308477141685i","44.292226094991+18.9420014162516i","-14.966951357372+44.8760889809974i","0.0375820816279908+0.0247928863343269i","20.2031566687086+10.4016127609831i","-5.40045484915903+21.6433562944224i","-53.8987028468146-18.1163897913372i","20.5222423483582-53.611188387948i","54.4366292337348+22.2117061370352i","-18.0760228540672+56.2663148110504i","0.0453424397054501+0.0291741966346573i","20.7383310311057+10.0449415884071i","-6.40107380898874+22.4061037389189i","-52.6766217307486-17.55434986696i","20.1961827195143-50.636016261169i","54.4357158843201+22.2110436715846i","-18.075486579156+56.2654629223704i","0.0453416405103366+0.0291734075205172i","17.585210985837+8.38664052867553i","-6.20688377892602+19.1772300699277i","-44.5897196906077-15.5368433359592i","17.5627207756869-44.0098005182984i","44.2911487152664+18.9413896183278i","-14.9664558183839+44.8749527929645i","0.0375811948903725+0.0247921674937104i","-0.377010974606799-1.0298674045802i","-21.2644020916856-81.3411183345335i","81.8249592186825-17.7268823853339i","7.29569448175429+42.9107627177415i","-42.044743049797+10.6233630781179i","0.000036293441840386+0.0546265004450208i","1.09680680187762+0.0933331163956979i","83.0214244526625+15.1159888421153i","-18.5397533914973+81.9628092261882i","-42.3951353228863-10.6227793789852i","7.20839316620622-42.9108612231278i","-0.0499275135198505-0.0226714855980665i","0.261246960478772+0.961199726098058i","2.40251685830888-0.362376041056594i","0.276376837412665+2.4039681854341i","-0.000551060890605092+0.0000429185687404079i","-0.000102359345225672-0.000540891927343754i","-0.000825048370594215-0.0000742859383155274i","12.307061103697+9.37924461477797i","870.488003153626+805.124602163306i","-837.747635423976+832.118179532059i","-0.0986703735704695-0.110372937201566i","0.0913901450002525-0.11606966567405i","-0.266346816313464-0.407734423963135i","0.36992435608154-0.6494601774736i","-86.8401900467389-31.1617712650288i","34.7555569395782-84.6691947322937i","44.3016765768207+18.9463103206662i","-14.9701904671921+44.885913173025i","0.0504706288817994+0.0335219588557717i","-0.68044078410056-0.493302079740499i","-106.206422587371-35.7852998727471i","39.9437039571166-105.053699103736i","54.448208825574+22.2165709684587i","-18.0795810205529+56.2783072376709i","0.0612383276318834+0.039256840744729i","-2.16370465281981-0.151784826068898i","-106.140857811622-34.1724170766628i","38.6123083789949-103.266493467147i","54.4475750820038+22.2156889865565i","-18.0787970449864+56.2777083118555i","0.0617055688251743+0.0390015365904903i","-2.73973011930805+0.0833457402200004i","-89.8776031335458-29.3134294524861i","32.863792791795-88.601961448229i","44.3011991799018+18.9452564358402i","-14.9691920738612+44.8853229426605i","0.0514668350998051+0.033017885495213i","-0.00732819866989942-0.0339136981701103i","0.0339440199142871-0.00643394773859995i","7.29401441608239+42.9004051301596i","-42.0348550515642+10.6199193834648i","-0.000308101244987318+0.0201103725568902i","0.0342208164047975+0.00643394810330022i","-0.00727568648499854+0.0339136980855983i","-42.3849992328282-10.6199193839516i","7.20733684400678-42.9004051300786i","-0.0183758552591674-0.0083598521659963i","-10.5240164176416-75.5881395200758i","75.6655104506992-7.28467087336059i","0.000165521519572442+0.00954604264652016i","-0.00931739981055113+0.00180806721364151i","-0.00319181178568707+0.0311866556954605i","76.2824451194813+7.28467087462362i","-10.4645604507741+75.5881395198851i","-0.00939531251798937-0.00180806795997573i","0.000150765199226832-0.00954604258214843i","-0.0296624036722098-0.0105243228231216i","-119.790028076958+15.6858618978286i","-10.4648337814767-119.427403859132i","44.3063263998923+18.9408772877067i","-14.9640464644018+44.8895424026734i","0.0682786030285663+0.0181506122460623i","-57.8942791098401+6.8017761142269i","-4.4645961901502-58.7826356140599i","54.4427077954424+22.2107059580734i","-18.0747693511035+56.2718860937576i","0.0462464887553639+0.0174631368492334i","57.806121120198-6.83202314640801i","4.4969576320435+58.695554222113i","54.4275208378748+22.2103507956225i","-18.0770218892104+56.257076378974i","-0.000877679505004995+0.0117277075481526i","119.722855621065-15.7132141023084i","10.4936707796269+119.361317593706i","44.2753078644535+18.9410858768689i","-14.9695746398891+44.8591567966409i","-0.0306773031280291+0.0066563162621504i","0.0000103847525767045-0.00060866617936019i","7.29838559012109+42.8872752537814i","-42.0216524918405+10.6231385178534i","-0.000304524334488345+0.0200904002408184i","0.000556041800272519+0.000259928109597997i","-42.3745585743329-10.6107616298897i","7.19921626989702-42.8894484527346i","-0.0183587767676479-0.00834876342481742i","0.279601944676401-0.0605276046512007i","11.7370150819723-28.0751312695188i","28.4233278617309+9.22358316324041i","0.00792265134869063-0.0120367249360742i","-0.00346138197539858+0.270051361386209i","24.6972555293159+17.9893267982869i","-15.6150381693072+25.6214539119145i","0.009976845277989+0.0103767159223187i","-0.042460392773205+0.991412873913568i","-0.343275971481379-0.203067460286251i","0.17105553050868-0.352336414406209i","-0.000540870896952151-0.000222344370961306i","-0.17944161535321-1.0966958932536i","33.1877734898462+12.7891480375449i","-10.5681461322327+34.7101419559439i","0.0134208214532891+0.00826955252606734i","0.17807253727819+1.0957311663096i","75.658334811939+31.603623617734i","-25.5579080655293+77.792933168952i","0.0319070309634823+0.0208853306991405i","-0.00113249836170048-0.000652013226996928i","88.5641299169893+37.8589332699913i","-29.9124937065601+89.729710642906i","0.0375710498827673+0.0247771990793906i","7.28174574559921+42.8771404029644i","-42.0125661257417+10.6054611746488i","-0.000310950793064168+0.0200846320574979i","-42.3583842185681-10.6219107349379i","7.21175173723502-42.8738125255854i","-0.0183508233564321-0.00835230668200884i","14.5894872696438-36.7754558946706i","37.4858987741011+11.4850622473929i","0.00987258381489292-0.0155957105909671i","32.0985202574728+22.4542813295017i","-19.6128845105632+33.4810262383823i","0.0128387707347216+0.0129236453412687i","26.3468594252194+17.0102849687358i","-15.3772750749649+28.0724407610205i","0.00968931168087355+0.00944680341964189i","-16.1797777989517+27.6142622689144i","-29.2889294152061-14.428611464495i","-0.00929391488606974+0.0107168326474801i","108.797316699892+44.4149686687185i","-36.1522333586209+112.455065409919i","0.0453047895044604+0.0291605893157133i","88.5278014808862+37.8796569476356i","-29.9362557256167+89.6942734946775i","0.0375535370227474+0.0247832761193702i","0.401028678429498+0.0117872878591996i","9.90122900323899E-06+0.000147279593290202i","-0.178247263615+0.395964608935799i","-0.000151684877583002-0.000005550176739871i","-0.493385689790095-0.3105216693929i","0.00020669056641481-0.0002462825160585i","0.424604341450298-0.415335620669701i","0.000258180013238601+0.000105942151994901i","-0.3539080393028+0.359069917259699i","-0.000756349860303951-0.000433896122488849i","-0.369147941915799-0.335028251792801i","0.00031895722781683-0.0003698552795878i","0.0768614882985334+1.00224222547776i","0.000450717669469237+0.0000840276067930669i","1.2239573762977-1.9435140874124i","0.0008354295754993+0.000271466126547101i"]
[{"$f":"COMPLEX(定数!O$13,計算!B44*定数!O$23)","v":"74.3688188913563+112.222917202202i"},{"$f":"COMPLEX(定数!P$13,計算!B44*定数!P$23)","v":"-73.4757772913563+112.222917202202i"},{"$f":"COMPLEX(定数!Q$13,計算!B44*定数!Q$23)","v":"125.193786513619+160.556948498709i"},{"$f":"COMPLEX(定数!R$13,計算!B44*定数!R$23)","v":"-123.916114913619+160.556948498709i"},{"$f":"COMPLEX(定数!S$13,計算!B44*定数!S$23)","v":"-77.7867441135484-73.7256648939346i"},{"$f":"COMPLEX(定数!T$13,計算!B44*定数!T$23)","v":"77.2000539135484-73.7256648939346i"},{"$f":"COMPLEX(定数!U$13,計算!B44*定数!U$23)","v":"124.646605989444+134.534583627373i"},{"$f":"COMPLEX(定数!V$13,計算!B44*定数!V$23)","v":"-123.576013789444+134.534583627373i"},{"$f":"IMPRODUCT(定数!D$31,計算!G44)","v":"1.7435251850372E-16+1.26674519557796E-16i"},{"$f":"COMPLEX(定数!O$14,計算!B44*定数!O$24)","v":"86.1948356167649+137.801337313714i"},{"$f":"COMPLEX(定数!P$14,計算!B44*定数!P$24)","v":"-85.0982474167649+137.801337313714i"},{"$f":"COMPLEX(定数!Q$14,計算!B44*定数!Q$24)","v":"57.0863694248256+76.1765595428458i"},{"$f":"COMPLEX(定数!R$14,計算!B44*定数!R$24)","v":"-56.4801756248256+76.1765595428458i"},{"$f":"COMPLEX(定数!S$14,計算!B44*定数!S$24)","v":"163.969671876329+161.712954042337i"},{"$f":"COMPLEX(定数!T$14,計算!B44*定数!T$24)","v":"-162.682801076329+161.712954042337i"},{"$f":"COMPLEX(定数!U$14,計算!B44*定数!U$24)","v":"-101.525845343051-116.106227299347i"},{"$f":"COMPLEX(定数!V$14,計算!B44*定数!V$24)","v":"100.601901343051-116.106227299347i"},{"$f":"IMPRODUCT(定数!D$32,計算!G44)","v":"-1.7435251850372E-16-1.26674519557796E-16i"},{"$f":"COMPLEX(定数!O$15,計算!B44*定数!O$25)","v":"86.1919999827348+137.799804230975i"},{"$f":"COMPLEX(定数!P$15,計算!B44*定数!P$25)","v":"-85.0954239827348+137.799804230975i"},{"$f":"COMPLEX(定数!Q$15,計算!B44*定数!Q$25)","v":"-57.0828842529623-76.1762830906944i"},{"$f":"COMPLEX(定数!R$15,計算!B44*定数!R$25)","v":"56.4766926529622-76.1762830906944i"},{"$f":"COMPLEX(定数!S$15,計算!B44*定数!S$25)","v":"-163.956966054068-161.698628396824i"},{"$f":"COMPLEX(定数!T$15,計算!B44*定数!T$25)","v":"162.670209254068-161.698628396824i"},{"$f":"COMPLEX(定数!U$15,計算!B44*定数!U$25)","v":"-101.548680976766-116.12904784058i"},{"$f":"COMPLEX(定数!V$15,計算!B44*定数!V$25)","v":"100.624555376766-116.12904784058i"},{"$f":"IMPRODUCT(定数!D$33,計算!G44)","v":"0"},{"$f":"COMPLEX(定数!O$16,計算!B44*定数!O$26)","v":"74.3664237452132+112.220705520719i"},{"$f":"COMPLEX(定数!P$16,計算!B44*定数!P$26)","v":"-73.4733997452132+112.220705520719i"},{"$f":"COMPLEX(定数!Q$16,計算!B44*定数!Q$26)","v":"-125.201328746793-160.565367966657i"},{"$f":"COMPLEX(定数!R$16,計算!B44*定数!R$26)","v":"123.923590146793-160.565367966657i"},{"$f":"COMPLEX(定数!S$16,計算!B44*定数!S$26)","v":"77.7704269443536+73.7052571078888i"},{"$f":"COMPLEX(定数!T$16,計算!B44*定数!T$26)","v":"-77.1838991443536+73.7052571078888i"},{"$f":"COMPLEX(定数!U$16,計算!B44*定数!U$26)","v":"124.65071095008+134.533628582902i"},{"$f":"COMPLEX(定数!V$16,計算!B44*定数!V$26)","v":"-123.58012635008+134.533628582902i"},{"$f":"IMPRODUCT(定数!D$34,計算!G44)","v":"0"},{"$f":"IMDIV(COMPLEX(定数!O$17,計算!B44*定数!O$27),計算!R44)","v":"0.403875554578417+0.28614708182528i"},{"$f":"IMPRODUCT(COMPLEX(定数!P$17,計算!B44*定数!P$27),計算!R44)","v":"0.288446203754511+0.850251577702918i"},{"$f":"IMDIV(COMPLEX(定数!Q$17,計算!B44*定数!Q$27),計算!S44)","v":"-0.271403873124576+0.635570587773596i"},{"$f":"IMPRODUCT(COMPLEX(定数!R$17,計算!B44*定数!R$27),計算!S44)","v":"1.35210477870055-0.0459939874016496i"},{"$f":"IMDIV(COMPLEX(定数!S$17,計算!B44*定数!S$27),計算!T44)","v":"0.312927225239723-0.039381815128749i"},{"$f":"IMPRODUCT(COMPLEX(定数!T$17,計算!B44*定数!T$27),計算!T44)","v":"-0.452150890820854+0.530549901586678i"},{"$f":"IMDIV(COMPLEX(定数!U$17,計算!B44*定数!U$27),計算!U44)","v":"-0.514458177513554+0.249634092513572i"},{"$f":"IMPRODUCT(COMPLEX(定数!V$17,計算!B44*定数!V$27),計算!U44)","v":"0.968611163487711-0.719856868780864i"},{"$f":"IMPRODUCT(定数!E$31,計算!G44)","v":"0"},{"$f":"IMDIV(COMPLEX(定数!O$18,計算!B44*定数!O$28),計算!R44)","v":"0.512812997709704+0.3376100164571i"},{"$f":"IMPRODUCT(COMPLEX(定数!P$18,計算!B44*定数!P$28),計算!R44)","v":"0.337306269736673+1.03028808850477i"},{"$f":"IMDIV(COMPLEX(定数!Q$18,計算!B44*定数!Q$28),計算!S44)","v":"-0.120456660516019+0.306789473867089i"},{"$f":"IMPRODUCT(COMPLEX(定数!R$18,計算!B44*定数!R$28),計算!S44)","v":"0.633197327691015-0.0165801774352247i"},{"$f":"IMDIV(COMPLEX(定数!S$18,計算!B44*定数!S$28),計算!T44)","v":"-0.679679812112639+0.113841149793617i"},{"$f":"IMPRODUCT(COMPLEX(定数!T$18,計算!B44*定数!T$28),計算!T44)","v":"0.985058817770689-1.13627089270336i"},{"$f":"IMDIV(COMPLEX(定数!U$18,計算!B44*定数!U$28),計算!U44)","v":"0.433086672215646-0.23871177495319i"},{"$f":"IMPRODUCT(COMPLEX(定数!V$18,計算!B44*定数!V$28),計算!U44)","v":"-0.825030426777751+0.597979690520051i"},{"$f":"IMPRODUCT(定数!E$32,計算!G44)","v":"0"},{"$f":"IMDIV(COMPLEX(定数!O$19,計算!B44*定数!O$29),計算!R44)","v":"0.512813476598202+0.337601229168147i"},{"$f":"IMPRODUCT(COMPLEX(定数!P$19,計算!B44*定数!P$29),計算!R44)","v":"0.337296332917601+1.03027159488405i"},{"$f":"IMDIV(COMPLEX(定数!Q$19,計算!B44*定数!Q$29),計算!S44)","v":"0.120444443384921-0.306795793584478i"},{"$f":"IMPRODUCT(COMPLEX(定数!R$19,計算!B44*定数!R$29),計算!S44)","v":"-0.633183249720252+0.0165726841439172i"},{"$f":"IMDIV(COMPLEX(定数!S$19,計算!B44*定数!S$29),計算!T44)","v":"0.679621444995546-0.113823546823182i"},{"$f":"IMPRODUCT(COMPLEX(定数!T$19,計算!B44*定数!T$29),計算!T44)","v":"-0.984973398049211+1.13617775202116i"},{"$f":"IMDIV(COMPLEX(定数!U$19,計算!B44*定数!U$29),計算!U44)","v":"0.433176995009577-0.23874760424818i"},{"$f":"IMPRODUCT(COMPLEX(定数!V$19,計算!B44*定数!V$29),計算!U44)","v":"-0.825197785610477+0.59810831185208i"},{"$f":"IMPRODUCT(定数!E$33,計算!G44)","v":"0"},{"$f":"IMDIV(COMPLEX(定数!O$20,計算!B44*定数!O$30),計算!R44)","v":"0.403870657585885+0.286138948143233i"},{"$f":"IMPRODUCT(COMPLEX(定数!P$20,計算!B44*定数!P$30),計算!R44)","v":"0.28843745651933+0.850232326689799i"},{"$f":"IMDIV(COMPLEX(定数!Q$20,計算!B44*定数!Q$30),計算!S44)","v":"0.271421619475271-0.635601701663349i"},{"$f":"IMPRODUCT(COMPLEX(定数!R$20,計算!B44*定数!R$30),計算!S44)","v":"-1.35217919607742+0.0459986141721271i"},{"$f":"IMDIV(COMPLEX(定数!S$20,計算!B44*定数!S$30),計算!T44)","v":"-0.312845864714289+0.0393493839085426i"},{"$f":"IMPRODUCT(COMPLEX(定数!T$20,計算!B44*定数!T$30),計算!T44)","v":"0.45203099219935-0.530424571673675i"},{"$f":"IMDIV(COMPLEX(定数!U$20,計算!B44*定数!U$30),計算!U44)","v":"-0.514463522752399+0.249613115940211i"},{"$f":"IMPRODUCT(COMPLEX(定数!V$20,計算!B44*定数!V$30),計算!U44)","v":"0.968613284751364-0.719870963059261i"},{"$f":"IMPRODUCT(定数!E$34,計算!G44)","v":"0"},"0.39336787105973+0.915410896570955i","1.50781400994361-0.116370522277035i","0.485672695721023+1.42604579930696i","-0.775660512096481+0.179123733987857i","-0.139722684997143-0.780509606707999i","1.34444589052847-0.219756834542705i","0.32594524745116+1.31716569619469i","1.49973066809345E-18-5.59772652757529E-19i","7.14031933934839+4.69102687370599i","-88.9154248965894-121.571689409431i","98.1683644190534-113.667570677509i","255.511092299053+253.160469104528i","-258.19469480163+248.242824135508i","-247.692923556601-282.430764731028i","254.01429871831-274.554798952709i","-3.80758977051089E-16-2.85089899444268E-16i","7.1428548200554+4.69269262675002i","-203.080224560021-273.922550423552i","211.124423640664-266.015624990625i","-72.4180197321921-70.2517945570198i","67.1591159121718-75.1711857496913i","-247.711609928387-282.452147275431i","254.035857689467-274.573384793038i","-2.06401347682259E-16-1.58414667985654E-16i","0.00129512235299956+0.000850865831992564i","-250.391246450972-321.119260385448i","247.837714358408-321.117826723962i","155.554917072973+147.429635515352i","-154.382561475508+147.428743545174i","0.00781113714700155+0.00149209187500787i","-0.00624502511399783+0.00292064693400107i","-1.74347688390784E-16-1.26672543368558E-16i","0.391516693401773+0.367978425795633i","-0.913672177951716+0.251113218114176i","1.56401229339351-0.760912850053758i","0.677453278493541+0.110227479492259i","-0.619060860226538+0.885759890426379i","-1.12032978406697-0.046320762309807i","1.21387296615765-1.34509617619613i","-7.65881866366665E-19-2.0306506362854E-19i","0.444634000432177+0.428048549075921i","-0.932971136884962-0.142587322470289i","0.865585402465165-0.911842965444297i","-0.221437052919901+0.283854929060364i","0.79320256554651-0.688843643564893i","-0.330554763691274-0.579916013091147i","-0.547491053843395-0.187522378982037i","-9.58066234171883E-19-2.19265403439746E-19i","0.444615831253697+0.428035073712599i","-0.692069732477404-0.756159284595959i","-0.400807938605668-0.878686519035772i","1.13786300163117+0.05618333071022i","-1.17682272479836+1.58360414715309i","-0.330463153670212-0.579939923112595i","-0.547670143083122-0.187391524250438i","-9.58062033491602E-19-2.19251956804329E-19i","0.391502426824944+0.367966857072029i","-0.370838355077094-1.0200473771086i","-1.14028090205201-0.668909314837066i","0.051674933200295+0.188953246721157i","0.285126686989696-0.175219541443584i","-1.12032675813211-0.046331879735343i","1.21386597016577-1.34510116918894i","-7.65869969184007E-19-2.03055606498629E-19i","2.34723505379357+17.4288950097931i","-16.3729143881627+6.17833533269091i","-9.37013804900943-40.8786908859761i","40.9408678299586-8.34413046237027i","7.29691227223056+43.1840176159893i","-42.0388898090187+11.7100005324141i","2.02305783133465E-17+5.16548687343671E-17i","-16.5116091277218-6.17833533299435i","2.29806942370152-17.4288950097702i","41.2661701158896+8.34413046313474i","-9.30373756932016+40.8786908857964i","-42.3825373021139-11.7100005331968i","7.20372704961097-43.1840176158586i","-5.55707766975745E-17-3.41803936257263E-18i","-114.133226377934-152.307691700916i","112.921200276007-152.307691702212i","-328.019842348708-323.50215929184i","325.445493964691-323.502159288091i","0.0692677648240192+0.0789067765529694i","-0.0686398485929942+0.0789067729260182i","1.74492834391547E-16+1.26776465021917E-16i","-250.37511883134-321.097209521216i","247.819908426075-321.097209521199i","155.508572069142+147.383716871304i","-154.335729715684+147.383716871254i","0.052738069237495+0.0527198281827069i","-0.0523185381183556+0.0527198282311118i","-1.74278625728615E-16-1.26620833314227E-16i","3.27740432060365+8.74595057258734i","-5.74917759763443+5.21715052491537i","-12.4084812021769-18.3416992066071i","18.0659840299332-11.6953552909997i","11.1641135161622+20.134199283837i","-17.4972932502895+12.9113514689915i","1.9733240132089E-17+2.15840013349371E-17i","3.7640242081537+9.6722809626805i","-7.61662761959481+5.85395106337106i","-14.9980864160176-21.0901534229179i","22.4280249417527-14.8824481370163i","13.5017136075004+22.7685319673731i","-22.2353691136707+15.9300152167659i","2.22875037261603E-17+2.50875014483944E-17i","4.00470886550137+9.05837424534543i","-8.88274434593956+5.88682180839587i","-13.6381490292461-21.3171173386372i","20.4572797549275-12.6093829853116i","13.5011929581485+22.7677241761732i","-22.2348353967808+15.9294585262132i","2.22865443108027E-17+2.50867039556565E-17i","3.82007405479189+7.4745108154266i","-8.45323637742687+5.30893199519234i","-13.0337673514228-18.2623770002836i","18.9695659303864-12.7558591562539i","11.163647358132+20.1335307929295i","-17.496697889792+12.9108137258208i","1.97324987668691E-17+2.15833191453898E-17i","-0.402038678936302-1.02287546922223i","-21.2616740060245-81.7536118651903i","81.7690721867961-19.7836548310049i","7.29894623828311+43.1935037639979i","-42.0479818401016+11.7132746210186i","2.85975123849476E-17+6.97428795943387E-17i","1.09907497118803+0.0926994628649993i","83.0138618876323+17.1904870636948i","-18.5273732255851+82.3710819974583i","-42.3918823475696-11.7126948846874i","7.20513901580693-43.1936016006197i","-7.55150331465005E-17-4.58943373148404E-18i","0.284605911775909+0.954673986647719i","2.39371044267541-0.359915811863631i","0.334797761014205+2.38764725899371i","-0.000550017888862118+0.0000426271879647079i","-0.000115504031207629-0.000537219725547757i","-1.08282995870375E-18+3.34231035987116E-19i","12.534994291993+9.31556741539805i","870.402071453792+825.883496251538i","-837.177572701146+852.693809884739i","-0.098660196150925-0.11321659386556i","0.0912618811156734-0.118874646500669i","-5.52712958304049E-16-3.90631376087579E-16i","1.66758525759772-0.40085136075003i","-23.4014440501273-38.097382786477i","37.8509613133894-22.4487654033463i","11.1662889624466+20.138870006577i","-17.5016131940448+12.914122347789i","2.62052798377917E-17+2.99589683908529E-17i","0.545983865316039-0.49225327560201i","-27.4892773248144-42.8880615390248i","44.2618331932207-27.1078682306062i","13.5041961902876+22.7736914451613i","-22.2401304938253+15.9331545122601i","2.95960783905505E-17+3.4302883333213E-17i","-1.3747139106517-0.51443643089973i","-26.4845145811496-41.5588843207781i","40.7447146310821-25.2039385468641i","13.5037817526858+22.7725357345746i","-22.239239174089+15.9326562135523i","2.96505528546349E-17+3.35568849727237E-17i","-2.4047309984376-0.46528329768873i","-24.8681131365893-34.7792865382509i","35.5371089507058-24.379297988012i","11.1660670845764+20.1374790685737i","-17.500272110488+12.9137292810866i","2.63672028912016E-17+2.84001560741083E-17i","-0.00733096712960091-0.0340874898127907i","0.0339467883724893-0.00729471111329971i","7.29726653055352+43.183070004666i","-42.0381071660334+11.7095705221355i","1.01212482356843E-17+2.58426948891789E-17i","0.034218047929599+0.00729471148180139i","-0.00727291802660091+0.0340874897282077i","-42.3817471183542-11.7095705226102i","7.20408472953508-43.1830700045867i","-2.78018003575093E-17-1.71001270593691E-18i","-10.5308976864159-75.7968454698564i","75.6723917195167-9.20090877986779i","0.000166301094975102+0.00959488657748353i","-0.00931817938704854+0.00205035432550455i","1.22351259579114E-17+4.14010519828429E-17i","76.2755638507224+9.20090878113177i","-10.457679182008+75.796845469666i","-0.00939453294638311-0.00205035505151903i","0.000149985624279419-0.00959488651477175i","-4.33249365501207E-17+1.03430371094744E-18i","-154.285646647599-22.8655190648559i","24.9067642989172-153.038442411369i","11.1827770347024+20.1385233371186i","-17.498017184545+12.9301827610309i","9.80387032651675E-17+1.08673190000737E-17i","-73.6636819912196-10.364713125859i","12.660311832506-73.6395497314353i","13.5103347476888+22.770186416322i","-22.2354892692403+15.9384669964015i","5.27416553230763E-17+1.2411328263153E-17i","73.6392814128414+10.3286618035112i","-12.6242610704303+73.6152281499164i","13.4919217348951+22.7648841929646i","-22.2340970275914+15.9195431476586i","-3.04409236084444E-17+1.26908309442005E-17i","154.273070499131+22.8361699030648i","-24.8778025645137+153.025942440703i","11.1444297559442+20.128177396954i","-17.4954470949694+12.8907259458639i","-7.82988592776574E-17+1.07290089194275E-17i","-0.0000399707694400953-0.00048892179652051i","7.30060326526705+43.1791479040998i","-42.0340267057659+11.7122173716938i","1.01158233666433E-17+2.58213220727027E-17i","0.00046118656705804+0.0001774434749525i","-42.3795275807063-11.7049043386582i","7.19998504364203-43.1804220325853i","-2.77800053221925E-17-1.70619726546001E-18i","0.180996010796193+0.19677657660286i","7.93818588837751-8.0352421855781i","8.4937557228695+6.45566996221495i","3.81914731448231E-18-6.2575054113171E-18i","-0.235020099003501+0.10817786311469i","5.7656669716879+9.76502252492081i","-8.44342286433087+6.59066909738606i","5.0944736247465E-18+5.07759041409681E-18i","-0.01411823602165+0.994008623216739i","-0.0898519922069547-0.117211233120088i","0.0988222204640364-0.0984524773181103i","-6.31994056710764E-19+2.32267435784679E-20i","1.3176963596586-0.563546080474993i","8.10636697389604+13.2046852909531i","-13.935448963379+9.71035898156259i","5.9459075751551E-18+7.57185862075393E-18i","-1.3178254159996+0.562969903197711i","18.8979226880576+32.3242860133183i","-30.528176672121+22.1488115368333i","1.63385657641417E-17+1.75080831111164E-17i","-0.000389138533300581-0.000413529035000693i","22.329516850097+40.2625895875463i","-34.9893319789124+25.82257090326i","1.97312142509669E-17+2.15780715266555E-17i","7.29543694049789+43.1803467530226i","-42.035666978903+11.7066397713112i","1.01127200915929E-17+2.5822430748709E-17i","-42.3783572664954-11.7101170110366i","7.20576391991191-43.1794725494758i","-2.77796549769226E-17-1.70949822796924E-18i","9.75731565064724-10.2815677781113i","11.0676313779699+8.30369148901685i","4.78166319701281E-18-7.773840699386E-18i","7.29348181123513+12.1080744954435i","-10.9104602131588+8.41153425627045i","6.20471013325432E-18+6.41476707606976E-18i","10.5640849776998-1.53437185345299i","2.32673145431641+11.4706612889925i","5.84284371958469E-18-1.61183329820461E-18i","1.57761778986854+10.6957460340656i","-11.6046709460153+2.40616294603341i","1.73708351376604E-18+6.48919241805443E-18i","26.9983306177047+45.5312606456416i","-44.4665096682857+31.8527947012721i","2.22809585957199E-17+2.50817800713492E-17i","22.3257077604338+40.2674041052328i","-34.9948428217849+25.8187083656019i","1.97292067476191E-17+2.15813150559445E-17i","1.7669960367871+0.347003509652101i","3.7493801219753E-19-1.68382497770799E-19i","-1.07179175884488+1.4917571163399i","6.49862285969558E-23+4.7551089527595E-19i","-0.3867496696357-0.824680177468919i","-5.21202855607807E-20-2.01498569368989E-19i","0.904317710552901-0.176244876177691i","2.0871918622971E-19-2.414958298642E-19i","-0.19456626975562+0.732000031630701i","-5.4596767029722E-19+6.1466941158335E-19i","-0.734323240336101-0.17139182303241i","-5.3217882746263E-19+2.366074065546E-20i","0.0891419962414538+1.02947280813367i","6.22252069133154E-19-1.20383038553905E-19i","4.469196601414-0.7545174815053i","9.89476437961103E-19-7.87523929089999E-19i"]
[{"$f":"COMPLEX(定数!O$13,計算!B45*定数!O$23)","v":"74.3688188913563+115.028490132257i"},{"$f":"COMPLEX(定数!P$13,計算!B45*定数!P$23)","v":"-73.4757772913563+115.028490132257i"},{"$f":"COMPLEX(定数!Q$13,計算!B45*定数!Q$23)","v":"125.193786513619+164.570872211177i"},{"$f":"COMPLEX(定数!R$13,計算!B45*定数!R$23)","v":"-123.916114913619+164.570872211177i"},{"$f":"COMPLEX(定数!S$13,計算!B45*定数!S$23)","v":"-77.7867441135484-75.568806516283i"},{"$f":"COMPLEX(定数!T$13,計算!B45*定数!T$23)","v":"77.2000539135484-75.568806516283i"},{"$f":"COMPLEX(定数!U$13,計算!B45*定数!U$23)","v":"124.646605989444+137.897948218057i"},{"$f":"COMPLEX(定数!V$13,計算!B45*定数!V$23)","v":"-123.576013789444+137.897948218057i"},{"$f":"IMPRODUCT(定数!D$31,計算!G45)","v":"-0.114208693277486-0.0293238084082793i"},{"$f":"COMPLEX(定数!O$14,計算!B45*定数!O$24)","v":"86.1948356167649+141.246370746557i"},{"$f":"COMPLEX(定数!P$14,計算!B45*定数!P$24)","v":"-85.0982474167649+141.246370746557i"},{"$f":"COMPLEX(定数!Q$14,計算!B45*定数!Q$24)","v":"57.0863694248256+78.080973531417i"},{"$f":"COMPLEX(定数!R$14,計算!B45*定数!R$24)","v":"-56.4801756248256+78.080973531417i"},{"$f":"COMPLEX(定数!S$14,計算!B45*定数!S$24)","v":"163.969671876329+165.755777893395i"},{"$f":"COMPLEX(定数!T$14,計算!B45*定数!T$24)","v":"-162.682801076329+165.755777893395i"},{"$f":"COMPLEX(定数!U$14,計算!B45*定数!U$24)","v":"-101.525845343051-119.008882981831i"},{"$f":"COMPLEX(定数!V$14,計算!B45*定数!V$24)","v":"100.601901343051-119.008882981831i"},{"$f":"IMPRODUCT(定数!D$32,計算!G45)","v":"0.114208693277486+0.0293238084082793i"},{"$f":"COMPLEX(定数!O$15,計算!B45*定数!O$25)","v":"86.1919999827348+141.244799336749i"},{"$f":"COMPLEX(定数!P$15,計算!B45*定数!P$25)","v":"-85.0954239827348+141.244799336749i"},{"$f":"COMPLEX(定数!Q$15,計算!B45*定数!Q$25)","v":"-57.0828842529623-78.0806901679617i"},{"$f":"COMPLEX(定数!R$15,計算!B45*定数!R$25)","v":"56.4766926529622-78.0806901679617i"},{"$f":"COMPLEX(定数!S$15,計算!B45*定数!S$25)","v":"-163.956966054068-165.741094106744i"},{"$f":"COMPLEX(定数!T$15,計算!B45*定数!T$25)","v":"162.670209254068-165.741094106744i"},{"$f":"COMPLEX(定数!U$15,計算!B45*定数!U$25)","v":"-101.548680976766-119.032274036595i"},{"$f":"COMPLEX(定数!V$15,計算!B45*定数!V$25)","v":"100.624555376766-119.032274036595i"},{"$f":"IMPRODUCT(定数!D$33,計算!G45)","v":"0"},{"$f":"COMPLEX(定数!O$16,計算!B45*定数!O$26)","v":"74.3664237452132+115.026223158737i"},{"$f":"COMPLEX(定数!P$16,計算!B45*定数!P$26)","v":"-73.4733997452132+115.026223158737i"},{"$f":"COMPLEX(定数!Q$16,計算!B45*定数!Q$26)","v":"-125.201328746793-164.579502165824i"},{"$f":"COMPLEX(定数!R$16,計算!B45*定数!R$26)","v":"123.923590146793-164.579502165824i"},{"$f":"COMPLEX(定数!S$16,計算!B45*定数!S$26)","v":"77.7704269443536+75.5478885355861i"},{"$f":"COMPLEX(定数!T$16,計算!B45*定数!T$26)","v":"-77.1838991443536+75.5478885355861i"},{"$f":"COMPLEX(定数!U$16,計算!B45*定数!U$26)","v":"124.65071095008+137.896969297474i"},{"$f":"COMPLEX(定数!V$16,計算!B45*定数!V$26)","v":"-123.58012635008+137.896969297474i"},{"$f":"IMPRODUCT(定数!D$34,計算!G45)","v":"0"},{"$f":"IMDIV(COMPLEX(定数!O$17,計算!B45*定数!O$27),計算!R45)","v":"0.506339320311417-0.0114988690486126i"},{"$f":"IMPRODUCT(COMPLEX(定数!P$17,計算!B45*定数!P$27),計算!R45)","v":"-0.292600310291316+0.855587594302181i"},{"$f":"IMDIV(COMPLEX(定数!Q$17,計算!B45*定数!Q$27),計算!S45)","v":"0.145396479576836+0.692850742792832i"},{"$f":"IMPRODUCT(COMPLEX(定数!R$17,計算!B45*定数!R$27),計算!S45)","v":"1.13057545754928+0.758731947344542i"},{"$f":"IMDIV(COMPLEX(定数!S$17,計算!B45*定数!S$27),計算!T45)","v":"0.242328115425778-0.213826410142646i"},{"$f":"IMPRODUCT(COMPLEX(定数!T$17,計算!B45*定数!T$27),計算!T45)","v":"-0.677092810169138+0.180108928435595i"},{"$f":"IMDIV(COMPLEX(定数!U$17,計算!B45*定数!U$27),計算!U45)","v":"-0.290905889722699+0.508830666050311i"},{"$f":"IMPRODUCT(COMPLEX(定数!V$17,計算!B45*定数!V$27),計算!U45)","v":"1.21315072210024-0.0348899679647765i"},{"$f":"IMPRODUCT(定数!E$31,計算!G45)","v":"0"},{"$f":"IMDIV(COMPLEX(定数!O$18,計算!B45*定数!O$28),計算!R45)","v":"0.626959334759487-0.0352659185579544i"},{"$f":"IMPRODUCT(COMPLEX(定数!P$18,計算!B45*定数!P$28),計算!R45)","v":"-0.364503838545509+1.02945131755984i"},{"$f":"IMDIV(COMPLEX(定数!Q$18,計算!B45*定数!Q$28),計算!S45)","v":"0.0787968689265439+0.328217711085771i"},{"$f":"IMPRODUCT(COMPLEX(定数!R$18,計算!B45*定数!R$28),計算!S45)","v":"0.52659052268476+0.359475177977715i"},{"$f":"IMDIV(COMPLEX(定数!S$18,計算!B45*定数!S$28),計算!T45)","v":"-0.510585547358445+0.487995662949143i"},{"$f":"IMPRODUCT(COMPLEX(定数!T$18,計算!B45*定数!T$28),計算!T45)","v":"1.46421659579959-0.376078569592074i"},{"$f":"IMDIV(COMPLEX(定数!U$18,計算!B45*定数!U$28),計算!U45)","v":"0.228919921399782-0.452183533155601i"},{"$f":"IMPRODUCT(COMPLEX(定数!V$18,計算!B45*定数!V$28),計算!U45)","v":"-1.02483696563589+0.0170590201475464i"},{"$f":"IMPRODUCT(定数!E$32,計算!G45)","v":"0"},{"$f":"IMDIV(COMPLEX(定数!O$19,計算!B45*定数!O$29),計算!R45)","v":"0.626954273516343-0.0352732653215133i"},{"$f":"IMPRODUCT(COMPLEX(定数!P$19,計算!B45*定数!P$29),計算!R45)","v":"-0.364501697228964+1.02943212537402i"},{"$f":"IMDIV(COMPLEX(定数!Q$19,計算!B45*定数!Q$29),計算!S45)","v":"-0.0788104936670798-0.328215805025227i"},{"$f":"IMPRODUCT(COMPLEX(定数!R$19,計算!B45*定数!R$29),計算!S45)","v":"-0.526574700870844-0.359473158477498i"},{"$f":"IMDIV(COMPLEX(定数!S$19,計算!B45*定数!S$29),計算!T45)","v":"0.510546057246272-0.487947240500421i"},{"$f":"IMPRODUCT(COMPLEX(定数!T$19,計算!B45*定数!T$29),計算!T45)","v":"-1.46409262639118+0.376050446312573i"},{"$f":"IMDIV(COMPLEX(定数!U$19,計算!B45*定数!U$29),計算!U45)","v":"0.228975468697498-0.452266193287543i"},{"$f":"IMPRODUCT(COMPLEX(定数!V$19,計算!B45*定数!V$29),計算!U45)","v":"-1.02504894940079+0.0170685890334662i"},{"$f":"IMPRODUCT(定数!E$33,計算!G45)","v":"0"},{"$f":"IMDIV(COMPLEX(定数!O$20,計算!B45*定数!O$30),計算!R45)","v":"0.506330287566621-0.011502477226336i"},{"$f":"IMPRODUCT(COMPLEX(定数!P$20,計算!B45*定数!P$30),計算!R45)","v":"-0.292595489899647+0.855566897646435i"},{"$f":"IMDIV(COMPLEX(定数!Q$20,計算!B45*定数!Q$30),計算!S45)","v":"-0.145399955708828-0.692887290683898i"},{"$f":"IMPRODUCT(COMPLEX(定数!R$20,計算!B45*定数!R$30),計算!S45)","v":"-1.13063889228843-0.758771949989322i"},{"$f":"IMDIV(COMPLEX(定数!S$20,計算!B45*定数!S$30),計算!T45)","v":"-0.242277461668245+0.213752340281436i"},{"$f":"IMPRODUCT(COMPLEX(定数!T$20,計算!B45*定数!T$30),計算!T45)","v":"0.6769218104668-0.18007395420678i"},{"$f":"IMDIV(COMPLEX(定数!U$20,計算!B45*定数!U$30),計算!U45)","v":"-0.290922094091388+0.508816284107306i"},{"$f":"IMPRODUCT(COMPLEX(定数!V$20,計算!B45*定数!V$30),計算!U45)","v":"1.21316037956832-0.0349004901030692i"},{"$f":"IMPRODUCT(定数!E$34,計算!G45)","v":"0"},"0.413982145818862+0.906411449877635i","1.50519344476456-0.115226478311827i","0.517786034153129+1.41202627736204i","-0.771626797966424+0.177362760307545i","-0.157299097453113-0.772836380809657i","1.33949715353568-0.217596394979043i","0.355606698572584+1.30421657955912i","-0.000632473363740841+0.000583963122167415i","7.2459572744434+4.644909172415i","-88.9288539935404-124.590210456299i","98.3329293528484-116.763797479739i","255.531763083568+259.457508707695i","-258.284765198961+254.5882093329i","-247.718283379508-289.45230904807i","254.166298945581-281.653772252131i","0.251207302553086+0.068323770309067i","7.2485302664916+4.64655854936299i","-203.093658425556-280.749835620059i","211.289047010393-272.920643535302i","-72.3973416076172-72.040072898484i","67.0690135314316-76.9111013297246i","-247.736978756402-289.474212227612i","254.187911891027-281.672906222126i","0.136995898167229+0.0390006239316422i","0.00131428312789694+0.000842500931000245i","-250.391248886763-329.147238127574i","247.837744207455-329.145818560481i","155.554920822272+151.115370604082i","-154.382577812618+151.114487402904i","0.00780653734300074+0.00153650882799639i","-0.0062174550729992+0.00295101969598477i","0.114205854582414+0.0293237732849313i","-0.512638455192607+0.401396163331888i","-0.615417171997411+0.768502461817299i","0.852163323692854+0.049721475605114i","0.630993632687295-0.312504985149541i","-0.588559347740196+0.569617614483614i","-0.966643855551719+0.63441097914571i","1.01809605238743-0.691177029537926i","0.000313531217640591-0.000302956218751573i","-0.65601924166179+0.475767658565071i","-0.86083464428752+0.453542056711866i","0.15216333146522-0.507547677429214i","-0.0330617840830429+0.349584296921399i","1.59009151816132+0.102911116438257i","-0.603216586149339-0.268520844588277i","-1.29378230048564-0.78809094208461i","0.000375941083476848-0.000388425884733915i","-0.656021664271557+0.47575609537693i","-1.01843354218945-0.202880984288006i","-0.901009645272567-1.22648506322454i","0.988064612088569-0.626363377811751i","-1.33821282231227+0.855035065190793i","-0.603152660701573-0.268594765059606i","-1.29400206620941-0.788072159683134i","0.000375933592136386-0.000388427575786828i","-0.512633165899466+0.401385147780605i","-0.906199595497208-0.617231181465347i","-1.40905144395751-1.46776779899171i","0.146380445728968+0.115072583180468i","0.765456640584152+0.209427183444343i","-0.966647175458+0.634399464853791i","1.01810421611486-0.691174487928529i","0.000313523397627377-0.000302953226038022i","2.34831354109205+17.5867876282975i","-16.3739928754603+6.61062347275527i","-9.37325683697929-41.097225327439i","40.9439866179265-9.35616655462915i","7.29992939570081+43.4863750781758i","-42.0419069324869+12.7799935239523i","-0.020797691496604-0.0218169955853013i","-16.5105306404233-6.61062347305071i","2.29699093640287-17.5867876282751i","41.2630513279189+9.35616655537362i","-9.30061878134987+41.0972253272639i","-42.379520178643-12.7799935247145i","7.20070992614043-43.4863750780486i","0.0288555843997995-0.00906820118532984i","-114.133226377934-156.115383993493i","112.921200276027-156.115383994742i","-328.019842348698-331.589713273992i","325.445493964642-331.589713270375i","0.069267764816999+0.0808794458230295i","-0.0686398485410109+0.0808794423249992i","-0.114300606457058-0.0293474077036132i","-250.37511883134-329.124639759243i","247.819908426072-329.12463975923i","155.50857206914+151.068309793077i","-154.335729715675+151.068309793035i","0.05273806923941+0.0540378238980112i","-0.0523185381268874+0.054037823937826i","0.114160290206751+0.0293113806120282i","-11.7328289932285+4.00690631037209i","-5.0295798704005-9.88794551503452i","25.539549880786-12.0790047060714i","11.1398543778031+25.370868414401i","-27.8218559799619+11.0938716448182i","-12.745807248326-25.8743025090936i","0.0114660722639206-0.0165341857345539i","-14.8371812858804+3.97202236347057i","-6.70819118791737-13.1376527601548i","31.4876553119048-13.1442157300953i","15.0414373057082+31.4884153308428i","-34.4853048714634+11.5103625813901i","-17.2593888856781-32.7418546449723i","0.0149914028337997-0.0200658941759899i","-14.9947437424722+3.3153923931376i","-7.76115524060834-13.8566061913352i","32.5087734852334-14.1196636060623i","12.1126352185162+32.24053129733i","-34.4851958375856+11.5097676576165i","-17.2590883657551-32.7418579499242i","0.0149915701055963-0.0200655841732043i","-12.0234512680299+2.62102576001786i","-7.29061305934825-11.4053164653347i","25.0546153781208-11.651022089991i","12.4934668512334+25.0103581566465i","-27.8214943634888+11.0934608938805i","-12.7453581448694-25.8739906355093i","0.011466011709498-0.0165338169172962i","-0.426108265606699-1.0155241408216i","-21.2588223653211-82.2068341721825i","81.7150966456734-21.798935148038i","7.30196294207524+43.4959311025575i","-42.0509860740387+12.783499685417i","-0.0287206710549066-0.029196077357216i","1.10125630979929+0.0920332388575993i","83.0068168272396+19.2244042806947i","-18.5156949930718+82.8198665934656i","-42.3888644716438-12.7829241155784i","7.20212000978473-43.4960282360403i","0.0391996230261085-0.0123514170195379i","0.307070629089993+0.947812817128498i","2.38524115673626-0.357329124228259i","0.390982198288271+2.37048741927345i","-0.000549014815211404+0.0000423208300080898i","-0.000128145508709397-0.000533358768148862i","0.000471332350024979-0.000387571827353897i","12.754201677483+9.24861713907302i","870.319429415496+846.64362430227i","-836.629333280502+873.261254245726i","-0.098650408290036-0.116060396538613i","0.0911385273317226-0.121677785407928i","0.359729621411993+0.0874001281914653i","2.37102446755921+0.00217694449368011i","52.0933921576331-25.8289240576274i","25.2255026486604+51.6167628977715i","-27.8281279013027+11.0965680388071i","-12.7494478762797-25.8800468492648i","0.0154431701249934-0.0229700842750879i","1.61260510947863-0.2944735732487i","65.4585914923898-27.9202039418217i","30.2581401029431+65.1067768711819i","-34.4932826045221+11.513171202341i","-17.2634087167766-32.7492591888794i","0.0204452023913195-0.027688510274666i","-0.01433844253802-0.6624555105036i","67.0901671341787-27.3857326424292i","25.8344090476049+66.4891232880325i","-34.4932878638926+11.5122224471595i","-17.2627781684227-32.7494306753306i","0.0207741252235545-0.0274397760940901i","-1.11432250527254-0.8141752763658i","52.7968773492316-22.1991299174578i","23.4075308487336+52.4870237103368i","-27.8279844923793+11.095408718291i","-12.7482968432192-25.8800675759872i","0.0161172175077176-0.0224291421272923i","-0.00733353552540095-0.0342780361023927i","0.0339493567604023-0.00813871987750048i","7.30028360440173+43.485416558598i","-42.0411242398847+12.7795399813841i","-0.0104049810970941-0.0109149466688228i","0.0342154795619081+0.00813872021609896i","-0.00727034964150164+0.0342780360239061i","-42.3787300445062-12.77953998185i","7.20106765568755-43.4854165585202i","0.0144363109135844-0.00453678694509074i","-10.5372816240902-76.0471966099364i","75.6787756571822-11.0755014960422i","0.000167024330865535+0.00964844840657356i","-0.00931890261183153+0.0022879235313765i","-0.0146527797161117-0.0182575445560754i","76.2691799130326+11.0755014972783i","-10.4512952443306+76.0471966097501i","-0.00939380970877787-0.00228792423098787i","0.000149262387389905-0.00964844834619601i","0.0217415447935317-0.00891307025641687i","-128.718588784843-52.2552428694121i","50.1713299165729-128.670249063597i","-27.8058599293236+11.102013212941i","-12.7498227851888-25.8571704670979i","-0.0361259678022213-0.0018843067522716i","-60.7949202325362-23.3213563086322i","24.7180624934008-60.6049511989021i","-34.4774603657646+11.5140944919346i","-17.2608082050043-32.7336560979492i","-0.0119906601836644-0.0069129372547282i","60.8467213893207+23.2980113143482i","-24.6933307011835+60.656003520292i","-34.4919069084789+11.5059666608832i","-17.2563843604578-32.7494701393618i","0.0269903776211334-0.0131647694844631i","128.767941492568+52.2390312920254i","-50.1543299678595+128.718940161534i","-27.836589454605+11.0852110252143i","-12.740274988683-25.8906975333748i","0.047601111609827-0.0146597486641998i","-0.0000232443513022013-0.000376983862413289i","7.3065421290581+43.4896480572606i","-42.0447153808735+12.7858663349914i","-0.0104002545123851-0.0109071377187974i","0.000348740526007011+0.000154594269199199i","-42.3852623782869-12.7756951193112i","7.19688519432677-43.4913980348646i","0.0144271983627568-0.00453587264860784i","0.230273543720202+0.4459537712198i","12.9941556630039+10.2534573452108i","-8.86522377571932+13.2468398050263i","-0.0055771366520022-0.0004443900130583i","-0.491942316326961+0.0804676853478981i","-13.5152524214573+9.6663196445752i","-10.2976236317561-12.2472223606885i","0.0020313050562479-0.0051363381783934i","0.0137681306444258+0.994035074971093i","0.155395583501692-0.149335440600475i","0.155049415056175+0.13793676417829i","0.00024605044106714-0.0000852489054409978i","2.372848731001+0.148423372771099i","-21.5474932425406+6.05929406436884i","-11.0514638100244-20.7318388686258i","0.0049560768529031-0.0063574076549018i","-2.3720358870212-0.148541801217895i","-47.4264374676803+16.9721305460296i","-23.4769806274677-44.7548130249245i","0.0100328850223015-0.0137101390462328i","0.000205577642795163-0.000144021471015776i","-55.647697613691+22.1971135540357i","-25.499986054863-51.7521619576888i","0.0114643825713298-0.0165358592863909i","7.30516336177145+43.4863703213158i","-42.0416643580574+12.7837166131451i","-0.0103991548822875-0.0109064813868748i","-42.3816826437018-12.7754057282169i","7.19739237888515-43.4876627578514i","0.0144260983197133-0.00453519237907019i","16.4271160944472+13.5003390737922i","-11.4233044770298+17.4957895174465i","-0.00726597665988138-0.000653242367160898i","-17.6366174724918+11.911050585623i","-13.5246675184712-15.9687467331159i","0.00274745600779159-0.00666723029660081i","3.36863915255492+8.64120320096033i","-8.1362640666114+5.40654317439731i","-0.00256252692308329-0.00194888480605073i","-8.88635630328235+3.10944264678649i","-5.18369734612758-8.41286541543155i","0.00191358628149888-0.00279892624343088i","-68.9670757354605+23.0278447212878i","-34.5232345777269-65.4804274437699i","0.0149877379006036-0.0200650449877366i","-55.6463186040132+22.1951944960392i","-25.497708769329-51.7511790243646i","0.0114643922862476-0.0165350082922202i","0.437744892492695-1.7366343261865i","0.0002114303358004-0.0000386464099817012i","1.36262849771044+1.1982537402873i","-0.0000744545295501015+0.000177193254538761i","-0.5739420661672-1.2362287616705i","0.0000339832022113297-0.0000612053423355939i","1.3536675300429-0.218314589211801i","0.0000979132089771202+0.00016771177010076i","-0.0117473159146897+0.59537635247968i","0.0000882705685466703-0.00016597108538104i","-0.5924294576521+0.000734683997739793i","0.0000103896070601601-0.00017329465059738i","0.165147814285941+1.00458697035321i","-0.000282918288128984+0.000196471235519166i","5.9891623163591+0.484899734678294i","0.0000817483713452007+0.000677319107512699i"]
[{"$f":"COMPLEX(定数!O$13,計算!B46*定数!O$23)","v":"74.3688188913563+117.834063062312i"},{"$f":"COMPLEX(定数!P$13,計算!B46*定数!P$23)","v":"-73.4757772913563+117.834063062312i"},{"$f":"COMPLEX(定数!Q$13,計算!B46*定数!Q$23)","v":"125.193786513619+168.584795923644i"},{"$f":"COMPLEX(定数!R$13,計算!B46*定数!R$23)","v":"-123.916114913619+168.584795923644i"},{"$f":"COMPLEX(定数!S$13,計算!B46*定数!S$23)","v":"-77.7867441135484-77.4119481386313i"},{"$f":"COMPLEX(定数!T$13,計算!B46*定数!T$23)","v":"77.2000539135484-77.4119481386313i"},{"$f":"COMPLEX(定数!U$13,計算!B46*定数!U$23)","v":"124.646605989444+141.261312808742i"},{"$f":"COMPLEX(定数!V$13,計算!B46*定数!V$23)","v":"-123.576013789444+141.261312808742i"},{"$f":"IMPRODUCT(定数!D$31,計算!G46)","v":"-0.190647096292611+0.0240843291772088i"},{"$f":"COMPLEX(定数!O$14,計算!B46*定数!O$24)","v":"86.1948356167649+144.6914041794i"},{"$f":"COMPLEX(定数!P$14,計算!B46*定数!P$24)","v":"-85.0982474167649+144.6914041794i"},{"$f":"COMPLEX(定数!Q$14,計算!B46*定数!Q$24)","v":"57.0863694248256+79.9853875199881i"},{"$f":"COMPLEX(定数!R$14,計算!B46*定数!R$24)","v":"-56.4801756248256+79.9853875199881i"},{"$f":"COMPLEX(定数!S$14,計算!B46*定数!S$24)","v":"163.969671876329+169.798601744454i"},{"$f":"COMPLEX(定数!T$14,計算!B46*定数!T$24)","v":"-162.682801076329+169.798601744454i"},{"$f":"COMPLEX(定数!U$14,計算!B46*定数!U$24)","v":"-101.525845343051-121.911538664315i"},{"$f":"COMPLEX(定数!V$14,計算!B46*定数!V$24)","v":"100.601901343051-121.911538664315i"},{"$f":"IMPRODUCT(定数!D$32,計算!G46)","v":"0.190647096292611-0.0240843291772088i"},{"$f":"COMPLEX(定数!O$15,計算!B46*定数!O$25)","v":"86.1919999827348+144.689794442523i"},{"$f":"COMPLEX(定数!P$15,計算!B46*定数!P$25)","v":"-85.0954239827348+144.689794442523i"},{"$f":"COMPLEX(定数!Q$15,計算!B46*定数!Q$25)","v":"-57.0828842529623-79.9850972452291i"},{"$f":"COMPLEX(定数!R$15,計算!B46*定数!R$25)","v":"56.4766926529622-79.9850972452291i"},{"$f":"COMPLEX(定数!S$15,計算!B46*定数!S$25)","v":"-163.956966054068-169.783559816665i"},{"$f":"COMPLEX(定数!T$15,計算!B46*定数!T$25)","v":"162.670209254068-169.783559816665i"},{"$f":"COMPLEX(定数!U$15,計算!B46*定数!U$25)","v":"-101.548680976766-121.935500232609i"},{"$f":"COMPLEX(定数!V$15,計算!B46*定数!V$25)","v":"100.624555376766-121.935500232609i"},{"$f":"IMPRODUCT(定数!D$33,計算!G46)","v":"0"},{"$f":"COMPLEX(定数!O$16,計算!B46*定数!O$26)","v":"74.3664237452132+117.831740796755i"},{"$f":"COMPLEX(定数!P$16,計算!B46*定数!P$26)","v":"-73.4733997452132+117.831740796755i"},{"$f":"COMPLEX(定数!Q$16,計算!B46*定数!Q$26)","v":"-125.201328746793-168.59363636499i"},{"$f":"COMPLEX(定数!R$16,計算!B46*定数!R$26)","v":"123.923590146793-168.59363636499i"},{"$f":"COMPLEX(定数!S$16,計算!B46*定数!S$26)","v":"77.7704269443536+77.3905199632833i"},{"$f":"COMPLEX(定数!T$16,計算!B46*定数!T$26)","v":"-77.1838991443536+77.3905199632833i"},{"$f":"COMPLEX(定数!U$16,計算!B46*定数!U$26)","v":"124.65071095008+141.260310012047i"},{"$f":"COMPLEX(定数!V$16,計算!B46*定数!V$26)","v":"-123.58012635008+141.260310012047i"},{"$f":"IMPRODUCT(定数!D$34,計算!G46)","v":"0"},{"$f":"IMDIV(COMPLEX(定数!O$17,計算!B46*定数!O$27),計算!R46)","v":"0.408538650204067-0.318446803025046i"},{"$f":"IMPRODUCT(COMPLEX(定数!P$17,計算!B46*定数!P$27),計算!R46)","v":"-0.759368492415584+0.50279720526019i"},{"$f":"IMDIV(COMPLEX(定数!Q$17,計算!B46*定数!Q$27),計算!S46)","v":"0.528679150315378+0.495817434859456i"},{"$f":"IMPRODUCT(COMPLEX(定数!R$17,計算!B46*定数!R$27),計算!S46)","v":"0.476080843030717+1.28505888917981i"},{"$f":"IMDIV(COMPLEX(定数!S$17,計算!B46*定数!S$27),計算!T46)","v":"0.0819219478706716-0.320665620237179i"},{"$f":"IMPRODUCT(COMPLEX(定数!T$17,計算!B46*定数!T$27),計算!T46)","v":"-0.662779048560552-0.238140355292519i"},{"$f":"IMDIV(COMPLEX(定数!U$17,計算!B46*定数!U$27),計算!U46)","v":"0.0481740296982187+0.598475803253551i"},{"$f":"IMPRODUCT(COMPLEX(定数!V$17,計算!B46*定数!V$27),計算!U46)","v":"1.01999518360388+0.670463235868002i"},{"$f":"IMPRODUCT(定数!E$31,計算!G46)","v":"0"},{"$f":"IMDIV(COMPLEX(定数!O$18,計算!B46*定数!O$28),計算!R46)","v":"0.493098952544136-0.411056996999196i"},{"$f":"IMPRODUCT(COMPLEX(定数!P$18,計算!B46*定数!P$28),計算!R46)","v":"-0.923891723202314+0.597369137691834i"},{"$f":"IMDIV(COMPLEX(定数!Q$18,計算!B46*定数!Q$28),計算!S46)","v":"0.258560248685682+0.229171665320857i"},{"$f":"IMPRODUCT(COMPLEX(定数!R$18,計算!B46*定数!R$28),計算!S46)","v":"0.218150103531935+0.603628823413737i"},{"$f":"IMDIV(COMPLEX(定数!S$18,計算!B46*定数!S$28),計算!T46)","v":"-0.151705200157125+0.707337441847755i"},{"$f":"IMPRODUCT(COMPLEX(定数!T$18,計算!B46*定数!T$28),計算!T46)","v":"1.42578143638958+0.526323077333831i"},{"$f":"IMDIV(COMPLEX(定数!U$18,計算!B46*定数!U$28),計算!U46)","v":"-0.0672161576943259-0.514769399885165i"},{"$f":"IMPRODUCT(COMPLEX(定数!V$18,計算!B46*定数!V$28),計算!U46)","v":"-0.854636752886558-0.576896096156187i"},{"$f":"IMPRODUCT(定数!E$32,計算!G46)","v":"0"},{"$f":"IMDIV(COMPLEX(定数!O$19,計算!B46*定数!O$29),計算!R46)","v":"0.493090340421428-0.411059757572739i"},{"$f":"IMPRODUCT(COMPLEX(定数!P$19,計算!B46*定数!P$29),計算!R46)","v":"-0.923878318330785+0.59735515795795i"},{"$f":"IMDIV(COMPLEX(定数!Q$19,計算!B46*定数!Q$29),計算!S46)","v":"-0.258570266242345-0.229162232060691i"},{"$f":"IMPRODUCT(COMPLEX(定数!R$19,計算!B46*定数!R$29),計算!S46)","v":"-0.218138355896912-0.603618031172751i"},{"$f":"IMDIV(COMPLEX(定数!S$19,計算!B46*定数!S$29),計算!T46)","v":"0.151699425995126-0.707273699305766i"},{"$f":"IMPRODUCT(COMPLEX(定数!T$19,計算!B46*定数!T$29),計算!T46)","v":"-1.42566279565936-0.526275370308038i"},{"$f":"IMDIV(COMPLEX(定数!U$19,計算!B46*定数!U$29),計算!U46)","v":"-0.0672171490760027-0.514871405916533i"},{"$f":"IMPRODUCT(COMPLEX(定数!V$19,計算!B46*定数!V$29),計算!U46)","v":"-0.854816950503956-0.577010313109475i"},{"$f":"IMPRODUCT(定数!E$33,計算!G46)","v":"0"},{"$f":"IMDIV(COMPLEX(定数!O$20,計算!B46*定数!O$30),計算!R46)","v":"0.408529047877086-0.318444159680672i"},{"$f":"IMPRODUCT(COMPLEX(定数!P$20,計算!B46*定数!P$30),計算!R46)","v":"-0.759351975959157+0.502783663586368i"},{"$f":"IMDIV(COMPLEX(定数!Q$20,計算!B46*定数!Q$30),計算!S46)","v":"-0.52870360791631-0.495846002024854i"},{"$f":"IMPRODUCT(COMPLEX(定数!R$20,計算!B46*定数!R$30),計算!S46)","v":"-0.476109074179822-1.28512884348839i"},{"$f":"IMDIV(COMPLEX(定数!S$20,計算!B46*定数!S$30),計算!T46)","v":"-0.0819212142841978+0.320573740746212i"},{"$f":"IMPRODUCT(COMPLEX(定数!T$20,計算!B46*定数!T$30),計算!T46)","v":"0.662617529617254+0.238071319379009i"},{"$f":"IMDIV(COMPLEX(定数!U$20,計算!B46*定数!U$30),計算!U46)","v":"0.0481525281761343+0.59847298179614i"},{"$f":"IMPRODUCT(COMPLEX(定数!V$20,計算!B46*定数!V$30),計算!U46)","v":"1.02000910232645+0.670459903380818i"},{"$f":"IMPRODUCT(定数!E$34,計算!G46)","v":"0"},"0.433700993199869+0.897275415613291i","1.50268670972674-0.114065070813989i","0.548504457519283+1.39779397650807i","-0.767768297279952+0.175575059748812i","-0.174112038911138-0.765046695830763i","1.33476337606208-0.215403165711477i","0.383979737866805+1.29107092990897i","-0.000584079412012249+0.00124929749901483i","7.34700658828649+4.59809152755901i","-88.9416997674664-127.60864252367i","98.4903460386974-119.861114668354i","255.551535986076+265.754411348865i","-258.370923186047+260.934191325327i","-247.742541641482-296.473685334142i","254.311696701186-288.753752685788i","0.421754334568412-0.047256051464897i","7.34961546228649+4.59972427986702i","-203.106508760933-287.577031805472i","211.446519593879-279.826752853552i","-72.3775616838808-73.8284882505811i","66.9828249502062-78.6504199028074i","-247.761245632326-296.496109089155i","254.333361276426-288.773435143074i","0.231103571000089-0.0231691199513548i","0.00133261161140297+0.000834009073003017i","-250.391251216749-337.175215853559i","247.83777275994-337.173810594773i","155.554924408712+154.801105667969i","-154.382593440089+154.800231368881i","0.00780213734100244+0.00158095625801025i","-0.00619108259999734+0.00298120978300176i","0.190642796136508-0.0240826933146235i","-1.22228659830464+0.274336212857528i","-0.048902792618435+1.02094320358594i","-0.193127450781786+0.888675515695831i","0.339673655242958-0.636888177889241i","-0.348020876747336+0.018965367005838i","-0.428533948817713+1.11152745172489i","0.451987209681979+0.265287980795361i","-0.000159215779992989-0.000696384535418885i","-1.50658056648973+0.333199397969623i","-0.435525748411269+0.903106918591984i","-0.626889864343585+0.139844672873655i","0.154709186219913+0.305165033121659i","1.82611369775434+0.831996829839113i","-0.636843601883332+0.140109500570442i","-1.57468049878819-1.05568426139842i","-0.000225523532037807-0.000856117217291033i","-1.5065659035268+0.333194342945208i","-0.952643007131943+0.444776187145224i","-1.06317745869781-1.06738862955269i","0.458106715569512-1.10944671543875i","-1.02532992180118-0.220608687127866i","-0.636832503482748+0.140009324173042i","-1.57486095362122-1.05578629948613i","-0.000225532010978998-0.000856108070581844i","-1.22226354550155+0.274330140694559i","-1.10627142307425+0.029274699293063i","-1.14530840622233-1.68150024478373i","0.175823584831198+0.00435489849929299i","0.977372007267861+0.495170155686915i","-0.428543202890165+1.11151903365659i","0.452008228248625+0.265296030602722i","-0.00015921808619097-0.000696370995332775i","2.34931591591368+17.7512131850843i","-16.3749952502812+7.03637867453621i","-9.37615552159021-41.3346518312891i","40.9468853025361-10.3493105845006i","7.30273359061773+43.8070087699033i","-42.0447111274024+13.8317102859493i","-0.0445295053339251-0.0199661059312116i","-16.5095282656011-7.03637867482441i","2.29598856158118-17.7512131850626i","41.2601526433071+10.3493105852266i","-9.29772009673833+41.3346518311183i","-42.3767159837252-13.8317102866926i","7.19790573122298-43.8070087697793i","0.038356066678512-0.0304369887249558i","-114.133226377944-159.923076286043i","112.921200276021-159.923076287274i","-328.01984234868-339.677267256207i","325.44549396465-339.677267252648i","0.0692677647970186+0.082852115157948i","-0.0686398485520101+0.082852111714999i","-0.190800525777012+0.0241037118256699i","-250.375118831339-337.15206999727i","247.81990842607-337.152069997258i","155.508572069139+154.752902714855i","-154.335729715672+154.752902714816i","0.0527380692397896+0.0553558196061174i","-0.0523185381303277+0.055355819643981i","0.190566297671933-0.0240741219376471i","-22.1586114138771-3.05036669079918i","-2.25657200091706-21.4382672708032i","53.6105959467984+0.693781434037189i","-0.372907702644838+53.0924576653186i","-56.0195649932808-4.16931888701766i","-2.76795796170178-55.2540779491289i","0.0383729222672397-0.0484215660193756i","-27.6529773336166-4.19679957250047i","-3.08249166307596-27.3688101498219i","65.7648373854244+2.14937721650584i","1.59103039275995+66.2039747399443i","-69.0894979150346-6.57858016496979i","-5.32692455364306-69.4528102062787i","0.0474193948136292-0.0594921112585393i","-28.1698169446703-4.65511058585602i","-3.51872319060931-28.5757715605891i","66.0675776026676+0.73482228746694i","-1.26048584234465+65.1507161343077i","-69.0887955287853-6.57869174284592i","-5.32698910560212-69.4522335182315i","0.0474189777808253-0.0594914619245392i","-23.2155567273907-4.04197323538617i","-3.20869809707045-24.0080198744438i","53.4457318715118+1.33503646817766i","0.952448529138752+53.5676531171385i","-56.0185133568651-4.16926576371787i","-2.76783687174219-55.2530163181178i","0.0383722205645451-0.0484206179170941i","-0.449252938854698-1.00786278736881i","-21.2558802646015-82.6978672961832i","81.6629951644392-23.775746153585i","7.30476671237928+43.8166386524614i","-42.0537778536714+13.8354443778556i","-0.0609170509207833-0.0261831112202013i","1.1033538268897+0.0913389184136015i","83.0002425238617+21.2206381538263i","-18.504665554833+83.3062748564112i","-42.3860595742453-13.8348731502343i","7.19931402571864-43.8167350531494i","0.0520845509169972-0.0413969662251966i","0.328672102723837+0.940662293859616i","2.37709731702779-0.35463334910156i","0.4450076562288+2.35260390351661i","-0.000548050286531057+0.0000420015518326956i","-0.000140301216443872-0.000529334984140043i","0.000464277505914117-0.000861733273851211i","12.964985658947+9.17884339169996i","870.239963033284+867.404816812872i","-836.102160860813+893.821637083033i","-0.0986409965194644-0.118904325429214i","0.0910199137551443-0.124479335458854i","0.597344990450358-0.0832985706069485i","2.15698047744222+0.408073404862002i","107.365533443333+0.0866173335435679i","2.31153944399815+106.580329905824i","-56.03183714675-4.17005994529074i","-2.76945217603396-55.2662352475075i","0.0512892695839037-0.066100162137725i","2.05849943100106+0.0226738810700979i","132.986980700898+2.3189102559501i","4.02340996719936+133.128085100288i","-69.1048294092805-6.57971875421721i","-5.32858278716611-69.4680367106822i","0.0638745719964885-0.0813731223096281i","1.36102277607955-0.5474819511448i","134.680831340508+1.81051664490664i","0.32366703701105+133.494697290985i","-69.1044295269019-6.58005980150981i","-5.32847725229832-69.467797905515i","0.0645090538192432-0.0816050673715036i","0.61947593310804-0.841537187600601i","110.064787986943+2.71018956802044i","1.77438700496247+109.983371532328i","-56.0314064185299-4.17050587889846i","-2.76895448475302-55.2658722182317i","0.0526337841692941-0.0665496383673703i","-0.0073359226324996-0.0344841403179998i","0.0339517438722936-0.00896717066930108i","7.30308775320129+43.8060390415091i","-42.0439283886819+13.831233511653i","-0.0222778965759006-0.0099889619590924i","0.0342130924332054+0.00896717100789957i","-0.0072679625157015+0.0344841402422134i","-42.3759258957078-13.8312335121049i","7.19826350688769-43.8060390414338i","0.0191893512674916-0.0152274936046483i","-10.5432150258071-76.3362184612556i","75.6847090589139-12.9114235010009i","0.000167696519028542+0.00970639117601779i","-0.00931957480227374+0.00252111179654862i","-0.0330917655345531-0.0183331238817845i","76.2632465113231+12.9114235022166i","-10.4453618426165+76.3362184610723i","-0.00939313751625987-0.00252111248485699i","0.000148590198973686-0.00970639111643999i","0.0276608102126625-0.0260079590141173i","-51.86399187779-58.8840737664321i","55.9927616000412-53.812928664341i","-56.0126051314612-4.16078886527087i","-2.77373360226409-55.2453593870713i","-0.0189877144234459-0.0212891432908794i","-23.708116768019-25.9884314581938i","27.256019715553-23.773140274448i","-69.0855508044526-6.57431606671872i","-5.32910874156394-69.4480594792084i","0.0063451085431324-0.0284629313986332i","23.816044529778+25.9905261874371i","-27.2526594168793+23.880718243672i","-69.0902649892212-6.58177108325163i","-5.32336541299642-69.4545059356799i","0.0411009492613386-0.031063848448472i","51.956099170517+58.8902314326619i","-55.9947293167274+53.9047609427099i","-56.0234659859921-4.17684878491761i","-2.7608782437233-55.2597342983596i","0.0573852426362526-0.0271607332557463i","0.0001704052453919-0.00023108899235205i","7.32410446798911+43.8200086560723i","-42.0550135511765+13.8534775577685i","-0.0222751516607415-0.00997644231480024i","0.00012754694794198+0.0002698868734924i","-42.3979185860172-13.8186931905427i","7.18332314835409-43.825999671522i","0.019176893264424-0.0152306760734851i","0.659366554499599+0.795261483519299i","43.6099582452661+33.7852868381928i","-27.6906186668288+46.7437688894348i","-0.0290861693017078+0.0093940227496238i","-0.95777004912652+0.374644765298513i","-45.4896311880821+31.5712914647382i","-36.4084372202254-40.5988971177368i","-0.0000928872874336011-0.0305291465604424i","0.0429929177240891+0.988765589939136i","0.51160227167952-0.500625503346554i","0.551699540848561+0.438821658395796i","0.000363536561451127-2.26304235663966E-06i","2.5788340667997+0.785948283488501i","-43.9459528287451-5.14746338570766i","-3.65363819785387-44.7066186587653i","0.0150226887126323-0.0190688388612553i","-2.5780427013115-0.785175629812901i","-94.2861277279037-7.95566404244645i","-7.05746044075331-94.2444634566868i","0.0323841286639827-0.0404584582514199i","0.000160810538098133+0.000495020700398641i","-112.086276102406-8.29467666643656i","-5.5827252797869-110.548909542007i","0.0383640299092647-0.0484519066407286i","7.32618028557646+43.8157781564811i","-42.0503944614074+13.8546965431692i","-0.0222737696518574-0.00997425728834784i","-42.3950691609025-13.814707870816i","7.17993063538149-43.8223722176967i","0.0191742119454232-0.0152304879560014i","56.5850405002122+44.6990736437294i","-35.9488907477271+61.8181089211806i","-0.0379137177130881+0.0123272806450884i","-59.8608534517083+40.4237696785063i","-48.0751475729803-53.1163418668361i","-0.000106091988968926-0.0397896711187199i","4.09881040209077+15.341491249077i","-14.4784578116235+7.16573220332643i","-0.00807313558615994-0.00287305831751727i","-16.1493323857971+2.92577051758828i","-6.13079316151596-15.467506347374i","0.00326824077150691-0.00839042238669515i","-138.217039924997-13.0929649409417i","-10.7181979661156-138.93410468487i","0.0473977481129644-0.0595231824402118i","-112.082230802604-8.28715290733926i","-5.58939611946513-110.543387334463i","0.0383593509089411-0.0484521752192255i","0.0275509142803969-0.8931778705351i","0.0000321092059148015-0.000216838365353241i","0.77687947974364+0.470463733243299i","0.000138217728011703+0.0000928108092485991i","-1.4319235868983-1.7964418342487i","-0.000452260820905999-0.0002613827954157i","2.1525567307341-0.837588491398805i","0.000524237204953684-0.000208073372431804i","-0.00804950072100041+0.485237215245619i","0.000196198444544599-0.00016060116893411i","-0.47207138483558+0.00268896281239961i","-0.00022456070836948-0.000101533260869629i","0.171228669287985+0.988967885545616i","-0.000299441190945876+0.00045901544042303i","5.40656702372907+1.72133763413399i","0.000993383091923504+0.000513784380103202i"]
[{"$f":"COMPLEX(定数!O$13,計算!B47*定数!O$23)","v":"74.3688188913563+120.639635992367i"},{"$f":"COMPLEX(定数!P$13,計算!B47*定数!P$23)","v":"-73.4757772913563+120.639635992367i"},{"$f":"COMPLEX(定数!Q$13,計算!B47*定数!Q$23)","v":"125.193786513619+172.598719636112i"},{"$f":"COMPLEX(定数!R$13,計算!B47*定数!R$23)","v":"-123.916114913619+172.598719636112i"},{"$f":"COMPLEX(定数!S$13,計算!B47*定数!S$23)","v":"-77.7867441135484-79.2550897609797i"},{"$f":"COMPLEX(定数!T$13,計算!B47*定数!T$23)","v":"77.2000539135484-79.2550897609797i"},{"$f":"COMPLEX(定数!U$13,計算!B47*定数!U$23)","v":"124.646605989444+144.624677399426i"},{"$f":"COMPLEX(定数!V$13,計算!B47*定数!V$23)","v":"-123.576013789444+144.624677399426i"},{"$f":"IMPRODUCT(定数!D$31,計算!G47)","v":"-0.195426997947169+0.107436901285515i"},{"$f":"COMPLEX(定数!O$14,計算!B47*定数!O$24)","v":"86.1948356167649+148.136437612243i"},{"$f":"COMPLEX(定数!P$14,計算!B47*定数!P$24)","v":"-85.0982474167649+148.136437612243i"},{"$f":"COMPLEX(定数!Q$14,計算!B47*定数!Q$24)","v":"57.0863694248256+81.8898015085593i"},{"$f":"COMPLEX(定数!R$14,計算!B47*定数!R$24)","v":"-56.4801756248256+81.8898015085593i"},{"$f":"COMPLEX(定数!S$14,計算!B47*定数!S$24)","v":"163.969671876329+173.841425595512i"},{"$f":"COMPLEX(定数!T$14,計算!B47*定数!T$24)","v":"-162.682801076329+173.841425595512i"},{"$f":"COMPLEX(定数!U$14,計算!B47*定数!U$24)","v":"-101.525845343051-124.814194346798i"},{"$f":"COMPLEX(定数!V$14,計算!B47*定数!V$24)","v":"100.601901343051-124.814194346798i"},{"$f":"IMPRODUCT(定数!D$32,計算!G47)","v":"0.195426997947169-0.107436901285515i"},{"$f":"COMPLEX(定数!O$15,計算!B47*定数!O$25)","v":"86.1919999827348+148.134789548298i"},{"$f":"COMPLEX(定数!P$15,計算!B47*定数!P$25)","v":"-85.0954239827348+148.134789548298i"},{"$f":"COMPLEX(定数!Q$15,計算!B47*定数!Q$25)","v":"-57.0828842529623-81.8895043224965i"},{"$f":"COMPLEX(定数!R$15,計算!B47*定数!R$25)","v":"56.4766926529622-81.8895043224965i"},{"$f":"COMPLEX(定数!S$15,計算!B47*定数!S$25)","v":"-163.956966054068-173.826025526586i"},{"$f":"COMPLEX(定数!T$15,計算!B47*定数!T$25)","v":"162.670209254068-173.826025526586i"},{"$f":"COMPLEX(定数!U$15,計算!B47*定数!U$25)","v":"-101.548680976766-124.838726428624i"},{"$f":"COMPLEX(定数!V$15,計算!B47*定数!V$25)","v":"100.624555376766-124.838726428624i"},{"$f":"IMPRODUCT(定数!D$33,計算!G47)","v":"0"},{"$f":"COMPLEX(定数!O$16,計算!B47*定数!O$26)","v":"74.3664237452132+120.637258434773i"},{"$f":"COMPLEX(定数!P$16,計算!B47*定数!P$26)","v":"-73.4733997452132+120.637258434773i"},{"$f":"COMPLEX(定数!Q$16,計算!B47*定数!Q$26)","v":"-125.201328746793-172.607770564157i"},{"$f":"COMPLEX(定数!R$16,計算!B47*定数!R$26)","v":"123.923590146793-172.607770564157i"},{"$f":"COMPLEX(定数!S$16,計算!B47*定数!S$26)","v":"77.7704269443536+79.2331513909805i"},{"$f":"COMPLEX(定数!T$16,計算!B47*定数!T$26)","v":"-77.1838991443536+79.2331513909805i"},{"$f":"COMPLEX(定数!U$16,計算!B47*定数!U$26)","v":"124.65071095008+144.623650726619i"},{"$f":"COMPLEX(定数!V$16,計算!B47*定数!V$26)","v":"-123.58012635008+144.623650726619i"},{"$f":"IMPRODUCT(定数!D$34,計算!G47)","v":"0"},{"$f":"IMDIV(COMPLEX(定数!O$17,計算!B47*定数!O$27),計算!R47)","v":"0.14074964031687-0.510476783142625i"},{"$f":"IMPRODUCT(COMPLEX(定数!P$17,計算!B47*定数!P$27),計算!R47)","v":"-0.915011294463172-0.0654574686750478i"},{"$f":"IMDIV(COMPLEX(定数!Q$17,計算!B47*定数!Q$27),計算!S47)","v":"0.734145618092838+0.105371247053621i"},{"$f":"IMPRODUCT(COMPLEX(定数!R$17,計算!B47*定数!R$27),計算!S47)","v":"-0.367928085406543+1.32943392363506i"},{"$f":"IMDIV(COMPLEX(定数!S$17,計算!B47*定数!S$27),計算!T47)","v":"-0.115339071235517-0.31851257956281i"},{"$f":"IMPRODUCT(COMPLEX(定数!T$17,計算!B47*定数!T$27),計算!T47)","v":"-0.411943132529278-0.57576511768242i"},{"$f":"IMDIV(COMPLEX(定数!U$17,計算!B47*定数!U$27),計算!U47)","v":"0.386531154062225+0.477970172690031i"},{"$f":"IMPRODUCT(COMPLEX(定数!V$17,計算!B47*定数!V$27),計算!U47)","v":"0.454419261617337+1.14051832721861i"},{"$f":"IMPRODUCT(定数!E$31,計算!G47)","v":"0"},{"$f":"IMDIV(COMPLEX(定数!O$18,計算!B47*定数!O$28),計算!R47)","v":"0.153947620029991-0.637680203632084i"},{"$f":"IMPRODUCT(COMPLEX(定数!P$18,計算!B47*定数!P$28),計算!R47)","v":"-1.10468294260546-0.0912298154113839i"},{"$f":"IMDIV(COMPLEX(定数!Q$18,計算!B47*定数!Q$28),計算!S47)","v":"0.351133323590225+0.0405795920726339i"},{"$f":"IMPRODUCT(COMPLEX(定数!R$18,計算!B47*定数!R$28),計算!S47)","v":"-0.177380695946526+0.621338533067389i"},{"$f":"IMDIV(COMPLEX(定数!S$18,計算!B47*定数!S$28),計算!T47)","v":"0.278394103292863+0.686244304988681i"},{"$f":"IMPRODUCT(COMPLEX(定数!T$18,計算!B47*定数!T$28),計算!T47)","v":"0.878168715354128+1.25051277160362i"},{"$f":"IMDIV(COMPLEX(定数!U$18,計算!B47*定数!U$28),計算!U47)","v":"-0.353771308902013-0.396594307419498i"},{"$f":"IMPRODUCT(COMPLEX(定数!V$18,計算!B47*定数!V$28),計算!U47)","v":"-0.371986912449341-0.968387556135253i"},{"$f":"IMPRODUCT(定数!E$32,計算!G47)","v":"0"},{"$f":"IMDIV(COMPLEX(定数!O$19,計算!B47*定数!O$29),計算!R47)","v":"0.153938998556065-0.637677087402101i"},{"$f":"IMPRODUCT(COMPLEX(定数!P$19,計算!B47*定数!P$29),計算!R47)","v":"-1.10466374380549-0.0912327786693407i"},{"$f":"IMDIV(COMPLEX(定数!Q$19,計算!B47*定数!Q$29),計算!S47)","v":"-0.351136045088509-0.0405661011786886i"},{"$f":"IMPRODUCT(COMPLEX(定数!R$19,計算!B47*定数!R$29),計算!S47)","v":"0.177384048028265-0.621322934481696i"},{"$f":"IMDIV(COMPLEX(定数!S$19,計算!B47*定数!S$29),計算!T47)","v":"-0.278362487418202-0.686186913598085i"},{"$f":"IMPRODUCT(COMPLEX(定数!T$19,計算!B47*定数!T$29),計算!T47)","v":"-0.878097874819541-1.2504053933727i"},{"$f":"IMDIV(COMPLEX(定数!U$19,計算!B47*定数!U$29),計算!U47)","v":"-0.353831224746148-0.396679841493614i"},{"$f":"IMPRODUCT(COMPLEX(定数!V$19,計算!B47*定数!V$29),計算!U47)","v":"-0.372069643446353-0.968585475433978i"},{"$f":"IMPRODUCT(定数!E$33,計算!G47)","v":"0"},{"$f":"IMDIV(COMPLEX(定数!O$20,計算!B47*定数!O$30),計算!R47)","v":"0.140743442425669-0.510468691724465i"},{"$f":"IMPRODUCT(COMPLEX(定数!P$20,計算!B47*定数!P$30),計算!R47)","v":"-0.91498983747865-0.0654581476657181i"},{"$f":"IMDIV(COMPLEX(定数!Q$20,計算!B47*定数!Q$30),計算!S47)","v":"-0.734182926634318-0.105380752624248i"},{"$f":"IMPRODUCT(COMPLEX(定数!R$20,計算!B47*定数!R$30),計算!S47)","v":"0.367946189815528-1.32950761799985i"},{"$f":"IMDIV(COMPLEX(定数!S$20,計算!B47*定数!S$30),計算!T47)","v":"0.115287225796597+0.318434131719247i"},{"$f":"IMPRODUCT(COMPLEX(定数!T$20,計算!B47*定数!T$30),計算!T47)","v":"0.41184902252205+0.575615460515452i"},{"$f":"IMDIV(COMPLEX(定数!U$20,計算!B47*定数!U$30),計算!U47)","v":"0.38651175220048+0.477979905040367i"},{"$f":"IMPRODUCT(COMPLEX(定数!V$20,計算!B47*定数!V$30),計算!U47)","v":"0.45443269367736+1.14052335622254i"},{"$f":"IMPRODUCT(定数!E$34,計算!G47)","v":"0"},"0.452565425238061+0.888037605187682i","1.50028859122393-0.112890725142606i","0.577891855206101+1.3834031266705i","-0.764076984975392+0.17376744406114i","-0.190196477588953-0.757170233130632i","1.33023471261085-0.213185503692333i","0.411123376698261+1.27777883665757i","-0.0000782949616740209+0.00157165837382272i","7.4436774472198+4.55075233034898i","-88.9539889355174-130.62700828932i","98.6409418780234-122.959244341885i","255.570452131038+272.051211934874i","-258.453347957665+267.280618010539i","-247.765748795812-303.494936414477i","254.450794389104-295.854483570275i","0.434995491939831-0.2313073997575i","7.4463206484117+4.55236827281698i","-203.118802292787-294.404161665624i","211.597168908807-286.733674945226i","-72.3586388219183-75.6170056940759i","66.9003709100894-80.3892936251961i","-247.784461027365-303.517880700504i","254.472508357026-295.874714781335i","0.239565681783304-0.12386617085912i","0.00135014592389382+0.00082542261500862i","-250.391253445778-345.20319356752i","247.837800075251-345.201802776437i","155.554927839752+158.486840713346i","-154.382608390424+158.485975415517i","0.00779792798999779+0.00162542639898788i","-0.00616585284299731+0.00301126375200056i","0.195423073710992-0.107433323084804i","-1.43203229529117+0.0405757002440312i","0.580608632724002+0.887123069846126i","-1.15546133406106+1.42972080639289i","-0.0964997562850789-0.733013846176751i","0.00134477818077899-0.56628456575531i","0.308127346862735+1.18702989257374i","-0.255722635883482+1.17054035436621i","-0.00079127512317395-0.000261178110988174i","-1.74063831363775+0.0606509212954871i","0.192155646210264+1.01466318489037i","-1.14851455921073+0.776877110079567i","0.285213877535981+0.172256453167077i","1.39028147886393+1.24579279839261i","-0.422613601583797+0.484489435914985i","-1.2500926465873-0.902933328392519i","-0.000990162108849287-0.000291880213253869i","-1.74061244572736+0.0606542039326413i","-0.510101139562962+0.933511843110309i","-0.793740521954073-0.465774231339459i","-0.271548759145568-1.20017088624859i","-0.365989110600295-1.25513130181117i","-0.4226627131791+0.484397918550312i","-1.25016785124212-0.903121512509314i","-0.00099015788621831-0.000291866419257072i","-1.43200084787177+0.0405768633177199i","-0.887711526823759+0.676358231021473i","-0.419572283434959-1.22921683702461i","0.134123211106066-0.09605987543659i","0.825129627834058+0.585092858543069i","0.308114464677955+1.18702754013821i","-0.255696316682617+1.17054997633319i","-0.000791262891492497-0.000261167736503293i","2.35024917532704+17.9217159196614i","-16.3759285096955+7.45605669852774i","-9.37885433708465-41.5896524215562i","40.9495841180324-11.3248805279551i","7.3053444316394+44.1446436778429i","-42.0473219684261+14.8664258317345i","-0.0562536145835161-0.00191729674341244i","-16.5085950061873-7.45605669881019i","2.29505530216782-17.9217159196401i","41.2574538278114+11.3248805286668i","-9.29502128124409+41.589652421389i","-42.3741051427023-14.8664258324631i","7.1952948902015-44.1446436777212i","0.0287100634717853-0.0486264740207658i","-114.133226377936-163.730768578593i","112.921200276019-163.73076857979i","-328.019842348697-347.764821238423i","325.44549396466-347.764821234956i","0.0692677648159759+0.0848247844959928i","-0.0686398485610198+0.0848247811420038i","-0.195584274214955+0.107523364641646i","-250.375118831339-345.1795002353i","247.81990842607-345.179500235288i","155.508572069137+158.437495636634i","-154.33572971567+158.437495636597i","0.0527380692406021+0.0566738153150973i","-0.0523185381333053+0.0566738153511927i","0.195344173544476-0.107391368184779i","-23.3627672876322-9.12034311595097i","1.40394580510849-24.3278786535498i","59.4450215042558+13.810530731839i","-11.6218966120757+59.368592848878i","-60.9761753398288-18.382813026685i","8.25697219178182-62.3379691848839i","0.0383494097344911-0.0710607902442802i","-28.9955540339024-10.9623732772947i","1.75937804993787-30.5575454842781i","72.7863831709899+17.3824748137719i","-12.2665379536315+74.2020868581079i","-75.0822669421957-22.8225524389475i","8.59690000790457-78.1791927198039i","0.0460344339084013-0.0866742757509252i","-29.6974082523481-11.0432775547409i","2.11403388841909-31.7997407621896i","72.2285904656634+16.0096190901107i","-14.0224315765798+71.7001174326843i","-75.0812687253181-22.8221202941291i","8.5964937651588-78.1782625937762i","0.0460335358386128-0.0866730983363769i","-24.8305769664125-9.33085428032103i","2.13974183789172-26.9862553745689i","59.6743602028637+14.4470805788525i","-10.7977710861594+60.5186731967287i","-60.9748729565061-18.3822985841856i","8.256720894053-62.3365796964511i","0.0383484625525931-0.0710592840845922i","-0.471505978611999-0.999936237249581i","-21.2528755291059-83.2240646766304i","81.6127248816082-25.7168296238935i","7.30737712662419+44.154351121558i","-42.0563767391796+14.870384013715i","-0.0764607216121613-0.00142641372387628i","1.10537053849792+0.0906205641655013i","82.9940974685539+23.1818168115345i","-18.49423699583+83.8276872868924i","-42.3834480763321-14.8698172786168i","7.19670148299723-44.1544467640855i","0.0389563225620167-0.0661007905000353i","0.349441393629025+0.933264256238765i","2.36926721344999-0.351844260100297i","0.496951818524373+2.3341013523905i","-0.000547122915809781+0.0000416712220221864i","-0.000151988633605028-0.000525171917493692i","0.000118435567755301-0.00111198916568785i","13.16764932456+9.10665443592802i","870.163558041953+888.166919866447i","-835.595297415871+914.375979465024i","-0.0986319474124329-0.121748362165751i","0.0909058696849097-0.127279526487402i","0.608833357374267-0.344924257595177i","1.05617353037896+0.662782391634401i","118.006600429797+27.1990050816636i","-21.2995321239317+118.432030667563i","-60.9893377010315-18.3868294203411i","8.25821106478694-62.3516248426665i","0.05125811507483-0.0959597613335529i","1.66083371734427+0.3336756809022i","145.341646794026+33.15334714601i","-23.444434939305+147.328420077446i","-75.098587889755-22.8273419244094i","8.59825014386065-78.1960865266501i","0.0616585791273638-0.117618682786699i","2.18524140172621-0.225232838382201i","146.475199982721+31.7252318961426i","-25.0403796154591+146.504855060281i","-75.0979770447839-22.8269247970522i","8.59777971590575-78.1955372912787i","0.0618307702403963-0.118388377714922i","2.10842047765157-0.552178706565797i","121.787639620795+27.8178717180857i","-20.2373303023473+123.11274147766i","-60.9888471622776-18.3863689879007i","8.2578472312225-62.3510382019615i","0.051665094899631-0.0975655116246894i","-0.00733814516389941-0.0347047171173074i","0.0339539664038995-0.00978114891420034i","7.30569855128369+44.1436624610404i","-42.0465391867662+14.8659261052991i","-0.0281434182818363-0.00095923070558571i","0.034210869914304+0.00978114924339835i","-0.00726573999610025+0.0347047170414925i","-42.3733150976224-14.8659261057439i","7.19565270880508-44.1436624609661i","0.0143634958898779-0.0243276045213629i","-10.5487393096251-76.6612132204783i","75.6902333427345-14.7113725980379i","0.000168322362649647+0.00976840925360551i","-0.00932020064690995+0.00275022476071393i","-0.0432533172747232-0.00511422452728011i","76.2577222274952+14.7113725992345i","-10.4398375587974+76.6612132202986i","-0.00939251167665002-0.00275022543116597i","0.000147964355979089-0.00976840919557495i","0.0190224463051134-0.0393506152730988i","47.2156514416708-38.8810327717213i","40.5364502108705+44.3838269630404i","-60.9812403798037-18.3776995136856i","8.25158045914161-62.34140577561i","0.0050862159013246-0.06700642553482i","23.599077779784-16.7251438835236i","19.4743818020147+23.490412254596i","-75.0839061730153-22.8196402045539i","8.59474491907961-78.1799121954005i","0.0169351155722888-0.0586111818661784i","-23.479816037162+16.753074641935i","-19.4934370021097-23.369796220893i","-75.0768326983218-22.8230303926404i","8.59965654459868-78.1741576326436i","0.0291251837823948-0.0281133044624731i","-47.119010196374+38.9080029007296i","-40.5564525697722-44.285986317605i","-60.9675251824006-18.3857567012325i","8.26292916769921-62.3303605852128i","0.0332863514189705-0.0040940787782244i","0.000261803974371796-0.000832528738079291i","7.33149719927647+44.1172280731315i","-42.0166907510978+14.8868817938366i","-0.0281103222018554-0.000938652305261851i","0.000612472895095439+0.000635731501311999i","-42.3619870985174-14.8306490746287i","7.16306696398476-44.1270350006414i","0.0143297205267869-0.0243079208350643i","0.980828352691603-0.5002364863455i","60.2638911933379-53.4818508203078i","61.6672289445149+50.2615264433413i","0.0255488271410546+0.0448306671866045i","0.1612360533216+1.07662270112i","31.38039934298+74.5281875427691i","-67.6637478458938+42.3867530547375i","-0.0506423650233653+0.0099189020441111i","0.0503243073033429+0.981464548080288i","-0.578640658440554-0.865726611186554i","0.752061625721044-0.701048742290206i","0.000760595597621643-0.000792823609008354i","1.8716387765291+1.1704353268358i","-46.9491181320408-12.0671388404087i","2.57192520266484-49.057469499213i","0.0122458498399735-0.0271802050441446i","-1.8692826920275-1.1682760615281i","-103.166791446846-33.4561218200633i","14.5132032579153-107.233997685741i","0.033701595393621-0.0594709717711907i","0.0016044628506009+0.00163343623400181i","-121.916193766783-36.6641853039189i","16.4229220797705-124.624299336422i","0.0382776798595579-0.0710443982135601i","7.33144745028376+44.0980635646612i","-41.9976634056462+14.8829891435811i","-0.0280987044340355-0.000936668449300987i","-42.3449449889525-14.8214105709416i","7.15730737984331-44.1082533117345i","0.0143223315914393-0.0242985652171175i","77.4710690992135-70.4668370664207i","81.9902036194397+63.948355674482i","0.034032402710507+0.0570421368236826i","41.9060318816213+95.9920365307729i","-86.8743508608812+57.1468704845638i","-0.0647543069859539+0.0140411635390058i","6.99347155221225+19.34303282344i","-17.8040773351061+10.8734551657091i","-0.0122804517076004+0.00167167971020768i","-20.9309727793215+6.64188586036941i","-10.7952830046797-19.4601059585279i","-0.00182494458855235-0.0133809075459683i","-150.052252844602-45.4937139814302i","17.0685435278774-156.222307650827i","0.0459228520278063-0.0866157097269104i","-121.871761701505-36.6406525536891i","16.4084558681231-124.575442912927i","0.0382587510561252-0.0710199481138793i","0.0858974355609021-0.4928773172507i","-0.000159412478308699-0.000143423668053912i","0.38714651107303+0.344560743158802i","0.0001460171701929-0.0000934690335578983i","-1.74857214449401+0.664483737747304i","0.0000893819708714938+0.0010479379474663i","-0.0651973157306003-1.8824568705349i","-0.000822688689997603-0.000153754035119299i","-0.0431826493856988+0.4078480202985i","0.000428082531329501-0.00029840527029058i","-0.3823901119681-0.0699871116616002i","-0.0002611600392043+0.000259827586546i","0.184905171295002+0.985058750349593i","-0.000120004648610192+0.000613620689737861i","2.8499794250329+2.25044850846099i","0.001150110625191-0.000633962273587196i"]
[{"$f":"COMPLEX(定数!O$13,計算!B48*定数!O$23)","v":"74.3688188913563+123.445208922422i"},{"$f":"COMPLEX(定数!P$13,計算!B48*定数!P$23)","v":"-73.4757772913563+123.445208922422i"},{"$f":"COMPLEX(定数!Q$13,計算!B48*定数!Q$23)","v":"125.193786513619+176.61264334858i"},{"$f":"COMPLEX(定数!R$13,計算!B48*定数!R$23)","v":"-123.916114913619+176.61264334858i"},{"$f":"COMPLEX(定数!S$13,計算!B48*定数!S$23)","v":"-77.7867441135484-81.0982313833281i"},{"$f":"COMPLEX(定数!T$13,計算!B48*定数!T$23)","v":"77.2000539135484-81.0982313833281i"},{"$f":"COMPLEX(定数!U$13,計算!B48*定数!U$23)","v":"124.646605989444+147.98804199011i"},{"$f":"COMPLEX(定数!V$13,計算!B48*定数!V$23)","v":"-123.576013789444+147.98804199011i"},{"$f":"IMPRODUCT(定数!D$31,計算!G48)","v":"-0.137989909937793+0.166801147566512i"},{"$f":"COMPLEX(定数!O$14,計算!B48*定数!O$24)","v":"86.1948356167649+151.581471045085i"},{"$f":"COMPLEX(定数!P$14,計算!B48*定数!P$24)","v":"-85.0982474167649+151.581471045085i"},{"$f":"COMPLEX(定数!Q$14,計算!B48*定数!Q$24)","v":"57.0863694248256+83.7942154971304i"},{"$f":"COMPLEX(定数!R$14,計算!B48*定数!R$24)","v":"-56.4801756248256+83.7942154971304i"},{"$f":"COMPLEX(定数!S$14,計算!B48*定数!S$24)","v":"163.969671876329+177.884249446571i"},{"$f":"COMPLEX(定数!T$14,計算!B48*定数!T$24)","v":"-162.682801076329+177.884249446571i"},{"$f":"COMPLEX(定数!U$14,計算!B48*定数!U$24)","v":"-101.525845343051-127.716850029282i"},{"$f":"COMPLEX(定数!V$14,計算!B48*定数!V$24)","v":"100.601901343051-127.716850029282i"},{"$f":"IMPRODUCT(定数!D$32,計算!G48)","v":"0.137989909937793-0.166801147566512i"},{"$f":"COMPLEX(定数!O$15,計算!B48*定数!O$25)","v":"86.1919999827348+151.579784654072i"},{"$f":"COMPLEX(定数!P$15,計算!B48*定数!P$25)","v":"-85.0954239827348+151.579784654072i"},{"$f":"COMPLEX(定数!Q$15,計算!B48*定数!Q$25)","v":"-57.0828842529623-83.7939113997638i"},{"$f":"COMPLEX(定数!R$15,計算!B48*定数!R$25)","v":"56.4766926529622-83.7939113997638i"},{"$f":"COMPLEX(定数!S$15,計算!B48*定数!S$25)","v":"-163.956966054068-177.868491236506i"},{"$f":"COMPLEX(定数!T$15,計算!B48*定数!T$25)","v":"162.670209254068-177.868491236506i"},{"$f":"COMPLEX(定数!U$15,計算!B48*定数!U$25)","v":"-101.548680976766-127.741952624638i"},{"$f":"COMPLEX(定数!V$15,計算!B48*定数!V$25)","v":"100.624555376766-127.741952624638i"},{"$f":"IMPRODUCT(定数!D$33,計算!G48)","v":"0"},{"$f":"COMPLEX(定数!O$16,計算!B48*定数!O$26)","v":"74.3664237452132+123.442776072791i"},{"$f":"COMPLEX(定数!P$16,計算!B48*定数!P$26)","v":"-73.4733997452132+123.442776072791i"},{"$f":"COMPLEX(定数!Q$16,計算!B48*定数!Q$26)","v":"-125.201328746793-176.621904763323i"},{"$f":"COMPLEX(定数!R$16,計算!B48*定数!R$26)","v":"123.923590146793-176.621904763323i"},{"$f":"COMPLEX(定数!S$16,計算!B48*定数!S$26)","v":"77.7704269443536+81.0757828186777i"},{"$f":"COMPLEX(定数!T$16,計算!B48*定数!T$26)","v":"-77.1838991443536+81.0757828186777i"},{"$f":"COMPLEX(定数!U$16,計算!B48*定数!U$26)","v":"124.65071095008+147.986991441192i"},{"$f":"COMPLEX(定数!V$16,計算!B48*定数!V$26)","v":"-123.58012635008+147.986991441192i"},{"$f":"IMPRODUCT(定数!D$34,計算!G48)","v":"0"},{"$f":"IMDIV(COMPLEX(定数!O$17,計算!B48*定数!O$27),計算!R48)","v":"-0.196099109404747-0.504292878694618i"},{"$f":"IMPRODUCT(COMPLEX(定数!P$17,計算!B48*定数!P$27),計算!R48)","v":"-0.690112877242622-0.61452723837019i"},{"$f":"IMDIV(COMPLEX(定数!Q$17,計算!B48*定数!Q$27),計算!S48)","v":"0.676851837677986-0.34243659944448i"},{"$f":"IMPRODUCT(COMPLEX(定数!R$17,計算!B48*定数!R$27),計算!S48)","v":"-1.08306234674855+0.8689418466933i"},{"$f":"IMDIV(COMPLEX(定数!S$17,計算!B48*定数!S$27),計算!T48)","v":"-0.280845325046159-0.203021452178433i"},{"$f":"IMPRODUCT(COMPLEX(定数!T$17,計算!B48*定数!T$27),計算!T48)","v":"-0.0116108352501554-0.711622263307138i"},{"$f":"IMDIV(COMPLEX(定数!U$17,計算!B48*定数!U$27),計算!U48)","v":"0.602541309273727+0.180505508174281i"},{"$f":"IMPRODUCT(COMPLEX(定数!V$17,計算!B48*定数!V$27),計算!U48)","v":"-0.282578606477973+1.20216666899057i"},{"$f":"IMPRODUCT(定数!E$31,計算!G48)","v":"0"},{"$f":"IMDIV(COMPLEX(定数!O$18,計算!B48*定数!O$28),計算!R48)","v":"-0.262407609378969-0.616545520702979i"},{"$f":"IMPRODUCT(COMPLEX(定数!P$18,計算!B48*定数!P$28),計算!R48)","v":"-0.825794336931329-0.751905058326745i"},{"$f":"IMDIV(COMPLEX(定数!Q$18,計算!B48*定数!Q$28),計算!S48)","v":"0.318009599996957-0.17178616434006i"},{"$f":"IMPRODUCT(COMPLEX(定数!R$18,計算!B48*定数!R$28),計算!S48)","v":"-0.510736973833414+0.402954718608545i"},{"$f":"IMDIV(COMPLEX(定数!S$18,計算!B48*定数!S$28),計算!T48)","v":"0.63010845982524+0.420811231474097i"},{"$f":"IMPRODUCT(COMPLEX(定数!T$18,計算!B48*定数!T$28),計算!T48)","v":"0.0113771026836392+1.53639750289613i"},{"$f":"IMDIV(COMPLEX(定数!U$18,計算!B48*定数!U$28),計算!U48)","v":"-0.527686611723471-0.131255583416433i"},{"$f":"IMPRODUCT(COMPLEX(定数!V$18,計算!B48*定数!V$28),計算!U48)","v":"0.251551945814343-1.01297104852933i"},{"$f":"IMPRODUCT(定数!E$32,計算!G48)","v":"0"},{"$f":"IMDIV(COMPLEX(定数!O$19,計算!B48*定数!O$29),計算!R48)","v":"-0.262412602080916-0.616537683747026i"},{"$f":"IMPRODUCT(COMPLEX(定数!P$19,計算!B48*定数!P$29),計算!R48)","v":"-0.825777237529944-0.751895715439615i"},{"$f":"IMDIV(COMPLEX(定数!Q$19,計算!B48*定数!Q$29),計算!S48)","v":"-0.318004020805407+0.171798748379299i"},{"$f":"IMPRODUCT(COMPLEX(定数!R$19,計算!B48*定数!R$29),計算!S48)","v":"0.510730695195213-0.402940048718309i"},{"$f":"IMDIV(COMPLEX(定数!S$19,計算!B48*定数!S$29),計算!T48)","v":"-0.630048788308691-0.420780667434284i"},{"$f":"IMPRODUCT(COMPLEX(定数!T$19,計算!B48*定数!T$29),計算!T48)","v":"-0.0113799469304025-1.53626811243571i"},{"$f":"IMDIV(COMPLEX(定数!U$19,計算!B48*定数!U$29),計算!U48)","v":"-0.527786672583984-0.131293071317281i"},{"$f":"IMPRODUCT(COMPLEX(定数!V$19,計算!B48*定数!V$29),計算!U48)","v":"0.251597732762877-1.01318183646618i"},{"$f":"IMPRODUCT(定数!E$33,計算!G48)","v":"0"},{"$f":"IMDIV(COMPLEX(定数!O$20,計算!B48*定数!O$30),計算!R48)","v":"-0.196099164396635-0.504282453472718i"},{"$f":"IMPRODUCT(COMPLEX(定数!P$20,計算!B48*定数!P$30),計算!R48)","v":"-0.690095356848266-0.614514640657411i"},{"$f":"IMDIV(COMPLEX(定数!Q$20,計算!B48*定数!Q$30),計算!S48)","v":"-0.676888653089938+0.342450618544018i"},{"$f":"IMPRODUCT(COMPLEX(定数!R$20,計算!B48*定数!R$30),計算!S48)","v":"1.08312046349029-0.868991351237786i"},{"$f":"IMDIV(COMPLEX(定数!S$20,計算!B48*定数!S$30),計算!T48)","v":"0.280756537535854+0.20298446799848i"},{"$f":"IMPRODUCT(COMPLEX(定数!T$20,計算!B48*定数!T$30),計算!T48)","v":"0.0116186688252614+0.711444494822747i"},{"$f":"IMDIV(COMPLEX(定数!U$20,計算!B48*定数!U$30),計算!U48)","v":"0.60253069472727+0.180524465433521i"},{"$f":"IMPRODUCT(COMPLEX(定数!V$20,計算!B48*定数!V$30),計算!U48)","v":"-0.282570263306688+1.20217837360513i"},{"$f":"IMPRODUCT(定数!E$34,計算!G48)","v":"0"},"0.470615117277396+0.878728860055342i","1.49799404557517-0.111707361980933i","0.606010034275083+1.36890177329737i","-0.76054509754918+0.171945948169959i","-0.20558624199704-0.749233289153448i","1.32590163857612-0.210950812832185i","0.437094703094031+1.26438467693229i","0.000497300624209894+0.00141741888179863i","7.53617316770479+4.50304962794502i","-88.9657473440544-133.645327844803i","98.7850336013644-126.057940291234i","255.588551302561+278.347941391725i","-258.532212868153+273.627354632303i","-247.787953651378-310.516100230446i","254.583884557163-302.955737494825i","0.309979603572022-0.364356895252618i","7.538849213524+4.504648631495i","-203.130564876658-301.231245299198i","211.74131179818-293.6411635138i","-72.3405332234974-77.405594291988i","66.8214779951857-82.1278573009764i","-247.806673767731-310.539565016498i","254.605645784537-302.976517645385i","0.171988713474339-0.197550889761587i","0.0013669229432054+0.000816770223011076i","-250.391255578537-353.231171273099i","247.837826210835-353.229795060812i","155.554931122608+162.17257574582i","-154.382622695065+162.17171951837i","0.00779390043899753+0.00166991236901026i","-0.00614171273799968+0.00304122285101016i","0.137987652678462-0.166796542783504i","-1.04096237830146-0.204881439256066i","1.02694036305364+0.391085415867605i","-1.65455173464316+1.4429888100019i","-0.516698658520204-0.552840481496704i","0.325906897989386-0.962221921843214i","0.968930432422911+0.807780995833145i","-0.83448491298325+1.67053512416746i","-0.000617274038704353+0.000528739743733622i","-1.24407769164852-0.23116427633483i","0.779967310019158+0.722482492691597i","-1.19570558608848+1.1357977325475i","0.32452313480525-0.00297951651078099i","0.419366136789108+1.2130397100008i","-0.049699153732717+0.63086803424857i","-0.413301787082629-0.411698106804504i","-0.000743407794591183+0.000678549972560795i","-1.24405135604675-0.231154234406355i","0.143960292808907+1.06605510797604i","-0.174224163409474+0.32990505046525i","-0.935636562970848-0.844564596585862i","0.39660218903595-1.85962803485922i","-0.049794247973766+0.630819102100448i","-0.413243908923499-0.411906007537452i","-0.000743394203468045+0.000678553151987719i","-1.04093567108374-0.204873699487355i","-0.326801209910802+1.07595701079277i","0.511645380026058-0.294950630439775i","0.044904954812663-0.146826623012752i","0.349128579835932+0.46084693836711i","0.968917691581255+0.807786118673001i","-0.834463364284478+1.67054234150365i","-0.000617259234450484+0.000528734637210804i","2.35111953044675+18.097881501464i","-16.3767988648159+7.8700718752956i","-9.3813712448694-41.8610289300452i","40.9521010258188-12.2840745531922i","7.30777929467667+44.4981206910134i","-42.0497568314651+15.8852992722932i","-0.0509703133692411+0.0187796870297805i","-16.5077246510691-7.87007187557117i","2.2941849470483-18.0978815014432i","41.2549369200307+12.2840745538866i","-9.29250437346041+41.8610289298821i","-42.3716702796688-15.8852992730042i","7.19286002716493-44.4981206908948i","0.00902206437822099-0.053738640272992i","-114.133226377934-167.538460871136i","112.921200276011-167.538460872312i","-328.019842348705-355.852375220655i","325.445493964682-355.852375217253i","0.0692677648209781+0.0867974538510339i","-0.0686398485820234+0.0867974505599705i","-0.138100961831911+0.166935386241695i","-250.375118831332-353.206930473343i","247.819908426085-353.206930473315i","155.508572069124+162.122088558448i","-154.335729715703+162.122088558369i","0.0527380692564018+0.0579918109886407i","-0.0523185380966724+0.0579918110644423i","0.137931428090468-0.166730455156712i","-14.5445482971532-11.1834897064843i","4.44152849360106-16.9261890460876i","39.9113597199026+20.6867898339436i","-17.9237884108787+40.7096726408252i","-39.88378125644-24.4093867060058i","15.7698507790246-43.1766509054388i","0.019784405516432-0.053562709506656i","-17.9376451984327-12.8844945822759i","5.84202240752477-20.8490393064337i","48.80923062269+24.8160312368847i","-20.8180057129869+51.1433169022912i","-49.091235195749-28.926494913754i","18.8215507796343-54.1080850956728i","0.0229031951208943-0.0640909145875556i","-18.5732965054793-12.5405489345225i","6.86326167383105-21.6544784079571i","47.5481078071222+23.9737083691883i","-20.8401045715871+48.0696400367079i","-49.0903739255944-28.9257000037043i","18.8209723825509-54.1071933418057i","0.0229024314709409-0.064089586767624i","-15.8979099072574-10.4982801578653i","6.60752426355643-18.6636628989286i","40.471956604549+21.092156315304i","-17.8999945574128+42.1316954312565i","-39.8827853164005-24.4086293840918i","15.7693358212823-43.1755109381781i","0.0197837634418017-0.0535613492323046i","-0.492900494600299-0.991785127588281i","-21.2498315133981-83.7830203766871i","81.5642388265604-27.6246778092144i","7.30981156301011+44.5079091453955i","-42.0588000916104+15.8894779784985i","-0.0688518974808294+0.0265688586202941i","1.10730944523687+0.0898818589075994i","82.9883446930092+25.1103294818735i","-18.4843659744455+84.3817224791212i","-42.3810125980889-15.8889158631982i","7.1942650002517-44.5080040082837i","0.0121986308863538-0.0730236112527315i","0.369409403895677+0.925656631859939i","2.36173919579436-0.348976156074624i","0.546891971548476+2.31507462311014i","-0.000546231323136086+0.000041331533826701i","-0.00016322514936648-0.000520890910967387i","-0.000297019884241844-0.00102663471196103i","13.362494212334+9.03242036360695i","870.090100760256+908.92979393707i","-835.107988796816+934.925206994124i","-0.0986232473778752-0.124592490291307i","0.0907962255086876-0.130078566650966i","0.426179534607288-0.528683724762935i","-0.537650004160249+0.668354808525201i","78.1645607676824+42.0235752629281i","-35.8601049346618+80.4975480425357i","-39.8921881750839-24.4148943298955i","15.7733021210973-43.1860524552287i","0.0269457441983973-0.071816366476347i","0.54173936932281+0.514714394581702i","95.669651760368+48.9860366394663i","-40.836618004506+99.7167307440427i","-49.1015658353434-28.9327914378883i","18.8253343209378-54.1195317255735i","0.0308030272047228-0.08633327488845i","2.11616977589297+0.170613384267401i","95.7897427214585+47.1095767045109i","-39.714824425735+97.9265329751444i","-49.1010375620421-28.9317823815089i","18.8244730114131-54.1189149361151i","0.0302603559361207-0.0868823700685546i","2.76255903433194-0.0694937455171001i","81.6823230186126+40.3383645635093i","-33.5098572445074+84.6779683514426i","-39.8919031627857-24.413706788552i","15.7722093412781-43.185505598299i","0.0258396669074171-0.0730008933479518i","-0.00734021787819827-0.034938779765298i","0.0339560391267923-0.0105816412919992i","7.30813337427908+44.4971277252718i","-42.0489740097575+15.88477685425i","-0.0255002131240957+0.0093953745198946i","0.0342087971922922+0.0105816416254996i","-0.00726366728189731+0.0349387796883889i","-42.3708802746322-15.8847768546784i","7.19321788580979-44.4971277252003i","0.00451368116857808-0.026885191306462i","-10.5538912412833-77.0197283223421i","75.6953852743762-16.4778013524547i","0.000168906018126967+0.00983422479132181i","-0.00932078431051223+0.00297554026287091i","-0.0404378375386277+0.0111996430501886i","76.2525702958547+16.4778013535964i","-10.4346856271392+77.01972832217i","-0.0093919280206367-0.00297554092464841i","0.000147380700666491-0.00983422473414981i","0.00353473072484963-0.0419540610932106i","130.174773273078-0.0809067903994034i","10.0061920699229+128.881277609719i","-39.8992264623082-24.4102169892321i","15.7668086089424-43.1914383287979i","0.0008059937185107-0.096735421874446i","62.8419939668024+0.8110673712129i","4.4594248404151+63.3629945925995i","-49.0980094119264-28.9263453096793i","18.8201926619797-54.1142799978364i","0.0072937652552812-0.0654244850763338i","-62.7623084185605-0.769957570401701i","-4.492661576237-63.2799912191066i","-49.0816703149346-28.9238832431128i","18.8224832784653-54.0981291920835i","0.0156223412633997+0.00129647362142429i","-130.11500807718+0.116542283369405i","-10.0358115946574-128.818723334283i","-39.8657506256987-24.4061393613444i","15.772485610503-43.1583277298771i","0.0189903094545735+0.0431453188294752i","-0.0000775173098907025-0.000649860957211279i","7.31244274801869+44.4850450620938i","-42.0364935424811+15.8865809537266i","-0.0254742007394125+0.00939015235556562i","0.0006048413829374+0.000261409435526598i","-42.3623853680109-15.8751134556805i","7.18555730692621-44.4870638041335i","0.00450559017937851-0.0268598406260453i","0.24207682704531-0.155372334441601i","11.2238926986766-25.5691792698249i","26.8201574251029+5.84656751079497i","0.0168669317819064+0.00386933368639733i","0.0657530471280001+0.264770983102693i","20.2604751670789+19.3589424500346i","-14.7173307101873+23.2855019371416i","-0.00921752369429327+0.0146007661064896i","0.0762519890345446+0.990110784698936i","-0.306388392378178-0.187709225653236i","0.121326480094284-0.331720356463518i","6.65349192980105E-06-0.000743115437265564i","0.47064435690487+1.080613133787i","-29.9961967348016-16.8818216556892i","10.9267471743867-33.366715307559i","0.00627292987135977-0.0187310256812624i","-0.469254017137531-1.0796419850737i","-68.1667849539148-40.9408536187652i","26.6926238411965-74.8242482713229i","0.0166120971325633-0.0453380437363495i","0.00110634611089999+0.000662833209020164i","-79.7533548365067-48.7942195705308i","31.5202221001642-86.3342642555161i","0.019769424240895-0.0535459277057527i","7.29919088606055+44.4712727638618i","-42.0253490662463+15.8705848009828i","-0.0254678706679846+0.00938119483855187i","-42.3436921190965-15.8796775326644i","7.19383977098723-44.4692688898795i","0.00451018294942797-0.0268497980350424i","14.1261251784471-33.4521417879428i","35.2838735861462+7.18307549908518i","0.0216235955395579+0.00465309681281584i","26.4555964156785+24.3682967374486i","-18.4975150314049+30.4794571787538i","-0.0113713234762876+0.0186338677670625i","18.908924415113+21.5325362787808i","-17.789397150488+23.2107936862319i","-0.0101585045474696+0.0124345326976064i","-23.2936511558181+17.6133073636664i","-22.2525282757209-19.8033628919773i","-0.0124447806824729-0.0112251047976577i","-98.1134904584047-57.8245421567684i","37.6310775801772-108.141819661724i","0.0228914282313208-0.064041376975272i","-79.7159093111005-48.7982661790873i","31.5317147717047-86.297605167272i","0.0197757521033694-0.0535252600408i","0.374486348711102-0.106799471851501i","-0.0002050627172769+0.000103677695797909i","-0.0993635571871501+0.410193276943296i","-0.0000460003785398002-0.000230634312825401i","-0.483748631794299-0.13720881928338i","0.000416440007303599+0.0001264027822556i","0.301412700921997-0.413241130138999i","-0.0000514033537377008+0.000379528865785499i","-0.295832521816301+0.317812244637398i","0.000346098793572001-0.0010749950986479i","-0.289044868259698-0.3177939119652i","0.000502719225569499+0.0004579776879298i","0.197467057539309+0.985831581534398i","0.000112352560954085+0.000586511001790908i","-0.833891101028001+1.9249058177472i","0.000111318680899301-0.0012883920367337i"]
[{"$f":"COMPLEX(定数!O$13,計算!B49*定数!O$23)","v":"74.3688188913563+126.250781852477i"},{"$f":"COMPLEX(定数!P$13,計算!B49*定数!P$23)","v":"-73.4757772913563+126.250781852477i"},{"$f":"COMPLEX(定数!Q$13,計算!B49*定数!Q$23)","v":"125.193786513619+180.626567061048i"},{"$f":"COMPLEX(定数!R$13,計算!B49*定数!R$23)","v":"-123.916114913619+180.626567061048i"},{"$f":"COMPLEX(定数!S$13,計算!B49*定数!S$23)","v":"-77.7867441135484-82.9413730056764i"},{"$f":"COMPLEX(定数!T$13,計算!B49*定数!T$23)","v":"77.2000539135484-82.9413730056764i"},{"$f":"COMPLEX(定数!U$13,計算!B49*定数!U$23)","v":"124.646605989444+151.351406580795i"},{"$f":"COMPLEX(定数!V$13,計算!B49*定数!V$23)","v":"-123.576013789444+151.351406580795i"},{"$f":"IMPRODUCT(定数!D$31,計算!G49)","v":"-0.056449860173183+0.173734805330861i"},{"$f":"COMPLEX(定数!O$14,計算!B49*定数!O$24)","v":"86.1948356167649+155.026504477928i"},{"$f":"COMPLEX(定数!P$14,計算!B49*定数!P$24)","v":"-85.0982474167649+155.026504477928i"},{"$f":"COMPLEX(定数!Q$14,計算!B49*定数!Q$24)","v":"57.0863694248256+85.6986294857016i"},{"$f":"COMPLEX(定数!R$14,計算!B49*定数!R$24)","v":"-56.4801756248256+85.6986294857016i"},{"$f":"COMPLEX(定数!S$14,計算!B49*定数!S$24)","v":"163.969671876329+181.927073297629i"},{"$f":"COMPLEX(定数!T$14,計算!B49*定数!T$24)","v":"-162.682801076329+181.927073297629i"},{"$f":"COMPLEX(定数!U$14,計算!B49*定数!U$24)","v":"-101.525845343051-130.619505711766i"},{"$f":"COMPLEX(定数!V$14,計算!B49*定数!V$24)","v":"100.601901343051-130.619505711766i"},{"$f":"IMPRODUCT(定数!D$32,計算!G49)","v":"0.056449860173183-0.173734805330861i"},{"$f":"COMPLEX(定数!O$15,計算!B49*定数!O$25)","v":"86.1919999827348+155.024779759846i"},{"$f":"COMPLEX(定数!P$15,計算!B49*定数!P$25)","v":"-85.0954239827348+155.024779759846i"},{"$f":"COMPLEX(定数!Q$15,計算!B49*定数!Q$25)","v":"-57.0828842529623-85.6983184770312i"},{"$f":"COMPLEX(定数!R$15,計算!B49*定数!R$25)","v":"56.4766926529622-85.6983184770312i"},{"$f":"COMPLEX(定数!S$15,計算!B49*定数!S$25)","v":"-163.956966054068-181.910956946427i"},{"$f":"COMPLEX(定数!T$15,計算!B49*定数!T$25)","v":"162.670209254068-181.910956946427i"},{"$f":"COMPLEX(定数!U$15,計算!B49*定数!U$25)","v":"-101.548680976766-130.645178820653i"},{"$f":"COMPLEX(定数!V$15,計算!B49*定数!V$25)","v":"100.624555376766-130.645178820653i"},{"$f":"IMPRODUCT(定数!D$33,計算!G49)","v":"0"},{"$f":"COMPLEX(定数!O$16,計算!B49*定数!O$26)","v":"74.3664237452132+126.248293710809i"},{"$f":"COMPLEX(定数!P$16,計算!B49*定数!P$26)","v":"-73.4733997452132+126.248293710809i"},{"$f":"COMPLEX(定数!Q$16,計算!B49*定数!Q$26)","v":"-125.201328746793-180.636038962489i"},{"$f":"COMPLEX(定数!R$16,計算!B49*定数!R$26)","v":"123.923590146793-180.636038962489i"},{"$f":"COMPLEX(定数!S$16,計算!B49*定数!S$26)","v":"77.7704269443536+82.918414246375i"},{"$f":"COMPLEX(定数!T$16,計算!B49*定数!T$26)","v":"-77.1838991443536+82.918414246375i"},{"$f":"COMPLEX(定数!U$16,計算!B49*定数!U$26)","v":"124.65071095008+151.350332155764i"},{"$f":"COMPLEX(定数!V$16,計算!B49*定数!V$26)","v":"-123.58012635008+151.350332155764i"},{"$f":"IMPRODUCT(定数!D$34,計算!G49)","v":"0"},{"$f":"IMDIV(COMPLEX(定数!O$17,計算!B49*定数!O$27),計算!R49)","v":"-0.468293326685426-0.293463861067654i"},{"$f":"IMPRODUCT(COMPLEX(定数!P$17,計算!B49*定数!P$27),計算!R49)","v":"-0.173350470314095-0.914605179209184i"},{"$f":"IMDIV(COMPLEX(定数!Q$17,計算!B49*定数!Q$27),計算!S49)","v":"0.365855796580426-0.683696678657391i"},{"$f":"IMPRODUCT(COMPLEX(定数!R$17,計算!B49*定数!R$27),計算!S49)","v":"-1.39598772169914+0.0721293160647841i"},{"$f":"IMDIV(COMPLEX(定数!S$17,計算!B49*定数!S$27),計算!T49)","v":"-0.354189727831661-0.0101295655700374i"},{"$f":"IMPRODUCT(COMPLEX(定数!T$17,計算!B49*定数!T$27),計算!T49)","v":"0.397090245242779-0.595249157091205i"},{"$f":"IMDIV(COMPLEX(定数!U$17,計算!B49*定数!U$27),計算!U49)","v":"0.612890306779114-0.195419657494245i"},{"$f":"IMPRODUCT(COMPLEX(定数!V$17,計算!B49*定数!V$27),計算!U49)","v":"-0.925687776184421+0.82845797280856i"},{"$f":"IMPRODUCT(定数!E$31,計算!G49)","v":"0"},{"$f":"IMDIV(COMPLEX(定数!O$18,計算!B49*定数!O$28),計算!R49)","v":"-0.590677281203924-0.345203481264139i"},{"$f":"IMPRODUCT(COMPLEX(定数!P$18,計算!B49*定数!P$28),計算!R49)","v":"-0.197213245276444-1.10791849925036i"},{"$f":"IMDIV(COMPLEX(定数!Q$18,計算!B49*定数!Q$28),計算!S49)","v":"0.165658475346026-0.330194120320389i"},{"$f":"IMPRODUCT(COMPLEX(定数!R$18,計算!B49*定数!R$28),計算!S49)","v":"-0.65440659042429+0.0284090073373091i"},{"$f":"IMDIV(COMPLEX(定数!S$18,計算!B49*定数!S$28),計算!T49)","v":"0.774827577681131-0.00597257570671641i"},{"$f":"IMPRODUCT(COMPLEX(定数!T$18,計算!B49*定数!T$28),計算!T49)","v":"-0.868927365203166+1.27745318602668i"},{"$f":"IMDIV(COMPLEX(定数!U$18,計算!B49*定数!U$28),計算!U49)","v":"-0.521428884364816+0.193229085632977i"},{"$f":"IMPRODUCT(COMPLEX(定数!V$18,計算!B49*定数!V$28),計算!U49)","v":"0.791379800383273-0.690399240122143i"},{"$f":"IMPRODUCT(定数!E$32,計算!G49)","v":"0"},{"$f":"IMDIV(COMPLEX(定数!O$19,計算!B49*定数!O$29),計算!R49)","v":"-0.590676442303076-0.345194100516976i"},{"$f":"IMPRODUCT(COMPLEX(定数!P$19,計算!B49*定数!P$29),計算!R49)","v":"-0.197205318567356-1.10790063298127i"},{"$f":"IMDIV(COMPLEX(定数!Q$19,計算!B49*定数!Q$29),計算!S49)","v":"-0.165646645897959+0.330201164888936i"},{"$f":"IMPRODUCT(COMPLEX(定数!R$19,計算!B49*定数!R$29),計算!S49)","v":"0.654392987210386-0.0284006613254273i"},{"$f":"IMDIV(COMPLEX(定数!S$19,計算!B49*定数!S$29),計算!T49)","v":"-0.774759511850232+0.00596432702285445i"},{"$f":"IMPRODUCT(COMPLEX(定数!T$19,計算!B49*定数!T$29),計算!T49)","v":"0.868850963356112-1.27734773989608i"},{"$f":"IMDIV(COMPLEX(定数!U$19,計算!B49*定数!U$29),計算!U49)","v":"-0.521534954398508+0.193255352687163i"},{"$f":"IMPRODUCT(COMPLEX(定数!V$19,計算!B49*定数!V$29),計算!U49)","v":"0.791538928920889-0.690546649074248i"},{"$f":"IMPRODUCT(定数!E$33,計算!G49)","v":"0"},{"$f":"IMDIV(COMPLEX(定数!O$20,計算!B49*定数!O$30),計算!R49)","v":"-0.468286936134637-0.293455330948583i"},{"$f":"IMPRODUCT(COMPLEX(定数!P$20,計算!B49*定数!P$30),計算!R49)","v":"-0.17334421539481-0.914584407681426i"},{"$f":"IMDIV(COMPLEX(定数!Q$20,計算!B49*定数!Q$30),計算!S49)","v":"-0.365878331655852+0.683730074873705i"},{"$f":"IMPRODUCT(COMPLEX(定数!R$20,計算!B49*定数!R$30),計算!S49)","v":"1.39606427600689-0.0721355547136815i"},{"$f":"IMDIV(COMPLEX(定数!S$20,計算!B49*定数!S$30),計算!T49)","v":"0.354093306856642+0.0101488655222249i"},{"$f":"IMPRODUCT(COMPLEX(定数!T$20,計算!B49*定数!T$30),計算!T49)","v":"-0.396981949100888+0.595106491798936i"},{"$f":"IMDIV(COMPLEX(定数!U$20,計算!B49*定数!U$30),計算!U49)","v":"0.612892153284343-0.19539798833024i"},{"$f":"IMPRODUCT(COMPLEX(定数!V$20,計算!B49*定数!V$30),計算!U49)","v":"-0.925687402179574+0.828472373593447i"},{"$f":"IMPRODUCT(定数!E$34,計算!G49)","v":"0"},"0.487888325330441+0.869376444142073i","1.49579820953033-0.110518447223138i","0.632918590724293+1.35433238868938i","-0.757165149226519+0.170115906965001i","-0.22031395047699-0.741259110024077i","1.32175497008184-0.208705638207185i","0.461948762834782+1.25092768022879i","0.000826085754958346+0.0009337358576532i","7.6246897928352+4.45512313444601i","-88.9769999148244-136.66361895111i","98.9229266086564-129.156984866923i","255.605871861529+284.64462705808i","-258.607685070337+279.974282065755i","-247.809203270992-317.537210322322i","254.711249287692-310.057313427727i","0.129999340436873-0.38228320108096i","7.62739727033031+4.456705119611i","-203.141821443142-308.058300473494i","211.879253770379-300.549000832509i","-72.3232065141127-79.194226695945i","66.745978993315-83.8662300973127i","-247.827930932947-317.561195589322i","254.733055741449-310.078642632131i","0.073550212309451-0.208544323251887i","0.00138297822799416+0.000808077240989746i","-250.391257619546-361.259148973517i","247.837851222085-361.257787408422i","155.554934264239+165.858310770353i","-154.382636384332+165.857463655833i","0.00779004614999224+0.00171440808099987i","-0.00611861112300005+0.00307112354298056i","0.0564495155021986-0.173730513478635i","-0.200006191413322-0.364304400318643i","1.09876128641279-0.296489012020768i","-1.49704378128157+0.892092869177403i","-0.75868798530019-0.152666029733169i","0.51145145293794-1.0070300342143i","1.2931069011966+0.094732201797286i","-1.07646232023465+1.5498243251827i","0.00011283271631266+0.000679688586248951i","-0.209140470786005-0.425976836509586i","1.08734384770643+0.120879892949504i","-0.748076213396197+1.04686808140959i","0.268862722610923-0.166865019695965i","-0.743176585183142+0.763555127574306i","0.331347660649473+0.526225823735256i","0.632417849645386+0.207961642114359i","0.000165621219137046+0.000836704236195542i","-0.209124797966235-0.425964276318156i","0.756036434890451+0.781261239168038i","0.56073553793225+0.990051339346983i","-1.28072213591964-0.154921156901948i","0.994594974633403-1.79124310979609i","0.331238523979593+0.526239866823593i","0.632588325290081+0.207808850333416i","0.000165629285273003+0.000836695703582137i","-0.199995638484573-0.364293346330715i","0.367016656466571+1.07092568844724i","1.2950157243426+0.74781394459808i","-0.050398660800603-0.132382227066371i","-0.282625656506708+0.183332231034058i","1.29309852067562+0.094743929977994i","-1.07645422777477+1.54982679137277i","0.000112835402047734+0.000679675572552676i","2.35193251003663+18.2793324268958i","-16.3776118444065+8.27880170843181i","-9.38372223311819-42.1476896854171i","40.9544520140691-13.2279843315414i","7.3100536467298+44.8663837237652i","-42.0520311835203+16.8893866932653i","-0.0336710683349325+0.0307293369743606i","-16.5069116714786-8.27880170870228i","2.2933719674585-18.2793324268753i","41.2525859317805+13.2279843322227i","-9.29015338521176+42.1476896852569i","-42.3693959276139-16.889386693963i","7.19058567511176-44.866383723649i","-0.00912897437400947-0.0448034615748635i","-114.13322637794-171.346153163687i","112.921200276007-171.346153164845i","-328.019842348691-363.939929202871i","325.445493964689-363.939929199526i","0.0692677648050051+0.0887701231870324i","-0.0686398485929942+0.088770119950027i","-0.056495290046303+0.173874624095021i","-250.375118831336-361.234360711359i","247.819908426071-361.234360711345i","155.50857206913+165.806681480198i","-154.335729715671+165.806681480154i","0.0527380692494801+0.0593098067265134i","-0.0523185381307998+0.059309806768174i","0.0564259360173856-0.173661174350313i","0.813280642849983-7.96584116883524i","5.62088604942181-1.92840129178741i","2.67307171329122+17.5215113161003i","-16.7012255588877+4.03832509873671i","-1.02815671947471-18.7186070814416i","16.7067203515857-4.80416820356158i","0.0146090795214873-0.0116070066603203i","1.16165833147355-8.64211460831209i","7.51813288027293-1.79915677236326i","3.26163304628503+20.1722879041547i","-20.6400631561539+5.62095264117006i","-1.33532023608889-21.0544097027941i","21.2483005271906-6.11239203377989i","0.0173416200471024-0.0124222444348318i","0.830505645174882-7.98139617995595i","8.82667909608138-1.85571583093416i","1.71156778942556+20.1835063067581i","-18.901616610387+3.06561051676043i","-1.33497745878265-21.0535987876685i","21.2477947757136-6.11193195794757i","0.0173412084499544-0.0124214361092011i","0.081618695392353-6.59815663556032i","8.41271929373504-2.07251266678009i","3.38107192416988+17.5411995192041i","-17.4947387299525+5.22834527566225i","-1.02790467385596-18.7179487699754i","16.7061566098432-4.8037717502681i","0.014608683287715-0.0116064459547064i","-0.513469224564899-0.98344623554795i","-21.2467677752433-84.3725424000429i","81.5174870219508-29.5015608206786i","7.31208549043449+44.8762564073922i","-42.0610633628979+16.8937826078279i","-0.0451086987795455+0.0424352986312875i","1.10917351400868+0.0891261356195017i","82.9829511786463+27.008353039459i","-18.4750131704046+84.966210637729i","-42.378737669012-16.893225218761i","7.19198910545205-44.8763504726791i","-0.0124535996898767-0.0608615198428885i","0.38860668843965+0.917873745723531i","2.35450174473827-0.346041977683504i","0.594904533389568+2.2956095627752i","-0.000545374144038654+0.000040984019968383i","-0.000174027957755747-0.00051651127998815i","-0.000550767108474763-0.000696578913010995i","13.54981847262+8.95647611300302i","870.019478784357+929.693312751368i","-834.639489326939+955.470157353616i","-0.0986148831243969-0.127436694674025i","0.0906908132928552-0.132876644402385i","0.170155794111166-0.547023206801568i","-2.0067967194457+0.42068891549273i","3.5147164527155+36.5585274884943i","-35.4715110629637+6.91026530139167i","-1.02803964943378-18.7229847767607i","16.7109763319734-4.80513441400617i","0.0206058447321338-0.0154278158212796i","-0.865665423522801+0.49297108272825i","3.51704090846862+40.9221443740692i","-41.1700599012378+8.09547182531897i","-1.33504088626837-21.0591704980795i","21.2529664378958-6.11329599370417i","0.0240013380473382-0.0163728502109314i","1.17802503977989+0.48360878030219i","2.51803891763384+39.2631073538454i","-37.7178575787115+5.90726258599216i","-1.33485163217771-21.0579856722383i","21.2520617880719-6.11289197849098i","0.0233582959180632-0.0162388138852615i","2.32472697685153+0.41665947551026i","5.47213973470015+33.1048143244568i","-32.6900855311317+8.96625391252762i","-1.02813058011313-18.721550579065i","16.7095788361075-4.80487785701551i","0.0192497729576486-0.0151836397440198i","-0.00734215397140048-0.0351854292603093i","0.0339579752124024-0.0113695468423991i","7.310407688927+44.8653787659281i","-42.0512483244099+16.8888418267736i","-0.0168454853965127+0.015373732978368i","0.0342068611136028+0.011369547159898i","-0.00726173120150264+0.0351854291844091i","-42.3686059599832-16.8888418271966i","7.1909435711624-44.8653787658575i","-0.00456719536165324-0.0224149581255159i","-10.5587035474217-77.4095291930652i","75.7001975804888-18.212944337985i","0.000169451200428687+0.00990358463028601i","-0.00932132949181411+0.00319731145810029i","-0.0278205275146513+0.021490899029232i","76.2477579897084+18.2129443390832i","-10.4298733209964+77.4095291928996i","-0.00939138283559281-0.00319731210617425i","0.000146835518233747-0.00990358457459383i","-0.00983192725320745-0.0338723198499564i","164.190450853491+41.031617822171i","-23.8368157428097+166.643186635676i","-1.04823131946174-18.7254502815463i","16.7071046727555-4.82507066711614i","-0.0133745441283327-0.0792664933628323i","78.5005435118008+19.1005207371707i","-12.0381811872395+80.2478506425611i","-1.34474686407901-21.0573086204532i","21.2482113675163-6.12194157010374i","-0.0012078956133056-0.0408480904962246i","-78.4957894237842-19.0662823678915i","12.0047223518994-80.2391228053425i","-1.32533459624714-21.0496774033188i","21.247099351698-6.10129631882441i","0.0185596011229928+0.0284184334003641i","-164.194484352602-41.0046595613304i","23.8099361763424-166.644061320017i","-1.00763036947049-18.7102046927118i","16.7051110612626-4.78191590719744i","0.0279930964546231+0.0676568216322939i","-0.000105954063375595-0.000513193998773399i","7.31389070105339+44.8634463683442i","-42.0487805486294+16.8915896321594i","-0.0168315681438822+0.0153638443200569i","0.000495684981342601+0.000179581729396104i","-42.368686172087-16.8848480016028i","7.18731731760157-44.8646242191876i","-0.00456563682346337-0.0223979073708483i","0.186931020642206+0.136300700916198i","7.84664046235429-3.64934071306831i","4.92277537063276+6.33712662257437i","0.0038622359308116+0.0021702650120744i","-0.1930581631556+0.108664324186492i","0.566465592547928+8.66500859913345i","-7.7149803003427+2.30557456381495i","-0.00325469634469765+0.0027778493538266i","0.102082677117886+0.989427633564822i","-0.032834364947552-0.105841740961485i","0.0888610397797217-0.0515936392561425i","-0.000190223667547345-0.000435234254877975i","-1.1531437912986+0.627411350931609i","-0.788863737924452-12.1215209601688i","13.2871060712663-3.7691049797839i","0.00541156476714529-0.0030485938266612i","1.1530760346196-0.626882484165208i","-1.88468547355296-29.9838376875387i","29.2060157126703-8.45693008553664i","0.0119261433714588-0.0093724811790687i","0.000205432148600693+0.000364199702005408i","-2.05884743557473-37.4351967294514i","33.4111832801583-9.60959021630059i","0.0146060519007267-0.0116062991482707i","7.30916931454029+44.8623423542881i","-42.0486797316209+16.8860775204684i","-0.0168321051843891+0.0153614238786601i","-42.3652522846152-16.8883130173778i","7.19198863604877-44.8616335505485i","-0.00456327930072662-0.0223970923705702i","9.71752209318594-4.68962606416281i","6.52562932859119+8.16875248998945i","0.00475607945251569+0.0028020430195052i","0.728968226134847+10.7084599370456i","-9.94788420104998+2.97378406096286i","-0.0041604423029977+0.00330538517536803i","8.67286802722931+2.88089385341862i","-1.15431266690199+10.3390344732172i","0.000361714792524078+0.00423845483550334i","-3.8850890325487+8.39788764839322i","-10.2627775518926-2.31530375353537i","-0.00473082440286711+0.0000697405628378407i","-2.66937108852266-42.102734940256i","42.491201925003-12.2207643006356i","0.0173374244771196-0.0124185683045366i","-2.05499080520825-37.4355069772868i","33.4124483516643-9.60537687794969i","0.0146070491636406-0.0116045905103866i","2.2213591399887-0.7055193278999i","0.000446125590138197+0.0002145165572202i","-0.545672975688269+2.3059410706451i","-0.00046008202533873+0.000289937064125102i","-0.46429623295033-0.720387002254141i","0.00014322475867346-0.00010873664656665i","0.84810209591682-0.18567357290793i","0.00023578028725888+0.00012537742907145i","-0.160263310754351+0.812959140369081i","-0.000725428146092592-0.00025160405773961i","-0.791835076724-0.23147340015854i","-0.0000897699679375799-0.000513205110232171i","0.225368308061799+1.02351530445614i","0.000267774367611253+0.000428765819082411i","-4.440236168811+0.93471453060441i","-0.000893742784929501-0.000699211487535i"]
[{"$f":"COMPLEX(定数!O$13,計算!B50*定数!O$23)","v":"74.3688188913563+129.056354782532i"},{"$f":"COMPLEX(定数!P$13,計算!B50*定数!P$23)","v":"-73.4757772913563+129.056354782532i"},{"$f":"COMPLEX(定数!Q$13,計算!B50*定数!Q$23)","v":"125.193786513619+184.640490773515i"},{"$f":"COMPLEX(定数!R$13,計算!B50*定数!R$23)","v":"-123.916114913619+184.640490773515i"},{"$f":"COMPLEX(定数!S$13,計算!B50*定数!S$23)","v":"-77.7867441135484-84.7845146280248i"},{"$f":"COMPLEX(定数!T$13,計算!B50*定数!T$23)","v":"77.2000539135484-84.7845146280248i"},{"$f":"COMPLEX(定数!U$13,計算!B50*定数!U$23)","v":"124.646605989444+154.714771171479i"},{"$f":"COMPLEX(定数!V$13,計算!B50*定数!V$23)","v":"-123.576013789444+154.714771171479i"},{"$f":"IMPRODUCT(定数!D$31,計算!G50)","v":"0.00840167801736061+0.133540848010571i"},{"$f":"COMPLEX(定数!O$14,計算!B50*定数!O$24)","v":"86.1948356167649+158.471537910771i"},{"$f":"COMPLEX(定数!P$14,計算!B50*定数!P$24)","v":"-85.0982474167649+158.471537910771i"},{"$f":"COMPLEX(定数!Q$14,計算!B50*定数!Q$24)","v":"57.0863694248256+87.6030434742727i"},{"$f":"COMPLEX(定数!R$14,計算!B50*定数!R$24)","v":"-56.4801756248256+87.6030434742727i"},{"$f":"COMPLEX(定数!S$14,計算!B50*定数!S$24)","v":"163.969671876329+185.969897148688i"},{"$f":"COMPLEX(定数!T$14,計算!B50*定数!T$24)","v":"-162.682801076329+185.969897148688i"},{"$f":"COMPLEX(定数!U$14,計算!B50*定数!U$24)","v":"-101.525845343051-133.52216139425i"},{"$f":"COMPLEX(定数!V$14,計算!B50*定数!V$24)","v":"100.601901343051-133.52216139425i"},{"$f":"IMPRODUCT(定数!D$32,計算!G50)","v":"-0.00840167801736061-0.133540848010571i"},{"$f":"COMPLEX(定数!O$15,計算!B50*定数!O$25)","v":"86.1919999827348+158.469774865621i"},{"$f":"COMPLEX(定数!P$15,計算!B50*定数!P$25)","v":"-85.0954239827348+158.469774865621i"},{"$f":"COMPLEX(定数!Q$15,計算!B50*定数!Q$25)","v":"-57.0828842529623-87.6027255542985i"},{"$f":"COMPLEX(定数!R$15,計算!B50*定数!R$25)","v":"56.4766926529622-87.6027255542985i"},{"$f":"COMPLEX(定数!S$15,計算!B50*定数!S$25)","v":"-163.956966054068-185.953422656347i"},{"$f":"COMPLEX(定数!T$15,計算!B50*定数!T$25)","v":"162.670209254068-185.953422656347i"},{"$f":"COMPLEX(定数!U$15,計算!B50*定数!U$25)","v":"-101.548680976766-133.548405016667i"},{"$f":"COMPLEX(定数!V$15,計算!B50*定数!V$25)","v":"100.624555376766-133.548405016667i"},{"$f":"IMPRODUCT(定数!D$33,計算!G50)","v":"0"},{"$f":"COMPLEX(定数!O$16,計算!B50*定数!O$26)","v":"74.3664237452132+129.053811348827i"},{"$f":"COMPLEX(定数!P$16,計算!B50*定数!P$26)","v":"-73.4733997452132+129.053811348827i"},{"$f":"COMPLEX(定数!Q$16,計算!B50*定数!Q$26)","v":"-125.201328746793-184.650173161656i"},{"$f":"COMPLEX(定数!R$16,計算!B50*定数!R$26)","v":"123.923590146793-184.650173161656i"},{"$f":"COMPLEX(定数!S$16,計算!B50*定数!S$26)","v":"77.7704269443536+84.7610456740722i"},{"$f":"COMPLEX(定数!T$16,計算!B50*定数!T$26)","v":"-77.1838991443536+84.7610456740722i"},{"$f":"COMPLEX(定数!U$16,計算!B50*定数!U$26)","v":"124.65071095008+154.713672870337i"},{"$f":"COMPLEX(定数!V$16,計算!B50*定数!V$26)","v":"-123.58012635008+154.713672870337i"},{"$f":"IMPRODUCT(定数!D$34,計算!G50)","v":"0"},{"$f":"IMDIV(COMPLEX(定数!O$17,計算!B50*定数!O$27),計算!R50)","v":"-0.562402205322784+0.0454014856941654i"},{"$f":"IMPRODUCT(COMPLEX(定数!P$17,計算!B50*定数!P$27),計算!R50)","v":"0.423456595871166-0.836764834760588i"},{"$f":"IMDIV(COMPLEX(定数!Q$17,計算!B50*定数!Q$27),計算!S50)","v":"-0.0947478366283007-0.786636426946556i"},{"$f":"IMPRODUCT(COMPLEX(定数!R$17,計算!B50*定数!R$27),計算!S50)","v":"-1.18269925527082-0.762685542932944i"},{"$f":"IMDIV(COMPLEX(定数!S$17,計算!B50*定数!S$27),計算!T50)","v":"-0.305140676957054+0.195002631328305i"},{"$f":"IMPRODUCT(COMPLEX(定数!T$17,計算!B50*定数!T$27),計算!T50)","v":"0.668650990969906-0.265503223555559i"},{"$f":"IMDIV(COMPLEX(定数!U$17,計算!B50*定数!U$27),計算!U50)","v":"0.404422196842017-0.518516937228409i"},{"$f":"IMPRODUCT(COMPLEX(定数!V$17,計算!B50*定数!V$27),計算!U50)","v":"-1.24071040761112+0.149906347247426i"},{"$f":"IMPRODUCT(定数!E$31,計算!G50)","v":"0"},{"$f":"IMDIV(COMPLEX(定数!O$18,計算!B50*定数!O$28),計算!R50)","v":"-0.693976324853252+0.0772635535402481i"},{"$f":"IMPRODUCT(COMPLEX(定数!P$18,計算!B50*定数!P$28),計算!R50)","v":"0.523361522848001-1.00597061768772i"},{"$f":"IMDIV(COMPLEX(定数!Q$18,計算!B50*定数!Q$28),計算!S50)","v":"-0.0547778663747807-0.373405391473419i"},{"$f":"IMPRODUCT(COMPLEX(定数!R$18,計算!B50*定数!R$28),計算!S50)","v":"-0.551309415315818-0.362041847513006i"},{"$f":"IMDIV(COMPLEX(定数!S$18,計算!B50*定数!S$28),計算!T50)","v":"0.651794293157624-0.449914182525828i"},{"$f":"IMPRODUCT(COMPLEX(定数!T$18,計算!B50*定数!T$28),計算!T50)","v":"-1.44913300548309+0.560178602182496i"},{"$f":"IMDIV(COMPLEX(定数!U$18,計算!B50*定数!U$28),計算!U50)","v":"-0.3289502754099+0.463536425570276i"},{"$f":"IMPRODUCT(COMPLEX(定数!V$18,計算!B50*定数!V$28),計算!U50)","v":"1.05068491406208-0.113327186131489i"},{"$f":"IMPRODUCT(定数!E$32,計算!G50)","v":"0"},{"$f":"IMDIV(COMPLEX(定数!O$19,計算!B50*定数!O$29),計算!R50)","v":"-0.693969851161554+0.0772705680737064i"},{"$f":"IMPRODUCT(COMPLEX(定数!P$19,計算!B50*定数!P$29),計算!R50)","v":"0.523356947316966-1.00595155172339i"},{"$f":"IMDIV(COMPLEX(定数!Q$19,計算!B50*定数!Q$29),計算!S50)","v":"0.0547915941244125+0.373404301171011i"},{"$f":"IMPRODUCT(COMPLEX(定数!R$19,計算!B50*定数!R$29),計算!S50)","v":"0.551293487952763+0.3620407984512i"},{"$f":"IMDIV(COMPLEX(定数!S$19,計算!B50*定数!S$29),計算!T50)","v":"-0.651741355131995+0.449868254932804i"},{"$f":"IMPRODUCT(COMPLEX(定数!T$19,計算!B50*定数!T$29),計算!T50)","v":"1.44900943362755-0.560135048704487i"},{"$f":"IMDIV(COMPLEX(定数!U$19,計算!B50*定数!U$29),計算!U50)","v":"-0.329024501153451+0.463619890534228i"},{"$f":"IMPRODUCT(COMPLEX(定数!V$19,計算!B50*定数!V$29),計算!U50)","v":"1.0509009958168-0.113357102965444i"},{"$f":"IMPRODUCT(定数!E$33,計算!G50)","v":"0"},{"$f":"IMDIV(COMPLEX(定数!O$20,計算!B50*定数!O$30),計算!R50)","v":"-0.562391737009911+0.0454044924721181i"},{"$f":"IMPRODUCT(COMPLEX(定数!P$20,計算!B50*定数!P$30),計算!R50)","v":"0.423448865888429-0.836744442311867i"},{"$f":"IMDIV(COMPLEX(定数!Q$20,計算!B50*定数!Q$30),計算!S50)","v":"0.0947486519055756+0.786677600967516i"},{"$f":"IMPRODUCT(COMPLEX(定数!R$20,計算!B50*定数!R$30),計算!S50)","v":"1.18276542822054+0.762725460990142i"},{"$f":"IMDIV(COMPLEX(定数!S$20,計算!B50*定数!S$30),計算!T50)","v":"0.305069944592774-0.194931257177413i"},{"$f":"IMPRODUCT(COMPLEX(定数!T$20,計算!B50*定数!T$30),計算!T50)","v":"-0.668479636377752+0.265447126426321i"},{"$f":"IMDIV(COMPLEX(定数!U$20,計算!B50*定数!U$30),計算!U50)","v":"0.404435892832561-0.518500016275339i"},{"$f":"IMPRODUCT(COMPLEX(定数!V$20,計算!B50*定数!V$30),計算!U50)","v":"-1.24071816689635+0.14991852314728i"},{"$f":"IMPRODUCT(定数!E$34,計算!G50)","v":"0"},"0.50442183367345+0.860004402508395i","1.493696406932-0.109327037568963i","0.658674827850888+1.33973243073312i","-0.753929942215752+0.168282025482049i","-0.234410966519343-0.733268197356384i","1.31778587656225-0.206455752161112i","0.485738484050396+1.23744244448446i","0.000804962835723995+0.000398759576106013i","7.709415823784+4.40709606886298i","-88.9877706108124-139.681897272309i","99.0549145508794-132.25618611586i","255.622450693053+290.941293044915i","-258.679925286552+286.321295250294i","-247.829542906925-324.558296270501i","254.833159811107-317.159034071709i","-0.0145932740380283-0.295475562661836i","7.7121533869404+4.40866099992999i","-203.152595963735-314.885342858144i","212.011288580659-307.456994880098i","-72.3066217955536-80.982878786409i","66.6737131250702-85.604517112113i","-247.848277791351-324.582802009876i","254.855009554497-317.180912381341i","-0.0061900164717944-0.161932164729218i","0.00139834596869548+0.000799366015996839i","-250.391259573152-369.287126671617i","247.837875162266-369.285779784449i","155.554937271333+169.544045791315i","-154.382649487376+169.543207808849i","0.00778635691399643+0.00175890817399704i","-0.00609649879999097+0.00310099798801389i","-0.00840076423227543-0.133537845553503i","0.746190025119481-0.375997962867913i","0.740346706780802-0.915938230027497i","-0.751433236708936-0.039121885119962i","-0.721512285145564+0.323874353061506i","0.50352628087532-0.667252268698868i","1.13617448208562-0.694457544168107i","-0.911348287530417+0.823793458150783i","0.000470817151204045+0.000187716756325142i","0.939865329354497-0.448121346430226i","0.973365081133789-0.564684059522488i","0.00930780938104503+0.516809183226608i","0.141586829947605-0.274879134486951i","-1.66846357315929+0.069419257711432i","0.569610419089499+0.218444201812343i","1.48338512262556+0.707898692340274i","0.000589434732237344+0.000214535415970221i","0.93986352088168-0.448111386153086i","1.08292410502479+0.182115863288054i","1.11191584618982+1.24087853587948i","-1.16194275721211+0.624907502032534i","1.22967523992138-1.05088800193974i","0.569526214215678+0.218519759654062i","1.48360673994052+0.707857357456591i","0.000589432318268505+0.000214527188084919i","0.746179600533446-0.375988089898798i","0.929827230111227+0.657372451142785i","1.61402857984618+1.48627311357592i","-0.111293265234532-0.066059030173178i","-0.833604097359649-0.136293537814353i","1.13617376231471-0.694442424261149i","-0.911357410963413+0.823791219608202i","0.000470809923582732+0.000187710161640631i","2.3526930485326+18.4657240167063i","-16.3783723829025+8.68259087718916i","-9.38592157131673-42.4486379383344i","40.9566513522675-14.1576066123455i","7.3121812921362+45.2484685182368i","-42.0541588289264+17.8796523525181i","-0.0142871626017933+0.0299868706526988i","-16.5061511329823-8.68259087745372i","2.29261142896252-18.4657240166865i","41.2503865935817+14.1576066130119i","-9.28795404701305+42.4486379381777i","-42.3672682822074-17.8796523532006i","7.18845802970525-45.248468518123i","-0.0179398691039388-0.028071236654573i","-114.133226377933-175.153845456242i","112.921200276011-175.153845457363i","-328.01984234871-372.027483185077i","325.445493964681-372.027483181829i","0.069267764825014+0.0907427925159823i","-0.068639848581995+0.0907427893720296i","0.0084084395405935+0.133648319374337i","-250.375118831335-369.261790949395i","247.819908426077-369.261790949375i","155.508572069127+169.491274401992i","-154.335729715684+169.491274401935i","0.0527380692520745+0.0606278024191891i","-0.0523185381162564+0.0606278024736096i","-0.00839811728124368-0.133484251731198i","16.3217085176649-0.643354725869368i","4.48091759667953+14.6018344096783i","-36.8253705391764+5.26967084556702i","-8.52649644674785-35.8342542789632i","39.4729203274196-3.28284587199409i","10.7380280204206+37.2905948936377i","0.0244120963258148+0.0143888393035378i","20.3777785666167+0.199023405073075i","6.12944692278382+18.8994710883269i","-44.9725470894818+4.90405604438639i","-11.9611783707193-43.9887142918333i","48.4013908632173-1.96276775769626i","15.0040072852327+46.4566669499412i","0.0300298160817961+0.0185584792020694i","20.4872212585706+0.945972031493834i","7.23187518198925+19.6234842111747i","-46.2758610627531+5.80345741926998i","-9.06263355445292-45.1088522736802i","48.4010519519979-1.96230254498604i","15.0037912153919+46.456472185398i","0.0300295016267649+0.0185585988941838i","16.5109312482512+0.930028407605648i","6.84622100123683+16.1270142759637i","-36.2145817234484+4.8794777857277i","-9.86330455396753-35.302761338917i","39.47230142116-3.28259884933013i","10.7376470969547+37.290049987118i","0.0244116249360321+0.0143887171976053i","-0.533244370749202-0.974952791333941i","-21.2437006451294-84.9906294784713i","81.4724174005642-31.3495505076289i","7.31421271479801+45.2584284388557i","-42.0631803422543+17.8842623876254i","-0.0187979014463381+0.0410246261806743i","1.11096566318457+0.0883564058324993i","82.9778873543985+28.8778750892401i","-18.4661428139827+85.5791705542777i","-42.376609481649-17.8837098123806i","7.18985998961859-45.2585216917595i","-0.0244054323606069-0.0381170240878314i","0.407063302379172+0.909946612370663i","2.3475435293854-0.343053417530166i","0.641064672138653+2.27578373900082i","-0.000544550036729222+0.0000406300654738632i","-0.000184413971835857-0.000512050477357044i","-0.000557568992167904-0.000315315420680383i","13.729915378812+8.87912431940902i","869.951581549228+950.457362214897i","-834.189065527351+976.011587436991i","-0.0986068416468825-0.130280961933859i","0.0905894680965376-0.135673930158502i","-0.0315655829975502-0.418320312279171i","-2.74846942634889+0.0118371352414002i","-74.9205867209415+12.3791919562973i","-20.4539033899101-72.5665011297679i","39.4817821748477-3.28385936291941i","10.74136740161+37.2988337886752i","0.0337154345605017+0.0191766110448985i","-1.98449824246596+0.275765389474703i","-92.8785449660701+11.4275065165617i","-24.5717180774956-90.4917182646201i","48.4124956696182-1.96348732997109i","15.0076633222858+46.4671381038803i","0.0413290783911094+0.0250948763027183i","-0.24693671464207+0.596136130951898i","-94.6950237016894+10.6109581662064i","-20.0434395667873-92.339766521469i","48.4122467039923-1.96261981302266i","15.0070849598058+46.4671371272827i","0.0411542613671646+0.0255459803561211i","0.97150300087747+0.724367884626199i","-75.293760963037+8.36032700662664i","-18.3313357544938-73.4742785456489i","39.4813302364928-3.28276324254426i","10.7402157218748+37.2986759275778i","0.0333243559332842+0.0201134234318887i","-0.00734396514869928-0.0354438447569123i","0.0339597864127938-0.0121456863599008i","7.31253529934103+45.2474513409975i","-42.0533759348233+17.879085264881i","-0.0071478083516486+0.0150022859105908i","0.0342050499172046+0.0121456866926977i","-0.00725992000980114+0.0354438446803016i","-42.3664783495675-17.8790852652954i","7.18881596074793-45.2474513409285i","-0.0089752396179769-0.0140439023049919i","-10.5632054366298-77.828575557517i","75.7046994697346-19.918841829778i","0.000169961218293295+0.00997625764149207i","-0.00932183950875315+0.003415769488018i","-0.012836872432969+0.0221200235011276i","76.2432561004671+19.9188418309081i","-10.4253714317887+77.8285755573476i","-0.00939087282178057-0.00341577011857504i","0.000146325500414019-0.0099762575870755i","-0.0155141939866631-0.0204347840037772i","134.867453661086+66.2230180031216i","-48.1864506539946+141.466365817466i","39.4559312150775-3.29313634162612i","10.7416514824639+37.271412617633i","-0.0091667425881691-0.036804124411145i","63.9189899405739+29.9311619085914i","-23.7984219101018+66.8339097558709i","48.3929175478311-1.96767624206686i","15.0052025984252+46.4472998867237i","0.0049059815216675-0.0111796388908308i","-63.9934232245057-29.9217081755013i","23.7785793731782-66.9060931789825i","48.4078914887274-1.95786505348348i","15.0011738853448+46.464586393092i","0.0251413242009288+0.0297484535078546i","-134.935743740051-66.2190537446131i","48.1734645166974-141.533169003144i","39.4879792234449-3.27264236494305i","10.7328470856072+37.308261898268i","0.0335941406859132+0.0512038612936408i","-0.000072524147301703-0.0003953844464296i","7.31899521744445+45.2544692680336i","-42.0588770908969+17.8866389667782i","-0.00714216322785956+0.0149951008565527i","0.00037404693768816+0.000156228777997404i","-42.3758554883296-17.8771989321854i","7.18520281970573-45.2560973272402i","-0.00897201740376715-0.0140353247088775i","0.268494462588407+0.3949444606518i","12.9274934046277+16.1734494734284i","-13.0541237204835+15.5266507338027i","0.0004640914801212+0.0074164462921404i","-0.466696214054029+0.0816372616602052i","-19.9423109082555+5.81845663386754i","-9.42110945423144-18.0406505024792i","-0.00695123684071023-0.0024794341563656i","0.127113249788006+0.986513344595819i","0.226059944980507-0.135418202480119i","0.17350934717131+0.191158795516255i","-0.000162729625103683-0.000192987090745174i","-2.3958818025315-0.0276740537231888i","29.8901700548525-0.07811833422835i","9.63626524083503+29.0352863962295i","0.00953116693234135+0.0060265877774733i","2.3948269560705+0.0277183637567049i","66.9261851582345-3.85963969321893i","20.3848332776684+63.8891881494321i","0.0205022018414198+0.0125294005790715i","-0.000394769511700588+0.0000619787419964268i","78.9588112572545-6.57592258637025i","21.4871053379722+74.5920409292359i","0.0244155202280793+0.0143872028811305i","7.31802072193165+45.2495502129193i","-42.054406303463+17.8841181773174i","-0.00714147755830176+0.0149933376128264i","-42.371162171909-17.8753162843342i","7.18487359200349-45.2509321588431i","-0.00897090446952628-0.0140337751875865i","16.3463672600696+21.0523915981351i","-16.7040819860453+20.411120545318i","0.000564695830571782+0.00966180033846568i","-25.7492706226783+6.91922515967183i","-12.3486606215482-23.3343017612846i","-0.00902270430266123-0.0033046674490562i","1.98592120125647+12.147499606726i","-11.2054860659552+5.83082632026677i","-0.00208924398182092+0.00407349925130147i","-12.4736038589691+0.176683806812156i","-4.16143742450005-12.0707634754023i","-0.00400666566122967-0.00246911474951018i","96.8032053050658-3.93701894735389i","30.0161739850294+92.9119261369598i","0.0300290329501107+0.0185535613550792i","78.95389800939-6.57507973871477i","21.484714398617+74.5875336804893i","0.0244137854860067+0.0143864764780038i","-0.106008666934699-1.4643954438117i","-0.00012261644316562-0.000160522085945801i","1.29664806468237+0.7201989022616i","0.0001759649377678+4.24982017449907E-06i","-0.689450496945899-1.1546406533877i","-0.0000770213638005051-0.0000278864716816291i","1.3360969208657-0.209005376518601i","0.000162443539084579-0.00014232244033611i","0.0500213497477002+0.615874211037339i","-0.00021143861791712+1.00371495859002E-06i","-0.6146650861438-0.00910813311189962i","-0.00020469383429671+0.0000214284615331298i","0.270591119061866+0.970807198000645i","0.000301912638683825+0.000203941564453444i","-6.2626439558128-0.282320632815498i","-0.000764326244701498+0.0002695946717431i"]
[{"$f":"COMPLEX(定数!O$13,計算!B51*定数!O$23)","v":"74.3688188913563+131.861927712587i"},{"$f":"COMPLEX(定数!P$13,計算!B51*定数!P$23)","v":"-73.4757772913563+131.861927712587i"},{"$f":"COMPLEX(定数!Q$13,計算!B51*定数!Q$23)","v":"125.193786513619+188.654414485983i"},{"$f":"COMPLEX(定数!R$13,計算!B51*定数!R$23)","v":"-123.916114913619+188.654414485983i"},{"$f":"COMPLEX(定数!S$13,計算!B51*定数!S$23)","v":"-77.7867441135484-86.6276562503732i"},{"$f":"COMPLEX(定数!T$13,計算!B51*定数!T$23)","v":"77.2000539135484-86.6276562503732i"},{"$f":"COMPLEX(定数!U$13,計算!B51*定数!U$23)","v":"124.646605989444+158.078135762163i"},{"$f":"COMPLEX(定数!V$13,計算!B51*定数!V$23)","v":"-123.576013789444+158.078135762163i"},{"$f":"IMPRODUCT(定数!D$31,計算!G51)","v":"0.0349780758416231+0.0743321948523522i"},{"$f":"COMPLEX(定数!O$14,計算!B51*定数!O$24)","v":"86.1948356167649+161.916571343614i"},{"$f":"COMPLEX(定数!P$14,計算!B51*定数!P$24)","v":"-85.0982474167649+161.916571343614i"},{"$f":"COMPLEX(定数!Q$14,計算!B51*定数!Q$24)","v":"57.0863694248256+89.5074574628439i"},{"$f":"COMPLEX(定数!R$14,計算!B51*定数!R$24)","v":"-56.4801756248256+89.5074574628439i"},{"$f":"COMPLEX(定数!S$14,計算!B51*定数!S$24)","v":"163.969671876329+190.012720999746i"},{"$f":"COMPLEX(定数!T$14,計算!B51*定数!T$24)","v":"-162.682801076329+190.012720999746i"},{"$f":"COMPLEX(定数!U$14,計算!B51*定数!U$24)","v":"-101.525845343051-136.424817076733i"},{"$f":"COMPLEX(定数!V$14,計算!B51*定数!V$24)","v":"100.601901343051-136.424817076733i"},{"$f":"IMPRODUCT(定数!D$32,計算!G51)","v":"-0.0349780758416231-0.0743321948523522i"},{"$f":"COMPLEX(定数!O$15,計算!B51*定数!O$25)","v":"86.1919999827348+161.914769971395i"},{"$f":"COMPLEX(定数!P$15,計算!B51*定数!P$25)","v":"-85.0954239827348+161.914769971395i"},{"$f":"COMPLEX(定数!Q$15,計算!B51*定数!Q$25)","v":"-57.0828842529623-89.5071326315659i"},{"$f":"COMPLEX(定数!R$15,計算!B51*定数!R$25)","v":"56.4766926529622-89.5071326315659i"},{"$f":"COMPLEX(定数!S$15,計算!B51*定数!S$25)","v":"-163.956966054068-189.995888366268i"},{"$f":"COMPLEX(定数!T$15,計算!B51*定数!T$25)","v":"162.670209254068-189.995888366268i"},{"$f":"COMPLEX(定数!U$15,計算!B51*定数!U$25)","v":"-101.548680976766-136.451631212682i"},{"$f":"COMPLEX(定数!V$15,計算!B51*定数!V$25)","v":"100.624555376766-136.451631212682i"},{"$f":"IMPRODUCT(定数!D$33,計算!G51)","v":"0"},{"$f":"COMPLEX(定数!O$16,計算!B51*定数!O$26)","v":"74.3664237452132+131.859328986845i"},{"$f":"COMPLEX(定数!P$16,計算!B51*定数!P$26)","v":"-73.4733997452132+131.859328986845i"},{"$f":"COMPLEX(定数!Q$16,計算!B51*定数!Q$26)","v":"-125.201328746793-188.664307360822i"},{"$f":"COMPLEX(定数!R$16,計算!B51*定数!R$26)","v":"123.923590146793-188.664307360822i"},{"$f":"COMPLEX(定数!S$16,計算!B51*定数!S$26)","v":"77.7704269443536+86.6036771017694i"},{"$f":"COMPLEX(定数!T$16,計算!B51*定数!T$26)","v":"-77.1838991443536+86.6036771017694i"},{"$f":"COMPLEX(定数!U$16,計算!B51*定数!U$26)","v":"124.65071095008+158.077013584909i"},{"$f":"COMPLEX(定数!V$16,計算!B51*定数!V$26)","v":"-123.58012635008+158.077013584909i"},{"$f":"IMPRODUCT(定数!D$34,計算!G51)","v":"0"},{"$f":"IMDIV(COMPLEX(定数!O$17,計算!B51*定数!O$27),計算!R51)","v":"-0.432491439404344+0.380172193494457i"},{"$f":"IMPRODUCT(COMPLEX(定数!P$17,計算!B51*定数!P$27),計算!R51)","v":"0.852141121226538-0.408128157816572i"},{"$f":"IMDIV(COMPLEX(定数!Q$17,計算!B51*定数!Q$27),計算!S51)","v":"-0.54037314431026-0.602358136870782i"},{"$f":"IMPRODUCT(COMPLEX(定数!R$17,計算!B51*定数!R$27),計算!S51)","v":"-0.517366836749248-1.31903857466351i"},{"$f":"IMDIV(COMPLEX(定数!S$17,計算!B51*定数!S$27),計算!T51)","v":"-0.145759566906233+0.33999649700583i"},{"$f":"IMPRODUCT(COMPLEX(定数!T$17,計算!B51*定数!T$27),計算!T51)","v":"0.704924462410676+0.162401422717308i"},{"$f":"IMDIV(COMPLEX(定数!U$17,計算!B51*定数!U$27),計算!U51)","v":"0.0420678945673547-0.67055934155456i"},{"$f":"IMPRODUCT(COMPLEX(定数!V$17,計算!B51*定数!V$27),計算!U51)","v":"-1.1097065778535-0.591090475626579i"},{"$f":"IMPRODUCT(定数!E$31,計算!G51)","v":"0"},{"$f":"IMDIV(COMPLEX(定数!O$18,計算!B51*定数!O$28),計算!R51)","v":"-0.520832831551236+0.48604773490129i"},{"$f":"IMPRODUCT(COMPLEX(定数!P$18,計算!B51*定数!P$28),計算!R51)","v":"1.03613121095481-0.481926056357178i"},{"$f":"IMDIV(COMPLEX(定数!Q$18,計算!B51*定数!Q$28),計算!S51)","v":"-0.264515944654236-0.28027816077277i"},{"$f":"IMPRODUCT(COMPLEX(定数!R$18,計算!B51*定数!R$28),計算!S51)","v":"-0.237330866788072-0.62030860206241i"},{"$f":"IMDIV(COMPLEX(定数!S$18,計算!B51*定数!S$28),計算!T51)","v":"0.292774433606034-0.754319077718175i"},{"$f":"IMPRODUCT(COMPLEX(定数!T$18,計算!B51*定数!T$28),計算!T51)","v":"-1.51927008055858-0.364774620821281i"},{"$f":"IMDIV(COMPLEX(定数!U$18,計算!B51*定数!U$28),計算!U51)","v":"-0.0106772894806767+0.580614679003386i"},{"$f":"IMPRODUCT(COMPLEX(定数!V$18,計算!B51*定数!V$28),計算!U51)","v":"0.932072341294176+0.512031345535271i"},{"$f":"IMPRODUCT(定数!E$32,計算!G51)","v":"0"},{"$f":"IMDIV(COMPLEX(定数!O$19,計算!B51*定数!O$29),計算!R51)","v":"-0.520823296939206+0.486049367904784i"},{"$f":"IMPRODUCT(COMPLEX(定数!P$19,計算!B51*定数!P$29),計算!R51)","v":"1.0361159434339-0.481913654242496i"},{"$f":"IMDIV(COMPLEX(定数!Q$19,計算!B51*定数!Q$29),計算!S51)","v":"0.264526518214012+0.280269333570451i"},{"$f":"IMPRODUCT(COMPLEX(定数!R$19,計算!B51*定数!R$29),計算!S51)","v":"0.237318471924639+0.620298540820794i"},{"$f":"IMDIV(COMPLEX(定数!S$19,計算!B51*定数!S$29),計算!T51)","v":"-0.29275587777623+0.754249919404801i"},{"$f":"IMPRODUCT(COMPLEX(定数!T$19,計算!B51*定数!T$29),計算!T51)","v":"1.51914287318135+0.36473997107558i"},{"$f":"IMDIV(COMPLEX(定数!U$19,計算!B51*定数!U$29),計算!U51)","v":"-0.0106916026708686+0.580727894745193i"},{"$f":"IMPRODUCT(COMPLEX(定数!V$19,計算!B51*定数!V$29),計算!U51)","v":"0.932267753491894+0.512131081311456i"},{"$f":"IMPRODUCT(定数!E$33,計算!G51)","v":"0"},{"$f":"IMDIV(COMPLEX(定数!O$20,計算!B51*定数!O$30),計算!R51)","v":"-0.432481060696123+0.380168188080192i"},{"$f":"IMPRODUCT(COMPLEX(定数!P$20,計算!B51*定数!P$30),計算!R51)","v":"0.852122472092393-0.408116627463876i"},{"$f":"IMDIV(COMPLEX(定数!Q$20,計算!B51*定数!Q$30),計算!S51)","v":"0.540398042899773+0.602392055203883i"},{"$f":"IMPRODUCT(COMPLEX(定数!R$20,計算!B51*定数!R$30),計算!S51)","v":"0.517397405134768+1.31911007510248i"},{"$f":"IMDIV(COMPLEX(定数!S$20,計算!B51*定数!S$30),計算!T51)","v":"0.145740343265594-0.339895675203743i"},{"$f":"IMPRODUCT(COMPLEX(定数!T$20,計算!B51*定数!T$30),計算!T51)","v":"-0.704750457969148-0.162349760488816i"},{"$f":"IMDIV(COMPLEX(定数!U$20,計算!B51*定数!U$30),計算!U51)","v":"0.0420887451193541-0.670553008274651i"},{"$f":"IMPRODUCT(COMPLEX(定数!V$20,計算!B51*定数!V$30),計算!U51)","v":"-1.10971984937214-0.5910847064862i"},{"$f":"IMPRODUCT(定数!E$34,計算!G51)","v":"0"},"0.520250927108522+0.850633888138155i","1.49168415224167-0.108135822066335i","0.683333713040567+1.32513485197905i","-0.750832572135984+0.166448442847549i","-0.247907375113377-0.725278586884011i","1.31398588742076-0.204206232755396i","0.508514637308607+1.22395940628771i","0.00054117759758203+0.0000399559068520372i","7.7905320776638+4.35907682974801i","-88.9980824181824-142.700176588441i","99.1812791086244-135.355375172566i","255.638323178661+297.2379605632i","-258.749087687448+292.668301761726i","-247.849015966782-331.579384097528i","254.949876301388-324.260743454346i","-0.0751552664622752-0.165401808763839i","7.7932984446724+4.36062470949599i","-203.16291143276-321.712386238077i","212.137698009634-314.364976731128i","-72.2907436737288-82.771529344881i","66.6045261650569-87.342810802389i","-247.867757765965-331.604410309946i","254.971767490042-324.283170865211i","-0.0401757280145007-0.0910685257488675i","0.00141305896249833+0.000790656210995166i","-250.391261443524-377.315104369897i","247.837898082468-377.313772158265i","155.55494015031+173.229780812555i","-154.382662032162+173.228951960655i","0.00778282486000137+0.00180340792499578i","-0.00607532858099091+0.00313087447599969i","-0.0349768834766312-0.0743306927799622i","1.40053254465735-0.238021219255959i","0.0636572491591031-1.21622279036606i","0.28194856775001-1.00571357170157i","-0.407209157159901+0.6974296895356i","0.321975893638684-0.057027866713001i","0.532722010943095-1.25841768613579i","-0.424463018169151-0.255061635318372i","0.000249244802902636-0.000188460086675677i","1.72054364899773-0.291754784486139i","0.459842964760867-1.06162855055691i","0.76265055911244-0.262267668323989i","-0.01738193233655-0.302686792945788i","-2.0009083950287-0.622028702752378i","0.574435723999555-0.16440249569614i","1.79182615676614+0.902347201187869i","0.000301283538542104-0.000242227797381124i","1.72052481017418-0.291751342407141i","0.988871028413277-0.501082461106016i","1.23729554645315+0.978325724026173i","-0.602904813010651+1.20588184326808i","1.03750573802941+0.107493209228032i","0.574408548994222-0.164289478670674i","1.79201871920406+0.902434436579795i","0.000301278443871807-0.000242229062090101i","1.40050508884952-0.238016433563706i","1.14441338774333-0.0114655011682661i","1.31670040979876+1.63242406191104i","-0.115702121010853+0.01753278241071i","-1.08769354874163-0.381772515436029i","0.53273004194952-1.25840397040116i","-0.424486469877303-0.255066532483763i","0.000249239026138296-0.000188458333725907i","2.35340556108896+18.6567409242905i","-16.3790848954574+9.08175472817247i","-9.38798202728306-42.7629617641025i","40.958711808231-15.0738533202965i","7.31417458251577+45.6434928761425i","-42.0561521193025+18.8569784483342i","-0.00118691384214997+0.0202584650746538i","-16.5054386204259-9.08175472843071i","2.29189891640595-18.6567409242709i","41.2483261376142+15.073853320947i","-9.28589359104586+42.7629617639496i","-42.3652749918271-18.8569784490003i","7.18646473932516-45.6434928760311i","-0.0163939528181116-0.0120581377433461i","-114.133226377936-178.961537748803i","112.92120027602-178.961537749899i","-328.019842348698-380.115037167267i","325.445493964659-380.115037164098i","0.0692677648160043+0.0927154618229906i","-0.0686398485590018+0.0927154587549808i","0.0350062255907799+0.0743920161169665i","-250.375118831334-377.289221187422i","247.819908426074-377.289221187404i","155.508572069125+173.175867323767i","-154.335729715679+173.175867323714i","0.052738069254605+0.0619457981307998i","-0.0523185381235201+0.0619457981829589i","-0.0349632516961706-0.0743006919397345i","25.3417115343545+7.57442564460876i","1.51276976839607+25.6691798444748i","-61.7647292718663-10.5960155802996i","3.14867977607228-62.1581872374841i","64.3550294022695+15.0675599179227i","0.374779058827064+65.3806666887932i","0.0260796019078725+0.0127972456126501i","31.5078159506058+9.74838618164809i","2.26253186191979+32.5061419143464i","-75.3847963272243-14.2035128875309i","1.49957815488386-76.9067748614654i","78.9673542326779+19.9195803390819i","2.74390731801518+81.5306544583554i","0.0320258143203266+0.0157213103443488i","32.0365018110952+10.3088179945478i","2.73715580796367+33.7463759467491i","-75.9694902525667-12.6948022576512i","4.53796454612369-76.1764153828146i","78.9664640385228+19.9194839374409i","2.74407815648605+81.5298570876594i","0.0320254588778092+0.0157211383477912i","26.4219710403046+8.77901257684371i","2.54749525096053+28.306794273871i","-61.4720175907785-11.2756960243993i","1.73896003235683-62.4817133551177i","64.3537840167314+15.0672586472491i","0.374734481603515+65.3793742204501i","0.0260790883153537+0.0127969947561002i","-0.552257469319299-0.96633477225993i","-21.2406437084733-85.6354508144346i","81.4289765648727-33.1705413395201i","7.31620558898945+45.653542848624i","-42.0651633662321+18.8617997245708i","-0.00120450256874749+0.0275422718849586i","1.11268875077213+0.0875753862825022i","82.9731266680897+30.7207141029696i","-18.4577222826012+86.218789527363i","-42.3746156815626-18.8612520337548i","7.18786529684503-45.6536352772287i","-0.0222863296440489-0.0163625984904728i","0.424808679169472+0.901903210339737i","2.34085345320814-0.340021023632083i","0.685446001101554+2.25566712633443i","-0.000543757686741737+0.000040270919388739i","-0.00019439975425669-0.000507524247175861i","-0.00038417958451556-0.0000494040787184453i","13.903072138198+8.80063799327701i","869.88630077635+971.221839401519i","-833.755999090202+996.550180045269i","-0.098599109991487-0.133125279787262i","0.0904920282543919-0.138470577396013i","-0.112512634438662-0.2316170602576i","-2.42121043105457-0.4042728974167i","-123.66142618837-19.7099213100501i","2.86368787118832-124.512512639316i","64.369114181796+15.0706580360672i","0.375861276648717+65.3950006883458i","0.0354411625952607+0.0169591692212433i","-2.33016102271194-0.0520575001583978i","-152.454632346491-26.3097365121121i","1.89178595285377-154.659911849247i","78.9848794262676+19.9236122502852i","2.74508488733512+81.548540522804i","0.0436488639229271+0.0210230559167816i","-1.57467216752737+0.473276759205199i","-154.467460992721-25.933150319283i","5.83193435209209-155.506237431302i","78.9842992782173+19.9237992970847i","2.74507406947341+81.548120420808i","0.043823931177231+0.0212643096191221i","-0.75896774105704+0.7473330319356i","-126.307028583898-22.84205229116i","3.43065571282185-128.098423908111i","64.3685047054912+15.0709682657539i","0.375415344531718+65.3944906492988i","0.0357961511432835+0.0174750652975006i","-0.00734566199379927-0.0357132752684066i","0.0339614832332984-0.0129108108984965i","7.31452855693804+45.6424632667087i","-42.0553691924194+18.8563893523484i","-0.000593812946856066+0.0101352140484902i","0.0342033531000112+0.0129108111871972i","-0.00725822316890046+0.0357132751983045i","-42.3644850919709-18.856389352753i","7.18682270315096-45.6424632666412i","-0.0082018204549181-0.0060326248886627i","-10.5674230438135-78.2750007705241i","75.7089170768909-21.5973604730575i","0.000170439029210016+0.0100520323467748i","-0.00932231731429257+0.00363112581527387i","-0.00216005641417309+0.0154505725164943i","76.2390384933134+21.59736047412i","-10.4211538246055+78.2750007703641i","-0.00939039500866196-0.00363112643021185i","0.000145847689158718-0.010052032293387i","-0.0133063484024968-0.00823650368900757i","52.198101569786+63.40321014109i","-54.0125798293003+60.794745665596i","64.3478460254521+15.0580700326799i","0.380278168815227+65.3707215651716i","0.0065534882548276-0.0083625354487147i","24.070298963361+27.9844048165835i","-26.4659813659292+27.190944781727i","78.9631873211953+19.9146623005193i","2.74594801960836+81.525125261421i","0.0130717013128989+0.0011379808231624i","-24.194440225675-28.0065529516663i","26.4677721623468-27.316682395738i","78.9677939568059+19.9225257190756i","2.74054633850299+81.5322227390069i","0.0189726489232818+0.0145921019510943i","-52.303636873337-63.4263041883854i","54.0188297858308-60.90215090818i","64.3586640378794+15.0752301103026i","0.368013822451966+65.3867524842603i","0.0195416506800678+0.0211680983940759i","0.000152308723442199-0.000243267491404299i","7.33666778398359+45.6617165678024i","-42.0687738644153+18.8821311207049i","-0.000589506322775126+0.0101332899244821i","0.00012196880024886+0.000272028498086899i","-42.3926653428678-18.8479427047043i","7.17218898617618-45.6676171113166i","-0.00820249737105285-0.00602794397974303i","0.758067285870894+0.754669830695601i","44.9857228634853+44.9106171739409i","-32.8053137762486+53.6442310225065i","0.00743336106330509+0.0119322526852754i","-0.995353636297381+0.378876848478598i","-59.3161210646324+23.4163911245982i","-36.2255176500384-51.6439338428219i","-0.0139080732526205+0.00199691256233243i","0.15348968752034+0.978254097708615i","0.639557529341744-0.488368918233736i","0.617465516403058+0.502344431793851i","-0.0000278936778407186-0.000126326179164887i","-2.7846653485771-0.651241362992398i","49.9021328779812+13.7722113622252i","1.94117837689641+52.1541396342593i","0.0102079475410302+0.00495927769507837i","2.7838440446543+0.650344957867802i","108.119060339806+26.0185149299383i","3.61084293752311+110.979245747714i","0.0218357378280534+0.0107545049948887i","-0.000143309104494449-0.000620201329397219i","128.785284376224+30.0965299527825i","0.801855235906606+130.824748899367i","0.0260951125498936+0.0127915868957813i","7.33959678412497+45.6574254148997i","-42.0637583685941+18.8836411788177i","-0.000588703765201386+0.0101324817199253i","-42.390653877153-18.8429350535378i","7.16798755141103-45.6641605445211i","-0.0082022635036748-0.00602678426204829i","58.1573560313428+59.1033404544246i","-42.4406756960818+70.6215823908752i","0.00970663442252323+0.0155171166937697i","-77.5909036432779+29.5571062024682i","-47.6865209345503-67.341498941342i","-0.0180924556235387+0.00259172830417376i","2.71577548361022+17.3158312904784i","-15.8640863120177+7.91348867735027i","-0.000290481314526782+0.00379449412010405i","-18.0876934054648-0.71561821835429i","-4.81391192417323-17.603235913602i","-0.00387057478084486-0.000875724366837482i","158.006979208077+39.7739246510527i","5.56384726055461+163.114612559945i","0.0320412914546428+0.0157095938510406i","128.78313607245+30.0852093866807i","0.812082908814946+130.819240600817i","0.0260951009867044+0.0127890608608819i","-0.156286705830901-0.849987442941998i","-0.000083912030793068+0.0000170898827048013i","0.79508879729344+0.364499247718399i","0.0000220848216032007-0.0000613685346421092i","-1.6932343814725-1.75396882418229i","-0.0000638525821561788+0.0002091524611739i","2.29210626118549-0.863974581509297i","-0.000124963183926199-0.00021045147483731i","0.0483700452809011+0.49466355745919i","-0.000084509492541459-0.0000387393089462404i","-0.48353401853343+0.00429371460529993i","-0.0000280928850227699+0.000100492407776942i","0.277489365643551+0.962475026113252i","0.000214236226252159+0.0000454953215775033i","-5.96760513544815-1.47963732142398i","-0.000126175814602003+0.0004846889464979i"]
[{"$f":"COMPLEX(定数!O$13,計算!B52*定数!O$23)","v":"74.3688188913563+134.667500642642i"},{"$f":"COMPLEX(定数!P$13,計算!B52*定数!P$23)","v":"-73.4757772913563+134.667500642642i"},{"$f":"COMPLEX(定数!Q$13,計算!B52*定数!Q$23)","v":"125.193786513619+192.668338198451i"},{"$f":"COMPLEX(定数!R$13,計算!B52*定数!R$23)","v":"-123.916114913619+192.668338198451i"},{"$f":"COMPLEX(定数!S$13,計算!B52*定数!S$23)","v":"-77.7867441135484-88.4707978727215i"},{"$f":"COMPLEX(定数!T$13,計算!B52*定数!T$23)","v":"77.2000539135484-88.4707978727215i"},{"$f":"COMPLEX(定数!U$13,計算!B52*定数!U$23)","v":"124.646605989444+161.441500352848i"},{"$f":"COMPLEX(定数!V$13,計算!B52*定数!V$23)","v":"-123.576013789444+161.441500352848i"},{"$f":"IMPRODUCT(定数!D$31,計算!G52)","v":"0.0279019440132871+0.0262016694622973i"},{"$f":"COMPLEX(定数!O$14,計算!B52*定数!O$24)","v":"86.1948356167649+165.361604776457i"},{"$f":"COMPLEX(定数!P$14,計算!B52*定数!P$24)","v":"-85.0982474167649+165.361604776457i"},{"$f":"COMPLEX(定数!Q$14,計算!B52*定数!Q$24)","v":"57.0863694248256+91.411871451415i"},{"$f":"COMPLEX(定数!R$14,計算!B52*定数!R$24)","v":"-56.4801756248256+91.411871451415i"},{"$f":"COMPLEX(定数!S$14,計算!B52*定数!S$24)","v":"163.969671876329+194.055544850804i"},{"$f":"COMPLEX(定数!T$14,計算!B52*定数!T$24)","v":"-162.682801076329+194.055544850804i"},{"$f":"COMPLEX(定数!U$14,計算!B52*定数!U$24)","v":"-101.525845343051-139.327472759217i"},{"$f":"COMPLEX(定数!V$14,計算!B52*定数!V$24)","v":"100.601901343051-139.327472759217i"},{"$f":"IMPRODUCT(定数!D$32,計算!G52)","v":"-0.0279019440132871-0.0262016694622973i"},{"$f":"COMPLEX(定数!O$15,計算!B52*定数!O$25)","v":"86.1919999827348+165.35976507717i"},{"$f":"COMPLEX(定数!P$15,計算!B52*定数!P$25)","v":"-85.0954239827348+165.35976507717i"},{"$f":"COMPLEX(定数!Q$15,計算!B52*定数!Q$25)","v":"-57.0828842529623-91.4115397088333i"},{"$f":"COMPLEX(定数!R$15,計算!B52*定数!R$25)","v":"56.4766926529622-91.4115397088333i"},{"$f":"COMPLEX(定数!S$15,計算!B52*定数!S$25)","v":"-163.956966054068-194.038354076189i"},{"$f":"COMPLEX(定数!T$15,計算!B52*定数!T$25)","v":"162.670209254068-194.038354076189i"},{"$f":"COMPLEX(定数!U$15,計算!B52*定数!U$25)","v":"-101.548680976766-139.354857408696i"},{"$f":"COMPLEX(定数!V$15,計算!B52*定数!V$25)","v":"100.624555376766-139.354857408696i"},{"$f":"IMPRODUCT(定数!D$33,計算!G52)","v":"0"},{"$f":"COMPLEX(定数!O$16,計算!B52*定数!O$26)","v":"74.3664237452132+134.664846624863i"},{"$f":"COMPLEX(定数!P$16,計算!B52*定数!P$26)","v":"-73.4733997452132+134.664846624863i"},{"$f":"COMPLEX(定数!Q$16,計算!B52*定数!Q$26)","v":"-125.201328746793-192.678441559989i"},{"$f":"COMPLEX(定数!R$16,計算!B52*定数!R$26)","v":"123.923590146793-192.678441559989i"},{"$f":"COMPLEX(定数!S$16,計算!B52*定数!S$26)","v":"77.7704269443536+88.4463085294666i"},{"$f":"COMPLEX(定数!T$16,計算!B52*定数!T$26)","v":"-77.1838991443536+88.4463085294666i"},{"$f":"COMPLEX(定数!U$16,計算!B52*定数!U$26)","v":"124.65071095008+161.440354299482i"},{"$f":"COMPLEX(定数!V$16,計算!B52*定数!V$26)","v":"-123.58012635008+161.440354299482i"},{"$f":"IMPRODUCT(定数!D$34,計算!G52)","v":"0"},{"$f":"IMDIV(COMPLEX(定数!O$17,計算!B52*定数!O$27),計算!R52)","v":"-0.121850803993556+0.574663969955261i"},{"$f":"IMPRODUCT(COMPLEX(定数!P$17,計算!B52*定数!P$27),計算!R52)","v":"0.931272869435702+0.197358762853728i"},{"$f":"IMDIV(COMPLEX(定数!Q$17,計算!B52*定数!Q$27),計算!S52)","v":"-0.804722427309092-0.186833469935217i"},{"$f":"IMPRODUCT(COMPLEX(定数!R$17,計算!B52*定数!R$27),計算!S52)","v":"0.353389044071352-1.38213380651248i"},{"$f":"IMDIV(COMPLEX(定数!S$17,計算!B52*定数!S$27),計算!T52)","v":"0.0720956227396374+0.370776244746552i"},{"$f":"IMPRODUCT(COMPLEX(定数!T$17,計算!B52*定数!T$27),計算!T52)","v":"0.490513160071453+0.537139546829263i"},{"$f":"IMDIV(COMPLEX(定数!U$17,計算!B52*定数!U$27),計算!U52)","v":"-0.351079793249369-0.589553714156252i"},{"$f":"IMPRODUCT(COMPLEX(定数!V$17,計算!B52*定数!V$27),計算!U52)","v":"-0.574951513872051-1.12680009798014i"},{"$f":"IMPRODUCT(定数!E$31,計算!G52)","v":"0"},{"$f":"IMDIV(COMPLEX(定数!O$18,計算!B52*定数!O$28),計算!R52)","v":"-0.129883786426229+0.714845874728605i"},{"$f":"IMPRODUCT(COMPLEX(定数!P$18,計算!B52*定数!P$28),計算!R52)","v":"1.1237934607163+0.251543338871264i"},{"$f":"IMDIV(COMPLEX(定数!Q$18,計算!B52*定数!Q$28),計算!S52)","v":"-0.385273236328348-0.0794507079056179i"},{"$f":"IMPRODUCT(COMPLEX(定数!R$18,計算!B52*定数!R$28),計算!S52)","v":"0.171137226220789-0.646563300195416i"},{"$f":"IMDIV(COMPLEX(定数!S$18,計算!B52*定数!S$28),計算!T52)","v":"-0.185244160437808-0.805260672748942i"},{"$f":"IMPRODUCT(COMPLEX(定数!T$18,計算!B52*定数!T$28),計算!T52)","v":"-1.04880545283873-1.17016889116101i"},{"$f":"IMDIV(COMPLEX(定数!U$18,計算!B52*定数!U$28),計算!U52)","v":"0.325218355702975+0.495901106557316i"},{"$f":"IMPRODUCT(COMPLEX(定数!V$18,計算!B52*定数!V$28),計算!U52)","v":"0.473966497340966+0.95955624327116i"},{"$f":"IMPRODUCT(定数!E$32,計算!G52)","v":"0"},{"$f":"IMDIV(COMPLEX(定数!O$19,計算!B52*定数!O$29),計算!R52)","v":"-0.129875118622937+0.714841296426799i"},{"$f":"IMPRODUCT(COMPLEX(定数!P$19,計算!B52*定数!P$29),計算!R52)","v":"1.12377373525433+0.251543915002943i"},{"$f":"IMDIV(COMPLEX(定数!Q$19,計算!B52*定数!Q$29),計算!S52)","v":"0.385276762154306+0.0794373898827798i"},{"$f":"IMPRODUCT(COMPLEX(定数!R$19,計算!B52*定数!R$29),計算!S52)","v":"-0.17114152918967+0.646547924006191i"},{"$f":"IMDIV(COMPLEX(定数!S$19,計算!B52*定数!S$29),計算!T52)","v":"0.185220329423165+0.805191540128769i"},{"$f":"IMPRODUCT(COMPLEX(定数!T$19,計算!B52*定数!T$29),計算!T52)","v":"1.04871996312287+1.17006743242317i"},{"$f":"IMDIV(COMPLEX(定数!U$19,計算!B52*定数!U$29),計算!U52)","v":"0.325271685832998+0.496004726722316i"},{"$f":"IMPRODUCT(COMPLEX(定数!V$19,計算!B52*定数!V$29),計算!U52)","v":"0.474070245961725+0.959750994254508i"},{"$f":"IMPRODUCT(定数!E$33,計算!G52)","v":"0"},{"$f":"IMDIV(COMPLEX(定数!O$20,計算!B52*定数!O$30),計算!R52)","v":"-0.121844823026275+0.574654314178743i"},{"$f":"IMPRODUCT(COMPLEX(定数!P$20,計算!B52*定数!P$30),計算!R52)","v":"0.931250936436229+0.197356542981254i"},{"$f":"IMDIV(COMPLEX(定数!Q$20,計算!B52*定数!Q$30),計算!S52)","v":"0.804763160221011+0.186847153939697i"},{"$f":"IMPRODUCT(COMPLEX(定数!R$20,計算!B52*定数!R$30),計算!S52)","v":"-0.353406109448766+1.38221017103875i"},{"$f":"IMDIV(COMPLEX(定数!S$20,計算!B52*定数!S$30),計算!T52)","v":"-0.0720544127983291-0.370679896547786i"},{"$f":"IMPRODUCT(COMPLEX(定数!T$20,計算!B52*定数!T$30),計算!T52)","v":"-0.490398635919489-0.536997148090948i"},{"$f":"IMDIV(COMPLEX(定数!U$20,計算!B52*定数!U$30),計算!U52)","v":"-0.351058957603269-0.589560172447952i"},{"$f":"IMPRODUCT(COMPLEX(定数!V$20,計算!B52*定数!V$30),計算!U52)","v":"-0.574965775737833-1.12680274242702i"},{"$f":"IMPRODUCT(定数!E$34,計算!G52)","v":"0"},"0.535409383169115+0.841283458892078i","1.48975715153052-0.106947159861245i","0.706947865625119+1.3105685622418i","-0.747866429542275+0.164618790385228i","-0.260831976101275-0.717306101652794i","1.31034689390112-0.201961535056873i","0.530325824399652+1.21050526815831i","0.000236775732070994-0.0000764342727674543i","7.8682116475822+4.311160516933i","-89.0079573411874-145.718468988955i","99.3022899298724-138.454403888578i","255.653523188483+303.534648221668i","-258.815319857934+299.01522051479i","-247.867664003918-338.600496633415i","255.061647818611-331.362304738474i","-0.0609500833219333-0.0587670449129996i","7.8710055980998+4.312691381912i","-203.172789862286-328.53944270704i","212.258751801036-321.272798184527i","-72.2755382664831-84.560159756018i","66.5382704759591-89.081192282195i","-247.886412424897-338.62604332765i","255.083578696602-331.38528119798i","-0.0330473272832457-0.0325651565941818i","0.00142714860510296+0.000781965074992286i","-250.391263234653-385.343082070551i","247.837920031601-385.341764502998i","155.554942907311+176.915515837449i","-154.382674045457+176.914696096543i","0.00777944245000128+0.00184790319499939i","-0.00605505528699268+0.00316077782500201i","-0.0279011740428868-0.0262012241265483i","1.47996822558517-0.00781065297705399i","-0.684653000101251-1.05597482631691i","1.19266774275573-1.62869744052617i","0.0755679846321292+0.820607068104469i","0.046520602027358+0.599625960511021i","-0.3074729882311-1.36717203764647i","0.185302877261204-1.28405820143592i","-0.0000150727093101752-0.000145380059770358i","1.79472246875685-0.021922768879507i","-0.268228672672762-1.15828816409496i","1.19981282208167-0.98170045835058i","-0.16470282083813-0.249270128930497i","-1.59544660519996-1.07688066155701i","0.351039801625438-0.467026493896981i","1.40817192073382+0.737680023154321i","-0.0000238853959604727-0.000179185728066568i","1.79469425082209-0.021927033561617i","0.502308902524324-0.99939231875176i","0.85752193880776+0.311402642721218i","0.205767397707438+1.3611772331057i","0.502084355645725+1.26336068532786i","0.351082698567201-0.466915124005572i","1.40826553053619+0.7378667097078i","-0.0000238870983467735-0.000179183981518565i","1.47993496707462-0.00781273474502001i","0.924824709897947-0.682279178032408i","0.485855706446412+1.13564552468797i","-0.0685791674634423+0.079142720999423i","-0.934382707788656-0.474508962760135i","-0.307458039631451-1.36716463559607i","0.185273755165675-1.28406296516756i","-0.0000150733874258255-0.000145377316365919i","2.35407400780035+18.8520940804194i","-16.3797533421701+9.47658233061137i","-9.38991505288823-43.0898252273945i","40.9606448338387-15.9775603907246i","7.3160445964369+46.0506481115062i","-42.0580221332267+19.8221736666934i","0.0030254193128004+0.00891143199860677i","-16.5047701737135-9.47658233086555i","2.29123046969451-18.8520940804i","41.2463931120071+15.977560391365i","-9.28396056544096+43.0898252272439i","-42.3634049779036-19.8221736673492i","7.18459472540409-46.0506481113967i","-0.00910520651237032-0.00247998388608974i","-114.13322637794-182.769230041331i","112.921200275998-182.76923004242i","-328.019842348698-388.202591149537i","325.445493964712-388.202591146386i","0.0692677648110021+0.0946881312149799i","-0.068639848615021+0.0946881281669789i","0.027924399014656+0.0262227561128563i","-250.375118831335-385.31665142545i","247.819908426071-385.316651425434i","155.508572069125+176.860460245541i","-154.335729715671+176.860460245496i","0.0527380692533294+0.0632637938449404i","-0.0523185381314549+0.0632637938880293i","-0.027890118820899-0.0261905648675113i","23.8159007235754+12.8401528782131i","-2.05103338513195+26.2896987902973i","-61.0925784207703-22.5035133703308i","13.4499275747738-63.2444600160576i","62.5438444264294+27.6381292968526i","-10.0879833982771+66.9255541472158i","0.013479713909912+0.00345379968325315i","29.5610061239659+15.4877168102059i","-2.49901988156005+32.9028064868981i","-74.5408036578533-28.0203216159249i","14.1220377411342-78.61468829346i","76.8161515005135+34.1795508302154i","-10.4766239465632+83.5433190991511i","0.0163718014280214+0.00407208573648274i","30.3311183832461+15.646274858369i","-2.84116571285368+34.1953873921786i","-74.1692376904938-26.4092474973772i","16.2191229633796-76.2732706338385i","76.8150835249269+34.1789221928482i","-10.4761312109604+83.5422369715331i","0.0163715533718546+0.00407197867219592i","25.4248492375472+13.2134989903823i","-2.75772997284297+29.0534195327518i","-61.2353870408387-23.2443604621552i","12.4686257912395-64.3171811629735i","62.5424916964439+27.6373892521515i","-10.0876777046891+66.9240327641772i","0.0134794155689405+0.00345370099116011i","-0.570539288055802-0.95761917769533i","-21.2376082147733-86.3053283490823i","81.387110413521-34.9662687219992i","7.31807519260729+46.0607907739512i","-42.0670234985108+19.8272034954131i","0.00428704879774103+0.0120444079752738i","1.11434556514286+0.0867855238221011i","82.9686452194335+32.5385370382045i","-18.4497217534617+86.8834057965978i","-42.3727451876608-19.8266607443425i","7.18599394459376-46.060882368922i","-0.012372604185446-0.00335833172134254i","0.441871535109819+0.893768738784501i","2.33442069005074-0.336954296168249i","0.728120339971922+2.23532274806171i","-0.000542995812374829+0.0000399077067474807i","-0.000204001464467897-0.000502946770196381i","-0.000171863998375143+0.0000454617354354936i","14.069568960185+8.72126302420605i","869.823530825875+991.986651610326i","-833.339589209962+1017.08655015057i","-0.0985916757249436-0.135969637498184i","0.0903983362979441-0.141266724640384i","-0.0884377515028979-0.08103013781007i","-1.09847475412056-0.669906825770401i","-121.01545449785-44.4529618467208i","24.8109716604463-125.829861148021i","62.5572887818459+27.6441510081137i","-10.0895828330708+66.9401516875552i","0.0181565454662717+0.00457784751879779i","-1.71874991683838-0.361477875991596i","-148.767280689392-54.21446016679i","27.2181136136311-155.969999367189i","76.8328210823091+34.186780883623i","-10.4783829551702+83.5613462286154i","0.0221563726206037+0.0053899720335719i","-2.25947220761618+0.172738478443705i","-150.246907529279-52.714034602152i","29.1088928477801-155.465480499231i","76.8321776021424+34.1862076091978i","-10.4778128617969+83.560683772545i","0.0222956874605513+0.00538210474962992i","-2.1824348078094+0.4908150128709i","-125.040026394614-45.5232137132466i","23.4927107953538-130.770942406798i","62.556824603553+27.6435494793426i","-10.089136684851+66.9395156831287i","0.0184497404122685+0.00456876799064845i","-0.00734725387370005-0.035993032384809i","0.0339630751100941-0.0136656088024978i","7.31639854010582+46.0496058703773i","-42.0572391755862+19.8215627618558i","0.0015136005586746+0.0044583481084954i","0.0342017612130974+0.0136656090876031i","-0.00725663128669751+0.0359930323176059i","-42.3626151088011-19.8215627622526i","7.18495271998274-46.049605870311i","-0.00455529243892056-0.00124072175745219i","-10.5713798100613-78.7470937318056i","75.7128738431699-23.2502113680546i","0.000170887284414177+0.0101307149136431i","-0.00932276558015203+0.00384357428792428i","0.0017714041779372+0.00700374570211797i","76.2350817270701+23.2502113691195i","-10.417197058363+78.7470937316455i","-0.009389946752508-0.00384357489837139i","0.000145399434593485-0.0101307148610166i","-0.00711997156344281-0.00134581188194188i","-52.8486171391236+32.1572099823524i","-39.3852719172753-46.3067181382357i","62.5495489994555+27.6336385486991i","-10.0826364804273+66.9291207571129i","0.0112370050196893-0.00167021040695234i","-26.142677332888+13.3041341091059i","-19.1517751467457-24.389024831102i","76.8180714793996+34.1767804815783i","-10.4744710206138+83.5439866219693i","0.0104054033086133+0.00050314577553032i","26.02034701378-13.3495602139903i","19.1741787662161+24.260839987478i","76.8102973451444+34.1791451636517i","-10.4792343000861+83.5377685877962i","0.0059758360971767+0.00357117326013417i","52.749622335124-32.1984657514404i","39.4081131588163+46.202372675254i","62.5344451726536+27.6397698545342i","-10.0937916670088+66.9173346941627i","0.0022503219654407+0.00512621022928664i","0.000172803506031105-0.0009647708463612i","7.34441028488118+46.0202087011409i","-42.0218675214246+19.8406477102332i","0.00151492564991616+0.00445173353261201i","0.00071058826133692+0.000688579804435104i","-42.3534116039503-19.7819050390454i","7.14948390154641-46.0304808628831i","-0.00455048034628127-0.00123596893954599i","0.933266512043801-0.803113725910599i","64.7611233077704-59.3138310205178i","73.5171509679675+46.3787830125478i","0.00560169019721684-0.00707521771148413i","0.344860662489701+1.1701426087191i","27.0459445714555+83.8387854580835i","-73.0061231682203+47.6778844042271i","0.00412057875751579+0.00802811082018578i","0.154782499545515+0.970396090832599i","-0.631564406875724-0.907175823953388i","0.701610489531166-0.839516477841636i","-0.000169207972167867-0.0000713556208067008i","-2.1950664729604-1.0795200750656i","48.2380981530962+18.8631931993806i","-3.30153418744029+52.2624581810347i","0.00503252914142561+0.000888884358943993i","2.192323370391+1.077075260953i","105.354220660145+49.3530678268301i","-17.5282069346111+114.748470141785i","0.0113312524070483+0.00316901926176609i","-0.00187053230120426-0.0018956211076997i","125.058898813753+55.1575470350136i","-20.0723374565855+133.792293162443i","0.0134735201061052+0.00344195518161068i","7.34633620124092+45.9995450215694i","-42.0013761897208+19.8361355717074i","0.00151471103748533+0.00444969716756655i","-42.3371913411617-19.7686436435902i","7.14171156319884-46.0107757125671i","-0.00454865390044461-0.0012350007484672i","83.0201777643516-77.9225194389083i","97.06204662178+58.2276824771971i","0.00700701199722972-0.00922968564106131i","36.4083166735834+107.912661731257i","-93.3032445144451+64.1107125342243i","0.00549338254323982+0.0101753573109642i","4.36425002896547+19.2911519447659i","-17.2089599393676+10.1944720927272i","0.000705981505610458+0.00178569326048723i","-21.0988921526674+1.78285463755906i","-8.21756550804026-19.7677071657963i","-0.00200650831484527+0.00058184190021136i","153.530083639787+68.1695687100528i","-20.803954377658+166.936613054377i","0.016356854995071+0.00405459413287635i","125.016053037579+55.1208864168878i","-20.0502365953512+133.739739637038i","0.0134686639157023+0.00343923995616482i","-0.0411332579254022-0.549521995866602i","-0.0000139153111615501+0.00003369943971174i","0.474779825242361+0.304858727772i","-0.00002117940685545-0.0000210563725537801i","-1.71145471176091+1.2560672907885i","0.00016566666376401-0.0000827761030396997i","-0.4288476317857-2.09180829950809i","0.0000131137412882803+0.000150317852183701i","0.0159083676226004+0.415068073745289i","-0.0000618709281258141-0.00004387435069531i","-0.388063420397109-0.0612485392442004i","0.0000466997755426903+0.000037448524895529i","0.290091316470779+0.958517116875302i","0.0000987884428179041-0.0000174543733972371i","-3.4819948730769-2.08037758938298i","0.0001564221753723+0.00017601029066461i"]
[{"$f":"COMPLEX(定数!O$13,計算!B53*定数!O$23)","v":"74.3688188913563+137.473073572697i"},{"$f":"COMPLEX(定数!P$13,計算!B53*定数!P$23)","v":"-73.4757772913563+137.473073572697i"},{"$f":"COMPLEX(定数!Q$13,計算!B53*定数!Q$23)","v":"125.193786513619+196.682261910918i"},{"$f":"COMPLEX(定数!R$13,計算!B53*定数!R$23)","v":"-123.916114913619+196.682261910918i"},{"$f":"COMPLEX(定数!S$13,計算!B53*定数!S$23)","v":"-77.7867441135484-90.3139394950699i"},{"$f":"COMPLEX(定数!T$13,計算!B53*定数!T$23)","v":"77.2000539135484-90.3139394950699i"},{"$f":"COMPLEX(定数!U$13,計算!B53*定数!U$23)","v":"124.646605989444+164.804864943532i"},{"$f":"COMPLEX(定数!V$13,計算!B53*定数!V$23)","v":"-123.576013789444+164.804864943532i"},{"$f":"IMPRODUCT(定数!D$31,計算!G53)","v":"0.00899468604254148+0.00356124813458394i"},{"$f":"COMPLEX(定数!O$14,計算!B53*定数!O$24)","v":"86.1948356167649+168.8066382093i"},{"$f":"COMPLEX(定数!P$14,計算!B53*定数!P$24)","v":"-85.0982474167649+168.8066382093i"},{"$f":"COMPLEX(定数!Q$14,計算!B53*定数!Q$24)","v":"57.0863694248256+93.3162854399861i"},{"$f":"COMPLEX(定数!R$14,計算!B53*定数!R$24)","v":"-56.4801756248256+93.3162854399861i"},{"$f":"COMPLEX(定数!S$14,計算!B53*定数!S$24)","v":"163.969671876329+198.098368701863i"},{"$f":"COMPLEX(定数!T$14,計算!B53*定数!T$24)","v":"-162.682801076329+198.098368701863i"},{"$f":"COMPLEX(定数!U$14,計算!B53*定数!U$24)","v":"-101.525845343051-142.230128441701i"},{"$f":"COMPLEX(定数!V$14,計算!B53*定数!V$24)","v":"100.601901343051-142.230128441701i"},{"$f":"IMPRODUCT(定数!D$32,計算!G53)","v":"-0.00899468604254148-0.00356124813458394i"},{"$f":"COMPLEX(定数!O$15,計算!B53*定数!O$25)","v":"86.1919999827348+168.804760182944i"},{"$f":"COMPLEX(定数!P$15,計算!B53*定数!P$25)","v":"-85.0954239827348+168.804760182944i"},{"$f":"COMPLEX(定数!Q$15,計算!B53*定数!Q$25)","v":"-57.0828842529623-93.3159467861006i"},{"$f":"COMPLEX(定数!R$15,計算!B53*定数!R$25)","v":"56.4766926529622-93.3159467861006i"},{"$f":"COMPLEX(定数!S$15,計算!B53*定数!S$25)","v":"-163.956966054068-198.080819786109i"},{"$f":"COMPLEX(定数!T$15,計算!B53*定数!T$25)","v":"162.670209254068-198.080819786109i"},{"$f":"COMPLEX(定数!U$15,計算!B53*定数!U$25)","v":"-101.548680976766-142.258083604711i"},{"$f":"COMPLEX(定数!V$15,計算!B53*定数!V$25)","v":"100.624555376766-142.258083604711i"},{"$f":"IMPRODUCT(定数!D$33,計算!G53)","v":"0"},{"$f":"COMPLEX(定数!O$16,計算!B53*定数!O$26)","v":"74.3664237452132+137.470364262881i"},{"$f":"COMPLEX(定数!P$16,計算!B53*定数!P$26)","v":"-73.4733997452132+137.470364262881i"},{"$f":"COMPLEX(定数!Q$16,計算!B53*定数!Q$26)","v":"-125.201328746793-196.692575759155i"},{"$f":"COMPLEX(定数!R$16,計算!B53*定数!R$26)","v":"123.923590146793-196.692575759155i"},{"$f":"COMPLEX(定数!S$16,計算!B53*定数!S$26)","v":"77.7704269443536+90.2889399571638i"},{"$f":"COMPLEX(定数!T$16,計算!B53*定数!T$26)","v":"-77.1838991443536+90.2889399571638i"},{"$f":"COMPLEX(定数!U$16,計算!B53*定数!U$26)","v":"124.65071095008+164.803695014054i"},{"$f":"COMPLEX(定数!V$16,計算!B53*定数!V$26)","v":"-123.58012635008+164.803695014054i"},{"$f":"IMPRODUCT(定数!D$34,計算!G53)","v":"0"},{"$f":"IMDIV(COMPLEX(定数!O$17,計算!B53*定数!O$27),計算!R53)","v":"0.25081144464466+0.544032002269164i"},{"$f":"IMPRODUCT(COMPLEX(定数!P$17,計算!B53*定数!P$27),計算!R53)","v":"0.622756672440298+0.72950988273797i"},{"$f":"IMDIV(COMPLEX(定数!Q$17,計算!B53*定数!Q$27),計算!S53)","v":"-0.781819241153394+0.315391987811264i"},{"$f":"IMPRODUCT(COMPLEX(定数!R$17,計算!B53*定数!R$27),計算!S53)","v":"1.10189556697572-0.921538027628022i"},{"$f":"IMDIV(COMPLEX(定数!S$17,計算!B53*定数!S$27),計算!T53)","v":"0.273589592267264+0.271612947884916i"},{"$f":"IMPRODUCT(COMPLEX(定数!T$17,計算!B53*定数!T$27),計算!T53)","v":"0.0990685611916451+0.724747907291754i"},{"$f":"IMDIV(COMPLEX(定数!U$17,計算!B53*定数!U$27),計算!U53)","v":"-0.635547570430839-0.294498909374588i"},{"$f":"IMPRODUCT(COMPLEX(定数!V$17,計算!B53*定数!V$27),計算!U53)","v":"0.174613832853959-1.26078445116038i"},{"$f":"IMPRODUCT(定数!E$31,計算!G53)","v":"0"},{"$f":"IMDIV(COMPLEX(定数!O$18,計算!B53*定数!O$28),計算!R53)","v":"0.329281904228691+0.66350717736564i"},{"$f":"IMPRODUCT(COMPLEX(定数!P$18,計算!B53*定数!P$28),計算!R53)","v":"0.74339431722794+0.891260123122146i"},{"$f":"IMDIV(COMPLEX(定数!Q$18,計算!B53*定数!Q$28),計算!S53)","v":"-0.368474029181208+0.159151307095977i"},{"$f":"IMPRODUCT(COMPLEX(定数!R$18,計算!B53*定数!R$28),計算!S53)","v":"0.520334870605776-0.427712568091669i"},{"$f":"IMDIV(COMPLEX(定数!S$18,計算!B53*定数!S$28),計算!T53)","v":"-0.618057581940893-0.573935038000354i"},{"$f":"IMPRODUCT(COMPLEX(定数!T$18,計算!B53*定数!T$28),計算!T53)","v":"-0.199346383675356-1.5678601925706i"},{"$f":"IMDIV(COMPLEX(定数!U$18,計算!B53*定数!U$28),計算!U53)","v":"0.559555670107981+0.230963596116145i"},{"$f":"IMPRODUCT(COMPLEX(定数!V$18,計算!B53*定数!V$28),計算!U53)","v":"-0.161759981673364+1.06488871589539i"},{"$f":"IMPRODUCT(定数!E$32,計算!G53)","v":"0"},{"$f":"IMDIV(COMPLEX(定数!O$19,計算!B53*定数!O$29),計算!R53)","v":"0.329286040753439+0.663498146865655i"},{"$f":"IMPRODUCT(COMPLEX(定数!P$19,計算!B53*定数!P$29),計算!R53)","v":"0.743378246733903+0.891248558775875i"},{"$f":"IMDIV(COMPLEX(定数!Q$19,計算!B53*定数!Q$29),計算!S53)","v":"0.368469206338125-0.159164215410955i"},{"$f":"IMPRODUCT(COMPLEX(定数!R$19,計算!B53*定数!R$29),計算!S53)","v":"-0.520329496628962+0.427697529928901i"},{"$f":"IMDIV(COMPLEX(定数!S$19,計算!B53*定数!S$29),計算!T53)","v":"0.617997919725792+0.573890178950483i"},{"$f":"IMPRODUCT(COMPLEX(定数!T$19,計算!B53*定数!T$29),計算!T53)","v":"0.199333634540315+1.56772728469125i"},{"$f":"IMDIV(COMPLEX(定数!U$19,計算!B53*定数!U$29),計算!U53)","v":"0.559660382312386+0.231020048970204i"},{"$f":"IMPRODUCT(COMPLEX(定数!V$19,計算!B53*定数!V$29),計算!U53)","v":"-0.161786507648929+1.06510907565479i"},{"$f":"IMPRODUCT(定数!E$33,計算!G53)","v":"0"},{"$f":"IMDIV(COMPLEX(定数!O$20,計算!B53*定数!O$30),計算!R53)","v":"0.250810365545214+0.544020461167891i"},{"$f":"IMPRODUCT(COMPLEX(定数!P$20,計算!B53*定数!P$30),計算!R53)","v":"0.622740535321754+0.729494686251891i"},{"$f":"IMDIV(COMPLEX(定数!Q$20,計算!B53*定数!Q$30),計算!S53)","v":"0.781861281097295-0.315404505591876i"},{"$f":"IMPRODUCT(COMPLEX(定数!R$20,計算!B53*定数!R$30),計算!S53)","v":"-1.10195439144691+0.921590373393756i"},{"$f":"IMDIV(COMPLEX(定数!S$20,計算!B53*定数!S$30),計算!T53)","v":"-0.273499783418362-0.271554881896347i"},{"$f":"IMPRODUCT(COMPLEX(定数!T$20,計算!B53*定数!T$30),計算!T53)","v":"-0.0990552156259646-0.724564410339095i"},{"$f":"IMDIV(COMPLEX(定数!U$20,計算!B53*定数!U$30),計算!U53)","v":"-0.635533929104415-0.294515960656189i"},{"$f":"IMPRODUCT(COMPLEX(定数!V$20,計算!B53*定数!V$30),計算!U53)","v":"0.174603463638434-1.26079464290189i"},{"$f":"IMPRODUCT(定数!E$34,計算!G53)","v":"0"},"0.549929480281156+0.831969346731174i","1.48791130144203-0.105763114422448i","0.729567569595999+1.29605884800191i","-0.74502519832871+0.162796244296589i","-0.273212291136561-0.709364581569547i","1.30686114712822-0.199725555768531i","0.551218490079116+1.19710338592727i","0.0000474220396752769-0.0000397748069521454i","7.94261994446479+4.26343031117i","-89.0174164074954-148.736785048107i","99.4182046951454-141.553142683222i","255.668083089427+309.831372296778i","-258.878762832835+305.361980586829i","-247.885526727475-345.62165384683i","255.168712369113-338.463598237037i","-0.0197964724039793-0.00813802028226675i","7.94544031688289+4.26494422746299i","-203.182252287447-335.366522843041i","212.374707726885-328.180329613611i","-72.2609731954132-86.348753737582i","66.4748049728716-90.819732499374i","-247.90428149139-345.647721038744i","255.190681265027-338.487123650096i","-0.0108015771917525-0.00457679587463858i","0.00144064489910534+0.000773307694998948i","-250.391264950353-393.371059775495i","247.837941056404-393.369756795145i","155.554945548209+180.601250868947i","-154.382685552843+180.60044020365i","0.00777620248099709+0.00189239036200206i","-0.00603563574999555+0.00319072974599521i","-0.00899446469755115-0.00356121492006181i","0.937446014567023+0.221663212720052i","-1.21254294307665-0.467552777192749i","1.6240091610166-1.64351252531783i","0.549016805303335+0.636099337057913i","-0.218323703023825+1.05130089256654i","-1.07198039670112-0.955379740759767i","0.687624479011576-1.86091217961934i","-0.0000335327581449977-0.0000158231304040986i","1.1143301236738+0.252425515159102i","-0.928590881363267-0.79326264098008i","1.14004581996322-1.33855461235433i","-0.2647177893979-0.133211328914256i","-0.580051011431594-1.15300095624537i","-0.00328939673665296-0.570382143497127i","0.451020432878774+0.304966808954501i","-0.0000420060894177649-0.0000183677395163334i","1.11430426528369+0.252415475489202i","-0.191652845532052-1.11156428941229i","0.099366730794765-0.483143287153336i","0.971339323952474+1.01460648667585i","-0.181363457149676+1.98258698807703i","-0.00318828677409599-0.570313062863794i","0.450980816332175+0.305187194644685i","-0.0000420059263938121-0.0000183671467421315i","0.93742086903459+0.221655260803459i","0.351140405401112-1.09833221258979i","-0.579854968076491+0.199625694293535i","0.00192474681348798+0.092923084538722i","-0.416439587816192-0.398015343709961i","-1.07196304008869-0.955381924948256i","0.687600888724207-1.86091471789883i","-0.0000335322479268258-0.0000158226260225083i","2.3547019488506+19.0515180120497i","-16.3803812832186+9.86733915754817i","-9.39173094353004-43.4284606287348i","40.9624607244767-16.8694955231036i","7.31780129369505+46.469191549889i","-42.0597788304807+20.7759806820328i","0.00154863566326254+0.00179149446102511i","-16.5041422326636-9.86733915779592i","2.2906025286443-19.0515180120309i","41.2445772213652+16.8694955237275i","-9.28214467479811+43.4284606285882i","-42.3616482806457-20.7759806826716i","7.1828380281452-46.4691915497823i","-0.00236188651201889+0.000243209202772489i","-114.133226377933-186.576922333905i","112.921200276022-186.576922334954i","-328.019842348703-396.290145131695i","325.445493964654-396.290145128663i","0.0692677648220013+0.0966608004919749i","-0.0686398485530049+0.0966607975589682i","0.0090019248101747+0.0035641141655736i","-250.375118831331-393.344081663482i","247.819908426075-393.344081663462i","155.508572069119+180.545053167328i","-154.335729715678+180.545053167273i","0.0527380692611444+0.0645817895446663i","-0.0523185381221696+0.0645817895986423i","-0.00899087398224735-0.00355973883314474i","12.0719733180657+12.4409061811451i","-4.74632774015885+15.7085147909485i","-34.3762011586113-24.3205475035848i","18.1096779354194-37.6030264329363i","34.0345073289495+27.9109996029369i","-16.3464086951818+40.1092752851093i","0.00223451887265635+0.000279724724085073i","14.9717038037345+14.3682772283972i","-6.22153082781831+19.3129192868479i","-41.9665015273043-29.3425820148067i","20.7257739587324-47.2035927081456i","41.9571837441023+33.2740798702995i","-19.2830419713339+50.273855186086i","0.002651307407925+0.000306817339023296i","15.7083141338454+14.0495547303197i","-7.26195941474106+20.1678609673573i","-40.7295472597526-28.1939138992799i","21.1237854842873-44.0669749634149i","41.9563980340259+33.2731864205542i","-19.282429315909+50.2729460666157i","0.00265124405462602+0.000306800508235019i","13.6353201253577+11.8097473866887i","-6.94998277474957+17.5511921646759i","-34.9223902450683-24.8629715902192i","17.9109833066603-39.0513244482878i","34.0336246882266+27.9101381393585i","-16.3458821500473+40.1081613715954i","0.00223445805800133+0.000279712562567015i","-0.588119748136801-0.948830285096431i","-21.2346034252896-86.9987211956416i","81.3467646549931-36.7383251072285i","7.31983148628179+46.4794293780567i","-42.0687706841795+20.7812165494966i","0.00213882842142569+0.00240285377371877i","1.11593881794399+0.0859890186290002i","82.9644214444713+34.3328747994585i","-18.4421139030354+87.5714931305817i","-42.3709880378614-20.7806787796956i","7.18423596936635-46.479520132386i","-0.0032083056781237+0.000333231986192224i","0.458279796347346+0.885565856431439i","2.32823471164543-0.333861777567727i","0.769157532267241+2.21480727383673i","-0.000542263165935328+0.0000395414398286985i","-0.000213234817527247-0.000498330796169444i","-0.0000353782239496246+0.0000266061520641822i","14.229678343981+8.641220512703i","869.763168964488+1012.75171548478i","-832.939154363163+1037.62125072685i","-0.0985845266848386-0.138814024784226i","0.0903082384843704-0.144062496188529i","-0.0283140734579607-0.0108140353587807i","0.738572523216351-0.683428550353399i","-66.6361315279797-49.2555266481314i","36.3786382316205-73.909137444809i","34.0415454467632+27.9172685049032i","-16.3500342168364+40.1179439555436i","0.00299260848988854+0.000398673131282687i","-0.35870446875663-0.530201576436198i","-81.6211605916915-57.7968241593734i","41.0331401251727-91.4144998503114i","41.9658704899758+33.2812792550733i","-19.2870096378361+50.2843798641355i","0.00356326426684003+0.000416802040517768i","-2.01895644972393-0.181512772257399i","-81.9927988039016-55.6601692262546i","40.1586733598995-89.6641842125943i","41.9654716138026+33.2801838472241i","-19.2860810822056+50.2837698575438i","0.00358078089951319+0.000385911007359744i","-2.74046544619744+0.0640495928614015i","-70.6114391204693-47.8065231769148i","33.5795885415788-78.3344867996674i","34.041485594502+27.916002970175i","-16.3488597858662+40.1174745208585i","0.00303106340183088+0.000334737049702711i","-0.00734874928269846-0.0362824838966986i","0.033964570524688-0.0144107123008013i","7.31815520847137+46.4681364897869i","-42.0589958439519+20.7753481556249i","0.00077477461181479+0.00089627661402251i","0.0342002657848042+0.0144107125989024i","-0.00725513587539695+0.0362824838303055i","-42.3608584404356-20.7753481560133i","7.18319605161711-46.468136489722i","-0.00118164057966336+0.000121677042861658i","-10.5750968093713-79.2432830149556i","75.7165908424386-24.8789659411606i","0.000171308385503537+0.0102121272977846i","-0.00932318666963889+0.00405329293747196i","0.0010754259275888+0.00146241703401214i","76.2313647277636+24.8789659421663i","-10.4134800590476+79.2432830148041i","-0.00938952565299516-0.00405329352588001i","0.000144978332653868-0.0102121272468553i","-0.00179086658745586+0.000327571545862032i","-139.941518551336-15.5317562116941i","-10.0873735617573-139.552918509889i","34.0512504289351+27.9138450862244i","-16.343162034529+40.1255854344634i","0.00409142159740416-0.00106719156761981i","-67.4674963670652-8.4546381453313i","-4.7171352837447-68.5108236574488i","41.9646514877817+33.2748469792692i","-19.2815431474953+50.2807935961971i","0.00274719346896099-0.000415216870000015i","67.3991566054144+8.4063458698453i","4.75064264781911+68.4343734930787i","41.9472502949703+33.2702961052859i","-19.2839347457386+50.2631783327924i","-0.0000943591672279598+0.000722198533591671i","139.89146947185+15.4908354506326i","10.1173062791918+139.4959713037i","34.0154943120937+27.9054964546193i","-16.3491165603475+40.0894792532031i","-0.00185576377569599+0.00134713982809072i","-0.000163422538996601-0.0006792474234419i","7.3224093287829+46.4573700655722i","-42.0476377890364+20.7762177124757i","0.000774178894355283+0.000895337994247886i","0.00065235298805899+0.000260791434676305i","-42.3543450573481-20.7657427191117i","7.17605944820982-46.4592211008309i","-0.00118052668903202+0.000121713925323891i","0.190400117628101-0.238697356573002i","10.7271820685074-22.5716051745419i","24.3378897558367+3.52408718424753i","-0.0000721128342782201-0.00064638338631366i","0.135218919945599+0.259484722822208i","15.7425305208656+19.5070642909361i","-13.763140318504+20.4697368406955i","0.00061419233241585+0.000206678761203855i","0.180538150048973+0.977185651492365i","-0.262233058105112-0.170363344659169i","0.083928247715993-0.296046083722216i","-0.0000280448022381811+0.0000107386043437647i","-0.79842938537671-1.05616953534779i","25.7128040250723+19.5637730263733i","-11.1161518874086+31.0168884827951i","0.00076428986192903+0.000072181224769082i","0.797084164911511+1.0552186035672i","58.1894040465648+46.9570636367302i","-27.4292936303489+69.510904813455i","0.00188610927306419+0.000234179965168253i","-0.00101869490089967-0.000652205344010781i","68.0605916155802+55.8000842359522i","-32.6759636322803+80.2036822614619i","0.0022338147733093+0.00027933810308188i","7.31409885710774+46.4424842778572i","-42.0357192335097+20.7635600415817i","0.000773824447249994+0.000895141882072073i","-42.3372993991014-20.7639077917913i","7.17951657053959-46.4420828846665i","-0.00118015971183015+0.000121537100352125i","13.6303806957026-29.4337068341841i","31.9028056519451+4.23696372644019i","-0.0000996209484025345-0.000821273522443328i","20.6277037881211+24.7146643373475i","-17.3245304195921+26.8209939343066i","0.000778101449021498+0.000250472232922024i","10.4112303090029+21.6038899788236i","-17.805905288885+16.7773294285571i","0.000460505237790591+0.00031620441903169i","-23.4985199327713+6.58123053662825i","-13.6245603067943-20.8246881424653i","-0.000391599274949219+0.000427607006642776i","83.864339080449+66.5073443797067i","-38.5439706973359+100.486823472187i","0.00264946572254218+0.000306564031437928i","68.0323614794198+55.791462641665i","-32.676260929498+80.1735822467965i","0.00223313696554984+0.000279518301019303i","0.3157685729539-0.241527596951798i","8.85472811537299E-06+7.82903776598391E-06i","0.0115765017690102+0.428112233592302i","-0.0000109217840630099+0.000005032821100717i","-0.439767665228601+0.0260328981582303i","-1.57760082870459E-06-0.0000189729147602241i","0.1724175217071-0.412114900131101i","0.000016653295328713-0.000001869509535316i","-0.216101323369902+0.2823218368816i","-0.0000437493358248591-0.000004478274239628i","-0.233196123767801-0.2636924824441i","0.000019514490355103-0.000020438359192842i","0.301196782023177+0.959347277356274i","0.0000211744791685545-0.0000131366246817879i","0.355998504468801-1.89728752263851i","0.0000596756394447497-8.12126349895598E-06i"]
[{"$f":"COMPLEX(定数!O$13,計算!B54*定数!O$23)","v":"74.3688188913563+140.278646502752i"},{"$f":"COMPLEX(定数!P$13,計算!B54*定数!P$23)","v":"-73.4757772913563+140.278646502752i"},{"$f":"COMPLEX(定数!Q$13,計算!B54*定数!Q$23)","v":"125.193786513619+200.696185623386i"},{"$f":"COMPLEX(定数!R$13,計算!B54*定数!R$23)","v":"-123.916114913619+200.696185623386i"},{"$f":"COMPLEX(定数!S$13,計算!B54*定数!S$23)","v":"-77.7867441135484-92.1570811174183i"},{"$f":"COMPLEX(定数!T$13,計算!B54*定数!T$23)","v":"77.2000539135484-92.1570811174183i"},{"$f":"COMPLEX(定数!U$13,計算!B54*定数!U$23)","v":"124.646605989444+168.168229534216i"},{"$f":"COMPLEX(定数!V$13,計算!B54*定数!V$23)","v":"-123.576013789444+168.168229534216i"},{"$f":"IMPRODUCT(定数!D$31,計算!G54)","v":"-9.43242372693819E-32+3.95194737974167E-45i"},{"$f":"COMPLEX(定数!O$14,計算!B54*定数!O$24)","v":"86.1948356167649+172.251671642143i"},{"$f":"COMPLEX(定数!P$14,計算!B54*定数!P$24)","v":"-85.0982474167649+172.251671642143i"},{"$f":"COMPLEX(定数!Q$14,計算!B54*定数!Q$24)","v":"57.0863694248256+95.2206994285573i"},{"$f":"COMPLEX(定数!R$14,計算!B54*定数!R$24)","v":"-56.4801756248256+95.2206994285573i"},{"$f":"COMPLEX(定数!S$14,計算!B54*定数!S$24)","v":"163.969671876329+202.141192552921i"},{"$f":"COMPLEX(定数!T$14,計算!B54*定数!T$24)","v":"-162.682801076329+202.141192552921i"},{"$f":"COMPLEX(定数!U$14,計算!B54*定数!U$24)","v":"-101.525845343051-145.132784124184i"},{"$f":"COMPLEX(定数!V$14,計算!B54*定数!V$24)","v":"100.601901343051-145.132784124184i"},{"$f":"IMPRODUCT(定数!D$32,計算!G54)","v":"9.43242372693819E-32-3.95194737974167E-45i"},{"$f":"COMPLEX(定数!O$15,計算!B54*定数!O$25)","v":"86.1919999827348+172.249755288718i"},{"$f":"COMPLEX(定数!P$15,計算!B54*定数!P$25)","v":"-85.0954239827348+172.249755288718i"},{"$f":"COMPLEX(定数!Q$15,計算!B54*定数!Q$25)","v":"-57.0828842529623-95.220353863368i"},{"$f":"COMPLEX(定数!R$15,計算!B54*定数!R$25)","v":"56.4766926529622-95.220353863368i"},{"$f":"COMPLEX(定数!S$15,計算!B54*定数!S$25)","v":"-163.956966054068-202.12328549603i"},{"$f":"COMPLEX(定数!T$15,計算!B54*定数!T$25)","v":"162.670209254068-202.12328549603i"},{"$f":"COMPLEX(定数!U$15,計算!B54*定数!U$25)","v":"-101.548680976766-145.161309800725i"},{"$f":"COMPLEX(定数!V$15,計算!B54*定数!V$25)","v":"100.624555376766-145.161309800725i"},{"$f":"IMPRODUCT(定数!D$33,計算!G54)","v":"0"},{"$f":"COMPLEX(定数!O$16,計算!B54*定数!O$26)","v":"74.3664237452132+140.275881900899i"},{"$f":"COMPLEX(定数!P$16,計算!B54*定数!P$26)","v":"-73.4733997452132+140.275881900899i"},{"$f":"COMPLEX(定数!Q$16,計算!B54*定数!Q$26)","v":"-125.201328746793-200.706709958322i"},{"$f":"COMPLEX(定数!R$16,計算!B54*定数!R$26)","v":"123.923590146793-200.706709958322i"},{"$f":"COMPLEX(定数!S$16,計算!B54*定数!S$26)","v":"77.7704269443536+92.1315713848611i"},{"$f":"COMPLEX(定数!T$16,計算!B54*定数!T$26)","v":"-77.1838991443536+92.1315713848611i"},{"$f":"COMPLEX(定数!U$16,計算!B54*定数!U$26)","v":"124.65071095008+168.167035728627i"},{"$f":"COMPLEX(定数!V$16,計算!B54*定数!V$26)","v":"-123.58012635008+168.167035728627i"},{"$f":"IMPRODUCT(定数!D$34,計算!G54)","v":"0"},{"$f":"IMDIV(COMPLEX(定数!O$17,計算!B54*定数!O$27),計算!R54)","v":"0.536605572750754+0.291559447685412i"},{"$f":"IMPRODUCT(COMPLEX(定数!P$17,計算!B54*定数!P$27),計算!R54)","v":"0.0496766374929482+0.965203618804201i"},{"$f":"IMDIV(COMPLEX(定数!Q$17,計算!B54*定数!Q$27),計算!S54)","v":"-0.468164378017864+0.721350177953923i"},{"$f":"IMPRODUCT(COMPLEX(定数!R$17,計算!B54*定数!R$27),計算!S54)","v":"1.44263360989859-0.10499988924783i"},{"$f":"IMDIV(COMPLEX(定数!S$17,計算!B54*定数!S$27),計算!T54)","v":"0.386616336555103+0.0723010756284453i"},{"$f":"IMPRODUCT(COMPLEX(定数!T$17,計算!B54*定数!T$27),計算!T54)","v":"-0.332008560744266+0.656444364211849i"},{"$f":"IMDIV(COMPLEX(定数!U$17,計算!B54*定数!U$27),計算!U54)","v":"-0.704949681058795+0.11800271977481i"},{"$f":"IMPRODUCT(COMPLEX(定数!V$17,計算!B54*定数!V$27),計算!U54)","v":"0.870131334732221-0.939769788844394i"},{"$f":"IMPRODUCT(定数!E$31,計算!G54)","v":"0"},{"$f":"IMDIV(COMPLEX(定数!O$18,計算!B54*定数!O$28),計算!R54)","v":"0.673209464503307+0.341584585063995i"},{"$f":"IMPRODUCT(COMPLEX(定数!P$18,計算!B54*定数!P$28),計算!R54)","v":"0.0467011797748135+1.1687691742787i"},{"$f":"IMDIV(COMPLEX(定数!Q$18,計算!B54*定数!Q$28),計算!S54)","v":"-0.21462707155914+0.34860128209423i"},{"$f":"IMPRODUCT(COMPLEX(定数!R$18,計算!B54*定数!R$28),計算!S54)","v":"0.676965912507675-0.0434621302625027i"},{"$f":"IMDIV(COMPLEX(定数!S$18,計算!B54*定数!S$28),計算!T54)","v":"-0.850651425348497-0.130444048141798i"},{"$f":"IMPRODUCT(COMPLEX(定数!T$18,計算!B54*定数!T$28),計算!T54)","v":"0.730872448055347-1.41172834621591i"},{"$f":"IMDIV(COMPLEX(定数!U$18,計算!B54*定数!U$28),計算!U54)","v":"0.604421548337364-0.127230243339582i"},{"$f":"IMPRODUCT(COMPLEX(定数!V$18,計算!B54*定数!V$28),計算!U54)","v":"-0.746976853542875+0.785650088409198i"},{"$f":"IMPRODUCT(定数!E$32,計算!G54)","v":"0"},{"$f":"IMDIV(COMPLEX(定数!O$19,計算!B54*定数!O$29),計算!R54)","v":"0.67320721412641+0.341574775953553i"},{"$f":"IMPRODUCT(COMPLEX(定数!P$19,計算!B54*定数!P$29),計算!R54)","v":"0.0466954208462476+1.16875016239552i"},{"$f":"IMDIV(COMPLEX(定数!Q$19,計算!B54*定数!Q$29),計算!S54)","v":"0.214615671690392-0.348609028858042i"},{"$f":"IMPRODUCT(COMPLEX(定数!R$19,計算!B54*定数!R$29),計算!S54)","v":"-0.676952834717691+0.04345296062121i"},{"$f":"IMDIV(COMPLEX(定数!S$19,計算!B54*定数!S$29),計算!T54)","v":"0.850575356820698+0.130440200582496i"},{"$f":"IMPRODUCT(COMPLEX(定数!T$19,計算!B54*定数!T$29),計算!T54)","v":"-0.730806990385618+1.41161099354794i"},{"$f":"IMDIV(COMPLEX(定数!U$19,計算!B54*定数!U$29),計算!U54)","v":"0.604542242488259-0.12724314996213i"},{"$f":"IMPRODUCT(COMPLEX(定数!V$19,計算!B54*定数!V$29),計算!U54)","v":"-0.747125566754909+0.785816607236944i"},{"$f":"IMPRODUCT(定数!E$33,計算!G54)","v":"0"},{"$f":"IMDIV(COMPLEX(定数!O$20,計算!B54*定数!O$30),計算!R54)","v":"0.536597591182599+0.291550722895973i"},{"$f":"IMPRODUCT(COMPLEX(定数!P$20,計算!B54*定数!P$30),計算!R54)","v":"0.0496730646532229+0.965181617883603i"},{"$f":"IMDIV(COMPLEX(定数!Q$20,計算!B54*定数!Q$30),計算!S54)","v":"0.468192097266687-0.721385319456351i"},{"$f":"IMPRODUCT(COMPLEX(定数!R$20,計算!B54*定数!R$30),計算!S54)","v":"-1.44271242947597+0.105008080832329i"},{"$f":"IMDIV(COMPLEX(定数!S$20,計算!B54*定数!S$30),計算!T54)","v":"-0.386507256182417-0.0723031292921767i"},{"$f":"IMPRODUCT(COMPLEX(定数!T$20,計算!B54*定数!T$30),計算!T54)","v":"0.331914596190442-0.656284722878687i"},{"$f":"IMDIV(COMPLEX(定数!U$20,計算!B54*定数!U$30),計算!U54)","v":"-0.704947950047033+0.117980928618723i"},{"$f":"IMPRODUCT(COMPLEX(定数!V$20,計算!B54*定数!V$30),計算!U54)","v":"0.870128431116578-0.939784071005865i"},{"$f":"IMPRODUCT(定数!E$34,計算!G54)","v":"0"},"0.563842018529468+0.822705701316037i","1.48614268655201-0.104585484508726i","0.751240805954691+1.28162775188976i","-0.74230285166491+0.160983573327394i","-0.285074581390234-0.701466091102879i","1.30352125312286-0.197501691708816i","0.571236951948333+1.18377411924688i","-2.78266977579045E-34+5.24882814640761E-34i","8.01391480347169+4.21595872245101i","-89.0264796817134-151.755133983643i","99.5292692832764-144.651478598951i","255.682033766011+316.128146976977i","-258.93955118763+311.70852015342i","-247.90264202793-352.642873144783i","255.271297058623-345.564519616912i","2.08721355897486E-31+2.68976412476801E-33i","8.0167604922287+4.21745578189299i","-203.191318779974-342.193635867099i","212.485811753327-335.087458020717i","-72.2470175650351-88.137297096087i","66.4139950325287-92.5584933003i","-247.921402869377-352.669460856424i","255.293302381691-345.588593851388i","1.14395323703813E-31+2.69071924246742E-33i","0.00145357647269861+0.000764697224013844i","-250.391266594264-401.399037486402i","247.837961201474-401.397749014217i","155.554948078605+184.286985909625i","-154.382696578731+184.286184270761i","0.00777309807999416+0.00193686626701606i","-0.00601702877798971+0.00322074916300608i","9.43221196873018E-32+4.87873643208626E-37i","-0.013016511917655+0.359341687239919i","-1.29612971162372+0.344172390897325i","1.41318428642481-1.01175983756679i","0.831876465153029+0.202341802506363i","-0.383555017812678+1.11597116529263i","-1.46200993383512-0.156070708433235i","0.908742931347496-1.74153910831794i","3.02354154417649E-34-2.00523677085298E-34i","-0.0518590179700519+0.422316167710879i","-1.25083718307795-0.088634212816591i","0.609007775653649-1.16287834178996i","-0.295936612982728+0.014739498242417i","0.683177350670731-0.842117652060838i","-0.340584829857949-0.439533001595864i","-0.727179984736072-0.206403589706361i","3.66623841411229E-34-2.58304368497945E-34i","-0.0518715780526511+0.422304538014234i","-0.821590069556688-0.785830181387876i","-0.744921852624927-1.07595299775673i","1.40528691961963+0.275616827909772i","-0.778495848537127+1.98121731281187i","-0.340459264977035-0.43953356628772i","-0.727339024220741-0.206228803614335i","3.66618066572153E-34-2.58305916865301E-34i","-0.013022762347895+0.359331172203836i","-0.359760462103702-1.09855097498711i","-1.47216693880233-0.801735083669529i","0.058745543126926+0.0577324060510233i","0.280371983923772-0.196766007813019i","-1.46199607551896-0.156082703014072i","0.908734258918584-1.74153895818347i","3.02347353918765E-34-2.00521915518127E-34i","2.35529259200537+19.2547684828639i","-16.3809719263735+10.2542694453015i","-9.3934389754824-43.778161681373i","40.9641687564292-17.7503650041852i","7.31945364818057+46.8984399276793i","-42.0614311849662+21.7190827579647i","-2.04708402521767E-32-1.04687199689594E-32i","-16.5035515895083-10.2542694455444i","2.29001188548931-19.2547684828456i","41.2428691894119+17.7503650047972i","-9.28043664284562+43.7781616812291i","-42.3599959261593-21.7190827585914i","7.18118567365969-46.8984399275746i","2.05374861935678E-32-1.04687199686572E-32i","-114.133226377946-190.38461462645i","112.921200276014-190.384614627491i","-328.019842348676-404.377699113926i","325.445493964671-404.377699110917i","0.0692677647919879+0.0986334698409905i","-0.0686398485729853+0.0986334669299822i","-9.4400147783306E-32-1.20582998676517E-42i","-250.375118831337-401.371511901504i","247.819908426067-401.371511901495i","155.508572069129+184.229646089093i","-154.335729715661+184.229646089062i","0.0527380692482465+0.0658997852674703i","-0.0523185381424981+0.0658997852982221i","9.42842614794635E-32+8.47491702107118E-45i","-5.19573487154686+6.14111164407751i","-5.4760487406159-2.08528649572663i","7.74716087342353-14.3868925610045i","15.2269645508195+5.02065789011269i","-9.81796116941546+14.7829349995812i","-15.8503476122431-4.93249258691065i","-3.19216690856461E-33-7.71676483578311E-33i","-6.43723893644501+6.3493061046371i","-7.4038344926607-3.12852077004325i","9.33914420574273-16.4822744654724i","18.6901284906834+5.34745325895204i","-11.7096524166077+16.3234478391173i","-20.1607401696717-5.67124144199808i","-2.98943199101851E-33-9.47451436915862E-33i","-6.00807985485193+5.65178941029603i","-8.75751143108442-3.04181063534905i","11.0406793208284-16.2206945476969i","17.2278296016847+8.17123015248861i","-11.7098063104306+16.3226818470496i","-20.1602635982416-5.67157218917439i","-2.98905806529712E-33-9.47440856077921E-33i","-4.25936095231154+4.69815064915678i","-8.36118318769813-1.87535801285896i","6.97410109134569-14.530957339784i","15.8903732168844+3.7080967652265i","-9.8179837023599+14.782341834503i","-15.8498182603838-4.93271006177683i","-3.19193526197053E-33-7.71661255581143E-33i","-0.605027866382201-0.939989887569901i","-21.231636908811-87.7142119362797i","81.3078852263045-38.4881742017041i","7.32148344454451+46.9087752480251i","-42.0704138827756+21.7245223110332i","-2.80090831512588E-32-1.38199572304877E-32i","1.11747113886287+0.0851878457326016i","82.9604358435392+36.1051358439677i","-18.4348736462218+88.2816472671147i","-42.369335256208-21.7239895517105i","7.18258239386147-46.9088651567833i","2.78864982932985E-32-1.42461851213161E-32i","0.474060544970074+0.877314903305905i","2.32228530794077-0.330751136098081i","0.80862531050481+2.19417157422666i","-0.000541558538779582+0.0000391730261564532i","-0.000222115052735517-0.000493687771741507i","2.18664586341674E-34-3.64752441712715E-34i","14.383664552585+8.56070893371299i","869.705115563894+1033.51695619977i","-832.55403362665+1058.15477816154i","-0.0985776509869895-0.141658433146755i","0.0902215864857909-0.146858003749673i","2.95433672268962E-31-3.55920031855822E-33i","2.37473293232425-0.43824959200583i","17.7819599763885-30.3668011180982i","32.903019878212+11.4551333424421i","-9.82053439807332+14.7864643036877i","-15.8545334548917-4.93369362434526i","-4.29602915914446E-33-1.0954765454002E-32i","1.21814737690229-0.49099062710507i","22.18820940401-33.3562988394538i","37.8269097953184+14.3376503294525i","-11.7128898367858+16.3271385261828i","-20.1653045521204-5.67300915168452i","-3.89776070664607E-33-1.32108813820422E-32i","-0.950918740870391-0.4501230063365i","23.1238191282434-31.3329412965629i","34.4871107074388+16.7838082188801i","-11.7128386396833+16.3259779765334i","-20.1643883025357-5.67328295722746i","-3.73680775657972E-33-1.29017165513341E-32i","-2.22023063093951-0.36576502792758i","15.3116337873468-26.850192040842i","29.6431488953137+9.2548219636867i","-9.8201063548751+14.7850530101615i","-15.8530837480916-4.93376932621522i","-3.97422578206756E-33-1.02975440315716E-32i","-0.00735015588080046-0.0365810481827964i","0.0339659771303076-0.0151467030582992i","7.31980753578227+46.8973718725558i","-42.0606481712631+21.7184287860346i","-1.02414616185617E-32-5.23745642420164E-33i","0.0341988591954987+0.0151467033496999i","-0.00725372928139834+0.0365810481151101i","-42.3592061131253-21.7184287864152i","7.18154372430642-46.8973718724923i","1.02748043018058E-32-5.23745642404823E-33i","-10.5785930295763-79.7621229011889i","75.7200870626761-26.4850699112137i","0.000171704467116091+0.0102961057316512i","-0.00932358275358311+0.00426044553506986i","-1.49996059910188E-32-9.20964046207078E-33i","76.2278685075697+26.485069912219i","-10.4099838388484+79.7621229010372i","-0.00938912956622093-0.00426044611686981i","0.000144582250947687-0.0102961056812467i","1.5058236383365E-32-9.20964046174076E-33i","-174.845940812696-59.8549365806383i","22.6682335063901-182.520777832908i","-9.79637058411408+14.7924669431861i","-15.8503645350104-4.90917975999682i","-3.60191978265663E-32+1.75149369966968E-32i","-83.672489750461-28.1918483186827i","11.3453495597949-87.9355749517935i","-11.6993606541226+16.3277184028308i","-20.160425383225-5.66039598902654i","-1.77190647120945E-32+5.4012709136053E-33i","83.6887885767749+28.1641253754794i","-11.3147045690763+87.9453324756269i","-11.7198492141338+16.3177003752492i","-20.1596163025209-5.68300863728028i","1.47278224767355E-32-1.48812776320757E-32i","174.867770042976+59.8342598943721i","-22.6436112017437+182.53752238779i","-9.83939406574296+14.7721596219534i","-15.8489967867673-4.95657617229706i","3.28270962848987E-32-2.52372936333667E-32i","-0.000170225826303001-0.0005307006642256i","7.32338386524677+46.8975753293418i","-42.0598917179258+21.7216923946496i","-1.02347426792126E-32-5.23295691565288E-33i","0.00053045728536461+0.000180000789218697i","-42.3614417374296-21.7156187930938i","7.17843438339506-46.8986407593357i","1.02672336451635E-32-5.23455924536259E-33i","0.178360380857896+0.0771244376607996i","7.66609236851568+0.96000435099955i","1.15113314909883+7.134719802931i","-1.1868216448215E-33+1.43356322755862E-33i","-0.147354767016299+0.108748903024107i","-4.31655987490189+6.43538631841233i","-6.91119656338227-2.18556213897951i","-7.04702249713402E-34-1.6335707644159E-33i","0.203823234806247+0.974120132547865i","0.0242273329680723-0.0928965942589881i","0.0897474963486346-0.00264604908796474i","1.53700845281937E-34-1.52789885880484E-34i","0.937500064061901-0.682364425983593i","-7.05327268999896+9.237842368045i","-12.5764319003327-3.35164970017625i","-5.51103023233E-34-3.04992833006192E-33i","-0.937182629954+0.681895514929792i","-16.3637566883431+23.4097621684658i","-27.7449992079998-7.98922373389216i","-2.4384085701793E-33-6.42332705279195E-33i","0.0000314239511993719-0.000305348731984623i","-19.6343727201528+29.5671553672506i","-31.7012657290157-9.86384249025383i","-3.1922975242784E-33-7.7158433269098E-33i","7.32022993159383+46.8929643544272i","-42.0564673519103+21.7164569896183i","-1.02332675683911E-32-5.2327490054395E-33i","-42.3558308723982-21.7154076266421i","7.18061419601486-46.8927430517322i","1.02661832614904E-32-5.23349224679072E-33i","9.60019035826294+1.19048355806057i","1.73931371515604+9.23509859215368i","-1.57994920067164E-33+1.77301241003048E-33i","-5.42090115110133+7.90174629994003i","-8.90098433417024-2.70179546649222i","-7.94923475097318E-34-2.11469434106845E-33i","4.7698238433354+8.68158200865265i","-6.96363227276791+8.65988579221642i","-2.42751250965822E-33-7.95820627098043E-34i","-9.60636196385349+2.86165601863079i","-7.06817720223169-8.71970327565507i","1.1636083171236E-33-2.40631813815982E-33i","-23.4153218535412+32.6421916199737i","-40.315098662556-11.3414198492583i","-2.98875261320644E-33-9.47194590660017E-33i","-19.6349446533399+29.5641321522669i","-31.6983810686217-9.86572674166977i","-3.19159932325713E-33-7.7154124045619E-33i","1.2965729199663-2.1302379738459i","1.312757257757E-34+2.6933708059907E-34i","0.95881300274453+2.3374508525765i","-3.09166525926201E-34-7.056829936497E-35i","-0.50733901119872-0.596494662141771i","7.86110474442903E-35+4.97175763406297E-35i","0.770233431667672-0.19870035189273i","-3.4778270049574E-35+1.2926042223729E-34i","-0.15147201599398+0.89866129445859i","-2.53750859286026E-36-4.52887723359387E-34i","-0.848178138817531-0.3227979475783i","3.05999137172977E-34-8.117752593158E-35i","0.355549495905567+0.980013632463585i","-1.4822403979352E-34+1.9788702568155E-34i","4.2560661461836-1.13472559235275i","-2.5161196242897E-34+5.5220349290788E-34i"]
[{"$f":"COMPLEX(定数!O$13,計算!B55*定数!O$23)","v":"74.3688188913563+143.084219432807i"},{"$f":"COMPLEX(定数!P$13,計算!B55*定数!P$23)","v":"-73.4757772913563+143.084219432807i"},{"$f":"COMPLEX(定数!Q$13,計算!B55*定数!Q$23)","v":"125.193786513619+204.710109335854i"},{"$f":"COMPLEX(定数!R$13,計算!B55*定数!R$23)","v":"-123.916114913619+204.710109335854i"},{"$f":"COMPLEX(定数!S$13,計算!B55*定数!S$23)","v":"-77.7867441135484-94.0002227397666i"},{"$f":"COMPLEX(定数!T$13,計算!B55*定数!T$23)","v":"77.2000539135484-94.0002227397666i"},{"$f":"COMPLEX(定数!U$13,計算!B55*定数!U$23)","v":"124.646605989444+171.531594124901i"},{"$f":"COMPLEX(定数!V$13,計算!B55*定数!V$23)","v":"-123.576013789444+171.531594124901i"},{"$f":"IMPRODUCT(定数!D$31,計算!G55)","v":"0.00830305312885127-0.00328741129224744i"},{"$f":"COMPLEX(定数!O$14,計算!B55*定数!O$24)","v":"86.1948356167649+175.696705074985i"},{"$f":"COMPLEX(定数!P$14,計算!B55*定数!P$24)","v":"-85.0982474167649+175.696705074985i"},{"$f":"COMPLEX(定数!Q$14,計算!B55*定数!Q$24)","v":"57.0863694248256+97.1251134171284i"},{"$f":"COMPLEX(定数!R$14,計算!B55*定数!R$24)","v":"-56.4801756248256+97.1251134171284i"},{"$f":"COMPLEX(定数!S$14,計算!B55*定数!S$24)","v":"163.969671876329+206.18401640398i"},{"$f":"COMPLEX(定数!T$14,計算!B55*定数!T$24)","v":"-162.682801076329+206.18401640398i"},{"$f":"COMPLEX(定数!U$14,計算!B55*定数!U$24)","v":"-101.525845343051-148.035439806668i"},{"$f":"COMPLEX(定数!V$14,計算!B55*定数!V$24)","v":"100.601901343051-148.035439806668i"},{"$f":"IMPRODUCT(定数!D$32,計算!G55)","v":"-0.00830305312885127+0.00328741129224744i"},{"$f":"COMPLEX(定数!O$15,計算!B55*定数!O$25)","v":"86.1919999827348+175.694750394493i"},{"$f":"COMPLEX(定数!P$15,計算!B55*定数!P$25)","v":"-85.0954239827348+175.694750394493i"},{"$f":"COMPLEX(定数!Q$15,計算!B55*定数!Q$25)","v":"-57.0828842529623-97.1247609406354i"},{"$f":"COMPLEX(定数!R$15,計算!B55*定数!R$25)","v":"56.4766926529622-97.1247609406354i"},{"$f":"COMPLEX(定数!S$15,計算!B55*定数!S$25)","v":"-163.956966054068-206.16575120595i"},{"$f":"COMPLEX(定数!T$15,計算!B55*定数!T$25)","v":"162.670209254068-206.16575120595i"},{"$f":"COMPLEX(定数!U$15,計算!B55*定数!U$25)","v":"-101.548680976766-148.06453599674i"},{"$f":"COMPLEX(定数!V$15,計算!B55*定数!V$25)","v":"100.624555376766-148.06453599674i"},{"$f":"IMPRODUCT(定数!D$33,計算!G55)","v":"0"},{"$f":"COMPLEX(定数!O$16,計算!B55*定数!O$26)","v":"74.3664237452132+143.081399538917i"},{"$f":"COMPLEX(定数!P$16,計算!B55*定数!P$26)","v":"-73.4733997452132+143.081399538917i"},{"$f":"COMPLEX(定数!Q$16,計算!B55*定数!Q$26)","v":"-125.201328746793-204.720844157488i"},{"$f":"COMPLEX(定数!R$16,計算!B55*定数!R$26)","v":"123.923590146793-204.720844157488i"},{"$f":"COMPLEX(定数!S$16,計算!B55*定数!S$26)","v":"77.7704269443536+93.9742028125583i"},{"$f":"COMPLEX(定数!T$16,計算!B55*定数!T$26)","v":"-77.1838991443536+93.9742028125583i"},{"$f":"COMPLEX(定数!U$16,計算!B55*定数!U$26)","v":"124.65071095008+171.530376443199i"},{"$f":"COMPLEX(定数!V$16,計算!B55*定数!V$26)","v":"-123.58012635008+171.530376443199i"},{"$f":"IMPRODUCT(定数!D$34,計算!G55)","v":"0"},{"$f":"IMDIV(COMPLEX(定数!O$17,計算!B55*定数!O$27),計算!R55)","v":"0.615943429764175-0.0890266481516256i"},{"$f":"IMPRODUCT(COMPLEX(定数!P$17,計算!B55*定数!P$27),計算!R55)","v":"-0.552805442777679+0.801780229869561i"},{"$f":"IMDIV(COMPLEX(定数!Q$17,計算!B55*定数!Q$27),計算!S55)","v":"0.0316444258010269+0.876307684329768i"},{"$f":"IMPRODUCT(COMPLEX(定数!R$17,計算!B55*定数!R$27),計算!S55)","v":"1.24096120411547+0.762643142139254i"},{"$f":"IMDIV(COMPLEX(定数!S$17,計算!B55*定数!S$27),計算!T55)","v":"0.367562654822758-0.160607700886573i"},{"$f":"IMPRODUCT(COMPLEX(定数!T$17,計算!B55*定数!T$27),計算!T55)","v":"-0.649776460969996+0.353747000069809i"},{"$f":"IMDIV(COMPLEX(定数!U$17,計算!B55*定数!U$27),計算!U55)","v":"-0.525601361795196+0.505231560742047i"},{"$f":"IMPRODUCT(COMPLEX(定数!V$17,計算!B55*定数!V$27),計算!U55)","v":"1.25919555728101-0.274516613382371i"},{"$f":"IMPRODUCT(定数!E$31,計算!G55)","v":"0"},{"$f":"IMDIV(COMPLEX(定数!O$18,計算!B55*定数!O$28),計算!R55)","v":"0.757872170238276-0.131042707226245i"},{"$f":"IMPRODUCT(COMPLEX(定数!P$18,計算!B55*定数!P$28),計算!R55)","v":"-0.680343450970164+0.962801421554399i"},{"$f":"IMDIV(COMPLEX(定数!Q$18,計算!B55*定数!Q$28),計算!S55)","v":"0.0248010951206233+0.41664006321482i"},{"$f":"IMPRODUCT(COMPLEX(定数!R$18,計算!B55*定数!R$28),計算!S55)","v":"0.578989145423566+0.362711697932436i"},{"$f":"IMDIV(COMPLEX(定数!S$18,計算!B55*定数!S$28),計算!T55)","v":"-0.792630148284193+0.377065355336759i"},{"$f":"IMPRODUCT(COMPLEX(定数!T$18,計算!B55*定数!T$28),計算!T55)","v":"1.41164970321752-0.751141738464198i"},{"$f":"IMDIV(COMPLEX(定数!U$18,計算!B55*定数!U$28),計算!U55)","v":"0.435995613615199-0.454743167052461i"},{"$f":"IMPRODUCT(COMPLEX(定数!V$18,計算!B55*定数!V$28),計算!U55)","v":"-1.0691031174378+0.218196208923946i"},{"$f":"IMPRODUCT(定数!E$32,計算!G55)","v":"0"},{"$f":"IMDIV(COMPLEX(定数!O$19,計算!B55*定数!O$29),計算!R55)","v":"0.757864309738667-0.131049201103198i"},{"$f":"IMPRODUCT(COMPLEX(定数!P$19,計算!B55*定数!P$29),計算!R55)","v":"-0.680336453009816+0.962782758206381i"},{"$f":"IMDIV(COMPLEX(定数!Q$19,計算!B55*定数!Q$29),計算!S55)","v":"-0.0248148785811246-0.416639794447673i"},{"$f":"IMPRODUCT(COMPLEX(定数!R$19,計算!B55*定数!R$29),計算!S55)","v":"-0.578973170686068-0.362711624882242i"},{"$f":"IMDIV(COMPLEX(定数!S$19,計算!B55*定数!S$29),計算!T55)","v":"0.792563662885927-0.377025170024118i"},{"$f":"IMPRODUCT(COMPLEX(定数!T$19,計算!B55*定数!T$29),計算!T55)","v":"-1.41152838074527+0.751081979315669i"},{"$f":"IMDIV(COMPLEX(定数!U$19,計算!B55*定数!U$29),計算!U55)","v":"0.436089705174789-0.454823629995648i"},{"$f":"IMPRODUCT(COMPLEX(定数!V$19,計算!B55*定数!V$29),計算!U55)","v":"-1.06932164545966+0.218248011346059i"},{"$f":"IMPRODUCT(定数!E$33,計算!G55)","v":"0"},{"$f":"IMDIV(COMPLEX(定数!O$20,計算!B55*定数!O$30),計算!R55)","v":"0.61593157109009-0.0890288334568685i"},{"$f":"IMPRODUCT(COMPLEX(定数!P$20,計算!B55*定数!P$30),計算!R55)","v":"-0.552794828422526+0.801760488606059i"},{"$f":"IMDIV(COMPLEX(定数!Q$20,計算!B55*定数!Q$30),計算!S55)","v":"-0.031641947622115-0.876353269101586i"},{"$f":"IMPRODUCT(COMPLEX(定数!R$20,計算!B55*定数!R$30),計算!S55)","v":"-1.24103041663928-0.762682766440222i"},{"$f":"IMDIV(COMPLEX(定数!S$20,計算!B55*定数!S$30),計算!T55)","v":"-0.36747157260925+0.160543813206519i"},{"$f":"IMPRODUCT(COMPLEX(定数!T$20,計算!B55*定数!T$30),計算!T55)","v":"0.649607259977415-0.353668510727995i"},{"$f":"IMDIV(COMPLEX(定数!U$20,計算!B55*定数!U$30),計算!U55)","v":"-0.525612163468025+0.505212528815512i"},{"$f":"IMPRODUCT(COMPLEX(定数!V$20,計算!B55*定数!V$30),計算!U55)","v":"1.25920115126049-0.274530109974235i"},{"$f":"IMPRODUCT(定数!E$34,計算!G55)","v":"0"},"0.577176350228122+0.813504810043063i","1.48444757548244-0.103415832140743i","0.772013300335808+1.26729441546253i","-0.739693646014155+0.15918318182342i","-0.296443873616071-0.693621106893347i","1.30032016546286-0.195292892634328i","0.590423444441425+1.17053514819621i","0.000005657307408949-0.0000550887155130618i","8.0822466406555+4.168808717589i","-89.0351662853044-154.773523800145i","99.6357180154694-147.749313544775i","255.695404651012+322.424984583346i","-258.99781317202+318.05478552698i","-247.919046014701-359.664169643313i","255.369618317672-352.664978276468i","-0.0184695896134573+0.00704180379888589i","8.0851165936034+4.17028903437202i","-203.200008468122-349.020789786643i","212.592298284771-341.99408528003i","-72.2336419321199-89.925777506076i","66.3557123596877-94.297528391622i","-247.937812681097-359.691277902097i","255.391658553978-352.689601168051i","-0.0101664127617151+0.00375424735343049i","0.00146597060900433+0.000756145081993509i","-250.391268169854-409.427015204725i","247.837980509312-409.425741142422i","155.554950503837+187.972720961716i","-154.382707146381+187.971928288138i","0.00777012269999489+0.00198132816998964i","-0.00599919511199687+0.00325085250699431i","-0.00830288423444096+0.00328729529972955i","-0.980737030009316+0.352091362895182i","-0.87348454024544+1.07216137867246i","0.65262171005317+0.050791229815649i","0.809000551003634-0.32450798182336i","-0.4054330424884+0.754586959173398i","-1.30913875266284+0.741284080694927i","0.791319295111006-0.942936626973104i","1.41978236440803E-06+0.0000344351834906003i","-1.22437321677737+0.421903517148643i","-1.08666851990143+0.689542073382977i","-0.172167941009658-0.496568758154327i","-0.252896714559011+0.159493393971063i","1.72721025270534-0.264312412599147i","-0.523889142835886-0.13633864393644i","-1.66995870935929-0.591549117610249i","0.0000029314585747228+0.0000424915532600029i","-1.22436696472269+0.421894996467065i","-1.13627215353389-0.143728957359726i","-1.33013241836304-1.22197710604237i","1.3322902485335-0.594600683609996i","-1.09596565716428+1.23790392790224i","-0.523783561902129-0.136412197860179i","-1.67018019766911-0.591484280059863i","2.93186078332552E-06+0.0000424911569730344i","-0.980721348864263+0.352082530026593i","-0.936753084093427-0.680497557162471i","-1.82936352507259-1.47451796324767i","0.073957203921914-0.003356196485198i","0.89394867880157+0.047162575128597i","-1.30913370748804+0.741265574450103i","0.791329332753089-0.942934952314692i","1.41996983823162E-06+0.0000344345425744208i","2.3558488336678+19.4616204113618i","-16.3815281680379+10.6375982753734i","-9.39504752461275-44.1382774907852i","40.9657773055637-18.6208197284979i","7.3210097627289+47.3377635678482i","-42.0629872995193+22.652109571524i","0.00215979923865481+0.000189958460174594i","-16.5029953478467-10.6375982756124i","2.28945564382716-19.4616204113437i","41.2412606402844+18.6208197290998i","-9.27882809371672+44.1382774906438i","-42.3584398116134-22.6521095721402i","7.17962955911244-47.3377635677455i","-0.00145002918999054+0.00161919064199897i","-114.133226377928-194.192306918985i","112.921200276008-194.192306919998i","-328.019842348723-412.465253096175i","325.445493964692-412.465253093248i","0.0692677648399922+0.100606139215017i","-0.0686398485919995+0.100606136382964i","0.0083097352823728-0.00329005694386583i","-250.375118831334-409.398942139532i","247.819908426066-409.398942139521i","155.508572069121+187.914239010869i","-154.335729715657+187.914239010834i","0.0527380692573472+0.0672177809791623i","-0.0523185381435167+0.0672177810116471i","-0.00829953419122548+0.00328601804627876i","-20.8039896587419-3.54996303670767i","-3.95429281626041-19.8420381294975i","47.8120618218405+3.41692778927969i","6.03518292843937+47.3096253646613i","-50.8272413410387-6.56043778114695i","-8.83456982549538-49.8967198322375i","-0.000850574498925186+0.00213297815848511i","-25.7805341469016-5.37217656536976i","-5.57994587066562-25.2907849333778i","58.097987575438+5.55849342894061i","8.98855616586257+57.6921825893894i","-61.943433051974-9.99980017012239i","-12.8513815139816-61.5797499349112i","-0.00108930321840155+0.0026367576234053i","-25.8299439633172-6.20552170603483i","-6.73775883555036-26.0160520984284i","59.6827580338383+4.80463433662621i","6.16506217952566+59.1940439130267i","-61.9428696323456-10.0000930245963i","-12.851244539718-61.5793279637374i","-0.00108930754713903+0.00263673474861289i","-20.8669054562184-5.30260093161026i","-6.43614205073659-21.3670219196073i","47.0762072893148+3.73815185747836i","7.33432028477378+46.6014268832155i","-50.8263719839179-6.56047522290831i","-8.83425424442094-49.8959124305177i","-0.000850565875431464+0.00213293931888832i","-0.6212917147563-0.931117513638i","-21.2287147938695-88.4504945269113i","81.2704186309946-40.2171635281998i","7.32303917074798+47.3481985692468i","-42.0719611830947+22.6577506047676i","0.00293718103802607+0.00021631776052272i","1.11894507196028+0.0843837749316023i","82.9566707457895+37.856618186253i","-18.4279779085396+89.0125739507321i","-42.367778738004-22.6572228740404i","7.18102511204262-47.3482876293771i","-0.00196775965097325+0.00220131246065908i","0.489239981208898+0.869034105840563i","2.31656260134772-0.327629243196566i","0.846589201672246+2.17346123368493i","-0.000540880761128275+0.0000388032801413522i","-0.00023065691423978-0.000489027953307034i","-6.10033847412128E-06+0.0000392058989932088i","14.531783243983+8.479906138079i","869.64927424043+1054.28230670467i","-832.183587597537+1078.68757726137i","-0.0985710374251408-0.144502854573942i","0.0901382363049893-0.14965334759638i","-0.025877760735044+0.0106047275475943i","3.13881174008029-0.0258777291252983i","97.168877927199+4.82464400892067i","15.9319088839328+95.5316507671313i","-50.83863156901-6.56155062481744i","-8.83763237839579-49.9077123882406i","-0.00111666536970242+0.00292696129960697i","2.36431751301614-0.2583379310407i","119.580290965348+9.55701985636024i","19.1378604826303+118.273200811089i","-61.9575857049779-10.0017055077833i","-12.8547008279248-61.5935964664295i","-0.00145719421453686+0.0036147345457682i","0.50647245661165-0.532960519503298i","121.552550594354+10.7174688501667i","14.5449529558121+120.587953452623i","-61.9570813466936-10.0024471853482i","-12.8541677213085-61.5933908748558i","-0.00149017200528982+0.00361156513982363i","-0.83535867667971-0.638725014663699i","97.1529872052459+9.18535042304314i","13.4750195537675+96.4439616487532i","-50.8378642499329-6.56253359335806i","-8.83647422036242-49.9073400121531i","-0.00118575429814789+0.00291869744602964i","-0.00735148055100154-0.0368881891907051i","0.0339673017983984-0.0158741170764998i","7.32136362473722+47.3366823520091i","-42.0622042602218+22.6514343197603i","0.00108053726765417+0.000095035882216972i","0.0341975345248926+0.0158741173626993i","-0.00725240461130028+0.0368881891256052i","-42.3576500241692-22.6514343201365i","7.17998763535181-47.3366823519464i","-0.00072544230742+0.00081007377928992i","-10.581885615511-80.3022810555174i","75.7233796486041-28.0698556131427i","0.000172077484536121+0.0103824992808064i","-0.00932395577392895+0.00446518303260375i","0.00163514940239869+0.000271989181463186i","76.2245759216295+28.0698556141258i","-10.4066912529117+80.3022810553693i","-0.00938875655823898-0.00446518359910638i","0.000144209234604501-0.0103824992319881i","-0.00101074384200098+0.00131957242517664i","-142.812099978422-81.3088294066653i","46.5185128866685-156.791393302023i","-50.8090464808886-6.54777821381399i","-8.83781634853163-49.8751199459523i","0.00202172173000418-0.00124108387578205i","-67.890317232353-37.1173321219033i","22.9974577187484-74.275331710521i","-61.9342341771291-9.9935738679454i","-12.8523595909731-61.5690116869511i","0.00059162954210078+0.00023373287827523i","67.986777542658+37.1255497026563i","-22.9822899886962+74.3707043185287i","-61.9499464335244-10.0051895294143i","-12.8487072971294-61.5880555671354i","-0.00168153809387085+0.00240455148884982i","142.89892913887+81.3202912367268i","-46.5093759244984+156.878154862412i","-50.8428552047272-6.57226045689088i","-8.82972219195284-49.9159210129267i","-0.00287293185308476+0.00337542634560491i","-0.000122091729196701-0.000410204302749099i","7.32784935809059+47.3464507273553i","-42.0695042838427+22.6604407232178i","0.00108001951410266+0.0000948723392503618i","0.00040171322982554+0.000156104693362101i","-42.3693910999359-22.6519651821006i","7.17701861991253-47.3479173348408i","-0.000725003677533216+0.000809751583598395i","0.2882031839153+0.339164269281302i","12.5554572362513+21.9168920465248i","-16.9683135947333+18.324938185836i","0.00054575086716132-0.000152611670409574i","-0.433417501524991+0.0814542605532012i","-25.314213055429+0.921236671605699i","-8.35175280973492-23.6127462088892i","-0.000125564758276016+0.000550558243667957i","0.226061720380901+0.969179638595805i","0.288395808653115-0.118346746501964i","0.196895197824261+0.237135382087266i","-6.95446628228175E-06+0.0000126497921997888i","2.3714970979525-0.0866106356878049i","-37.9622357437281-7.32368901903806i","-8.28691488394461-38.1615909191804i","-0.000350037918337653+0.000834400048912206i","-2.370171039652+0.0866381945728989i","-85.950736140065-12.6660285302769i","-17.4311958968859-85.0199684896345i","-0.000739095852767912+0.00180272126422023i","0.000616785096703154+0.0000174250239979301i","-101.678299321855-13.1130682658136i","-17.6819167797567-99.8138880043156i","-0.00085046128284342+0.00213332380989701i","7.32741591193838+47.3394914207799i","-42.06321429136+22.6572723606989i","0.00107985802246287+0.0000948488517204623i","-42.3635869881415-22.648013752533i","7.17565616796223-47.340957326568i","-0.000724885296546449+0.000809637607526308i","15.8862861741447+28.3578148140308i","-21.6254241247653+23.9777227266605i","0.000709280556147404-0.000197980895502795i","-32.4929440865881+0.624469024799849i","-10.929261848221-30.3967041468835i","-0.000166832216178761+0.000713569812961979i","0.321943971807875+16.0953510558306i","-14.8454553397667+6.71218295389997i","0.000364598773067296+0.0000897336625768901i","-15.8737502117332-3.66794655710767i","-2.90281368650422-16.1977872505165i","-0.000160238274730038+0.00034599313268599i","-123.892023450083-19.984416175479i","-25.7147078736043-123.160000200273i","-0.00108891175062631+0.00263666692205512i","-101.668572543352-13.1105293305633i","-17.6804086143679-99.8038468689418i","-0.000850356421325005+0.00213311319864499i","-0.369040810047998-1.1779945972672i","-5.73651546373994E-06+0.000009826426704503i","1.16214770119651+0.4430947094164i","-2.66112923088895E-06-9.38371211711296E-06i","-0.771894443842498-1.0643539279929i","-1.04352174547099E-06+5.44704753031701E-06i","1.3066994488725-0.199082745518499i","-0.000011019397647469-8.56619105082598E-06i","0.108386611081+0.63930069584771i","6.82349348689001E-06+0.0000128309893928154i","-0.64493092098837-0.0207265423736018i","0.000003780130679487+0.000013949689257564i","0.358579440368744+0.936250746430891i","5.22047527716387E-06-0.0000221240641350258i","6.5011083594723+0.0845963336260951i","-0.000029539960144375-0.0000477656265799099i"]
[{"$f":"COMPLEX(定数!O$13,計算!B56*定数!O$23)","v":"74.3688188913563+145.889792362862i"},{"$f":"COMPLEX(定数!P$13,計算!B56*定数!P$23)","v":"-73.4757772913563+145.889792362862i"},{"$f":"COMPLEX(定数!Q$13,計算!B56*定数!Q$23)","v":"125.193786513619+208.724033048322i"},{"$f":"COMPLEX(定数!R$13,計算!B56*定数!R$23)","v":"-123.916114913619+208.724033048322i"},{"$f":"COMPLEX(定数!S$13,計算!B56*定数!S$23)","v":"-77.7867441135484-95.843364362115i"},{"$f":"COMPLEX(定数!T$13,計算!B56*定数!T$23)","v":"77.2000539135484-95.843364362115i"},{"$f":"COMPLEX(定数!U$13,計算!B56*定数!U$23)","v":"124.646605989444+174.894958715585i"},{"$f":"COMPLEX(定数!V$13,計算!B56*定数!V$23)","v":"-123.576013789444+174.894958715585i"},{"$f":"IMPRODUCT(定数!D$31,計算!G56)","v":"0.0237744375024463-0.0223256828554482i"},{"$f":"COMPLEX(定数!O$14,計算!B56*定数!O$24)","v":"86.1948356167649+179.141738507828i"},{"$f":"COMPLEX(定数!P$14,計算!B56*定数!P$24)","v":"-85.0982474167649+179.141738507828i"},{"$f":"COMPLEX(定数!Q$14,計算!B56*定数!Q$24)","v":"57.0863694248256+99.0295274056996i"},{"$f":"COMPLEX(定数!R$14,計算!B56*定数!R$24)","v":"-56.4801756248256+99.0295274056996i"},{"$f":"COMPLEX(定数!S$14,計算!B56*定数!S$24)","v":"163.969671876329+210.226840255038i"},{"$f":"COMPLEX(定数!T$14,計算!B56*定数!T$24)","v":"-162.682801076329+210.226840255038i"},{"$f":"COMPLEX(定数!U$14,計算!B56*定数!U$24)","v":"-101.525845343051-150.938095489152i"},{"$f":"COMPLEX(定数!V$14,計算!B56*定数!V$24)","v":"100.601901343051-150.938095489152i"},{"$f":"IMPRODUCT(定数!D$32,計算!G56)","v":"-0.0237744375024463+0.0223256828554482i"},{"$f":"COMPLEX(定数!O$15,計算!B56*定数!O$25)","v":"86.1919999827348+179.139745500267i"},{"$f":"COMPLEX(定数!P$15,計算!B56*定数!P$25)","v":"-85.0954239827348+179.139745500267i"},{"$f":"COMPLEX(定数!Q$15,計算!B56*定数!Q$25)","v":"-57.0828842529623-99.0291680179027i"},{"$f":"COMPLEX(定数!R$15,計算!B56*定数!R$25)","v":"56.4766926529622-99.0291680179027i"},{"$f":"COMPLEX(定数!S$15,計算!B56*定数!S$25)","v":"-163.956966054068-210.208216915871i"},{"$f":"COMPLEX(定数!T$15,計算!B56*定数!T$25)","v":"162.670209254068-210.208216915871i"},{"$f":"COMPLEX(定数!U$15,計算!B56*定数!U$25)","v":"-101.548680976766-150.967762192754i"},{"$f":"COMPLEX(定数!V$15,計算!B56*定数!V$25)","v":"100.624555376766-150.967762192754i"},{"$f":"IMPRODUCT(定数!D$33,計算!G56)","v":"0"},{"$f":"COMPLEX(定数!O$16,計算!B56*定数!O$26)","v":"74.3664237452132+145.886917176935i"},{"$f":"COMPLEX(定数!P$16,計算!B56*定数!P$26)","v":"-73.4733997452132+145.886917176935i"},{"$f":"COMPLEX(定数!Q$16,計算!B56*定数!Q$26)","v":"-125.201328746793-208.734978356654i"},{"$f":"COMPLEX(定数!R$16,計算!B56*定数!R$26)","v":"123.923590146793-208.734978356654i"},{"$f":"COMPLEX(定数!S$16,計算!B56*定数!S$26)","v":"77.7704269443536+95.8168342402555i"},{"$f":"COMPLEX(定数!T$16,計算!B56*定数!T$26)","v":"-77.1838991443536+95.8168342402555i"},{"$f":"COMPLEX(定数!U$16,計算!B56*定数!U$26)","v":"124.65071095008+174.893717157772i"},{"$f":"COMPLEX(定数!V$16,計算!B56*定数!V$26)","v":"-123.58012635008+174.893717157772i"},{"$f":"IMPRODUCT(定数!D$34,計算!G56)","v":"0"},{"$f":"IMDIV(COMPLEX(定数!O$17,計算!B56*定数!O$27),計算!R56)","v":"0.448504593238246-0.448106719017775i"},{"$f":"IMPRODUCT(COMPLEX(定数!P$17,計算!B56*定数!P$27),計算!R56)","v":"-0.933910916791729+0.301495842600615i"},{"$f":"IMDIV(COMPLEX(定数!Q$17,計算!B56*定数!Q$27),計算!S56)","v":"0.539470387003206+0.712644948780121i"},{"$f":"IMPRODUCT(COMPLEX(定数!R$17,計算!B56*定数!R$27),計算!S56)","v":"0.566019354913412+1.35322058675247i"},{"$f":"IMDIV(COMPLEX(定数!S$17,計算!B56*定数!S$27),計算!T56)","v":"0.21793648877362-0.346007297675993i"},{"$f":"IMPRODUCT(COMPLEX(定数!T$17,計算!B56*定数!T$27),計算!T56)","v":"-0.73996201087295-0.0782485535555412i"},{"$f":"IMDIV(COMPLEX(定数!U$17,計算!B56*定数!U$27),計算!U56)","v":"-0.151583791930807+0.727725055431117i"},{"$f":"IMPRODUCT(COMPLEX(定数!V$17,計算!B56*定数!V$27),計算!U56)","v":"1.19732432490627+0.498390373376591i"},{"$f":"IMPRODUCT(定数!E$31,計算!G56)","v":"0"},{"$f":"IMDIV(COMPLEX(定数!O$18,計算!B56*定数!O$28),計算!R56)","v":"0.538892137246938-0.568522495902912i"},{"$f":"IMPRODUCT(COMPLEX(定数!P$18,計算!B56*定数!P$28),計算!R56)","v":"-1.13493474781976+0.351933307903427i"},{"$f":"IMDIV(COMPLEX(定数!Q$18,計算!B56*定数!Q$28),計算!S56)","v":"0.264454862798149+0.333189259861291i"},{"$f":"IMPRODUCT(COMPLEX(定数!R$18,計算!B56*定数!R$28),計算!S56)","v":"0.260046916464578+0.637111629404359i"},{"$f":"IMDIV(COMPLEX(定数!S$18,計算!B56*定数!S$28),計算!T56)","v":"-0.452879689874971+0.771847523803418i"},{"$f":"IMPRODUCT(COMPLEX(定数!T$18,計算!B56*定数!T$28),計算!T56)","v":"1.59791228330228+0.184534305935996i"},{"$f":"IMDIV(COMPLEX(定数!U$18,計算!B56*定数!U$28),計算!U56)","v":"0.105717508412342-0.633547377525477i"},{"$f":"IMPRODUCT(COMPLEX(定数!V$18,計算!B56*定数!V$28),計算!U56)","v":"-1.00821398746335-0.435626634710252i"},{"$f":"IMPRODUCT(定数!E$32,計算!G56)","v":"0"},{"$f":"IMDIV(COMPLEX(定数!O$19,計算!B56*定数!O$29),計算!R56)","v":"0.538881815020835-0.568522866793198i"},{"$f":"IMPRODUCT(COMPLEX(定数!P$19,計算!B56*定数!P$29),計算!R56)","v":"-1.13491779437161+0.351922696559335i"},{"$f":"IMDIV(COMPLEX(定数!Q$19,計算!B56*定数!Q$29),計算!S56)","v":"-0.264465957119573-0.333181070818029i"},{"$f":"IMPRODUCT(COMPLEX(定数!R$19,計算!B56*定数!R$29),計算!S56)","v":"-0.260033918620033-0.637102337365301i"},{"$f":"IMDIV(COMPLEX(定数!S$19,計算!B56*定数!S$29),計算!T56)","v":"0.452846462426405-0.771775623319208i"},{"$f":"IMPRODUCT(COMPLEX(定数!T$19,計算!B56*定数!T$29),計算!T56)","v":"-1.59777762087231-0.184514433757067i"},{"$f":"IMDIV(COMPLEX(定数!U$19,計算!B56*定数!U$29),計算!U56)","v":"0.105750252063699-0.633669283092692i"},{"$f":"IMPRODUCT(COMPLEX(定数!V$19,計算!B56*定数!V$29),計算!U56)","v":"-1.00842411563216-0.435709639211066i"},{"$f":"IMPRODUCT(定数!E$33,計算!G56)","v":"0"},{"$f":"IMDIV(COMPLEX(定数!O$20,計算!B56*定数!O$30),計算!R56)","v":"0.448493608156176-0.448101203726896i"},{"$f":"IMPRODUCT(COMPLEX(定数!P$20,計算!B56*定数!P$30),計算!R56)","v":"-0.933890365356541+0.301486584777806i"},{"$f":"IMDIV(COMPLEX(定数!Q$20,計算!B56*定数!Q$30),計算!S56)","v":"-0.539495083001904-0.712684403208208i"},{"$f":"IMPRODUCT(COMPLEX(定数!R$20,計算!B56*定数!R$30),計算!S56)","v":"-0.566052629846145-1.35329363241617i"},{"$f":"IMDIV(COMPLEX(定数!S$20,計算!B56*定数!S$30),計算!T56)","v":"-0.217895883172538+0.34590140596881i"},{"$f":"IMPRODUCT(COMPLEX(定数!T$20,計算!B56*定数!T$30),計算!T56)","v":"0.739776904912412+0.0782167793639495i"},{"$f":"IMDIV(COMPLEX(定数!U$20,計算!B56*定数!U$30),計算!U56)","v":"-0.151603431446011+0.727715347709037i"},{"$f":"IMPRODUCT(COMPLEX(定数!V$20,計算!B56*定数!V$30),計算!U56)","v":"1.19733654084034+0.498382293672708i"},{"$f":"IMPRODUCT(定数!E$34,計算!G56)","v":"0"},"0.589960417963756+0.804377296501278i","1.48282241606519-0.10225550782963i","0.791928582271765+1.25307538836427i","-0.73719211368923+0.157397148563653i","-0.307343992587612-0.685838686964322i","1.29725117615032-0.19310170888209i","0.608818173565014+1.15740175883649i","-0.0000555300106539873-0.000191268616918747i","8.14775864791679+4.12203473720999i","-89.0434944213684-157.791961418312i","99.7377739589894-150.846562711976i","255.708223763615+328.721895768595i","-259.053670876154+324.400730289627i","-247.934773062953-366.685556411637i","255.463882182102-359.764895882215i","-0.0532522299191408+0.0487597924973191i","8.1506518637507+4.123498444858i","-203.208339561452-355.847991524826i","212.69439046769-348.900126552713i","-72.2208182675332-91.714184311059i","66.2998348208472-96.036884207703i","-247.953545313921-366.713185249613i","255.485955890892-359.79006723878i","-0.0294775686796827+0.0264334566023408i","0.00147785327989425+0.00074766114397562i","-250.391269680424-417.454992931719i","247.837999020379-417.453733164377i","155.554952828988+191.658456027153i","-154.382717277939+191.657672247362i","0.00776727010300249+0.00202577369898904i","-0.00598209738498667+0.00328105399097467i","-0.0237740205721015+0.022325065080053i","-1.5589577452648+0.205094157667323i","-0.0797608974436329+1.4229697014746i","-0.350675752713964+1.1460790380955i","0.478039818036639-0.746941381120453i","-0.294787894702183+0.0916303396401868i","-0.646876729814064+1.39563902711356i","0.40562707287782+0.252105882551013i","0.000110614217219409+0.0000609014823492042i","-1.91016636660189+0.253866476743619i","-0.476491921621768+1.23131184998304i","-0.879118717130152+0.412068369407199i","-0.145096475916804+0.267917137582833i","2.15345226643756+0.379395407994158i","-0.483578284952645+0.208030091557997i","-1.99431025090672-0.713214514596779i","0.000138665197601216+0.0000715030935050892i","-1.91014362178464+0.253864387174442i","-1.00539739758567+0.564941013763677i","-1.39919184250237-0.86213236911636i","0.76062200854382-1.27570465826823i","-1.04224055584031+0.010339474928197i","-0.483532079161787+0.207906673889141i","-1.99451452398575-0.7132853463302i","0.000138664695347563+0.0000715010985916375i","-1.55892627669124+0.205090482191819i","-1.15871064249168-0.00236895199581899i","-1.48273212699779-1.56042578365365i","0.042200216065669-0.055026882626115i","1.18494386228434+0.248089833656933i","-0.646883183930726+1.39562004343578i","0.405652360136856+0.252107159191119i","0.000110612552315627+0.0000608996875119112i","2.35637329445002+19.6718660291561i","-16.3820526288211+11.0175334161464i","-9.39656416925111-44.5082072288065i","40.9672939502046-19.481460524196i","7.32247696863627+47.7865812276895i","-42.0644545054296+23.575642365405i","0.00754286187236953-0.00230869733084977i","-16.5024708870636-11.0175334163821i","2.28893118304496-19.6718660291381i","41.239743995644+19.4814605247895i","-9.27731144907858+44.5082072286671i","-42.3569726057037-23.5756423660128i","7.17816235320503-47.7865812275881i","-0.002793292677034+0.00739759786068998i","-114.133226377938-197.999999211534i","112.921200276002-197.999999212537i","-328.019842348698-420.5528070784i","325.445493964701-420.552807075502i","0.0692677648129916+0.10257880856102i","-0.0686398486039934+0.102578805755968i","0.0237935707586257-0.0223436501783872i","-250.375118831335-417.426372377561i","247.819908426063-417.426372377551i","155.508572069124+191.598831932646i","-154.335729715652+191.598831932618i","0.0527380692533994+0.0685357766889393i","-0.0523185381495866+0.0685357767164588i","-0.0237643615988778+0.0223162209521896i","-28.0660474384427-12.3683389856962i","-0.816913549518407-29.9909752847859i","68.7645918692443+21.1658018358679i","-5.6293511626309+71.3807671036877i","-71.5148337519683-26.6706236210703i","1.79533024550171-75.7173542033528i","-0.00272680693443439+0.0121663319723407i","-34.7959391667396-15.6245857832395i","-1.50090667560117-37.7455513826989i","83.5753652170828+27.0113592943351i","-4.26861428076639+87.7526742651719i","-87.3775080118727-34.0723536260983i","-0.41423696167715-93.8158295365267i","-0.00331898642088498+0.0149112690910736i","-35.3244462751207-16.2907405107292i","-2.02099075656994-39.0192999053447i","84.4801050032434+25.4673805695227i","-7.46418909526873+87.3825866154825i","-87.3764491415451-34.0720293279144i","-0.41450464737989-93.8147984719363i","-0.00331893884799965+0.0149110930023704i","-29.1444373795976-13.7933915875333i","-1.94896964973983-32.6968526480614i","68.3273829077249+21.8572548562576i","-4.149491050712+71.5357918893802i","-71.5134206408807-26.6700563949274i","1.79530528463944-75.7158227680063i","-0.00272674788809181+0.0121660871189722i","-0.6369383943456-0.922230629984201i","-21.2258419837112-89.2063635944625i","81.2343122094864-41.926535559036i","7.32450599655969+47.7971179720324i","-42.0734199027614+23.5814828094041i","0.0102006493249301-0.00327973759047041i","1.1203630733077+0.0835783891677977i","82.9531101047477+39.5885200175716i","-18.421405426855+89.7630783523104i","-42.3663111502296-23.5809601155053i","7.17955678964352-47.7972061821446i","-0.00378521471684464+0.010052210793023i","0.503843399152622+0.86073976610698i","2.31105705589527-0.324502244806721i","0.883112466486417+2.15271702382181i","-0.000540228703020376+0.0000384329292202537i","-0.000238874635067425-0.000484360514070671i","0.0000327090343412671+0.000139024032774328i","14.674281234138+8.39897119899803i","869.595551942942+1075.04770702806i","-831.82719898704+1099.22004586907i","-0.0985646746856796-0.147347281846534i","0.0900580490210654-0.152448616920401i","-0.0736071309131117+0.0707779932275216i","2.67805798696531+0.3982937793517i","137.640382598338+40.6422435218391i","-7.46940867565017+142.721659563812i","-71.5304711878717-26.6762266923844i","1.79461671369138-75.7339027709796i","-0.00352828998945816+0.0164727434958962i","2.58209527829275+0.0770415685324011i","169.060979105715+51.8293081443666i","-7.17519842525956+176.456751358146i","-87.3969062755586-34.0794571659441i","-0.414980896545322-93.8364156327361i","-0.00435303777775784+0.020259805991156i","1.75491015095649-0.406162206999603i","171.40329767825+51.6533492597713i","-11.3380846460903+177.812679502334i","-87.3961585222182-34.0794724315883i","-0.41505217014445-93.8357996835879i","-0.00442831476438217+0.0203548943698679i","0.86274209711196-0.6613671313211i","140.157827087595+44.2771344560446i","-8.10494395878011+146.456634452228i","-71.5296954229291-26.676387874876i","1.79502439203626-75.7332340740596i","-0.00369107440912001+0.0166690328555419i","-0.00735272954579713-0.0372034121478038i","0.0339685507866108-0.0165934491647945i","7.32283080651561+47.7854866950054i","-42.0636714420024+23.5749459899431i","0.00377365859368321-0.00115502836631778i","0.0341962855449935+0.0165934494316957i","-0.00725115562210021+0.0372034120828033i","-42.3561828423906-23.5749459903138i","7.17852045357371-47.7854866949435i","-0.00139746916765452+0.00370098382707648i","-10.5849900794789-80.8625276253583i","75.7264841125523-29.6345528995529i","0.000172429184229502+0.0104711686022232i","-0.00932430747608059+0.0046676447426549i","0.00587720950289066-0.00131878032667248i","76.2214714576562+29.6345529005053i","-10.4035867889406+80.862527625215i","-0.00938840485311638-0.00466764530322154i","0.000143857534419222-0.0104711685538152i","-0.00169887396921036+0.00579563560277116i","-54.681879742946-69.0793454981229i","52.5990417533371-69.689194488117i","-71.5071875893584-26.6599871243488i","1.79006085357482-75.7059176719623i","0.0033297586206061+0.0016283462141934i","-25.467030011413-30.5621526912903i","25.9176298635139-31.536490769156i","-87.3730241224322-34.06668156361i","-0.416159065655446-93.8093891608652i","0.00048012153403441+0.0054258065818621i","25.605028286853+30.6056526236163i","-25.9240272676453+31.680665169937i","-87.3777868941223-34.0750943487i","-0.411051634262211-93.8173652941068i","-0.00380091173800617+0.0094940562185713i","54.7990357174667+69.1205340627105i","-52.6091496018648+69.8125374410245i","-71.5185086236534-26.6785700831639i","1.80182556679335-75.7241050134974i","-0.00605842721098174+0.0105453146380176i","0.000124120760240695-0.000253611368699599i","7.34496772803139+47.8097567274736i","-42.0792446181799+23.6035813183367i","0.00377270386744167-0.00115630665645829i","0.00012545726144973+0.000264600650012298i","-42.3889661573219-23.5719024500057i","7.16502596423693-47.8152400137821i","-0.00139587007856458+0.00370099245051213i","0.8175393988151+0.705092446144199i","44.1165417388069+55.1826365661059i","-37.4257596993114+59.2802526332271i","0.00400687461966149-0.00419518505363764i","-1.01181072479905+0.363436747279692i","-69.7838608004387+12.2265853340158i","-34.1160192636492-61.4686102528036i","0.00173188455607702+0.00553588408948855i","0.249659044436428+0.959054651143863i","0.741014494801061-0.448572896477557i","0.661142627275973+0.549260885690441i","-0.0000379489982573742+0.000018162245928708i","2.9649295532462+0.517900650937701i","-54.7922323891201-22.843502843941i","-0.365414990818408-59.6154037753623i","-0.00104140407677914+0.00472854196477979i","-2.9640606625361-0.516934289604798i","-120.080350240433-45.2686048626224i","-0.52913944012635-128.115907394146i","-0.00227335917440964+0.0101904652558934i","0.000145187265097491+0.000700872957509091i","-143.130986562003-53.3165255360617i","3.5370528790382-151.521603395594i","-0.00272347456166322+0.0121730961013555i","7.34845736386675+47.8054167036888i","-42.0738637002017+23.6051058250199i","0.00377230503022807-0.00115652401881806i","-42.3877019230937-23.5662668368875i","7.16031131527765-47.811861318293i","-0.00139543598165325+0.00370080948063271i","56.7821800129424+72.2992356382601i","-48.2843583195595+77.7020286063729i","0.00519770448795172-0.00545936846975863i","-90.8287601478785+14.8234013726112i","-44.769081280063-79.9073188065468i","0.00224463341899433+0.00718763362521045i","1.37804479023505+19.0871067768729i","-17.1506995437275+8.79861113240176i","0.00152099132740942-0.000315449746066902i","-19.2389037268745-4.34400273232916i","-3.52778299475014-19.4906359925968i","-0.0000705125029525047+0.00160714119859645i","-174.860064001103-68.0897415102956i","-0.910324170050302-187.710966823883i","-0.00331314890441918+0.0149176789311723i","-143.13123791223-53.3024108148311i","3.5239046085112-151.516301075758i","-0.00272233792234077+0.0121729121852267i","-0.296660606699199-0.800143290941698i","0.0000157057491837701+0.0000274017609369298i","0.81178701731979+0.285792529601601i","-0.0000240110746269099-2.88094111608982E-06i","-1.8850307078778-1.6973010971677i","0.0000823501674540802+6.85022332206058E-06i","2.4017051536144-0.848594299689992i","-0.0000741318815180303+0.00006089319534791i","0.101348140665198+0.50205096483031i","1.82298884415007E-06+0.000032020001572696i","-0.49918001033471+0.00547305330610115i","0.0000406818514235453+4.83905293933995E-06i","0.367496219594697+0.930391082463764i","-0.0000123935111328412-0.0000804861192412888i","6.53200575122595+1.24016076951401i","-0.00020613232017268-7.76971837120055E-06i"]
[{"$f":"COMPLEX(定数!O$13,計算!B57*定数!O$23)","v":"74.3688188913563+148.695365292917i"},{"$f":"COMPLEX(定数!P$13,計算!B57*定数!P$23)","v":"-73.4757772913563+148.695365292917i"},{"$f":"COMPLEX(定数!Q$13,計算!B57*定数!Q$23)","v":"125.193786513619+212.737956760789i"},{"$f":"COMPLEX(定数!R$13,計算!B57*定数!R$23)","v":"-123.916114913619+212.737956760789i"},{"$f":"COMPLEX(定数!S$13,計算!B57*定数!S$23)","v":"-77.7867441135484-97.6865059844634i"},{"$f":"COMPLEX(定数!T$13,計算!B57*定数!T$23)","v":"77.2000539135484-97.6865059844634i"},{"$f":"COMPLEX(定数!U$13,計算!B57*定数!U$23)","v":"124.646605989444+178.258323306269i"},{"$f":"COMPLEX(定数!V$13,計算!B57*定数!V$23)","v":"-123.576013789444+178.258323306269i"},{"$f":"IMPRODUCT(定数!D$31,計算!G57)","v":"0.027506788727002-0.0584549015410624i"},{"$f":"COMPLEX(定数!O$14,計算!B57*定数!O$24)","v":"86.1948356167649+182.586771940671i"},{"$f":"COMPLEX(定数!P$14,計算!B57*定数!P$24)","v":"-85.0982474167649+182.586771940671i"},{"$f":"COMPLEX(定数!Q$14,計算!B57*定数!Q$24)","v":"57.0863694248256+100.933941394271i"},{"$f":"COMPLEX(定数!R$14,計算!B57*定数!R$24)","v":"-56.4801756248256+100.933941394271i"},{"$f":"COMPLEX(定数!S$14,計算!B57*定数!S$24)","v":"163.969671876329+214.269664106097i"},{"$f":"COMPLEX(定数!T$14,計算!B57*定数!T$24)","v":"-162.682801076329+214.269664106097i"},{"$f":"COMPLEX(定数!U$14,計算!B57*定数!U$24)","v":"-101.525845343051-153.840751171635i"},{"$f":"COMPLEX(定数!V$14,計算!B57*定数!V$24)","v":"100.601901343051-153.840751171635i"},{"$f":"IMPRODUCT(定数!D$32,計算!G57)","v":"-0.027506788727002+0.0584549015410624i"},{"$f":"COMPLEX(定数!O$15,計算!B57*定数!O$25)","v":"86.1919999827348+182.584740606041i"},{"$f":"COMPLEX(定数!P$15,計算!B57*定数!P$25)","v":"-85.0954239827348+182.584740606041i"},{"$f":"COMPLEX(定数!Q$15,計算!B57*定数!Q$25)","v":"-57.0828842529623-100.93357509517i"},{"$f":"COMPLEX(定数!R$15,計算!B57*定数!R$25)","v":"56.4766926529622-100.93357509517i"},{"$f":"COMPLEX(定数!S$15,計算!B57*定数!S$25)","v":"-163.956966054068-214.250682625791i"},{"$f":"COMPLEX(定数!T$15,計算!B57*定数!T$25)","v":"162.670209254068-214.250682625791i"},{"$f":"COMPLEX(定数!U$15,計算!B57*定数!U$25)","v":"-101.548680976766-153.870988388769i"},{"$f":"COMPLEX(定数!V$15,計算!B57*定数!V$25)","v":"100.624555376766-153.870988388769i"},{"$f":"IMPRODUCT(定数!D$33,計算!G57)","v":"0"},{"$f":"COMPLEX(定数!O$16,計算!B57*定数!O$26)","v":"74.3664237452132+148.692434814953i"},{"$f":"COMPLEX(定数!P$16,計算!B57*定数!P$26)","v":"-73.4733997452132+148.692434814953i"},{"$f":"COMPLEX(定数!Q$16,計算!B57*定数!Q$26)","v":"-125.201328746793-212.749112555821i"},{"$f":"COMPLEX(定数!R$16,計算!B57*定数!R$26)","v":"123.923590146793-212.749112555821i"},{"$f":"COMPLEX(定数!S$16,計算!B57*定数!S$26)","v":"77.7704269443536+97.6594656679527i"},{"$f":"COMPLEX(定数!T$16,計算!B57*定数!T$26)","v":"-77.1838991443536+97.6594656679527i"},{"$f":"COMPLEX(定数!U$16,計算!B57*定数!U$26)","v":"124.65071095008+178.257057872344i"},{"$f":"COMPLEX(定数!V$16,計算!B57*定数!V$26)","v":"-123.58012635008+178.257057872344i"},{"$f":"IMPRODUCT(定数!D$34,計算!G57)","v":"0"},{"$f":"IMDIV(COMPLEX(定数!O$17,計算!B57*定数!O$27),計算!R57)","v":"0.0928376357876643-0.638956549950682i"},{"$f":"IMPRODUCT(COMPLEX(定数!P$17,計算!B57*定数!P$27),計算!R57)","v":"-0.931511803615178-0.332119558130292i"},{"$f":"IMDIV(COMPLEX(定数!Q$17,計算!B57*定数!Q$27),計算!S57)","v":"0.867085256134941+0.278587338547554i"},{"$f":"IMPRODUCT(COMPLEX(定数!R$17,計算!B57*定数!R$27),計算!S57)","v":"-0.332867739047775+1.43921491097713i"},{"$f":"IMDIV(COMPLEX(定数!S$17,計算!B57*定数!S$27),計算!T57)","v":"-0.0144183672567148-0.416476195061311i"},{"$f":"IMPRODUCT(COMPLEX(定数!T$17,計算!B57*定数!T$27),計算!T57)","v":"-0.567974687528427-0.487354404082634i"},{"$f":"IMDIV(COMPLEX(定数!U$17,計算!B57*定数!U$27),計算!U57)","v":"0.291154134062147+0.699460511594667i"},{"$f":"IMPRODUCT(COMPLEX(定数!V$17,計算!B57*定数!V$27),計算!U57)","v":"0.701424560927926+1.1006527260663i"},{"$f":"IMPRODUCT(定数!E$31,計算!G57)","v":"0"},{"$f":"IMDIV(COMPLEX(定数!O$18,計算!B57*定数!O$28),計算!R57)","v":"0.0935444005827008-0.792073794640356i"},{"$f":"IMPRODUCT(COMPLEX(定数!P$18,計算!B57*定数!P$28),計算!R57)","v":"-1.12337346575108-0.415300949395816i"},{"$f":"IMDIV(COMPLEX(定数!Q$18,計算!B57*定数!Q$28),計算!S57)","v":"0.415498846362662+0.123250170969882i"},{"$f":"IMPRODUCT(COMPLEX(定数!R$18,計算!B57*定数!R$28),計算!S57)","v":"-0.162038296163663+0.673912202211605i"},{"$f":"IMDIV(COMPLEX(定数!S$18,計算!B57*定数!S$28),計算!T57)","v":"0.0596856711378046+0.910101343708084i"},{"$f":"IMPRODUCT(COMPLEX(定数!T$18,計算!B57*定数!T$28),計算!T57)","v":"1.21775959098827+1.0655685690782i"},{"$f":"IMDIV(COMPLEX(定数!U$18,計算!B57*定数!U$28),計算!U57)","v":"-0.275098670478008-0.594018946382352i"},{"$f":"IMPRODUCT(COMPLEX(定数!V$18,計算!B57*定数!V$28),計算!U57)","v":"-0.581518003699053-0.940256420751936i"},{"$f":"IMPRODUCT(定数!E$32,計算!G57)","v":"0"},{"$f":"IMDIV(COMPLEX(定数!O$19,計算!B57*定数!O$29),計算!R57)","v":"0.0935358756287014-0.792067728994367i"},{"$f":"IMPRODUCT(COMPLEX(定数!P$19,計算!B57*定数!P$29),計算!R57)","v":"-1.12335348352023-0.415299075504499i"},{"$f":"IMDIV(COMPLEX(定数!Q$19,計算!B57*定数!Q$29),計算!S57)","v":"-0.415503166353748-0.123237072413904i"},{"$f":"IMPRODUCT(COMPLEX(定数!R$19,計算!B57*定数!R$29),計算!S57)","v":"0.162043536014389-0.673897105191656i"},{"$f":"IMDIV(COMPLEX(定数!S$19,計算!B57*定数!S$29),計算!T57)","v":"-0.0596727006861036-0.910021664863235i"},{"$f":"IMPRODUCT(COMPLEX(定数!T$19,計算!B57*定数!T$29),計算!T57)","v":"-1.21765939641992-1.0654751178611i"},{"$f":"IMDIV(COMPLEX(定数!U$19,計算!B57*定数!U$29),計算!U57)","v":"-0.275141387798472-0.594140295923461i"},{"$f":"IMPRODUCT(COMPLEX(定数!V$19,計算!B57*定数!V$29),計算!U57)","v":"-0.581643653279647-0.940445822821494i"},{"$f":"IMPRODUCT(定数!E$33,計算!G57)","v":"0"},{"$f":"IMDIV(COMPLEX(定数!O$20,計算!B57*定数!O$30),計算!R57)","v":"0.0928320971894996-0.638945315558585i"},{"$f":"IMPRODUCT(COMPLEX(定数!P$20,計算!B57*定数!P$30),計算!R57)","v":"-0.93148973648648-0.332114370859691i"},{"$f":"IMDIV(COMPLEX(定数!Q$20,計算!B57*定数!Q$30),計算!S57)","v":"-0.867128989925093-0.278605721472025i"},{"$f":"IMPRODUCT(COMPLEX(定数!R$20,計算!B57*定数!R$30),計算!S57)","v":"0.332883458930716-1.43929415621345i"},{"$f":"IMDIV(COMPLEX(定数!S$20,計算!B57*定数!S$30),計算!T57)","v":"0.0143923753047202+0.416363589762596i"},{"$f":"IMPRODUCT(COMPLEX(定数!T$20,計算!B57*定数!T$30),計算!T57)","v":"0.567839468960632+0.487222179193981i"},{"$f":"IMDIV(COMPLEX(定数!U$20,計算!B57*定数!U$30),計算!U57)","v":"0.291132405464194+0.699463494730959i"},{"$f":"IMPRODUCT(COMPLEX(定数!V$20,計算!B57*定数!V$30),計算!U57)","v":"0.701439243333984+1.10065286118929i"},{"$f":"IMPRODUCT(定数!E$34,計算!G57)","v":"0"},"0.602220798182107+0.795332299234769i","1.48126382980117-0.101105673301945i","0.811028053092765+1.2389849068057i","-0.734793054323597+0.155627261739762i","-0.317797598261482-0.67812662314074i","1.29430790514801-0.190930334283885i","0.626459379614022+1.14438710042872i","-0.000240451417891942-0.000305247420368251i","8.2105870163597+4.07568361182101i","-89.0514814030364-160.810452791417i","99.8356492751244-153.943153147034i","255.720517753121+335.018889696323i","-259.107240421074+330.746314512127i","-247.949855867211-373.707044692049i","255.554284614464-366.864205050714i","-0.062515259416244+0.128668900963592i","8.21350254213699+4.07713086048602i","-203.216329379245-362.675247037032i","212.792300538712-355.805508859341i","-72.208519912512-93.502508344183i","66.2462462537323-97.776600691957i","-247.968633473985-373.735194145267i","255.576390424567-366.889924656211i","-0.0350085324618094+0.0702126454152651i","0.00148924918829607+0.000739253904015413i","-250.391271129116-425.482970668462i","247.838016773158-425.481725066851i","155.554955058891+195.344191107598i","-154.382726994468+195.343416141191i","0.00776453435999258+0.00207020081600717i","-0.00596570004898922+0.00331136583201896i","-0.0275064701224492+0.0584534657912992i","-1.49560334072396-0.02116340494183i","0.794170356391871+1.23443697647812i","-1.19981918754792+1.84240216817006i","-0.0456409755396254-0.900425097023668i","-0.10517766229512-0.627457588593345i","0.292989835841883+1.544192546077i","-0.087948080290446+1.39469085711902i","0.000217362779758723-0.000125299559569713i","-1.80966972159038-0.012696519764348i","0.357018063611016+1.30597830310854i","-1.2192729058817+1.20040616934642i","0.0051531712011362+0.313532961980842i","1.784614104462+0.877284367976508i","-0.244943013246341+0.449028891154878i","-1.54655880402851-0.551105368097194i","0.000264271366311223-0.000161901080028561i","-1.80963978125076-0.012691518559935i","-0.473971934670606+1.05948121298154i","-0.895176644482971-0.147397495176563i","-0.114210520719883-1.50658426288069i","-0.650811705432129-1.25376317231333i","-0.244975854767269+0.448898063127899i","-1.54667217162468-0.551288814200187i","0.000264267464951155-0.000161902223755599i","-1.49556900306135-0.021160578229792i","-0.940036821403811+0.677226715376178i","-0.534049578368694-1.03610914818814i","-0.0168325543239731-0.067576195289612i","1.03062711570037+0.347118809075226i","0.292973130909079+1.54417993096439i","-0.087917071684221+1.394690292652i","0.000217358018725734-0.000125298548887007i","2.35686835009824+19.8853132477606i","-16.3825476844677+11.3942669561084i","-9.39799577962027-44.8873954106749i","40.9687255605707-20.3328428760457i","7.32386191217452+48.2443555298213i","-42.065839448964+24.4902185169933i","0.0120912504872195-0.0098084410940708i","-16.5019758314153-11.3942669563388i","2.28843612739664-19.8853132477429i","41.2383123852741+20.3328428766259i","-9.27587983870845+44.8873954105386i","-42.355587662165-24.4902185175874i","7.17677740966623-48.2443555297221i","0.000132422043301868+0.0156053629730205i","-114.133226377937-201.807691504098i","112.921200276018-201.807691505074i","-328.019842348695-428.640361060586i","325.445493964667-428.640361057766i","0.0692677648119968+0.104551477861037i","-0.0686398485670168+0.104551475133007i","0.0275289257152835-0.0585019450339639i","-250.375118831335-425.453802615589i","247.819908426062-425.453802615579i","155.508572069121+195.283424854422i","-154.335729715649+195.283424854395i","0.0527380692563578+0.0698537724006402i","-0.0523185381529709+0.0698537724261793i","-0.0274951310063683+0.0584301276236461i","-23.6450983400066-16.1561047453834i","2.64361446627702-27.849707656049i","61.200204606278+30.3821857398006i","-14.9281846630788+66.3099717425872i","-62.535872158417-35.9798485371301i","11.6666790214718-70.6078433977097i","0.000085151014244217+0.0232169359374154i","-29.3614404093061-19.52339926979i","3.17451493633176-34.7563879449131i","74.3747221228687+37.6328461179133i","-15.5715784837593+81.9908733317793i","-76.5836270021916-44.4079465911383i","12.0535733863397-87.7663347116506i","0.000305777729128964+0.0280803330857643i","-30.1919933178851-19.7694726819402i","3.49844323065927-36.1036076813408i","74.2542254305731+35.8119138796008i","-18.0065020796208+79.8585282381974i","-76.5825141836221-44.4071323447536i","12.0530038637067-87.7651095978951i","0.000305847908618114+0.0280798640499002i","-25.3787710868353-16.7128771076571i","3.30924928585426-30.7275426259799i","61.227654475328+31.2142198904021i","-13.79193448931+67.2830330322579i","-62.5345036982665-35.9789004883325i","11.6663272234161-70.6062076504568i","0.000085185818015156+0.0232164007220904i","-0.651994021408399-0.9133448280778i","-21.2230223400686-89.9807049431864i","81.1995143524506-43.6174376063327i","7.32589056853693+48.2549959616357i","-42.0747966747889+24.4962564277801i","0.0162366775786946-0.0135500258772965i","1.12172750972602+0.0827731014388i","82.9497393204908+41.3019491229103i","-18.4151365740705+90.5320556880751i","-42.3649258450784-24.4957387700848i","7.17817077761149-48.2550833218355i","0.000199301202558431+0.0211973281345711i","0.517895173725625+0.852446435994202i","2.30575948214232-0.321375627048161i","0.918256066828522+2.13197533902807i","-0.000539601276254495+0.0000380626235708304i","-0.000246781932030318-0.000479693642793847i","0.000161185787621748+0.000227571007628765i","14.811396369951+8.31804611164603i","869.543859002591+1095.81310363714i","-831.484272938015+1119.75253911605i","-0.0985585523431372-0.150191708578481i","0.0899808907066781-0.155243891790087i","-0.0839591708373701+0.183985351972526i","1.11708286908313+0.673640826461803i","120.912292603139+60.0353191453179i","-27.6603465535225+131.55617949114i","-62.5492460273917-35.9876663973926i","11.6685938191591-70.6231728358098i","0.000219743777309096+0.031202009260416i","1.73801109191964+0.383741544198699i","148.349486438423+73.2130577853041i","-30.2336634742808+162.516220027362i","-76.6002135847064-44.4173638688473i","12.0556927638637-87.7852372301498i","0.000595464983047181+0.037909040153497i","2.28231432594362-0.128036092871497i","150.223126987634+71.6925921885688i","-32.4305492693122+162.380551656221i","-76.599558299746-44.4166507909671i","12.0550363156308-87.7844712538166i","0.000673409312913502+0.0381372444166774i","2.20595982118231-0.437981269969402i","125.11610791417+61.5939762835183i","-26.1191658079029+136.736647922495i","-62.5488342514849-35.9869527955391i","11.6680812621561-70.6225061217115i","0.000372516740753504+0.0316857514907245i","-0.00735390850239881-0.0375262595904928i","0.0339697297450101-0.0173051567521014i","7.32421572727574+48.2432475329989i","-42.0650563627621+24.4895011651272i","0.0060491976949626-0.00490711339992507i","0.0341951065802135+0.017305157013503i","-0.00724997666510063+0.0375262595190975i","-42.3547979216305-24.4895011654908i","7.17713553281355-48.2432475329381i","0.000066254090177301+0.007807288953909i","-10.5879204843467-81.4417255728439i","75.7294145173935-31.1802988083597i","0.000172761170373953+0.0105619848869051i","-0.0093246394542843+0.00486795948893454i","0.00975948866165264-0.00676390725591009i","76.2185410528294+31.1802988092504i","-10.4006563840751+81.4417255727093i","-0.00938807286645916-0.00486796003394103i","0.000143525547876328-0.0105619848397885i","0.000994035118276702+0.0118636297100654i","56.7741883457034-26.1395794939297i","38.8205198436231+47.5853297876106i","-62.5420380286393-35.9759042934667i","11.6613185050317-70.6114709081504i","0.00710114949814043+0.0172797291075483i","27.845992692312-10.2268680347265i","19.0953662179647+24.960761578423i","-76.5857650484333-44.4053007067345i","12.0513902424973-87.7669354600609i","0.00342038850646668+0.0169084675557007i","-27.723744793863+10.2880737297839i","-19.120462543763-24.826724754658i","-76.5775084919669-44.4067425882129i","12.0560610604886-87.760347108056i","-0.00311426407337146+0.011187984744426i","-56.675318148007+26.1937833033865i","-38.8456861055447-47.47581915027i","-62.5259924646253-35.9803260713697i","11.6723906020977-70.5991439460213i","-0.00701633239787028+0.0059504297804325i","0.0000780710843613017-0.001086283572336i","7.35462585488661+48.2112501699775i","-42.0247544786057+24.5066182689042i","0.00603789950391393-0.00490538333268732i","0.000808257060538851+0.000742963539355303i","-42.3482383640226-24.4457495272978i","7.13877599305036-48.2219339109904i","0.000071846835728519+0.00779729186394322i","0.855418112911593-1.091536988161i","69.5875916709673-64.3753103639711i","84.0077138188208+42.2469393611523i","-0.0146937949889861-0.00461349844963746i","0.5287957842514+1.2709883163762i","21.5693334438142+92.575391340796i","-78.4920779368466+52.2411094627875i","0.0112524197354396-0.0105110071177126i","0.24577546104834+0.951309011420298i","-0.668199390467338-0.941314300311393i","0.641945678349629-0.948164692207697i","-0.0000124207818764799+0.000298640202288236i","2.5225928056215+0.9841310045983i","-48.3523925759869-25.0270565662888i","3.87253075670745-54.7992546317925i","0.00071210356916612+0.00846550896801302i","-2.5195091357649-0.981432566176498i","-104.786808789202-63.629015425535i","20.0984109571663-120.651407526751i","-0.00038618224043628+0.0195951954175795i","0.00209844204520238+0.00213256105130455i","-125.052988308401-71.8269434814301i","23.2188456726905-141.151665524835i","0.00010223258205078+0.0232013055258346i","7.35849042711808+48.1896954563015i","-42.0032389895768+24.5015880650487i","0.00603473160255197-0.00490410279906858i","-42.3336527478675-24.4291799871301i","7.12925024793145-48.2018001358082i","0.000072823337788249+0.00779398876234194i","89.006378531397-84.386648528278i","110.306969527622+52.245133500029i","-0.0189502279088028-0.00551549686597024i","29.447401224207+119.110184086265i","-99.9307888959936+70.1410152802154i","0.0141023827020284-0.0137562148537458i","2.22877143647109+18.6013182749758i","-16.3080558369313+9.5431681247952i","0.00232793467112897-0.00170773247261953i","-19.9950264546626-2.12056860012099i","-6.02303570268389-19.3736374519383i","0.00138127841658595+0.00281700242561247i","-153.083265528615-88.5955775107225i","23.937236199845-175.374667465764i","0.000329263429692631+0.0280482903853762i","-125.015552146197-71.7798529764829i","23.1901691993967-141.098166578087i","0.000105341478999577+0.023192448548951i","-0.173893105306604-0.601480721814298i","0.0000619311218691201+4.49309511531965E-06i","0.57543110110846+0.269354358701499i","-0.000027915926883487+0.0000432711152871506i","-1.61276222614499+1.8552108719523i","-0.000233287655161899-0.00022129844342513i","-0.814726341614005-2.33199051457301i","0.000251961415226201-0.0000887904373601013i","0.0702820347960014+0.419674463092079i","-0.0000271464821467002+0.00010361990614221i","-0.39793884594485-0.0540740156124002i","0.0000498710724881701-0.0000805561668945401i","0.379528120939769+0.925967668118821i","-0.0000810441936818369-0.000136318840404814i","4.1712637151449+1.90466544281102i","-0.000241496820196407+0.000333133140734i"]
[{"$f":"COMPLEX(定数!O$13,計算!B58*定数!O$23)","v":"74.3688188913563+151.500938222972i"},{"$f":"COMPLEX(定数!P$13,計算!B58*定数!P$23)","v":"-73.4757772913563+151.500938222972i"},{"$f":"COMPLEX(定数!Q$13,計算!B58*定数!Q$23)","v":"125.193786513619+216.751880473257i"},{"$f":"COMPLEX(定数!R$13,計算!B58*定数!R$23)","v":"-123.916114913619+216.751880473257i"},{"$f":"COMPLEX(定数!S$13,計算!B58*定数!S$23)","v":"-77.7867441135484-99.5296476068117i"},{"$f":"COMPLEX(定数!T$13,計算!B58*定数!T$23)","v":"77.2000539135484-99.5296476068117i"},{"$f":"COMPLEX(定数!U$13,計算!B58*定数!U$23)","v":"124.646605989444+181.621687896954i"},{"$f":"COMPLEX(定数!V$13,計算!B58*定数!V$23)","v":"-123.576013789444+181.621687896954i"},{"$f":"IMPRODUCT(定数!D$31,計算!G58)","v":"0.00609669090696582-0.0969041270200165i"},{"$f":"COMPLEX(定数!O$14,計算!B58*定数!O$24)","v":"86.1948356167649+186.031805373514i"},{"$f":"COMPLEX(定数!P$14,計算!B58*定数!P$24)","v":"-85.0982474167649+186.031805373514i"},{"$f":"COMPLEX(定数!Q$14,計算!B58*定数!Q$24)","v":"57.0863694248256+102.838355382842i"},{"$f":"COMPLEX(定数!R$14,計算!B58*定数!R$24)","v":"-56.4801756248256+102.838355382842i"},{"$f":"COMPLEX(定数!S$14,計算!B58*定数!S$24)","v":"163.969671876329+218.312487957155i"},{"$f":"COMPLEX(定数!T$14,計算!B58*定数!T$24)","v":"-162.682801076329+218.312487957155i"},{"$f":"COMPLEX(定数!U$14,計算!B58*定数!U$24)","v":"-101.525845343051-156.743406854119i"},{"$f":"COMPLEX(定数!V$14,計算!B58*定数!V$24)","v":"100.601901343051-156.743406854119i"},{"$f":"IMPRODUCT(定数!D$32,計算!G58)","v":"-0.00609669090696582+0.0969041270200165i"},{"$f":"COMPLEX(定数!O$15,計算!B58*定数!O$25)","v":"86.1919999827348+186.029735711816i"},{"$f":"COMPLEX(定数!P$15,計算!B58*定数!P$25)","v":"-85.0954239827348+186.029735711816i"},{"$f":"COMPLEX(定数!Q$15,計算!B58*定数!Q$25)","v":"-57.0828842529623-102.837982172437i"},{"$f":"COMPLEX(定数!R$15,計算!B58*定数!R$25)","v":"56.4766926529622-102.837982172437i"},{"$f":"COMPLEX(定数!S$15,計算!B58*定数!S$25)","v":"-163.956966054068-218.293148335712i"},{"$f":"COMPLEX(定数!T$15,計算!B58*定数!T$25)","v":"162.670209254068-218.293148335712i"},{"$f":"COMPLEX(定数!U$15,計算!B58*定数!U$25)","v":"-101.548680976766-156.774214584783i"},{"$f":"COMPLEX(定数!V$15,計算!B58*定数!V$25)","v":"100.624555376766-156.774214584783i"},{"$f":"IMPRODUCT(定数!D$33,計算!G58)","v":"0"},{"$f":"COMPLEX(定数!O$16,計算!B58*定数!O$26)","v":"74.3664237452132+151.497952452971i"},{"$f":"COMPLEX(定数!P$16,計算!B58*定数!P$26)","v":"-73.4733997452132+151.497952452971i"},{"$f":"COMPLEX(定数!Q$16,計算!B58*定数!Q$26)","v":"-125.201328746793-216.763246754987i"},{"$f":"COMPLEX(定数!R$16,計算!B58*定数!R$26)","v":"123.923590146793-216.763246754987i"},{"$f":"COMPLEX(定数!S$16,計算!B58*定数!S$26)","v":"77.7704269443536+99.5020970956499i"},{"$f":"COMPLEX(定数!T$16,計算!B58*定数!T$26)","v":"-77.1838991443536+99.5020970956499i"},{"$f":"COMPLEX(定数!U$16,計算!B58*定数!U$26)","v":"124.65071095008+181.620398586917i"},{"$f":"COMPLEX(定数!V$16,計算!B58*定数!V$26)","v":"-123.58012635008+181.620398586917i"},{"$f":"IMPRODUCT(定数!D$34,計算!G58)","v":"0"},{"$f":"IMDIV(COMPLEX(定数!O$17,計算!B58*定数!O$27),計算!R58)","v":"-0.313648960064563-0.577686139073555i"},{"$f":"IMPRODUCT(COMPLEX(定数!P$17,計算!B58*定数!P$27),計算!R58)","v":"-0.540898749789393-0.837053660004607i"},{"$f":"IMDIV(COMPLEX(定数!Q$17,計算!B58*定数!Q$27),計算!S58)","v":"0.885924039518928-0.275181756105545i"},{"$f":"IMPRODUCT(COMPLEX(定数!R$17,計算!B58*定数!R$27),計算!S58)","v":"-1.11828349464115+0.981183557432623i"},{"$f":"IMDIV(COMPLEX(定数!S$17,計算!B58*定数!S$27),計算!T58)","v":"-0.250534468014192-0.342722133353696i"},{"$f":"IMPRODUCT(COMPLEX(定数!T$17,計算!B58*定数!T$27),計算!T58)","v":"-0.192030838514179-0.727873194930176i"},{"$f":"IMDIV(COMPLEX(定数!U$17,計算!B58*定数!U$27),計算!U58)","v":"0.647149358461742+0.420804507679743i"},{"$f":"IMPRODUCT(COMPLEX(定数!V$17,計算!B58*定数!V$27),計算!U58)","v":"-0.0544696706194485+1.31237528239144i"},{"$f":"IMPRODUCT(定数!E$31,計算!G58)","v":"0"},{"$f":"IMDIV(COMPLEX(定数!O$18,計算!B58*定数!O$28),計算!R58)","v":"-0.405977803072401-0.703029944069i"},{"$f":"IMPRODUCT(COMPLEX(定数!P$18,計算!B58*定数!P$28),計算!R58)","v":"-0.643342782847529-1.02151383431134i"},{"$f":"IMDIV(COMPLEX(定数!Q$18,計算!B58*定数!Q$28),計算!S58)","v":"0.418541365792823-0.140222956751119i"},{"$f":"IMPRODUCT(COMPLEX(定数!R$18,計算!B58*定数!R$28),計算!S58)","v":"-0.528784765635527+0.455862033790969i"},{"$f":"IMDIV(COMPLEX(定数!S$18,計算!B58*定数!S$28),計算!T58)","v":"0.570855651681196+0.733184372497826i"},{"$f":"IMPRODUCT(COMPLEX(定数!T$18,計算!B58*定数!T$28),計算!T58)","v":"0.399885584604004+1.57799080480533i"},{"$f":"IMDIV(COMPLEX(定数!U$18,計算!B58*定数!U$28),計算!U58)","v":"-0.572730765922503-0.341761526294797i"},{"$f":"IMPRODUCT(COMPLEX(定数!V$18,計算!B58*定数!V$28),計算!U58)","v":"0.0612355004948664-1.11120620174659i"},{"$f":"IMPRODUCT(定数!E$32,計算!G58)","v":"0"},{"$f":"IMDIV(COMPLEX(定数!O$19,計算!B58*定数!O$29),計算!R58)","v":"-0.405980917338814-0.703019814794172i"},{"$f":"IMPRODUCT(COMPLEX(定数!P$19,計算!B58*定数!P$29),計算!R58)","v":"-0.64332799445299-1.02150016177072i"},{"$f":"IMDIV(COMPLEX(定数!Q$19,計算!B58*定数!Q$29),計算!S58)","v":"-0.41853731798889+0.140236145442691i"},{"$f":"IMPRODUCT(COMPLEX(定数!R$19,計算!B58*定数!R$29),計算!S58)","v":"0.528780317735981-0.455846681786313i"},{"$f":"IMDIV(COMPLEX(定数!S$19,計算!B58*定数!S$29),計算!T58)","v":"-0.570799248161812-0.733124510703385i"},{"$f":"IMPRODUCT(COMPLEX(定数!T$19,計算!B58*定数!T$29),計算!T58)","v":"-0.399855993087256-1.57785610415893i"},{"$f":"IMDIV(COMPLEX(定数!U$19,計算!B58*定数!U$29),計算!U58)","v":"-0.572836560549115-0.341838902670465i"},{"$f":"IMPRODUCT(COMPLEX(定数!V$19,計算!B58*定数!V$29),計算!U58)","v":"0.0612407613876137-1.11143481147954i"},{"$f":"IMPRODUCT(定数!E$33,計算!G58)","v":"0"},{"$f":"IMDIV(COMPLEX(定数!O$20,計算!B58*定数!O$30),計算!R58)","v":"-0.313646558556431-0.577673607992585i"},{"$f":"IMPRODUCT(COMPLEX(定数!P$20,計算!B58*定数!P$30),計算!R58)","v":"-0.54088430993236-0.837036017327079i"},{"$f":"IMDIV(COMPLEX(定数!Q$20,計算!B58*定数!Q$30),計算!S58)","v":"-0.88597125361321+0.275192102036673i"},{"$f":"IMPRODUCT(COMPLEX(定数!R$20,計算!B58*定数!R$30),計算!S58)","v":"1.11834289346544-0.981239094218161i"},{"$f":"IMDIV(COMPLEX(定数!S$20,計算!B58*定数!S$30),計算!T58)","v":"0.25044840008766+0.342641815756392i"},{"$f":"IMPRODUCT(COMPLEX(定数!T$20,計算!B58*定数!T$30),計算!T58)","v":"0.191994401231351+0.727686264792897i"},{"$f":"IMDIV(COMPLEX(定数!U$20,計算!B58*定数!U$30),計算!U58)","v":"0.6471330250081+0.420819182508281i"},{"$f":"IMPRODUCT(COMPLEX(定数!V$20,計算!B58*定数!V$30),計算!U58)","v":"-0.054457544524713+1.31238362807066i"},{"$f":"IMPRODUCT(定数!E$34,計算!G58)","v":"0"},"0.613982748728859+0.786377632583699i","1.47976860581678-0.099967321946389i","0.829351059986919+1.22503514412559i","-0.732491525568798+0.153875050428793i","-0.327826226312286-0.670491578187475i","1.2914842889666-0.188780644778333i","0.643383405577178+1.1315024168644i","-0.000499509701636759-0.000285441383728066i","8.27086117991699+4.02979538603901i","-89.0591436844434-163.829003010084i","99.9295455986984-157.039022467627i","255.732311946614+341.315974202287i","-259.15863216643+337.09150405111i","-247.964325499851-380.728644097809i","255.641011854551-373.9628481626i","-0.0161427102286522+0.21443239176575i","8.273798108657+4.03122634009497i","-203.223994381478-369.502561415698i","212.886230204258-362.71016979544i","-72.1967215309781-95.290741766905i","66.1948362595022-99.516711999877i","-247.983108244697-380.757314205727i","255.663148460931-373.989115780514i","-0.0100468449812958+0.117526421522336i","0.00150018181079759+0.000730930624996518i","-250.391272518912-433.510948415877i","247.838033804221-433.509716838528i","155.55495719814+199.029926204472i","-154.382736315983+199.029159963432i","0.00776190983499703+0.00211460777597949i","-0.00594996932599656+0.0033417984840014i","-0.00609703504338056+0.0969019519251048i","-0.802603157574084-0.235717809755754i","1.40780166011828+0.548305409942084i","-1.56584421978714+1.84451916821056i","-0.569171157046909-0.71760958511676i","0.092480497605539-1.12755284812612i","1.16127802444965+1.10766622733197i","-0.506326397088162+2.03894351426337i","8.22483243714995E-06-0.00037808822413402i","-0.946926438446663-0.270613713151553i","1.08957459419453+0.859514169688487i","-1.05332303318344+1.53625773960573i","0.165301583265055+0.280690751166914i","0.738171070168102+1.07531445336555i","0.0843016345544999+0.489549849713685i","-0.473045198817789-0.199523536739023i","-2.11601124652168E-06-0.00046705314347548i","-0.946901772511113-0.270603810821486i","0.252499506210004+1.13995797157453i","0.00425704172586405+0.624544438389437i","-0.976354039109034-1.18561023321842i","-0.061578320054829-2.08053122304617i","0.084197949742999+0.489458803625497i","-0.473026472958761-0.199755139679335i","-2.12045816703154E-06-0.000467048972744947i","-0.802580338039828-0.235709749438044i","-0.364098439388802+1.09866096505642i","0.670795527640719-0.11791681803737i","-0.068184601639985-0.03223682662824i","0.476498122644162+0.328012329804913i","1.16125622386044+1.10766517182457i","-0.506301637135503+2.03894108034079i","8.22245512466878E-06-0.0003780812792477i","2.35733615843995+20.1017842068252i","-16.3830154928091+11.7679767556111i","-9.39934859576408-45.2753276967948i","40.9700783767135-21.1754811236454i","7.32517062997698+48.7105889008026i","-42.0671481667657+25.3963355997347i","0.0112818463275988-0.020409098836931i","-16.5015080230737-11.7679767558368i","2.2879683190549-20.1017842068081i","41.2369595691305+21.1754811242141i","-9.27452702256462+45.2753276966611i","-42.3542789443629-25.396335600317i","7.17546869186372-48.7105889007054i","0.00863125409153317+0.0217208583174119i","-114.133226377937-205.615383796633i","112.921200276004-205.615383797597i","-328.019842348699-436.72791504284i","325.445493964697-436.727915040052i","0.0692677648139863+0.106524147239952i","-0.068639848599986+0.106524144543016i","0.0061015974194608-0.096982113784514i","-250.37511883133-433.481232853625i","247.819908426071-433.48123285361i","155.508572069115+198.968017776224i","-154.33572971567+198.968017776177i","0.0527380692638166+0.0711717680845664i","-0.0523185381306192+0.0711717681304917i","-0.00609410705322764+0.0968630578405945i","-9.06243907779232-12.7864092214169i","5.0088349229274-13.7499214280883i","27.536304770768+25.9981842189499i","-18.023485256342+33.024396925136i","-26.8460313895407-29.259170782843i","16.7346807596628-35.3649431807188i","0.00181570347153052+0.0190896815565417i","-11.3515637409156-14.7494285061633i","6.5530331236336-16.8794975833779i","33.4832932656367+31.4916004225964i","-20.2962483137332+41.4379050633697i","-33.1494882019628-35.0205604628814i","19.503349145973-44.3830877728156i","0.00229308456286354+0.0224367375819003i","-12.1883483341567-14.468531032742i","7.61035770916165-17.790737711498i","32.340830181679+30.0243687831738i","-21.0953206078315+38.2810344680708i","-33.1487986617572-35.0196056785426i","19.5027085338546-44.3821889373688i","0.00229308230509429+0.0224361205178126i","-10.8340574742032-12.2356521191565i","7.24526043321659-15.7119171427345i","28.0365209990689+26.682741379826i","-17.6388910573906+34.4790036968101i","-26.8452913877444-29.2582509168555i","16.7341491559395-35.3638918982467i","0.0018156792100386+0.0190891232709073i","-0.666483723406001-0.904473995601901i","-21.2202588400801-90.7724871135917i","81.1659746662397-45.2909306270924i","7.32719892349568+48.7213348559766i","-42.0760975230016+25.402569149183i","0.0149408453644992-0.0279293711312131i","1.12304065842567+0.0819691703339984i","82.9465450842085+42.9979312516086i","-18.4091532045869+91.3184828819808i","-42.3636167845065-25.4020565192147i","7.17686103673032-48.7214213676945i","0.0117511506640229+0.0294929065552187i","0.531418756983876+0.844167077206647i","2.30066103857312-0.318254276533393i","0.952078656477284+2.1112685966308i","-0.000538997434088912+0.0000376929415926135i","-0.000254392002059369-0.000475034633869472i","0.000347978300162397+0.000222831009433719i","14.943357493128+8.23725735441201i","869.494109145105+1116.57844884957i","-831.154237116059+1140.28537332587i","-0.0985526601374224-0.153036129418883i","0.0899066328619358-0.158039243454372i","-0.0155620594866895+0.303496460867571i","-0.969080667521721+0.695228975307501i","52.4552346877092+52.5312177455851i","-36.3908746875982+64.3313072716541i","-26.8513979783262-29.2657210346177i","16.7384493348653-35.3725009133891i","0.00212002714330503+0.0255584669502272i","0.13448506413793+0.541241764483598i","64.2934623897506+61.8123522220583i","-40.6286719816797+79.4467211881734i","-33.1561626150393-35.0280824931714i","19.5074678883167-44.392232295388i","0.00295655237501361+0.0300986990488812i","1.87361707720221+0.187113454525999i","64.9867601949572+59.4325604343654i","-40.0380095099768+77.7890911376261i","-33.1559135117302-35.0269447649424i","19.5064809688618-44.3916595035335i","0.00331032566515233+0.030186797315063i","2.67374710210387-0.0639074703983002i","56.8560635327265+51.3848443685303i","-33.1567642516278+69.0019122469185i","-26.8515921146444-29.2644375344565i","16.7372054168928-35.3721511028114i","0.00285921340098208+0.0257610286599494i","-0.00735502257359855-0.0378563079453897i","0.0339708438044113-0.0180096634152989i","7.32552442355651+48.7094673007244i","-42.0663650590369+25.3955974105771i","0.00564425924560076-0.0102105722832015i","0.0341939925179986+0.0180096636658007i","-0.00724886258739943+0.0378563078887026i","-42.3534892253508-25.3955974109294i","7.17582683653206-48.7094673006654i","0.00431818086409448+0.0108668400158764i","-10.5906896029663-82.038822081279i","75.7321836360532-32.7081461561474i","0.000173074878872671+0.0106548288767196i","-0.00932495317165077+0.00506624653855671i","0.00973047098516732-0.0148629849249705i","76.2157719341512+32.7081461570845i","-10.3978872654529+82.0388220811381i","-0.00938775915761813-0.00506624707942373i","0.000143211839928939-0.0106548288300862i","0.0077876683755536+0.0160169782712746i","149.054116766338+31.2406368328404i","10.5684999912851+151.062456245663i","-26.8640176760029-29.2641039945397i","16.7311805729611-35.3829258670448i","0.020802373402185+0.0356659982402641i","71.7465941519123+16.1624362051705i","5.1725253734648+74.0414957892466i","-33.1576421661555-35.022320111277i","19.501681790107-44.3908768922783i","0.0105782848752825+0.0237296433259753i","-71.6922774344238-16.1109771451387i","-5.2057829577553-73.9746623011369i","-33.1392724088483-35.0156959818508i","19.5042189828831-44.3717232311449i","-0.00828379065946647-0.0012800642316265i","-149.015930693137-31.1977094453988i","-10.5983369012821-151.013653225162i","-26.8261678497662-29.2514916189498i","16.7375034278089-35.3436536327971i","-0.018986646915042-0.0165666303911492i","-0.000246015106502295-0.000699785065933503i","7.32971449558623+48.7003222249665i","-42.0564633034138+25.3960254521203i","0.00563797946779532-0.0102022128392591i","0.00069883166908473+0.000258858181089901i","-42.3489733111817-25.3865846545513i","7.16927863398586-48.7019993379595i","0.00431559016700927+0.0108566875180357i","0.1288894148651-0.312006833737399i","10.2147400225029-18.9953883875041i","21.1286906523931+2.26942297518228i","-0.00485048614325308+0.0021767867269491i","0.2056089131195+0.254581611005293i","11.1853508159369+18.5071881610348i","-12.7373110318934+17.0798982276915i","0.000517536640064749-0.0052611667465735i","0.271398124247016+0.956590861777181i","-0.212063939872177-0.151885046550854i","0.0598654677356393-0.249930441450344i","0.000181731057920091+0.00020119272723977i","1.16147307744663+1.02290459054579i","-20.3976091132884-20.6976154190474i","11.1670535570924-27.4267907465022i","0.000791465036849109+0.0063575337482555i","-1.16024685039671-1.0219958703955i","-45.8956027063322-49.3212381659037i","27.822734334609-61.3253145964391i","0.00150351133306397+0.0160717655081479i","0.000863407910500769+0.000624159399023938i","-53.6886076648777-58.5006923690744i","33.4556691127432-70.7196055058373i","0.001817423569815+0.0190838838493715i","7.32603436753851+48.6868897582748i","-42.0453691429466+25.3871736453875i","0.00563682109253337-0.0101993691985477i","-42.3362278837977-25.3808101935899i","7.16900258380386-48.6877429594837i","0.00431413520296288+0.0108539673226394i","13.0422791681669-24.6681782220465i","27.5775900982788+2.63328090224927i","-0.00610623532419317+0.00278983175653036i","14.6987985554315+23.5478117376843i","-16.0421681124886+22.3979893223339i","0.000579170455611123-0.00661436519052299i","3.60308413978167+18.1239823918622i","-15.5143118137707+10.6777232930247i","0.00196630584683074-0.00350787361547671i","-18.7291602049425-1.32544739799609i","-6.29750808318687-18.0676084764224i","0.00309867238953131+0.00274469344000177i","-66.2714500775137-70.0002087202222i","38.98109166657-88.7242276802084i","0.00229367085224549+0.022423117813024i","-53.6732640502511-58.4878579859283i","33.4498293633902-70.7000751408944i","0.00181646127776984+0.0190795799938471i","0.200955386060301-0.406439762563902i","0.0000492243974160103-0.000133538953804i","0.18199701850032+0.443055857312999i","0.0000904609676093005+0.000112277329871201i","-0.367829102617598+0.18013575635076i","-0.000170925056889311+0.0000796892087481099i","0.0357319127130999-0.412383734882802i","-0.000056402968281204-0.00015465904309433i","-0.129810905073001+0.2643927797107i","0.0000485829820330798+0.00036413809995477i","-0.2139958755488-0.198439141963501i","-0.00018243369870263-0.00017252347077509i","0.390379533727756+0.926455943960023i","-0.000185281961952488-0.000142645766664236i","0.216349476421001+1.85830209947841i","0.00021481895309708+0.000586571015995799i"]
[{"$f":"COMPLEX(定数!O$13,計算!B59*定数!O$23)","v":"74.3688188913563+154.306511153027i"},{"$f":"COMPLEX(定数!P$13,計算!B59*定数!P$23)","v":"-73.4757772913563+154.306511153027i"},{"$f":"COMPLEX(定数!Q$13,計算!B59*定数!Q$23)","v":"125.193786513619+220.765804185725i"},{"$f":"COMPLEX(定数!R$13,計算!B59*定数!R$23)","v":"-123.916114913619+220.765804185725i"},{"$f":"COMPLEX(定数!S$13,計算!B59*定数!S$23)","v":"-77.7867441135484-101.37278922916i"},{"$f":"COMPLEX(定数!T$13,計算!B59*定数!T$23)","v":"77.2000539135484-101.37278922916i"},{"$f":"COMPLEX(定数!U$13,計算!B59*定数!U$23)","v":"124.646605989444+184.985052487638i"},{"$f":"COMPLEX(定数!V$13,計算!B59*定数!V$23)","v":"-123.576013789444+184.985052487638i"},{"$f":"IMPRODUCT(定数!D$31,計算!G59)","v":"-0.0377887493721285-0.116301811833056i"},{"$f":"COMPLEX(定数!O$14,計算!B59*定数!O$24)","v":"86.1948356167649+189.476838806357i"},{"$f":"COMPLEX(定数!P$14,計算!B59*定数!P$24)","v":"-85.0982474167649+189.476838806357i"},{"$f":"COMPLEX(定数!Q$14,計算!B59*定数!Q$24)","v":"57.0863694248256+104.742769371413i"},{"$f":"COMPLEX(定数!R$14,計算!B59*定数!R$24)","v":"-56.4801756248256+104.742769371413i"},{"$f":"COMPLEX(定数!S$14,計算!B59*定数!S$24)","v":"163.969671876329+222.355311808213i"},{"$f":"COMPLEX(定数!T$14,計算!B59*定数!T$24)","v":"-162.682801076329+222.355311808213i"},{"$f":"COMPLEX(定数!U$14,計算!B59*定数!U$24)","v":"-101.525845343051-159.646062536603i"},{"$f":"COMPLEX(定数!V$14,計算!B59*定数!V$24)","v":"100.601901343051-159.646062536603i"},{"$f":"IMPRODUCT(定数!D$32,計算!G59)","v":"0.0377887493721285+0.116301811833056i"},{"$f":"COMPLEX(定数!O$15,計算!B59*定数!O$25)","v":"86.1919999827348+189.47473081759i"},{"$f":"COMPLEX(定数!P$15,計算!B59*定数!P$25)","v":"-85.0954239827348+189.47473081759i"},{"$f":"COMPLEX(定数!Q$15,計算!B59*定数!Q$25)","v":"-57.0828842529623-104.742389249705i"},{"$f":"COMPLEX(定数!R$15,計算!B59*定数!R$25)","v":"56.4766926529622-104.742389249705i"},{"$f":"COMPLEX(定数!S$15,計算!B59*定数!S$25)","v":"-163.956966054068-222.335614045633i"},{"$f":"COMPLEX(定数!T$15,計算!B59*定数!T$25)","v":"162.670209254068-222.335614045633i"},{"$f":"COMPLEX(定数!U$15,計算!B59*定数!U$25)","v":"-101.548680976766-159.677440780798i"},{"$f":"COMPLEX(定数!V$15,計算!B59*定数!V$25)","v":"100.624555376766-159.677440780798i"},{"$f":"IMPRODUCT(定数!D$33,計算!G59)","v":"0"},{"$f":"COMPLEX(定数!O$16,計算!B59*定数!O$26)","v":"74.3664237452132+154.303470090989i"},{"$f":"COMPLEX(定数!P$16,計算!B59*定数!P$26)","v":"-73.4733997452132+154.303470090989i"},{"$f":"COMPLEX(定数!Q$16,計算!B59*定数!Q$26)","v":"-125.201328746793-220.777380954154i"},{"$f":"COMPLEX(定数!R$16,計算!B59*定数!R$26)","v":"123.923590146793-220.777380954154i"},{"$f":"COMPLEX(定数!S$16,計算!B59*定数!S$26)","v":"77.7704269443536+101.344728523347i"},{"$f":"COMPLEX(定数!T$16,計算!B59*定数!T$26)","v":"-77.1838991443536+101.344728523347i"},{"$f":"COMPLEX(定数!U$16,計算!B59*定数!U$26)","v":"124.65071095008+184.98373930149i"},{"$f":"COMPLEX(定数!V$16,計算!B59*定数!V$26)","v":"-123.58012635008+184.98373930149i"},{"$f":"IMPRODUCT(定数!D$34,計算!G59)","v":"0"},{"$f":"IMDIV(COMPLEX(定数!O$17,計算!B59*定数!O$27),計算!R59)","v":"-0.60768270345985-0.279849373684706i"},{"$f":"IMPRODUCT(COMPLEX(定数!P$17,計算!B59*定数!P$27),計算!R59)","v":"0.0810415981056125-1.00107918829433i"},{"$f":"IMDIV(COMPLEX(定数!Q$17,計算!B59*定数!Q$27),計算!S59)","v":"0.577301448065952-0.747683173404317i"},{"$f":"IMPRODUCT(COMPLEX(定数!R$17,計算!B59*定数!R$27),計算!S59)","v":"-1.49128951029822+0.145104897496868i"},{"$f":"IMDIV(COMPLEX(定数!S$17,計算!B59*定数!S$27),計算!T59)","v":"-0.407154849447319-0.145393609609389i"},{"$f":"IMPRODUCT(COMPLEX(定数!T$17,計算!B59*定数!T$27),計算!T59)","v":"0.256547343462445-0.712423388295708i"},{"$f":"IMDIV(COMPLEX(定数!U$17,計算!B59*定数!U$27),計算!U59)","v":"0.786012529053292-0.0182940642679771i"},{"$f":"IMPRODUCT(COMPLEX(定数!V$17,計算!B59*定数!V$27),計算!U59)","v":"-0.80027243689826+1.05220316306571i"},{"$f":"IMPRODUCT(定数!E$31,計算!G59)","v":"0"},{"$f":"IMDIV(COMPLEX(定数!O$18,計算!B59*定数!O$28),計算!R59)","v":"-0.75903235177011-0.326044991261948i"},{"$f":"IMPRODUCT(COMPLEX(定数!P$18,計算!B59*定数!P$28),計算!R59)","v":"0.112356517445691-1.21166118673268i"},{"$f":"IMDIV(COMPLEX(定数!Q$18,計算!B59*定数!Q$28),計算!S59)","v":"0.266872515404011-0.361605983616502i"},{"$f":"IMPRODUCT(COMPLEX(定数!R$18,計算!B59*定数!R$28),計算!S59)","v":"-0.700515946626256+0.06197907008138i"},{"$f":"IMDIV(COMPLEX(定数!S$18,計算!B59*定数!S$28),計算!T59)","v":"0.900326744487666+0.291592795833246i"},{"$f":"IMPRODUCT(COMPLEX(定数!T$18,計算!B59*定数!T$28),計算!T59)","v":"-0.569977947605154+1.53533960619737i"},{"$f":"IMDIV(COMPLEX(定数!U$18,計算!B59*定数!U$28),計算!U59)","v":"-0.678003332193313+0.0414849909939449i"},{"$f":"IMPRODUCT(COMPLEX(定数!V$18,計算!B59*定数!V$28),計算!U59)","v":"0.690309938101624-0.882377045560766i"},{"$f":"IMPRODUCT(定数!E$32,計算!G59)","v":"0"},{"$f":"IMDIV(COMPLEX(定数!O$19,計算!B59*定数!O$29),計算!R59)","v":"-0.759028615145125-0.326034930176982i"},{"$f":"IMPRODUCT(COMPLEX(定数!P$19,計算!B59*定数!P$29),計算!R59)","v":"0.112359975358436-1.21164127279905i"},{"$f":"IMDIV(COMPLEX(定数!Q$19,計算!B59*定数!Q$29),計算!S59)","v":"-0.26686158578353+0.361614407583779i"},{"$f":"IMPRODUCT(COMPLEX(定数!R$19,計算!B59*定数!R$29),計算!S59)","v":"0.700503443225989-0.0619691088382057i"},{"$f":"IMDIV(COMPLEX(定数!S$19,計算!B59*定数!S$29),計算!T59)","v":"-0.900245009321638-0.291574448432933i"},{"$f":"IMPRODUCT(COMPLEX(定数!T$19,計算!B59*定数!T$29),計算!T59)","v":"0.569925477041949-1.53521107902113i"},{"$f":"IMDIV(COMPLEX(定数!U$19,計算!B59*定数!U$29),計算!U59)","v":"-0.678136762848261+0.0414808980547309i"},{"$f":"IMPRODUCT(COMPLEX(定数!V$19,計算!B59*定数!V$29),計算!U59)","v":"0.69044578760407-0.882562722390171i"},{"$f":"IMPRODUCT(定数!E$33,計算!G59)","v":"0"},{"$f":"IMDIV(COMPLEX(定数!O$20,計算!B59*定数!O$30),計算!R59)","v":"-0.607673057462345-0.27984066920412i"},{"$f":"IMPRODUCT(COMPLEX(定数!P$20,計算!B59*定数!P$30),計算!R59)","v":"0.0810423311133563-1.00105626986812i"},{"$f":"IMDIV(COMPLEX(定数!Q$20,計算!B59*定数!Q$30),計算!S59)","v":"-0.577334693913626+0.747719479820961i"},{"$f":"IMPRODUCT(COMPLEX(定数!R$20,計算!B59*定数!R$30),計算!S59)","v":"1.49137068489392-0.145115408118933i"},{"$f":"IMDIV(COMPLEX(定数!S$20,計算!B59*定数!S$30),計算!T59)","v":"0.407036457354052+0.145374784376793i"},{"$f":"IMPRODUCT(COMPLEX(定数!T$20,計算!B59*定数!T$30),計算!T59)","v":"-0.256470640592846+0.712247605206889i"},{"$f":"IMDIV(COMPLEX(定数!U$20,計算!B59*定数!U$30),計算!U59)","v":"0.786007233080589-0.0182727286923642i"},{"$f":"IMPRODUCT(COMPLEX(定数!V$20,計算!B59*定数!V$30),計算!U59)","v":"-0.800267039696257+1.05221689931552i"},{"$f":"IMPRODUCT(定数!E$34,計算!G59)","v":"0"},"0.625270259044305+0.777519931258067i","1.47833369448294-0.0988412971925875i","0.846934974194487+1.21123643601074i","-0.730282833272581+0.152141812882747i","-0.337450330930248-0.662939209077708i","1.28877456861469-0.186654233117803i","0.65962476936107+1.11875725468973i","-0.000707415405806446-0.0000960484344600881i","8.3287040725737+3.984404059463i","-89.0664968934274-166.847616396474i","100.019654438784-160.134117708484i","255.743630399296+347.613155939387i","-259.207950929804+343.436269917397i","-247.978211472847-387.750362790979i","255.724240789516-381.060776296555i","0.0805653502545851+0.258619525667713i","8.3316615409472+3.98581889535399i","-203.231350201539-376.329938984516i","212.976371041405-369.614056376933i","-72.1853990591875-97.078877923967i","66.145499983357-101.257247130938i","-247.996999148512-387.779553595955i","255.746406949948-381.087591673003i","0.0427747973802794+0.142315950252718i","0.00151067344579303+0.000722697474998313i","-250.391273852649-441.538926174753i","247.838050148304-441.537708469802i","155.554959251099+202.715661318982i","-154.382745261498+202.714903708826i","0.00775939117599478+0.0021589931020003i","-0.00593487312998775+0.00337236082100389i","0.0377873470980956+0.116299430488883i","0.24341905372475-0.353612284096289i","1.50331993925866-0.394036561597739i","-1.31558553352672+1.11816655154095i","-0.893511886907212-0.257308854951543i","0.237007736530762-1.20971534285811i","1.62141361329298+0.22894214258637i","-0.712513390813987+1.9166481746835i","-0.000403005012042556-0.000256336730565639i","0.333450393466969-0.417632168615279i","1.42120232610787+0.045373570623333i","-0.452582474562332+1.25748561691694i","0.296413372039508+0.168968293875096i","-0.609965657265798+0.922123309051007i","0.361075937329707+0.32000688242529i","0.826221278746019+0.181863256688744i","-0.00050563506817341-0.000303553118896808i","0.333459337673333-0.417621450879253i","0.88746170649102+0.768579457515567i","0.948445936964225+1.13352439097628i","-1.50415412226501-0.414192171450347i","0.529932358418933-2.14842150389583i","0.360935813063409+0.31999052047251i","0.826365919389867+0.181666762942179i","-0.00050563339117879-0.000303545642633324i","0.243420523284282-0.353602308278226i","0.348668676913803+1.1013541769235i","1.66707703531682+0.827927190212467i","-0.079312211483997+0.033464428207836i","-0.276012763020954+0.214964982684297i","1.62139426107586+0.228954060515037i","-0.71250461815006+1.91664537771262i","-0.000402999024367049-0.000256329646399013i","2.35777868294194+20.321113980733i","-16.3834580173098+12.1388277402704i","-9.40062829566864-45.671527152453i","40.9713580766154-22.0098522017059i","7.32640861494234+49.1848199527693i","-42.0683861517283+26.2944550014891i","0.00353103736596488-0.0290604551089592i","-16.501065498572-12.1388277404911i","2.28752579455263-20.3211139807163i","41.2356798692262+22.0098522022621i","-9.27324732265946+45.6715271523221i","-42.3530409593977-26.2944550020587i","7.17423070689787-49.1848199526743i","0.0199600424134255+0.0215028232589449i","-114.133226377932-209.423076089201i","112.921200276025-209.423076090132i","-328.019842348705-444.815469025016i","325.445493964649-444.815469022319i","0.069267764822996+0.108496816532977i","-0.0686398485489974+0.108496813924035i","-0.0378191611023729-0.116395409519117i","-250.37511883133-441.508663091652i","247.819908426067-441.508663091638i","155.508572069113+202.652610697993i","-154.335729715659+202.652610697953i","0.0527380692654969+0.0724897638050669i","-0.0523185381409356+0.0724897638426897i","0.0377727340281193+0.116252521672523i","9.81243229193763-3.27419406065216i","5.31338263229445+6.87361010850063i","-18.7140161702346+8.96651669417265i","-13.6557202097302-15.606169431196i","21.2289930583402-8.34704205468079i","14.9334986856398+16.4260666120856i","-0.0128653220957388+0.00156758256780164i","11.9930540629396-2.79830531171354i","7.27139204962307+8.98891342781632i","-22.6456626113644+10.0511208249913i","-16.5916966174044-18.1798717795963i","25.4651243748302-8.60008909446373i","18.9751342464955+19.5787503507781i","-0.0161415897735317+0.000862277803529162i","11.4593309315063-2.07481399857681i","8.67218220471146+8.86510944101503i","-24.4463630303134+9.46732154587403i","-15.45122616451-21.25072569989i","25.4650812478747-8.59941634467184i","18.9746875694227+19.5789168847003i","-0.016141536161692+0.000861879027638356i","8.65768418415382-1.77862087177365i","8.29583911974674+6.58337779031776i","-17.8996575268166+9.25684627290385i","-14.1682714708474-14.1814637144535i","21.228773637739-8.3465689892541i","14.9330062565292+16.4260645263154i","-0.0128651309322811+0.00156735893453774i","-0.680431643222699-0.8956304736435i","-21.2175537106587-91.5807538604203i","81.1336440981381-46.9479970790684i","7.32843655445494+49.1956731664548i","-42.0773279278856+26.3008824685895i","0.00425812640957452-0.039532701980516i","1.12430470738717+0.0811677142816976i","82.943515242144+44.6774175745803i","-18.4034385173583+92.1214111386108i","-42.362378474318-26.3003748508612i","7.17562207166695-49.1957588323047i","0.0271383944554166+0.0291817088915352i","0.544436682056481+0.835913207974575i","2.29575323010912-0.315142535680649i","0.984636590968732+2.09062560381451i","-0.000538416169788026+0.0000373243979460541i","-0.000261717525218155-0.000470389968199273i","0.000504396608187393+0.0000943031280646837i","15.070384478585+8.156717320486i","869.44621947677+1137.34370029196i","-830.836541611509+1160.81882959456i","-0.0985469882637531-0.155880538933921i","0.0898351513737134-0.160834735008992i","0.122425446743958+0.362559150716664i","-2.76580750840299+0.45385970410423i","-40.209101481093+19.5755730785949i","-30.162514025832-32.8964003383665i","21.2341540232291-8.34917117683375i","14.9376069191757+16.4298253678327i","-0.0181234464036709+0.00229373188748926i","-1.59720688213452+0.48726119194232i","-49.2968901836893+20.2548607511391i","-34.2507052171994-40.4975438688941i","25.4714771840018-8.60204338081399i","18.9795893336712+19.5836593975564i","-0.0224547345088611+0.00114275099824617i","0.69893766827407+0.415708210086819i","-50.1002968866311+17.841905091941i","-31.0721619762683-43.1649585654278i","25.4711736957598-8.60096117070586i","18.9786626488456+19.5837642238278i","-0.0221172452658588+0.000827757418770792i","2.09550558953831+0.31465167637585i","-37.2150448663071+16.0685254313342i","-26.4113744456254-30.5301447477764i","21.2333686889435-8.34784977034117i","14.9361087696233+16.4296715178506i","-0.0173997669813753+0.00164804256914983i","-0.00735607642609892-0.0381931644752029i","0.0339718976691046-0.0187073619197022i","7.32676238815969+49.1836846179166i","-42.0676030236429+26.2936961065637i","0.00176656845258656-0.0145388065680348i","0.0341929386622013+0.0187073621776008i","-0.00724780874060116+0.0381931644163984i","-42.352251260747-26.2936961069114i","7.17458887192913-49.1836846178586i","0.0099859196325647+0.0107577552454317i","-10.5933090578725-82.652840899186i","75.7348030909695-34.2190711945328i","0.000173371639536645+0.010749589953395i","-0.00932524992101814+0.0052626164932103i","0.00431191867823298-0.0218549995375559i","76.2131524792696+34.2190711954471i","-10.3952678105513+82.6528408990484i","-0.00938746239873136-0.00526261701574215i","0.000142915078489961-0.0107495899082915i","0.0163538742243322+0.0152063288033327i","186.11246541262+79.6288582884471i","-21.4010298742986+200.423440783641i","21.2058016194403-8.35946597158316i","14.9331233890778+16.4000292079569i","0.0340097616086574+0.0369291457505783i","89.1049068832207+37.7740852460276i","-10.5805767319541+96.5813530269639i","25.4539191954129-8.60587472281185i","18.9745797406265+19.5664204416033i","0.0110752398495834+0.0174617957675067i","-89.1433911348152-37.7575259421402i","10.552946817057-96.612744284739i","25.4755472337398-8.59338048424882i","18.9740940673339+19.5912181061617i","-0.0272261882546359-0.0165989583598215i","-186.15304376728-79.618325717025i","21.3788223022445-200.458746399987i","21.2513842776055-8.33386814618841i","14.9324269137925+16.4521523751196i","-0.0468847049795789-0.0353626783745172i","-0.000232322189827903-0.000543075811422298i","7.33037522593068+49.1861602051945i","-42.0686061954374+26.2978380350956i","0.00176435083901381-0.0145294188031131i","0.00056547493753034+0.000179200959204595i","-42.3564700821222-26.2924867842312i","7.17203073185889-49.1871041779934i","0.00998008573634745+0.0107500480644798i","0.157809061982306+0.0204477256927973i","7.39220579086549+5.78976195453019i","-2.71119088240884+8.72655982529973i","-0.00169197210198801-0.0020804603663249i","-0.0980949578759986+0.108498843631196i","-8.82072284369194+3.28895517981531i","-6.04173234699406-6.88717190388035i","0.0025905923909124-0.000280622297751599i","0.29226205660626+0.951848907607017i","0.0800663980848915-0.0791728904653596i","0.0996899730116538+0.045466220951254i","0.000226222106090063+0.000101633910877933i","-0.667338294067759+0.727012907321097i","15.3289267359709-4.57561663682162i","11.8091588842597+11.7494595186935i","-0.0052431318351075-0.000139617517431002i","0.66671782100458-0.726612628466i","35.6023099406371-12.6280113234922i","26.1441043066729+27.408277966i","-0.0108974275946825+0.0010026201495122i","-0.000322642064997325+0.000240575225006978i","42.4596009656201-16.6973901284567i","29.8700744341707+32.8529765357545i","-0.0128646931836435+0.0015682088124525i","7.33165315056105+49.1766707387516i","-42.0592885460135+26.294288295283i","0.00176298373259102-0.0145265927247585i","-42.3500876708731-26.2852945441884i","7.16862422619701-49.177688168216i","0.00997883160116103+0.0107471555331411i","9.41896622218143+7.38542778503161i","-3.16323442483649+11.3743924952718i","-0.0021605046958753-0.00278455943936044i","-11.0875471888362+3.98426248164569i","-7.80513933772885-8.61538427641968i","0.00336784718570571-0.000265792785409825i","-3.7595153435421+15.5982094027843i","-16.1533121222657+4.32862201481306i","0.00302328278578793-0.0043908027174691i","-13.9195778767024-8.3077746223856i","0.679035645910438-16.8666955570253i","0.00348853085525793+0.00400969718144142i","50.9192745269704-17.203210997986i","37.946933132673+39.1470003508246i","-0.0161367898933672+0.000864094156037078i","42.453111279521-16.6967218604367i","29.8662358105549+32.847371271117i","-0.0128626030030429+0.00156866325533569i","-0.206975802273298-1.8506904204817i","-0.00009068340277269+0.000307266258744301i","1.54487852942014+1.070056940057i","-0.00015959360476837-0.0002895154584697i","-0.50235299082018-0.471866297150999i","-0.0000301328843755298+0.00011586402347504i","0.67600636692042-0.195063783601721i","-0.00016517056210548-8.62805509066402E-06i","-0.226715020598899+0.97543499691888i","0.00067317551054877-0.00017777702626659i","-0.865574518160582-0.4958410764512i","0.00012942542204256+0.000478217425146729i","0.435755246983889+0.916026205036805i","-0.000289587763319348-0.0000808681049962614i","-3.9275649426582+1.2348930118481i","0.000781530794844101+0.00016659957737684i"]
[{"$f":"COMPLEX(定数!O$13,計算!B60*定数!O$23)","v":"74.3688188913563+157.112084083082i"},{"$f":"COMPLEX(定数!P$13,計算!B60*定数!P$23)","v":"-73.4757772913563+157.112084083082i"},{"$f":"COMPLEX(定数!Q$13,計算!B60*定数!Q$23)","v":"125.193786513619+224.779727898193i"},{"$f":"COMPLEX(定数!R$13,計算!B60*定数!R$23)","v":"-123.916114913619+224.779727898193i"},{"$f":"COMPLEX(定数!S$13,計算!B60*定数!S$23)","v":"-77.7867441135484-103.215930851508i"},{"$f":"COMPLEX(定数!T$13,計算!B60*定数!T$23)","v":"77.2000539135484-103.215930851508i"},{"$f":"COMPLEX(定数!U$13,計算!B60*定数!U$23)","v":"124.646605989444+188.348417078322i"},{"$f":"COMPLEX(定数!V$13,計算!B60*定数!V$23)","v":"-123.576013789444+188.348417078322i"},{"$f":"IMPRODUCT(定数!D$31,計算!G60)","v":"-0.0851876484820031-0.10297417783443i"},{"$f":"COMPLEX(定数!O$14,計算!B60*定数!O$24)","v":"86.1948356167649+192.9218722392i"},{"$f":"COMPLEX(定数!P$14,計算!B60*定数!P$24)","v":"-85.0982474167649+192.9218722392i"},{"$f":"COMPLEX(定数!Q$14,計算!B60*定数!Q$24)","v":"57.0863694248256+106.647183359984i"},{"$f":"COMPLEX(定数!R$14,計算!B60*定数!R$24)","v":"-56.4801756248256+106.647183359984i"},{"$f":"COMPLEX(定数!S$14,計算!B60*定数!S$24)","v":"163.969671876329+226.398135659272i"},{"$f":"COMPLEX(定数!T$14,計算!B60*定数!T$24)","v":"-162.682801076329+226.398135659272i"},{"$f":"COMPLEX(定数!U$14,計算!B60*定数!U$24)","v":"-101.525845343051-162.548718219086i"},{"$f":"COMPLEX(定数!V$14,計算!B60*定数!V$24)","v":"100.601901343051-162.548718219086i"},{"$f":"IMPRODUCT(定数!D$32,計算!G60)","v":"0.0851876484820031+0.10297417783443i"},{"$f":"COMPLEX(定数!O$15,計算!B60*定数!O$25)","v":"86.1919999827348+192.919725923365i"},{"$f":"COMPLEX(定数!P$15,計算!B60*定数!P$25)","v":"-85.0954239827348+192.919725923365i"},{"$f":"COMPLEX(定数!Q$15,計算!B60*定数!Q$25)","v":"-57.0828842529623-106.646796326972i"},{"$f":"COMPLEX(定数!R$15,計算!B60*定数!R$25)","v":"56.4766926529622-106.646796326972i"},{"$f":"COMPLEX(定数!S$15,計算!B60*定数!S$25)","v":"-163.956966054068-226.378079755553i"},{"$f":"COMPLEX(定数!T$15,計算!B60*定数!T$25)","v":"162.670209254068-226.378079755553i"},{"$f":"COMPLEX(定数!U$15,計算!B60*定数!U$25)","v":"-101.548680976766-162.580666976812i"},{"$f":"COMPLEX(定数!V$15,計算!B60*定数!V$25)","v":"100.624555376766-162.580666976812i"},{"$f":"IMPRODUCT(定数!D$33,計算!G60)","v":"0"},{"$f":"COMPLEX(定数!O$16,計算!B60*定数!O$26)","v":"74.3664237452132+157.108987729007i"},{"$f":"COMPLEX(定数!P$16,計算!B60*定数!P$26)","v":"-73.4733997452132+157.108987729007i"},{"$f":"COMPLEX(定数!Q$16,計算!B60*定数!Q$26)","v":"-125.201328746793-224.79151515332i"},{"$f":"COMPLEX(定数!R$16,計算!B60*定数!R$26)","v":"123.923590146793-224.79151515332i"},{"$f":"COMPLEX(定数!S$16,計算!B60*定数!S$26)","v":"77.7704269443536+103.187359951044i"},{"$f":"COMPLEX(定数!T$16,計算!B60*定数!T$26)","v":"-77.1838991443536+103.187359951044i"},{"$f":"COMPLEX(定数!U$16,計算!B60*定数!U$26)","v":"124.65071095008+188.347080016062i"},{"$f":"COMPLEX(定数!V$16,計算!B60*定数!V$26)","v":"-123.58012635008+188.347080016062i"},{"$f":"IMPRODUCT(定数!D$34,計算!G60)","v":"0"},{"$f":"IMDIV(COMPLEX(定数!O$17,計算!B60*定数!O$27),計算!R60)","v":"-0.665708202996777+0.142154393644481i"},{"$f":"IMPRODUCT(COMPLEX(定数!P$17,計算!B60*定数!P$27),計算!R60)","v":"0.678838708949572-0.75079067137575i"},{"$f":"IMDIV(COMPLEX(定数!Q$17,計算!B60*定数!Q$27),計算!S60)","v":"0.0435562969145771-0.960579333904844i"},{"$f":"IMPRODUCT(COMPLEX(定数!R$17,計算!B60*定数!R$27),計算!S60)","v":"-1.30502778776129-0.757763172745242i"},{"$f":"IMDIV(COMPLEX(定数!S$17,計算!B60*定数!S$27),計算!T60)","v":"-0.426071737050315+0.110400922207131i"},{"$f":"IMPRODUCT(COMPLEX(定数!T$17,計算!B60*定数!T$27),計算!T60)","v":"0.619192758826532-0.443593357297766i"},{"$f":"IMDIV(COMPLEX(定数!U$17,計算!B60*定数!U$27),計算!U60)","v":"0.650083206704607-0.467142900778639i"},{"$f":"IMPRODUCT(COMPLEX(定数!V$17,計算!B60*定数!V$27),計算!U60)","v":"-1.26630130160531+0.408324356300569i"},{"$f":"IMPRODUCT(定数!E$31,計算!G60)","v":"0"},{"$f":"IMDIV(COMPLEX(定数!O$18,計算!B60*定数!O$28),計算!R60)","v":"-0.817119576938795+0.19633174365408i"},{"$f":"IMPRODUCT(COMPLEX(定数!P$18,計算!B60*定数!P$28),計算!R60)","v":"0.833242854832977-0.900137918620799i"},{"$f":"IMDIV(COMPLEX(定数!Q$18,計算!B60*定数!Q$28),計算!S60)","v":"0.0109636650277383-0.457308557954791i"},{"$f":"IMPRODUCT(COMPLEX(定数!R$18,計算!B60*定数!R$28),計算!S60)","v":"-0.609471291422531-0.361082031956442i"},{"$f":"IMDIV(COMPLEX(定数!S$18,計算!B60*定数!S$28),計算!T60)","v":"0.925258921061039-0.268849554632397i"},{"$f":"IMPRODUCT(COMPLEX(定数!T$18,計算!B60*定数!T$28),計算!T60)","v":"-1.3488586399416+0.946304647128417i"},{"$f":"IMDIV(COMPLEX(定数!U$18,計算!B60*定数!U$28),計算!U60)","v":"-0.546243672402426+0.424169533418786i"},{"$f":"IMPRODUCT(COMPLEX(定数!V$18,計算!B60*定数!V$28),計算!U60)","v":"1.07805308729909-0.331377461389123i"},{"$f":"IMPRODUCT(定数!E$32,計算!G60)","v":"0"},{"$f":"IMDIV(COMPLEX(定数!O$19,計算!B60*定数!O$29),計算!R60)","v":"-0.817110377186979+0.196337530904538i"},{"$f":"IMPRODUCT(COMPLEX(定数!P$19,計算!B60*定数!P$29),計算!R60)","v":"0.833233475702986-0.900119932689123i"},{"$f":"IMDIV(COMPLEX(定数!Q$19,計算!B60*定数!Q$29),計算!S60)","v":"-0.0109498735080721+0.457309113883195i"},{"$f":"IMPRODUCT(COMPLEX(定数!R$19,計算!B60*定数!R$29),計算!S60)","v":"0.609455327797545+0.361082937110386i"},{"$f":"IMDIV(COMPLEX(定数!S$19,計算!B60*定数!S$29),計算!T60)","v":"-0.925179512389576+0.268818431764207i"},{"$f":"IMPRODUCT(COMPLEX(定数!T$19,計算!B60*定数!T$29),計算!T60)","v":"1.34874170584959-0.946228123153576i"},{"$f":"IMDIV(COMPLEX(定数!U$19,計算!B60*定数!U$29),計算!U60)","v":"-0.5463580913284+0.424242891757595i"},{"$f":"IMPRODUCT(COMPLEX(定数!V$19,計算!B60*定数!V$29),計算!U60)","v":"1.07827203267878-0.331452604836414i"},{"$f":"IMPRODUCT(定数!E$33,計算!G60)","v":"0"},{"$f":"IMDIV(COMPLEX(定数!O$20,計算!B60*定数!O$30),計算!R60)","v":"-0.665695026342758+0.142155541459768i"},{"$f":"IMPRODUCT(COMPLEX(定数!P$20,計算!B60*定数!P$30),計算!R60)","v":"0.67882527352048-0.750771925462967i"},{"$f":"IMDIV(COMPLEX(定数!Q$20,計算!B60*定数!Q$30),計算!S60)","v":"-0.0435626824836804+0.960629048094794i"},{"$f":"IMPRODUCT(COMPLEX(定数!R$20,計算!B60*定数!R$30),計算!S60)","v":"1.30510032381061+0.757802251430107i"},{"$f":"IMDIV(COMPLEX(定数!S$20,計算!B60*定数!S$30),計算!T60)","v":"0.42596109358068-0.110349434581019i"},{"$f":"IMPRODUCT(COMPLEX(定数!T$20,計算!B60*定数!T$30),計算!T60)","v":"-0.619028658091143+0.443491495386095i"},{"$f":"IMDIV(COMPLEX(定数!U$20,計算!B60*定数!U$30),計算!U60)","v":"0.6500907997791-0.467122243050541i"},{"$f":"IMPRODUCT(COMPLEX(定数!V$20,計算!B60*定数!V$30),計算!U60)","v":"-1.2663045202247+0.40833879919621i"},{"$f":"IMPRODUCT(定数!E$34,計算!G60)","v":"0"},"0.636106101954504+0.768764780177105i","1.47695620083119-0.0977283090167606i","0.863815271689223+1.19759748276246i","-0.728162521344622+0.150428641935008i","-0.346689328980051-0.655474277698293i","1.28617327716572-0.184552440038103i","0.675216238311386+1.1061596499288i","-0.000745121495831381+0.000189507020292074i","8.38423239376969+3.93953825203403i","-89.0735558652654-169.866296588861i","100.106157592157-163.228394284876i","255.75449594642+353.910440507852i","-259.255296212999+349.780587708677i","-247.99154180149-394.772207642167i","255.804139335753-388.15794827194i","0.185973322486926+0.230389885393595i","8.38720957988809+3.94093715637001i","-203.238411679971-383.157383383054i","213.062904911484-376.517124003259i","-72.1745296537785-98.866911213147i","66.0981378881606-102.998230496112i","-248.010334210667-394.801919189001i","255.826333867638-388.185311138415i","0.100783154371134+0.127414645665655i","0.00152074525989576+0.000714559643995472i","-250.391275133016-449.566903945745i","247.838065838383-449.565699952585i","155.554961221909+206.401396452143i","-154.38275384906+206.400647372947i","0.00775697329999048+0.00220335554300277i","-0.00592038100698744+0.00340306031000637i","0.0851852770262917+0.102972324571459i","1.2115830501783-0.329442928253734i","1.01288564676468-1.23559368405092i","-0.55973513153163-0.083307840749805i","-0.889431408243212+0.314054004805312i","0.295220280137309-0.830664549470736i","1.48006436757985-0.772836156332303i","-0.659558858655174+1.04871895414615i","-0.000469094236443187+0.000232078672365289i","1.50395053350224-0.396852986822765i","1.19862632169443-0.827137658683403i","0.331495479919928+0.447903958015617i","0.359796987243851-0.00296994889584501i","-1.76083568562788+0.478769903106242i","0.468480189356914+0.020851479544601i","1.8469597471206+0.43992086237624i","-0.000571647117713108+0.000301140898758703i","1.50393975138831-0.396845754641601i","1.17669862994992+0.087472364715321i","1.55042108305047+1.1700529103675i","-1.49063387672406+0.534700867653472i","0.936764056225282-1.4137548305971i","0.46835286990481+0.020919092313168i","1.84717888230142+0.439831634889217i","-0.000571639166055684+0.000301143467545866i","1.21156211539915-0.329435042220789i","0.925747093851514+0.685614290407929i","2.050382972466+1.43224081159748i","-0.037388810202309+0.093302501667066i","-0.942997320938422+0.056429338106212i","1.48005480136195-0.772814543109903i","-0.659569704698368+1.04871804653528i","-0.000469084200715979+0.000232077030558692i","2.35819771334354+20.5431494237758i","-16.3838770477107+12.5069730557948i","-9.40184005493264-46.0755509082778i","40.9725698358775-22.8363989795999i","7.32758087395824+49.6666202527574i","-42.0695584107417+27.1850051552224i","-0.00828980438027376-0.0307971800470012i","-16.5006464681709-12.5069730560109i","2.28710676415114-20.5431494237595i","41.2344681099625+22.8363989801446i","-9.27203556339517+46.0755509081496i","-42.3518687003825-27.1850051557801i","7.17305844788178-49.6666202526643i","0.0287463063713091+0.0139717873190373i","-114.133226377933-213.230768381737i","112.921200276014-213.230768382659i","-328.019842348703-452.903023007268i","325.445493964677-452.903023004598i","0.0692677648200117+0.11046948590598i","-0.0686398485769928+0.110469483324039i","-0.085256206026214-0.103057049671822i","-250.375118831329-449.536093329688i","247.819908426074-449.536093329671i","155.508572069112+206.337203619788i","-154.335729715674+206.337203619738i","0.0527380692676955+0.0738077594949855i","-0.052318538126761+0.0738077595434113i","0.0851515448925107+0.102930536091674i","25.1251230517478+8.48162158909472i","3.43704038079205+25.5598949479682i","-58.3717042041808-13.7697360075157i","-3.6502030026875-59.7096276042898i","61.7487783314533+18.2115316677489i","7.01200192045694+63.5870675915219i","-0.0399005383184758-0.00722563467663337i","30.9782119940216+11.4344003060022i","5.04441024936356+32.2514296442309i","-70.717496468962-17.9837625488676i","-6.1013728508115-72.4962144738753i","74.9520462089776+24.0982888955689i","10.7693812602479+77.98271055832i","-0.0493494154498747-0.00930367855011098i","30.9560159377321+12.3489948134571i","6.26321194056149+32.9733405572347i","-72.5673175812225-17.4461437228063i","-3.40353985437075-74.3881753586983i","74.9512656399698+24.0983696929018i","10.7693185381667+77.9820339428167i","-0.0493489965057698-0.00930373323441661i","25.0375404310434+10.4026978574765i","6.04704436091153+27.07499549782i","-57.518618283062-13.9903346120586i","-4.88825135846759-58.8214960156525i","61.7476677563712+18.211318157124i","7.01174956820459+63.5859703572096i","-0.0398998163031983-0.00722557051647721i","-0.693860950049501-0.886825200607399i","-21.2149085434085-92.4046174353363i","81.1024750283372-48.5895479438327i","7.32960846834799+49.6775823666134i","-42.0784928843943+27.1916249181366i","-0.0118216941060401-0.0416735248057615i","1.1255217563507+0.0803697245896018i","82.9406386762077+46.3412913426668i","-18.3979769344528+92.9399593127107i","-42.3612059064501-27.1911222909785i","7.17444887327673-49.677667190252i","0.0390622564891419+0.0189407789273524i","0.556970573299121+0.827695037370254i","2.2910279042851-0.312044253349268i","1.01598395298856+2.0700718935517i","-0.000537856518377617+0.0000369574480689588i","-0.000268770669936518-0.000465765391394202i","0.00054203222756606-0.00010970423860877i","15.192688333601+8.07652562849097i","869.400110446994+1158.10882040846i","-830.530658694261+1181.35315706927i","-0.0985415272596595-0.158724933096427i","0.08976632790503-0.163630422639298i","0.270178943125668+0.319126374352538i","-3.53671771140478+0.0399416457353006i","-118.580703490292-25.3612174787275i","-11.6193583767999-120.337630085582i","61.7626055017511+18.2151650027766i","7.01480437081269+63.6010496154106i","-0.0544496345726854-0.00906661442559912i","-2.74534585614542+0.242292816409801i","-145.257483478108-34.5137196869149i","-13.9047084359411-148.240507658131i","74.9691306284818+24.1032940866462i","10.7723815471051+78.0002123687846i","-0.0673950068825257-0.0121030508585902i","-0.757176279724439+0.473173067900298i","-147.34184676624-36.0783885503508i","-9.29104821861141-151.015734453747i","74.9683719222594+24.1038676249062i","10.7718868729062+77.999771231305i","-0.0674828918546631-0.0126012802425466i","0.71213250492884+0.557550945552101i","-118.126424151003-30.010385073877i","-8.79165820683736-121.219978836604i","61.761518817862+18.2159879923751i","7.01363370808066+63.6004279171003i","-0.0546121901637436-0.010117443699238i","-0.00735707432060195-0.0385364644427i","0.0339728955762979-0.0193986169660008i","7.32793462789767+49.6654710586461i","-42.0687752633744+27.1842256790089i","-0.00414734206945795-0.0154076846158233i","0.0341919407548943+0.0193986172237004i","-0.00724681082769862+0.0385364643851034i","-42.3510790210104-27.184225679346i","7.17341663219044-49.6654710585899i","0.014381643692515+0.0069900116344012i","-10.5957894431032-83.2828755043287i","75.7372834761894-35.713980445639i","0.00017365263807741+0.0108461654386701i","-0.00932553092657752+0.00545717204565477i","-0.00457507236075533-0.0238080343726855i","76.2106720940293+35.713980446534i","-10.3927874253176+83.2828755041936i","-0.0093871813993196-0.00545717256386825i","0.000142634080429847-0.0108461653939773i","0.0225712580460627+0.00900624216542445i","152.381405457516+97.9050700452645i","-45.0492586255799+174.625495800363i","61.7291877225827+18.1962394633897i","7.01487561359544+63.562684093121i","0.0257382576614899+0.0218843885613822i","72.620410256888+45.0682101562896i","-22.2576618632191+82.91788723081i","74.9420373352162+24.0905867071811i","10.7701451790262+77.9704013343521i","-0.0032469493582491+0.0071533450678071i","-72.738039899966-45.0974472231683i","22.2469933685976-83.0383295046549i","74.9586819840863+24.1041773447081i","10.7668627586942+77.9914912815373i","-0.0461309594229781-0.0164620787214579i","-152.48615740424-97.934803717434i","45.043829521208-174.733913131174i","61.7651610831431+18.2251080542081i","7.00748484394465+63.6080722982648i","-0.0656644778602779-0.0291157077583802i","-0.000171749397696201-0.000422368211448202i","7.33428589289219+49.6778798869017i","-42.0777109833775+27.1948097537752i","-0.00414693921736491-0.0154003777842675i","0.00043165380601911+0.000154800410716603i","-42.3646738499595-27.1874322578906i","7.17113770185546-49.6791623063855i","0.0143758046107971+0.00698557618101427i","0.291472025040505+0.281163617377601i","11.9173463388966+27.3569396011347i","-20.4996695583834+21.4242410909557i","-0.00468496442231433-0.0081486600243023i","-0.3925025936101+0.0803574090993919i","-29.5608573996489-4.58675026826205i","-7.14324377598583-28.8549839740817i","0.0093696001495792+0.000510912000142499i","0.311900549201138+0.945580271103623i","0.341036900126964-0.0997037800376265i","0.222281222675926+0.274313163681519i","0.000184866114187265+0.0000248393738823825i","-2.292397327815+0.192660513186496i","45.6823268231465+15.9611934317045i","6.99079490533314+48.0318499915797i","-0.0155525362908431-0.002982085339024i","2.2907715898465-0.192755460023392i","104.261423591079+32.2318134187825i","14.5643397809613+107.968808834818i","-0.0338043529857904-0.0063183215249986i","-0.000872488449694231-0.000092007950001971i","123.533037644429+36.4210436319292i","14.0374885106549+127.206100466298i","-0.0399075936792435-0.0072232204757939i","7.33460971533631+49.6682944193352i","-42.069035587297+27.1906522177013i","-0.00414658554476565-0.0153972591246201i","-42.3577108121332-27.18075677668i","7.16842991113995-49.6698735045821i","0.0143732311068836+0.00698374814709284i","15.1041217001456+35.2571474700708i","-26.0480712071455+27.9224775343733i","-0.0060945355045394-0.0105538148535781i","-37.7888404933713-6.40977797316104i","-9.33782942531218-37.0183478472705i","0.0121205040495109+0.000707520703309294i","-1.77843835668235+20.7371172234989i","-19.2927365895405+8.05295806542997i","-0.000125678251506621-0.00682219145435241i","-19.2069240434166-8.57687672031255i","-1.27958771555117-21.060213005719i","0.00662825267379483+0.00185791871636259i","149.913339335865+48.1772394596672i","21.5550540125705+155.966298945683i","-0.0493462898781022-0.0092967570433975i","123.517068965891+36.4117932163492i","14.038309792178+127.18760794146i","-0.0399019815486363-0.00722098961123279i","-0.491247701566103-0.943320131203301i","0.000144626254059001+0.0000276217468163i","1.03222676507974+0.278206026679101i","-0.0001077427709973+0.0000637134936382604i","-0.8233177318881-0.967297625853799i","0.0000833627371329701+2.91540937149941E-06i","1.26280642557332-0.188807819232295i","-0.0000907864330528009+0.00017850730398296i","0.164318242387601+0.668689072793539i","0.000134270026769586-0.00019007651125792i","-0.684568934187035-0.0357894967884i","0.00021061066673563-0.0000939748031049501i","0.433369296806752+0.901105686508034i","-0.000316416275914832+0.0000396716241305465i","-6.6793216059944+0.105921493848001i","0.0006253443998646-0.00059982833605625i"]
[{"$f":"COMPLEX(定数!O$13,計算!B61*定数!O$23)","v":"74.3688188913563+159.917657013138i"},{"$f":"COMPLEX(定数!P$13,計算!B61*定数!P$23)","v":"-73.4757772913563+159.917657013138i"},{"$f":"COMPLEX(定数!Q$13,計算!B61*定数!Q$23)","v":"125.193786513619+228.79365161066i"},{"$f":"COMPLEX(定数!R$13,計算!B61*定数!R$23)","v":"-123.916114913619+228.79365161066i"},{"$f":"COMPLEX(定数!S$13,計算!B61*定数!S$23)","v":"-77.7867441135484-105.059072473857i"},{"$f":"COMPLEX(定数!T$13,計算!B61*定数!T$23)","v":"77.2000539135484-105.059072473857i"},{"$f":"COMPLEX(定数!U$13,計算!B61*定数!U$23)","v":"124.646605989444+191.711781669007i"},{"$f":"COMPLEX(定数!V$13,計算!B61*定数!V$23)","v":"-123.576013789444+191.711781669007i"},{"$f":"IMPRODUCT(定数!D$31,計算!G61)","v":"-0.111217149647373-0.0611421454222607i"},{"$f":"COMPLEX(定数!O$14,計算!B61*定数!O$24)","v":"86.1948356167649+196.366905672043i"},{"$f":"COMPLEX(定数!P$14,計算!B61*定数!P$24)","v":"-85.0982474167649+196.366905672043i"},{"$f":"COMPLEX(定数!Q$14,計算!B61*定数!Q$24)","v":"57.0863694248256+108.551597348555i"},{"$f":"COMPLEX(定数!R$14,計算!B61*定数!R$24)","v":"-56.4801756248256+108.551597348555i"},{"$f":"COMPLEX(定数!S$14,計算!B61*定数!S$24)","v":"163.969671876329+230.44095951033i"},{"$f":"COMPLEX(定数!T$14,計算!B61*定数!T$24)","v":"-162.682801076329+230.44095951033i"},{"$f":"COMPLEX(定数!U$14,計算!B61*定数!U$24)","v":"-101.525845343051-165.45137390157i"},{"$f":"COMPLEX(定数!V$14,計算!B61*定数!V$24)","v":"100.601901343051-165.45137390157i"},{"$f":"IMPRODUCT(定数!D$32,計算!G61)","v":"0.111217149647373+0.0611421454222607i"},{"$f":"COMPLEX(定数!O$15,計算!B61*定数!O$25)","v":"86.1919999827348+196.364721029139i"},{"$f":"COMPLEX(定数!P$15,計算!B61*定数!P$25)","v":"-85.0954239827348+196.364721029139i"},{"$f":"COMPLEX(定数!Q$15,計算!B61*定数!Q$25)","v":"-57.0828842529623-108.55120340424i"},{"$f":"COMPLEX(定数!R$15,計算!B61*定数!R$25)","v":"56.4766926529622-108.55120340424i"},{"$f":"COMPLEX(定数!S$15,計算!B61*定数!S$25)","v":"-163.956966054068-230.420545465474i"},{"$f":"COMPLEX(定数!T$15,計算!B61*定数!T$25)","v":"162.670209254068-230.420545465474i"},{"$f":"COMPLEX(定数!U$15,計算!B61*定数!U$25)","v":"-101.548680976766-165.483893172827i"},{"$f":"COMPLEX(定数!V$15,計算!B61*定数!V$25)","v":"100.624555376766-165.483893172827i"},{"$f":"IMPRODUCT(定数!D$33,計算!G61)","v":"0"},{"$f":"COMPLEX(定数!O$16,計算!B61*定数!O$26)","v":"74.3664237452132+159.914505367025i"},{"$f":"COMPLEX(定数!P$16,計算!B61*定数!P$26)","v":"-73.4733997452132+159.914505367025i"},{"$f":"COMPLEX(定数!Q$16,計算!B61*定数!Q$26)","v":"-125.201328746793-228.805649352487i"},{"$f":"COMPLEX(定数!R$16,計算!B61*定数!R$26)","v":"123.923590146793-228.805649352487i"},{"$f":"COMPLEX(定数!S$16,計算!B61*定数!S$26)","v":"77.7704269443536+105.029991378742i"},{"$f":"COMPLEX(定数!T$16,計算!B61*定数!T$26)","v":"-77.1838991443536+105.029991378742i"},{"$f":"COMPLEX(定数!U$16,計算!B61*定数!U$26)","v":"124.65071095008+191.710420730635i"},{"$f":"COMPLEX(定数!V$16,計算!B61*定数!V$26)","v":"-123.58012635008+191.710420730635i"},{"$f":"IMPRODUCT(定数!D$34,計算!G61)","v":"0"},{"$f":"IMDIV(COMPLEX(定数!O$17,計算!B61*定数!O$27),計算!R61)","v":"-0.455711803985934+0.521313462837933i"},{"$f":"IMPRODUCT(COMPLEX(定数!P$17,計算!B61*定数!P$27),計算!R61)","v":"1.00333158626508-0.184119647660217i"},{"$f":"IMDIV(COMPLEX(定数!Q$17,計算!B61*定数!Q$27),計算!S61)","v":"-0.525527307001824-0.825418443137328i"},{"$f":"IMPRODUCT(COMPLEX(定数!R$17,計算!B61*定数!R$27),計算!S61)","v":"-0.622245859771576-1.38672181483708i"},{"$f":"IMDIV(COMPLEX(定数!S$17,計算!B61*定数!S$27),計算!T61)","v":"-0.295637455305756+0.336537995112918i"},{"$f":"IMPRODUCT(COMPLEX(定数!T$17,計算!B61*定数!T$27),計算!T61)","v":"0.766102426777152-0.0139874695746836i"},{"$f":"IMDIV(COMPLEX(定数!U$17,計算!B61*定数!U$27),計算!U61)","v":"0.277769227477316-0.76600513863863i"},{"$f":"IMPRODUCT(COMPLEX(定数!V$17,計算!B61*定数!V$27),計算!U61)","v":"-1.28068225737022-0.391394523236606i"},{"$f":"IMPRODUCT(定数!E$31,計算!G61)","v":"0"},{"$f":"IMDIV(COMPLEX(定数!O$18,計算!B61*定数!O$28),計算!R61)","v":"-0.546224814346146+0.657337705220331i"},{"$f":"IMPRODUCT(COMPLEX(定数!P$18,計算!B61*定数!P$28),計算!R61)","v":"1.21866089272579-0.208881320703621i"},{"$f":"IMDIV(COMPLEX(定数!Q$18,計算!B61*定数!Q$28),計算!S61)","v":"-0.25816473393875-0.387304530599254i"},{"$f":"IMPRODUCT(COMPLEX(定数!R$18,計算!B61*定数!R$28),計算!S61)","v":"-0.286398499293015-0.653616017716513i"},{"$f":"IMDIV(COMPLEX(定数!S$18,計算!B61*定数!S$28),計算!T61)","v":"0.625796431717336-0.755064878671788i"},{"$f":"IMPRODUCT(COMPLEX(定数!T$18,計算!B61*定数!T$28),計算!T61)","v":"-1.65773395889842+0.0137923225613451i"},{"$f":"IMDIV(COMPLEX(定数!U$18,計算!B61*定数!U$28),計算!U61)","v":"-0.215646295606166+0.67007119443612i"},{"$f":"IMPRODUCT(COMPLEX(定数!V$18,計算!B61*定数!V$28),計算!U61)","v":"1.08118172215921+0.346774209424454i"},{"$f":"IMPRODUCT(定数!E$32,計算!G61)","v":"0"},{"$f":"IMDIV(COMPLEX(定数!O$19,計算!B61*定数!O$29),計算!R61)","v":"-0.54621385535904+0.657336694686532i"},{"$f":"IMPRODUCT(COMPLEX(定数!P$19,計算!B61*定数!P$29),計算!R61)","v":"1.21864245260752-0.208872694190335i"},{"$f":"IMDIV(COMPLEX(定数!Q$19,計算!B61*定数!Q$29),計算!S61)","v":"0.258176311974661+0.387297009886909i"},{"$f":"IMPRODUCT(COMPLEX(定数!R$19,計算!B61*定数!R$29),計算!S61)","v":"0.286384944926906+0.653607530505877i"},{"$f":"IMDIV(COMPLEX(定数!S$19,計算!B61*定数!S$29),計算!T61)","v":"-0.625747207585498+0.754993372777141i"},{"$f":"IMPRODUCT(COMPLEX(定数!T$19,計算!B61*定数!T$29),計算!T61)","v":"1.65759331853575-0.0137957177171788i"},{"$f":"IMDIV(COMPLEX(定数!U$19,計算!B61*定数!U$29),計算!U61)","v":"-0.215700156752308+0.6701986170301i"},{"$f":"IMPRODUCT(COMPLEX(定数!V$19,計算!B61*定数!V$29),計算!U61)","v":"1.08140570317567+0.346838088413543i"},{"$f":"IMPRODUCT(定数!E$33,計算!G61)","v":"0"},{"$f":"IMDIV(COMPLEX(定数!O$20,計算!B61*定数!O$30),計算!R61)","v":"-0.455700401731825+0.521306309576048i"},{"$f":"IMPRODUCT(COMPLEX(定数!P$20,計算!B61*定数!P$30),計算!R61)","v":"1.00330939155946-0.184112898296799i"},{"$f":"IMDIV(COMPLEX(定数!Q$20,計算!B61*定数!Q$30),計算!S61)","v":"0.525551134336708+0.825463553765748i"},{"$f":"IMPRODUCT(COMPLEX(定数!R$20,計算!B61*定数!R$30),計算!S61)","v":"0.622282220674562+1.38679635973164i"},{"$f":"IMDIV(COMPLEX(定数!S$20,計算!B61*定数!S$30),計算!T61)","v":"0.295573393875016-0.336431597908249i"},{"$f":"IMPRODUCT(COMPLEX(定数!T$20,計算!B61*定数!T$30),計算!T61)","v":"-0.765908137312319+0.0139968388496803i"},{"$f":"IMDIV(COMPLEX(定数!U$20,計算!B61*定数!U$30),計算!U61)","v":"0.277787123054836-0.765992281430682i"},{"$f":"IMPRODUCT(COMPLEX(定数!V$20,計算!B61*定数!V$30),計算!U61)","v":"-1.2806930333937-0.391384325342519i"},{"$f":"IMPRODUCT(定数!E$34,計算!G61)","v":"0"},"0.646511886205864+0.760116830987106i","1.47563337787531-0.0966289487539206i","0.880025615017802+1.18412553081037i","-0.726126361476788+0.148736447800054i","-0.355561644793574-0.648100750196707i","1.28367522714623-0.182476382230185i","0.690188904803816+1.09371629573871i","-0.000580265471201327+0.000425615864951687i","8.43755687761329+3.89522180113201i","-89.0803346768984-172.885046617539i","100.18922756267-166.321815062442i","255.764930255968+360.207832572079i","-259.300762431577+356.124437100413i","-248.004343069004-401.794184373859i","255.880866826271-395.254329789647i","0.244809906957149+0.138401190954997i","8.4405529989078+3.896604968985i","-203.245192898716-389.984897642682i","213.146004379601-383.41933552687i","-72.1640916390747-100.654836968395i","66.0526555248248-104.739682427157i","-248.023140023828-401.824416709379i","255.903088603587-395.282239865463i","0.13359018207058+0.077258984750723i","0.00153041733810255+0.000706521455981601i","-250.391276362567-457.594881729401i","247.838080905743-457.59369128014i","155.5549631145+210.087131604804i","-154.382762095794+210.086390952111i","0.00775465138599429+0.00224769406599989i","-0.00590646405498774+0.00343390317399894i","0.111214418436181+0.0611413360430413i","1.69421382154959-0.174760785534874i","0.096562269766295-1.63872094179065i","0.396092781703574-1.3058710337967i","-0.549003496763226+0.782858398017713i","0.266205141847159-0.123975559311773i","0.767627786265622-1.51835895779245i","-0.395985996977173-0.252779865032303i","-0.0000425545442751788+0.000496458375779416i","2.07145518112158-0.218663285492539i","0.484344982502412-1.41007511855191i","0.972663688005635-0.585291287797999i","0.326938270007346-0.196511103932558i","-2.27797161220028-0.106492313739475i","0.365580360670432-0.273410061630609i","2.17712098855241+0.490501999159412i","-0.0000371820433057156+0.000613912320074084i","2.07142888776414-0.21866233576769i","1.00066995461548-0.635471027932941i","1.54543629143732+0.721920172903594i","-0.924597561989263+1.31354478374033i","1.03736021675709-0.134073610797294i","0.36551261614258-0.273279342083105i","2.17733630056028+0.490554589584934i","-0.0000371761142831155+0.000613907069377437i","1.6941788178364-0.174758078547882i","1.14762457677026+0.0121727124922469i","1.640602357514+1.46763993412551i","0.042214567944072+0.109881914893748i","-1.26579673200369-0.0959864045035287i","0.767632350353359-1.51833483747734i","-0.39601246634902-0.252777200867357i","-0.0000425509724825699+0.000496449372008292i","2.35859488378158+20.7677481368794i","-16.3842742181499+12.872555101261i","-9.40298859918205-46.4869871721968i","40.9737183801296-23.6555332494063i","7.3286919786067+50.1555914320618i","-42.0706695153934+28.0683844296467i","-0.018193498567409-0.0241021827792622i","-16.5002492977341-12.8725551014733i","2.28670959371343-20.7677481368634i","41.2333195657172+23.6555332499416i","-9.27088701914734+46.4869871720709i","-42.350757595738-28.0683844301947i","7.1719473432346-50.1555914319705i","0.0301591763242354+0.0024799251887911i","-114.133226377934-217.038460674294i","112.921200276021-217.038460675195i","-328.019842348701-460.990576989473i","325.445493964658-460.99057698686i","0.0692677648179938+0.112442155229985i","-0.0686398485579787+0.112442152703011i","-0.11130665528418-0.061191351564105i","-250.375118831331-457.56352356773i","247.819908426082-457.56352356771i","155.508572069123+210.021796541602i","-154.335729715699+210.021796541542i","0.0527380692576175+0.0751257551689622i","-0.0523185381011666+0.0751257552251088i","0.111170014430187+0.0611162326173674i","30.3011305303758+17.2865433009909i","0.151305760352897+34.2787620670255i","-74.5411229863785-32.088705672644i","7.84896767237054-80.5030592465041i","77.4241195697769+38.6342342269825i","-3.78156775569373+85.9748915185248i","-0.0515720415934068+0.00156557619002871i","37.4786270712633+21.6468471177795i","0.776991292275634+42.9341876232644i","-90.2586317997496-40.1816748887144i","6.76125798951074-98.4294053610951i","94.23080176476+48.6084344930263i","-1.71206008598594+105.953803302583i","-0.0630528326880592+0.00207156302176495i","37.9945059710383+22.4211284164028i","1.34980429733357+44.2408508583961i","-91.5090610030887-38.6710361779585i","10.0763902055688-98.4557555543911i","94.2295938193827+48.6078674220761i","-1.71170383341454+105.952530322739i","-0.0630520314177868+0.00207159433370854i","31.3515804215466+18.9370310340071i","1.39583916146603+37.0515398965552i","-73.9483975671585-32.7609657423265i","6.31676712271903-80.4734177783591i","77.4225657193409+38.6333904925693i","-3.78147895081135+85.9731191363841i","-0.0515709756253309+0.00156557235234963i","-0.706793855602001-0.8780678437862i","-21.2123243931264-93.2432525754135i","81.0724213338363-50.2164290176762i","7.33071923676276+50.166664000816i","-42.0795969525974+28.0751949584671i","-0.0251440251824998-0.0324028558109608i","1.12669381828208+0.0795760773685004i","82.9379051988092+47.9903738438656i","-18.39275399272+93.773307977127i","-42.3600945082371-28.0746972947202i","7.17333686784518-50.1667479868267i","0.0409658008560982+0.00332998838754346i","0.569041161434375+0.819521588108276i","2.286477245537-0.308962831138315i","1.04617259023966+2.04963003172257i","-0.000537317553761518+0.0000365924951412698i","-0.000275563102033503-0.000461165980226789i","0.000432126437455431-0.000285602241103301i","15.310471345488+7.99677032072702i","869.355705792693+1178.87377600623i","-830.23608244158+1201.88857594438i","-0.0985362681285575-0.161569307685621i","0.0897000483438004-0.166426355806844i","0.350044890336317+0.187333832911511i","-2.9245893304962-0.390423223885705i","-149.164867816998-62.2520705089932i","11.5797737526008-160.693874158196i","77.4410334568614+38.6424137961703i","-3.78118984785579+85.9936289025833i","-0.0696030366880623+0.00274967460489145i","-2.80983165782213-0.0983033795886996i","-182.640730962888-78.0971955340208i","11.920173572449-197.893063073816i","94.2517318011243+48.6186942874873i","-1.71171514872012+105.977052242715i","-0.0854307263347432+0.00342136797964417i","-1.89603474156134+0.344988030882298i","-185.309929674135-78.1975459888129i","16.2825976263389-199.786806024578i","94.2508293794201+48.6185243741742i","-1.71157381115287+105.976230532026i","-0.0858739864497202+0.00323414804233896i","-0.92519482736885+0.582292786074795i","-151.483911534269-66.3735832519101i","12.3315105439659-164.543961360622i","77.4401044270557+38.6424184592058i","-3.78157272653612+85.9927957657159i","-0.0705272808846465+0.00233646222616529i","-0.0073580201788026-0.0388858687354059i","0.0339738414134985-0.0200837677021966i","7.32904571427244+50.1544282607654i","-42.0698863497515+28.0675844900718i","-0.0091021147881089-0.0120582116667175i","0.0341909948990065+0.0200837679458985i","-0.00724586498110114+0.0388858686782072i","-42.3499679346385-28.0675844904029i","7.17230554581655-50.1544282607103i","0.0150884928766628+0.00124068743656369i","-10.5981404316726-83.9280829875922i","75.7396344647811-37.1937168186364i","0.000173918980669853+0.0109444598274041i","-0.00932579726769394+0.0056500086916538i","-0.0124572328821323-0.0192528014657725i","76.2083211054479+37.1937168195392i","-10.3904364367501+83.928082987456i","-0.00938691505732215-0.00565000919958839i","0.000142367737831495-0.0109444597835158i","0.0229837910814499+0.000231066337133024i","59.191884154047+76.2777752758338i","-51.5754585240271+80.704634184702i","77.4157864800452+38.622224969909i","-3.77650050941635+85.9616764359436i","-0.0024751001811751+0.0123988545602427i","27.835554205848+33.9024229750382i","-25.5256178661878+36.909306467527i","94.225911565026+48.6018959472973i","-1.71023924195882+105.946314148367i","-0.0208728571391647+0.00633000982784468i","-27.984918135377-33.9679253661866i","25.5361532478444-37.071668681396i","94.2310822768071+48.6110501337833i","-1.71507958460565+105.955430340883i","-0.0422162049458528-0.00425687498225103i","-59.3187340537178-76.3377044584245i","51.5890497712622-80.8438569283559i","77.4281297422015+38.6426570328411i","-3.78781388862092+85.9825871084291i","-0.0491282480015455-0.0108330521373186i","0.0000854695437076947-0.000263492550711897i","7.35008431682453+50.182975847117i","-42.0873140327656+28.0982474797908i","-0.00910533291891913-0.0120541493452779i","0.00014026229840545+0.000249836314908804i","-42.3853774147384-28.0705304453213i","7.16065888853626-50.1877924254457i","0.0150875493251649+0.00123558119893421i","0.839186888060809+0.6481127459639i","41.1417931431503+63.6766172873567i","-41.212996708502+63.1393696759714i","-0.0198559230291524-0.0110079209427451i","-1.00237735475996+0.332468333265197i","-75.9943734347281-0.457570678932992i","-30.3255458458239-69.2325443124675i","0.0201313170765082-0.0105011033239263i","0.332882284611208+0.934471251867395i","0.807597222412897-0.388220358299211i","0.679408077818037+0.576733453300948i","0.0000857383685851052+0.0000989818559169966i","-3.1107411048277-0.3877347314207i","58.5843845094788+32.0287221468407i","-1.0692781422906+66.8590388198378i","-0.0199037073992841+0.00066805657510972i","3.1097869911277+0.386753401375501i","130.018664588732+65.179137365154i","-2.2923390442637+145.173351697951i","-0.043179032014333+0.00142547865759125i","-0.000184766638703593-0.000735795893604063i","154.969625577622+77.2640349306514i","-7.51269471595951+172.05813849581i","-0.051598404180984+0.0015834964917624i","7.35383974171874+50.1784254275145i","-42.0815297820058+28.0994540744011i","-0.009105606519676-0.0120524109615759i","-42.3845545314601-28.0644836970193i","7.15568330756265-50.1842434758148i","0.0150864202657402+0.00123415350371416i","52.6919808525598+83.0832342375616i","-53.0273852000284+82.4257913548794i","-0.025767129560032-0.0142377757342227i","-98.4522894908794-1.71762380655408i","-39.6809526314933-89.7247901504395i","0.0260889689951541-0.0135862156655181i","0.087255671383764+20.7278148751534i","-18.3718457917304+9.78476836913486i","-0.00293428299435031-0.00543220522117336i","-19.8085419135621-7.82715811044605i","-2.29950265542264-21.2063426535106i","0.00627413738366836-0.000996790618046207i","188.591830522416+97.1809527958781i","-3.34300075234636+212.009900684691i","-0.0630757749926014+0.00209874118063856i","154.971724810711+77.2480136891585i","-7.49751604749303+172.052528306548i","-0.0515965114952653+0.00158792880263322i","-0.408945794140401-0.751857892144901i","0.0000792801437341194-0.0000846962311833004i","0.83082499572274+0.2250522894116i","8.31667488590017E-06+0.0000891920542907701i","-2.0059438176723-1.6276194186036i","-0.0000352081526009997-0.000296026977687699i","2.4673871370699-0.796747851187106i","0.0002669557874058+0.0002409647640461i","0.151583964061199+0.509019184392029i","0.00009344144362333-0.0000608022733842402i","-0.51917133262933+0.00574539414209951i","-5.89351910916958E-06-0.000158109933322354i","0.44373274007891+0.89551880242778i","-0.000259750150210143+0.000144977161477219i","-7.08649542366465-1.00503788605101i","-0.000143384942950596-0.00081424881045828i"]
[{"$f":"COMPLEX(定数!O$13,計算!B62*定数!O$23)","v":"74.3688188913563+162.723229943193i"},{"$f":"COMPLEX(定数!P$13,計算!B62*定数!P$23)","v":"-73.4757772913563+162.723229943193i"},{"$f":"COMPLEX(定数!Q$13,計算!B62*定数!Q$23)","v":"125.193786513619+232.807575323128i"},{"$f":"COMPLEX(定数!R$13,計算!B62*定数!R$23)","v":"-123.916114913619+232.807575323128i"},{"$f":"COMPLEX(定数!S$13,計算!B62*定数!S$23)","v":"-77.7867441135484-106.902214096205i"},{"$f":"COMPLEX(定数!T$13,計算!B62*定数!T$23)","v":"77.2000539135484-106.902214096205i"},{"$f":"COMPLEX(定数!U$13,計算!B62*定数!U$23)","v":"124.646605989444+195.075146259691i"},{"$f":"COMPLEX(定数!V$13,計算!B62*定数!V$23)","v":"-123.576013789444+195.075146259691i"},{"$f":"IMPRODUCT(定数!D$31,計算!G62)","v":"-0.0999707128002892-0.012629238010871i"},{"$f":"COMPLEX(定数!O$14,計算!B62*定数!O$24)","v":"86.1948356167649+199.811939104885i"},{"$f":"COMPLEX(定数!P$14,計算!B62*定数!P$24)","v":"-85.0982474167649+199.811939104885i"},{"$f":"COMPLEX(定数!Q$14,計算!B62*定数!Q$24)","v":"57.0863694248256+110.456011337126i"},{"$f":"COMPLEX(定数!R$14,計算!B62*定数!R$24)","v":"-56.4801756248256+110.456011337126i"},{"$f":"COMPLEX(定数!S$14,計算!B62*定数!S$24)","v":"163.969671876329+234.483783361389i"},{"$f":"COMPLEX(定数!T$14,計算!B62*定数!T$24)","v":"-162.682801076329+234.483783361389i"},{"$f":"COMPLEX(定数!U$14,計算!B62*定数!U$24)","v":"-101.525845343051-168.354029584054i"},{"$f":"COMPLEX(定数!V$14,計算!B62*定数!V$24)","v":"100.601901343051-168.354029584054i"},{"$f":"IMPRODUCT(定数!D$32,計算!G62)","v":"0.0999707128002892+0.012629238010871i"},{"$f":"COMPLEX(定数!O$15,計算!B62*定数!O$25)","v":"86.1919999827348+199.809716134913i"},{"$f":"COMPLEX(定数!P$15,計算!B62*定数!P$25)","v":"-85.0954239827348+199.809716134913i"},{"$f":"COMPLEX(定数!Q$15,計算!B62*定数!Q$25)","v":"-57.0828842529623-110.455610481507i"},{"$f":"COMPLEX(定数!R$15,計算!B62*定数!R$25)","v":"56.4766926529622-110.455610481507i"},{"$f":"COMPLEX(定数!S$15,計算!B62*定数!S$25)","v":"-163.956966054068-234.463011175394i"},{"$f":"COMPLEX(定数!T$15,計算!B62*定数!T$25)","v":"162.670209254068-234.463011175394i"},{"$f":"COMPLEX(定数!U$15,計算!B62*定数!U$25)","v":"-101.548680976766-168.387119368841i"},{"$f":"COMPLEX(定数!V$15,計算!B62*定数!V$25)","v":"100.624555376766-168.387119368841i"},{"$f":"IMPRODUCT(定数!D$33,計算!G62)","v":"0"},{"$f":"COMPLEX(定数!O$16,計算!B62*定数!O$26)","v":"74.3664237452132+162.720023005043i"},{"$f":"COMPLEX(定数!P$16,計算!B62*定数!P$26)","v":"-73.4733997452132+162.720023005043i"},{"$f":"COMPLEX(定数!Q$16,計算!B62*定数!Q$26)","v":"-125.201328746793-232.819783551653i"},{"$f":"COMPLEX(定数!R$16,計算!B62*定数!R$26)","v":"123.923590146793-232.819783551653i"},{"$f":"COMPLEX(定数!S$16,計算!B62*定数!S$26)","v":"77.7704269443536+106.872622806439i"},{"$f":"COMPLEX(定数!T$16,計算!B62*定数!T$26)","v":"-77.1838991443536+106.872622806439i"},{"$f":"COMPLEX(定数!U$16,計算!B62*定数!U$26)","v":"124.65071095008+195.073761445207i"},{"$f":"COMPLEX(定数!V$16,計算!B62*定数!V$26)","v":"-123.58012635008+195.073761445207i"},{"$f":"IMPRODUCT(定数!D$34,計算!G62)","v":"0"},{"$f":"IMDIV(COMPLEX(定数!O$17,計算!B62*定数!O$27),計算!R62)","v":"-0.0535885319871339+0.70208210648837i"},{"$f":"IMPRODUCT(COMPLEX(定数!P$17,計算!B62*定数!P$27),計算!R62)","v":"0.91539297000601+0.467953060999501i"},{"$f":"IMDIV(COMPLEX(定数!Q$17,計算!B62*定数!Q$27),計算!S62)","v":"-0.920148037357054-0.37985382179007i"},{"$f":"IMPRODUCT(COMPLEX(定数!R$17,計算!B62*定数!R$27),計算!S62)","v":"0.305687941864104-1.500069653i"},{"$f":"IMDIV(COMPLEX(定数!S$17,計算!B62*定数!S$27),計算!T62)","v":"-0.0565368671168783+0.452238290054492i"},{"$f":"IMPRODUCT(COMPLEX(定数!T$17,計算!B62*定数!T$27),計算!T62)","v":"0.642625337870329+0.425673365324288i"},{"$f":"IMDIV(COMPLEX(定数!U$17,計算!B62*定数!U$27),計算!U62)","v":"-0.206699670296342-0.802927435834832i"},{"$f":"IMPRODUCT(COMPLEX(定数!V$17,計算!B62*定数!V$27),計算!U62)","v":"-0.832561035820993-1.06003605766877i"},{"$f":"IMPRODUCT(定数!E$31,計算!G62)","v":"0"},{"$f":"IMDIV(COMPLEX(定数!O$18,計算!B62*定数!O$28),計算!R62)","v":"-0.044785349574651+0.867814075485597i"},{"$f":"IMPRODUCT(COMPLEX(定数!P$18,計算!B62*定数!P$28),計算!R62)","v":"1.1030166541848+0.580321142837939i"},{"$f":"IMDIV(COMPLEX(定数!Q$18,計算!B62*定数!Q$28),計算!S62)","v":"-0.441291714999506-0.171607049874552i"},{"$f":"IMPRODUCT(COMPLEX(定数!R$18,計算!B62*定数!R$28),計算!S62)","v":"0.149759915877388-0.703095651124909i"},{"$f":"IMDIV(COMPLEX(定数!S$18,計算!B62*定数!S$28),計算!T62)","v":"0.0957724558583554-0.993238246794103i"},{"$f":"IMPRODUCT(COMPLEX(定数!T$18,計算!B62*定数!T$28),計算!T62)","v":"-1.38132339778524-0.934969630854213i"},{"$f":"IMDIV(COMPLEX(定数!U$18,計算!B62*定数!U$28),計算!U62)","v":"0.203333242168137+0.68677178063483i"},{"$f":"IMPRODUCT(COMPLEX(定数!V$18,計算!B62*定数!V$28),計算!U62)","v":"0.693571007510565+0.908662028379709i"},{"$f":"IMPRODUCT(定数!E$32,計算!G62)","v":"0"},{"$f":"IMDIV(COMPLEX(定数!O$19,計算!B62*定数!O$29),計算!R62)","v":"-0.0447771601561649+0.867806519041414i"},{"$f":"IMPRODUCT(COMPLEX(定数!P$19,計算!B62*定数!P$29),計算!R62)","v":"1.10299669150273+0.580316784872253i"},{"$f":"IMDIV(COMPLEX(定数!Q$19,計算!B62*定数!Q$29),計算!S62)","v":"0.441296816401645+0.171594216854617i"},{"$f":"IMPRODUCT(COMPLEX(定数!R$19,計算!B62*定数!R$29),計算!S62)","v":"-0.149766075307435+0.703080889225261i"},{"$f":"IMDIV(COMPLEX(定数!S$19,計算!B62*定数!S$29),計算!T62)","v":"-0.0957717050647859+0.993149918344196i"},{"$f":"IMPRODUCT(COMPLEX(定数!T$19,計算!B62*定数!T$29),計算!T62)","v":"1.38120876391391+0.934886464245121i"},{"$f":"IMDIV(COMPLEX(定数!U$19,計算!B62*定数!U$29),計算!U62)","v":"0.203361319290764+0.686909713151281i"},{"$f":"IMPRODUCT(COMPLEX(定数!V$19,計算!B62*定数!V$29),計算!U62)","v":"0.693719215759932+0.908843573137801i"},{"$f":"IMPRODUCT(定数!E$33,計算!G62)","v":"0"},{"$f":"IMDIV(COMPLEX(定数!O$20,計算!B62*定数!O$30),計算!R62)","v":"-0.0535836645439587+0.702069306572866i"},{"$f":"IMPRODUCT(COMPLEX(定数!P$20,計算!B62*定数!P$30),計算!R62)","v":"0.91537111818259+0.467944875282485i"},{"$f":"IMDIV(COMPLEX(定数!Q$20,計算!B62*定数!Q$30),計算!S62)","v":"0.920194292911446+0.379877383825036i"},{"$f":"IMPRODUCT(COMPLEX(定数!R$20,計算!B62*定数!R$30),計算!S62)","v":"-0.305701975659476+1.50015195818985i"},{"$f":"IMDIV(COMPLEX(定数!S$20,計算!B62*定数!S$30),計算!T62)","v":"0.056543357880467-0.452112104539151i"},{"$f":"IMPRODUCT(COMPLEX(定数!T$20,計算!B62*定数!T$30),計算!T62)","v":"-0.642469595196832-0.425554533168141i"},{"$f":"IMDIV(COMPLEX(定数!U$20,計算!B62*定数!U$30),計算!U62)","v":"-0.206677616349279-0.802926830463679i"},{"$f":"IMPRODUCT(COMPLEX(定数!V$20,計算!B62*定数!V$30),計算!U62)","v":"-0.832575712186409-1.0600336271157i"},{"$f":"IMPRODUCT(定数!E$34,計算!G62)","v":"0"},"0.656508109061075+0.75157990655373i","1.47436261992518-0.0955437023813096i","0.895597935234886+1.17082653549273i","-0.724170342851372+0.147065978520078i","-0.364084755014908-0.64082188607465i","1.28127549790959-0.180426977424938i","0.704572261923248+1.08143269276132i","-0.000296466775479373+0.000478867269870211i","8.4887825624116+3.85147429704799i","-89.0868466811974-175.903868972909i","100.269027981146-169.41434952303i","255.774953881393+366.505335965414i","-259.344439144674+362.467801389274i","-248.016640491267-408.816297688974i","255.954574398501-402.349892661611i","0.221208015545195+0.0305909536908653i","8.491796873613+3.85284193044799i","-203.251707215386-396.812484254684i","213.225833134685-390.320660418779i","-72.1540644543255-102.442651355002i","66.0089633024116-106.481619633334i","-248.035441812825-408.84705086168i","255.976822348896-402.378349656071i","0.121235397566067+0.017962414535581i","0.00153970873330422+0.000698586465006201i","-250.391277543725-465.622859526179i","247.838095380069-465.621682446935i","155.554964932601+213.772866777656i","-154.382770017945+213.772134443284i","0.00775242086000105+0.00229200781200234i","-0.00589309485999934+0.0034648945259903i","0.0999684670213189+0.012629434217353i","1.47824507979582+0.047306528726447i","-0.908218632768127-1.42009748246608i","1.17569808083527-2.06611006268771i","0.007908299293247+0.968546379714131i","0.173204990671044+0.64695005292549i","-0.264712549670113-1.71215685325021i","-0.035549499666414-1.49675124504515i","0.000320316922277914+0.000233805812241404i","1.78465022110717+0.044253933972597i","-0.458176039416866-1.45535864192625i","1.20592932993785-1.42787226961426i","0.190966160086948-0.358206628959892i","-1.95374331342819-0.647711187965491i","0.10413854263677-0.4332176162826i","1.66360803502997+0.345656643472762i","0.000402290388905616+0.000278724278755824i","1.78461920273384+0.044248381871412i","0.424401139782444-1.11214545181087i","0.906387157041375-0.021698550116757i","-0.0005731815980584+1.62817485964079i","0.808796672248194+1.22214740390631i","0.104157490244532-0.433068524287339i","1.66374230145644+0.345834655986938i","0.000402289198262312+0.000278718116876711i","1.47821041229718+0.047303087985267i","0.932117744075419-0.660346940080474i","0.564288817558904+0.934117313148411i","0.120990166716487+0.064185999965995i","-1.11187996776827-0.204279386656924i","-0.264694422808662-1.71213896944289i","-0.035581447744368-1.49674505983884i","0.000320312235852505+0.000233799686632504i","2.35897168874667+20.9947775412093i","-16.3846510231173+13.2357064555011i","-9.40407825020988-46.9054525504741i","40.9748080311622-24.4676384048544i","7.32974610980155+50.6513625946002i","-42.0717236465934+28.9449637208373i","-0.0204970008466745-0.0123070499396377i","-16.4998724927699-13.2357064557108i","2.28633278874862-20.9947775411934i","41.2322299146925+24.4676384053824i","-9.26979736812127+46.90545255035i","-42.3497034645461-28.9449637213781i","7.17089321204088-50.6513625945098i","0.0229661825747531-0.00681637299243877i","-114.133226377933-220.84615296683i","112.921200276013-220.846152967721i","-328.019842348707-469.078130971721i","325.445493964677-469.078130969145i","0.0692677648239908+0.114414824602022i","-0.068639848578016+0.114414822110007i","-0.100051167499888-0.0126394018041801i","-250.375118831334-465.59095380576i","247.819908426081-465.590953805742i","155.508572069128+213.706389463379i","-154.335729715695+213.706389463327i","0.0527380692513565+0.0764437508763401i","-0.0523185381068165+0.0764437509265791i","0.0999283439635249+0.0126238855820793i","22.8565013692655+18.9260721553721i","-3.19725216176606+28.8611580712401i","-59.7859536620184-37.1511733761805i","16.0951714793006-68.2522824597423i","60.9692424698358+43.0790108162475i","-13.0320272477179+73.0391462295133i","-0.0339517884153204+0.00922362527465774i","28.4025929734733+22.895932078619i","-3.80347648610428+35.9392828910997i","-72.3113528194536-45.8490712992836i","16.6653534093261-83.9473124524113i","74.402617681097+53.0975592698929i","-13.3754501772542+90.423281862414i","-0.0408859637414551+0.0114272219195949i","29.2847318394492+23.2386431096885i","-4.10283117554749+37.3448180807004i","-72.501749051242-43.8617019388278i","19.4273454371483-82.076050396554i","74.4014837151596+53.0965754063587i","-13.3748122598947+90.4219285655781i","-0.0408852147132808+0.011427131835483i","24.696311277442+19.6853070771314i","-3.80850992600794+31.8606654773337i","-59.6715265631317-38.0545436546761i","14.8096037706515-69.1019176995857i","60.9678920305386+43.0778795361957i","-13.0316363206362+73.0374211318634i","-0.0339509734682673+0.00922346186313753i","-0.7192516345717-0.8693669195097i","-21.2098018621211-94.0958911127825i","81.0434384294281-51.8294265571927i","7.33177304056841+50.6625470920825i","-42.0806443023493+28.9519635709752i","-0.0280558828986768-0.0163463467170359i","1.12782282122895+0.0787875444230011i","82.935305460113+49.6254297444012i","-18.38775624715+94.6206941049656i","-42.3590400977713-28.9514708386602i","7.17228187246913-50.6626302458618i","0.0311836291725468-0.00928712647544106i","0.580668302637483+0.811400808681241i","2.28209376801012-0.305901265660194i","1.07525216317472+2.02931989757128i","-0.00053679838970569+0.000036229893909916i","-0.000282105995103418-0.00045659620792612i","0.00022994595395341-0.000334199590489218i","15.423927267866+7.91752895742201i","869.312932468027+1199.63853784507i","-829.952328274395+1222.42528019875i","-0.0985312022214735-0.164413659395186i","0.0896362037985485-0.169222578225383i","0.313101395606764+0.0360093794249017i","-1.11266776406033-0.674395817460297i","-117.736142421639-73.3504119974428i","29.9257237471583-134.985735502723i","60.9821974925514+43.0883422126842i","-13.0342208644316+73.0549215797838i","-0.0455326339906083+0.0125102849559244i","-1.7181841344121-0.401546033615496i","-144.132627840864-89.4113460700662i","32.5885744154099-166.204160011535i","74.4186936644588+53.1088207464333i","-13.3778918312639+90.4427094583638i","-0.0550688362020343+0.0156545299166911i","-2.25169289409832+0.0892195340570012i","-146.440983419376-87.9362280222524i","35.0975150338376-166.491540686325i","74.4180456456285+53.1079888898312i","-13.377161537799+90.4418556236254i","-0.0553854653231557+0.0158704452653733i","-2.17620099536414+0.3914246879981i","-122.052584972024-75.4236273798556i","28.2026269885692-140.385302588957i","60.981862167251+43.087551832598i","-13.0336575797312+73.0542507170843i","-0.0462086118879209+0.0129504022639361i","-0.00735891752530193-0.0392410616352947i","0.0339747387629927-0.0207631298311952i","7.33009982813062+50.6501853342904i","-42.0709404636139+28.9441434297289i","-0.0102545488528727-0.0061571633601398i","0.0341900975547986+0.0207631300770998i","-0.00724496763750082+0.0392410615831977i","-42.348913820782-28.9441434300565i","7.17125143195921-50.6501853342356i","0.0114898700518917-0.00341020443508875i","-10.6003708700291-84.5876785691812i","75.7418649031077-38.6590650933221i","0.000174171665016169+0.011044384221237i","-0.00932604995551109+0.00584121533680389i","-0.0148424826805509-0.0104239671282356i","76.2060906671171+38.6590650941744i","-10.3882059983927+84.5876785690522i","-0.00938666237491661-0.00584121583715852i","0.000142115053760253-0.0110443841779334i","0.0170146943758656-0.00639946975134798i","-59.0155937177156+21.0573523324589i","-38.6784748293162-47.8735149984738i","60.9756925474442+43.0755125542737i","-13.0266144510965+73.042728691333i","-0.0222851564089713+0.0168644399789693i","-28.719926162902+7.6122996706726i","-19.2261231381785-25.038295642474i","74.404911167142+53.0950152850107i","-13.3732128227729+90.4237902384311i","-0.0232647765776551+0.0114912455610836i","28.600873197565-7.68695775884129i","19.2533386737214+24.900764974747i","74.3963886141043+53.0956737392812i","-13.3778269131526+90.4169743828134i","-0.0176445566111916-0.0000572384040711006i","58.919297883352-21.1226767049974i","38.7055084471941+47.760688000337i","60.959148507161+43.0785143442705i","-13.0376713534407+73.0301602899025i","-0.0116861275021202-0.0076361016162063i","-0.0000140083169416008-0.0012027294702829i","7.36329548413663+50.616114213377i","-42.0262752740687+28.9596341388783i","-0.0102461611384194-0.0061414554400226i","0.00090423685972216+0.000805700029838201i","-42.3457099510198-28.8965921465739i","7.1298177464873-50.6272357893682i","0.0114725433946917-0.00341445697688006i","0.767728332880893-1.3732824375019i","75.16385655051-68.3041295180573i","93.1786169847042+38.8074912185205i","0.000999268335663+0.0241408916337079i","0.7117803089345+1.3928741310431i","14.5571004955905+100.757549615627i","-84.5177162303276+55.6180112742872i","-0.0205837673692382-0.0126363692400915i","0.324620925279164+0.927029090959447i","-0.685503677946523-0.974495068220017i","0.587547521331163-1.02804241558257i","0.000425416408717913-0.000133969621832569i","-2.8462108894135-0.885200361852501i","47.2991476652368+30.3258483014968i","-4.32465833452248+56.4259001674346i","-0.0120666656389459+0.00440525072599823i","2.8428632891135+0.882270834018797i","101.493294809124+75.6976458011891i","-22.2796804454084+124.336338130394i","-0.0287820185491012+0.0070445677260205i","-0.002264332962298-0.00235230008680531i","121.932488184851+86.0154069852321i","-25.9405512000014+146.012273952233i","-0.0339215666015766+0.0092432277062164i","7.36905752868429+50.5941856004757i","-42.0040753229993+28.9542794960998i","-0.0102429697943064-0.00613737062490814i","-42.3333067520987-28.8774258372355i","7.11873721603045-50.6070874260799i","0.0114673391191736-0.00341485466217281i","95.9864564614081-89.4217666675638i","121.846888428433+47.1981468227827i","0.00195755541632591+0.0308532191697537i","20.5252448624606+129.632464552036i","-107.280610745348+74.692094152953i","-0.026663130164924-0.0155491265406877i","0.576745533547297+17.4973432398823i","-15.1940125193176+8.90719695872328i","-0.00310976765154509-0.00246224660464915i","-18.1741090410177-5.00248258307207i","-4.23651911659789-18.5073186629827i","0.00342672732757409-0.00261350661822164i","148.746257733447+105.953506232202i","-26.5643032474461+180.68787219165i","-0.0408295565342356+0.0114511081695642i","121.903103290903+85.9613287407511i","-25.9066093225851+145.960401656255i","-0.0339076595980911+0.00924537054802369i","-0.319590931248996-0.653976738129799i","-0.0000226767046590994-0.0000970277448154996i","0.69538844806598+0.2350840804963i","0.0000780768037090991+0.0000302273690610403i","-1.48696535975999+2.48198818275669i","-0.00022118281874268+0.000470220047662999i","-1.225616173329-2.6339873562071i","-0.000237089862431303-0.000369802707638299i","0.120246986762201+0.422911702388879i","0.00013746729479512-0.0000168172746011202i","-0.41083876127292-0.0489761020323023i","-0.00012593962191628-0.00005692422989486i","0.455545620655679+0.890249062075597i","-0.000145718929672846+0.000180781285543289i","-4.9120418848671-1.72302856616801i","-0.000603870345980098-0.000266236359264191i"]
[{"$f":"COMPLEX(定数!O$13,計算!B63*定数!O$23)","v":"74.3688188913563+165.528802873248i"},{"$f":"COMPLEX(定数!P$13,計算!B63*定数!P$23)","v":"-73.4757772913563+165.528802873248i"},{"$f":"COMPLEX(定数!Q$13,計算!B63*定数!Q$23)","v":"125.193786513619+236.821499035596i"},{"$f":"COMPLEX(定数!R$13,計算!B63*定数!R$23)","v":"-123.916114913619+236.821499035596i"},{"$f":"COMPLEX(定数!S$13,計算!B63*定数!S$23)","v":"-77.7867441135484-108.745355718554i"},{"$f":"COMPLEX(定数!T$13,計算!B63*定数!T$23)","v":"77.2000539135484-108.745355718554i"},{"$f":"COMPLEX(定数!U$13,計算!B63*定数!U$23)","v":"124.646605989444+198.438510850375i"},{"$f":"COMPLEX(定数!V$13,計算!B63*定数!V$23)","v":"-123.576013789444+198.438510850375i"},{"$f":"IMPRODUCT(定数!D$31,計算!G63)","v":"-0.055152201493667+0.0141606785217792i"},{"$f":"COMPLEX(定数!O$14,計算!B63*定数!O$24)","v":"86.1948356167649+203.256972537728i"},{"$f":"COMPLEX(定数!P$14,計算!B63*定数!P$24)","v":"-85.0982474167649+203.256972537728i"},{"$f":"COMPLEX(定数!Q$14,計算!B63*定数!Q$24)","v":"57.0863694248256+112.360425325698i"},{"$f":"COMPLEX(定数!R$14,計算!B63*定数!R$24)","v":"-56.4801756248256+112.360425325698i"},{"$f":"COMPLEX(定数!S$14,計算!B63*定数!S$24)","v":"163.969671876329+238.526607212447i"},{"$f":"COMPLEX(定数!T$14,計算!B63*定数!T$24)","v":"-162.682801076329+238.526607212447i"},{"$f":"COMPLEX(定数!U$14,計算!B63*定数!U$24)","v":"-101.525845343051-171.256685266537i"},{"$f":"COMPLEX(定数!V$14,計算!B63*定数!V$24)","v":"100.601901343051-171.256685266537i"},{"$f":"IMPRODUCT(定数!D$32,計算!G63)","v":"0.055152201493667-0.0141606785217792i"},{"$f":"COMPLEX(定数!O$15,計算!B63*定数!O$25)","v":"86.1919999827348+203.254711240688i"},{"$f":"COMPLEX(定数!P$15,計算!B63*定数!P$25)","v":"-85.0954239827348+203.254711240688i"},{"$f":"COMPLEX(定数!Q$15,計算!B63*定数!Q$25)","v":"-57.0828842529623-112.360017558774i"},{"$f":"COMPLEX(定数!R$15,計算!B63*定数!R$25)","v":"56.4766926529622-112.360017558774i"},{"$f":"COMPLEX(定数!S$15,計算!B63*定数!S$25)","v":"-163.956966054068-238.505476885315i"},{"$f":"COMPLEX(定数!T$15,計算!B63*定数!T$25)","v":"162.670209254068-238.505476885315i"},{"$f":"COMPLEX(定数!U$15,計算!B63*定数!U$25)","v":"-101.548680976766-171.290345564856i"},{"$f":"COMPLEX(定数!V$15,計算!B63*定数!V$25)","v":"100.624555376766-171.290345564856i"},{"$f":"IMPRODUCT(定数!D$33,計算!G63)","v":"0"},{"$f":"COMPLEX(定数!O$16,計算!B63*定数!O$26)","v":"74.3664237452132+165.525540643061i"},{"$f":"COMPLEX(定数!P$16,計算!B63*定数!P$26)","v":"-73.4733997452132+165.525540643061i"},{"$f":"COMPLEX(定数!Q$16,計算!B63*定数!Q$26)","v":"-125.201328746793-236.833917750819i"},{"$f":"COMPLEX(定数!R$16,計算!B63*定数!R$26)","v":"123.923590146793-236.833917750819i"},{"$f":"COMPLEX(定数!S$16,計算!B63*定数!S$26)","v":"77.7704269443536+108.715254234136i"},{"$f":"COMPLEX(定数!T$16,計算!B63*定数!T$26)","v":"-77.1838991443536+108.715254234136i"},{"$f":"COMPLEX(定数!U$16,計算!B63*定数!U$26)","v":"124.65071095008+198.43710215978i"},{"$f":"COMPLEX(定数!V$16,計算!B63*定数!V$26)","v":"-123.58012635008+198.43710215978i"},{"$f":"IMPRODUCT(定数!D$34,計算!G63)","v":"0"},{"$f":"IMDIV(COMPLEX(定数!O$17,計算!B63*定数!O$27),計算!R63)","v":"0.383936205018999+0.604167521632631i"},{"$f":"IMPRODUCT(COMPLEX(定数!P$17,計算!B63*定数!P$27),計算!R63)","v":"0.445353397812807+0.935531451422259i"},{"$f":"IMDIV(COMPLEX(定数!Q$17,計算!B63*定数!Q$27),計算!S63)","v":"-0.987828417760606+0.221822371515437i"},{"$f":"IMPRODUCT(COMPLEX(定数!R$17,計算!B63*定数!R$27),計算!S63)","v":"1.13132204999764-1.04776586683351i"},{"$f":"IMDIV(COMPLEX(定数!S$17,計算!B63*定数!S$27),計算!T63)","v":"0.21077085806083+0.412881118157644i"},{"$f":"IMPRODUCT(COMPLEX(定数!T$17,計算!B63*定数!T$27),計算!T63)","v":"0.28947554658777+0.719408319906834i"},{"$f":"IMDIV(COMPLEX(定数!U$17,計算!B63*定数!U$27),計算!U63)","v":"-0.634632184734725-0.555486696307301i"},{"$f":"IMPRODUCT(COMPLEX(定数!V$17,計算!B63*定数!V$27),計算!U63)","v":"-0.0779316177871602-1.35449889022952i"},{"$f":"IMPRODUCT(定数!E$31,計算!G63)","v":"0"},{"$f":"IMDIV(COMPLEX(定数!O$18,計算!B63*定数!O$28),計算!R63)","v":"0.491669289046411+0.733791277338714i"},{"$f":"IMPRODUCT(COMPLEX(定数!P$18,計算!B63*定数!P$28),計算!R63)","v":"0.526636233168955+1.14068136545212i"},{"$f":"IMDIV(COMPLEX(定数!Q$18,計算!B63*定数!Q$28),計算!S63)","v":"-0.467573545119016+0.11500818709466i"},{"$f":"IMPRODUCT(COMPLEX(定数!R$18,計算!B63*定数!R$28),計算!S63)","v":"0.535654380759075-0.487350446094067i"},{"$f":"IMDIV(COMPLEX(定数!S$18,計算!B63*定数!S$28),計算!T63)","v":"-0.48641557747584-0.89086213284875i"},{"$f":"IMPRODUCT(COMPLEX(定数!T$18,計算!B63*定数!T$28),計算!T63)","v":"-0.610845789677164-1.56321170565011i"},{"$f":"IMDIV(COMPLEX(定数!U$18,計算!B63*定数!U$28),計算!U63)","v":"0.564805943314707+0.460216966215361i"},{"$f":"IMPRODUCT(COMPLEX(定数!V$18,計算!B63*定数!V$28),計算!U63)","v":"0.0501518809224561+1.14978160390025i"},{"$f":"IMPRODUCT(定数!E$32,計算!G63)","v":"0"},{"$f":"IMDIV(COMPLEX(定数!O$19,計算!B63*定数!O$29),計算!R63)","v":"0.49167122539394+0.733780163572467i"},{"$f":"IMPRODUCT(COMPLEX(定数!P$19,計算!B63*定数!P$29),計算!R63)","v":"0.526622967748788+1.14066572486434i"},{"$f":"IMDIV(COMPLEX(定数!Q$19,計算!B63*定数!Q$29),計算!S63)","v":"0.467570288625816-0.115021611190431i"},{"$f":"IMPRODUCT(COMPLEX(定数!R$19,計算!B63*定数!R$29),計算!S63)","v":"-0.535650877186743+0.487334835916893i"},{"$f":"IMDIV(COMPLEX(定数!S$19,計算!B63*定数!S$29),計算!T63)","v":"0.486365892393639+0.890787267138833i"},{"$f":"IMPRODUCT(COMPLEX(定数!T$19,計算!B63*定数!T$29),計算!T63)","v":"0.610798271686716+1.56307727852089i"},{"$f":"IMDIV(COMPLEX(定数!U$19,計算!B63*定数!U$29),計算!U63)","v":"0.564908808696208+0.460316567118726i"},{"$f":"IMPRODUCT(COMPLEX(定数!V$19,計算!B63*定数!V$29),計算!U63)","v":"0.0501698847071395+1.15001673784264i"},{"$f":"IMPRODUCT(定数!E$33,計算!G63)","v":"0"},{"$f":"IMDIV(COMPLEX(定数!O$20,計算!B63*定数!O$30),計算!R63)","v":"0.383932306709422+0.604154150292743i"},{"$f":"IMPRODUCT(COMPLEX(定数!P$20,計算!B63*定数!P$30),計算!R63)","v":"0.445340952542186+0.935511549585734i"},{"$f":"IMDIV(COMPLEX(定数!Q$20,計算!B63*定数!Q$30),計算!S63)","v":"0.987880686877734-0.221829876242534i"},{"$f":"IMPRODUCT(COMPLEX(定数!R$20,計算!B63*定数!R$30),計算!S63)","v":"-1.13138184379745+1.04782493822188i"},{"$f":"IMDIV(COMPLEX(定数!S$20,計算!B63*定数!S$30),計算!T63)","v":"-0.210693617914656-0.412778410029896i"},{"$f":"IMPRODUCT(COMPLEX(定数!T$20,計算!B63*定数!T$30),計算!T63)","v":"-0.289414314988353-0.719220762880019i"},{"$f":"IMDIV(COMPLEX(定数!U$20,計算!B63*定数!U$30),計算!U63)","v":"-0.634613565303797-0.555498581760394i"},{"$f":"IMPRODUCT(COMPLEX(定数!V$20,計算!B63*定数!V$30),計算!U63)","v":"-0.0779451788168607-1.35450510359508i"},{"$f":"IMPRODUCT(定数!E$34,計算!G63)","v":"0"},"0.666114208417037+0.743157094613188i","1.47314145596123-0.0944729624237294i","0.910562513093431+1.15770530694808i","-0.722290661942896+0.145417838290242i","-0.372275233037846-0.63364031803814i","1.27896942312429-0.178404966875429i","0.718394278455175+1.06931328387605i","-0.0000533731225151263+0.000309208455104132i","8.5380090577476+3.8083115629i","-89.0931045409124-178.92276566646i","100.345714021425-172.505973017064i","255.784586313877+372.802953784059i","-259.386411282715+368.810667083949i","-248.028457980911-415.838551386063i","256.025405378605-409.444614120281i","0.122601463482746-0.0299643911834839i","8.5410408489567+3.80966386949501i","-203.257967297226-403.640145231266i","213.302546405678-397.221074020655i","-72.1444286014282-104.230351275668i","65.9669762603388-108.224055610744i","-248.047263498783-415.869825445806i","256.047678480619-409.473617734608i","0.0674484114302719-0.0158029565521709i","0.00154863751259882+0.000690757540979803i","-250.391278678786-473.650837336439i","247.838109289502-473.649673448497i","155.554966679747+217.458601971263i","-154.382777630917+217.457877844023i","0.007750277385+0.00233629609701325i","-0.00588024742398829+0.00349603849400637i","0.0551510649480822-0.014160112037752i","0.638599416560092+0.247761966359923i","-1.61049825338736-0.631930260277076i","1.48117208036775-2.04238314574075i","0.575941128688836+0.793434504306854i","0.049580586227269+1.18760238387111i","-1.23346133806848-1.25970235698153i","0.292295165803641-2.19907746518662i","0.00020730558009659-0.0000864700136607093i","0.744450527612376+0.286505049246054i","-1.26119539320715-0.91952070930676i","0.937472813281354-1.72472142086607i","-0.024581099926683-0.432349030578676i","-0.892769228866375-0.978497902196747i","-0.194936052192003-0.390563397230179i","0.481592237230052+0.09688164662858i","0.000253136392435991-0.000112863569542257i","0.744427713089374+0.286495372685476i","-0.326053362025715-1.14953395250957i","-0.1338470742961-0.750028260795987i","0.948200152408671+1.34929206045986i","0.328882595482112+2.1477881715422i","-0.194833680588685-0.390449236705592i","0.481596965855869+0.0971226940749201i","0.000253133059314413-0.000112864761453693i","0.638579631002767+0.247753868419302i","0.365217857242516-1.07556317844479i","-0.781543743843923+0.0532243478491781i","0.154471892569404-0.032234114990873i","-0.529302253972901-0.251034146860531i","-1.23343534730535-1.25969783637755i","0.29227010714587-2.19906990414389i","0.000207301237500286-0.0000864695219405896i","2.35932949716411+21.2241140459854i","-16.3850088315328+13.596550709291i","-9.40511296669528-47.3305896411864i","40.9758427476443-25.2730718478593i","7.33074709717998+51.153587988835i","-42.0727246339681+29.8150887803218i","-0.0133068751736539-0.00211278189804997i","-16.4995146843526-13.596550709496i","2.28597498033092-21.2241140459698i","41.2311951982069+25.2730718483761i","-9.26876265163506+47.3305896410649i","-42.3487024771676-29.8150887808509i","7.16989222466201-51.1535879887467i","0.01067104978532-0.00826926663952559i","-114.133226377933-224.653845259369i","112.921200276006-224.653845260248i","-328.01984234871-477.165684953971i","325.445493964698-477.165684951427i","0.0692677648260087+0.11638749397099i","-0.068639848597968+0.116387491510011i","-0.0551965870312181+0.014172074790216i","-250.37511883134-473.618384043778i","247.819908426067-473.61838404377i","155.508572069137+217.390982385133i","-154.335729715666+217.390982385109i","0.0527380692406732+0.0777617466113167i","-0.0523185381357912+0.0777617466352062i","0.0551288273017962-0.0141546770493417i","5.55737405806775+12.1387712922164i","-5.23717843861928+10.9449460448441i","-19.4925700918521-25.5614564304249i","17.6953269662403-26.7412376860656i","18.4233503323884+28.2725937416916i","-16.9603073721215+28.6911473832114i","-0.00865603034985583+0.00255039855978465i","7.12639658830667+13.9296329072624i","-6.84513830687914+13.4206381044464i","-23.4783034248026-31.0598463132237i","19.5678189334153-33.5582330327357i","22.7894043712018+33.9384122652115i","-19.5117990581716+36.1239868892015i","-0.0100601188962094+0.00298588669896978i","8.06129375877741+13.6991498066873i","-7.91620066460254+14.3948691668538i","-22.5048260588267-29.2772296529481i","20.7888012980472-30.4309568239139i","22.7888290848711+33.9374364189224i","-19.5111357610818+36.1231302718344i","-0.0100597987563607+0.00298580010674408i","7.5328738206643+11.694735746625i","-7.49967716192666+13.0401521191985i","-19.9134282056305-26.3862911201404i","17.1158774581008-28.1790128125922i","18.4227798712896+28.2716654168694i","-16.9597763317475+28.6902009033681i","-0.00865575659575466+0.00255032185298316i","-0.7312546483559-0.860729902737701i","-21.2073411725282-94.9618171316916i","81.0154832895269-53.4292723549519i","7.33277370932507+51.164885813471i","-42.0816387526456+29.8222765864596i","-0.0181081945165382-0.00263346472810703i","1.12891061047005+0.0780048031807006i","82.9328308659706+51.2471718864974i","-18.3829711842153+95.4814062928204i","-42.3580388444967-29.8217887493514i","7.17128005563831-51.1649681411327i","0.0144823783166274-0.0112445507213787i","0.591871000684123+0.80333967564748i","2.27787030720661-0.30286218710467i","1.10327020038833+2.00915893952553i","-0.000536298177462922+0.0000358699559415803i","-0.000288410043011424-0.000452060000172309i","0.0000490734227465878-0.000220764878991865i","15.533241536766+7.83886961478601i","869.271720562851+1220.40308025978i","-829.678932415554+1242.96344009144i","-0.0985263212394098-0.167257985082947i","0.0895746898455108-0.172019128139899i","0.171973896595181-0.0461866346799802i","1.22512960910424-0.7040997402156i","-35.827922267089-51.5288846611515i","35.9527626321754-51.2992300911514i","18.4267661591587+28.2789043998496i","-16.9641920225828+28.6971605932795i","-0.0116085640918044+0.00318158051597943i","0.12718099473651-0.548824787323099i","-43.9300696985435-60.631427446055i","39.6923244213227-63.2444453336675i","22.7937259000227+33.9456270784207i","-19.5160407636795+36.1312258940704i","-0.0134850092918201+0.00387557001507247i","-1.68237610606839-0.189217451227201i","-45.0163622215436-58.0406551728997i","39.4187854154169-61.7412409958765i","22.7936437299219+33.9444940897446i","-19.5150036406661+36.1307254326773i","-0.0134796851822344+0.00409318647818605i","-2.56332150671376+0.0669207583213005i","-40.6142310554897-50.7439597874953i","32.3016651191969-56.2162070403652i","18.4272392274467+28.2776670784842i","-16.9628904975285+28.6969790935485i","-0.0116072074191983+0.00363941511925934i","-0.00735976962759821-0.0396017488057083i","0.0339755908727994-0.0214369976831961i","7.33110079904553+51.1523965333715i","-42.0719414345267+29.8142482438222i","-0.0066573656754769-0.00105701787611727i","0.0341892454537032+0.0214369979243969i","-0.00724411552030091+0.0396017487584004i","-42.3479128498654-29.8142482441432i","7.17025046104377-51.1523965333179i","0.00533867335644201-0.00413707719670194i","-10.6024888612495-85.2609306727533i","75.7439828943369-40.1107568460127i","0.000174411611080889+0.0111458557355256i","-0.00932628990249313+0.00603087485901225i","-0.00994694737390481-0.0023104395200425i","76.2039726758927+40.1107568468583i","-10.3860880071731+85.2609306726261i","-0.00938642243038213-0.00603087535078544i","0.000141875108120683-0.0111458556930472i","0.00762813435579359-0.00682295353795041i","-157.42963899942-47.0145631533255i","-11.3551325646107-163.067762625676i","18.4425120809695+28.2796840262159i","-16.9565180438806+28.7109156053346i","-0.0161499775397384+0.0169115503351089i","-75.6355443421829-23.9101243044507i","-5.7800747178776-79.7881578504285i","22.7982295684462+33.9412425898529i","-19.5099416856166+36.1327212996607i","-0.0107105569827927+0.00892982924856044i","75.5977254185104+23.8598452256935i","5.812623125492+79.7344824479645i","22.7789933839661+33.9325718142273i","-19.5126559629682+36.112000756624i","0.0006447276701247-0.00594221138645455i","157.405293266687+46.9731782500564i","11.3845084955802+163.03001512064i","18.402775218208+28.2628361525002i","-16.9632727151277+28.66839918755i","0.0074895562063589-0.0143604889595442i","-0.000324847702633996-0.000713807117437598i","7.33520602836218+51.1452092383964i","-42.0637812163691+29.8147345115423i","-0.00665186957426357-0.00105538727184685i","0.000744490721252699+0.000256142764298799i","-42.3453986290866-29.8063462495249i","7.16435662780162-51.1467101600302i","0.00533374299889699-0.00413413121575752i","0.0603862419744985-0.376786918373099i","9.66067681287787-14.7665357414404i","17.3029921308246+2.08562821655279i","0.00154655715369549+0.00186473042279294i","0.2772383062779+0.250217301515008i","6.61312689387789+16.4039211033097i","-11.6257935392988+13.0380826369545i","-0.00238888471578401+0.00023979068404327i","0.350227191438218+0.931222259973119i","-0.156808283979155-0.132804795774132i","0.0488851171924641-0.196971982098947i","0.0000647316507840167-0.000126754280488356i","-1.55609044104287-0.980679631717408i","14.1133288275059+20.1471740083148i","-11.1028646600533+22.4034874421576i","-0.0027838327369777+0.000890442062800029i","1.55506306672866+0.979831153366788i","31.4646411071694+47.7137336852707i","-27.9079806362148+49.8362432444279i","-0.00727317540587861+0.00209563673661476i","-0.000636074583001189-0.000582098340004222i","36.8469658002322+56.5327974529882i","-33.9104489485846+57.3765424714989i","-0.0086535996802732+0.0025506543628354i","7.33489459908439+51.1347255640679i","-42.0545791049746+29.8093513149101i","-0.00665066911856946-0.00105505271602589i","-42.3375436104419-29.7993343470747i","7.16192568156325-51.1362870836378i","0.00533267029040052-0.00413348739031666i","12.3554699720076-19.1003675915121i","22.4820432748959+2.3794971289599i","0.00194319052888797+0.00232338752713938i","8.73685972386247+20.9243948096285i","-14.6248483444374+17.1343021577099i","-0.00297670396426112+0.000321253749931371i","-0.657685789439934+13.1632954543936i","-12.058112791988+5.83105940203434i","-0.00142615898770897-0.000652703085292971i","-12.3315665154951-5.17570038795607i","-1.38734086493069-13.5229611073044i","0.00102231858370844-0.00121651610024699i","45.5696922697117+67.8451272447312i","-39.000796674902+72.224660415003i","-0.0100549256514282+0.00298569639720629i","36.8421347708073+56.5223271371239i","-33.9034597076342+57.3671332908371i","-0.00865224127740383+0.00255047565781475i","-0.0315944167831006-0.6170112774678i","-0.00010603320445634+3.42357838461994E-06i","0.46785501289243+0.428182400718505i","0.0000619905140454395-0.00008766458545307i","-0.272178830523398+0.32690302325895i","0.0000762857084743598+0.0000788680221868402i","-0.110417637564199-0.414248589426698i","-0.00007912935350273+0.000051805043018453i","-0.0501510063528006+0.26153412625264i","0.00016115278702438-0.0000683621219551549i","-0.22260162507393-0.1420306427807i","-0.00008364050695797+0.00009600025386806i","0.467521489565586+0.888871604092485i","-0.0000382712314528999+0.000122498368694298i","-0.886857845042599-1.8061967179434i","-0.0003183545412682+0.00020055331329677i"]
[{"$f":"COMPLEX(定数!O$13,計算!B64*定数!O$23)","v":"74.3688188913563+168.334375803303i"},{"$f":"COMPLEX(定数!P$13,計算!B64*定数!P$23)","v":"-73.4757772913563+168.334375803303i"},{"$f":"COMPLEX(定数!Q$13,計算!B64*定数!Q$23)","v":"125.193786513619+240.835422748063i"},{"$f":"COMPLEX(定数!R$13,計算!B64*定数!R$23)","v":"-123.916114913619+240.835422748063i"},{"$f":"COMPLEX(定数!S$13,計算!B64*定数!S$23)","v":"-77.7867441135484-110.588497340902i"},{"$f":"COMPLEX(定数!T$13,計算!B64*定数!T$23)","v":"77.2000539135484-110.588497340902i"},{"$f":"COMPLEX(定数!U$13,計算!B64*定数!U$23)","v":"124.646605989444+201.80187544106i"},{"$f":"COMPLEX(定数!V$13,計算!B64*定数!V$23)","v":"-123.576013789444+201.80187544106i"},{"$f":"IMPRODUCT(定数!D$31,計算!G64)","v":"-1.16235012335815E-16+8.44496797051955E-17i"},{"$f":"COMPLEX(定数!O$14,計算!B64*定数!O$24)","v":"86.1948356167649+206.702005970571i"},{"$f":"COMPLEX(定数!P$14,計算!B64*定数!P$24)","v":"-85.0982474167649+206.702005970571i"},{"$f":"COMPLEX(定数!Q$14,計算!B64*定数!Q$24)","v":"57.0863694248256+114.264839314269i"},{"$f":"COMPLEX(定数!R$14,計算!B64*定数!R$24)","v":"-56.4801756248256+114.264839314269i"},{"$f":"COMPLEX(定数!S$14,計算!B64*定数!S$24)","v":"163.969671876329+242.569431063506i"},{"$f":"COMPLEX(定数!T$14,計算!B64*定数!T$24)","v":"-162.682801076329+242.569431063506i"},{"$f":"COMPLEX(定数!U$14,計算!B64*定数!U$24)","v":"-101.525845343051-174.159340949021i"},{"$f":"COMPLEX(定数!V$14,計算!B64*定数!V$24)","v":"100.601901343051-174.159340949021i"},{"$f":"IMPRODUCT(定数!D$32,計算!G64)","v":"1.16235012335815E-16-8.44496797051955E-17i"},{"$f":"COMPLEX(定数!O$15,計算!B64*定数!O$25)","v":"86.1919999827348+206.699706346462i"},{"$f":"COMPLEX(定数!P$15,計算!B64*定数!P$25)","v":"-85.0954239827348+206.699706346462i"},{"$f":"COMPLEX(定数!Q$15,計算!B64*定数!Q$25)","v":"-57.0828842529623-114.264424636042i"},{"$f":"COMPLEX(定数!R$15,計算!B64*定数!R$25)","v":"56.4766926529622-114.264424636042i"},{"$f":"COMPLEX(定数!S$15,計算!B64*定数!S$25)","v":"-163.956966054068-242.547942595236i"},{"$f":"COMPLEX(定数!T$15,計算!B64*定数!T$25)","v":"162.670209254068-242.547942595236i"},{"$f":"COMPLEX(定数!U$15,計算!B64*定数!U$25)","v":"-101.548680976766-174.19357176087i"},{"$f":"COMPLEX(定数!V$15,計算!B64*定数!V$25)","v":"100.624555376766-174.19357176087i"},{"$f":"IMPRODUCT(定数!D$33,計算!G64)","v":"0"},{"$f":"COMPLEX(定数!O$16,計算!B64*定数!O$26)","v":"74.3664237452132+168.331058281079i"},{"$f":"COMPLEX(定数!P$16,計算!B64*定数!P$26)","v":"-73.4733997452132+168.331058281079i"},{"$f":"COMPLEX(定数!Q$16,計算!B64*定数!Q$26)","v":"-125.201328746793-240.848051949986i"},{"$f":"COMPLEX(定数!R$16,計算!B64*定数!R$26)","v":"123.923590146793-240.848051949986i"},{"$f":"COMPLEX(定数!S$16,計算!B64*定数!S$26)","v":"77.7704269443536+110.557885661833i"},{"$f":"COMPLEX(定数!T$16,計算!B64*定数!T$26)","v":"-77.1838991443536+110.557885661833i"},{"$f":"COMPLEX(定数!U$16,計算!B64*定数!U$26)","v":"124.65071095008+201.800442874352i"},{"$f":"COMPLEX(定数!V$16,計算!B64*定数!V$26)","v":"-123.58012635008+201.800442874352i"},{"$f":"IMPRODUCT(定数!D$34,計算!G64)","v":"0"},{"$f":"IMDIV(COMPLEX(定数!O$17,計算!B64*定数!O$27),計算!R64)","v":"0.680326174267056+0.257876787556795i"},{"$f":"IMPRODUCT(COMPLEX(定数!P$17,計算!B64*定数!P$27),計算!R64)","v":"-0.217170346661136+1.02142768873185i"},{"$f":"IMDIV(COMPLEX(定数!Q$17,計算!B64*定数!Q$27),計算!S64)","v":"-0.692159860706952+0.761942068979476i"},{"$f":"IMPRODUCT(COMPLEX(定数!R$17,計算!B64*定数!R$27),計算!S64)","v":"1.54114733926183-0.192869419589643i"},{"$f":"IMDIV(COMPLEX(定数!S$17,計算!B64*定数!S$27),計算!T64)","v":"0.413114840235536+0.227009488619886i"},{"$f":"IMPRODUCT(COMPLEX(定数!T$17,計算!B64*定数!T$27),計算!T64)","v":"-0.170668200528169+0.761261318444218i"},{"$f":"IMDIV(COMPLEX(定数!U$17,計算!B64*定数!U$27),計算!U64)","v":"-0.851612874219881-0.10195050217166i"},{"$f":"IMPRODUCT(COMPLEX(定数!V$17,計算!B64*定数!V$27),計算!U64)","v":"0.714665639780602-1.16374761729313i"},{"$f":"IMPRODUCT(定数!E$31,計算!G64)","v":"0"},{"$f":"IMDIV(COMPLEX(定数!O$18,計算!B64*定数!O$28),計算!R64)","v":"0.8466848371288+0.298032191407254i"},{"$f":"IMPRODUCT(COMPLEX(定数!P$18,計算!B64*定数!P$28),計算!R64)","v":"-0.277964169117494+1.23561551152126i"},{"$f":"IMDIV(COMPLEX(定数!Q$18,計算!B64*定数!Q$28),計算!S64)","v":"-0.321867219264124+0.368848153222828i"},{"$f":"IMPRODUCT(COMPLEX(定数!R$18,計算!B64*定数!R$28),計算!S64)","v":"0.724670995897809-0.084164032803199i"},{"$f":"IMDIV(COMPLEX(定数!S$18,計算!B64*定数!S$28),計算!T64)","v":"-0.917824466267216-0.472191720334817i"},{"$f":"IMPRODUCT(COMPLEX(定数!T$18,計算!B64*定数!T$28),計算!T64)","v":"0.386031875906014-1.6440420080122i"},{"$f":"IMDIV(COMPLEX(定数!U$18,計算!B64*定数!U$28),計算!U64)","v":"0.738247495992861+0.0624974857847774i"},{"$f":"IMPRODUCT(COMPLEX(定数!V$18,計算!B64*定数!V$28),計算!U64)","v":"-0.620059099349616+0.978851139149513i"},{"$f":"IMPRODUCT(定数!E$32,計算!G64)","v":"0"},{"$f":"IMDIV(COMPLEX(定数!O$19,計算!B64*定数!O$29),計算!R64)","v":"0.846679559609838+0.298022063977919i"},{"$f":"IMPRODUCT(COMPLEX(定数!P$19,計算!B64*定数!P$29),計算!R64)","v":"-0.277965218852599+1.23559495308738i"},{"$f":"IMDIV(COMPLEX(定数!Q$19,計算!B64*定数!Q$29),計算!S64)","v":"0.321856799210058-0.368857227123608i"},{"$f":"IMPRODUCT(COMPLEX(定数!R$19,計算!B64*定数!R$29),計算!S64)","v":"-0.724659113987306+0.084153314829502i"},{"$f":"IMDIV(COMPLEX(定数!S$19,計算!B64*定数!S$29),計算!T64)","v":"0.917739969546938+0.472156943591543i"},{"$f":"IMPRODUCT(COMPLEX(定数!T$19,計算!B64*定数!T$29),計算!T64)","v":"-0.385994489086205+1.64390342058894i"},{"$f":"IMDIV(COMPLEX(定数!U$19,計算!B64*定数!U$29),計算!U64)","v":"0.738391038260325+0.0625219178585779i"},{"$f":"IMPRODUCT(COMPLEX(定数!V$19,計算!B64*定数!V$29),計算!U64)","v":"-0.62017941184035+0.979055679350485i"},{"$f":"IMPRODUCT(定数!E$33,計算!G64)","v":"0"},{"$f":"IMDIV(COMPLEX(定数!O$20,計算!B64*定数!O$30),計算!R64)","v":"0.680314815972339+0.257868328903271i"},{"$f":"IMPRODUCT(COMPLEX(定数!P$20,計算!B64*定数!P$30),計算!R64)","v":"-0.217168116208354+1.02140418207176i"},{"$f":"IMDIV(COMPLEX(定数!Q$20,計算!B64*定数!Q$30),計算!S64)","v":"0.692198918491584-0.761978921487325i"},{"$f":"IMPRODUCT(COMPLEX(定数!R$20,計算!B64*定数!R$30),計算!S64)","v":"-1.54123091721978+0.192882636575192i"},{"$f":"IMDIV(COMPLEX(定数!S$20,計算!B64*定数!S$30),計算!T64)","v":"-0.412991329008175-0.226966833433053i"},{"$f":"IMPRODUCT(COMPLEX(定数!T$20,計算!B64*定数!T$30),計算!T64)","v":"0.170611800246736-0.761070778569412i"},{"$f":"IMDIV(COMPLEX(定数!U$20,計算!B64*定数!U$30),計算!U64)","v":"-0.851604117372486-0.101970812010625i"},{"$f":"IMPRODUCT(COMPLEX(定数!V$20,計算!B64*定数!V$30),計算!U64)","v":"0.71465785510448-1.16376038956731i"},{"$f":"IMPRODUCT(定数!E$34,計算!G64)","v":"0"},"0.675348614023844+0.734850831661187i","1.47196754312339-0.0934170386178033i","0.924948058834704+1.14476564079924i","-0.720483712495771+0.14379250387373i","-0.380148792676855-0.626558123523999i","1.2767525784782-0.176410935495587i","0.731681472583626+1.05736157490587i","1.645109807128E-19+7.63180420238109E-19i","8.5853308069496+3.76574608451901i","-89.0991202620384-181.941738285442i","100.41943280926-175.596666093861i","255.79384603369+379.100688471187i","-259.426759371203+375.153023538602i","-248.039818210343-422.860948462522i","256.093495659118-416.538476200053i","2.59805939176803E-16-1.84236640291075E-16i","8.5883794018028+3.76708327639i","-203.263985154495-410.467882160237i","213.376291370573-404.120556874909i","-72.1351655935493-106.017934286353i","65.9266138445073-109.967001009005i","-248.058627762158-422.892743460212i","256.115792939547-416.568026129084i","1.43569638305829E-16-9.97844181720909E-17i","0.00155722080579324+0.000683036947009441i","-250.391279769927-481.678815160472i","247.838122660733-481.677664281298i","155.55496835929+221.144337186068i","-154.382784949317+221.143621152394i","0.00774821684899507+0.00238055837499473i","-0.00586789710199298+0.00352733833599927i","1.16232874495651E-16-8.44473060077209E-17i","-0.48712671373431+0.347332702705428i","-1.71766799378719+0.445909864065156i","1.20708945095378-1.21020608249615i","0.940359516953215+0.314979709836593i","-0.0736178228660664+1.28555675902635i","-1.76571335675705-0.311178378769888i","0.489552588978417-2.07178204003052i","8.48853889639877E-20-5.61635178800151E-19i","-0.630762396670007+0.412152827400867i","-1.59600110350647+0.009249230792582i","0.282708511925875-1.32908403984634i","-0.264947036461357-0.37921131334914i","0.521163603920453-1.00024816750225i","-0.395335690663679-0.168651418876123i","-0.924434920515222-0.134465506372097i","8.81633801719564E-20-6.95202857901585E-19i","-0.630767324389864+0.41214298670155i","-0.952268370621212-0.72844173531677i","-1.16662831006145-1.16075128334516i","1.57061214073792+0.565130812797001i","-0.250858421891108+2.28769010449648i","-0.395183623720995-0.168614987592862i","-0.924562079897742-0.134247975872955i","8.81565193260008E-20-6.95197164129114E-19i","-0.48712302832151+0.34732325523759i","-0.333291705365126-1.07799973659646i","-1.8752879828711-0.824433199930628i","0.114243947952189-0.139001073300802i","0.267663159904895-0.236785670166032i","-1.7656886059786-0.311189892728552i","0.489544171100888-2.07177661344024i","8.48808020494397E-20-5.61625118830629E-19i","2.35966956483982+21.4556422995204i","-16.3853488992078+13.9552032143228i","-9.40609638020181-47.7620648683528i","40.9768261611488-26.0721671544116i","7.33169845392509+51.6619449125095i","-42.0736759907112+30.6790823103686i","-3.30492735767397E-17+7.5864502120396E-18i","-16.4991746166771-13.955203214524i","2.28563491265519-21.4556422995051i","41.2302117847009+26.0721671549184i","-9.2677792381282+47.7620648682334i","-42.3477511204231-30.6790823108873i","7.16894086791659-51.661944912423i","1.74849630977748E-17-2.91288218518087E-17i","-114.133226377935-228.461537551924i","112.921200276012-228.461537552787i","-328.019842348703-485.253238936178i","325.445493964679-485.253238933683i","0.0692677648189886+0.118360163296984i","-0.0686398485800055+0.118360160883014i","-1.16328556263274E-16+8.45176433448421E-17i","-250.375118831334-481.645814281819i","247.81990842608-481.6458142818i","155.508572069127+221.07557530694i","-154.335729715693+221.07557530689i","0.0527380692535921+0.0790797422901612i","-0.0523185381065655+0.0790797423376557i","1.16185750485779E-16-8.44138888760979E-17i","-14.6019551534418-0.621339505301144i","-5.1317629534161-12.4556983585233i","30.0804133735097-1.30517207635375i","12.0011264107249+27.7707372703101i","-33.0502827696499-0.547020075103448i","-13.9621477585286-29.7277030975309i","-1.51511441786494E-18-2.08241619318787E-17i","-17.7547364896184-1.99298672677348i","-7.11860257009777-15.8045272904335i","36.4872375734361-0.927017033732793i","14.3606670378162+32.9460077554145i","-39.7511751974629-2.0661175465772i","-17.6951532617656-35.6755769441474i","-8.88505675668095E-19-2.62750453190698E-17i","-17.1109477310848-2.7309088236312i","-8.56771699059202-15.6362777690811i","38.3227433532112+0.0178593028661029i","13.5881293308657+36.23409018406i","-39.7509299047499-2.06664902470257i","-17.6947367049498-35.6755434418486i","-8.88139727536889E-19-2.62750110997068E-17i","-13.2173862174168-2.14535355069976i","-8.21394610925858-12.0698248095967i","29.2538995381977-1.7588594250899i","12.3419903185164+26.2481312611463i","-33.0498121102841-0.547318602996191i","-13.9616945223495-29.7274395470093i","-1.51490825047869E-18-2.08238793315497E-17i","-0.742822371269099-0.852163326938399i","-21.2049422282461-95.8403626094827i","80.98851445452-55.0166483107372i","7.33372475610981+51.6733573923678i","-42.0825838064806+30.6864567809266i","-4.4747200455245E-17+1.08813380466867E-17i","1.12995895089157+0.0772284457460977i","82.9304735052279+52.8562656064641i","-18.3783871441346+96.3547804620324i","-42.3570872343908-30.6859737991006i","7.17032790241313-51.6734389006495i","2.37095353200513E-17-3.95829033826657E-17i","0.602667431415312+0.795344286847614i","2.27380001076331-0.299847894381492i","1.13027215980389+1.98916240833304i","-0.000535816105315168+0.0000355129535634202i","-0.000294485473769835-0.00044756078821168i","-9.24866386500159E-20-5.55386066682724E-19i","15.638591509352+7.76085179465395i","869.232003212742+1241.16738081795i","-829.415451293397+1263.50320443691i","-0.0985216172230419-0.170102282091183i","0.0895154066830375-0.174816039003128i","3.60528771671648E-16-2.68014543701827E-16i","3.17418102681626-0.4676556667316i","63.4686465009316-4.27073580912484i","27.2693646126078+57.5186802943296i","-33.0581287979912-0.546834440261958i","-13.9661697350112-29.7344213355474i","-2.52051686380126E-18-2.8991349972732E-17i","1.99648825865385-0.4822908674613i","77.4555504681834-1.71908414465444i","30.4639771194816+70.5156795625531i","-39.7607592480647-2.0665548978306i","-17.6994897910421-35.6841101736456i","-1.42370451457608E-18-3.63201032262606E-17i","-0.4275188031943-0.3813534424474i","78.0484737488359+1.0967181673948i","27.4959360066182+73.3572143959985i","-39.7601952087597-2.06750462934022i","-17.6985533827934-35.6840058440809i","-9.53965057275361E-19-3.6030765634845E-17i","-1.95455259740115-0.264517480637899i","59.950872206504-0.843959924937062i","23.0137773498025+54.9644924525434i","-33.0569703865306-0.547998729557282i","-13.9646266744656-29.7339869062596i","-1.54584040329966E-18-2.83630480132874E-17i","-0.00736057949229973-0.0399676555531983i","0.0339764007399026-0.0221056459846025i","7.33205214014567+51.6607391610569i","-42.0728927756229+30.6782216293144i","-1.65343956247819E-17+3.79545705178214E-18i","0.0341884355946007+0.0221056462234017i","-0.00724330567079789+0.0399676554997939i","-42.3469615087681-30.6782216296266i","7.16929911994348-51.6607391610048i","8.7476367709765E-18-1.45730146779077E-17i","-10.6045018389264-85.9471564919078i","75.7459958719923-41.5494748831159i","0.000174639659077721+0.011248797015375i","-0.00932651795011735+0.00621906461070021i","-2.53662113913799E-17+3.97985420120808E-18i","76.2019596982229+41.5494748839291i","-10.3840750294942+85.9471564917853i","-0.00938619437954587-0.00621906509531583i","0.000141647059607707-0.0112487969734802i","1.16738302812501E-17-2.29313113125373E-17i","-197.841015558576-100.520012390944i","20.0366237794138-220.149324682012i","-33.025426936844-0.53148350882251i","-13.9613587847717-29.6986493755696i","-2.8851409771924E-17+4.92561161990305E-17i","-94.7196996400646-47.9206136585449i","9.7441323325922-106.084953791739i","-39.7390204228929-2.05866548321747i","-17.6943473956832-35.6615837674808i","-1.3670807579661E-17+1.50921722976964E-17i","94.7812090812123+47.9197795952791i","-9.7196953189787+106.14123711819i","-39.7618363214645-2.07374285414488i","-17.6942030585628-35.6887608987066i","1.27817514021271E-17-4.13824770385554E-17i","197.901048043599+100.523424529145i","-20.0169687739021+220.205961047248i","-33.0736711457039-0.562637031882794i","-13.9613743144017-29.7559358034784i","2.73370075906536E-17-7.00955699256309E-17i","-0.000292111208183302-0.0005515665110685i","7.33564566559297+51.6656048846265i","-42.0756633824107+30.6835547169665i","-1.65240197758746E-17+3.79418122527676E-18i","0.000600677338986571+0.0001775455551054i","-42.3529776402915-30.6789468451653i","7.16731650167223-51.6664239397811i","8.74143518722074E-18-1.45645756099515E-17i","0.127445751812402-0.0330044446396016i","7.02900143554612+10.8155802059918i","-6.57696201435033+11.0001844239559i","-3.1340774591949E-18+2.57764585887619E-18i","-0.0456684145609998+0.107951291507888i","-12.9146029044304-0.589802241894634i","-5.12009618326296-11.7807801666919i","-1.66096527382E-19-4.0029751697832E-18i","0.368874430086157+0.925339277511171i","0.133763086810154-0.0652765737090618i","0.116710291074539+0.0908149880846458i","1.53672772666875E-20-2.5677605301845E-19i","0.34098153456311-0.760406308051998i","-23.9409275476417-1.83163373366855i","-10.991493638608-21.4667866047278i","8.96423407884004E-20-8.4931689620918E-18i","-0.34000557249766+0.760080197283003i","-55.5681024446393-2.29664791124789i","-24.4043113458637-49.889046696858i","-9.79429583485599E-19-1.77813288099644E-17i","0.000667942309899416-0.000172701617003668i","-66.1073509457443-1.09065824391021i","-27.9294296346844-59.4604352601027i","-1.5162008724923E-18-2.08240912573172E-17i","7.34775228855301+51.6523076773162i","-42.0579224864106+30.6869480398979i","-1.6519044578667E-17+3.79814526751879E-18i","-42.3519353022967-30.6609299559442i","7.15243155703713-51.6560788127266i","8.73509990968471E-18-1.45637886068335E-17i","9.16632442718888+13.9492126677152i","-8.13965451848885+14.4748634219243i","-4.19045800618755E-18+3.4049588922411E-18i","-16.2866792568096-0.77556564304675i","-6.73010597740942-14.7664837206032i","-1.78963007624778E-19-5.19755692571394E-18i","-21.3584699469941+18.9571431734424i","-27.4519828753331-8.33779020090424i","-7.19900511347862E-18-7.40053823950298E-18i","-9.74911921443279-27.1126865978812i","18.1077526087678-22.5746455925784i","9.34334765551489E-18-4.07185822626549E-18i","-79.4906734826802-4.10499998406853i","-35.4061156290745-71.3278961707184i","-8.97578118755882E-19-2.62674768266025E-17i","-66.09615669172-1.07423222204914i","-27.9376258909919-59.4422294610246i","-1.52173847320763E-18-2.08197578796796E-17i","-0.6215652384222-1.0526690215959i","2.66082568049899E-19-7.99429066695401E-20i","1.18777091442822+0.311575077251703i","-1.5419035831036E-19+2.36558953548499E-19i","-0.47171418804254-0.359316701717098i","1.3941702839755E-19-5.13750790791021E-21i","0.58129399733034-0.1843826228701i","2.6488315338034E-20+1.8247955274291E-19i","-0.446545958455403+0.989072598877868i","-3.5831783870839E-19-9.10008549422869E-19i","-0.752704606990299-0.776349258729699i","6.9934519868061E-19-9.77549336035405E-20i","0.490442588785341+0.871984426785246i","2.82809152297723E-20+3.28986817248854E-19i","3.542030537279-1.2805609235489i","-5.88690851345994E-21+9.55386613119799E-19i"]
[{"$f":"COMPLEX(定数!O$13,計算!B65*定数!O$23)","v":"74.3688188913563+171.139948733358i"},{"$f":"COMPLEX(定数!P$13,計算!B65*定数!P$23)","v":"-73.4757772913563+171.139948733358i"},{"$f":"COMPLEX(定数!Q$13,計算!B65*定数!Q$23)","v":"125.193786513619+244.849346460531i"},{"$f":"COMPLEX(定数!R$13,計算!B65*定数!R$23)","v":"-123.916114913619+244.849346460531i"},{"$f":"COMPLEX(定数!S$13,計算!B65*定数!S$23)","v":"-77.7867441135484-112.43163896325i"},{"$f":"COMPLEX(定数!T$13,計算!B65*定数!T$23)","v":"77.2000539135484-112.43163896325i"},{"$f":"COMPLEX(定数!U$13,計算!B65*定数!U$23)","v":"124.646605989444+205.165240031744i"},{"$f":"COMPLEX(定数!V$13,計算!B65*定数!V$23)","v":"-123.576013789444+205.165240031744i"},{"$f":"IMPRODUCT(定数!D$31,計算!G65)","v":"0.0339546060286369-0.0535038977857051i"},{"$f":"COMPLEX(定数!O$14,計算!B65*定数!O$24)","v":"86.1948356167649+210.147039403414i"},{"$f":"COMPLEX(定数!P$14,計算!B65*定数!P$24)","v":"-85.0982474167649+210.147039403414i"},{"$f":"COMPLEX(定数!Q$14,計算!B65*定数!Q$24)","v":"57.0863694248256+116.16925330284i"},{"$f":"COMPLEX(定数!R$14,計算!B65*定数!R$24)","v":"-56.4801756248256+116.16925330284i"},{"$f":"COMPLEX(定数!S$14,計算!B65*定数!S$24)","v":"163.969671876329+246.612254914564i"},{"$f":"COMPLEX(定数!T$14,計算!B65*定数!T$24)","v":"-162.682801076329+246.612254914564i"},{"$f":"COMPLEX(定数!U$14,計算!B65*定数!U$24)","v":"-101.525845343051-177.061996631505i"},{"$f":"COMPLEX(定数!V$14,計算!B65*定数!V$24)","v":"100.601901343051-177.061996631505i"},{"$f":"IMPRODUCT(定数!D$32,計算!G65)","v":"-0.0339546060286369+0.0535038977857051i"},{"$f":"COMPLEX(定数!O$15,計算!B65*定数!O$25)","v":"86.1919999827348+210.144701452236i"},{"$f":"COMPLEX(定数!P$15,計算!B65*定数!P$25)","v":"-85.0954239827348+210.144701452236i"},{"$f":"COMPLEX(定数!Q$15,計算!B65*定数!Q$25)","v":"-57.0828842529623-116.168831713309i"},{"$f":"COMPLEX(定数!R$15,計算!B65*定数!R$25)","v":"56.4766926529622-116.168831713309i"},{"$f":"COMPLEX(定数!S$15,計算!B65*定数!S$25)","v":"-163.956966054068-246.590408305156i"},{"$f":"COMPLEX(定数!T$15,計算!B65*定数!T$25)","v":"162.670209254068-246.590408305156i"},{"$f":"COMPLEX(定数!U$15,計算!B65*定数!U$25)","v":"-101.548680976766-177.096797956885i"},{"$f":"COMPLEX(定数!V$15,計算!B65*定数!V$25)","v":"100.624555376766-177.096797956885i"},{"$f":"IMPRODUCT(定数!D$33,計算!G65)","v":"0"},{"$f":"COMPLEX(定数!O$16,計算!B65*定数!O$26)","v":"74.3664237452132+171.136575919097i"},{"$f":"COMPLEX(定数!P$16,計算!B65*定数!P$26)","v":"-73.4733997452132+171.136575919097i"},{"$f":"COMPLEX(定数!Q$16,計算!B65*定数!Q$26)","v":"-125.201328746793-244.862186149152i"},{"$f":"COMPLEX(定数!R$16,計算!B65*定数!R$26)","v":"123.923590146793-244.862186149152i"},{"$f":"COMPLEX(定数!S$16,計算!B65*定数!S$26)","v":"77.7704269443536+112.40051708953i"},{"$f":"COMPLEX(定数!T$16,計算!B65*定数!T$26)","v":"-77.1838991443536+112.40051708953i"},{"$f":"COMPLEX(定数!U$16,計算!B65*定数!U$26)","v":"124.65071095008+205.163783588925i"},{"$f":"COMPLEX(定数!V$16,計算!B65*定数!V$26)","v":"-123.58012635008+205.163783588925i"},{"$f":"IMPRODUCT(定数!D$34,計算!G65)","v":"0"},{"$f":"IMDIV(COMPLEX(定数!O$17,計算!B65*定数!O$27),計算!R65)","v":"0.710464047783795-0.204421289298376i"},{"$f":"IMPRODUCT(COMPLEX(定数!P$17,計算!B65*定数!P$27),計算!R65)","v":"-0.799767201641863+0.684143984635713i"},{"$f":"IMDIV(COMPLEX(定数!Q$17,計算!B65*定数!Q$27),計算!S65)","v":"-0.130378013628754+1.03819816778211i"},{"$f":"IMPRODUCT(COMPLEX(定数!R$17,計算!B65*定数!R$27),計算!S65)","v":"1.37447774350624+0.747233256555137i"},{"$f":"IMDIV(COMPLEX(定数!S$17,計算!B65*定数!S$27),計算!T65)","v":"0.477081291844595-0.0448926467159643i"},{"$f":"IMPRODUCT(COMPLEX(定数!T$17,計算!B65*定数!T$27),計算!T65)","v":"-0.575774478830586+0.533436883585393i"},{"$f":"IMDIV(COMPLEX(定数!U$17,計算!B65*定数!U$27),計算!U65)","v":"-0.773164821632246+0.40320976894277i"},{"$f":"IMPRODUCT(COMPLEX(定数!V$17,計算!B65*定数!V$27),計算!U65)","v":"1.25967388489467-0.550455051664748i"},{"$f":"IMPRODUCT(定数!E$31,計算!G65)","v":"0"},{"$f":"IMDIV(COMPLEX(定数!O$18,計算!B65*定数!O$28),計算!R65)","v":"0.870218732207038-0.272684013852222i"},{"$f":"IMPRODUCT(COMPLEX(定数!P$18,計算!B65*定数!P$28),計算!R65)","v":"-0.979876316740102+0.818407592995532i"},{"$f":"IMDIV(COMPLEX(定数!Q$18,計算!B65*定数!Q$28),計算!S65)","v":"-0.0522900006988829+0.49481289843435i"},{"$f":"IMPRODUCT(COMPLEX(定数!R$18,計算!B65*定数!R$28),計算!S65)","v":"0.642555560983237+0.356764024840116i"},{"$f":"IMDIV(COMPLEX(定数!S$18,計算!B65*定数!S$28),計算!T65)","v":"-1.0416949611916+0.126333446296777i"},{"$f":"IMPRODUCT(COMPLEX(定数!T$18,計算!B65*定数!T$28),計算!T65)","v":"1.25817272150055-1.14219871142894i"},{"$f":"IMDIV(COMPLEX(定数!U$18,計算!B65*定数!U$28),計算!U65)","v":"0.655579349412054-0.370870970946227i"},{"$f":"IMPRODUCT(COMPLEX(定数!V$18,計算!B65*定数!V$28),計算!U65)","v":"-1.07544709172041+0.452162196128396i"},{"$f":"IMPRODUCT(定数!E$32,計算!G65)","v":"0"},{"$f":"IMDIV(COMPLEX(定数!O$19,計算!B65*定数!O$29),計算!R65)","v":"0.870208262398337-0.272688913331554i"},{"$f":"IMPRODUCT(COMPLEX(定数!P$19,計算!B65*定数!P$29),計算!R65)","v":"-0.979864626945146+0.818390554668086i"},{"$f":"IMDIV(COMPLEX(定数!Q$19,計算!B65*定数!Q$29),計算!S65)","v":"0.0522762489909945-0.494814279577073i"},{"$f":"IMPRODUCT(COMPLEX(定数!R$19,計算!B65*定数!R$29),計算!S65)","v":"-0.642539667082155-0.356765906990144i"},{"$f":"IMDIV(COMPLEX(定数!S$19,計算!B65*定数!S$29),計算!T65)","v":"1.04160399316225-0.126314626002587i"},{"$f":"IMPRODUCT(COMPLEX(定数!T$19,計算!B65*定数!T$29),計算!T65)","v":"-1.25806257635981+1.14210515628809i"},{"$f":"IMDIV(COMPLEX(定数!U$19,計算!B65*定数!U$29),計算!U65)","v":"0.655713775271073-0.370932958353699i"},{"$f":"IMPRODUCT(COMPLEX(定数!V$19,計算!B65*定数!V$29),計算!U65)","v":"-1.07566404204195+0.452261974827032i"},{"$f":"IMPRODUCT(定数!E$33,計算!G65)","v":"0"},{"$f":"IMDIV(COMPLEX(定数!O$20,計算!B65*定数!O$30),計算!R65)","v":"0.710449652280704-0.204421190699321i"},{"$f":"IMPRODUCT(COMPLEX(定数!P$20,計算!B65*定数!P$30),計算!R65)","v":"-0.799751046158601+0.684126571453882i"},{"$f":"IMDIV(COMPLEX(定数!Q$20,計算!B65*定数!Q$30),計算!S65)","v":"0.130388895722533-1.03825166577144i"},{"$f":"IMPRODUCT(COMPLEX(定数!R$20,計算!B65*定数!R$30),計算!S65)","v":"-1.37455386512002-0.747271496594725i"},{"$f":"IMDIV(COMPLEX(定数!S$20,計算!B65*定数!S$30),計算!T65)","v":"-0.476952961487749+0.0448583728266186i"},{"$f":"IMPRODUCT(COMPLEX(定数!T$20,計算!B65*定数!T$30),計算!T65)","v":"0.575618829501025-0.533311071767288i"},{"$f":"IMDIV(COMPLEX(定数!U$20,計算!B65*定数!U$30),計算!U65)","v":"-0.77316897174002+0.403188015923302i"},{"$f":"IMPRODUCT(COMPLEX(定数!V$20,計算!B65*定数!V$30),計算!U65)","v":"1.25967458133551-0.550470034737045i"},{"$f":"IMPRODUCT(定数!E$34,計算!G65)","v":"0"},"0.684228797482171+0.726662978059654i","1.47083866035519-0.0923761674598258i","0.938781790075244+1.13201043515602i","-0.71874607574105+0.142190339298296i","-0.38772033079653-0.619576888738336i","1.27462076967598-0.174445329890594i","0.744458983831348+1.04558024268686i","-0.000190452783889916-0.000281163778400277i","8.63083734330689+3.72378739533701i","-89.1049052263894-184.96078804178i","100.490323821434-178.686413902045i","255.802750560327+385.398541892259i","-259.465559749184+381.494862624715i","-248.050742673247-429.883491206981i","256.158974067631-423.631465183468i","-0.0766242952467861+0.11776185212691i","8.633902097234+3.725109687951i","-203.269772173049-417.295696253955i","213.447207555682-411.01909412489i","-72.1262579049722-107.805398520931i","65.8877996887656-111.710463959519i","-248.069556104267-429.915807194345i","256.181294599014-423.661561117172i","-0.0426695719253574+0.0642567117943159i","0.00156547485309488+0.000675426414005642i","-250.391280819212-489.706792998495i","247.838135519056-489.705654942646i","155.554969974407+224.830072422409i","-154.382791986991+224.829364366924i","0.00774623535299668+0.00242479423101827i","-0.00585602052498757+0.00355879654401292i","-0.0339541138776862+0.0535025819955002i","-1.43443254557164+0.307746996825207i","-1.15647234664901+1.40449884893408i","0.476100000289856+0.134887524557715i","0.958657805659168-0.292840770210716i","-0.173658416789444+0.894365697963102i","-1.64307671379722+0.787706525237473i","0.517023680557883-1.14111895786225i","0.00019278571783871+0.000160824152459205i","-1.7734544109997+0.372630112377387i","-1.30705185086704+0.976274559402063i","-0.483071087376043-0.372341874237402i","-0.455001694832308-0.193393815373077i","1.76452292912844-0.708756432859993i","-0.406051068067796+0.128503330485259i","-2.0084022621907-0.254719253223812i","0.000242404447786028+0.000192740557221598i","-1.77343911773037+0.372624034437163i","-1.20246974918264-0.013346379426545i","-1.76816203283741-1.08585535459298i","1.628289037729-0.446043920448333i","-0.751713392485451+1.57553904837779i","-0.405902442481857+0.128445761646671i","-2.00861654096788-0.254604880038649i","0.000242403831337935+0.000192736680371146i","-1.43440646862232+0.30773997685821i","-0.895684272943447-0.671952459444181i","-2.27291798248508-1.35960102529543i","0.00461321963530198-0.20308763289898i","0.977729249023251-0.172391138281738i","-1.64306253229791+0.787682135313316i","0.51703519695355-1.14111896268389i","0.000192782948452588+0.000160820123743629i","2.35999304549778+21.6892545139013i","-16.3856723798668+14.3117717585081i","-9.40703182708762-48.1995665290485i","40.9777616080374-26.8652360274328i","7.33260340763828+52.1761318234158i","-42.0745809444272+31.5372458531818i","0.0122403817981935-0.00852900743401063i","-16.4988511360178-14.3117717587072i","2.2853114319973-21.6892545138861i","41.2292763378115+26.8652360279344i","-9.26684379124216+48.1995665289307i","-42.3468461667064-31.5372458536953i","7.1680359142034-52.1761318233302i","-0.00252169429891624+0.0147323023843929i","-114.133226377937-232.269229844477i","112.921200276016-232.269229845325i","-328.019842348694-493.340792918391i","325.44549396467-493.340792915939i","0.0692677648119968+0.12033283262798i","-0.0686398485710242+0.120332830256984i","0.0339819321085642-0.0535469567964361i","-250.375118831331-489.673244519846i","247.819908426079-489.673244519828i","155.508572069121+224.760168228716i","-154.335729715691+224.760168228664i","0.0527380692602772+0.0803977380016761i","-0.0523185381088716+0.0803977380522058i","-0.0339402156425045+0.0534812221655268i","-29.2273661586845-14.0473004583729i","-2.9205778449123-31.6801827693546i","68.3669693215799+25.5553421584841i","1.36695110187951+72.8852359563099i","-72.0922637572494-31.4182305921744i","-5.25796019086838-78.1902020730145i","0.00110940716060855+0.0220693620112378i","-35.9000092932318-18.257031442386i","-4.51224479468351-39.6888218189063i","82.6740362089193+32.0876076459182i","3.29080782372164+88.2240824794599i","-87.2579796608748-40.0216543936049i","-8.73861521668731-95.4577364124453i","0.0012599940632542+0.0272594664349912i","-35.79508788408-19.2465337864655i","-5.79723886403568-40.4019897096648i","84.7565331257546+31.8347972726299i","0.774420268361499+90.5075845084226i","-87.25699173207-40.0214870364484i","-8.73862199475795-95.4567805287299i","0.00125994246970293+0.0272592219263652i","-28.9660473771086-16.1234943807949i","-5.66950316378675-33.1740896868061i","67.4116610087361+25.6446841605566i","2.5182420593418+71.8171571694739i","-72.0909239087637-31.4177298603993i","-5.25776932025854-78.1887911641154i","0.00110936672904033+0.0220689561068088i","-0.753973418568901-0.8436728750286i","-21.2026046680388-96.7309034858641i","80.9624920243033-56.5921905553815i","7.33462940839285+52.1876602208474i","-42.0834826816888+31.5448057652469i","0.0164739838725584-0.0117941667252856i","1.13096952952622+0.0764589871412973i","82.9282260850732+54.4533326279599i","-18.37399325084+97.240195982864i","-42.3561820390737-31.5443275955641i","7.16942218354499-52.1877409170294i","-0.00340585988800901+0.0200110988599436i","0.613074968893009+0.787419946282986i","2.26987632859155-0.296860387119732i","1.15630149408903+1.9693435693439i","-0.000535351397680009+0.0000351591235494575i","-0.000300342064227041-0.000443101556961197i","0.000127790865536084+0.000209098363680571i","15.740146719148+7.683527252678i","869.193716502992+1261.93142000752i","-829.161460903226+1284.04470267658i","-0.0985170826533108-0.172946548121828i","0.0894582589192204-0.177613339982145i","-0.104334436665605+0.16841001756654i","3.93686418129483-0.053923387142401i","138.879562964315+48.7645297172007i","7.49863743511525+146.686876057709i","-72.1084045593453-31.4247232255306i","-5.26051401764819-78.2073717596818i","0.00190713003939178+0.0299758731337325i","3.12120156837294-0.227509446051499i","169.582406921487+62.8715204909511i","8.84767474092336+180.034167654933i","-87.2778406822508-40.0301661080429i","-8.7413077805266-95.4791271169681i","0.0020301719233221+0.0370991814844653i","0.99272892674685-0.416655428352193i","171.720489264245+64.8959050757126i","4.2612963252354+183.25520642036i","-87.2768313736581-40.0305321712941i","-8.74084459625536-95.4784219315895i","0.00180980901107695+0.0372034474418705i","-0.60710564833201-0.4807354011404i","137.947433066502+53.6441503520049i","4.25902594517516+147.504876943343i","-72.1069978106433-31.4253431748131i","-5.25932469725649-78.2064686283921i","0.00143956670268316+0.0301861445180441i","-0.00736134985639936-0.0403385251432979i","0.0339771710779075-0.0227693314018964i","7.33295707897597+52.1749116800994i","-42.0737977144569+31.5363651234492i","0.0061238065461713-0.00426701884089213i","0.0341876652301067+0.0227693316204025i","-0.00724253529900309+0.0403385250978943i","-42.3460565699359-31.5363651237595i","7.16839418111347-52.1749116800477i","-0.00126158820154023+0.0073705011276868i","-10.6064166323263-86.6457179929024i","75.7479106654014-42.975857238385i","0.000174856584728881+0.0113531357810444i","-0.00932673487368395+0.00640585687526803i","0.00968498137351308-0.00579630204203908i","76.2000449048197+42.9758572391926i","-10.3821602360953+86.6457179927806i","-0.00938597745169849-0.00640585735176294i","0.000141430133865646-0.0113531357400031i","-0.00113516650632131+0.0112535228238187i","-163.427068222213-116.316618786546i","43.6995615975063-194.985388816427i","-72.0711078153833-31.4000103588678i","-5.26045860934257-78.1626683798497i","0.00576929832998912-0.0143889298077346i","-78.030706219602-53.9285625207939i","21.5397702496513-92.766622761065i","-87.2470877616503-40.0123075345605i","-8.73916626685908-95.443659515199i","0.00301297265944171+0.0017164072940123i","78.1683762610231+53.9816907928971i","-21.5334416314372+92.9137123697853i","-87.2648446070971-40.028083609856i","-8.73625465240547-95.4670924176981i","-0.00175211973405309+0.0255587765199174i","163.548894762135+116.367095178064i","-43.6977061724036+195.116909774739i","-72.1096165681657-31.4337443786291i","-5.2537809799592-78.213293190754i","-0.00465956610405295+0.0364725070622401i","-0.000221377702433599-0.0004325214660773i","7.33903963878812+52.1897861185384i","-42.0841695788481+31.5485662973901i","0.00612091008490362-0.00426573323047264i","0.000463652588998819+0.000152751845970196i","-42.3610069672378-31.5423342960845i","7.16682125474493-52.1908761026994i","-0.00126049873398303+0.00736751946720531i","0.280479750088404+0.222817557575503i","11.0690580002453+32.381752188196i","-23.5751040410922+24.6407189987562i","0.0033689418965301-0.00342588477508279i","-0.344707498822601+0.0787130254104085i","-32.7037631694738-10.3296677866422i","-5.85546871345016-33.6714245403084i","0.0007091406077247+0.00474896923208346i","0.386161449677156+0.918259112867522i","0.383486438063267-0.0808056805448629i","0.247311693421811+0.302252307111606i","0.0000181622554230574+0.0000751182640729668i","2.1518269041802-0.289083809392096i","-52.965635978635-25.6367595030603i","-5.74129261391191-58.5215344139548i","0.00037916627613118+0.00855740281671744i","-2.1498756287287+0.289240557434397i","-121.603384050109-54.4128810917979i","-11.7521175736139-132.443967849524i","0.00088317715437464+0.0187064745334377i","0.00116111833330024+0.000160591316017644i","-144.231521988573-62.8432674726196i","-10.5291121114027-156.425267325227i","0.00111131128010829+0.022073509091193i","7.34050181458032+52.176698871586i","-42.0722485784078+31.5429931600306i","0.00611913260687671-0.00426501543314151i","-42.3528095448937-31.5319492178884i","7.16223800634591-52.1784746818278i","-0.00125973541821661+0.00736575124036385i","14.0781839316214+41.61212062131i","-29.877439884562+32.016527368957i","0.00434316243843957-0.00444968074922847i","-41.6729504918741-13.7039841035156i","-7.65223065128816-43.0775305751057i","0.000897213165003325+0.00613120138196619i","-4.61584049125185+26.45054846179i","-24.980260396271+9.86522976947657i","0.00376233012807851-0.00111937077633291i","-22.6057117702973-14.95087951226i","0.968058852238871-27.0661567434127i","-0.0003517037688679+0.00392955908070915i","-174.527253579397-80.0169239096228i","-17.4995417040819-190.912840477589i","0.00126364565212922+0.027256264826863i","-144.207675063616-62.8222774513162i","-10.5345827320147-156.393995776265i","0.00111235070286635+0.0220690028886737i","-0.542587512633503-0.758781970836797i","7.26491277584958E-06+0.0000613024159665599i","0.91926213238276+0.174572597927096i","-0.00003633502969778-0.0000377763631972403i","-0.846064647889701-0.866018760455603i","4.57890728847946E-06+0.0000393705424186399i","1.20396878722874-0.1783913251383i","-0.000086824293841636-0.00002500793290236i","0.2185792166071+0.70916470990657i","0.00012083005691478+0.00002082469321147i","-0.736893860552669-0.0573133711818024i","0.000063931322882208+0.00010037075449256i","0.497264697845317+0.865900573622496i","-0.0000651476434112492-0.000126303201070575i","6.7769571541037-0.285186403130012i","-0.00034778474869836-0.000237611420487199i"]
[{"$f":"COMPLEX(定数!O$13,計算!B66*定数!O$23)","v":"74.3688188913563+173.945521663413i"},{"$f":"COMPLEX(定数!P$13,計算!B66*定数!P$23)","v":"-73.4757772913563+173.945521663413i"},{"$f":"COMPLEX(定数!Q$13,計算!B66*定数!Q$23)","v":"125.193786513619+248.863270172999i"},{"$f":"COMPLEX(定数!R$13,計算!B66*定数!R$23)","v":"-123.916114913619+248.863270172999i"},{"$f":"COMPLEX(定数!S$13,計算!B66*定数!S$23)","v":"-77.7867441135484-114.274780585599i"},{"$f":"COMPLEX(定数!T$13,計算!B66*定数!T$23)","v":"77.2000539135484-114.274780585599i"},{"$f":"COMPLEX(定数!U$13,計算!B66*定数!U$23)","v":"124.646605989444+208.528604622428i"},{"$f":"COMPLEX(定数!V$13,計算!B66*定数!V$23)","v":"-123.576013789444+208.528604622428i"},{"$f":"IMPRODUCT(定数!D$31,計算!G66)","v":"0.0234794595637216-0.123083637418377i"},{"$f":"COMPLEX(定数!O$14,計算!B66*定数!O$24)","v":"86.1948356167649+213.592072836257i"},{"$f":"COMPLEX(定数!P$14,計算!B66*定数!P$24)","v":"-85.0982474167649+213.592072836257i"},{"$f":"COMPLEX(定数!Q$14,計算!B66*定数!Q$24)","v":"57.0863694248256+118.073667291411i"},{"$f":"COMPLEX(定数!R$14,計算!B66*定数!R$24)","v":"-56.4801756248256+118.073667291411i"},{"$f":"COMPLEX(定数!S$14,計算!B66*定数!S$24)","v":"163.969671876329+250.655078765622i"},{"$f":"COMPLEX(定数!T$14,計算!B66*定数!T$24)","v":"-162.682801076329+250.655078765622i"},{"$f":"COMPLEX(定数!U$14,計算!B66*定数!U$24)","v":"-101.525845343051-179.964652313988i"},{"$f":"COMPLEX(定数!V$14,計算!B66*定数!V$24)","v":"100.601901343051-179.964652313988i"},{"$f":"IMPRODUCT(定数!D$32,計算!G66)","v":"-0.0234794595637216+0.123083637418377i"},{"$f":"COMPLEX(定数!O$15,計算!B66*定数!O$25)","v":"86.1919999827348+213.589696558011i"},{"$f":"COMPLEX(定数!P$15,計算!B66*定数!P$25)","v":"-85.0954239827348+213.589696558011i"},{"$f":"COMPLEX(定数!Q$15,計算!B66*定数!Q$25)","v":"-57.0828842529623-118.073238790576i"},{"$f":"COMPLEX(定数!R$15,計算!B66*定数!R$25)","v":"56.4766926529622-118.073238790576i"},{"$f":"COMPLEX(定数!S$15,計算!B66*定数!S$25)","v":"-163.956966054068-250.632874015077i"},{"$f":"COMPLEX(定数!T$15,計算!B66*定数!T$25)","v":"162.670209254068-250.632874015077i"},{"$f":"COMPLEX(定数!U$15,計算!B66*定数!U$25)","v":"-101.548680976766-180.000024152899i"},{"$f":"COMPLEX(定数!V$15,計算!B66*定数!V$25)","v":"100.624555376766-180.000024152899i"},{"$f":"IMPRODUCT(定数!D$33,計算!G66)","v":"0"},{"$f":"COMPLEX(定数!O$16,計算!B66*定数!O$26)","v":"74.3664237452132+173.942093557115i"},{"$f":"COMPLEX(定数!P$16,計算!B66*定数!P$26)","v":"-73.4733997452132+173.942093557115i"},{"$f":"COMPLEX(定数!Q$16,計算!B66*定数!Q$26)","v":"-125.201328746793-248.876320348319i"},{"$f":"COMPLEX(定数!R$16,計算!B66*定数!R$26)","v":"123.923590146793-248.876320348319i"},{"$f":"COMPLEX(定数!S$16,計算!B66*定数!S$26)","v":"77.7704269443536+114.243148517228i"},{"$f":"COMPLEX(定数!T$16,計算!B66*定数!T$26)","v":"-77.1838991443536+114.243148517228i"},{"$f":"COMPLEX(定数!U$16,計算!B66*定数!U$26)","v":"124.65071095008+208.527124303497i"},{"$f":"COMPLEX(定数!V$16,計算!B66*定数!V$26)","v":"-123.58012635008+208.527124303497i"},{"$f":"IMPRODUCT(定数!D$34,計算!G66)","v":"0"},{"$f":"IMDIV(COMPLEX(定数!O$17,計算!B66*定数!O$27),計算!R66)","v":"0.453351423432868-0.598754664170854i"},{"$f":"IMPRODUCT(COMPLEX(定数!P$17,計算!B66*定数!P$27),計算!R66)","v":"-1.05918735947482+0.0573597450069455i"},{"$f":"IMDIV(COMPLEX(定数!Q$17,計算!B66*定数!Q$27),計算!S66)","v":"0.498216104190441+0.939377176257428i"},{"$f":"IMPRODUCT(COMPLEX(定数!R$17,計算!B66*定数!R$27),計算!S66)","v":"0.686165071790139+1.41863279430422i"},{"$f":"IMDIV(COMPLEX(定数!S$17,計算!B66*定数!S$27),計算!T66)","v":"0.375575678852703-0.310019790700637i"},{"$f":"IMPRODUCT(COMPLEX(定数!T$17,計算!B66*定数!T$27),計算!T66)","v":"-0.78148330462874+0.11358897940794i"},{"$f":"IMDIV(COMPLEX(定数!U$17,計算!B66*定数!U$27),計算!U66)","v":"-0.417291803287008+0.781896240454104i"},{"$f":"IMPRODUCT(COMPLEX(定数!V$17,計算!B66*定数!V$27),計算!U66)","v":"1.35730512294821+0.269507113363793i"},{"$f":"IMPRODUCT(定数!E$31,計算!G66)","v":"0"},{"$f":"IMDIV(COMPLEX(定数!O$18,計算!B66*定数!O$28),計算!R66)","v":"0.54190669085427-0.751226933199562i"},{"$f":"IMPRODUCT(COMPLEX(定数!P$18,計算!B66*定数!P$28),計算!R66)","v":"-1.28582784592651+0.0544324212519507i"},{"$f":"IMDIV(COMPLEX(定数!Q$18,計算!B66*定数!Q$28),計算!S66)","v":"0.245488424683925+0.442003485859911i"},{"$f":"IMPRODUCT(COMPLEX(定数!R$18,計算!B66*定数!R$28),計算!S66)","v":"0.316443550415262+0.669387255112614i"},{"$f":"IMDIV(COMPLEX(定数!S$18,計算!B66*定数!S$28),計算!T66)","v":"-0.804246654864311+0.700419911535734i"},{"$f":"IMPRODUCT(COMPLEX(定数!T$18,計算!B66*定数!T$28),計算!T66)","v":"1.69458140241678-0.228741265652229i"},{"$f":"IMDIV(COMPLEX(定数!U$18,計算!B66*定数!U$28),計算!U66)","v":"0.337567144926905-0.687092868870666i"},{"$f":"IMPRODUCT(COMPLEX(定数!V$18,計算!B66*定数!V$28),計算!U66)","v":"-1.14881877427844-0.244890077144435i"},{"$f":"IMPRODUCT(定数!E$32,計算!G66)","v":"0"},{"$f":"IMDIV(COMPLEX(定数!O$19,計算!B66*定数!O$29),計算!R66)","v":"0.54189526028476-0.751224438885121i"},{"$f":"IMPRODUCT(COMPLEX(定数!P$19,計算!B66*定数!P$29),計算!R66)","v":"-1.28580813892461+0.0544259522708505i"},{"$f":"IMDIV(COMPLEX(定数!Q$19,計算!B66*定数!Q$29),計算!S66)","v":"-0.245500447676579-0.44199666162283i"},{"$f":"IMPRODUCT(COMPLEX(定数!R$19,計算!B66*定数!R$29),計算!S66)","v":"-0.316429488057729-0.66937960565381i"},{"$f":"IMDIV(COMPLEX(定数!S$19,計算!B66*定数!S$29),計算!T66)","v":"0.804180772440078-0.700352281714091i"},{"$f":"IMPRODUCT(COMPLEX(定数!T$19,計算!B66*定数!T$29),計算!T66)","v":"-1.69443664792457+0.228726583889675i"},{"$f":"IMDIV(COMPLEX(定数!U$19,計算!B66*定数!U$29),計算!U66)","v":"0.337644251074019-0.687222060949286i"},{"$f":"IMPRODUCT(COMPLEX(定数!V$19,計算!B66*定数!V$29),計算!U66)","v":"-1.14905533088564-0.24493235483541i"},{"$f":"IMPRODUCT(定数!E$33,計算!G66)","v":"0"},{"$f":"IMDIV(COMPLEX(定数!O$20,計算!B66*定数!O$30),計算!R66)","v":"0.453339810226129-0.598745766719796i"},{"$f":"IMPRODUCT(COMPLEX(定数!P$20,計算!B66*定数!P$30),計算!R66)","v":"-1.05916380649677+0.0573557118021401i"},{"$f":"IMDIV(COMPLEX(定数!Q$20,計算!B66*定数!Q$30),計算!S66)","v":"-0.498238380278176-0.939427996217146i"},{"$f":"IMPRODUCT(COMPLEX(定数!R$20,計算!B66*定数!R$30),計算!S66)","v":"-0.686204903632797-1.41870874601642i"},{"$f":"IMDIV(COMPLEX(定数!S$20,計算!B66*定数!S$30),計算!T66)","v":"-0.375487051331931+0.309917973033012i"},{"$f":"IMPRODUCT(COMPLEX(定数!T$20,計算!B66*定数!T$30),計算!T66)","v":"0.781282319004106-0.113573539169662i"},{"$f":"IMDIV(COMPLEX(定数!U$20,計算!B66*定数!U$30),計算!U66)","v":"-0.417307462655895+0.781880541176547i"},{"$f":"IMPRODUCT(COMPLEX(定数!V$20,計算!B66*定数!V$30),計算!U66)","v":"1.35731410928022+0.269495051472503i"},{"$f":"IMPRODUCT(定数!E$34,計算!G66)","v":"0"},"0.69277132077723+0.71859488524938i","1.46975270223395-0.0913505207501036i","0.95208950741402+1.11944179532051i","-0.717074510899493+0.140611609008159i","-0.395003968693237-0.61269776596427i","1.27257002078784-0.172508474492189i","0.756750642894336+1.03397123177906i","-0.000549453352057022-0.000369895446440989i","8.67461353877989+3.682442420819i","-89.1104702232114-187.979915815867i","100.558519273225-181.775205652988i","255.811316501177+391.696515402423i","-259.502884781298+387.836178437408i","-248.061251744289-436.906181281988i","256.22196272464-430.723571105619i","-0.0551261533421097+0.272325595012437i","8.6776938373488+3.68375003210201i","-203.275339145966-424.123588393126i","213.515427223234-417.916674978141i","-72.117688922413-109.592742623774i","65.850461402776-113.454450369264i","-248.080068907012-436.939018311343i","256.244305622885-430.754212730429i","-0.0316473728525084+0.149239603051897i","0.00157341504819897+0.000667927197980589i","-250.391281828601-497.734770850671i","247.838147888456-497.733645430583i","155.554971528111+228.515807680533i","-154.382798757064+228.515107486543i","0.0077443292010031+0.00246900336500744i","-0.00584459554399075+0.00359041492200163i","-0.023479507543889+0.123080867880228i","-1.80351826305503+0.14638379042673i","-0.113401825088064+1.86081235051111i","-0.415737057847451+1.4812002962177i","0.616470572346212-0.803117971754777i","-0.23555204806186+0.154845915120906i","-0.890922979917973+1.62206043835009i","0.39513604416213+0.253862760695396i","0.000470572083077114-0.000161295130123094i","-2.20107309174642+0.185449519637744i","-0.482355427008513+1.59562475932839i","-1.04045495073858+0.777989536992629i","-0.521290407374278+0.085535854103826i","2.3689117596692-0.193453866807804i","-0.222454051674881+0.362379501683864i","-2.33565404843711-0.23671454113803i","0.000575627869626354-0.000212315339259117i","-2.20104367357219+0.18544953661592i","-0.973327727115515+0.71161990163179i","-1.67331431404644-0.560766902727148i","1.08712917408964-1.31523294326592i","-1.02011233405336+0.264007964513801i","-0.222362829618067+0.362245163545354i","-2.33587937590411-0.236746887523025i","0.000575620666426067-0.000212318196865298i","-1.80348027111759+0.146381938513968i","-1.10984005380148-0.0180069598886781i","-1.78808601627952-1.35613671496374i","-0.134599234288055-0.183172194934077i","1.32720353685985-0.0723202043140411i","-0.890925395553827+1.62203141306648i","0.395163018504236+0.253855973373975i","0.000470562411035112-0.000161294537061076i","2.36030100058057+21.9248498550375i","-16.3859803349486+14.6663571759393i","-9.4079223768499-48.6428030295294i","40.9786521577967-27.6525700606709i","7.33346492775937+52.6958666330185i","-42.075442464545+32.3898614973003i","0.0161152333404831-0.0246260468667567i","-16.4985431809359-14.6663571761341i","2.28500347691452-21.9248498550228i","41.2283857880511+27.6525700611617i","-9.26595324147967+48.642803029414i","-42.3459846465871-32.3898614978028i","7.16717439408207-52.6958666329347i","0.00590732315257436+0.0288856923160585i","-114.133226377929-236.076922137022i","112.92120027602-236.076922137849i","-328.019842348715-501.42834690062i","325.445493964662-501.428346898225i","0.0692677648330005+0.122305501978019i","-0.0686398485619861+0.122305499661991i","0.0234983554277385-0.12318269299965i","-250.37511883134-497.70067475787i","247.81990842607-497.700674757861i","155.508572069137+228.444761150481i","-154.335729715669+228.444761150455i","0.052738069241539+0.0817157337254547i","-0.0523185381340008+0.0817157337496696i","-0.0234695086755014+0.123031473035459i","-32.0157427209028-22.1751113817905i","0.495865817596949-38.3951543021443i","79.0205053179684+43.0336297691286i","-9.82635005925795+89.2394149022622i","-82.0040303545309-50.5948805688407i","5.60744526083908-95.8332532537696i","0.0153529344048377+0.0510698421485273i","-39.5167237687325-27.6264524673752i","-0.0769481568986581-47.9039603166429i","95.353556001437+53.3050793935258i","-9.005344133894+108.591277565975i","-99.4357456566854-63.0770305752264i","3.66739750025852-117.553317681691i","0.0189349156694252+0.0622716945130937i","-40.0072109608297-28.5100255875059i","-0.709875113080877-49.2420718061047i","96.9607631885548+51.9034964080493i","-12.3940948143237+109.047308572161i","-99.4344092429951-63.0762113438185i","3.66696043292676-117.551799933576i","0.0189347351739895+0.0622708417908627i","-33.0115269771818-24.0534040427286i","-0.876529349635013-41.2316541141746i","78.2678179549331+43.6526013226113i","-8.26333252504808+89.0103835887607i","-82.0023639809693-50.5937574616019i","5.60729752848791-95.8312447500408i","0.0153526468083618+0.0510687562580211i","-0.764725575729399-0.8352634621197i","-21.2003279110573-97.632856112368i","80.9373776415859-58.156493177086i","7.3354906354664+52.7075121489126i","-42.0843383383355+32.3976056919724i","0.0214609457275238-0.0337167356945175i","1.13194395820627+0.0756968728044001i","82.926081873522+56.038954578495i","-18.3697793487826+98.1370721739132i","-42.3553202884007-32.3971322884944i","7.16855992804012-52.7075920407473i","0.00805950134629967+0.0392211585025008i","0.623110212722896+0.779571241344393i","2.26609300257549-0.293901394783753i","1.18139971899026+1.94971389565917i","-0.000534903313461737+0.0000348086708051804i","-0.0003059891555297-0.000438684887882176i","0.000383931711879744+0.000285151635339871i","15.838069142652+7.60694075194198i","869.156799367996+1282.69518095271i","-828.916556140535+1304.58804676344i","-0.098512710376884-0.175790781225464i","0.0894031553941892-0.180411056359065i","-0.0692627220074546+0.385509419682123i","3.15812296804761+0.380936363614005i","158.088452034657+83.875023062025i","-15.2380834043857+177.85862372008i","-82.0219275675474-50.6056276839462i","5.60737667701055-95.8540834198811i","0.021321524040414+0.0687129120159481i","3.00953815281462+0.116465759336499i","193.021580131559+104.295169782914i","-16.1839760415067+218.275466190453i","-99.4578449232559-63.0904325315614i","3.66742511852646-117.579106466088i","0.0262289109741224+0.0841466241079855i","1.99343058115911-0.2887125860777i","195.999960284941+104.751690792349i","-20.7159800811742+220.731659926543i","-99.4568016287957-63.090068853136i","3.66722557760813-117.578074251084i","0.026165091745856+0.0846248663512769i","0.941948199276177-0.508895340124702i","160.144337239712+88.4577180894244i","-16.1607799307785+181.790101229938i","-82.0208592231549-50.6054746197491i","5.60774822408109-95.8530864888423i","0.0211679513742008+0.0697169117512907i","-0.0073620832278003-0.0407141175054022i","0.0339779044779931-0.0234282940727013i","7.3338185849257+52.6946320065999i","-42.0746592204073+32.3889608101234i","0.0080623799070195-0.0123202898752031i","0.0341869318422994+0.0234282943076991i","-0.00724180192800006+0.0407141174510031i","-42.3451950639836-32.3889608104299i","7.16753267516346-52.6946320065488i","0.00295541217490417+0.0144513725184894i","-10.6082395244904-87.3560183040187i","75.7497335575751-44.3905007835254i","0.000175063102544603+0.0114588044185663i","-0.00932694138681335+0.00659131927621982i","0.013427987064984-0.0177375621181931i","76.1982220126462+44.3905007843314i","-10.380337343931+87.356018303897i","-0.00938577094033959-0.00659131973921423i","0.000141223616209792-0.0114588043785973i","0.00594590276655459+0.021484897341669i","-65.644947080084-85.342310635458i","50.8213823300501-94.068176121761i","-81.9947970221407-50.5812361042363i","5.60256560019322-95.8179489037975i","0.0107280106135357-0.0014040463232156i","-31.129902810964-38.174219736873i","25.2300302385165-43.416849902167i","-99.4303657505758-63.0695025823893i","3.66566554231236-117.544637204841i","0.0108367446284146+0.0187945117682795i","31.287998016252+38.2616947476891i","-25.2442801310032+43.596567552335i","-99.4361887490079-63.0796393049982i","3.6702523591783-117.555191146977i","0.0081093870652804+0.0435128719216284i","65.7794402319054+85.4210859186789i","-50.8381105084848+94.2227517893966i","-82.0086640212183-50.6040423130849i","5.61344653090177-95.8422210206518i","0.0046336548299405+0.0525050935994063i","0.000037370748655903-0.000274134461128898i","7.35289301694307+52.7263613789428i","-42.0934697791543+32.4206868277503i","0.00805846955593328-0.0123217024192886i","0.000166942227239701+0.000230828384982694i","-42.3812301415933-32.3977185099324i","7.15818018886083-52.7303742905447i","0.00295917221825877+0.0144495817967482i","0.827435965242501+0.584569878310901i","36.5856513639894+69.7354509456372i","-43.8640365691612+65.0489802828838i","0.00529948890527645-0.0212192774221485i","-0.96586528453467+0.292288200539801i","-77.8437645705738-12.9767385146509i","-25.4156309966174-74.4028040648376i","0.0136460654381013+0.0170989734074871i","0.404727246299862+0.906814924731119i","0.836679395536244-0.317205172646449i","0.673668191741331+0.583830904337939i","-0.0000504129092028605+0.000086928251666982i","3.2121978834186+0.262357405994798i","-61.2755575213181-41.0044856834937i","2.34960164668409-73.6532803134883i","0.00594897748403403+0.0195761063207146i","-3.2111095676457-0.261406367758099i","-137.751019504971-85.16769612618i","4.93088315840896-161.597778037363i","0.0130127282986453+0.0427219442991784i","0.000273381107000148+0.000732766835298548i","-164.140976619643-101.208526150226i","11.1713998175482-191.791759585506i","0.0153752934321723+0.0510933273128421i","7.35669180231634+52.7212987975951i","-42.0871670981661+32.4212294562047i","0.00805676392985513-0.0123212831644138i","-42.3804635701976-32.391246803263i","7.15309810915403-52.726300192488i","0.0029601452769621+0.0144480574321263i","46.6141273437547+90.629987610639i","-56.275565829017+84.6075895722243i","0.00681920551932493-0.0274686671267551i","-100.400789408358-17.8882305322955i","-33.1855439447585-96.1285556253369i","0.0176261377141727+0.0221188584596792i","-1.17029306950992+22.3114650980182i","-19.5760955532103+10.8545278437387i","0.00435840613173799-0.00441911154608824i","-19.9851847838741-11.1329456475486i","-1.13372920385253-22.8366497715252i","0.00233417930734153+0.00590365780091091i","-199.015414691462-126.14105897443i","7.26000013333698-235.225126644882i","0.0189647800628274+0.0622894056822179i","-164.143670901053-101.190838132614i","11.1549758181111-191.78468571775i","0.0153789813162928+0.0510900029551531i","-0.503146292834899-0.7077347278397i","0.0000978092645543601+0.0000498327619781989i","0.85345111243799+0.176303427996402i","-0.0000820301924294299+0.0000250363356744995i","-2.0607718446018-1.54428885183449i","0.00025390372003863-0.0000813504172983009i","2.4815598443741-0.719696795468508i","-0.0001850825180678+0.000279215108197898i","0.199981208100798+0.517078892122399i","0.0000927585350035398+0.0000444043837233002i","-0.543855816601203+0.00472253243039944i","0.000153276548961-0.0000300421924408194i","0.508417769075557+0.859696074887078i","-0.000209506611936991-0.000180197196513339i","7.61516842835498+0.776204047711019i","-0.0007758977007552+0.000311623977146798i"]
[{"$f":"COMPLEX(定数!O$13,計算!B67*定数!O$23)","v":"74.3688188913563+176.751094593468i"},{"$f":"COMPLEX(定数!P$13,計算!B67*定数!P$23)","v":"-73.4757772913563+176.751094593468i"},{"$f":"COMPLEX(定数!Q$13,計算!B67*定数!Q$23)","v":"125.193786513619+252.877193885467i"},{"$f":"COMPLEX(定数!R$13,計算!B67*定数!R$23)","v":"-123.916114913619+252.877193885467i"},{"$f":"COMPLEX(定数!S$13,計算!B67*定数!S$23)","v":"-77.7867441135484-116.117922207947i"},{"$f":"COMPLEX(定数!T$13,計算!B67*定数!T$23)","v":"77.2000539135484-116.117922207947i"},{"$f":"COMPLEX(定数!U$13,計算!B67*定数!U$23)","v":"124.646605989444+211.891969213113i"},{"$f":"COMPLEX(定数!V$13,計算!B67*定数!V$23)","v":"-123.576013789444+211.891969213113i"},{"$f":"IMPRODUCT(定数!D$31,計算!G67)","v":"-0.0333299632673474-0.174721786199227i"},{"$f":"COMPLEX(定数!O$14,計算!B67*定数!O$24)","v":"86.1948356167649+217.0371062691i"},{"$f":"COMPLEX(定数!P$14,計算!B67*定数!P$24)","v":"-85.0982474167649+217.0371062691i"},{"$f":"COMPLEX(定数!Q$14,計算!B67*定数!Q$24)","v":"57.0863694248256+119.978081279982i"},{"$f":"COMPLEX(定数!R$14,計算!B67*定数!R$24)","v":"-56.4801756248256+119.978081279982i"},{"$f":"COMPLEX(定数!S$14,計算!B67*定数!S$24)","v":"163.969671876329+254.697902616681i"},{"$f":"COMPLEX(定数!T$14,計算!B67*定数!T$24)","v":"-162.682801076329+254.697902616681i"},{"$f":"COMPLEX(定数!U$14,計算!B67*定数!U$24)","v":"-101.525845343051-182.867307996472i"},{"$f":"COMPLEX(定数!V$14,計算!B67*定数!V$24)","v":"100.601901343051-182.867307996472i"},{"$f":"IMPRODUCT(定数!D$32,計算!G67)","v":"0.0333299632673474+0.174721786199227i"},{"$f":"COMPLEX(定数!O$15,計算!B67*定数!O$25)","v":"86.1919999827348+217.034691663785i"},{"$f":"COMPLEX(定数!P$15,計算!B67*定数!P$25)","v":"-85.0954239827348+217.034691663785i"},{"$f":"COMPLEX(定数!Q$15,計算!B67*定数!Q$25)","v":"-57.0828842529623-119.977645867844i"},{"$f":"COMPLEX(定数!R$15,計算!B67*定数!R$25)","v":"56.4766926529622-119.977645867844i"},{"$f":"COMPLEX(定数!S$15,計算!B67*定数!S$25)","v":"-163.956966054068-254.675339724997i"},{"$f":"COMPLEX(定数!T$15,計算!B67*定数!T$25)","v":"162.670209254068-254.675339724997i"},{"$f":"COMPLEX(定数!U$15,計算!B67*定数!U$25)","v":"-101.548680976766-182.903250348914i"},{"$f":"COMPLEX(定数!V$15,計算!B67*定数!V$25)","v":"100.624555376766-182.903250348914i"},{"$f":"IMPRODUCT(定数!D$33,計算!G67)","v":"0"},{"$f":"COMPLEX(定数!O$16,計算!B67*定数!O$26)","v":"74.3664237452132+176.747611195133i"},{"$f":"COMPLEX(定数!P$16,計算!B67*定数!P$26)","v":"-73.4733997452132+176.747611195133i"},{"$f":"COMPLEX(定数!Q$16,計算!B67*定数!Q$26)","v":"-125.201328746793-252.890454547485i"},{"$f":"COMPLEX(定数!R$16,計算!B67*定数!R$26)","v":"123.923590146793-252.890454547485i"},{"$f":"COMPLEX(定数!S$16,計算!B67*定数!S$26)","v":"77.7704269443536+116.085779944925i"},{"$f":"COMPLEX(定数!T$16,計算!B67*定数!T$26)","v":"-77.1838991443536+116.085779944925i"},{"$f":"COMPLEX(定数!U$16,計算!B67*定数!U$26)","v":"124.65071095008+211.89046501807i"},{"$f":"COMPLEX(定数!V$16,計算!B67*定数!V$26)","v":"-123.58012635008+211.89046501807i"},{"$f":"IMPRODUCT(定数!D$34,計算!G67)","v":"0"},{"$f":"IMDIV(COMPLEX(定数!O$17,計算!B67*定数!O$27),計算!R67)","v":"0.00412637507064079-0.762751215555819i"},{"$f":"IMPRODUCT(COMPLEX(定数!P$17,計算!B67*定数!P$27),計算!R67)","v":"-0.882770413607245-0.603039121853913i"},{"$f":"IMDIV(COMPLEX(定数!Q$17,計算!B67*定数!Q$27),計算!S67)","v":"0.962895475557279+0.489753002623212i"},{"$f":"IMPRODUCT(COMPLEX(定数!R$17,計算!B67*定数!R$27),計算!S67)","v":"-0.271231134094754+1.56401794024138i"},{"$f":"IMDIV(COMPLEX(定数!S$17,計算!B67*定数!S$27),計算!T67)","v":"0.138891636229516-0.474919624542064i"},{"$f":"IMPRODUCT(COMPLEX(定数!T$17,計算!B67*定数!T$27),計算!T67)","v":"-0.712484579506629-0.351645433412133i"},{"$f":"IMDIV(COMPLEX(定数!U$17,計算!B67*定数!U$27),計算!U67)","v":"0.0985271064660711+0.895168958331533i"},{"$f":"IMPRODUCT(COMPLEX(定数!V$17,計算!B67*定数!V$27),計算!U67)","v":"0.96661594465256+1.00304823972765i"},{"$f":"IMPRODUCT(定数!E$31,計算!G67)","v":"0"},{"$f":"IMDIV(COMPLEX(定数!O$18,計算!B67*定数!O$28),計算!R67)","v":"-0.0163611510853888-0.940496344310477i"},{"$f":"IMPRODUCT(COMPLEX(定数!P$18,計算!B67*定数!P$28),計算!R67)","v":"-1.06254792175017-0.744381854962159i"},{"$f":"IMDIV(COMPLEX(定数!Q$18,計算!B67*定数!Q$28),計算!S67)","v":"0.46216708181688+0.224102329451582i"},{"$f":"IMPRODUCT(COMPLEX(定数!R$18,計算!B67*定数!R$28),計算!S67)","v":"-0.134005576563366+0.733789438988588i"},{"$f":"IMDIV(COMPLEX(定数!S$18,計算!B67*定数!S$28),計算!T67)","v":"-0.277014881332081+1.04764790587533i"},{"$f":"IMPRODUCT(COMPLEX(定数!T$18,計算!B67*定数!T$28),計算!T67)","v":"1.53515761115674+0.777253143940107i"},{"$f":"IMDIV(COMPLEX(定数!U$18,計算!B67*定数!U$28),計算!U67)","v":"-0.110599298908278-0.769960374378342i"},{"$f":"IMPRODUCT(COMPLEX(定数!V$18,計算!B67*定数!V$28),計算!U67)","v":"-0.808641968889813-0.863062504928382i"},{"$f":"IMPRODUCT(定数!E$32,計算!G67)","v":"0"},{"$f":"IMDIV(COMPLEX(定数!O$19,計算!B67*定数!O$29),計算!R67)","v":"-0.0163688111333513-0.94048731580605i"},{"$f":"IMPRODUCT(COMPLEX(定数!P$19,計算!B67*定数!P$29),計算!R67)","v":"-1.06252825838985-0.744375008313027i"},{"$f":"IMDIV(COMPLEX(定数!Q$19,計算!B67*定数!Q$29),計算!S67)","v":"-0.46217294930497-0.224089807374967i"},{"$f":"IMPRODUCT(COMPLEX(定数!R$19,計算!B67*定数!R$29),計算!S67)","v":"0.134012635015981-0.733775067154286i"},{"$f":"IMDIV(COMPLEX(定数!S$19,計算!B67*定数!S$29),計算!T67)","v":"0.276997911788062-1.0475534820729i"},{"$f":"IMPRODUCT(COMPLEX(定数!T$19,計算!B67*定数!T$29),計算!T67)","v":"-1.53502918654574-0.777182673593501i"},{"$f":"IMDIV(COMPLEX(定数!U$19,計算!B67*定数!U$29),計算!U67)","v":"-0.110608852248806-0.770112951063952i"},{"$f":"IMPRODUCT(COMPLEX(定数!V$19,計算!B67*定数!V$29),計算!U67)","v":"-0.808813091233345-0.863233380717518i"},{"$f":"IMPRODUCT(定数!E$33,計算!G67)","v":"0"},{"$f":"IMDIV(COMPLEX(定数!O$20,計算!B67*定数!O$30),計算!R67)","v":"0.00412240786410182-0.76273689096592i"},{"$f":"IMPRODUCT(COMPLEX(定数!P$20,計算!B67*定数!P$30),計算!R67)","v":"-0.882749130146818-0.603027944858537i"},{"$f":"IMDIV(COMPLEX(定数!Q$20,計算!B67*定数!Q$30),計算!S67)","v":"-0.962943721808996-0.48978217846526i"},{"$f":"IMPRODUCT(COMPLEX(定数!R$20,計算!B67*定数!R$30),計算!S67)","v":"0.271243110063182-1.56410344961297i"},{"$f":"IMDIV(COMPLEX(定数!S$20,計算!B67*定数!S$30),計算!T67)","v":"-0.138874858712486+0.474783507357734i"},{"$f":"IMPRODUCT(COMPLEX(定数!T$20,計算!B67*定数!T$30),計算!T67)","v":"0.712309027402963+0.351543439396452i"},{"$f":"IMDIV(COMPLEX(定数!U$20,計算!B67*定数!U$30),計算!U67)","v":"0.0985053075265109+0.895164742187951i"},{"$f":"IMPRODUCT(COMPLEX(定数!V$20,計算!B67*定数!V$30),計算!U67)","v":"0.966630182274946+1.00304325776256i"},{"$f":"IMPRODUCT(定数!E$34,計算!G67)","v":"0"},"0.70099188317391+0.710647455871934i","1.46870767300926-0.0903402132358733i","0.964895667486661+1.10706112744617i","-0.715465946005312+0.139056489628409i","-0.40201309207945-0.605921524823853i","1.27059656299177-0.170600585991754i","0.768579039118259+1.02253584097465i","-0.000907246702696983-0.000193158082182346i","8.716739844316+3.64171578655402i","-89.1158254797364-190.999122195722i","100.624144492757-184.863034140848i","255.819559598539+397.994609906793i","-259.538803062683+394.17696703275i","-248.071364736816-443.929019797987i","256.28257738934-437.814787310845i","0.0696074724608205+0.38827721436652i","8.71983510166081+3.64300893607501i","-203.280696304107-430.951559165977i","213.581075745852-424.81329222626i","-72.1094428979808-111.379965689447i","65.8145303670437-115.198964183573i","-248.090185490597-443.962377922042i","256.304941811457-437.845974310826i","0.0362754029743811+0.213552689798951i","0.00158105598380587+0.000660540137005228i","-250.391282799945-505.762748717102i","247.838159791661-505.761635743801i","155.554973023257+232.201542960602i","-154.382805271978+232.200850510533i","0.00774249488999601+0.00251318557297964i","-0.00583360116098675+0.00362219467800173i","0.0333284631254484+0.174718163255738i","-1.42771017983666-0.0712891088141749i","1.02574214428855+1.61038434311095i","-1.119624876177+2.29542513406341i","0.035778410578011-1.02121594377862i","-0.248658343114572-0.655781148590289i","0.223409952823445+1.86502199323962i","0.183504043612919+1.58506346966279i","0.000151075202155945-0.000691206482596122i","-1.71944022198103-0.0734745410518121i","0.571161470247822+1.6039384568997i","-1.15940571605734+1.65938308126772i","-0.419502847919291+0.377029923414911i","2.09844719325479+0.389247726860901i","0.070638350889876+0.422239826246208i","-1.75775835147283-0.123486864939589i","0.000166820869791973-0.000856422495840196i","-1.71940877290556-0.0734685797174041i","-0.353168126139825+1.15573236782905i","-0.891370118224609+0.191818343701372i","0.134505720169522-1.71816393976648i","-0.971748154452429-1.16518910248367i","0.070636990111816+0.422074471165228i","-1.7579143544947-0.123656847174397i","0.000166812176310116-0.000856415784359498i","-1.42767593566328-0.0712851539548139i","-0.900092520497548+0.6308277649891i","-0.577130945882021-0.832705685585534i","-0.241988930837984-0.071502011456747i","1.1761249893487+0.047411079075139i","0.223390750819448+1.86499889951359i","0.183535977753674+1.58505153472904i","0.000151068836010581-0.000691194252957176i","2.36059440795925+22.162333890792i","-16.3862737423289+15.0190538987508i","-9.40877085731435-49.0915012893323i","40.9795006382644-28.4344423345849i","7.33428574993363+53.2208851625785i","-42.0762632867228+33.2371934214598i","0.00815251079513295-0.0408779344025076i","-16.4982497735552-15.019053898944i","2.28471006953566-22.1623338907775i","41.2275373075826+28.4344423350717i","-9.26510476101501+49.0915012892178i","-42.3451638244086-33.2371934219583i","7.16635357190751-53.2208851624952i","0.0226430177275815+0.0350839631232291i","-114.133226377938-239.88461442957i","112.921200276017-239.88461443039i","-328.019842348695-509.515900882845i","325.445493964666-509.515900880472i","0.0692677648110021+0.124278171321009i","-0.0686398485659652+0.124278169025956i","-0.0333567866432623-0.17486239926964i","-250.375118831338-505.728104995898i","247.81990842607-505.72810499589i","155.508572069135+232.12935407226i","-154.335729715668+232.129354072234i","0.0527380692432075+0.0830337294317636i","-0.0523185381346938+0.0830337294573941i","0.0333158376125869+0.174647736923874i","-21.4582820392163-21.0086173232772i","3.7222119803901-29.1830896259827i","56.8696870605141+42.5140012292425i","-16.9762321049271+68.7721539240077i","-57.8637616076001-48.6068063961227i","14.2090494640699-73.8880530971609i","0.0299776376493216+0.0510127253721149i","-26.6930746904351-25.4326282433158i","4.39738398432925-36.2795571997129i","68.3795754513281+52.2975281463085i","-17.4393221204721+84.118400280863i","-70.2972520026456-59.8384188869944i","14.4747383366879-91.1070729230563i","0.0365223582088672+0.0611320401803012i","-27.6169749657232-25.8802636454429i","4.66521561305899-37.7464385722888i","68.9324569587042+50.2011942750674i","-20.5089334383446+82.5624748015773i","-70.2961197851956-59.837286529389i","14.4740396909778-91.1056118786872i","0.0365218465606484+0.0611308085509772i","-23.3836111333225-21.9875943380559i","4.26454002376368-32.3104705505343i","56.5906203703829+43.4625783984792i","-15.5509373466266+69.4737016959778i","-57.8624621828978-48.6055238404669i","14.2086255112406-73.8862708687962i","0.0299769946438914+0.0510114466304871i","-0.775095828499801-0.826939310757501i","-21.1981111957503-98.5456740397968i","80.9131344670453-59.7101115937239i","7.33631117280637+53.2326489402757i","-42.0851535031136+33.2451207995645i","0.0103766907798566-0.0556465522409792i","1.13288377628798+0.074942485409899i","82.9240346480444+57.6136761710899i","-18.3657359458738+99.0448651349619i","-42.3544992460464-33.2446521139791i","7.16773839879661-53.232728035916i","0.0307950081983121+0.0476164558086031i","0.632789016108829+0.771802113033792i","2.26244405599514-0.29097240314624i","1.20560648349641+1.93028324375602i","-0.000534471144589046+0.0000344617711010891i","-0.000311435668416054-0.000434312998602283i","0.000648338593783077+0.000169415570678325i","15.932513473074+7.53113074815997i","869.121193487423+1303.45864915554i","-828.68035011649+1325.13333287519i","-0.0985084932889525-0.178634979661669i","0.0893500091355382-0.183209209593829i","0.109965474558019+0.544948228993959i","1.08628191734787+0.672480079763002i","111.53077758134+83.801054724627i","-31.6585701473578+135.520841438336i","-57.8759544343239-48.6172954054658i","14.2114909052461-73.9039155407568i","0.0403306831586422+0.0682687898822655i","1.65951223641513+0.415702052883205i","136.17135657922+102.070478653694i","-34.3501543519782+166.305336582633i","-70.312395134241-59.8510920022915i","14.4774708821643-91.1265866999435i","0.0495198254897195+0.0821432170936196i","2.16649186209668-0.0548523693054008i","138.944760321444+100.718065353881i","-37.1699686238972+167.072472466685i","-70.3117721411374-59.8501670536521i","14.4766789148282-91.1256663271041i","0.0500424776396696+0.0825887278638259i","2.0913605352489-0.349441879696997i","115.892515550619+86.4042949885461i","-29.8017890779882+141.119080735586i","-57.875717779748-48.6164697345251i","14.2108925187063-73.9032743962052i","0.0414124513610148+0.0692284004489669i","-0.00736278196109907-0.0410942077197944i","0.0339786032291016-0.0240827588951049i","7.33463939360152+53.2196359661658i","-42.075480029086+33.2362728637346i","0.00407867147505364-0.0204510333062999i","0.0341862331083007+0.0240827591317014i","-0.00724110319000104+0.0410942076631926i","-42.3443742553059-33.2362728640389i","7.1667118664877-53.219635966115i","0.0113282014928191+0.0175523339248801i","-10.6099763037933-88.0774984489342i","75.7514703368991-45.793964494879i","0.000175259858981057+0.011565739596254i","-0.00932713814449392+0.00677551512792289i","0.00823531749445559-0.0303874309800714i","76.1964852333384+45.7939644956884i","-10.3786005646306+88.0774984488119i","-0.00938557417897845-0.00677551558676951i","0.000141026859320785-0.0115657395565235i","0.0188564135265026+0.0252903042552239i","59.5554424036251-17.184719298085i","38.8458791555595+46.8232496836877i","-57.8703154540716-48.6036236737307i","14.2035599808595-73.8914467247694i","0.0368545279415522+0.0281158272132433i","28.759002013188-5.60020111484501i","19.4872571998797+24.454055714767i","-70.299636254784-59.8359463488136i","14.4724289446888-91.1074518387812i","0.0287406079045221+0.0323349979064321i","-28.646212309429+5.68537168862041i","-19.5160744330831-24.316001987543i","-70.2910667179743-59.8360027752529i","14.4770077895026-91.1006015108184i","0.00780297807731849+0.0288318084634654i","-59.464135623211+17.2588479159163i","-38.87436006297-46.709441253634i","-57.8537215114069-48.6055794013041i","14.214639134469-73.8790369842449i","-0.00686059918170071+0.0229264767921993i","-0.0000953787743045997-0.0013218132215884i","7.37123157567846+53.1842543757491i","-42.0269689101346+33.2509362993495i","0.00405726855740648-0.0204283029705739i","0.00099689169447275+0.000885307297056999i","-42.3455171676766-33.1853016861585i","7.12183373545343-53.1959136803398i","0.0113274364040059+0.0175210709419549i","0.689898319239802-1.6614842477782i","81.9426333956073-70.5881578750544i","101.117608677731+37.0288418429865i","-0.0399413157702488+0.0152248734389156i","0.8915757931639+1.55309633151279i","5.42275252946223+108.243385563013i","-91.4988390551486+57.2031367538673i","0.0124160862299665-0.0408785833370994i","0.392705414655246+0.89952789936987i","-0.679630470629103-1.01221450307366i","0.550653838443094-1.08182581608679i","0.000445510535132371+0.000600647048533306i","3.1559042443343+0.783760346828103i","-45.0855373931623-34.5317347364399i","4.69461623765151-56.9114487760798i","0.0125644252569292+0.0175559368239708i","-3.1524012976049-0.7806110503879i","-95.5147211501587-84.9681624965457i","24.100572687747-125.221485263576i","0.0239800691773924+0.0435051783553587i","0.00234318540709921+0.00256472406630337i","-115.737016157396-97.066400960247i","28.2877264337369-147.712524884726i","0.0299977757627602+0.0509544357770771i","7.37890977140937+53.1624203421484i","-42.0043257246402+33.2455592130954i","0.00405205540192748-0.0204212152549853i","-42.3357169586175-33.1641800251737i","7.10929655218598-53.1761397851682i","0.01132621515616+0.0175123040158398i","104.563229729894-92.3932081956429i","131.86083091785+44.3065738274234i","-0.0505845345535592+0.0206450366821194i","8.88544376405017+139.326686524916i","-115.907960327892+77.032819575495i","0.0146039335053797-0.0525649198532553i","-0.654929195114125+16.1293506025615i","-13.935142455644+8.25936018095295i","0.00233741521118158-0.00563501818391773i","-16.0157038900635-6.96448922375457i","-2.81720673832125-17.3336798617937i","0.00505123038755661+0.0043084269010763i","-140.566089626881-119.425062798989i","28.7504685542442-182.063342863323i","0.0365403687568585+0.0610301151675293i","-115.717350386878-97.0090060095244i","28.2498715655558-147.664683501101i","0.0299969897195893+0.0509313853218955i","-0.487670473128006-0.710807209565701i","0.00016054091227471-0.0000916000087728998i","0.84272111355226+0.198629494313799i","-0.0000264447752058999+0.000155394319053901i","-1.370625015564+3.1707337698072i","-0.000950308427505701-0.000143380533109697i","-1.663376478581-3.04106385777671i","0.0005876126526797-0.0005806313455003i","0.1665203576851+0.425842267249529i","0.0000999416982786299+0.00017443722299435i","-0.42587657061151-0.0460430561555008i","0.0000649797696672602-0.00021927936047811i","0.520310871217872+0.853158714960782i","-0.00036520971078127-0.000123891349392316i","5.6947880536674+1.53542288643001i","-0.000245533689849999+0.0011663756064449i"]
[{"$f":"COMPLEX(定数!O$13,計算!B68*定数!O$23)","v":"74.3688188913563+179.556667523523i"},{"$f":"COMPLEX(定数!P$13,計算!B68*定数!P$23)","v":"-73.4757772913563+179.556667523523i"},{"$f":"COMPLEX(定数!Q$13,計算!B68*定数!Q$23)","v":"125.193786513619+256.891117597934i"},{"$f":"COMPLEX(定数!R$13,計算!B68*定数!R$23)","v":"-123.916114913619+256.891117597934i"},{"$f":"COMPLEX(定数!S$13,計算!B68*定数!S$23)","v":"-77.7867441135484-117.961063830295i"},{"$f":"COMPLEX(定数!T$13,計算!B68*定数!T$23)","v":"77.2000539135484-117.961063830295i"},{"$f":"COMPLEX(定数!U$13,計算!B68*定数!U$23)","v":"124.646605989444+215.255333803797i"},{"$f":"COMPLEX(定数!V$13,計算!B68*定数!V$23)","v":"-123.576013789444+215.255333803797i"},{"$f":"IMPRODUCT(定数!D$31,計算!G68)","v":"-0.1147556513286-0.180825972000355i"},{"$f":"COMPLEX(定数!O$14,計算!B68*定数!O$24)","v":"86.1948356167649+220.482139701943i"},{"$f":"COMPLEX(定数!P$14,計算!B68*定数!P$24)","v":"-85.0982474167649+220.482139701943i"},{"$f":"COMPLEX(定数!Q$14,計算!B68*定数!Q$24)","v":"57.0863694248256+121.882495268553i"},{"$f":"COMPLEX(定数!R$14,計算!B68*定数!R$24)","v":"-56.4801756248256+121.882495268553i"},{"$f":"COMPLEX(定数!S$14,計算!B68*定数!S$24)","v":"163.969671876329+258.740726467739i"},{"$f":"COMPLEX(定数!T$14,計算!B68*定数!T$24)","v":"-162.682801076329+258.740726467739i"},{"$f":"COMPLEX(定数!U$14,計算!B68*定数!U$24)","v":"-101.525845343051-185.769963678956i"},{"$f":"COMPLEX(定数!V$14,計算!B68*定数!V$24)","v":"100.601901343051-185.769963678956i"},{"$f":"IMPRODUCT(定数!D$32,計算!G68)","v":"0.1147556513286+0.180825972000355i"},{"$f":"COMPLEX(定数!O$15,計算!B68*定数!O$25)","v":"86.1919999827348+220.479686769559i"},{"$f":"COMPLEX(定数!P$15,計算!B68*定数!P$25)","v":"-85.0954239827348+220.479686769559i"},{"$f":"COMPLEX(定数!Q$15,計算!B68*定数!Q$25)","v":"-57.0828842529623-121.882052945111i"},{"$f":"COMPLEX(定数!R$15,計算!B68*定数!R$25)","v":"56.4766926529622-121.882052945111i"},{"$f":"COMPLEX(定数!S$15,計算!B68*定数!S$25)","v":"-163.956966054068-258.717805434918i"},{"$f":"COMPLEX(定数!T$15,計算!B68*定数!T$25)","v":"162.670209254068-258.717805434918i"},{"$f":"COMPLEX(定数!U$15,計算!B68*定数!U$25)","v":"-101.548680976766-185.806476544928i"},{"$f":"COMPLEX(定数!V$15,計算!B68*定数!V$25)","v":"100.624555376766-185.806476544928i"},{"$f":"IMPRODUCT(定数!D$33,計算!G68)","v":"0"},{"$f":"COMPLEX(定数!O$16,計算!B68*定数!O$26)","v":"74.3664237452132+179.553128833151i"},{"$f":"COMPLEX(定数!P$16,計算!B68*定数!P$26)","v":"-73.4733997452132+179.553128833151i"},{"$f":"COMPLEX(定数!Q$16,計算!B68*定数!Q$26)","v":"-125.201328746793-256.904588746652i"},{"$f":"COMPLEX(定数!R$16,計算!B68*定数!R$26)","v":"123.923590146793-256.904588746652i"},{"$f":"COMPLEX(定数!S$16,計算!B68*定数!S$26)","v":"77.7704269443536+117.928411372622i"},{"$f":"COMPLEX(定数!T$16,計算!B68*定数!T$26)","v":"-77.1838991443536+117.928411372622i"},{"$f":"COMPLEX(定数!U$16,計算!B68*定数!U$26)","v":"124.65071095008+215.253805732642i"},{"$f":"COMPLEX(定数!V$16,計算!B68*定数!V$26)","v":"-123.58012635008+215.253805732642i"},{"$f":"IMPRODUCT(定数!D$34,計算!G68)","v":"0"},{"$f":"IMDIV(COMPLEX(定数!O$17,計算!B68*定数!O$27),計算!R68)","v":"-0.460872259820748-0.622462316340431i"},{"$f":"IMPRODUCT(COMPLEX(定数!P$17,計算!B68*定数!P$27),計算!R68)","v":"-0.337105905645034-1.0234038915985i"},{"$f":"IMDIV(COMPLEX(定数!Q$17,計算!B68*定数!Q$27),計算!S68)","v":"1.08619466072264-0.155453610696833i"},{"$f":"IMPRODUCT(COMPLEX(定数!R$17,計算!B68*定数!R$27),計算!S68)","v":"-1.14011293440178+1.1210797955288i"},{"$f":"IMDIV(COMPLEX(定数!S$17,計算!B68*定数!S$27),計算!T68)","v":"-0.154121627316694-0.478412958023067i"},{"$f":"IMPRODUCT(COMPLEX(定数!T$17,計算!B68*定数!T$27),計算!T68)","v":"-0.389986355618107-0.697848355538288i"},{"$f":"IMDIV(COMPLEX(定数!U$17,計算!B68*定数!U$27),計算!U68)","v":"0.595987770047007+0.694106015938028i"},{"$f":"IMPRODUCT(COMPLEX(定数!V$17,計算!B68*定数!V$27),計算!U68)","v":"0.222198962161466+1.38456827409474i"},{"$f":"IMPRODUCT(定数!E$31,計算!G68)","v":"0"},{"$f":"IMDIV(COMPLEX(定数!O$18,計算!B68*定数!O$28),計算!R68)","v":"-0.58537738911014-0.754559081928433i"},{"$f":"IMPRODUCT(COMPLEX(定数!P$18,計算!B68*定数!P$28),計算!R68)","v":"-0.394480033105605-1.24688530762432i"},{"$f":"IMDIV(COMPLEX(定数!Q$18,計算!B68*定数!Q$28),計算!S68)","v":"0.514932506131686-0.0835728125826876i"},{"$f":"IMPRODUCT(COMPLEX(定数!R$18,計算!B68*定数!R$28),計算!S68)","v":"-0.540514136975637+0.522080969145623i"},{"$f":"IMDIV(COMPLEX(定数!S$18,計算!B68*定数!S$28),計算!T68)","v":"0.364272050342695+1.03879850772371i"},{"$f":"IMPRODUCT(COMPLEX(定数!T$18,計算!B68*定数!T$28),計算!T68)","v":"0.829197135414448+1.52011727791747i"},{"$f":"IMDIV(COMPLEX(定数!U$18,計算!B68*定数!U$28),計算!U68)","v":"-0.53399041900801-0.582454100001212i"},{"$f":"IMPRODUCT(COMPLEX(定数!V$18,計算!B68*定数!V$28),計算!U68)","v":"-0.172122255924258-1.17833781805029i"},{"$f":"IMPRODUCT(定数!E$32,計算!G68)","v":"0"},{"$f":"IMDIV(COMPLEX(定数!O$19,計算!B68*定数!O$29),計算!R68)","v":"-0.585378004405354-0.754547116339723i"},{"$f":"IMPRODUCT(COMPLEX(定数!P$19,計算!B68*定数!P$29),計算!R68)","v":"-0.394468516488864-1.2468678647015i"},{"$f":"IMDIV(COMPLEX(定数!Q$19,計算!B68*定数!Q$29),計算!S68)","v":"-0.514930054739761+0.0835864261592956i"},{"$f":"IMPRODUCT(COMPLEX(定数!R$19,計算!B68*定数!R$29),計算!S68)","v":"0.540511592742796-0.522065157528851i"},{"$f":"IMDIV(COMPLEX(定数!S$19,計算!B68*定数!S$29),計算!T68)","v":"-0.364232605677799-1.03870938924006i"},{"$f":"IMPRODUCT(COMPLEX(定数!T$19,計算!B68*定数!T$29),計算!T68)","v":"-0.829130854246428-1.51998552085673i"},{"$f":"IMDIV(COMPLEX(定数!U$19,計算!B68*定数!U$29),計算!U68)","v":"-0.534086018933001-0.582576485806016i"},{"$f":"IMPRODUCT(COMPLEX(定数!V$19,計算!B68*定数!V$29),計算!U68)","v":"-0.172165441533637-1.17857732403034i"},{"$f":"IMPRODUCT(定数!E$33,計算!G68)","v":"0"},{"$f":"IMDIV(COMPLEX(定数!O$20,計算!B68*定数!O$30),計算!R68)","v":"-0.460866706915449-0.622448276765436i"},{"$f":"IMPRODUCT(COMPLEX(定数!P$20,計算!B68*定数!P$30),計算!R68)","v":"-0.337095732053704-1.02338195029561i"},{"$f":"IMDIV(COMPLEX(定数!Q$20,計算!B68*定数!Q$30),計算!S68)","v":"-1.08625179701282+0.155457612407944i"},{"$f":"IMPRODUCT(COMPLEX(定数!R$20,計算!B68*定数!R$30),計算!S68)","v":"1.14017289811987-1.12114273413179i"},{"$f":"IMDIV(COMPLEX(定数!S$20,計算!B68*定数!S$30),計算!T68)","v":"0.154058411036605+0.478288820292631i"},{"$f":"IMPRODUCT(COMPLEX(定数!T$20,計算!B68*定数!T$30),計算!T68)","v":"0.389898958957279+0.697663476536637i"},{"$f":"IMDIV(COMPLEX(定数!U$20,計算!B68*定数!U$30),計算!U68)","v":"0.595967332571083+0.694114767296618i"},{"$f":"IMPRODUCT(COMPLEX(定数!V$20,計算!B68*定数!V$30),計算!U68)","v":"0.222213591432207+1.3845721239482i"},{"$f":"IMPRODUCT(定数!E$34,計算!G68)","v":"0"},{"$f":"IMDIV(B68,A68)","v":"0.708905366351917+0.70282119752618i"},{"$f":"IMDIV(C68,A68)","v":"1.46770168086529-0.0893453094450394i"},{"$f":"IMDIV(D68,A68)","v":"0.977223453277886+1.09486922228089i"},{"$f":"IMDIV(E68,A68)","v":"-0.713917469074344+0.137525080483842i"},{"$f":"IMDIV(F68,A68)","v":"-0.408760389567487-0.599248598112665i"},{"$f":"IMDIV(G68,A68)","v":"1.26869682373815-0.168721786245303i"},{"$f":"IMDIV(H68,A68)","v":"0.77996558544246+1.01127480064708i"},{"$f":"IMDIV(I68,A68)","v":"-0.00108555256405399+0.000189491093617917i"},{"$f":"IMSUB(K68,IMPRODUCT(BU68,J68))","v":"8.7572925211432+3.60161009373599i"},{"$f":"IMSUB(L68,IMPRODUCT(BV68,J68))","v":"-89.1209806905824-194.01840751202i"},{"$f":"IMSUB(M68,IMPRODUCT(BW68,J68))","v":"100.687318281332-187.949895313434i"},{"$f":"IMSUB(N68,IMPRODUCT(BX68,J68))","v":"255.827494774888+404.292825914359i"},{"$f":"IMSUB(O68,IMPRODUCT(BY68,J68))","v":"-259.573379616185+400.517226192876i"},{"$f":"IMSUB(P68,IMPRODUCT(BZ68,J68))","v":"-248.081099958371-450.952007379421i"},{"$f":"IMSUB(Q68,IMPRODUCT(CA68,J68))","v":"256.340927792428-444.90511005634i"},{"$f":"IMSUB(R68,IMPRODUCT(CB68,J68))","v":"0.250104077915931+0.403837770416672i"},{"$f":"IMSUB(T68,IMPRODUCT(BU68,S68))","v":"8.7604021784787+3.60288900198702i"},{"$f":"IMSUB(U68,IMPRODUCT(BV68,S68))","v":"-203.285853345535-437.779608903301i"},{"$f":"IMSUB(V68,IMPRODUCT(BW68,S68))","v":"213.644271967028-431.708941815617i"},{"$f":"IMSUB(W68,IMPRODUCT(BX68,S68))","v":"-72.1015049039022-113.167067208779i"},{"$f":"IMSUB(X68,IMPRODUCT(BY68,S68))","v":"65.7799415356338-116.944007621095i"},{"$f":"IMSUB(Y68,IMPRODUCT(BZ68,S68))","v":"-248.099924169065-450.985886651108i"},{"$f":"IMSUB(Z68,IMPRODUCT(CA68,S68))","v":"256.363312934392-444.936842114231i"},{"$f":"IMSUB(AA68,IMPRODUCT(CB68,S68))","v":"0.135344883548699+0.223009672956671i"},{"$f":"IMSUB(AC68,IMPRODUCT(BU68,AB68))","v":"0.00158841149219313+0.000653265702993622i"},{"$f":"IMSUB(AD68,IMPRODUCT(BV68,AB68))","v":"-250.391283735006-513.790726597853i"},{"$f":"IMSUB(AE68,IMPRODUCT(BW68,AB68))","v":"247.838171250222-513.789625881566i"},{"$f":"IMSUB(AF68,IMPRODUCT(BX68,AB68))","v":"155.554974462551+235.887278262709i"},{"$f":"IMSUB(AG68,IMPRODUCT(BY68,AB68))","v":"-154.382811543528+235.886593438493i"},{"$f":"IMSUB(AH68,IMPRODUCT(BZ68,AB68))","v":"0.0077407290999929+0.00255734074400493i"},{"$f":"IMSUB(AI68,IMPRODUCT(CA68,AB68))","v":"-0.00582301747299141+0.00365413649100788i"},{"$f":"IMSUB(AJ68,IMPRODUCT(CB68,AB68))","v":"0.114752380721254+0.18082258442481i"},{"$f":"IMSUB(AL68,IMPRODUCT(BU68,AK68))","v":"-0.447870798040672-0.258226221639109i"},{"$f":"IMSUB(AM68,IMPRODUCT(BV68,AK68))","v":"1.81823173939705+0.716958602603i"},{"$f":"IMSUB(AN68,IMPRODUCT(BW68,AK68))","v":"-1.37125258533058+2.23395942251913i"},{"$f":"IMSUB(AO68,IMPRODUCT(BX68,AK68))","v":"-0.568750564767372-0.859418184874363i"},{"$f":"IMSUB(AP68,IMPRODUCT(BY68,AK68))","v":"-0.205363009638319-1.22846335006328i"},{"$f":"IMSUB(AQ68,IMPRODUCT(BZ68,AK68))","v":"1.28571789611396+1.40606278866796i"},{"$f":"IMSUB(AR68,IMPRODUCT(CA68,AK68))","v":"-0.047816990760744+2.33613596174907i"},{"$f":"IMSUB(AS68,IMPRODUCT(CB68,AK68))","v":"-0.00061825212840906-0.000588384374998746i"},{"$f":"IMSUB(AU68,IMPRODUCT(BU68,AT68))","v":"-0.509822978189549-0.300558687596541i"},{"$f":"IMSUB(AV68,IMPRODUCT(BV68,AT68))","v":"1.44150819873863+0.971594096303672i"},{"$f":"IMSUB(AW68,IMPRODUCT(BW68,AT68))","v":"-0.794613138514599+1.90036548764575i"},{"$f":"IMSUB(AX68,IMPRODUCT(BX68,AT68))","v":"-0.157409892216185+0.580609670237096i"},{"$f":"IMSUB(AY68,IMPRODUCT(BY68,AT68))","v":"1.04208651783658+0.860896833845615i"},{"$f":"IMSUB(AZ68,IMPRODUCT(BZ68,AT68))","v":"0.335986571374737+0.276086691845891i"},{"$f":"IMSUB(BA68,IMPRODUCT(CA68,AT68))","v":"-0.478614623075809+0.00216970051261001i"},{"$f":"IMSUB(BB68,IMPRODUCT(CB68,AT68))","v":"-0.000778440151321693-0.000708189744475954i"},{"$f":"IMSUB(BD68,IMPRODUCT(BU68,BC68))","v":"-0.509802615717342-0.30054929470125i"},{"$f":"IMSUB(BE68,IMPRODUCT(BV68,BC68))","v":"0.411645471867781+1.13873571815725i"},{"$f":"IMSUB(BF68,IMPRODUCT(BW68,BC68))","v":"0.286426293239553+0.856208341585149i"},{"$f":"IMSUB(BG68,IMPRODUCT(BX68,BC68))","v":"-0.885913341938131-1.49688959966534i"},{"$f":"IMSUB(BH68,IMPRODUCT(BY68,BC68))","v":"-0.616248893694866-2.17920144258468i"},{"$f":"IMSUB(BI68,IMPRODUCT(BZ68,BC68))","v":"0.335889733217329+0.275949021522989i"},{"$f":"IMSUB(BJ68,IMPRODUCT(CA68,BC68))","v":"-0.478645228277759+0.00192148401769998i"},{"$f":"IMSUB(BK68,IMPRODUCT(CB68,BC68))","v":"-0.0007784385518845-0.000708176638607486i"},{"$f":"IMSUB(BM68,IMPRODUCT(BU68,BL68))","v":"-0.447854693622797-0.258218135765826i"},{"$f":"IMSUB(BN68,IMPRODUCT(BV68,BL68))","v":"-0.354224122717025+1.027849715926i"},{"$f":"IMSUB(BO68,IMPRODUCT(BW68,BL68))","v":"0.909043192260339-0.00828290664853015i"},{"$f":"IMSUB(BP68,IMPRODUCT(BX68,BL68))","v":"-0.260564631304295+0.097292852875434i"},{"$f":"IMSUB(BQ68,IMPRODUCT(BY68,BL68))","v":"0.574516161549167+0.167057548404503i"},{"$f":"IMSUB(BR68,IMPRODUCT(BZ68,BL68))","v":"1.28568804490255+1.40605466495845i"},{"$f":"IMSUB(BS68,IMPRODUCT(CA68,BL68))","v":"-0.047792494696631+2.336123245704i"},{"$f":"IMSUB(BT68,IMPRODUCT(CB68,BL68))","v":"-0.000618243440064055-0.00058837018652821i"},{"$f":"IMSUB(BV68,IMPRODUCT(EN68,BU68))","v":"2.36087416971791+22.4016180908476i"},{"$f":"IMSUB(BW68,IMPRODUCT(EO68,BU68))","v":"-16.3865535040857+15.3699504572618i"},{"$f":"IMSUB(BX68,IMPRODUCT(EP68,BU68))","v":"-9.40957987714018-49.5454052949734i"},{"$f":"IMSUB(BY68,IMPRODUCT(EQ68,BU68))","v":"40.9803096580869-29.2111088626615i"},{"$f":"IMSUB(BZ68,IMPRODUCT(ER68,BU68))","v":"7.33506839778552+53.7509397439957i"},{"$f":"IMSUB(CA68,IMPRODUCT(ES68,BU68))","v":"-42.077045934571+34.0794892937631i"},{"$f":"IMSUB(CB68,IMPRODUCT(ET68,BU68))","v":"-0.00924162958053985-0.0492191817100491i"},{"$f":"IMDIV(CD68,CC68)","v":"-16.4979700117976-15.3699504574509i"},{"$f":"IMDIV(CE68,CC68)","v":"2.28443030777699-22.4016180908332i"},{"$f":"IMDIV(CF68,CC68)","v":"41.2267282877581+29.211108863138i"},{"$f":"IMDIV(CG68,CC68)","v":"-9.26429574118887+49.5454052948613i"},{"$f":"IMDIV(CH68,CC68)","v":"-42.3443811765585-34.0794892942509i"},{"$f":"IMDIV(CI68,CC68)","v":"7.16557092405539-53.7509397439143i"},{"$f":"IMDIV(CJ68,CC68)","v":"0.0406494413400225+0.0293965665255763i"},{"$f":"IMSUB(CL68,IMPRODUCT(EN68,CK68))","v":"-114.133226377942-243.692306722121i"},{"$f":"IMSUB(CM68,IMPRODUCT(EO68,CK68))","v":"112.921200276019-243.69230672293i"},{"$f":"IMSUB(CN68,IMPRODUCT(EP68,CK68))","v":"-328.019842348682-517.603454865062i"},{"$f":"IMSUB(CO68,IMPRODUCT(EQ68,CK68))","v":"325.445493964661-517.603454862723i"},{"$f":"IMSUB(CP68,IMPRODUCT(ER68,CK68))","v":"0.0692677648000029+0.126250840658031i"},{"$f":"IMSUB(CQ68,IMPRODUCT(ES68,CK68))","v":"-0.0686398485619861+0.126250838396004i"},{"$f":"IMSUB(CR68,IMPRODUCT(ET68,CK68))","v":"-0.114848004689198-0.180971497614665i"},{"$f":"IMSUB(CT68,IMPRODUCT(EN68,CS68))","v":"-250.375118831332-513.755535233934i"},{"$f":"IMSUB(CU68,IMPRODUCT(EO68,CS68))","v":"247.819908426078-513.755535233918i"},{"$f":"IMSUB(CV68,IMPRODUCT(EP68,CS68))","v":"155.50857206912+235.813946994054i"},{"$f":"IMSUB(CW68,IMPRODUCT(EQ68,CS68))","v":"-154.335729715686+235.813946994007i"},{"$f":"IMSUB(CX68,IMPRODUCT(ER68,CS68))","v":"0.0527380692591724+0.0843517251242001i"},{"$f":"IMSUB(CY68,IMPRODUCT(ES68,CS68))","v":"-0.0523185381152619+0.0843517251693681i"},{"$f":"IMSUB(CZ68,IMPRODUCT(ET68,CS68))","v":"0.114707016450175+0.180749335694836i"},{"$f":"IMSUB(DB68,IMPRODUCT(EN68,DA68))","v":"-1.60180302242998-10.4270018354829i"},{"$f":"IMSUB(DC68,IMPRODUCT(EO68,DA68))","v":"5.43656223787997-7.20917134224957i"},{"$f":"IMSUB(DD68,IMPRODUCT(EP68,DA68))","v":"10.3524228624599+22.8692067296021i"},{"$f":"IMSUB(DE68,IMPRODUCT(EQ68,DA68))","v":"-17.1484933453997+18.5691927732003i"},{"$f":"IMSUB(DF68,IMPRODUCT(ER68,DA68))","v":"-8.87887613812484-24.7915748372356i"},{"$f":"IMSUB(DG68,IMPRODUCT(ES68,DA68))","v":"17.0413350570354-19.887002011188i"},{"$f":"IMSUB(DH68,IMPRODUCT(ET68,DA68))","v":"0.00999648130139204+0.0230742309834415i"},{"$f":"IMSUB(DJ68,IMPRODUCT(EN68,DI68))","v":"-2.3499638688426-11.8229680352927i"},{"$f":"IMSUB(DK68,IMPRODUCT(EO68,DI68))","v":"7.10304285788249-8.83388878847645i"},{"$f":"IMSUB(DL68,IMPRODUCT(EP68,DI68))","v":"12.0812709613155+27.864155535129i"},{"$f":"IMSUB(DM68,IMPRODUCT(EQ68,DI68))","v":"-18.5723663196273+23.3358183474021i"},{"$f":"IMSUB(DN68,IMPRODUCT(ER68,DI68))","v":"-11.0092653734114-29.825391668842i"},{"$f":"IMSUB(DO68,IMPRODUCT(ES68,DI68))","v":"19.3298699923662-25.2476198874028i"},{"$f":"IMSUB(DP68,IMPRODUCT(ET68,DI68))","v":"0.0111101856396183+0.0264963980908303i"},{"$f":"IMSUB(DR68,IMPRODUCT(EN68,DQ68))","v":"-3.37963502459288-11.6553584795454i"},{"$f":"IMSUB(DS68,IMPRODUCT(EO68,DQ68))","v":"8.18382535693491-9.87761123962605i"},{"$f":"IMSUB(DT68,IMPRODUCT(EP68,DQ68))","v":"11.3522024103716+25.7856742164923i"},{"$f":"IMSUB(DU68,IMPRODUCT(EQ68,DQ68))","v":"-20.2300477123902+20.2947982225933i"},{"$f":"IMSUB(DV68,IMPRODUCT(ER68,DQ68))","v":"-11.0088200803585-29.8244376601728i"},{"$f":"IMSUB(DW68,IMPRODUCT(ES68,DQ68))","v":"19.3291886014766-25.2468409073384i"},{"$f":"IMSUB(DX68,IMPRODUCT(ET68,DQ68))","v":"0.0111096356348073+0.0264954307939838i"},{"$f":"IMSUB(DZ68,IMPRODUCT(EN68,DY68))","v":"-3.77411747381265-10.1157297975601i"},{"$f":"IMSUB(EA68,IMPRODUCT(EO68,DY68))","v":"7.71664008940539-9.45107137801241i"},{"$f":"IMSUB(EB68,IMPRODUCT(EP68,DY68))","v":"10.6601810607878+23.8251139853474i"},{"$f":"IMSUB(EC68,IMPRODUCT(EQ68,DY68))","v":"-16.3680643602533+19.9639906816788i"},{"$f":"IMSUB(ED68,IMPRODUCT(ER68,DY68))","v":"-8.87849962015905-24.7906917393082i"},{"$f":"IMSUB(EE68,IMPRODUCT(ES68,DY68))","v":"17.0408095324634-19.8862070395368i"},{"$f":"IMSUB(EF68,IMPRODUCT(ET68,DY68))","v":"0.00999607305105914+0.0230734430710889i"},{"$f":"IMSUB(EH68,IMPRODUCT(GW68,EG68))","v":"-0.7851003933622-0.818704019292502i"},{"$f":"IMSUB(EI68,IMPRODUCT(GX68,EG68))","v":"-21.1959536133143-99.4688451067723i"},{"$f":"IMSUB(EJ68,IMPRODUCT(GY68,EG68))","v":"80.8897271479686-61.2535656096022i"},{"$f":"IMSUB(EK68,IMPRODUCT(GZ68,EG68))","v":"7.33709354386528+53.7628228729064i"},{"$f":"IMSUB(EL68,IMPRODUCT(HA68,EG68))","v":"-42.0859306910557+34.0875988119267i"},{"$f":"IMSUB(EM68,IMPRODUCT(HB68,EG68))","v":"-0.0133752997830823-0.0666785010517475i"},{"$f":"IMSUB(EO68,IMPRODUCT(GW68,EN68))","v":"1.13379045341224+0.0741961510632017i"},{"$f":"IMSUB(EP68,IMPRODUCT(GX68,EN68))","v":"82.9220786497462+59.178008087568i"},{"$f":"IMSUB(EQ68,IMPRODUCT(GY68,EN68))","v":"-18.3618541616588+99.9630648768237i"},{"$f":"IMSUB(ER68,IMPRODUCT(GZ68,EN68))","v":"-42.353716387789-34.0871347938622i"},{"$f":"IMSUB(ES68,IMPRODUCT(HA68,EN68))","v":"7.16695507081205-53.7629011808535i"},{"$f":"IMSUB(ET68,IMPRODUCT(HB68,EN68))","v":"0.0552400683028881+0.0398689502448121i"},{"$f":"IMDIV(EV68,EU68)","v":"0.642126514278902+0.764115919776752i"},{"$f":"IMDIV(EW68,EU68)","v":"2.25892378281071-0.28807467834707i"},{"$f":"IMDIV(EX68,EU68)","v":"1.2289596409341+1.91106001308359i"},{"$f":"IMDIV(EY68,EU68)","v":"-0.00053405421535303+0.0000341185745781551i"},{"$f":"IMDIV(EZ68,EU68)","v":"-0.000316690120067739-0.000429987779002066i"},{"$f":"IMDIV(FA68,EU68)","v":"0.000790049596315125-0.000101263333238095i"},{"$f":"IMSUB(FC68,IMPRODUCT(GW68,FB68))","v":"16.023627397732+7.45613001235608i"},{"$f":"IMSUB(FD68,IMPRODUCT(GX68,FB68))","v":"869.086843182816+1324.22181226118i"},{"$f":"IMSUB(FE68,IMPRODUCT(GY68,FB68))","v":"-828.452473463828+1345.68064297262i"},{"$f":"IMSUB(FF68,IMPRODUCT(GZ68,FB68))","v":"-0.0985044249160356-0.181479141964073i"},{"$f":"IMSUB(FG68,IMPRODUCT(HA68,FB68))","v":"0.0892987369853261-0.186007818232995i"},{"$f":"IMSUB(FH68,IMPRODUCT(HB68,FB68))","v":"0.36454037597753+0.561287869818322i"},{"$f":"IMSUB(FJ68,IMPRODUCT(GW68,FI68))","v":"-1.50231566879955+0.710246190534041i"},{"$f":"IMSUB(FK68,IMPRODUCT(GX68,FI68))","v":"16.9745290050861+45.9615702687235i"},{"$f":"IMSUB(FL68,IMPRODUCT(GY68,FI68))","v":"-35.1065683422476+34.4446989099569i"},{"$f":"IMSUB(FM68,IMPRODUCT(GZ68,FI68))","v":"-8.88008734222088-24.7970887702835i"},{"$f":"IMSUB(FN68,IMPRODUCT(HA68,FI68))","v":"17.0453112652048-19.8909928953752i"},{"$f":"IMSUB(FO68,IMPRODUCT(HB68,FI68))","v":"0.0123178580941799+0.0311498756610997i"},{"$f":"IMSUB(FQ68,IMPRODUCT(GW68,FP68))","v":"-0.42210112911507+0.553597267539729i"},{"$f":"IMSUB(FR68,IMPRODUCT(GX68,FP68))","v":"20.7955579472645+53.8943741278184i"},{"$f":"IMSUB(FS68,IMPRODUCT(GY68,FP68))","v":"-38.2787570153797+42.3566908807671i"},{"$f":"IMSUB(FT68,IMPRODUCT(GZ68,FP68))","v":"-11.0109237643381-29.8316255973417i"},{"$f":"IMSUB(FU68,IMPRODUCT(HA68,FP68))","v":"19.3342095137931-25.2523745603142i"},{"$f":"IMSUB(FV68,IMPRODUCT(HB68,FP68))","v":"0.0141640067975737+0.0355991640400118i"},{"$f":"IMSUB(FX68,IMPRODUCT(GW68,FW68))","v":"1.44793364988603+0.189036398841949i"},{"$f":"IMSUB(FY68,IMPRODUCT(GX68,FW68))","v":"22.3441539896594+51.1406534104818i"},{"$f":"IMSUB(FZ68,IMPRODUCT(GY68,FW68))","v":"-38.3507021944922+41.0774487488899i"},{"$f":"IMSUB(GA68,IMPRODUCT(GZ68,FW68))","v":"-11.0110226529073-29.8305469451706i"},{"$f":"IMSUB(GB68,IMPRODUCT(HA68,FW68))","v":"19.333129966161-25.2519852459728i"},{"$f":"IMSUB(GC68,IMPRODUCT(HB68,FW68))","v":"0.014959975371403+0.0353615089479382i"},{"$f":"IMSUB(GE68,IMPRODUCT(GW68,GD68))","v":"2.41051080886807-0.0716298188700595i"},{"$f":"IMSUB(GF68,IMPRODUCT(GX68,GD68))","v":"22.0997103891827+45.5885489282302i"},{"$f":"IMSUB(GG68,IMPRODUCT(GY68,GD68))","v":"-31.0615930240687+39.608379330358i"},{"$f":"IMSUB(GH68,IMPRODUCT(GZ68,GD68))","v":"-8.88086033778669-24.7959653199395i"},{"$f":"IMSUB(GI68,IMPRODUCT(HA68,GD68))","v":"17.0439639469361-19.8910334156112i"},{"$f":"IMSUB(GJ68,IMPRODUCT(HB68,GD68))","v":"0.0140021655551275+0.0306831915986537i"},{"$f":"IMSUB(GL68,IMPRODUCT(IV68,GK68))","v":"-0.00736344822189849-0.0414785849381047i"},{"$f":"IMSUB(GM68,IMPRODUCT(IW68,GK68))","v":"0.0339792694556991-0.0247329367084959i"},{"$f":"IMSUB(GN68,IMPRODUCT(IX68,GK68))","v":"7.33542202858331+53.749675894769i"},{"$f":"IMSUB(GO68,IMPRODUCT(IY68,GK68))","v":"-42.0762626640621+34.0785489483095i"},{"$f":"IMSUB(GP68,IMPRODUCT(IZ68,GK68))","v":"-0.00462353200759868-0.024624123269946i"},{"$f":"IMSUB(GR68,IMPRODUCT(IV68,GQ68))","v":"0.0341855668677908+0.0247329369138001i"},{"$f":"IMSUB(GS68,IMPRODUCT(IW68,GQ68))","v":"-0.00724043693180221+0.0414785848858941i"},{"$f":"IMSUB(GT68,IMPRODUCT(IX68,GQ68))","v":"-42.3435916203289-34.0785489486037i"},{"$f":"IMSUB(GU68,IMPRODUCT(IY68,GQ68))","v":"7.16592923150577-53.7496758947199i"},{"$f":"IMSUB(GV68,IMPRODUCT(IZ68,GQ68))","v":"0.0203367276950864+0.0147069525413132i"},{"$f":"IMSUB(GX68,IMPRODUCT(IV68,GW68))","v":"-10.6116323099823-88.8096343861979i"},{"$f":"IMSUB(GY68,IMPRODUCT(IW68,GW68))","v":"75.7531263430695-47.1867724138882i"},{"$f":"IMSUB(GZ68,IMPRODUCT(IX68,GW68))","v":"0.000175447465142832+0.0116738819494523i"},{"$f":"IMSUB(HA68,IMPRODUCT(IY68,GW68))","v":"-0.00932732575189677+0.00695850380473101i"},{"$f":"IMSUB(HB68,IMPRODUCT(IZ68,GW68))","v":"-0.00446912319058981-0.0375307315239166i"},{"$f":"IMDIV(HD68,HC68)","v":"76.1948292271703+47.1867724146624i"},{"$f":"IMDIV(HE68,HC68)","v":"-10.376944558442+88.8096343860813i"},{"$f":"IMDIV(HF68,HC68)","v":"-0.00938538656880717-0.00695850425894252i"},{"$f":"IMDIV(HG68,HC68)","v":"0.000140839253047136-0.0116738819102243i"},{"$f":"IMDIV(HH68,HC68)","v":"0.032099497760008+0.0200921946820817i"},{"$f":"IMSUB(HJ68,IMPRODUCT(IV68,HI68))","v":"164.957440185681+62.7339106303597i"},{"$f":"IMSUB(HK68,IMPRODUCT(IW68,HI68))","v":"12.380689758776+175.234989530543i"},{"$f":"IMSUB(HL68,IMPRODUCT(IX68,HI68))","v":"-8.89912940666267-24.8008767052059i"},{"$f":"IMSUB(HM68,IMPRODUCT(IY68,HI68))","v":"17.037231520066-19.9086307816276i"},{"$f":"IMSUB(HN68,IMPRODUCT(IZ68,HI68))","v":"0.0748118412720528+0.0385361485504604i"},{"$f":"IMSUB(HP68,IMPRODUCT(IV68,HO68))","v":"79.0799496695592+31.6307147825255i"},{"$f":"IMSUB(HQ68,IMPRODUCT(IW68,HO68))","v":"6.50589389707439+85.5879859843933i"},{"$f":"IMSUB(HR68,IMPRODUCT(IX68,HO68))","v":"-11.0187375555499-29.8293670654871i"},{"$f":"IMSUB(HS68,IMPRODUCT(IY68,HO68))","v":"19.3278063330738-25.2573800872753i"},{"$f":"IMSUB(HT68,IMPRODUCT(IZ68,HO68))","v":"0.0388362251209764+0.0263099078523802i"},{"$f":"IMSUB(HV68,IMPRODUCT(IV68,HU68))","v":"-79.0608856654376-31.5862583257033i"},{"$f":"IMSUB(HW68,IMPRODUCT(IW68,HU68))","v":"-6.5373215185074-85.5513890824821i"},{"$f":"IMSUB(HX68,IMPRODUCT(IX68,HU68))","v":"-10.9987486464636-29.8186973130225i"},{"$f":"IMSUB(HY68,IMPRODUCT(IY68,HU68))","v":"19.3307192516705-25.2351088632754i"},{"$f":"IMSUB(HZ68,IMPRODUCT(IZ68,HU68))","v":"-0.0277198114522217+0.000201370706503799i"},{"$f":"IMSUB(IB68,IMPRODUCT(IV68,IA68))","v":"-164.948729003893-62.6978541965338i"},{"$f":"IMSUB(IC68,IMPRODUCT(IW68,IA68))","v":"-12.4092740279108-175.211502948058i"},{"$f":"IMSUB(ID68,IMPRODUCT(IX68,IA68))","v":"-8.8577383256175-24.7798640437497i"},{"$f":"IMSUB(IE68,IMPRODUCT(IY68,IA68))","v":"17.0444606504411-19.862883308795i"},{"$f":"IMSUB(IF68,IMPRODUCT(IZ68,IA68))","v":"-0.0648132210203877-0.0154499796460165i"},{"$f":"IMSUB(IH68,IMPRODUCT(KK68,IG68))","v":"-0.000399909968274999-0.0007230610163458i"},{"$f":"IMSUB(II68,IMPRODUCT(KL68,IG68))","v":"7.33941188927005+53.7448137750047i"},{"$f":"IMSUB(IJ68,IMPRODUCT(KM68,IG68))","v":"-42.0700966586856+34.0795993189527i"},{"$f":"IMSUB(IK68,IMPRODUCT(KN68,IG68))","v":"-0.00462225838865201-0.0246040759829233i"},{"$f":"IMSUB(IM68,IMPRODUCT(KK68,IL68))","v":"0.00078947241767255+0.000253006465356198i"},{"$f":"IMSUB(IN68,IMPRODUCT(KL68,IL68))","v":"-42.3430780907172-34.072270250818i"},{"$f":"IMSUB(IO68,IMPRODUCT(KM68,IL68))","v":"7.16075884240999-53.7461382198914i"},{"$f":"IMSUB(IP68,IMPRODUCT(KN68,IL68))","v":"0.0203218504131026+0.0146934073107812i"},{"$f":"IMSUB(IR68,IMPRODUCT(KK68,IQ68))","v":"-0.0131469871643048-0.434298449204903i"},{"$f":"IMSUB(IS68,IMPRODUCT(KL68,IQ68))","v":"9.04324357908224-9.81397108253781i"},{"$f":"IMSUB(IT68,IMPRODUCT(KM68,IQ68))","v":"12.9342853269356+2.97623223078069i"},{"$f":"IMSUB(IU68,IMPRODUCT(KN68,IQ68))","v":"-0.00418442990097087+0.0051171404294958i"},{"$f":"IMSUB(IW68,IMPRODUCT(KK68,IV68))","v":"0.3501477932722+0.246443005564203i"},{"$f":"IMSUB(IX68,IMPRODUCT(KL68,IV68))","v":"2.03573972844791+13.216580007186i"},{"$f":"IMSUB(IY68,IMPRODUCT(KM68,IV68))","v":"-10.4143472329882+8.27133729167834i"},{"$f":"IMSUB(IZ68,IMPRODUCT(KN68,IV68))","v":"-0.0014839352017676-0.0063362252722377i"},{"$f":"IMDIV(JB68,JA68)","v":"0.418520951157413+0.903139218309917i"},{"$f":"IMDIV(JC68,JA68)","v":"-0.0970842158771942-0.113425645801041i"},{"$f":"IMDIV(JD68,JA68)","v":"0.0501331386933347-0.139755312631457i"},{"$f":"IMDIV(JE68,JA68)","v":"0.000473834711422793+0.0000534116199947278i"},{"$f":"IMSUB(JG68,IMPRODUCT(KK68,JF68))","v":"1.97621716716414+0.9296652192686i"},{"$f":"IMSUB(JH68,IMPRODUCT(KL68,JF68))","v":"-6.92905690162925-17.7888295620069i"},{"$f":"IMSUB(JI68,IMPRODUCT(KM68,JF68))","v":"10.9427198152396-15.7912840094878i"},{"$f":"IMSUB(JJ68,IMPRODUCT(KN68,JF68))","v":"0.0030548477080977+0.0070983890203529i"},{"$f":"IMSUB(JL68,IMPRODUCT(KK68,JK68))","v":"-1.97547310407176-0.928891725732001i"},{"$f":"IMSUB(JM68,IMPRODUCT(KL68,JK68))","v":"-15.0916209888177-41.8527564492724i"},{"$f":"IMSUB(JN68,IMPRODUCT(KM68,JK68))","v":"27.7086370051204-34.7007693869225i"},{"$f":"IMSUB(JO68,IMPRODUCT(KN68,JK68))","v":"0.0080549072651436+0.0193908062867982i"},{"$f":"IMSUB(JQ68,IMPRODUCT(KK68,JP68))","v":"0.000333898238199737+0.000528799593979556i"},{"$f":"IMSUB(JR68,IMPRODUCT(KL68,JP68))","v":"-17.7601117383189-49.5762521669303i"},{"$f":"IMSUB(JS68,IMPRODUCT(KM68,JP68))","v":"34.0762163734406-39.7721042786862i"},{"$f":"IMSUB(JT68,IMPRODUCT(KN68,JP68))","v":"0.0099964184238983+0.0230686188361957i"},{"$f":"IMSUB(JV68,IMPRODUCT(LP68,JU68))","v":"7.3412299237151+53.7378235389052i"},{"$f":"IMSUB(JW68,IMPRODUCT(LQ68,JU68))","v":"-42.0632414172438+34.0771826223499i"},{"$f":"IMSUB(JX68,IMPRODUCT(LR68,JU68))","v":"-0.00462289495906008-0.0246012223718535i"},{"$f":"IMSUB(JZ68,IMPRODUCT(LP68,JY68))","v":"-42.3395973820959-34.0659141716674i"},{"$f":"IMSUB(KA68,IMPRODUCT(LQ68,JY68))","v":"7.15741440908082-53.7396574505405i"},{"$f":"IMSUB(KB68,IMPRODUCT(LR68,JY68))","v":"0.020320352361012+0.0146908852237759i"},{"$f":"IMSUB(KD68,IMPRODUCT(LP68,KC68))","v":"11.5743223579763-12.6457469529736i"},{"$f":"IMSUB(KE68,IMPRODUCT(LQ68,KC68))","v":"16.7212231509716+3.49450222263208i"},{"$f":"IMSUB(KF68,IMPRODUCT(LR68,KC68))","v":"-0.0051683031173692+0.00629854437627335i"},{"$f":"IMSUB(KH68,IMPRODUCT(LP68,KG68))","v":"2.77146968545969+16.8863965603911i"},{"$f":"IMSUB(KI68,IMPRODUCT(LQ68,KG68))","v":"-13.062192787422+10.9502617006244i"},{"$f":"IMSUB(KJ68,IMPRODUCT(LR68,KG68))","v":"-0.0018335011310041-0.00781043158121176i"},{"$f":"IMSUB(KL68,IMPRODUCT(LP68,KK68))","v":"-2.88120155436552+8.13020173922145i"},{"$f":"IMSUB(KM68,IMPRODUCT(LQ68,KK68))","v":"-8.39449043838004+2.17621313911325i"},{"$f":"IMSUB(KN68,IMPRODUCT(LR68,KK68))","v":"0.00148349653233279-0.00332092642571874i"},{"$f":"IMDIV(KP68,KO68)","v":"-6.33811415946164-6.01983702493233i"},{"$f":"IMDIV(KQ68,KO68)","v":"1.45597546830307-8.67559195788196i"},{"$f":"IMDIV(KR68,KO68)","v":"0.00264925191135701+0.00234562867801382i"},{"$f":"IMSUB(KT68,IMPRODUCT(LP68,KS68))","v":"-22.0206182386558-59.6322043823903i"},{"$f":"IMSUB(KU68,IMPRODUCT(LQ68,KS68))","v":"38.643562968445-50.4867243962441i"},{"$f":"IMSUB(KV68,IMPRODUCT(LR68,KS68))","v":"0.0111095980912933+0.0264854008321931i"},{"$f":"IMSUB(KX68,IMPRODUCT(LP68,KW68))","v":"-17.7611787405422-49.5708905617593i"},{"$f":"IMSUB(KY68,IMPRODUCT(LQ68,KW68))","v":"34.071142576292-39.7699774330526i"},{"$f":"IMSUB(KZ68,IMPRODUCT(LR68,KW68))","v":"0.00999677421084511+0.0230664347115776i"},{"$f":"IMSUB(LB68,IMPRODUCT(MK68,LA68))","v":"-0.5572800886954-0.849432283341798i"},{"$f":"IMSUB(LC68,IMPRODUCT(ML68,LA68))","v":"-0.00025504011262237-0.000488537601655799i"},{"$f":"IMSUB(LE68,IMPRODUCT(MK68,LD68))","v":"0.98694340625938+0.260555431574801i"},{"$f":"IMSUB(LF68,IMPRODUCT(ML68,LD68))","v":"0.000540479835665502+0.0001444079978639i"},{"$f":"IMSUB(LH68,IMPRODUCT(MK68,LG68))","v":"-0.155330745582301+0.46823703476456i"},{"$f":"IMSUB(LI68,IMPRODUCT(ML68,LG68))","v":"-0.00019183013100185+0.000363349823161789i"},{"$f":"IMSUB(LK68,IMPRODUCT(MK68,LJ68))","v":"-0.267796071805599-0.4177196418033i"},{"$f":"IMSUB(LL68,IMPRODUCT(ML68,LJ68))","v":"-0.00025125168726052-0.00024245412978726i"},{"$f":"IMSUB(LN68,IMPRODUCT(MK68,LM68))","v":"0.0185848603004715+0.26673750229864i"},{"$f":"IMSUB(LO68,IMPRODUCT(ML68,LM68))","v":"0.00034243148108895+0.00040547758066396i"},{"$f":"IMSUB(LQ68,IMPRODUCT(MK68,LP68))","v":"-0.24571391663002-0.100076103649329i"},{"$f":"IMSUB(LR68,IMPRODUCT(ML68,LP68))","v":"-0.00032978893104008-0.00024733628597981i"},{"$f":"IMDIV(LT68,LS68)","v":"0.534454094590861+0.845391732095751i"},{"$f":"IMDIV(LU68,LS68)","v":"-0.000451389468040855+0.0000196156246566851i"},{"$f":"IMSUB(LW68,IMPRODUCT(MK68,LV68))","v":"1.6568562454003+1.7385416597243i"},{"$f":"IMSUB(LX68,IMPRODUCT(ML68,LV68))","v":"0.00100720120421614+0.0010390534062284i"}]

{"sheet":"iFFT128","index":8,"n_rows":131,"n_cols":34,"rows_kept":131,"cut":false,"hidden":true,"merged":[]}
["0.998795456205172-0.049067674327418i","t(ns)","F(ω)","逆順",null,null,null,null,null,null,null,"f(t)",null,"F(ω)","逆順",null,null,null,null,null,null,null,"f(t)",null,"F(ω)","逆順",null,null,null,null,null,null,null,"f(t)"]
[null,null,{"$f":"計算!AO2","v":"v21-v22"},null,null,null,null,null,null,null,null,{"$f":"LOWER(C2)","v":"v21-v22"},null,{"$f":"計算!AQ2","v":"V32"},null,null,null,null,null,null,null,null,{"$f":"LOWER(N2)","v":"v32"},null,{"$f":"計算!AR2","v":"V42"},null,null,null,null,null,null,null,null,{"$f":"LOWER(Y2)","v":"v42"}]
["W",{"$f":"定数!B10","v":7.8125E-2},null,null,2,4,8,16,32,64,128,null,null,null,null,2,4,8,16,32,64,128,null,null,null,null,2,4,8,16,32,64,128]
["0.998795456205172-0.049067674327418i",0,{"$f":"計算!AO4","v":"-0.799999992226992"},{"$f":"C4","v":"-0.799999992226992"},{"$f":"IMSUM(D4,IMPRODUCT($A$131,D5))","v":"-0.80069340788521+0.000640419622334446i"},{"$f":"IMSUM(E4,IMPRODUCT($A$131,E6))","v":"-0.805056342201786+0.000640419622334445i"},{"$f":"IMSUM(F4,IMPRODUCT($A$131,F8))","v":"-0.764738542207528+0.000640419622334455i"},{"$f":"IMSUM(G4,IMPRODUCT($A$131,G12))","v":"-0.755960044419922+0.000640419622334457i"},{"$f":"IMSUM(H4,IMPRODUCT($A$131,H20))","v":"-0.993683578065962+0.000640419622334399i"},{"$f":"IMSUM(I4,IMPRODUCT($A$131,I36))","v":"-0.988490634166084+0.0006404196223344i"},{"$f":"IMSUM(J4,IMPRODUCT($A$131,J68))","v":"-1.00045437084548+0.000640419622334395i"},{"$f":"IMREAL(K4)","v":-1.0004543708454801},null,{"$f":"計算!AQ4","v":"1.27259036641902E-11"},{"$f":"N4","v":"1.27259036641902E-11"},{"$f":"IMSUM(O4,IMPRODUCT($A$131,O5))","v":"-0.0000331950543909144-0.000122764764542256i"},{"$f":"IMSUM(P4,IMPRODUCT($A$131,P6))","v":"-0.00033483303603168-0.000122764764542256i"},{"$f":"IMSUM(Q4,IMPRODUCT($A$131,Q8))","v":"0.000143379569848352-0.000122764764542256i"},{"$f":"IMSUM(R4,IMPRODUCT($A$131,R12))","v":"0.00534770215743373-0.000122764764542255i"},{"$f":"IMSUM(S4,IMPRODUCT($A$131,S20))","v":"-0.00073998588403179-0.000122764764542256i"},{"$f":"IMSUM(T4,IMPRODUCT($A$131,T36))","v":"-0.00141658858728461-0.000122764764542256i"},{"$f":"IMSUM(U4,IMPRODUCT($A$131,U68))","v":"-0.00076010653865907-0.000122764764542256i"},{"$f":"IMREAL(V4)","v":-7.6010653865907002E-4},null,{"$f":"計算!AR4","v":"9.18556897211431E-12"},{"$f":"Y4","v":"9.18556897211431E-12"},{"$f":"IMSUM(Z4,IMPRODUCT($A$131,Z5))","v":"-0.00021890316678587+0.00025170971845877i"},{"$f":"IMSUM(AA4,IMPRODUCT($A$131,AA6))","v":"-0.000534674198760004+0.00025170971845877i"},{"$f":"IMSUM(AB4,IMPRODUCT($A$131,AB8))","v":"-0.000375174943445664+0.00025170971845877i"},{"$f":"IMSUM(AC4,IMPRODUCT($A$131,AC12))","v":"0.0051677064717415+0.000251709718458771i"},{"$f":"IMSUM(AD4,IMPRODUCT($A$131,AD20))","v":"0.00206487079587072+0.00025170971845877i"},{"$f":"IMSUM(AE4,IMPRODUCT($A$131,AE36))","v":"0.00436923462057712+0.000251709718458771i"},{"$f":"IMSUM(AF4,IMPRODUCT($A$131,AF68))","v":"-0.00025141848816272+0.000251709718458769i"},{"$f":"IMREAL(AG4)","v":-2.5141848816271999E-4}]
["0.995184726672197-0.0980171403295606i",{"$f":"B4+$B$3","v":7.8125E-2},{"$f":"計算!AO5","v":"0.100840057074896-0.165000218663926i"},{"$f":"C68","v":"-0.000693415658217693+0.000640419622334446i"},{"$f":"IMSUM(D4,IMPRODUCT($A$67,D5))","v":"-0.799306576568774-0.000640419622334446i"},{"$f":"IMSUM(E5,IMPRODUCT($A$99,E7))","v":"-0.803070571588684-0.000640419622334447i"},{"$f":"IMSUM(F5,IMPRODUCT($A$115,F9))","v":"-0.75639261899555-0.000640419622334412i"},{"$f":"IMSUM(G5,IMPRODUCT($A$123,G13))","v":"-0.751090279403657-0.000640419622334419i"},{"$f":"IMSUM(H5,IMPRODUCT($A$127,H21))","v":"-0.997981212176836-0.000640419622335474i"},{"$f":"IMSUM(I5,IMPRODUCT($A$129,I37))","v":"-0.995080928314554-0.000640419622335575i"},{"$f":"IMSUM(J5,IMPRODUCT($A$130,J69))","v":"-0.997953884569023-0.000640419622334608i"},{"$f":"IMREAL(K5)","v":-0.99795388456902301},null,{"$f":"計算!AQ5","v":"-0.00589461573348303+0.000954204560636947i"},{"$f":"N68","v":"-0.0000331950671168181-0.000122764764542256i"},{"$f":"IMSUM(O4,IMPRODUCT($A$67,O5))","v":"0.0000331950798427218+0.000122764764542256i"},{"$f":"IMSUM(P5,IMPRODUCT($A$99,P7))","v":"0.00034319732592348+0.000122764764542256i"},{"$f":"IMSUM(Q5,IMPRODUCT($A$115,Q9))","v":"-0.00085105884503282+0.000122764764542255i"},{"$f":"IMSUM(R5,IMPRODUCT($A$123,R13))","v":"-0.000624626727315634+0.000122764764542254i"},{"$f":"IMSUM(S5,IMPRODUCT($A$127,S21))","v":"-0.00351972856509234+0.000122764764542249i"},{"$f":"IMSUM(T5,IMPRODUCT($A$129,T37))","v":"-0.00762108139087211+0.000122764764542255i"},{"$f":"IMSUM(U5,IMPRODUCT($A$130,U69))","v":"-0.00184515693841007+0.000122764764542246i"},{"$f":"IMREAL(V5)","v":-1.8451569384100701E-3},null,{"$f":"計算!AR5","v":"-0.00047641313387722+0.0000594747302168491i"},{"$f":"Y68","v":"-0.000218903175971439+0.00025170971845877i"},{"$f":"IMSUM(Z4,IMPRODUCT($A$67,Z5))","v":"0.000218903185157008-0.00025170971845877i"},{"$f":"IMSUM(AA5,IMPRODUCT($A$99,AA7))","v":"0.000508037221900358-0.00025170971845877i"},{"$f":"IMSUM(AB5,IMPRODUCT($A$115,AB9))","v":"-0.000345239265510074-0.000251709718458771i"},{"$f":"IMSUM(AC5,IMPRODUCT($A$123,AC13))","v":"0.00344564673970166-0.000251709718458773i"},{"$f":"IMSUM(AD5,IMPRODUCT($A$127,AD21))","v":"0.00349174348726738-0.000251709718458772i"},{"$f":"IMSUM(AE5,IMPRODUCT($A$129,AE37))","v":"0.00631751613769554-0.000251709718458761i"},{"$f":"IMSUM(AF5,IMPRODUCT($A$130,AF69))","v":"0.00178986039216692-0.000251709718458772i"},{"$f":"IMREAL(AG5)","v":1.7898603921669199E-3}]
["0.989176509964781-0.146730474455362i",0.15625,{"$f":"計算!AO6","v":"-0.078021352209391-0.165443814192503i"},{"$f":"C36","v":"-0.00218146715828822+0.00188199750995488i"},{"$f":"IMSUM(D6,IMPRODUCT($A$131,D7))","v":"-0.00436293431657644"},{"$f":"IMSUM(E4,IMPRODUCT($A$67,E6))","v":"-0.796330473568634+0.000640419622334446i"},{"$f":"IMSUM(F6,IMPRODUCT($A$99,F10))","v":"-0.770659604338263+0.000640419622334451i"},{"$f":"IMSUM(G6,IMPRODUCT($A$115,G14))","v":"-0.753752588381919+0.000640419622334463i"},{"$f":"IMSUM(H6,IMPRODUCT($A$123,H22))","v":"-1.00445338024842+0.000640419622334546i"},{"$f":"IMSUM(I6,IMPRODUCT($A$127,I38))","v":"-1.00915577822883+0.00064041962233438i"},{"$f":"IMSUM(J6,IMPRODUCT($A$129,J70))","v":"-1.00269916831832+0.000640419622334931i"},-1.00269916831832,null,{"$f":"計算!AQ6","v":"0.00346935423953909+0.0101259631235182i"},{"$f":"N36","v":"-0.000150818990820383-0.000155001123040379i"},{"$f":"IMSUM(O6,IMPRODUCT($A$131,O7))","v":"-0.000301637981640766"},{"$f":"IMSUM(P4,IMPRODUCT($A$67,P6))","v":"0.000268442927249852-0.000122764764542256i"},{"$f":"IMSUM(Q6,IMPRODUCT($A$99,Q10))","v":"-0.00202003660237777-0.000122764764542256i"},{"$f":"IMSUM(R6,IMPRODUCT($A$115,R14))","v":"-0.00022727730844093-0.000122764764542255i"},{"$f":"IMSUM(S6,IMPRODUCT($A$123,S22))","v":"-0.00221472195999306-0.000122764764542255i"},{"$f":"IMSUM(T6,IMPRODUCT($A$127,T38))","v":"-0.00545700296961887-0.000122764764542132i"},{"$f":"IMSUM(U6,IMPRODUCT($A$129,U70))","v":"0.00052807216391765-0.000122764764542142i"},5.2807216391765005E-4,null,{"$f":"計算!AR6","v":"0.00140540435150007+0.0016893102641557i"},{"$f":"Y36","v":"-0.000157885515987067-0.000144567018371675i"},{"$f":"IMSUM(Z6,IMPRODUCT($A$131,Z7))","v":"-0.000315771031974134"},{"$f":"IMSUM(AA4,IMPRODUCT($A$67,AA6))","v":"0.000096867865188264+0.00025170971845877i"},{"$f":"IMSUM(AB6,IMPRODUCT($A$99,AB10))","v":"-0.00143852238025376+0.00025170971845877i"},{"$f":"IMSUM(AC6,IMPRODUCT($A$115,AC14))","v":"3.79816631201012E-06+0.000251709718458771i"},{"$f":"IMSUM(AD6,IMPRODUCT($A$123,AD22))","v":"-0.000644341430095145+0.000251709718458767i"},{"$f":"IMSUM(AE6,IMPRODUCT($A$127,AE38))","v":"-0.00148390676878362+0.000251709718458772i"},{"$f":"IMSUM(AF6,IMPRODUCT($A$129,AF70))","v":"-0.0004748774730503+0.000251709718458776i"},-4.7487747305030001E-4]
["0.98078528040323-0.195090322016128i",0.234375,{"$f":"計算!AO7","v":"-0.171530458310784-0.0210790558496051i"},{"$f":"IMCONJUGATE(C36)","v":"-0.00218146715828822-0.00188199750995488i"},{"$f":"IMSUM(D6,IMPRODUCT($A$67,D7))","v":"0.00376399501990976i"},{"$f":"IMSUM(E5,IMPRODUCT($A$35,E7))","v":"-0.795542581548864-0.000640419622334446i"},{"$f":"IMSUM(F7,IMPRODUCT($A$83,F11))","v":"-0.80646337856861-0.000640419622334454i"},{"$f":"IMSUM(G7,IMPRODUCT($A$107,G15))","v":"-0.744659243974584-0.000640419622334509i"},{"$f":"IMSUM(H7,IMPRODUCT($A$119,H23))","v":"-1.00305847031824-0.000640419622335078i"},{"$f":"IMSUM(I7,IMPRODUCT($A$125,I39))","v":"-1.00559819896922-0.000640419622335743i"},{"$f":"IMSUM(J7,IMPRODUCT($A$128,J71))","v":"-0.998640467642772-0.000640419622334275i"},-0.99864046764277203,null,{"$f":"計算!AQ7","v":"0.00973484850016056-0.00627155444153681i"},{"$f":"IMCONJUGATE(N36)","v":"-0.000150818990820383+0.000155001123040379i"},{"$f":"IMSUM(O6,IMPRODUCT($A$67,O7))","v":"-0.000310002246080758i"},{"$f":"IMSUM(P5,IMPRODUCT($A$35,P7))","v":"-0.000276807166238036+0.000122764764542256i"},{"$f":"IMSUM(Q7,IMPRODUCT($A$83,Q11))","v":"-0.00225460101440303+0.000122764764542254i"},{"$f":"IMSUM(R7,IMPRODUCT($A$107,R15))","v":"0.00265170229688765+0.000122764764542251i"},{"$f":"IMSUM(S7,IMPRODUCT($A$119,S23))","v":"-0.00053198837496611+0.000122764764542229i"},{"$f":"IMSUM(T7,IMPRODUCT($A$125,T39))","v":"-0.000670394814000979+0.00012276476454215i"},{"$f":"IMSUM(U7,IMPRODUCT($A$128,U71))","v":"0.000467732678899431+0.000122764764542138i"},4.6773267889943098E-4,null,{"$f":"計算!AR7","v":"0.000858190045811072-0.00331252428021411i"},{"$f":"IMCONJUGATE(Y36)","v":"-0.000157885515987067+0.000144567018371675i"},{"$f":"IMSUM(Z6,IMPRODUCT($A$67,Z7))","v":"-0.00028913403674335i"},{"$f":"IMSUM(AA5,IMPRODUCT($A$35,AA7))","v":"-0.000070230851586342-0.00025170971845877i"},{"$f":"IMSUM(AB7,IMPRODUCT($A$83,AB11))","v":"-0.00141563386642485-0.000251709718458771i"},{"$f":"IMSUM(AC7,IMPRODUCT($A$107,AC15))","v":"-0.0000733252556241399-0.000251709718458774i"},{"$f":"IMSUM(AD7,IMPRODUCT($A$119,AD23))","v":"-0.00206334001944177-0.000251709718458784i"},{"$f":"IMSUM(AE7,IMPRODUCT($A$125,AE39))","v":"-0.00537193887657683-0.000251709718458775i"},{"$f":"IMSUM(AF7,IMPRODUCT($A$128,AF71))","v":"0.00013632394742849-0.000251709718458763i"},1.3632394742849001E-4]
["0.970031253194544-0.242980179903264i",0.3125,{"$f":"計算!AO8","v":"-0.0920583901562353+0.124782328352261i"},{"$f":"C20","v":"0.020261566608348-0.0127387491030641i"},{"$f":"IMSUM(D8,IMPRODUCT($A$131,D9))","v":"0.0201588999971291-0.0128354346151857i"},{"$f":"IMSUM(E8,IMPRODUCT($A$131,E10))","v":"0.0403177999942582"},{"$f":"IMSUM(F4,IMPRODUCT($A$67,F8))","v":"-0.845374142196044+0.00064041962233444i"},{"$f":"IMSUM(G8,IMPRODUCT($A$99,G16))","v":"-0.731562478684328+0.00064041962233449i"},{"$f":"IMSUM(H8,IMPRODUCT($A$115,H24))","v":"-1.00146626563663+0.000640419622334296i"},{"$f":"IMSUM(I8,IMPRODUCT($A$123,I40))","v":"-1.00242264301762+0.000640419622334342i"},{"$f":"IMSUM(J8,IMPRODUCT($A$127,J72))","v":"-1.00166756216058+0.000640419622333986i"},-1.0016675621605799,null,{"$f":"計算!AQ8","v":"-0.00533255909734655-0.0060355386642557i"},{"$f":"N20","v":"0.000258064352687363+0.0011328644021028i"},{"$f":"IMSUM(O8,IMPRODUCT($A$131,O9))","v":"0.000239106302940016+0.00114423976481381i"},{"$f":"IMSUM(P8,IMPRODUCT($A$131,P10))","v":"0.000478212605880032"},{"$f":"IMSUM(Q4,IMPRODUCT($A$67,Q8))","v":"-0.000813045641911712-0.000122764764542256i"},{"$f":"IMSUM(R8,IMPRODUCT($A$99,R16))","v":"0.00222986974149121-0.000122764764542255i"},{"$f":"IMSUM(S8,IMPRODUCT($A$115,S24))","v":"0.00094336780541574-0.000122764764542256i"},{"$f":"IMSUM(T8,IMPRODUCT($A$123,T40))","v":"-0.00026875796572904-0.00012276476454222i"},{"$f":"IMSUM(U8,IMPRODUCT($A$127,U72))","v":"-0.000263191711946981-0.000122764764542215i"},-2.6319171194698099E-4,null,{"$f":"計算!AR8","v":"-0.00205320222615866+0.0000849236680051033i"},{"$f":"Y20","v":"0.000126871315015131+0.000772522857784527i"},{"$f":"IMSUM(Z8,IMPRODUCT($A$131,Z9))","v":"0.0000797496276571701+0.000767695122721008i"},{"$f":"IMSUM(AA8,IMPRODUCT($A$131,AA10))","v":"0.00015949925531434"},{"$f":"IMSUM(AB4,IMPRODUCT($A$67,AB8))","v":"-0.000694173454074344+0.00025170971845877i"},{"$f":"IMSUM(AC8,IMPRODUCT($A$99,AC16))","v":"0.00222547096984788+0.000251709718458771i"},{"$f":"IMSUM(AD8,IMPRODUCT($A$115,AD24))","v":"-0.00201875678172597+0.000251709718458768i"},{"$f":"IMSUM(AE8,IMPRODUCT($A$123,AE40))","v":"-0.00264994442261023+0.000251709718458767i"},{"$f":"IMSUM(AF8,IMPRODUCT($A$127,AF72))","v":"-0.00110344698680133+0.000251709718458774i"},-1.10344698680133E-3]
["0.956940335732209-0.290284677254462i",0.390625,{"$f":"計算!AO9","v":"0.0511212371363824+0.112213355467032i"},{"$f":"IMCONJUGATE(C52)","v":"-0.000102666611218949-0.0000966855121216128i"},{"$f":"IMSUM(D8,IMPRODUCT($A$67,D9))","v":"0.0203642332195669-0.0126420635909425i"},{"$f":"IMSUM(E9,IMPRODUCT($A$99,E11))","v":"0.0330062968105094-0.0330062968105094i"},{"$f":"IMSUM(F5,IMPRODUCT($A$51,F9))","v":"-0.849748524181818-0.000640419622334482i"},{"$f":"IMSUM(G9,IMPRODUCT($A$91,G17))","v":"-0.726947751906381-0.000640419622334371i"},{"$f":"IMSUM(H9,IMPRODUCT($A$111,H25))","v":"-0.995504225830404-0.00064041962233426i"},{"$f":"IMSUM(I9,IMPRODUCT($A$121,I41))","v":"-0.998708534240574-0.000640419622335724i"},{"$f":"IMSUM(J9,IMPRODUCT($A$126,J73))","v":"-0.997503068324921-0.000640419622335737i"},-0.99750306832492097,null,{"$f":"計算!AQ9","v":"-0.00222794148602182+0.00154450137354099i"},{"$f":"IMCONJUGATE(N52)","v":"-0.0000189580497473472+0.0000113753627110054i"},{"$f":"IMSUM(O8,IMPRODUCT($A$67,O9))","v":"0.00027702240243471+0.00112148903939179i"},{"$f":"IMSUM(P9,IMPRODUCT($A$99,P11))","v":"-0.00084446663695708+0.00084446663695708i"},{"$f":"IMSUM(Q5,IMPRODUCT($A$51,Q9))","v":"0.00153745349687978+0.000122764764542257i"},{"$f":"IMSUM(R9,IMPRODUCT($A$91,R17))","v":"-0.00349216055203371+0.000122764764542257i"},{"$f":"IMSUM(S9,IMPRODUCT($A$111,S25))","v":"-0.0002000439639907+0.000122764764542263i"},{"$f":"IMSUM(T9,IMPRODUCT($A$121,T41))","v":"-0.000647735384644422+0.000122764764542309i"},{"$f":"IMSUM(U9,IMPRODUCT($A$126,U73))","v":"0.000036310988869185+0.000122764764542288i"},3.6310988869184999E-5,null,{"$f":"計算!AR9","v":"-0.00053197927691122+0.000412942681834391i"},{"$f":"IMCONJUGATE(Y52)","v":"-0.0000471216873579609-0.0000048277350635186i"},{"$f":"IMSUM(Z8,IMPRODUCT($A$67,Z9))","v":"0.000173993002373092+0.000777350592848046i"},{"$f":"IMSUM(AA9,IMPRODUCT($A$99,AA11))","v":"-0.000603357590474954+0.000603357590474954i"},{"$f":"IMSUM(AB5,IMPRODUCT($A$51,AB9))","v":"0.00136131370931079-0.000251709718458769i"},{"$f":"IMSUM(AC9,IMPRODUCT($A$91,AC17))","v":"0.00440242992034224-0.000251709718458767i"},{"$f":"IMSUM(AD9,IMPRODUCT($A$111,AD25))","v":"0.00017272599681784-0.000251709718458768i"},{"$f":"IMSUM(AE9,IMPRODUCT($A$121,AE41))","v":"-0.00196106241962764-0.000251709718458761i"},{"$f":"IMSUM(AF9,IMPRODUCT($A$126,AF73))","v":"0.00024650392055528-0.000251709718458754i"},2.4650392055527997E-4]
["0.941544065183021-0.33688985339222i",0.46875,{"$f":"計算!AO10","v":"0.088833932933468+0.0151063601652104i"},{"$f":"C52","v":"-0.000102666611218949+0.0000966855121216128i"},{"$f":"IMSUM(D10,IMPRODUCT($A$131,D11))","v":"0.0201588999971291+0.0128354346151857i"},{"$f":"IMSUM(E8,IMPRODUCT($A$67,E10))","v":"-0.0256708692303714i"},{"$f":"IMSUM(F6,IMPRODUCT($A$35,F10))","v":"-0.822001342799005+0.000640419622334444i"},{"$f":"IMSUM(G10,IMPRODUCT($A$83,G18))","v":"-0.745484826833755+0.0006404196223345i"},{"$f":"IMSUM(H10,IMPRODUCT($A$107,H26))","v":"-1.00919289277935+0.0006404196223345i"},{"$f":"IMSUM(I10,IMPRODUCT($A$119,I42))","v":"-0.999264528644991+0.000640419622334737i"},{"$f":"IMSUM(J10,IMPRODUCT($A$125,J74))","v":"-1.00246291835034+0.00064041962233513i"},-1.00246291835034,null,{"$f":"計算!AQ10","v":"-0.00206576962459919-0.000143978260713351i"},{"$f":"N52","v":"-0.0000189580497473472-0.0000113753627110054i"},{"$f":"IMSUM(O10,IMPRODUCT($A$131,O11))","v":"0.000239106302940016-0.00114423976481381i"},{"$f":"IMSUM(P8,IMPRODUCT($A$67,P10))","v":"0.00228847952962762i"},{"$f":"IMSUM(Q6,IMPRODUCT($A$35,Q10))","v":"0.00255692245687747-0.000122764764542256i"},{"$f":"IMSUM(R10,IMPRODUCT($A$83,R18))","v":"-0.00963113882794773-0.000122764764542265i"},{"$f":"IMSUM(S10,IMPRODUCT($A$107,S26))","v":"-0.00594814561353202-0.000122764764542265i"},{"$f":"IMSUM(T10,IMPRODUCT($A$119,T42))","v":"-0.00257925056055275-0.000122764764542256i"},{"$f":"IMSUM(U10,IMPRODUCT($A$125,U74))","v":"-0.00047147725430251-0.000122764764542256i"},-4.7147725430251002E-4,null,{"$f":"計算!AR10","v":"-0.000754117808422959+0.000647918051809654i"},{"$f":"Y52","v":"-0.0000471216873579609+0.0000048277350635186i"},{"$f":"IMSUM(Z10,IMPRODUCT($A$131,Z11))","v":"0.0000797496276571701-0.000767695122721008i"},{"$f":"IMSUM(AA8,IMPRODUCT($A$67,AA10))","v":"-9.48676900924816E-20+0.00153539024544202i"},{"$f":"IMSUM(AB6,IMPRODUCT($A$35,AB10))","v":"0.00163225811063028+0.00025170971845877i"},{"$f":"IMSUM(AC10,IMPRODUCT($A$83,AC18))","v":"0.00167224549017527+0.00025170971845877i"},{"$f":"IMSUM(AD10,IMPRODUCT($A$107,AD26))","v":"0.00004169515594062+0.00025170971845877i"},{"$f":"IMSUM(AE10,IMPRODUCT($A$119,AE42))","v":"-0.00276160412091228+0.000251709718458775i"},{"$f":"IMSUM(AF10,IMPRODUCT($A$125,AF74))","v":"-0.00053893213048294+0.000251709718458782i"},-5.3893213048293999E-4]
["0.923879532511287-0.38268343236509i",0.546875,{"$f":"計算!AO11","v":"0.0479744296513666-0.045497580991217i"},{"$f":"IMCONJUGATE(C20)","v":"0.020261566608348+0.0127387491030641i"},{"$f":"IMSUM(D10,IMPRODUCT($A$67,D11))","v":"-0.0203642332195669-0.0126420635909425i"},{"$f":"IMSUM(E9,IMPRODUCT($A$35,E11))","v":"0.0077221696286244+0.0077221696286244i"},{"$f":"IMSUM(F7,IMPRODUCT($A$19,F11))","v":"-0.784621784529118-0.000640419622334438i"},{"$f":"IMSUM(G11,IMPRODUCT($A$75,G19))","v":"-0.765143849183592-0.000640419622334405i"},{"$f":"IMSUM(H11,IMPRODUCT($A$103,H27))","v":"-1.03531179002964-0.000640419622334766i"},{"$f":"IMSUM(I11,IMPRODUCT($A$117,I43))","v":"-0.99692509896049-0.000640419622334461i"},{"$f":"IMSUM(J11,IMPRODUCT($A$124,J75))","v":"-0.996895083375777-0.000640419622335718i"},-0.99689508337577704,null,{"$f":"計算!AQ11","v":"-0.001396120893196+0.0040763762846372i"},{"$f":"IMCONJUGATE(N20)","v":"0.000258064352687363-0.0011328644021028i"},{"$f":"IMSUM(O10,IMPRODUCT($A$67,O11))","v":"-0.00027702240243471+0.00112148903939179i"},{"$f":"IMSUM(P9,IMPRODUCT($A$35,P11))","v":"0.0013985114418265+0.0013985114418265i"},{"$f":"IMSUM(Q7,IMPRODUCT($A$19,Q11))","v":"0.00170098668192695+0.000122764764542258i"},{"$f":"IMSUM(R11,IMPRODUCT($A$75,R19))","v":"-0.00982636998553455+0.000122764764542261i"},{"$f":"IMSUM(S11,IMPRODUCT($A$103,S27))","v":"-0.00480777154961908+0.000122764764542265i"},{"$f":"IMSUM(T11,IMPRODUCT($A$117,T43))","v":"-0.002636396741931+0.000122764764542307i"},{"$f":"IMSUM(U11,IMPRODUCT($A$124,U75))","v":"0.0000474392405072298+0.000122764764542327i"},4.7439240507229798E-5,null,{"$f":"計算!AR11","v":"0.000593043544980959+0.00191418211091367i"},{"$f":"IMCONJUGATE(Y20)","v":"0.000126871315015131-0.000772522857784527i"},{"$f":"IMSUM(Z10,IMPRODUCT($A$67,Z11))","v":"-0.000173993002373092+0.000777350592848046i"},{"$f":"IMSUM(AA9,IMPRODUCT($A$35,AA11))","v":"0.000951343595221138+0.000951343595221138i"},{"$f":"IMSUM(AB7,IMPRODUCT($A$19,AB11))","v":"0.00127517216325217-0.000251709718458769i"},{"$f":"IMSUM(AC11,IMPRODUCT($A$75,AC19))","v":"-0.0027257308132223-0.000251709718458774i"},{"$f":"IMSUM(AD11,IMPRODUCT($A$103,AD27))","v":"-0.00534449253069906-0.000251709718458784i"},{"$f":"IMSUM(AE11,IMPRODUCT($A$117,AE43))","v":"-0.00292603956353379-0.000251709718458771i"},{"$f":"IMSUM(AF11,IMPRODUCT($A$124,AF75))","v":"0.00029113550908711-0.000251709718458773i"},2.9113550908711002E-4]
["0.903989293123443-0.427555093430282i",0.625,{"$f":"計算!AO12","v":"-0.00872634116755231-0.0449884715227154i"},{"$f":"C12","v":"-0.00872634116755231-0.0449884715227154i"},{"$f":"IMSUM(D12,IMPRODUCT($A$131,D13))","v":"-0.00834294597295776-0.044968019113968i"},{"$f":"IMSUM(E12,IMPRODUCT($A$131,E14))","v":"0.00438924889380294-0.0569058317558578i"},{"$f":"IMSUM(F12,IMPRODUCT($A$131,F16))","v":"0.00877849778760585"},{"$f":"IMSUM(G4,IMPRODUCT($A$67,G12))","v":"-0.773517039995134+0.000640419622334454i"},{"$f":"IMSUM(H12,IMPRODUCT($A$99,H28))","v":"-1.04486508852165+0.000640419622334404i"},{"$f":"IMSUM(I12,IMPRODUCT($A$115,I44))","v":"-0.999407198980033+0.000640419622334435i"},{"$f":"IMSUM(J12,IMPRODUCT($A$123,J76))","v":"-1.00361477761213+0.000640419622334449i"},-1.00361477761213,null,{"$f":"計算!AQ12","v":"0.00371895643407082+0.00109328425113249i"},{"$f":"N12","v":"0.00371895643407082+0.00109328425113249i"},{"$f":"IMSUM(O12,IMPRODUCT($A$131,O13))","v":"0.00377256390634512+0.00107691828670907i"},{"$f":"IMSUM(P12,IMPRODUCT($A$131,P14))","v":"0.00260216129379269-0.00152145769170146i"},{"$f":"IMSUM(Q12,IMPRODUCT($A$131,Q16))","v":"0.00520432258758538"},{"$f":"IMSUM(R4,IMPRODUCT($A$67,R12))","v":"-0.00506094301773703-0.000122764764542257i"},{"$f":"IMSUM(S12,IMPRODUCT($A$99,S28))","v":"0.00523238549497167-0.000122764764542255i"},{"$f":"IMSUM(T12,IMPRODUCT($A$115,T44))","v":"-0.00239253466094177-0.00012276476454226i"},{"$f":"IMSUM(U12,IMPRODUCT($A$123,U76))","v":"-0.00019374824084657-0.000122764764542259i"},-1.9374824084657E-4,null,{"$f":"計算!AR12","v":"0.00163538119318912-0.00099214760875708i"},{"$f":"Y12","v":"0.00163538119318912-0.00099214760875708i"},{"$f":"IMSUM(Z12,IMPRODUCT($A$131,Z13))","v":"0.00163362017676759-0.000991948602570428i"},{"$f":"IMSUM(AA12,IMPRODUCT($A$131,AA14))","v":"0.00277144070759358-0.00145982221196111i"},{"$f":"IMSUM(AB12,IMPRODUCT($A$131,AB16))","v":"0.00554288141518716"},{"$f":"IMSUM(AC4,IMPRODUCT($A$67,AC12))","v":"-0.00591805635863282+0.000251709718458769i"},{"$f":"IMSUM(AD12,IMPRODUCT($A$99,AD28))","v":"-0.010060322041189+0.000251709718458768i"},{"$f":"IMSUM(AE12,IMPRODUCT($A$115,AE44))","v":"-0.00301182152946963+0.000251709718458773i"},{"$f":"IMSUM(AF12,IMPRODUCT($A$123,AF76))","v":"-0.00056932597434058+0.000251709718458795i"},-5.6932597434057998E-4]
["0.881921264348355-0.471396736825998i",0.703125,{"$f":"計算!AO13","v":"-0.0213768652221184-0.00544905901885716i"},{"$f":"IMCONJUGATE(C60)","v":"0.000383395194594554+0.000020452408747372i"},{"$f":"IMSUM(D12,IMPRODUCT($A$67,D13))","v":"-0.00910973636214686-0.0450089239314628i"},{"$f":"IMSUM(E13,IMPRODUCT($A$99,E15))","v":"-0.0210475490040367-0.0577411187982235i"},{"$f":"IMSUM(F13,IMPRODUCT($A$115,F17))","v":"0.0048987230233746-0.0020291175145911i"},{"$f":"IMSUM(G5,IMPRODUCT($A$59,G13))","v":"-0.761694958587443-0.000640419622334405i"},{"$f":"IMSUM(H13,IMPRODUCT($A$95,H29))","v":"-1.02224911788656-0.000640419622333767i"},{"$f":"IMSUM(I13,IMPRODUCT($A$113,I45))","v":"-0.996498467358625-0.000640419622334133i"},{"$f":"IMSUM(J13,IMPRODUCT($A$122,J77))","v":"-0.995787424246222-0.000640419622334155i"},-0.99578742424622202,null,{"$f":"計算!AQ13","v":"0.000338757907604119-0.00166746106469817i"},{"$f":"IMCONJUGATE(N60)","v":"0.0000536074722742966-0.000016365964423416i"},{"$f":"IMSUM(O12,IMPRODUCT($A$67,O13))","v":"0.00366534896179652+0.00110965021555591i"},{"$f":"IMSUM(P13,IMPRODUCT($A$99,P15))","v":"0.00106697298338599+0.00228005282810834i"},{"$f":"IMSUM(Q13,IMPRODUCT($A$115,Q17))","v":"0.000209195999062094-0.0000866518200057101i"},{"$f":"IMSUM(R5,IMPRODUCT($A$59,R13))","v":"-0.00107749096275001+0.000122764764542256i"},{"$f":"IMSUM(S13,IMPRODUCT($A$95,S29))","v":"0.0129803413461545+0.000122764764542279i"},{"$f":"IMSUM(T13,IMPRODUCT($A$113,T45))","v":"-0.0024731860147454+0.000122764764542338i"},{"$f":"IMSUM(U13,IMPRODUCT($A$122,U77))","v":"0.00021455204450419+0.00012276476454232i"},2.1455204450419001E-4,null,{"$f":"計算!AR13","v":"-0.000404593868981197-0.000397772470291559i"},{"$f":"IMCONJUGATE(Y60)","v":"-0.0000017610164215351+1.99006186651739E-07i"},{"$f":"IMSUM(Z12,IMPRODUCT($A$67,Z13))","v":"0.00163714220961066-0.000992346614943732i"},{"$f":"IMSUM(AA13,IMPRODUCT($A$99,AA15))","v":"0.00116926860021998-0.00213016714576972i"},{"$f":"IMSUM(AB13,IMPRODUCT($A$115,AB17))","v":"0.00350232199029859-0.00145070926817921i"},{"$f":"IMSUM(AC5,IMPRODUCT($A$59,AC13))","v":"-0.0041361252707218-0.000251709718458769i"},{"$f":"IMSUM(AD13,IMPRODUCT($A$95,AD29))","v":"-0.00533792152294728-0.000251709718458772i"},{"$f":"IMSUM(AE13,IMPRODUCT($A$113,AE45))","v":"-0.0018777849635789-0.000251709718458775i"},{"$f":"IMSUM(AF13,IMPRODUCT($A$122,AF77))","v":"0.0011848949315519-0.000251709718458764i"},1.1848949315519E-3]
["0.857728610000272-0.514102744193222i",0.78125,{"$f":"計算!AO14","v":"-4.55883585921008E-18+5.15089641356398E-18i"},{"$f":"C44","v":"1.15579514010811E-18+1.28977631972812E-19i"},{"$f":"IMSUM(D14,IMPRODUCT($A$131,D15))","v":"0.0127321948667607-0.0119378126418898i"},{"$f":"IMSUM(E12,IMPRODUCT($A$67,E14))","v":"-0.0210751408397185-0.0330302064720782i"},{"$f":"IMSUM(F14,IMPRODUCT($A$99,F18))","v":"0.0119550656323597-0.0119550656323597i"},{"$f":"IMSUM(G6,IMPRODUCT($A$51,G14))","v":"-0.787566620294607+0.000640419622334439i"},{"$f":"IMSUM(H14,IMPRODUCT($A$91,H30))","v":"-1.00587154858943+0.000640419622334064i"},{"$f":"IMSUM(I14,IMPRODUCT($A$111,I46))","v":"-0.999737946793624+0.000640419622334594i"},{"$f":"IMSUM(J14,IMPRODUCT($A$121,J78))","v":"-1.00530313287954+0.000640419622333474i"},-1.0053031328795401,null,{"$f":"計算!AQ14","v":"-2.71927460209439E-19-1.1041679854984E-19i"},{"$f":"N44","v":"1.35975025744168E-19+1.62190056454568E-19i"},{"$f":"IMSUM(O14,IMPRODUCT($A$131,O15))","v":"-0.00117040261255243-0.00259837597841053i"},{"$f":"IMSUM(P12,IMPRODUCT($A$67,P14))","v":"0.00494296651889755+0.0036752942651196i"},{"$f":"IMSUM(Q14,IMPRODUCT($A$99,Q18))","v":"0.00126767225377795-0.00126767225377795i"},{"$f":"IMSUM(R6,IMPRODUCT($A$51,R14))","v":"-0.00381279589631461-0.000122764764542257i"},{"$f":"IMSUM(S14,IMPRODUCT($A$91,S30))","v":"0.0147619637743606-0.000122764764542247i"},{"$f":"IMSUM(T14,IMPRODUCT($A$111,T46))","v":"-0.0010693627177506-0.000122764764542296i"},{"$f":"IMSUM(U14,IMPRODUCT($A$121,U78))","v":"0.00017653249127667-0.000122764764542295i"},1.7653249127667E-4,null,{"$f":"計算!AR14","v":"-5.90932015577002E-20-1.78861141455501E-20i"},{"$f":"Y44","v":"-1.229743451521E-20-6.28663113972923E-21i"},{"$f":"IMSUM(Z14,IMPRODUCT($A$131,Z15))","v":"0.00113782053082599-0.000467873609390683i"},{"$f":"IMSUM(AA12,IMPRODUCT($A$67,AA14))","v":"0.0004957996459416-0.000524074993179745i"},{"$f":"IMSUM(AB14,IMPRODUCT($A$99,AB18))","v":"0.00101987463912134-0.00101987463912134i"},{"$f":"IMSUM(AC6,IMPRODUCT($A$51,AC14))","v":"-0.00288084292681953+0.000251709718458769i"},{"$f":"IMSUM(AD14,IMPRODUCT($A$91,AD30))","v":"-0.00019820842375056+0.000251709718458771i"},{"$f":"IMSUM(AE14,IMPRODUCT($A$111,AE46))","v":"-0.00372077787577261+0.000251709718458763i"},{"$f":"IMSUM(AF14,IMPRODUCT($A$121,AF78))","v":"-0.0010623440274098+0.000251709718458752i"},-1.0623440274097999E-3]
["0.831469612302545-0.555570233019602i",0.859375,{"$f":"計算!AO15","v":"-0.00275883308257155-0.0134975075225871i"},{"$f":"IMCONJUGATE(C28)","v":"0.0127321948667607-0.0119378126418898i"},{"$f":"IMSUM(D14,IMPRODUCT($A$67,D15))","v":"-0.0127321948667607+0.0119378126418898i"},{"$f":"IMSUM(E13,IMPRODUCT($A$35,E15))","v":"0.00282807627974294-0.0322767290647021i"},{"$f":"IMSUM(F15,IMPRODUCT($A$83,F19))","v":"0.0236514183607956-0.0570995749759929i"},{"$f":"IMSUM(G7,IMPRODUCT($A$43,G15))","v":"-0.868267513162635-0.000640419622334398i"},{"$f":"IMSUM(H15,IMPRODUCT($A$87,H31))","v":"-0.998154155363487-0.000640419622334023i"},{"$f":"IMSUM(I15,IMPRODUCT($A$109,I47))","v":"-0.99326102982267-0.00064041962233501i"},{"$f":"IMSUM(J15,IMPRODUCT($A$120,J79))","v":"-0.992673187133245-0.000640419622333692i"},-0.99267318713324504,null,{"$f":"計算!AQ15","v":"0.000393798696873923+0.000215135030745278i"},{"$f":"IMCONJUGATE(N28)","v":"-0.00117040261255243-0.00259837597841053i"},{"$f":"IMSUM(O14,IMPRODUCT($A$67,O15))","v":"0.00117040261255243+0.00259837597841053i"},{"$f":"IMSUM(P13,IMPRODUCT($A$35,P15))","v":"0.00626372494020705-0.0000607523969965201i"},{"$f":"IMSUM(Q15,IMPRODUCT($A$83,Q19))","v":"0.00187756099138892-0.00453283320959381i"},{"$f":"IMSUM(R7,IMPRODUCT($A$43,R15))","v":"-0.00716090432569371+0.000122764764542257i"},{"$f":"IMSUM(S15,IMPRODUCT($A$87,S31))","v":"0.0144725342264099+0.000122764764542281i"},{"$f":"IMSUM(T15,IMPRODUCT($A$109,T47))","v":"-0.003467837148399+0.000122764764542217i"},{"$f":"IMSUM(U15,IMPRODUCT($A$120,U79))","v":"0.00068031707308943+0.000122764764542333i"},6.8031707308942996E-4,null,{"$f":"計算!AR15","v":"0.000284371934664604+0.000086361545720962i"},{"$f":"IMCONJUGATE(Y28)","v":"0.00113782053082599-0.000467873609390683i"},{"$f":"IMSUM(Z14,IMPRODUCT($A$67,Z15))","v":"-0.00113782053082599+0.000467873609390683i"},{"$f":"IMSUM(AA13,IMPRODUCT($A$35,AA15))","v":"0.00210501581900134+0.000145473915882258i"},{"$f":"IMSUM(AB15,IMPRODUCT($A$83,AB19))","v":"0.00051367926647443-0.00124013145183244i"},{"$f":"IMSUM(AC7,IMPRODUCT($A$43,AC15))","v":"-0.00275794247722556-0.000251709718458768i"},{"$f":"IMSUM(AD15,IMPRODUCT($A$87,AD31))","v":"0.0029109342805654-0.000251709718458768i"},{"$f":"IMSUM(AE15,IMPRODUCT($A$109,AE47))","v":"-0.00053106207409371-0.000251709718458751i"},{"$f":"IMSUM(AF15,IMPRODUCT($A$120,AF79))","v":"0.00082177549833507-0.000251709718458749i"},8.2177549833507E-4]
["0.803207531480645-0.595699304492433i",0.9375,{"$f":"計算!AO16","v":"-0.0214196519116156-0.011614672282345i"},{"$f":"C28","v":"0.0127321948667607+0.0119378126418898i"},{"$f":"IMSUM(D16,IMPRODUCT($A$131,D17))","v":"0.0127321948667607+0.0119378126418898i"},{"$f":"IMSUM(E16,IMPRODUCT($A$131,E18))","v":"0.00438924889380292+0.0569058317558578i"},{"$f":"IMSUM(F12,IMPRODUCT($A$67,F16))","v":"2.94902990916057E-17-0.113811663511716i"},{"$f":"IMSUM(G8,IMPRODUCT($A$35,G16))","v":"-0.95918580570776+0.000640419622334404i"},{"$f":"IMSUM(H16,IMPRODUCT($A$83,H32))","v":"-1.00552943107657+0.000640419622334369i"},{"$f":"IMSUM(I16,IMPRODUCT($A$107,I48))","v":"-1.01229109892132+0.000640419622334408i"},{"$f":"IMSUM(J16,IMPRODUCT($A$119,J80))","v":"-1.01205579562451+0.00064041962233439i"},-1.01205579562451,null,{"$f":"計算!AQ16","v":"0.00176336197144996-0.000824045199140436i"},{"$f":"N28","v":"-0.00117040261255243+0.00259837597841053i"},{"$f":"IMSUM(O16,IMPRODUCT($A$131,O17))","v":"-0.00117040261255243+0.00259837597841053i"},{"$f":"IMSUM(P16,IMPRODUCT($A$131,P18))","v":"0.00260216129379269+0.00152145769170146i"},{"$f":"IMSUM(Q12,IMPRODUCT($A$67,Q16))","v":"-0.00304291538340292i"},{"$f":"IMSUM(R8,IMPRODUCT($A$35,R16))","v":"-0.00385596102531463-0.000122764764542256i"},{"$f":"IMSUM(S16,IMPRODUCT($A$83,S32))","v":"0.0141219989992518-0.000122764764542244i"},{"$f":"IMSUM(T16,IMPRODUCT($A$107,T48))","v":"-0.0048882766367816-0.000122764764542293i"},{"$f":"IMSUM(U16,IMPRODUCT($A$119,U80))","v":"-0.00071656348189611-0.000122764764542204i"},-7.1656348189610996E-4,null,{"$f":"計算!AR16","v":"0.000752027063794575-0.00102451586419723i"},{"$f":"Y28","v":"0.00113782053082599+0.000467873609390683i"},{"$f":"IMSUM(Z16,IMPRODUCT($A$131,Z17))","v":"0.00113782053082599+0.000467873609390683i"},{"$f":"IMSUM(AA16,IMPRODUCT($A$131,AA18))","v":"0.00277144070759358+0.00145982221196111i"},{"$f":"IMSUM(AB12,IMPRODUCT($A$67,AB16))","v":"-0.00291964442392222i"},{"$f":"IMSUM(AC8,IMPRODUCT($A$35,AC16))","v":"-0.00361381787799656+0.00025170971845877i"},{"$f":"IMSUM(AD16,IMPRODUCT($A$83,AD32))","v":"0.00217157216114845+0.000251709718458774i"},{"$f":"IMSUM(AE16,IMPRODUCT($A$107,AE48))","v":"-0.00306683401155129+0.000251709718458772i"},{"$f":"IMSUM(AF16,IMPRODUCT($A$119,AF80))","v":"-0.00127045105843981+0.00025170971845878i"},-1.27045105843981E-3]
["0.773010453362737-0.634393284163645i",1.015625,{"$f":"計算!AO17","v":"-0.0313454200544334+0.0169484456771403i"},{"$f":"IMCONJUGATE(C44)","v":"1.15579514010811E-18-1.28977631972812E-19i"},{"$f":"IMSUM(D16,IMPRODUCT($A$67,D17))","v":"0.0127321948667607+0.0119378126418898i"},{"$f":"IMSUM(E17,IMPRODUCT($A$99,E19))","v":"0.0577411187982235+0.0210475490040367i"},{"$f":"IMSUM(F13,IMPRODUCT($A$51,F17))","v":"-0.046993821031448-0.113453120081856i"},{"$f":"IMSUM(G9,IMPRODUCT($A$27,G17))","v":"-0.972549296457255-0.000640419622334593i"},{"$f":"IMSUM(H17,IMPRODUCT($A$79,H33))","v":"-0.958730850007026-0.000640419622333007i"},{"$f":"IMSUM(I17,IMPRODUCT($A$105,I49))","v":"-0.918315868024629-0.000640419622332939i"},{"$f":"IMSUM(J17,IMPRODUCT($A$118,J81))","v":"-0.818360987827134-0.000640419622332273i"},-0.81836098782713396,null,{"$f":"計算!AQ17","v":"-0.000870787018525573-0.0035313416704301i"},{"$f":"IMCONJUGATE(N44)","v":"1.35975025744168E-19-1.62190056454568E-19i"},{"$f":"IMSUM(O16,IMPRODUCT($A$67,O17))","v":"-0.00117040261255243+0.00259837597841053i"},{"$f":"IMSUM(P17,IMPRODUCT($A$99,P19))","v":"-0.00228005282810834-0.00106697298338599i"},{"$f":"IMSUM(Q13,IMPRODUCT($A$51,Q17))","v":"0.00192474996770989+0.00464675747622239i"},{"$f":"IMSUM(R9,IMPRODUCT($A$27,R17))","v":"0.00656706754579327+0.000122764764542257i"},{"$f":"IMSUM(S17,IMPRODUCT($A$79,S33))","v":"0.0223712506524444+0.000122764764542261i"},{"$f":"IMSUM(T17,IMPRODUCT($A$105,T49))","v":"0.0124023133108694+0.000122764764542251i"},{"$f":"IMSUM(U17,IMPRODUCT($A$118,U81))","v":"0.0246371405875368+0.0001227647645423i"},2.4637140587536799E-2,null,{"$f":"計算!AR17","v":"-0.00207873487208466-0.00105861109261148i"},{"$f":"IMCONJUGATE(Y44)","v":"-1.229743451521E-20+6.28663113972923E-21i"},{"$f":"IMSUM(Z16,IMPRODUCT($A$67,Z17))","v":"0.00113782053082599+0.000467873609390683i"},{"$f":"IMSUM(AA17,IMPRODUCT($A$99,AA19))","v":"0.00213016714576972-0.00116926860021998i"},{"$f":"IMSUM(AB13,IMPRODUCT($A$51,AB17))","v":"-0.00116378478985863-0.00280962502336023i"},{"$f":"IMSUM(AC9,IMPRODUCT($A$27,AC17))","v":"-0.00167980250172066-0.000251709718458771i"},{"$f":"IMSUM(AD17,IMPRODUCT($A$79,AD33))","v":"0.00131748090039877-0.000251709718458779i"},{"$f":"IMSUM(AE17,IMPRODUCT($A$105,AE49))","v":"-0.00380211934291096-0.000251709718458789i"},{"$f":"IMSUM(AF17,IMPRODUCT($A$118,AF81))","v":"0.00809169058521894-0.000251709718458783i"},8.0916905852189396E-3]
["0.740951125354959-0.671558954847018i",1.09375,{"$f":"計算!AO18","v":"0.00515141451076867+0.0403397477209371i"},{"$f":"C60","v":"0.000383395194594554-0.000020452408747372i"},{"$f":"IMSUM(D18,IMPRODUCT($A$131,D19))","v":"-0.00834294597295777+0.044968019113968i"},{"$f":"IMSUM(E16,IMPRODUCT($A$67,E18))","v":"0.0210751408397185-0.0330302064720782i"},{"$f":"IMSUM(F14,IMPRODUCT($A$35,F18))","v":"-0.0541053473117967-0.0541053473117967i"},{"$f":"IMSUM(G10,IMPRODUCT($A$19,G18))","v":"-0.898517858764255+0.000640419622334388i"},{"$f":"IMSUM(H18,IMPRODUCT($A$75,H34))","v":"-0.799294616801488+0.000640419622334832i"},{"$f":"IMSUM(I18,IMPRODUCT($A$103,I50))","v":"-0.600501388434435+0.000640419622334874i"},{"$f":"IMSUM(J18,IMPRODUCT($A$117,J82))","v":"-0.202218321207526+0.000640419622334652i"},-0.202218321207526,null,{"$f":"計算!AQ18","v":"-0.00399837027180727+0.00136751698884152i"},{"$f":"N60","v":"0.0000536074722742966+0.000016365964423416i"},{"$f":"IMSUM(O18,IMPRODUCT($A$131,O19))","v":"0.00377256390634512-0.00107691828670907i"},{"$f":"IMSUM(P16,IMPRODUCT($A$67,P18))","v":"-0.00494296651889755+0.0036752942651196i"},{"$f":"IMSUM(Q14,IMPRODUCT($A$35,Q18))","v":"0.00861826078401715+0.00861826078401715i"},{"$f":"IMSUM(R10,IMPRODUCT($A$19,R18))","v":"0.0147449837417027-0.000122764764542247i"},{"$f":"IMSUM(S18,IMPRODUCT($A$75,S34))","v":"0.0314308835473786-0.00012276476454225i"},{"$f":"IMSUM(T18,IMPRODUCT($A$103,T50))","v":"0.0310183348367582-0.000122764764542246i"},{"$f":"IMSUM(U18,IMPRODUCT($A$117,U82))","v":"0.0517878426235086-0.000122764764542255i"},5.17878426235086E-2,null,{"$f":"計算!AR18","v":"-0.000114463094357273+0.00155483793271434i"},{"$f":"Y60","v":"-0.0000017610164215351-1.99006186651739E-07i"},{"$f":"IMSUM(Z18,IMPRODUCT($A$131,Z19))","v":"0.00163362017676759+0.000991948602570428i"},{"$f":"IMSUM(AA16,IMPRODUCT($A$67,AA18))","v":"-0.0004957996459416-0.000524074993179745i"},{"$f":"IMSUM(AB14,IMPRODUCT($A$35,AB18))","v":"-0.0000282753472381449-0.0000282753472381449i"},{"$f":"IMSUM(AC10,IMPRODUCT($A$19,AC18))","v":"0.00159227073108529+0.00025170971845877i"},{"$f":"IMSUM(AD18,IMPRODUCT($A$75,AD34))","v":"0.0059016898225059+0.000251709718458776i"},{"$f":"IMSUM(AE18,IMPRODUCT($A$103,AE50))","v":"0.00603909144073059+0.000251709718458779i"},{"$f":"IMSUM(AF18,IMPRODUCT($A$117,AF82))","v":"0.0264616638088818+0.000251709718458855i"},2.6461663808881802E-2]
["0.707106781186548-0.707106781186547i",1.171875,{"$f":"計算!AO19","v":"0.0305939878671498+0.0101353639070611i"},{"$f":"IMCONJUGATE(C12)","v":"-0.00872634116755231+0.0449884715227154i"},{"$f":"IMSUM(D18,IMPRODUCT($A$67,D19))","v":"0.00910973636214686-0.0450089239314628i"},{"$f":"IMSUM(E17,IMPRODUCT($A$35,E19))","v":"-0.0322767290647021+0.00282807627974294i"},{"$f":"IMSUM(F15,IMPRODUCT($A$19,F19))","v":"-0.0179952658013098-0.0074538831534113i"},{"$f":"IMSUM(G11,IMPRODUCT($A$11,G19))","v":"-0.804099719874644-0.000640419622334471i"},{"$f":"IMSUM(H19,IMPRODUCT($A$71,H35))","v":"-0.611332737154077-0.000640419622335276i"},{"$f":"IMSUM(I19,IMPRODUCT($A$101,I51))","v":"-0.224089377004606-0.000640419622335311i"},{"$f":"IMSUM(J19,IMPRODUCT($A$116,J83))","v":"0.530124346080254-0.000640419622335922i"},0.53012434608025405,null,{"$f":"計算!AQ19","v":"0.000303126075208354+0.00197192815386144i"},{"$f":"IMCONJUGATE(N12)","v":"0.00371895643407082-0.00109328425113249i"},{"$f":"IMSUM(O18,IMPRODUCT($A$67,O19))","v":"-0.00366534896179652+0.00110965021555591i"},{"$f":"IMSUM(P17,IMPRODUCT($A$35,P19))","v":"-0.0000607523969965201+0.00626372494020705i"},{"$f":"IMSUM(Q15,IMPRODUCT($A$19,Q19))","v":"0.0106498888890252+0.00441132841560077i"},{"$f":"IMSUM(R11,IMPRODUCT($A$11,R19))","v":"0.0132283433493885+0.000122764764542255i"},{"$f":"IMSUM(S19,IMPRODUCT($A$71,S35))","v":"0.0255448005177322+0.000122764764542254i"},{"$f":"IMSUM(T19,IMPRODUCT($A$101,T51))","v":"0.019937298526426+0.000122764764542277i"},{"$f":"IMSUM(U19,IMPRODUCT($A$116,U83))","v":"0.0349453247009408+0.000122764764542378i"},3.4945324700940798E-2,null,{"$f":"計算!AR19","v":"0.000079193431342264+0.000305116054756733i"},{"$f":"IMCONJUGATE(Y12)","v":"0.00163538119318912+0.00099214760875708i"},{"$f":"IMSUM(Z18,IMPRODUCT($A$67,Z19))","v":"-0.00163714220961066-0.000992346614943732i"},{"$f":"IMSUM(AA17,IMPRODUCT($A$35,AA19))","v":"0.000145473915882258+0.00210501581900134i"},{"$f":"IMSUM(AB15,IMPRODUCT($A$19,AB19))","v":"0.00369635237152825+0.00153107928359696i"},{"$f":"IMSUM(AC11,IMPRODUCT($A$11,AC19))","v":"0.00527607513972664-0.000251709718458764i"},{"$f":"IMSUM(AD19,IMPRODUCT($A$71,AD35))","v":"0.0119526118440824-0.000251709718458769i"},{"$f":"IMSUM(AE19,IMPRODUCT($A$101,AE51))","v":"0.0177172218118195-0.000251709718458763i"},{"$f":"IMSUM(AF19,IMPRODUCT($A$116,AF83))","v":"0.0349277228516245-0.000251709718458782i"},3.4927722851624501E-2]
["0.671558954847018-0.740951125354959i",1.25,{"$f":"計算!AO20","v":"0.020261566608348-0.0127387491030641i"},{"$f":"C8","v":"-0.0920583901562353+0.124782328352261i"},{"$f":"IMSUM(D20,IMPRODUCT($A$131,D21))","v":"-0.0920583901562353+0.124782328352261i"},{"$f":"IMSUM(E20,IMPRODUCT($A$131,E22))","v":"-0.0989511099762223+0.123742184577869i"},{"$f":"IMSUM(F20,IMPRODUCT($A$131,F24))","v":"-0.11886176682302+0.135674024263258i"},{"$f":"IMSUM(G20,IMPRODUCT($A$131,G28))","v":"-0.23772353364604"},{"$f":"IMSUM(H4,IMPRODUCT($A$67,H20))","v":"-0.518236510773882+0.000640419622334486i"},{"$f":"IMSUM(I20,IMPRODUCT($A$99,I52))","v":"-0.038255120476208+0.000640419622334605i"},{"$f":"IMSUM(J20,IMPRODUCT($A$115,J84))","v":"0.910051167876959+0.000640419622335271i"},0.91005116787695906,null,{"$f":"計算!AQ20","v":"0.000258064352687363+0.0011328644021028i"},{"$f":"N8","v":"-0.00533255909734655-0.0060355386642557i"},{"$f":"IMSUM(O20,IMPRODUCT($A$131,O21))","v":"-0.00533255909734655-0.0060355386642557i"},{"$f":"IMSUM(P20,IMPRODUCT($A$131,P22))","v":"-0.00492742993243642-0.00552399292874291i"},{"$f":"IMSUM(Q20,IMPRODUCT($A$131,Q24))","v":"-0.00304384402073276-0.00514666425635433i"},{"$f":"IMSUM(R20,IMPRODUCT($A$131,R28))","v":"-0.00608768804146552"},{"$f":"IMSUM(S4,IMPRODUCT($A$67,S20))","v":"0.0114353901988993-0.000122764764542254i"},{"$f":"IMSUM(T20,IMPRODUCT($A$99,T52))","v":"-0.0099359868838123-0.000122764764542259i"},{"$f":"IMSUM(U20,IMPRODUCT($A$115,U84))","v":"-0.0165465406195877-0.000122764764542264i"},-1.6546540619587699E-2,null,{"$f":"計算!AR20","v":"0.000126871315015131+0.000772522857784527i"},{"$f":"Y8","v":"-0.00205320222615866+0.0000849236680051033i"},{"$f":"IMSUM(Z20,IMPRODUCT($A$131,Z21))","v":"-0.00205320222615866+0.0000849236680051032i"},{"$f":"IMSUM(AA20,IMPRODUCT($A$131,AA22))","v":"-0.00254871160709933+0.000763124844526418i"},{"$f":"IMSUM(AB20,IMPRODUCT($A$131,AB24))","v":"-0.00155141783793539+0.00207113284127811i"},{"$f":"IMSUM(AC20,IMPRODUCT($A$131,AC28))","v":"-0.00310283567587078"},{"$f":"IMSUM(AD4,IMPRODUCT($A$67,AD20))","v":"0.00827054214761228+0.000251709718458771i"},{"$f":"IMSUM(AE20,IMPRODUCT($A$99,AE52))","v":"0.0116037950726499+0.000251709718458772i"},{"$f":"IMSUM(AF20,IMPRODUCT($A$115,AF84))","v":"0.0183751889538362+0.000251709718458777i"},1.8375188953836202E-2]
["0.634393284163645-0.773010453362737i",1.328125,{"$f":"計算!AO21","v":"0.00363027281887156-0.0191031906703841i"},{"$f":"IMCONJUGATE(C64)","v":"-5.87024089065417E-19-5.58438693627085E-19i"},{"$f":"IMSUM(D20,IMPRODUCT($A$67,D21))","v":"-0.0920583901562353+0.124782328352261i"},{"$f":"IMSUM(E21,IMPRODUCT($A$99,E23))","v":"-0.0880017497495344+0.129833286376653i"},{"$f":"IMSUM(F21,IMPRODUCT($A$115,F25))","v":"-0.0956576989443255+0.151856857882995i"},{"$f":"IMSUM(G21,IMPRODUCT($A$123,G29))","v":"-0.242146992728958+0.048166031577581i"},{"$f":"IMSUM(H5,IMPRODUCT($A$63,H21))","v":"-0.504199346630478-0.000640419622333364i"},{"$f":"IMSUM(I21,IMPRODUCT($A$97,I53))","v":"-0.00977889322695102-0.000640419622332705i"},{"$f":"IMSUM(J21,IMPRODUCT($A$114,J85))","v":"0.973462060780571-0.000640419622331595i"},0.97346206078057096,null,{"$f":"計算!AQ21","v":"0.00155543796281271+0.00080699420888428i"},{"$f":"IMCONJUGATE(N64)","v":"-3.22433402851363E-19-3.5049283236711E-20i"},{"$f":"IMSUM(O20,IMPRODUCT($A$67,O21))","v":"-0.00533255909734655-0.0060355386642557i"},{"$f":"IMSUM(P21,IMPRODUCT($A$99,P23))","v":"-0.00422342908006287-0.00618513431187766i"},{"$f":"IMSUM(Q21,IMPRODUCT($A$115,Q25))","v":"-0.00279101014987632-0.00661145432657457i"},{"$f":"IMSUM(R21,IMPRODUCT($A$123,R29))","v":"-0.00283947326775974+0.000564806349801341i"},{"$f":"IMSUM(S5,IMPRODUCT($A$63,S21))","v":"0.00227047511046108+0.000122764764542259i"},{"$f":"IMSUM(T21,IMPRODUCT($A$97,T53))","v":"-0.0258962884653106+0.000122764764542256i"},{"$f":"IMSUM(U21,IMPRODUCT($A$114,U85))","v":"-0.0478025039658542+0.000122764764542384i"},-4.7802503965854198E-2,null,{"$f":"計算!AR21","v":"0.00135467084382064+0.00011046745532029i"},{"$f":"IMCONJUGATE(Y64)","v":"1.17937114328498E-19-6.09541141420598E-20i"},{"$f":"IMSUM(Z20,IMPRODUCT($A$67,Z21))","v":"-0.00205320222615866+0.0000849236680051034i"},{"$f":"IMSUM(AA21,IMPRODUCT($A$99,AA23))","v":"-0.00114059445834653+0.000755344972051536i"},{"$f":"IMSUM(AB21,IMPRODUCT($A$115,AB25))","v":"0.00013983491466568+0.000584855522450015i"},{"$f":"IMSUM(AC21,IMPRODUCT($A$123,AC29))","v":"0.0000452110114869169-0.000008993029326491i"},{"$f":"IMSUM(AD5,IMPRODUCT($A$63,AD21))","v":"0.00339954999213594-0.000251709718458774i"},{"$f":"IMSUM(AE21,IMPRODUCT($A$97,AE53))","v":"-0.00019000441299161-0.000251709718458773i"},{"$f":"IMSUM(AF21,IMPRODUCT($A$114,AF85))","v":"0.00124992329096594-0.000251709718458773i"},1.2499232909659399E-3]
["0.595699304492433-0.803207531480645i",1.40625,{"$f":"計算!AO22","v":"-0.011412981667107-0.0113888882069819i"},{"$f":"C40","v":"-0.000920880897797368-0.00254839209054651i"},{"$f":"IMSUM(D22,IMPRODUCT($A$131,D23))","v":"-0.00689271981998702-0.00104014377439215i"},{"$f":"IMSUM(E20,IMPRODUCT($A$67,E22))","v":"-0.0851656703362483+0.125822472126653i"},{"$f":"IMSUM(F22,IMPRODUCT($A$99,F26))","v":"-0.0740378255638794+0.148813247313023i"},{"$f":"IMSUM(G22,IMPRODUCT($A$115,G30))","v":"-0.231617330389834+0.0959390395281194i"},{"$f":"IMSUM(H6,IMPRODUCT($A$59,H22))","v":"-0.503051796515416+0.00064041962233438i"},{"$f":"IMSUM(I22,IMPRODUCT($A$95,I54))","v":"-0.00281083202406296+0.000640419622334713i"},{"$f":"IMSUM(J22,IMPRODUCT($A$113,J86))","v":"0.992181746799119+0.000640419622333936i"},0.99218174679911897,null,{"$f":"計算!AQ22","v":"0.00151692931233145-0.0011180570880022i"},{"$f":"N40","v":"0.000127766758644086-0.000298792140885444i"},{"$f":"IMSUM(O22,IMPRODUCT($A$131,O23))","v":"0.000405129164910135+0.000511545735512793i"},{"$f":"IMSUM(P20,IMPRODUCT($A$67,P22))","v":"-0.00573768826225668-0.00654708439976849i"},{"$f":"IMSUM(Q22,IMPRODUCT($A$99,Q26))","v":"-0.00447220611084933-0.00820013907008065i"},{"$f":"IMSUM(R22,IMPRODUCT($A$115,R30))","v":"-0.00183615943556804+0.00076056214089161i"},{"$f":"IMSUM(S6,IMPRODUCT($A$59,S22))","v":"0.0017601673431112-0.000122764764542255i"},{"$f":"IMSUM(T22,IMPRODUCT($A$95,T54))","v":"-0.0290435312254128-0.000122764764542258i"},{"$f":"IMSUM(U22,IMPRODUCT($A$113,U86))","v":"-0.0557332904815356-0.000122764764542242i"},-5.5733290481535601E-2,null,{"$f":"計算!AR22","v":"0.0000495611075982927-0.00147489059701716i"},{"$f":"Y40","v":"0.0000874559615528843-0.000117203295645406i"},{"$f":"IMSUM(Z22,IMPRODUCT($A$131,Z23))","v":"-0.000495509380940665+0.000678201176521315i"},{"$f":"IMSUM(AA20,IMPRODUCT($A$67,AA22))","v":"-0.001557692845218-0.000593277508516212i"},{"$f":"IMSUM(AB22,IMPRODUCT($A$99,AB26))","v":"-0.000812701343373075-0.0011151994125946i"},{"$f":"IMSUM(AC22,IMPRODUCT($A$115,AC30))","v":"-0.000598802907330698+0.00024803228540481i"},{"$f":"IMSUM(AD6,IMPRODUCT($A$59,AD22))","v":"0.000651937762719165+0.000251709718458776i"},{"$f":"IMSUM(AE22,IMPRODUCT($A$95,AE54))","v":"-0.00248255983297587+0.000251709718458769i"},{"$f":"IMSUM(AF22,IMPRODUCT($A$113,AF86))","v":"-0.00430870723501895+0.000251709718458765i"},-4.3087072350189498E-3]
["0.555570233019602-0.831469612302545i",1.484375,{"$f":"計算!AO23","v":"-0.00759749596553314+0.00400716911368676i"},{"$f":"IMCONJUGATE(C32)","v":"-0.00597183892218965+0.00150824831615436i"},{"$f":"IMSUM(D22,IMPRODUCT($A$67,D23))","v":"0.00505095802439228-0.00405664040670087i"},{"$f":"IMSUM(E21,IMPRODUCT($A$35,E23))","v":"-0.0961150305629362+0.119731370327869i"},{"$f":"IMSUM(F23,IMPRODUCT($A$83,F27))","v":"-0.0713449762367894+0.125777857212927i"},{"$f":"IMSUM(G23,IMPRODUCT($A$107,G31))","v":"-0.21485110454724+0.143558918391831i"},{"$f":"IMSUM(H7,IMPRODUCT($A$55,H23))","v":"-0.486260017630925-0.00064041962233394i"},{"$f":"IMSUM(I23,IMPRODUCT($A$93,I55))","v":"-0.00395753623839701-0.000640419622332913i"},{"$f":"IMSUM(J23,IMPRODUCT($A$112,J87))","v":"0.99131707743331-0.000640419622333912i"},0.99131707743330999,null,{"$f":"計算!AQ23","v":"-0.00079654069767678-0.000811585764232611i"},{"$f":"IMCONJUGATE(N32)","v":"0.000277362406266049+0.000810337876398237i"},{"$f":"IMSUM(O22,IMPRODUCT($A$67,O23))","v":"-0.000149595647621963-0.00110913001728368i"},{"$f":"IMSUM(P21,IMPRODUCT($A$35,P23))","v":"-0.00644168911463023-0.00588594301663374i"},{"$f":"IMSUM(Q23,IMPRODUCT($A$83,Q27))","v":"-0.00733301827301245-0.00810939149863218i"},{"$f":"IMSUM(R23,IMPRODUCT($A$107,R31))","v":"-0.00264714204861749+0.00176876376842411i"},{"$f":"IMSUM(S7,IMPRODUCT($A$55,S23))","v":"0.00583539296874141+0.000122764764542273i"},{"$f":"IMSUM(T23,IMPRODUCT($A$93,T55))","v":"-0.0291683636405373+0.000122764764542263i"},{"$f":"IMSUM(U23,IMPRODUCT($A$112,U87))","v":"-0.0591319271579337+0.000122764764542199i"},-5.9131927157933702E-2,null,{"$f":"計算!AR23","v":"-0.000374740909291347+0.00024985752189614i"},{"$f":"IMCONJUGATE(Y32)","v":"-0.000582965342493549+0.000795404472166721i"},{"$f":"IMSUM(Z22,IMPRODUCT($A$67,Z23))","v":"0.000670421304046433-0.000912607767812127i"},{"$f":"IMSUM(AA21,IMPRODUCT($A$35,AA23))","v":"-0.00296580999397079-0.00058549763604133i"},{"$f":"IMSUM(AB23,IMPRODUCT($A$83,AB27))","v":"-0.00240204799271656-0.00180395289697238i"},{"$f":"IMSUM(AC23,IMPRODUCT($A$107,AC31))","v":"-0.00165463680414779+0.0011055929660466i"},{"$f":"IMSUM(AD7,IMPRODUCT($A$55,AD23))","v":"0.00191668950819349-0.000251709718458764i"},{"$f":"IMSUM(AE23,IMPRODUCT($A$93,AE55))","v":"-0.00309561681348896-0.000251709718458774i"},{"$f":"IMSUM(AF23,IMPRODUCT($A$112,AF87))","v":"-0.00623564238242745-0.000251709718458744i"},-6.2356423824274504E-3]
["0.514102744193222-0.857728610000272i",1.5625,{"$f":"計算!AO24","v":"3.31049852557947E-19+4.835393274808E-18i"},{"$f":"C24","v":"3.31049852557947E-19+4.835393274808E-18i"},{"$f":"IMSUM(D24,IMPRODUCT($A$131,D25))","v":"0.00154005916978626+0.000401997456510181i"},{"$f":"IMSUM(E24,IMPRODUCT($A$131,E26))","v":"-0.0199106568467972+0.0119318396853893i"},{"$f":"IMSUM(F20,IMPRODUCT($A$67,F24))","v":"-0.0790404531294251+0.11181034489248i"},{"$f":"IMSUM(G24,IMPRODUCT($A$99,G32))","v":"-0.190850798021905+0.190850798021905i"},{"$f":"IMSUM(H8,IMPRODUCT($A$51,H24))","v":"-0.461658691732022+0.000640419622334684i"},{"$f":"IMSUM(I24,IMPRODUCT($A$91,I56))","v":"-0.00354359368145801+0.000640419622335073i"},{"$f":"IMSUM(J24,IMPRODUCT($A$111,J88))","v":"0.993102669366159+0.000640419622335462i"},0.99310266936615899,null,{"$f":"計算!AQ24","v":"-3.10984031188392E-19+2.35628527303273E-19i"},{"$f":"N24","v":"-3.10984031188392E-19+2.35628527303273E-19i"},{"$f":"IMSUM(O24,IMPRODUCT($A$131,O25))","v":"0.000115265620695752-0.000444076739509388i"},{"$f":"IMSUM(P24,IMPRODUCT($A$131,P26))","v":"0.00188358591170366+0.000377328672388576i"},{"$f":"IMSUM(Q20,IMPRODUCT($A$67,Q24))","v":"-0.00681101584414008-0.00590132160113149i"},{"$f":"IMSUM(R24,IMPRODUCT($A$99,R32))","v":"-0.00090969424300859+0.00090969424300859i"},{"$f":"IMSUM(S8,IMPRODUCT($A$51,S24))","v":"0.00351637167756668-0.000122764764542254i"},{"$f":"IMSUM(T24,IMPRODUCT($A$91,T56))","v":"-0.0292638065776347-0.000122764764542301i"},{"$f":"IMSUM(U24,IMPRODUCT($A$111,U88))","v":"-0.0594492848322689-0.000122764764542343i"},-5.9449284832268898E-2,null,{"$f":"計算!AR24","v":"-2.97274302658943E-20+2.57472686770739E-20i"},{"$f":"Y24","v":"-2.97274302658943E-20+2.57472686770739E-20i"},{"$f":"IMSUM(Z24,IMPRODUCT($A$131,Z25))","v":"0.000237685932542776+0.000281508247453385i"},{"$f":"IMSUM(AA24,IMPRODUCT($A$131,AA26))","v":"0.000997293769163939+0.00130800799675169i"},{"$f":"IMSUM(AB20,IMPRODUCT($A$67,AB24))","v":"-0.00354600537626327-0.000544883152225272i"},{"$f":"IMSUM(AC24,IMPRODUCT($A$99,AC32))","v":"-0.003001122224038+0.003001122224038i"},{"$f":"IMSUM(AD8,IMPRODUCT($A$51,AD24))","v":"0.00646969872142173+0.000251709718458774i"},{"$f":"IMSUM(AE24,IMPRODUCT($A$91,AE56))","v":"-0.00298866978550778+0.00025170971845877i"},{"$f":"IMSUM(AF24,IMPRODUCT($A$111,AF88))","v":"-0.00696799369048708+0.000251709718458773i"},-6.9679936904870803E-3]
["0.471396736825998-0.881921264348355i",1.640625,{"$f":"計算!AO25","v":"-0.00366020768968545-0.00283314770006643i"},{"$f":"IMCONJUGATE(C48)","v":"0.00154005916978626+0.000401997456510176i"},{"$f":"IMSUM(D24,IMPRODUCT($A$67,D25))","v":"-0.00154005916978626-0.000401997456510171i"},{"$f":"IMSUM(E25,IMPRODUCT($A$99,E27))","v":"0.0101594431660246+0.0209865903501375i"},{"$f":"IMSUM(F21,IMPRODUCT($A$51,F25))","v":"-0.0803458005547433+0.107809714870311i"},{"$f":"IMSUM(G25,IMPRODUCT($A$91,G33))","v":"-0.149201982796892+0.223296547254946i"},{"$f":"IMSUM(H9,IMPRODUCT($A$47,H25))","v":"-0.458391277982358-0.000640419622334482i"},{"$f":"IMSUM(I25,IMPRODUCT($A$89,I57))","v":"-0.00310836228205202-0.00064041962233451i"},{"$f":"IMSUM(J25,IMPRODUCT($A$110,J89))","v":"0.993720110177291-0.000640419622333178i"},0.99372011017729101,null,{"$f":"計算!AQ25","v":"0.000215503780036323-0.00023090080962016i"},{"$f":"IMCONJUGATE(N48)","v":"0.000115265620695752-0.000444076739509388i"},{"$f":"IMSUM(O24,IMPRODUCT($A$67,O25))","v":"-0.000115265620695752+0.000444076739509388i"},{"$f":"IMSUM(P25,IMPRODUCT($A$99,P27))","v":"0.000711419365687156-0.00131432691238262i"},{"$f":"IMSUM(Q21,IMPRODUCT($A$51,Q25))","v":"-0.00565584801024942-0.00575881429718075i"},{"$f":"IMSUM(R25,IMPRODUCT($A$91,R33))","v":"0.00182900197994676-0.0027372949031149i"},{"$f":"IMSUM(S9,IMPRODUCT($A$47,S25))","v":"-0.00678427714007672+0.000122764764542251i"},{"$f":"IMSUM(T25,IMPRODUCT($A$89,T57))","v":"-0.0299910069106455+0.000122764764542296i"},{"$f":"IMSUM(U25,IMPRODUCT($A$110,U89))","v":"-0.0600769947517924+0.000122764764542315i"},-6.0076994751792401E-2,null,{"$f":"計算!AR25","v":"0.000171229519974761-0.000124084935854425i"},{"$f":"IMCONJUGATE(Y48)","v":"0.000237685932542776+0.000281508247453385i"},{"$f":"IMSUM(Z24,IMPRODUCT($A$67,Z25))","v":"-0.000237685932542776-0.000281508247453385i"},{"$f":"IMSUM(AA25,IMPRODUCT($A$99,AA27))","v":"0.000784846046553374-0.00102595453842137i"},{"$f":"IMSUM(AB21,IMPRODUCT($A$51,AB25))","v":"-0.00242102383135874+0.000925834421653057i"},{"$f":"IMSUM(AC25,IMPRODUCT($A$91,AC33))","v":"-0.00234989759439638+0.00351687028144739i"},{"$f":"IMSUM(AD9,IMPRODUCT($A$47,AD25))","v":"0.00863213384386664-0.000251709718458766i"},{"$f":"IMSUM(AE25,IMPRODUCT($A$89,AE57))","v":"-0.00332659249860366-0.000251709718458747i"},{"$f":"IMSUM(AF25,IMPRODUCT($A$110,AF89))","v":"-0.00690081790435864-0.000251709718458762i"},-6.9008179043586401E-3]
["0.427555093430282-0.903989293123443i",1.71875,{"$f":"計算!AO26","v":"-0.00841266200852364+0.000966350018306506i"},{"$f":"C56","v":"-0.0000310641049679025-0.0000848300534659311i"},{"$f":"IMSUM(D26,IMPRODUCT($A$131,D27))","v":"-0.0214507160165835+0.0115298422288791i"},{"$f":"IMSUM(E24,IMPRODUCT($A$67,E26))","v":"0.0229907751863698-0.0111278447723689i"},{"$f":"IMSUM(F22,IMPRODUCT($A$35,F26))","v":"-0.0962935151086172+0.102831696940283i"},{"$f":"IMSUM(G26,IMPRODUCT($A$83,G34))","v":"-0.100916707818419+0.24363448468527i"},{"$f":"IMSUM(H10,IMPRODUCT($A$43,H26))","v":"-0.481776760888162+0.0006404196223345i"},{"$f":"IMSUM(I26,IMPRODUCT($A$87,I58))","v":"-0.00420380691828204+0.000640419622334278i"},{"$f":"IMSUM(J26,IMPRODUCT($A$109,J90))","v":"0.991475870443507+0.000640419622333612i"},0.99147587044350705,null,{"$f":"計算!AQ26","v":"-0.0000444147770161719-0.0007508476291151i"},{"$f":"N56","v":"4.95831955795085E-06-2.63978724247169E-06i"},{"$f":"IMSUM(O26,IMPRODUCT($A$131,O27))","v":"0.00176832029100791+0.000821405411897964i"},{"$f":"IMSUM(P24,IMPRODUCT($A$67,P26))","v":"-0.00165305467031216-0.00126548215140735i"},{"$f":"IMSUM(Q22,IMPRODUCT($A$35,Q26))","v":"-0.00700317041366403-0.00489402972945633i"},{"$f":"IMSUM(R26,IMPRODUCT($A$83,R34))","v":"0.00140942048466994-0.00340264204917663i"},{"$f":"IMSUM(S10,IMPRODUCT($A$43,S26))","v":"-0.0133141320423634-0.000122764764542265i"},{"$f":"IMSUM(T26,IMPRODUCT($A$87,T58))","v":"-0.0290508966258593-0.000122764764542287i"},{"$f":"IMSUM(U26,IMPRODUCT($A$109,U90))","v":"-0.0593305218905285-0.000122764764542259i"},-5.9330521890528502E-2,null,{"$f":"計算!AR26","v":"-0.000234298360954801-0.000605733852902518i"},{"$f":"Y56","v":"7.58077282658752E-06+1.98388510108131E-06i"},{"$f":"IMSUM(Z26,IMPRODUCT($A$131,Z27))","v":"0.000759607836621163+0.00102649974929831i"},{"$f":"IMSUM(AA24,IMPRODUCT($A$67,AA26))","v":"-0.000521921904078387-0.000744991501844925i"},{"$f":"IMSUM(AB22,IMPRODUCT($A$35,AB26))","v":"-0.00230268434706292-0.000071355604437825i"},{"$f":"IMSUM(AC26,IMPRODUCT($A$83,AC34))","v":"-0.00062398459854896+0.00150643208052883i"},{"$f":"IMSUM(AD10,IMPRODUCT($A$43,AD26))","v":"0.00330279582440992+0.00025170971845877i"},{"$f":"IMSUM(AE26,IMPRODUCT($A$87,AE58))","v":"-0.00408050662167118+0.000251709718458772i"},{"$f":"IMSUM(AF26,IMPRODUCT($A$109,AF90))","v":"-0.00772450447943401+0.000251709718458767i"},-7.7245044794340099E-3]
["0.38268343236509-0.923879532511287i",1.796875,{"$f":"計算!AO27","v":"-0.00679426524615061+0.0121883210447786i"},{"$f":"IMCONJUGATE(C16)","v":"-0.0214196519116156+0.011614672282345i"},{"$f":"IMSUM(D26,IMPRODUCT($A$67,D27))","v":"0.0213885878066477-0.0116995023358109i"},{"$f":"IMSUM(E25,IMPRODUCT($A$35,E27))","v":"-0.0132395615055972-0.0217905852631579i"},{"$f":"IMSUM(F23,IMPRODUCT($A$19,F27))","v":"-0.120885084889083+0.113684883442811i"},{"$f":"IMSUM(G27,IMPRODUCT($A$75,G35))","v":"-0.05270715057809+0.264976739618654i"},{"$f":"IMSUM(H11,IMPRODUCT($A$39,H27))","v":"-0.494975908337545-0.000640419622334044i"},{"$f":"IMSUM(I27,IMPRODUCT($A$85,I59))","v":"-0.00172297222539602-0.0006404196223341i"},{"$f":"IMSUM(J27,IMPRODUCT($A$108,J91))","v":"0.995629583292948-0.0006404196223336i"},0.99562958329294804,null,{"$f":"計算!AQ27","v":"-0.00147233634889993-0.0010475830987843i"},{"$f":"IMCONJUGATE(N16)","v":"0.00176336197144996+0.000824045199140436i"},{"$f":"IMSUM(O26,IMPRODUCT($A$67,O27))","v":"-0.00175840365189201-0.000826684986382908i"},{"$f":"IMSUM(P25,IMPRODUCT($A$35,P27))","v":"-0.00094195060707866+0.0022024803914014i"},{"$f":"IMSUM(Q23,IMPRODUCT($A$19,Q27))","v":"-0.00555035995624801-0.0036624945346353i"},{"$f":"IMSUM(R27,IMPRODUCT($A$75,R35))","v":"0.00097907998493239-0.00492216747420057i"},{"$f":"IMSUM(S11,IMPRODUCT($A$39,S27))","v":"-0.01484496842145+0.000122764764542257i"},{"$f":"IMSUM(T27,IMPRODUCT($A$85,T59))","v":"-0.0311873296754322+0.000122764764542271i"},{"$f":"IMSUM(U27,IMPRODUCT($A$108,U91))","v":"-0.0605730599815331+0.000122764764542309i"},-6.0573059981533103E-2,null,{"$f":"計算!AR27","v":"-0.00162351262571696+0.000545827967219257i"},{"$f":"IMCONJUGATE(Y16)","v":"0.000752027063794575+0.00102451586419723i"},{"$f":"IMSUM(Z26,IMPRODUCT($A$67,Z27))","v":"-0.000744446290967988-0.00102253197909615i"},{"$f":"IMSUM(AA25,IMPRODUCT($A$35,AA27))","v":"-0.00126021791163893+0.000462938043514603i"},{"$f":"IMSUM(AB23,IMPRODUCT($A$19,AB27))","v":"-0.00352957199522502+0.00063295762488972i"},{"$f":"IMSUM(AC27,IMPRODUCT($A$75,AC35))","v":"-0.00051089506674606+0.00256844294538469i"},{"$f":"IMSUM(AD11,IMPRODUCT($A$39,AD27))","v":"-0.00010696909574554-0.000251709718458764i"},{"$f":"IMSUM(AE27,IMPRODUCT($A$85,AE59))","v":"-0.00239285467877272-0.000251709718458756i"},{"$f":"IMSUM(AF27,IMPRODUCT($A$108,AF91))","v":"-0.00599941940876133-0.000251709718458754i"},-5.9994194087613301E-3]
["0.33688985339222-0.941544065183021i",1.875,{"$f":"計算!AO28","v":"0.0127321948667607+0.0119378126418898i"},{"$f":"C16","v":"-0.0214196519116156-0.011614672282345i"},{"$f":"IMSUM(D28,IMPRODUCT($A$131,D29))","v":"-0.0214507160165835-0.0115298422288791i"},{"$f":"IMSUM(E28,IMPRODUCT($A$131,E30))","v":"-0.0199106568467972-0.0119318396853893i"},{"$f":"IMSUM(F28,IMPRODUCT($A$131,F32))","v":"-0.11886176682302-0.135674024263258i"},{"$f":"IMSUM(G20,IMPRODUCT($A$67,G28))","v":"0.271348048526516i"},{"$f":"IMSUM(H12,IMPRODUCT($A$35,H28))","v":"-0.502168991468618+0.000640419622334471i"},{"$f":"IMSUM(I28,IMPRODUCT($A$83,I60))","v":"-0.00747190656165603+0.000640419622334804i"},{"$f":"IMSUM(J28,IMPRODUCT($A$107,J92))","v":"0.988862866569361+0.000640419622335026i"},0.98886286656936095,null,{"$f":"計算!AQ28","v":"-0.00117040261255243+0.00259837597841053i"},{"$f":"N16","v":"0.00176336197144996-0.000824045199140436i"},{"$f":"IMSUM(O28,IMPRODUCT($A$131,O29))","v":"0.00176832029100791-0.000821405411897964i"},{"$f":"IMSUM(P28,IMPRODUCT($A$131,P30))","v":"0.00188358591170366-0.000377328672388576i"},{"$f":"IMSUM(Q28,IMPRODUCT($A$131,Q32))","v":"-0.00304384402073276+0.00514666425635433i"},{"$f":"IMSUM(R20,IMPRODUCT($A$67,R28))","v":"-0.0102933285127087i"},{"$f":"IMSUM(S12,IMPRODUCT($A$35,S28))","v":"-0.0153542715304457-0.000122764764542258i"},{"$f":"IMSUM(T28,IMPRODUCT($A$83,T60))","v":"-0.0301212886134935-0.000122764764542268i"},{"$f":"IMSUM(U28,IMPRODUCT($A$107,U92))","v":"-0.0594435895868476-0.000122764764542315i"},-5.9443589586847603E-2,null,{"$f":"計算!AR28","v":"0.00113782053082599+0.000467873609390683i"},{"$f":"Y16","v":"0.000752027063794575-0.00102451586419723i"},{"$f":"IMSUM(Z28,IMPRODUCT($A$131,Z29))","v":"0.000759607836621163-0.00102649974929831i"},{"$f":"IMSUM(AA28,IMPRODUCT($A$131,AA30))","v":"0.000997293769163939-0.00130800799675169i"},{"$f":"IMSUM(AB28,IMPRODUCT($A$131,AB32))","v":"-0.00155141783793539-0.00207113284127811i"},{"$f":"IMSUM(AC20,IMPRODUCT($A$67,AC28))","v":"0.00414226568255622i"},{"$f":"IMSUM(AD12,IMPRODUCT($A$35,AD28))","v":"-0.0017757906760766+0.000251709718458769i"},{"$f":"IMSUM(AE28,IMPRODUCT($A$83,AE60))","v":"-0.0036755548550117+0.000251709718458768i"},{"$f":"IMSUM(AF28,IMPRODUCT($A$107,AF92))","v":"-0.00783325153411369+0.000251709718458761i"},-7.8332515341136902E-3]
["0.290284677254462-0.956940335732209i",1.953125,{"$f":"計算!AO29","v":"0.0111490843052243-0.00525279745566433i"},{"$f":"IMCONJUGATE(C56)","v":"-0.0000310641049679025+0.0000848300534659311i"},{"$f":"IMSUM(D28,IMPRODUCT($A$67,D29))","v":"-0.0213885878066477-0.0116995023358109i"},{"$f":"IMSUM(E29,IMPRODUCT($A$99,E31))","v":"-0.0209865903501375-0.0101594431660246i"},{"$f":"IMSUM(F29,IMPRODUCT($A$115,F33))","v":"-0.175019221574982-0.0397388063825137i"},{"$f":"IMSUM(G21,IMPRODUCT($A$59,G29))","v":"0.0508315948403065+0.255547684188409i"},{"$f":"IMSUM(H13,IMPRODUCT($A$31,H29))","v":"-0.501140799288329-0.000640419622335293i"},{"$f":"IMSUM(I29,IMPRODUCT($A$81,I61))","v":"-0.00313398335600401-0.000640419622334516i"},{"$f":"IMSUM(J29,IMPRODUCT($A$106,J93))","v":"0.99600962688185-0.000640419622334516i"},0.99600962688185002,null,{"$f":"計算!AQ29","v":"0.00109783743126363+0.000552302761120559i"},{"$f":"IMCONJUGATE(N56)","v":"4.95831955795085E-06+2.63978724247169E-06i"},{"$f":"IMSUM(O28,IMPRODUCT($A$67,O29))","v":"0.00175840365189201-0.000826684986382908i"},{"$f":"IMSUM(P29,IMPRODUCT($A$99,P31))","v":"0.00131432691238262-0.000711419365687156i"},{"$f":"IMSUM(Q29,IMPRODUCT($A$115,Q33))","v":"0.00270146198448798+0.00664854639116404i"},{"$f":"IMSUM(R21,IMPRODUCT($A$59,R29))","v":"-0.0027425470319929-0.0137877150029505i"},{"$f":"IMSUM(S13,IMPRODUCT($A$31,S29))","v":"-0.0151353232716545+0.000122764764542247i"},{"$f":"IMSUM(T29,IMPRODUCT($A$81,T61))","v":"-0.0294794978583281+0.000122764764542171i"},{"$f":"IMSUM(U29,IMPRODUCT($A$106,U93))","v":"-0.0619088003810126+0.000122764764542086i"},-6.1908800381012603E-2,null,{"$f":"計算!AR29","v":"0.0000475901160625807+0.0000309301628913219i"},{"$f":"IMCONJUGATE(Y56)","v":"7.58077282658752E-06-1.98388510108131E-06i"},{"$f":"IMSUM(Z28,IMPRODUCT($A$67,Z29))","v":"0.000744446290967988-0.00102253197909615i"},{"$f":"IMSUM(AA29,IMPRODUCT($A$99,AA31))","v":"0.00102595453842137-0.000784846046553374i"},{"$f":"IMSUM(AB29,IMPRODUCT($A$115,AB33))","v":"-0.00031467708953206-0.000512433522345552i"},{"$f":"IMSUM(AC21,IMPRODUCT($A$59,AC29))","v":"0.000234458817844443+0.00117870407422652i"},{"$f":"IMSUM(AD13,IMPRODUCT($A$31,AD29))","v":"-0.00293432901849632-0.000251709718458767i"},{"$f":"IMSUM(AE29,IMPRODUCT($A$81,AE61))","v":"-0.00480819594939996-0.000251709718458769i"},{"$f":"IMSUM(AF29,IMPRODUCT($A$106,AF93))","v":"-0.00616503412057111-0.000251709718458763i"},-6.1650341205711102E-3]
["0.242980179903264-0.970031253194544i",2.03125,{"$f":"計算!AO30","v":"0.00263750107411511-0.00809179064400736i"},{"$f":"C48","v":"0.00154005916978626-0.000401997456510176i"},{"$f":"IMSUM(D30,IMPRODUCT($A$131,D31))","v":"0.00154005916978626-0.000401997456510181i"},{"$f":"IMSUM(E28,IMPRODUCT($A$67,E30))","v":"-0.0229907751863698-0.0111278447723689i"},{"$f":"IMSUM(F30,IMPRODUCT($A$99,F34))","v":"-0.148813247313023+0.0740378255638794i"},{"$f":"IMSUM(G22,IMPRODUCT($A$51,G30))","v":"0.0835416792620756+0.201687455097927i"},{"$f":"IMSUM(H14,IMPRODUCT($A$27,H30))","v":"-0.569261691999788+0.000640419622334814i"},{"$f":"IMSUM(I30,IMPRODUCT($A$79,I62))","v":"-0.138673462913925+0.000640419622335092i"},{"$f":"IMSUM(J30,IMPRODUCT($A$105,J94))","v":"0.719689023934117+0.000640419622336813i"},0.71968902393411704,null,{"$f":"計算!AQ30","v":"0.000777291235438652+0.000111741673703887i"},{"$f":"N48","v":"0.000115265620695752+0.000444076739509388i"},{"$f":"IMSUM(O30,IMPRODUCT($A$131,O31))","v":"0.000115265620695752+0.000444076739509388i"},{"$f":"IMSUM(P28,IMPRODUCT($A$67,P30))","v":"0.00165305467031216-0.00126548215140735i"},{"$f":"IMSUM(Q30,IMPRODUCT($A$99,Q34))","v":"0.00820013907008065+0.00447220611084933i"},{"$f":"IMSUM(R22,IMPRODUCT($A$51,R30))","v":"-0.00710825278613062-0.0171608402810529i"},{"$f":"IMSUM(S14,IMPRODUCT($A$27,S30))","v":"-0.0223875555669898-0.000122764764542267i"},{"$f":"IMSUM(T30,IMPRODUCT($A$79,T62))","v":"-0.0442080996233205-0.000122764764542231i"},{"$f":"IMSUM(U30,IMPRODUCT($A$105,U94))","v":"-0.0915402532669181-0.000122764764542288i"},-9.1540253266918101E-2,null,{"$f":"計算!AR30","v":"0.000466220448686679+0.000192125267671475i"},{"$f":"Y48","v":"0.000237685932542776-0.000281508247453385i"},{"$f":"IMSUM(Z30,IMPRODUCT($A$131,Z31))","v":"0.000237685932542776-0.000281508247453385i"},{"$f":"IMSUM(AA28,IMPRODUCT($A$67,AA30))","v":"0.000521921904078387-0.000744991501844925i"},{"$f":"IMSUM(AB30,IMPRODUCT($A$99,AB34))","v":"0.0011151994125946+0.000812701343373075i"},{"$f":"IMSUM(AC22,IMPRODUCT($A$51,AC30))","v":"-0.00102659977941545-0.00247843111059401i"},{"$f":"IMSUM(AD14,IMPRODUCT($A$27,AD30))","v":"-0.0055634774298885+0.000251709718458767i"},{"$f":"IMSUM(AE30,IMPRODUCT($A$79,AE62))","v":"-0.0107885885092933+0.000251709718458765i"},{"$f":"IMSUM(AF30,IMPRODUCT($A$105,AF94))","v":"-0.0189114538672988+0.000251709718458756i"},-1.89114538672988E-2]
["0.195090322016128-0.98078528040323i",2.109375,{"$f":"計算!AO31","v":"-0.00278262917762742-0.00634905387712813i"},{"$f":"IMCONJUGATE(C24)","v":"3.31049852557947E-19-4.835393274808E-18i"},{"$f":"IMSUM(D30,IMPRODUCT($A$67,D31))","v":"0.00154005916978626-0.000401997456510171i"},{"$f":"IMSUM(E29,IMPRODUCT($A$35,E31))","v":"-0.0217905852631579-0.0132395615055972i"},{"$f":"IMSUM(F31,IMPRODUCT($A$83,F35))","v":"-0.0384898592577475+0.139386892259001i"},{"$f":"IMSUM(G23,IMPRODUCT($A$43,G31))","v":"0.0721611520736616+0.107996796034022i"},{"$f":"IMSUM(H15,IMPRODUCT($A$23,H31))","v":"-0.738380870961783-0.000640419622334773i"},{"$f":"IMSUM(I31,IMPRODUCT($A$77,I63))","v":"-0.477111618939462-0.000640419622334065i"},{"$f":"IMSUM(J31,IMPRODUCT($A$104,J95))","v":"0.040648401641031-0.000640419622335023i"},4.0648401641031E-2,null,{"$f":"計算!AQ31","v":"0.000505923782786-0.000251324896236985i"},{"$f":"IMCONJUGATE(N24)","v":"-3.10984031188392E-19-2.35628527303273E-19i"},{"$f":"IMSUM(O30,IMPRODUCT($A$67,O31))","v":"0.000115265620695752+0.000444076739509388i"},{"$f":"IMSUM(P29,IMPRODUCT($A$35,P31))","v":"0.0022024803914014-0.00094195060707866i"},{"$f":"IMSUM(Q31,IMPRODUCT($A$83,Q35))","v":"0.0109194326673913-0.000548978772567372i"},{"$f":"IMSUM(R23,IMPRODUCT($A$43,R31))","v":"-0.0120188944974074-0.0179875467656885i"},{"$f":"IMSUM(S15,IMPRODUCT($A$23,S31))","v":"-0.0287943428777973+0.000122764764542233i"},{"$f":"IMSUM(T31,IMPRODUCT($A$77,T63))","v":"-0.0572030769408401+0.000122764764542285i"},{"$f":"IMSUM(U31,IMPRODUCT($A$104,U95))","v":"-0.112721911831289+0.000122764764542266i"},-0.112721911831289,null,{"$f":"計算!AR31","v":"0.000412795279284489-0.000323113511595995i"},{"$f":"IMCONJUGATE(Y24)","v":"-2.97274302658943E-20-2.57472686770739E-20i"},{"$f":"IMSUM(Z30,IMPRODUCT($A$67,Z31))","v":"0.000237685932542776-0.000281508247453385i"},{"$f":"IMSUM(AA29,IMPRODUCT($A$35,AA31))","v":"0.000462938043514603-0.00126021791163893i"},{"$f":"IMSUM(AB31,IMPRODUCT($A$83,AB35))","v":"0.00297409175077569+0.00042291709799513i"},{"$f":"IMSUM(AC23,IMPRODUCT($A$43,AC31))","v":"-0.00314945918128533-0.00471349875999136i"},{"$f":"IMSUM(AD15,IMPRODUCT($A$23,AD31))","v":"-0.00842681923501652-0.000251709718458768i"},{"$f":"IMSUM(AE31,IMPRODUCT($A$77,AE63))","v":"-0.0165661490659566-0.000251709718458767i"},{"$f":"IMSUM(AF31,IMPRODUCT($A$104,AF95))","v":"-0.0365902123644944-0.000251709718458765i"},-3.6590212364494397E-2]
["0.146730474455362-0.989176509964781i",2.1875,{"$f":"計算!AO32","v":"-0.00597183892218965-0.00150824831615436i"},{"$f":"C32","v":"-0.00597183892218965-0.00150824831615436i"},{"$f":"IMSUM(D32,IMPRODUCT($A$131,D33))","v":"-0.00689271981998702+0.00104014377439215i"},{"$f":"IMSUM(E32,IMPRODUCT($A$131,E34))","v":"-0.0989511099762223-0.123742184577869i"},{"$f":"IMSUM(F28,IMPRODUCT($A$67,F32))","v":"0.0790404531294251+0.11181034489248i"},{"$f":"IMSUM(G24,IMPRODUCT($A$35,G32))","v":"0.0327698917630549+0.0327698917630549i"},{"$f":"IMSUM(H16,IMPRODUCT($A$19,H32))","v":"-0.912842180338949+0.000640419622334439i"},{"$f":"IMSUM(I32,IMPRODUCT($A$75,I64))","v":"-0.825556593095105+0.000640419622334484i"},{"$f":"IMSUM(J32,IMPRODUCT($A$103,J96))","v":"-0.649823159105623+0.000640419622334484i"},-0.64982315910562305,null,{"$f":"計算!AQ32","v":"0.000277362406266049-0.000810337876398237i"},{"$f":"N32","v":"0.000277362406266049-0.000810337876398237i"},{"$f":"IMSUM(O32,IMPRODUCT($A$131,O33))","v":"0.000405129164910135-0.000511545735512793i"},{"$f":"IMSUM(P32,IMPRODUCT($A$131,P34))","v":"-0.00492742993243642+0.00552399292874291i"},{"$f":"IMSUM(Q28,IMPRODUCT($A$67,Q32))","v":"0.00681101584414008-0.00590132160113149i"},{"$f":"IMSUM(R24,IMPRODUCT($A$35,R32))","v":"-0.0127123374452716-0.0127123374452716i"},{"$f":"IMSUM(S16,IMPRODUCT($A$19,S32))","v":"-0.021833921049881-0.000122764764542268i"},{"$f":"IMSUM(T32,IMPRODUCT($A$75,T64))","v":"-0.0438038287592532-0.000122764764542248i"},{"$f":"IMSUM(U32,IMPRODUCT($A$103,U96))","v":"-0.0855099318394343-0.000122764764542255i"},-8.5509931839434297E-2,null,{"$f":"計算!AR32","v":"-0.000582965342493549-0.000795404472166721i"},{"$f":"Y32","v":"-0.000582965342493549-0.000795404472166721i"},{"$f":"IMSUM(Z32,IMPRODUCT($A$131,Z33))","v":"-0.000495509380940665-0.000678201176521315i"},{"$f":"IMSUM(AA32,IMPRODUCT($A$131,AA34))","v":"-0.00254871160709933-0.000763124844526419i"},{"$f":"IMSUM(AB28,IMPRODUCT($A$67,AB32))","v":"0.00354600537626327-0.000544883152225271i"},{"$f":"IMSUM(AC24,IMPRODUCT($A$35,AC32))","v":"-0.00409088852848854-0.00409088852848854i"},{"$f":"IMSUM(AD16,IMPRODUCT($A$19,AD32))","v":"-0.00939920791714157+0.000251709718458766i"},{"$f":"IMSUM(AE32,IMPRODUCT($A$75,AE64))","v":"-0.0182098181827972+0.000251709718458769i"},{"$f":"IMSUM(AF32,IMPRODUCT($A$103,AF96))","v":"-0.0407678444521152+0.000251709718458756i"},-4.0767844452115197E-2]
["0.0980171403295608-0.995184726672197i",2.265625,{"$f":"計算!AO33","v":"-0.00160570217756221+0.00329628043831523i"},{"$f":"IMCONJUGATE(C40)","v":"-0.000920880897797368+0.00254839209054651i"},{"$f":"IMSUM(D32,IMPRODUCT($A$67,D33))","v":"-0.00505095802439228-0.00405664040670087i"},{"$f":"IMSUM(E33,IMPRODUCT($A$99,E35))","v":"-0.129833286376653+0.0880017497495344i"},{"$f":"IMSUM(F29,IMPRODUCT($A$51,F33))","v":"0.133046040874707+0.0194199200504645i"},{"$f":"IMSUM(G25,IMPRODUCT($A$27,G33))","v":"-0.0114896183125946-0.007677117514324i"},{"$f":"IMSUM(H17,IMPRODUCT($A$15,H33))","v":"-0.986367742907484-0.000640419622336179i"},{"$f":"IMSUM(I33,IMPRODUCT($A$73,I65))","v":"-0.973042306607219-0.000640419622336534i"},{"$f":"IMSUM(J33,IMPRODUCT($A$102,J97))","v":"-0.944027150882619-0.000640419622336787i"},-0.94402715088261901,null,{"$f":"計算!AQ33","v":"-0.000716440896078152-0.0000928666315161438i"},{"$f":"IMCONJUGATE(N40)","v":"0.000127766758644086+0.000298792140885444i"},{"$f":"IMSUM(O32,IMPRODUCT($A$67,O33))","v":"0.000149595647621963-0.00110913001728368i"},{"$f":"IMSUM(P33,IMPRODUCT($A$99,P35))","v":"0.00618513431187766+0.00422342908006287i"},{"$f":"IMSUM(Q29,IMPRODUCT($A$51,Q33))","v":"-0.00007280815972274-0.00807138512253836i"},{"$f":"IMSUM(R25,IMPRODUCT($A$27,R33))","v":"-0.0131406980004456-0.0087803336912466i"},{"$f":"IMSUM(S17,IMPRODUCT($A$15,S33))","v":"-0.00923711556085783+0.000122764764542253i"},{"$f":"IMSUM(T33,IMPRODUCT($A$73,T65))","v":"-0.0169101040960975+0.000122764764542248i"},{"$f":"IMSUM(U33,IMPRODUCT($A$102,U97))","v":"-0.0343287568537027+0.000122764764542236i"},-3.4328756853702701E-2,null,{"$f":"計算!AR33","v":"0.0000363843163456878+0.000348201800667084i"},{"$f":"IMCONJUGATE(Y40)","v":"0.0000874559615528843+0.000117203295645406i"},{"$f":"IMSUM(Z32,IMPRODUCT($A$67,Z33))","v":"-0.000670421304046433-0.000912607767812127i"},{"$f":"IMSUM(AA33,IMPRODUCT($A$99,AA35))","v":"-0.000755344972051537+0.00114059445834653i"},{"$f":"IMSUM(AB29,IMPRODUCT($A$51,AB33))","v":"0.0023665861663748-0.0010572585707612i"},{"$f":"IMSUM(AC25,IMPRODUCT($A$27,AC33))","v":"-0.0024921500683211-0.00166520143814127i"},{"$f":"IMSUM(AD17,IMPRODUCT($A$15,AD33))","v":"-0.00467708590384009-0.000251709718458763i"},{"$f":"IMSUM(AE33,IMPRODUCT($A$73,AE65))","v":"-0.0102068574369178-0.000251709718458769i"},{"$f":"IMSUM(AF33,IMPRODUCT($A$102,AF97))","v":"-0.0207647766546667-0.000251709718458776i"},-2.0764776654666701E-2]
["0.0490676743274181-0.998795456205172i",2.34375,{"$f":"計算!AO34","v":"1.99032100924997E-18+1.94671373155057E-18i"},{"$f":"C64","v":"-5.87024089065417E-19+5.58438693627085E-19i"},{"$f":"IMSUM(D34,IMPRODUCT($A$131,D35))","v":"-0.0920583901562353-0.124782328352261i"},{"$f":"IMSUM(E32,IMPRODUCT($A$67,E34))","v":"0.0851656703362483+0.125822472126653i"},{"$f":"IMSUM(F30,IMPRODUCT($A$35,F34))","v":"0.102831696940283-0.0962935151086172i"},{"$f":"IMSUM(G26,IMPRODUCT($A$19,G34))","v":"-0.0916703223988155-0.037971090804704i"},{"$f":"IMSUM(H18,IMPRODUCT($A$11,H34))","v":"-0.997741100727022+0.000640419622333944i"},{"$f":"IMSUM(I34,IMPRODUCT($A$71,I66))","v":"-0.992653582254186+0.000640419622333966i"},{"$f":"IMSUM(J34,IMPRODUCT($A$101,J98))","v":"-0.984079271968643+0.000640419622334292i"},-0.98407927196864298,null,{"$f":"計算!AQ34","v":"-1.55829847009612E-20+3.36943870326031E-19i"},{"$f":"N64","v":"-3.22433402851363E-19+3.5049283236711E-20i"},{"$f":"IMSUM(O34,IMPRODUCT($A$131,O35))","v":"-0.00533255909734655+0.0060355386642557i"},{"$f":"IMSUM(P32,IMPRODUCT($A$67,P34))","v":"0.00573768826225668-0.00654708439976849i"},{"$f":"IMSUM(Q30,IMPRODUCT($A$35,Q34))","v":"-0.00489402972945633-0.00700317041366403i"},{"$f":"IMSUM(R26,IMPRODUCT($A$19,R34))","v":"-0.015415761311998-0.00638541740973603i"},{"$f":"IMSUM(S18,IMPRODUCT($A$11,S34))","v":"-0.0019409160639732-0.000122764764542244i"},{"$f":"IMSUM(T34,IMPRODUCT($A$71,T66))","v":"-0.0050805625626712-0.000122764764542243i"},{"$f":"IMSUM(U34,IMPRODUCT($A$101,U98))","v":"-0.00944662632571695-0.000122764764542243i"},-9.4466263257169496E-3,null,{"$f":"計算!AR34","v":"-5.47742057882894E-21-1.1137848033055E-21i"},{"$f":"Y64","v":"1.17937114328498E-19+6.09541141420598E-20i"},{"$f":"IMSUM(Z34,IMPRODUCT($A$131,Z35))","v":"-0.00205320222615866-0.0000849236680051037i"},{"$f":"IMSUM(AA32,IMPRODUCT($A$67,AA34))","v":"0.001557692845218-0.000593277508516211i"},{"$f":"IMSUM(AB30,IMPRODUCT($A$35,AB34))","v":"-0.0000713556044378241-0.00230268434706292i"},{"$f":"IMSUM(AC26,IMPRODUCT($A$19,AC34))","v":"-0.00398138409557688-0.00164914328940449i"},{"$f":"IMSUM(AD18,IMPRODUCT($A$11,AD34))","v":"-0.00271714836033532+0.000251709718458764i"},{"$f":"IMSUM(AE34,IMPRODUCT($A$71,AE66))","v":"-0.00382835102777986+0.000251709718458761i"},{"$f":"IMSUM(AF34,IMPRODUCT($A$101,AF98))","v":"-0.00693007604219145+0.00025170971845876i"},-6.9300760421914503E-3]
["6.1257422745431E-17-i",2.421875,{"$f":"計算!AO35","v":"-0.00160650954353906+0.0000325315016454139i"},{"$f":"IMCONJUGATE(C8)","v":"-0.0920583901562353-0.124782328352261i"},{"$f":"IMSUM(D34,IMPRODUCT($A$67,D35))","v":"0.0920583901562353+0.124782328352261i"},{"$f":"IMSUM(E33,IMPRODUCT($A$35,E35))","v":"0.119731370327869-0.0961150305629362i"},{"$f":"IMSUM(F31,IMPRODUCT($A$19,F35))","v":"-0.0050913112685683-0.165866015270195i"},{"$f":"IMSUM(G27,IMPRODUCT($A$11,G35))","v":"-0.189063019200076-0.037606972733032i"},{"$f":"IMSUM(H19,IMPRODUCT($A$7,H35))","v":"-0.996866702595211-0.000640419622333666i"},{"$f":"IMSUM(I35,IMPRODUCT($A$69,I67))","v":"-1.00069214481301-0.000640419622333298i"},{"$f":"IMSUM(J35,IMPRODUCT($A$100,J99))","v":"-1.00106152469329-0.0006404196223328i"},-1.0010615246932899,null,{"$f":"計算!AQ35","v":"-0.0000917713896554273-0.000157436994054776i"},{"$f":"IMCONJUGATE(N8)","v":"-0.00533255909734655+0.0060355386642557i"},{"$f":"IMSUM(O34,IMPRODUCT($A$67,O35))","v":"0.00533255909734655-0.0060355386642557i"},{"$f":"IMSUM(P33,IMPRODUCT($A$35,P35))","v":"-0.00588594301663374-0.00644168911463023i"},{"$f":"IMSUM(Q31,IMPRODUCT($A$19,Q35))","v":"-0.00651447188458853-0.00133492244158995i"},{"$f":"IMSUM(R27,IMPRODUCT($A$11,R35))","v":"-0.0120797998974284-0.00240282159507003i"},{"$f":"IMSUM(S19,IMPRODUCT($A$7,S35))","v":"0.000911886181044801+0.000122764764542256i"},{"$f":"IMSUM(T35,IMPRODUCT($A$69,T67))","v":"-0.00149865137219826+0.000122764764542217i"},{"$f":"IMSUM(U35,IMPRODUCT($A$100,U99))","v":"-0.00331478670763185+0.000122764764542198i"},-3.3147867076318499E-3,null,{"$f":"計算!AR35","v":"-0.0000281881733913402-0.000099866777637936i"},{"$f":"IMCONJUGATE(Y8)","v":"-0.00205320222615866-0.0000849236680051033i"},{"$f":"IMSUM(Z34,IMPRODUCT($A$67,Z35))","v":"0.00205320222615866+0.0000849236680051037i"},{"$f":"IMSUM(AA33,IMPRODUCT($A$35,AA35))","v":"-0.000585497636041329-0.00296580999397079i"},{"$f":"IMSUM(AB31,IMPRODUCT($A$19,AB35))","v":"-0.00204821566374649-0.00294335292127299i"},{"$f":"IMSUM(AC27,IMPRODUCT($A$11,AC35))","v":"-0.00654824892370398-0.00130252769560525i"},{"$f":"IMSUM(AD19,IMPRODUCT($A$7,AD35))","v":"-0.00140046156462907-0.000251709718458759i"},{"$f":"IMSUM(AE35,IMPRODUCT($A$69,AE67))","v":"-0.00140884529960756-0.000251709718458756i"},{"$f":"IMSUM(AF35,IMPRODUCT($A$100,AF99))","v":"-0.0018825851808153-0.000251709718458766i"},-1.8825851808153E-3]
["-0.049067674327418-0.998795456205172i",2.5,{"$f":"計算!AO36","v":"-0.00218146715828822+0.00188199750995488i"},{"$f":"C6","v":"-0.078021352209391-0.165443814192503i"},{"$f":"IMSUM(D36,IMPRODUCT($A$131,D37))","v":"-0.0782492266482803-0.16528527368322i"},{"$f":"IMSUM(E36,IMPRODUCT($A$131,E38))","v":"-0.0714865898678517-0.163995198757688i"},{"$f":"IMSUM(F36,IMPRODUCT($A$131,F40))","v":"-0.0781167843794364-0.215482158905477i"},{"$f":"IMSUM(G36,IMPRODUCT($A$131,G44))","v":"0.00259647194993901-0.239990695148837i"},{"$f":"IMSUM(H36,IMPRODUCT($A$131,H52))","v":"0.00519294389987796"},{"$f":"IMSUM(I4,IMPRODUCT($A$67,I36))","v":"-0.99887652196584+0.000640419622334398i"},{"$f":"IMSUM(J36,IMPRODUCT($A$99,J100))","v":"-0.997205626059512+0.000640419622334398i"},-0.99720562605951202,null,{"$f":"計算!AQ36","v":"-0.000150818990820383-0.000155001123040379i"},{"$f":"N6","v":"0.00346935423953909+0.0101259631235182i"},{"$f":"IMSUM(O36,IMPRODUCT($A$131,O37))","v":"0.00347130625749277+0.0101428107335651i"},{"$f":"IMSUM(P36,IMPRODUCT($A$131,P38))","v":"0.00360260324206406+0.0117405485274241i"},{"$f":"IMSUM(Q36,IMPRODUCT($A$131,Q40))","v":"0.00109340561645388+0.00930121693707117i"},{"$f":"IMSUM(R36,IMPRODUCT($A$131,R44))","v":"-0.00033830135162641+0.0106856885413558i"},{"$f":"IMSUM(S36,IMPRODUCT($A$131,S52))","v":"-0.000676602703252817"},{"$f":"IMSUM(T4,IMPRODUCT($A$67,T36))","v":"-0.000063383180778973-0.000122764764542256i"},{"$f":"IMSUM(U36,IMPRODUCT($A$99,U100))","v":"-0.000379690666980733-0.000122764764542256i"},-3.7969066698073298E-4,null,{"$f":"計算!AR36","v":"-0.000157885515987067-0.000144567018371675i"},{"$f":"Y6","v":"0.00140540435150007+0.0016893102641557i"},{"$f":"IMSUM(Z36,IMPRODUCT($A$131,Z37))","v":"0.00142917239394963+0.00169160250743843i"},{"$f":"IMSUM(AA36,IMPRODUCT($A$131,AA38))","v":"0.0022254316610776+0.00127716370631511i"},{"$f":"IMSUM(AB36,IMPRODUCT($A$131,AB40))","v":"0.00215793561683008-0.00174348982512273i"},{"$f":"IMSUM(AC36,IMPRODUCT($A$131,AC44))","v":"0.0011521819123532-0.0016666264625188i"},{"$f":"IMSUM(AD36,IMPRODUCT($A$131,AD52))","v":"0.0023043638247064"},{"$f":"IMSUM(AE4,IMPRODUCT($A$67,AE36))","v":"-0.00023949302883568+0.00025170971845877i"},{"$f":"IMSUM(AF36,IMPRODUCT($A$99,AF100))","v":"-0.00108052014738524+0.00025170971845877i"},-1.08052014738524E-3]
["-0.0980171403295606-0.995184726672197i",{"$f":"B36+$B$3","v":2.578125},{"$f":"計算!AO37","v":"0.000012416220987323+0.00480675168241626i"},{"$f":"IMCONJUGATE(C66)","v":"-0.000227874438889274+0.000158540509283451i"},{"$f":"IMSUM(D36,IMPRODUCT($A$67,D37))","v":"-0.0777934777705017-0.165602354701786i"},{"$f":"IMSUM(E37,IMPRODUCT($A$99,E39))","v":"-0.0790835526960338-0.158839717921357i"},{"$f":"IMSUM(F37,IMPRODUCT($A$115,F41))","v":"-0.103550948891028-0.207040415711508i"},{"$f":"IMSUM(G37,IMPRODUCT($A$123,G45))","v":"-0.0227876803801502-0.246161980655929i"},{"$f":"IMSUM(H37,IMPRODUCT($A$127,H53))","v":"0.0028863182027574-0.000284277530325006i"},{"$f":"IMSUM(I5,IMPRODUCT($A$65,I37))","v":"-1.00088149603912-0.000640419622335373i"},{"$f":"IMSUM(J37,IMPRODUCT($A$98,J101))","v":"-1.00148112320688-0.000640419622334967i"},-1.0014811232068801,null,{"$f":"計算!AQ37","v":"-0.000694554559909765-0.000026312527566591i"},{"$f":"IMCONJUGATE(N66)","v":"1.95201795368068E-06+0.0000168476100469158i"},{"$f":"IMSUM(O36,IMPRODUCT($A$67,O37))","v":"0.00346740222158541+0.0101091155134713i"},{"$f":"IMSUM(P37,IMPRODUCT($A$99,P39))","v":"0.00186966442772644+0.0102404124980426i"},{"$f":"IMSUM(Q37,IMPRODUCT($A$115,Q41))","v":"-9.04878672726992E-06+0.0123696805004549i"},{"$f":"IMSUM(R37,IMPRODUCT($A$123,R45))","v":"-0.000660389036436959+0.0142165678929301i"},{"$f":"IMSUM(S37,IMPRODUCT($A$127,S53))","v":"-0.00408160369090988+0.000402002875465501i"},{"$f":"IMSUM(T5,IMPRODUCT($A$65,T37))","v":"0.00058162426068743+0.000122764764542244i"},{"$f":"IMSUM(U37,IMPRODUCT($A$98,U101))","v":"-0.00064209863126357+0.000122764764542165i"},-6.4209863126356997E-4,null,{"$f":"計算!AR37","v":"-0.000596601199457394+0.000766253169525594i"},{"$f":"IMCONJUGATE(Y66)","v":"0.0000237680424495589+2.29224328272958E-06i"},{"$f":"IMSUM(Z36,IMPRODUCT($A$67,Z37))","v":"0.00138163630905051+0.00168701802087297i"},{"$f":"IMSUM(AA37,IMPRODUCT($A$99,AA39))","v":"0.00179607511017383+0.00248327728800094i"},{"$f":"IMSUM(AB37,IMPRODUCT($A$115,AB41))","v":"0.00170190244048844+0.00045233560776317i"},{"$f":"IMSUM(AC37,IMPRODUCT($A$123,AC45))","v":"0.00158200182030105+0.0016476477825627i"},{"$f":"IMSUM(AD37,IMPRODUCT($A$127,AD53))","v":"0.00281216578275412-0.00027697415441644i"},{"$f":"IMSUM(AE5,IMPRODUCT($A$65,AE37))","v":"0.00066597083683922-0.000251709718458784i"},{"$f":"IMSUM(AF37,IMPRODUCT($A$98,AF101))","v":"0.000459202611516611-0.000251709718458782i"},4.5920261151661098E-4]
["-0.146730474455362-0.989176509964781i",2.65625,{"$f":"計算!AO38","v":"0.00676263678042857+0.00129007492553212i"},{"$f":"C38","v":"0.00676263678042857+0.00129007492553212i"},{"$f":"IMSUM(D38,IMPRODUCT($A$131,D39))","v":"0.00676263678042857+0.00129007492553212i"},{"$f":"IMSUM(E36,IMPRODUCT($A$67,E38))","v":"-0.0850118634287089-0.166575348608752i"},{"$f":"IMSUM(F38,IMPRODUCT($A$99,F42))","v":"-0.114204398722794-0.183508372141874i"},{"$f":"IMSUM(G38,IMPRODUCT($A$115,G46))","v":"-0.0511021067850303-0.244855791145794i"},{"$f":"IMSUM(H38,IMPRODUCT($A$123,H54))","v":"-0.0046120427217839+0.000917392336245992i"},{"$f":"IMSUM(I6,IMPRODUCT($A$63,I38))","v":"-0.99975098226801+0.000640419622334712i"},{"$f":"IMSUM(J38,IMPRODUCT($A$97,J102))","v":"-0.999073802050983+0.00064041962233423i"},-0.99907380205098295,null,{"$f":"計算!AQ38","v":"0.000131296984571289+0.00159773779385897i"},{"$f":"N38","v":"0.000131296984571289+0.00159773779385897i"},{"$f":"IMSUM(O38,IMPRODUCT($A$131,O39))","v":"0.000131296984571289+0.00159773779385897i"},{"$f":"IMSUM(P36,IMPRODUCT($A$67,P38))","v":"0.00334000927292148+0.00854507293970613i"},{"$f":"IMSUM(Q38,IMPRODUCT($A$99,Q42))","v":"0.00304430688559137+0.0140326158577105i"},{"$f":"IMSUM(R38,IMPRODUCT($A$115,R46))","v":"0.00141476099192461+0.0154221758921106i"},{"$f":"IMSUM(S38,IMPRODUCT($A$123,S54))","v":"-0.0031799814891719+0.000632537646234801i"},{"$f":"IMSUM(T6,IMPRODUCT($A$63,T38))","v":"0.00102755904963275-0.000122764764542378i"},{"$f":"IMSUM(U38,IMPRODUCT($A$97,U102))","v":"0.000702113969152849-0.000122764764542442i"},7.0211396915284899E-4,null,{"$f":"計算!AR38","v":"0.000796259267127969-0.00041443880112332i"},{"$f":"Y38","v":"0.000796259267127969-0.00041443880112332i"},{"$f":"IMSUM(Z38,IMPRODUCT($A$131,Z39))","v":"0.000796259267127969-0.00041443880112332i"},{"$f":"IMSUM(AA36,IMPRODUCT($A$67,AA38))","v":"0.000632913126821661+0.00210604130856175i"},{"$f":"IMSUM(AB38,IMPRODUCT($A$99,AB42))","v":"0.000543890792830821+0.00226747145302877i"},{"$f":"IMSUM(AC38,IMPRODUCT($A$115,AC46))","v":"-0.000105961590409744+0.00161903008779766i"},{"$f":"IMSUM(AD38,IMPRODUCT($A$123,AD54))","v":"-0.000823433326122406+0.00016379107227832i"},{"$f":"IMSUM(AE6,IMPRODUCT($A$63,AE38))","v":"0.000195223908593328+0.000251709718458762i"},{"$f":"IMSUM(AF38,IMPRODUCT($A$97,AF102))","v":"-0.000853348029690872+0.000251709718458765i"},-8.5334802969087202E-4]
["-0.195090322016128-0.98078528040323i",2.734375,{"$f":"計算!AO39","v":"0.00187357121938108-0.00404301413856361i"},{"$f":"IMCONJUGATE(C34)","v":"1.99032100924997E-18-1.94671373155057E-18i"},{"$f":"IMSUM(D38,IMPRODUCT($A$67,D39))","v":"0.00676263678042857+0.00129007492553212i"},{"$f":"IMSUM(E37,IMPRODUCT($A$35,E39))","v":"-0.0765034028449696-0.172364991482215i"},{"$f":"IMSUM(F39,IMPRODUCT($A$83,F43))","v":"-0.0926369236510117-0.147068569614086i"},{"$f":"IMSUM(G39,IMPRODUCT($A$107,G47))","v":"-0.0712176944689965-0.23039872707824i"},{"$f":"IMSUM(H39,IMPRODUCT($A$119,H55))","v":"-0.0024303687879377+0.000737244311763002i"},{"$f":"IMSUM(I7,IMPRODUCT($A$61,I39))","v":"-1.00051874166726-0.000640419622334413i"},{"$f":"IMSUM(J39,IMPRODUCT($A$96,J103))","v":"-1.00033685078208-0.000640419622333855i"},-1.00033685078208,null,{"$f":"計算!AQ39","v":"0.000618341174530922-0.000218717197181938i"},{"$f":"IMCONJUGATE(N34)","v":"-1.55829847009612E-20-3.36943870326031E-19i"},{"$f":"IMSUM(O38,IMPRODUCT($A$67,O39))","v":"0.000131296984571289+0.00159773779385897i"},{"$f":"IMSUM(P37,IMPRODUCT($A$35,P39))","v":"0.00506514001544438+0.00997781852890001i"},{"$f":"IMSUM(Q39,IMPRODUCT($A$83,Q43))","v":"0.006656460406416+0.0156876158526208i"},{"$f":"IMSUM(R39,IMPRODUCT($A$107,R47))","v":"0.00501430374289033+0.0167683419350284i"},{"$f":"IMSUM(S39,IMPRODUCT($A$119,S55))","v":"-0.00013244670423755+0.0000401772684851011i"},{"$f":"IMSUM(T7,IMPRODUCT($A$61,T39))","v":"-0.000393581935931241+0.000122764764542308i"},{"$f":"IMSUM(U39,IMPRODUCT($A$96,U103))","v":"-0.000995926459484853+0.000122764764542311i"},-9.95926459484853E-4,null,{"$f":"計算!AR39","v":"-0.0000193432731335139+0.0000243934214353666i"},{"$f":"IMCONJUGATE(Y34)","v":"-5.47742057882894E-21+1.1137848033055E-21i"},{"$f":"IMSUM(Z38,IMPRODUCT($A$67,Z39))","v":"0.000796259267127969-0.00041443880112332i"},{"$f":"IMSUM(AA37,IMPRODUCT($A$35,AA39))","v":"0.00096719750792719+0.000890758753745001i"},{"$f":"IMSUM(AB39,IMPRODUCT($A$83,AB43))","v":"0.000961141556859438+0.00315733423622762i"},{"$f":"IMSUM(AC39,IMPRODUCT($A$107,AC47))","v":"-0.000855567989129972+0.00287845682283571i"},{"$f":"IMSUM(AD39,IMPRODUCT($A$119,AD55))","v":"-0.00316613170115002+0.00096043555140794i"},{"$f":"IMSUM(AE7,IMPRODUCT($A$61,AE39))","v":"0.00124525883769329-0.000251709718458793i"},{"$f":"IMSUM(AF39,IMPRODUCT($A$96,AF103))","v":"0.00124484508367015-0.000251709718458806i"},1.2448450836701501E-3]
["-0.242980179903264-0.970031253194544i",2.8125,{"$f":"計算!AO40","v":"-0.000920880897797368-0.00254839209054651i"},{"$f":"C22","v":"-0.011412981667107-0.0113888882069819i"},{"$f":"IMSUM(D40,IMPRODUCT($A$131,D41))","v":"-0.0117816090223534-0.0111472124268518i"},{"$f":"IMSUM(E40,IMPRODUCT($A$131,E42))","v":"-0.00663019451158471-0.0514869601477889i"},{"$f":"IMSUM(F36,IMPRODUCT($A$67,F40))","v":"-0.064856395356267-0.112508238609899i"},{"$f":"IMSUM(G40,IMPRODUCT($A$99,G48))","v":"-0.0880983178139555-0.211438586422262i"},{"$f":"IMSUM(H40,IMPRODUCT($A$115,H56))","v":"-0.000883577487651901+0.000365989778793013i"},{"$f":"IMSUM(I8,IMPRODUCT($A$59,I40))","v":"-1.00050988825564+0.00064041962233425i"},{"$f":"IMSUM(J40,IMPRODUCT($A$95,J104))","v":"-1.00040226592716+0.000640419622333996i"},-1.0004022659271601,null,{"$f":"計算!AQ40","v":"0.000127766758644086-0.000298792140885444i"},{"$f":"N22","v":"0.00151692931233145-0.0011180570880022i"},{"$f":"IMSUM(O40,IMPRODUCT($A$131,O41))","v":"0.00148917264619709-0.00107181460151141i"},{"$f":"IMSUM(P40,IMPRODUCT($A$131,P42))","v":"-0.00250919762561018-0.00243933159035293i"},{"$f":"IMSUM(Q36,IMPRODUCT($A$67,Q40))","v":"0.00611180086767424+0.014179880117777i"},{"$f":"IMSUM(R40,IMPRODUCT($A$99,R48))","v":"0.00571228646872492+0.015374398106306i"},{"$f":"IMSUM(S40,IMPRODUCT($A$115,S56))","v":"-0.00111985819079011+0.0004638604505599i"},{"$f":"IMSUM(T8,IMPRODUCT($A$59,T40))","v":"0.00215549357656052-0.000122764764542292i"},{"$f":"IMSUM(U40,IMPRODUCT($A$95,U104))","v":"0.00114650258174901-0.000122764764542275i"},1.1465025817490101E-3,null,{"$f":"計算!AR40","v":"0.0000874559615528843-0.000117203295645406i"},{"$f":"Y22","v":"0.0000495611075982927-0.00147489059701716i"},{"$f":"IMSUM(Z40,IMPRODUCT($A$131,Z41))","v":"0.0000469670501097514-0.0014658155987235i"},{"$f":"IMSUM(AA40,IMPRODUCT($A$131,AA42))","v":"-0.0000674960442475216-0.00302065353143784i"},{"$f":"IMSUM(AB36,IMPRODUCT($A$67,AB40))","v":"0.00229292770532512+0.00429781723775295i"},{"$f":"IMSUM(AC40,IMPRODUCT($A$99,AC48))","v":"0.0015182097911093+0.00448996906369076i"},{"$f":"IMSUM(AD40,IMPRODUCT($A$115,AD56))","v":"-0.00058314134258705+0.00024154505288001i"},{"$f":"IMSUM(AE8,IMPRODUCT($A$59,AE40))","v":"-0.00138756914084171+0.000251709718458769i"},{"$f":"IMSUM(AF40,IMPRODUCT($A$95,AF104))","v":"-0.00186851851117473+0.000251709718458753i"},-1.8685185111747299E-3]
["-0.290284677254462-0.956940335732209i",2.890625,{"$f":"計算!AO41","v":"-0.00177827508774688-0.00111178728068681i"},{"$f":"IMCONJUGATE(C50)","v":"-0.000368627355246371+0.000241675780130129i"},{"$f":"IMSUM(D40,IMPRODUCT($A$67,D41))","v":"-0.0110443543118606-0.011630563987112i"},{"$f":"IMSUM(E41,IMPRODUCT($A$99,E43))","v":"-0.0513841020327977-0.0167819784978807i"},{"$f":"IMSUM(F37,IMPRODUCT($A$51,F41))","v":"-0.0546161565010394-0.110639020131206i"},{"$f":"IMSUM(G41,IMPRODUCT($A$91,G49))","v":"-0.108722414259105-0.200006592061141i"},{"$f":"IMSUM(H41,IMPRODUCT($A$111,H57))","v":"-0.00282594772446+0.00151050052833701i"},{"$f":"IMSUM(I9,IMPRODUCT($A$57,I41))","v":"-0.992299917420234-0.000640419622332796i"},{"$f":"IMSUM(J41,IMPRODUCT($A$94,J105))","v":"-0.988760120888494-0.000640419622332105i"},-0.98876012088849397,null,{"$f":"計算!AQ41","v":"0.0000735608868234514-0.000129263527308967i"},{"$f":"IMCONJUGATE(N50)","v":"-0.0000277566661343603+0.0000462424864907906i"},{"$f":"IMSUM(O40,IMPRODUCT($A$67,O41))","v":"0.00154468597846581-0.00116429957449299i"},{"$f":"IMSUM(P41,IMPRODUCT($A$99,P43))","v":"0.00017716898962429+0.00283407069731428i"},{"$f":"IMSUM(Q37,IMPRODUCT($A$51,Q41))","v":"0.00374837764218015+0.00811114449563028i"},{"$f":"IMSUM(R41,IMPRODUCT($A$91,R49))","v":"0.00527237405125402+0.0103387743677259i"},{"$f":"IMSUM(S41,IMPRODUCT($A$111,S57))","v":"-0.00039482858374082+0.0002110402748012i"},{"$f":"IMSUM(T9,IMPRODUCT($A$57,T41))","v":"0.000247647456663022+0.000122764764542217i"},{"$f":"IMSUM(U41,IMPRODUCT($A$94,U105))","v":"-0.000322179323803816+0.000122764764542163i"},-3.2217932380381597E-4,null,{"$f":"計算!AR41","v":"0.0000944280026116219-0.000128251892580297i"},{"$f":"IMCONJUGATE(Y50)","v":"-2.59405748854125E-06+0.000009074998293659i"},{"$f":"IMSUM(Z40,IMPRODUCT($A$67,Z41))","v":"0.000052155165086834-0.00148396559531082i"},{"$f":"IMSUM(AA41,IMPRODUCT($A$99,AA43))","v":"-0.00150268276762751-0.00136950250095355i"},{"$f":"IMSUM(AB37,IMPRODUCT($A$51,AB41))","v":"0.00189024777985922+0.00451421896823871i"},{"$f":"IMSUM(AC41,IMPRODUCT($A$91,AC49))","v":"0.00187773559817608+0.00577625797626848i"},{"$f":"IMSUM(AD41,IMPRODUCT($A$111,AD57))","v":"-0.00188183337808347+0.00100586089658952i"},{"$f":"IMSUM(AE9,IMPRODUCT($A$57,AE41))","v":"0.00230651441326332-0.000251709718458775i"},{"$f":"IMSUM(AF41,IMPRODUCT($A$94,AF105))","v":"0.00350074587506283-0.000251709718458763i"},3.5007458750628299E-3]
["-0.33688985339222-0.941544065183021i",2.96875,{"$f":"計算!AO42","v":"-0.00171302608191606+0.000433757174312539i"},{"$f":"C54","v":"-4.50110619138377E-34+2.1768413277525E-34i"},{"$f":"IMSUM(D42,IMPRODUCT($A$131,D43))","v":"0.00515141451076868-0.0403397477209371i"},{"$f":"IMSUM(E40,IMPRODUCT($A$67,E42))","v":"-0.0169330235331221+0.0291925352940853i"},{"$f":"IMSUM(F38,IMPRODUCT($A$35,F42))","v":"-0.0558193281346236-0.14964232507563i"},{"$f":"IMSUM(G42,IMPRODUCT($A$83,G50))","v":"-0.128535092121656-0.201301651229573i"},{"$f":"IMSUM(H42,IMPRODUCT($A$107,H58))","v":"0.00825513307759398-0.00551590357562901i"},{"$f":"IMSUM(I10,IMPRODUCT($A$55,I42))","v":"-1.01912125691371+0.000640419622334263i"},{"$f":"IMSUM(J42,IMPRODUCT($A$93,J106))","v":"-1.03907776867855+0.00064041962233456i"},-1.03907776867855,null,{"$f":"計算!AQ42","v":"-0.0000718958155607674-0.000249871547955672i"},{"$f":"N54","v":"-1.4243215309305E-34-2.3369286152126E-35i"},{"$f":"IMSUM(O42,IMPRODUCT($A$131,O43))","v":"-0.00399837027180727-0.00136751698884152i"},{"$f":"IMSUM(P40,IMPRODUCT($A$67,P42))","v":"0.00548754291800436+0.00029570238733011i"},{"$f":"IMSUM(Q38,IMPRODUCT($A$35,Q42))","v":"0.00363571166025159+0.00305753002170177i"},{"$f":"IMSUM(R42,IMPRODUCT($A$83,R50))","v":"0.00577200591510804+0.00560649186876675i"},{"$f":"IMSUM(S42,IMPRODUCT($A$107,S58))","v":"0.00280113386358864-0.00187165780960227i"},{"$f":"IMSUM(T10,IMPRODUCT($A$55,T42))","v":"-0.00931704066651129-0.000122764764542274i"},{"$f":"IMSUM(U42,IMPRODUCT($A$93,U106))","v":"-0.0162202307107168-0.000122764764542267i"},-1.62202307107168E-2,null,{"$f":"計算!AR42","v":"-0.000400013471238549-0.00017050929244028i"},{"$f":"Y54","v":"9.8972263277393E-36+1.67495115165902E-35i"},{"$f":"IMSUM(Z42,IMPRODUCT($A$131,Z43))","v":"-0.000114463094357273-0.00155483793271434i"},{"$f":"IMSUM(AA40,IMPRODUCT($A$67,AA42))","v":"0.000161430144467024+0.00008902233399084i"},{"$f":"IMSUM(AB38,IMPRODUCT($A$35,AB42))","v":"0.000721935460812501+0.00194461116409473i"},{"$f":"IMSUM(AC42,IMPRODUCT($A$83,AC50))","v":"0.000885542448765299+0.00384821062741017i"},{"$f":"IMSUM(AD42,IMPRODUCT($A$107,AD58))","v":"-0.00233085816289288+0.00155742963246485i"},{"$f":"IMSUM(AE10,IMPRODUCT($A$55,AE42))","v":"0.00284499443279352+0.000251709718458765i"},{"$f":"IMSUM(AF42,IMPRODUCT($A$93,AF106))","v":"0.00127339505127892+0.000251709718458774i"},1.27339505127892E-3]
["-0.38268343236509-0.923879532511287i",3.046875,{"$f":"計算!AO43","v":"0.0000547704582089679+0.00121523167693164i"},{"$f":"IMCONJUGATE(C18)","v":"0.00515141451076867-0.0403397477209371i"},{"$f":"IMSUM(D42,IMPRODUCT($A$67,D43))","v":"-0.00515141451076868+0.0403397477209371i"},{"$f":"IMSUM(E41,IMPRODUCT($A$35,E43))","v":"0.0292953934090765-0.00647914947634332i"},{"$f":"IMSUM(F39,IMPRODUCT($A$19,F43))","v":"-0.0603698820389275-0.197661413350344i"},{"$f":"IMSUM(G43,IMPRODUCT($A$75,G51))","v":"-0.141621518298544-0.202820967391043i"},{"$f":"IMSUM(H43,IMPRODUCT($A$103,H59))","v":"0.029673313466459-0.024352259015533i"},{"$f":"IMSUM(I11,IMPRODUCT($A$53,I43))","v":"-1.07369848109879-0.00064041962233504i"},{"$f":"IMSUM(J43,IMPRODUCT($A$92,J107))","v":"-1.14339202877061-0.000640419622334641i"},-1.1433920287706101,null,{"$f":"計算!AQ43","v":"-0.000317430741749434+0.0000666490796936916i"},{"$f":"IMCONJUGATE(N18)","v":"-0.00399837027180727-0.00136751698884152i"},{"$f":"IMSUM(O42,IMPRODUCT($A$67,O43))","v":"0.00399837027180727+0.00136751698884152i"},{"$f":"IMSUM(P41,IMPRODUCT($A$35,P43))","v":"0.00291220296730733-0.00516266984630026i"},{"$f":"IMSUM(Q39,IMPRODUCT($A$19,Q43))","v":"0.00347381962447276+0.00426802120517919i"},{"$f":"IMSUM(R43,IMPRODUCT($A$75,R51))","v":"0.00602298982570695+0.0056276552432795i"},{"$f":"IMSUM(S43,IMPRODUCT($A$103,S59))","v":"0.00167849542451141-0.00137750559539941i"},{"$f":"IMSUM(T11,IMPRODUCT($A$53,T43))","v":"-0.00697914635730715+0.000122764764542225i"},{"$f":"IMSUM(U43,IMPRODUCT($A$92,U107))","v":"-0.0123387456262583+0.000122764764542174i"},-1.23387456262583E-2,null,{"$f":"計算!AR43","v":"0.000143701884404076+0.000160015346516993i"},{"$f":"IMCONJUGATE(Y18)","v":"-0.000114463094357273-0.00155483793271434i"},{"$f":"IMSUM(Z42,IMPRODUCT($A$67,Z43))","v":"0.000114463094357273+0.00155483793271434i"},{"$f":"IMSUM(AA41,IMPRODUCT($A$35,AA43))","v":"0.00160699309780117-0.00159842868966809i"},{"$f":"IMSUM(AB39,IMPRODUCT($A$19,AB43))","v":"0.000973253458994942-0.00137581672873762i"},{"$f":"IMSUM(AC43,IMPRODUCT($A$75,AC51))","v":"0.00165981994341192+0.00011638156521795i"},{"$f":"IMSUM(AD43,IMPRODUCT($A$103,AD59))","v":"0.00186948942458489-0.00153425032043528i"},{"$f":"IMSUM(AE11,IMPRODUCT($A$53,AE43))","v":"-0.00776294549786433-0.000251709718458795i"},{"$f":"IMSUM(AF43,IMPRODUCT($A$92,AF107))","v":"-0.0180044607132932-0.000251709718458792i"},-1.8004460713293199E-2]
["-0.427555093430282-0.903989293123443i",3.125,{"$f":"計算!AO44","v":"1.15579514010811E-18+1.28977631972812E-19i"},{"$f":"C14","v":"-4.55883585921008E-18+5.15089641356398E-18i"},{"$f":"IMSUM(D44,IMPRODUCT($A$131,D45))","v":"-0.00052176473798402-0.000329844664967369i"},{"$f":"IMSUM(E44,IMPRODUCT($A$131,E46))","v":"-0.00910854574149377-0.000633306892835503i"},{"$f":"IMSUM(F44,IMPRODUCT($A$131,F48))","v":"0.0807132563293754-0.0245085362433595i"},{"$f":"IMSUM(G36,IMPRODUCT($A$67,G44))","v":"-0.158830040708812-0.190973622662118i"},{"$f":"IMSUM(H44,IMPRODUCT($A$99,H60))","v":"0.032143581953306-0.032143581953306i"},{"$f":"IMSUM(I12,IMPRODUCT($A$51,I44))","v":"-1.09032297806327+0.000640419622334373i"},{"$f":"IMSUM(J44,IMPRODUCT($A$91,J108))","v":"-1.17589019479814+0.000640419622334338i"},-1.1758901947981399,null,{"$f":"計算!AQ44","v":"1.35975025744168E-19+1.62190056454568E-19i"},{"$f":"N14","v":"-2.71927460209439E-19-1.1041679854984E-19i"},{"$f":"IMSUM(O44,IMPRODUCT($A$131,O45))","v":"-0.0000287711388002652+0.00015145997920655i"},{"$f":"IMSUM(P44,IMPRODUCT($A$131,P46))","v":"-0.000118594489775635+0.000891993001616974i"},{"$f":"IMSUM(Q44,IMPRODUCT($A$131,Q48))","v":"-0.00143170696808029+0.00138447160428462i"},{"$f":"IMSUM(R36,IMPRODUCT($A$67,R44))","v":"0.00252511258453417+0.00791674533278655i"},{"$f":"IMSUM(S44,IMPRODUCT($A$99,S60))","v":"-0.00539163274825238+0.00539163274825238i"},{"$f":"IMSUM(T12,IMPRODUCT($A$51,T44))","v":"0.0128573056508851-0.00012276476454225i"},{"$f":"IMSUM(U44,IMPRODUCT($A$91,U108))","v":"0.0222298254313276-0.000122764764542241i"},2.22298254313276E-2,null,{"$f":"計算!AR44","v":"-1.229743451521E-20-6.28663113972923E-21i"},{"$f":"Y14","v":"-5.90932015577002E-20-1.78861141455501E-20i"},{"$f":"IMSUM(Z44,IMPRODUCT($A$131,Z45))","v":"-0.000125318428378251-0.000152289170645436i"},{"$f":"IMSUM(AA44,IMPRODUCT($A$131,AA46))","v":"-0.000406800939269535+0.000425790638409875i"},{"$f":"IMSUM(AB44,IMPRODUCT($A$131,AB48))","v":"-0.00100575370447688+0.00007686336260393i"},{"$f":"IMSUM(AC36,IMPRODUCT($A$67,AC44))","v":"0.00316368932130696-0.00182035318772666i"},{"$f":"IMSUM(AD44,IMPRODUCT($A$99,AD60))","v":"0.00498404250903362-0.00498404250903362i"},{"$f":"IMSUM(AE12,IMPRODUCT($A$51,AE44))","v":"-0.0171088225529084+0.000251709718458763i"},{"$f":"IMSUM(AF44,IMPRODUCT($A$91,AF108))","v":"-0.030371220952531+0.000251709718458729i"},-3.0371220952530999E-2]
["-0.471396736825998-0.881921264348355i",3.203125,{"$f":"計算!AO45","v":"-0.000333750456070872+0.000264121627110146i"},{"$f":"IMCONJUGATE(C58)","v":"-0.000521764737984015-0.000329844664967374i"},{"$f":"IMSUM(D44,IMPRODUCT($A$67,D45))","v":"0.00052176473798401+0.000329844664967379i"},{"$f":"IMSUM(E45,IMPRODUCT($A$99,E47))","v":"-0.00110747307076087+0.00856838767850491i"},{"$f":"IMSUM(F45,IMPRODUCT($A$115,F49))","v":"0.0596443560034883-0.067050377934728i"},{"$f":"IMSUM(G37,IMPRODUCT($A$59,G45))","v":"-0.184314217401906-0.167918850767087i"},{"$f":"IMSUM(H45,IMPRODUCT($A$95,H61))","v":"0.016336039757767-0.019905522038985i"},{"$f":"IMSUM(I13,IMPRODUCT($A$49,I45))","v":"-1.0479997684145-0.00064041962233342i"},{"$f":"IMSUM(J45,IMPRODUCT($A$90,J109))","v":"-1.09819336080248-0.000640419622333895i"},-1.0981933608024801,null,{"$f":"計算!AQ45","v":"-0.0000505013274598756+5.78196825030736E-06i"},{"$f":"IMCONJUGATE(N58)","v":"-0.0000287711388002649+0.00015145997920655i"},{"$f":"IMSUM(O44,IMPRODUCT($A$67,O45))","v":"0.0000287711388002646-0.00015145997920655i"},{"$f":"IMSUM(P45,IMPRODUCT($A$99,P47))","v":"0.000789933374620041-0.000152453776149575i"},{"$f":"IMSUM(Q45,IMPRODUCT($A$115,Q49))","v":"0.000105013281136663+0.00195555858315745i"},{"$f":"IMSUM(R37,IMPRODUCT($A$59,R45))","v":"0.000642291462982419+0.0105227931079797i"},{"$f":"IMSUM(S45,IMPRODUCT($A$95,S61))","v":"-0.00980361397439398+0.0119457381913027i"},{"$f":"IMSUM(T13,IMPRODUCT($A$49,T45))","v":"0.0284338687070544+0.000122764764542231i"},{"$f":"IMSUM(U45,IMPRODUCT($A$90,U109))","v":"0.0546868638310451+0.000122764764542326i"},5.4686863831045103E-2,null,{"$f":"計算!AR45","v":"-0.0000155943382124575-1.85084539500674E-06i"},{"$f":"IMCONJUGATE(Y58)","v":"-0.000125318428378251-0.000152289170645436i"},{"$f":"IMSUM(Z44,IMPRODUCT($A$67,Z45))","v":"0.000125318428378251+0.000152289170645436i"},{"$f":"IMSUM(AA45,IMPRODUCT($A$99,AA47))","v":"0.000758706325127976+0.000339403381663753i"},{"$f":"IMSUM(AB45,IMPRODUCT($A$115,AB49))","v":"0.00034665243687352+0.00115020843413485i"},{"$f":"IMSUM(AC37,IMPRODUCT($A$59,AC45))","v":"0.00182180306067583-0.00074297656703636i"},{"$f":"IMSUM(AD45,IMPRODUCT($A$95,AD61))","v":"0.0021950873955524-0.00267472173045433i"},{"$f":"IMSUM(AE13,IMPRODUCT($A$49,AE45))","v":"-0.00879805808231566-0.000251709718458772i"},{"$f":"IMSUM(AF45,IMPRODUCT($A$90,AF109))","v":"-0.0149388932966034-0.000251709718458777i"},-1.49388932966034E-2]
["-0.514102744193222-0.857728610000272i",3.28125,{"$f":"計算!AO46","v":"-0.000174118994986108+0.000662887790438376i"},{"$f":"C46","v":"-0.000174118994986108+0.000662887790438376i"},{"$f":"IMSUM(D46,IMPRODUCT($A$131,D47))","v":"-0.00858678100350975-0.000303462227868132i"},{"$f":"IMSUM(E44,IMPRODUCT($A$67,E46))","v":"0.00806501626552573-0.000026382437099236i"},{"$f":"IMSUM(F46,IMPRODUCT($A$99,F50))","v":"0.00124088255164155-0.0879992345235702i"},{"$f":"IMSUM(G38,IMPRODUCT($A$51,G46))","v":"-0.177306690660558-0.122160953137954i"},{"$f":"IMSUM(H46,IMPRODUCT($A$91,H62))","v":"0.00340764657894602-0.005099903507177i"},{"$f":"IMSUM(I14,IMPRODUCT($A$47,I46))","v":"-1.01200515038524+0.000640419622333534i"},{"$f":"IMSUM(J46,IMPRODUCT($A$89,J110))","v":"-1.02514097265945+0.000640419622333203i"},-1.02514097265945,null,{"$f":"計算!AQ46","v":"-0.0000454085739591976-0.0000103146067046759i"},{"$f":"N46","v":"-0.0000454085739591976-0.0000103146067046759i"},{"$f":"IMSUM(O46,IMPRODUCT($A$131,O47))","v":"-0.0000898233509753697+0.000740533022410424i"},{"$f":"IMSUM(P44,IMPRODUCT($A$67,P46))","v":"0.0000610522121751046-0.000589073043203874i"},{"$f":"IMSUM(Q46,IMPRODUCT($A$99,Q50))","v":"-0.000169695628476363+0.00213483027485655i"},{"$f":"IMSUM(R38,IMPRODUCT($A$51,R46))","v":"0.00467385277925813+0.0126430558233104i"},{"$f":"IMSUM(S46,IMPRODUCT($A$91,S62))","v":"-0.00879541374823167+0.0131632669006307i"},{"$f":"IMSUM(T14,IMPRODUCT($A$47,T46))","v":"0.0305932902664718-0.000122764764542198i"},{"$f":"IMSUM(U46,IMPRODUCT($A$89,U110))","v":"0.0605141304038917-0.000122764764542108i"},6.0514130403891697E-2,null,{"$f":"計算!AR46","v":"-0.0000471841499364835-0.0000276540438472069i"},{"$f":"Y46","v":"-0.0000471841499364835-0.0000276540438472069i"},{"$f":"IMSUM(Z46,IMPRODUCT($A$131,Z47))","v":"-0.000281482510891284+0.000578079809055311i"},{"$f":"IMSUM(AA44,IMPRODUCT($A$67,AA46))","v":"0.000156164082513033-0.000730368979700747i"},{"$f":"IMSUM(AB46,IMPRODUCT($A$99,AB50))","v":"-0.000918032313516427+9.97740402859009E-07i"},{"$f":"IMSUM(AC38,IMPRODUCT($A$51,AC46))","v":"0.00119374317607139+0.00291591281825988i"},{"$f":"IMSUM(AD46,IMPRODUCT($A$91,AD62))","v":"-0.00195703473128763+0.00292890945658156i"},{"$f":"IMSUM(AE14,IMPRODUCT($A$47,AE46))","v":"0.00332436102827149+0.000251709718458779i"},{"$f":"IMSUM(AF46,IMPRODUCT($A$89,AF110))","v":"0.00605018286952309+0.000251709718458789i"},6.0501828695230901E-3]
["-0.555570233019602-0.831469612302545i",3.359375,{"$f":"計算!AO47","v":"0.000472975080268777+0.000872508025782917i"},{"$f":"IMCONJUGATE(C26)","v":"-0.00841266200852364-0.000966350018306506i"},{"$f":"IMSUM(D46,IMPRODUCT($A$67,D47))","v":"0.00823854301353753+0.00162923780874488i"},{"$f":"IMSUM(E45,IMPRODUCT($A$35,E47))","v":"0.00215100254672889-0.00790869834857015i"},{"$f":"IMSUM(F47,IMPRODUCT($A$83,F51))","v":"-0.0687902427800863-0.0516778581213381i"},{"$f":"IMSUM(G39,IMPRODUCT($A$43,G47))","v":"-0.114056152833027-0.0637384121499321i"},{"$f":"IMSUM(H47,IMPRODUCT($A$87,H63))","v":"0.00230660341281999-0.00431535146357261i"},{"$f":"IMSUM(I15,IMPRODUCT($A$45,I47))","v":"-1.0030472809043-0.000640419622333036i"},{"$f":"IMSUM(J47,IMPRODUCT($A$88,J111))","v":"-1.00735456833402-0.000640419622333276i"},-1.0073545683340199,null,{"$f":"計算!AQ47","v":"-0.000119522842851182+0.0000884968460001809i"},{"$f":"IMCONJUGATE(N26)","v":"-0.0000444147770161719+0.0007508476291151i"},{"$f":"IMSUM(O46,IMPRODUCT($A$67,O47))","v":"-9.93796943025605E-07-0.000761162235819776i"},{"$f":"IMSUM(P45,IMPRODUCT($A$35,P47))","v":"-0.000732391097019511-0.000150466182263524i"},{"$f":"IMSUM(Q47,IMPRODUCT($A$83,Q51))","v":"0.000370034559308289+0.00193073089727061i"},{"$f":"IMSUM(R39,IMPRODUCT($A$43,R47))","v":"0.00829861706994167+0.0146068897702132i"},{"$f":"IMSUM(S47,IMPRODUCT($A$87,S63))","v":"-0.00845703252353153+0.0158219950057505i"},{"$f":"IMSUM(T15,IMPRODUCT($A$45,T47))","v":"0.0324129056012188+0.000122764764542345i"},{"$f":"IMSUM(U47,IMPRODUCT($A$88,U111))","v":"0.063340686721812+0.000122764764542303i"},6.3340686721812006E-2,null,{"$f":"計算!AR47","v":"-0.0000434167554976876+0.000285200294129461i"},{"$f":"IMCONJUGATE(Y26)","v":"-0.000234298360954801+0.000605733852902518i"},{"$f":"IMSUM(Z46,IMPRODUCT($A$67,Z47))","v":"0.000187114211018317-0.000633387896749725i"},{"$f":"IMSUM(AA45,IMPRODUCT($A$35,AA47))","v":"-0.000508069468371474-0.000034825040372881i"},{"$f":"IMSUM(AB47,IMPRODUCT($A$83,AB51))","v":"-0.000952873778982123+0.00157169900029157i"},{"$f":"IMSUM(AC39,IMPRODUCT($A$43,AC47))","v":"0.00277785110284885+0.00343621164961953i"},{"$f":"IMSUM(AD47,IMPRODUCT($A$87,AD63))","v":"-0.00162254584975327+0.0030355697769834i"},{"$f":"IMSUM(AE15,IMPRODUCT($A$45,AE47))","v":"0.00635293063522451-0.000251709718458785i"},{"$f":"IMSUM(AF47,IMPRODUCT($A$88,AF111))","v":"0.0109414384226688-0.000251709718458798i"},1.0941438422668801E-2]
["-0.595699304492433-0.803207531480645i",3.4375,{"$f":"計算!AO48","v":"0.00154005916978626-0.000401997456510176i"},{"$f":"C30","v":"0.00263750107411511-0.00809179064400736i"},{"$f":"IMSUM(D48,IMPRODUCT($A$131,D49))","v":"0.00092447499219905-0.0085255478183199i"},{"$f":"IMSUM(E48,IMPRODUCT($A$131,E50))","v":"0.0898218020708692-0.023875229350524i"},{"$f":"IMSUM(F44,IMPRODUCT($A$67,F48))","v":"-0.098930347812363+0.0232419224576885i"},{"$f":"IMSUM(G40,IMPRODUCT($A$35,G48))","v":"-0.0416144728985785-0.013577890797536i"},{"$f":"IMSUM(H48,IMPRODUCT($A$83,H64))","v":"-0.0025875782593417+0.0062469665274046i"},{"$f":"IMSUM(I16,IMPRODUCT($A$43,I48))","v":"-0.998767763231819+0.00064041962233433i"},{"$f":"IMSUM(J48,IMPRODUCT($A$87,J112))","v":"-0.997034241113448+0.000640419622334322i"},-0.99703424111344796,null,{"$f":"計算!AQ48","v":"0.000115265620695752+0.000444076739509388i"},{"$f":"N30","v":"0.000777291235438652+0.000111741673703887i"},{"$f":"IMSUM(O48,IMPRODUCT($A$131,O49))","v":"0.000705395419877885+0.000361613221659559i"},{"$f":"IMSUM(P48,IMPRODUCT($A$131,P50))","v":"-0.00131311247830465+0.00049247860266765i"},{"$f":"IMSUM(Q44,IMPRODUCT($A$67,Q48))","v":"0.00119451798852901+0.000399514398949324i"},{"$f":"IMSUM(R40,IMPRODUCT($A$35,R48))","v":"0.00651131526662356+0.012985362129248i"},{"$f":"IMSUM(S48,IMPRODUCT($A$83,S64))","v":"-0.00727491753060374+0.0175632045675292i"},{"$f":"IMSUM(T16,IMPRODUCT($A$43,T48))","v":"0.0331322746352852-0.000122764764542195i"},{"$f":"IMSUM(U48,IMPRODUCT($A$87,U112))","v":"0.0656315316391521-0.000122764764542214i"},6.5631531639152099E-2,null,{"$f":"計算!AR48","v":"0.000237685932542776-0.000281508247453385i"},{"$f":"Y30","v":"0.000466220448686679+0.000192125267671475i"},{"$f":"IMSUM(Z48,IMPRODUCT($A$131,Z49))","v":"0.00006620697744813+0.000362634560111755i"},{"$f":"IMSUM(AA48,IMPRODUCT($A$131,AA50))","v":"-0.000598952765207346-0.000348927275805945i"},{"$f":"IMSUM(AB44,IMPRODUCT($A$67,AB48))","v":"0.000192151825937811+0.00077471791421582i"},{"$f":"IMSUM(AC40,IMPRODUCT($A$35,AC48))","v":"0.00306764561954094+0.00410566541181514i"},{"$f":"IMSUM(AD48,IMPRODUCT($A$83,AD64))","v":"-0.00200465125429121+0.00483965624593807i"},{"$f":"IMSUM(AE16,IMPRODUCT($A$43,AE48))","v":"0.00740997833384819+0.000251709718458776i"},{"$f":"IMSUM(AF48,IMPRODUCT($A$87,AF112))","v":"0.0136335618155875+0.000251709718458775i"},1.3633561815587499E-2]
["-0.634393284163645-0.773010453362737i",3.515625,{"$f":"計算!AO49","v":"-0.000180719084904398-0.000947207814052329i"},{"$f":"IMCONJUGATE(C42)","v":"-0.00171302608191606-0.000433757174312539i"},{"$f":"IMSUM(D48,IMPRODUCT($A$67,D49))","v":"0.00435052715603117-0.00765803346969482i"},{"$f":"IMSUM(E49,IMPRODUCT($A$99,E51))","v":"-0.0105125116421855-0.0964285722579607i"},{"$f":"IMSUM(F45,IMPRODUCT($A$51,F49))","v":"-0.0618593021450101+0.0841871532917378i"},{"$f":"IMSUM(G41,IMPRODUCT($A$27,G49))","v":"-0.000509898742974302-0.0212714482012714i"},{"$f":"IMSUM(H49,IMPRODUCT($A$79,H65))","v":"0.011731850001005-0.0386747264268459i"},{"$f":"IMSUM(I17,IMPRODUCT($A$41,I49))","v":"-0.999145831989423-0.000640419622333075i"},{"$f":"IMSUM(J49,IMPRODUCT($A$86,J113))","v":"-0.999193149848698-0.000640419622332697i"},-0.999193149848698,null,{"$f":"計算!AQ49","v":"0.00011166165411052-0.000193593010491022i"},{"$f":"IMCONJUGATE(N42)","v":"-0.0000718958155607674+0.000249871547955672i"},{"$f":"IMSUM(O48,IMPRODUCT($A$67,O49))","v":"0.000849187050999419-0.000138129874251785i"},{"$f":"IMSUM(P49,IMPRODUCT($A$99,P51))","v":"0.00100627819141803+0.00197490147676407i"},{"$f":"IMSUM(Q45,IMPRODUCT($A$51,Q49))","v":"0.00147485346810342-0.0022604661354566i"},{"$f":"IMSUM(R41,IMPRODUCT($A$27,R49))","v":"0.00222438123310628+0.00588351462353466i"},{"$f":"IMSUM(S49,IMPRODUCT($A$79,S65))","v":"-0.00289382975876905+0.00953967824654009i"},{"$f":"IMSUM(T17,IMPRODUCT($A$41,T49))","v":"0.0323401879940194+0.000122764764542271i"},{"$f":"IMSUM(U49,IMPRODUCT($A$86,U113))","v":"0.0642990410961863+0.000122764764542217i"},6.4299041096186296E-2,null,{"$f":"計算!AR49","v":"-7.94793626146203E-06+0.0000107677381729846i"},{"$f":"IMCONJUGATE(Y42)","v":"-0.000400013471238549+0.00017050929244028i"},{"$f":"IMSUM(Z48,IMPRODUCT($A$67,Z49))","v":"0.000866233919925228+0.000021615975231195i"},{"$f":"IMSUM(AA49,IMPRODUCT($A$99,AA51))","v":"0.000281959652223619+0.000864691849421637i"},{"$f":"IMSUM(AB45,IMPRODUCT($A$51,AB49))","v":"0.00117076021338243-0.000471401670807345i"},{"$f":"IMSUM(AC41,IMPRODUCT($A$27,AC49))","v":"0.00190275996154236+0.00325217996020894i"},{"$f":"IMSUM(AD49,IMPRODUCT($A$79,AD65))","v":"-0.00148614150430104+0.00489915197564751i"},{"$f":"IMSUM(AE17,IMPRODUCT($A$41,AE49))","v":"0.0064370811437085-0.000251709718458769i"},{"$f":"IMSUM(AF49,IMPRODUCT($A$86,AF113))","v":"0.0126688903127464-0.000251709718458747i"},1.26688903127464E-2]
["-0.671558954847018-0.740951125354959i",3.59375,{"$f":"計算!AO50","v":"-0.000368627355246371-0.000241675780130129i"},{"$f":"C62","v":"0.0000633941452020518-0.000243321366993682i"},{"$f":"IMSUM(D50,IMPRODUCT($A$131,D51))","v":"0.0888973270786701-0.0153496815322041i"},{"$f":"IMSUM(E48,IMPRODUCT($A$67,E50))","v":"-0.087972852086471+0.0068241337138842i"},{"$f":"IMSUM(F46,IMPRODUCT($A$35,F50))","v":"0.0148891499794099+0.0879464696493718i"},{"$f":"IMSUM(G42,IMPRODUCT($A$19,G50))","v":"0.0168964358524083-0.0979829989216865i"},{"$f":"IMSUM(H50,IMPRODUCT($A$75,H66))","v":"0.0387826349367542-0.194973472226244i"},{"$f":"IMSUM(I18,IMPRODUCT($A$39,I50))","v":"-0.998087845168541+0.00064041962233479i"},{"$f":"IMSUM(J50,IMPRODUCT($A$85,J114))","v":"-0.995552344514981+0.000640419622336248i"},-0.99555234451498098,null,{"$f":"計算!AQ50","v":"-0.0000277566661343603-0.0000462424864907906i"},{"$f":"N62","v":"0.0000472617264166636-0.0000131128797052588i"},{"$f":"IMSUM(O50,IMPRODUCT($A$131,O51))","v":"-0.00201850789818253+0.000130865381008091i"},{"$f":"IMSUM(P48,IMPRODUCT($A$67,P50))","v":"0.00272390331806042+0.000230747840651468i"},{"$f":"IMSUM(Q46,IMPRODUCT($A$35,Q50))","v":"0.000291800052826573-0.00331297636126429i"},{"$f":"IMSUM(R42,IMPRODUCT($A$19,R50))","v":"0.00149941740539514+0.00050856817463679i"},{"$f":"IMSUM(S50,IMPRODUCT($A$75,S66))","v":"-0.00008048426080226+0.000404621702825779i"},{"$f":"IMSUM(T18,IMPRODUCT($A$39,T50))","v":"0.031843432257999-0.000122764764542254i"},{"$f":"IMSUM(U50,IMPRODUCT($A$85,U114))","v":"0.0645069851037453-0.000122764764542296i"},6.4506985103745307E-2,null,{"$f":"計算!AR50","v":"-2.59405748854125E-06-0.000009074998293659i"},{"$f":"Y62","v":"0.0000889580657674828-0.0000636437841080455i"},{"$f":"IMSUM(Z50,IMPRODUCT($A$131,Z51))","v":"-0.000665159742655476-0.0007115618359177i"},{"$f":"IMSUM(AA48,IMPRODUCT($A$67,AA50))","v":"0.000731366720103606+0.00107419639602946i"},{"$f":"IMSUM(AB46,IMPRODUCT($A$35,AB50))","v":"0.00123036047854249-0.00146173569980435i"},{"$f":"IMSUM(AC42,IMPRODUCT($A$19,AC50))","v":"0.000558328472859703+0.0000410117007792899i"},{"$f":"IMSUM(AD50,IMPRODUCT($A$75,AD66))","v":"0.000026805725944995-0.000134761484658359i"},{"$f":"IMSUM(AE18,IMPRODUCT($A$39,AE50))","v":"0.00576428820428121+0.000251709718458773i"},{"$f":"IMSUM(AF50,IMPRODUCT($A$85,AF114))","v":"0.0121154448138244+0.000251709718458773i"},1.21154448138244E-2]
["-0.707106781186547-0.707106781186548i",3.671875,{"$f":"計算!AO51","v":"-0.000257289641264113+0.0000119689625142018i"},{"$f":"IMCONJUGATE(C10)","v":"0.088833932933468-0.0151063601652104i"},{"$f":"IMSUM(D50,IMPRODUCT($A$67,D51))","v":"-0.0887705387882659+0.0148630387982167i"},{"$f":"IMSUM(E49,IMPRODUCT($A$35,E51))","v":"0.0192135659542479+0.0811125053185711i"},{"$f":"IMSUM(F47,IMPRODUCT($A$19,F51))","v":"0.0730922478735441+0.0358604614241977i"},{"$f":"IMSUM(G43,IMPRODUCT($A$11,G51))","v":"0.0208817542206894-0.192501859309645i"},{"$f":"IMSUM(H51,IMPRODUCT($A$71,H67))","v":"0.037956486773461-0.385378677525974i"},{"$f":"IMSUM(I19,IMPRODUCT($A$37,I51))","v":"-0.998576097303548-0.000640419622335047i"},{"$f":"IMSUM(J51,IMPRODUCT($A$84,J115))","v":"-0.99799737942035-0.000640419622335628i"},-0.99799737942035005,null,{"$f":"計算!AQ51","v":"-1.77955539737114E-06-0.0000166700373617119i"},{"$f":"IMCONJUGATE(N10)","v":"-0.00206576962459919+0.000143978260713351i"},{"$f":"IMSUM(O50,IMPRODUCT($A$67,O51))","v":"0.00211303135101585-0.00015709114041861i"},{"$f":"IMSUM(P49,IMPRODUCT($A$35,P51))","v":"0.000692095910580809-0.00225116122526764i"},{"$f":"IMSUM(Q47,IMPRODUCT($A$19,Q51))","v":"-0.00183481675334731-0.00223166326179765i"},{"$f":"IMSUM(R43,IMPRODUCT($A$11,R51))","v":"0.00092464942323857+0.00290838716707888i"},{"$f":"IMSUM(S51,IMPRODUCT($A$71,S67))","v":"-0.00054963130958012+0.00558050033653182i"},{"$f":"IMSUM(T19,IMPRODUCT($A$37,T51))","v":"0.0311523025090384+0.000122764764542228i"},{"$f":"IMSUM(U51,IMPRODUCT($A$84,U115))","v":"0.0629413788691627+0.000122764764542252i"},6.2941378869162706E-2,null,{"$f":"計算!AR51","v":"8.51396013955772E-06-0.0000198695551281429i"},{"$f":"IMCONJUGATE(Y10)","v":"-0.000754117808422959-0.000647918051809654i"},{"$f":"IMSUM(Z50,IMPRODUCT($A$67,Z51))","v":"0.000843075874190442+0.000584274267701609i"},{"$f":"IMSUM(AA49,IMPRODUCT($A$35,AA51))","v":"0.00145050818762684-0.000821459898959247i"},{"$f":"IMSUM(AB47,IMPRODUCT($A$19,AB51))","v":"-0.000063265157760825-0.00164134908103733i"},{"$f":"IMSUM(AC43,IMPRODUCT($A$11,AC51))","v":"0.000286686974577967-0.00286801502269319i"},{"$f":"IMSUM(AD51,IMPRODUCT($A$71,AD67))","v":"0.000565030584152872-0.00573685179511425i"},{"$f":"IMSUM(AE19,IMPRODUCT($A$37,AE51))","v":"0.00618800187634532-0.000251709718458772i"},{"$f":"IMSUM(AF51,IMPRODUCT($A$84,AF115))","v":"0.0123026672740116-0.000251709718458744i"},1.23026672740116E-2]
["-0.740951125354959-0.671558954847019i",3.75,{"$f":"計算!AO52","v":"-0.000102666611218949+0.0000966855121216128i"},{"$f":"C10","v":"0.088833932933468+0.0151063601652104i"},{"$f":"IMSUM(D52,IMPRODUCT($A$131,D53))","v":"0.0888973270786701+0.0153496815322041i"},{"$f":"IMSUM(E52,IMPRODUCT($A$131,E54))","v":"0.0898218020708692+0.023875229350524i"},{"$f":"IMSUM(F52,IMPRODUCT($A$131,F56))","v":"0.0807132563293754+0.0245085362433595i"},{"$f":"IMSUM(G52,IMPRODUCT($A$131,G60))","v":"0.00259647194993901+0.239990695148837i"},{"$f":"IMSUM(H36,IMPRODUCT($A$67,H52))","v":"3.03576608295941E-17-0.479981390297674i"},{"$f":"IMSUM(I20,IMPRODUCT($A$35,I52))","v":"-0.998217901071556+0.000640419622334426i"},{"$f":"IMSUM(J52,IMPRODUCT($A$83,J116))","v":"-0.995697196689693+0.000640419622334428i"},-0.99569719668969303,null,{"$f":"計算!AQ52","v":"-0.0000189580497473472-0.0000113753627110054i"},{"$f":"N10","v":"-0.00206576962459919-0.000143978260713351i"},{"$f":"IMSUM(O52,IMPRODUCT($A$131,O53))","v":"-0.00201850789818253-0.000130865381008092i"},{"$f":"IMSUM(P52,IMPRODUCT($A$131,P54))","v":"-0.00131311247830465-0.000492478602667651i"},{"$f":"IMSUM(Q52,IMPRODUCT($A$131,Q56))","v":"-0.00143170696808029-0.00138447160428462i"},{"$f":"IMSUM(R52,IMPRODUCT($A$131,R60))","v":"-0.00033830135162641-0.0106856885413558i"},{"$f":"IMSUM(S36,IMPRODUCT($A$67,S52))","v":"-1.02999206386123E-18+0.0213713770827116i"},{"$f":"IMSUM(T20,IMPRODUCT($A$35,T52))","v":"0.0328067672816109-0.000122764764542252i"},{"$f":"IMSUM(U52,IMPRODUCT($A$83,U116))","v":"0.0648009017632931-0.000122764764542231i"},6.4800901763293103E-2,null,{"$f":"計算!AR52","v":"-0.0000471216873579609+0.0000048277350635186i"},{"$f":"Y10","v":"-0.000754117808422959+0.000647918051809654i"},{"$f":"IMSUM(Z52,IMPRODUCT($A$131,Z53))","v":"-0.000665159742655476+0.0007115618359177i"},{"$f":"IMSUM(AA52,IMPRODUCT($A$131,AA54))","v":"-0.000598952765207346+0.000348927275805945i"},{"$f":"IMSUM(AB52,IMPRODUCT($A$131,AB56))","v":"-0.00100575370447688-0.00007686336260393i"},{"$f":"IMSUM(AC52,IMPRODUCT($A$131,AC60))","v":"0.0011521819123532+0.0016666264625188i"},{"$f":"IMSUM(AD36,IMPRODUCT($A$67,AD52))","v":"-0.0033332529250376i"},{"$f":"IMSUM(AE20,IMPRODUCT($A$35,AE52))","v":"0.00493728922257468+0.000251709718458771i"},{"$f":"IMSUM(AF52,IMPRODUCT($A$83,AF116))","v":"0.0108652783790828+0.000251709718458775i"},1.0865278379082801E-2]
["-0.773010453362737-0.634393284163645i",3.828125,{"$f":"計算!AO53","v":"0.000028153852149937+0.0000603757354946799i"},{"$f":"IMCONJUGATE(C62)","v":"0.0000633941452020518+0.000243321366993682i"},{"$f":"IMSUM(D52,IMPRODUCT($A$67,D53))","v":"0.0887705387882659+0.0148630387982167i"},{"$f":"IMSUM(E53,IMPRODUCT($A$99,E55))","v":"0.0964285722579607+0.0105125116421855i"},{"$f":"IMSUM(F53,IMPRODUCT($A$115,F57))","v":"0.0895867055083381+0.00523684832919591i"},{"$f":"IMSUM(G53,IMPRODUCT($A$123,G61))","v":"0.0731490401785695+0.236144483353967i"},{"$f":"IMSUM(H37,IMPRODUCT($A$63,H53))","v":"-0.0484616789630578-0.492039683781533i"},{"$f":"IMSUM(I21,IMPRODUCT($A$33,I53))","v":"-0.998619800034005-0.000640419622334169i"},{"$f":"IMSUM(J53,IMPRODUCT($A$82,J117))","v":"-0.998549504937547-0.000640419622335421i"},-0.99854950493754702,null,{"$f":"計算!AQ53","v":"-0.000018382998678692+4.48424168202588E-06i"},{"$f":"IMCONJUGATE(N62)","v":"0.0000472617264166636+0.0000131128797052588i"},{"$f":"IMSUM(O52,IMPRODUCT($A$67,O53))","v":"-0.00211303135101585-0.00015709114041861i"},{"$f":"IMSUM(P53,IMPRODUCT($A$99,P55))","v":"-0.00197490147676407-0.00100627819141803i"},{"$f":"IMSUM(Q53,IMPRODUCT($A$115,Q57))","v":"-0.0013085331319518-0.00145704433836457i"},{"$f":"IMSUM(R53,IMPRODUCT($A$123,R61))","v":"-0.00605056491197679-0.0128816761556753i"},{"$f":"IMSUM(S37,IMPRODUCT($A$63,S53))","v":"0.00276082561803596+0.0280311329103947i"},{"$f":"IMSUM(T21,IMPRODUCT($A$33,T53))","v":"0.0304372386862328+0.00012276476454227i"},{"$f":"IMSUM(U53,IMPRODUCT($A$82,U117))","v":"0.0611973846393439+0.000122764764542367i"},6.1197384639343898E-2,null,{"$f":"計算!AR53","v":"0.0000149142068023924+0.0000115497130517515i"},{"$f":"IMCONJUGATE(Y62)","v":"0.0000889580657674828+0.0000636437841080455i"},{"$f":"IMSUM(Z52,IMPRODUCT($A$67,Z53))","v":"-0.000843075874190442+0.000584274267701609i"},{"$f":"IMSUM(AA53,IMPRODUCT($A$99,AA55))","v":"-0.000864691849421637-0.000281959652223619i"},{"$f":"IMSUM(AB53,IMPRODUCT($A$115,AB57))","v":"-0.000568199894726605-0.00105844047238282i"},{"$f":"IMSUM(AC53,IMPRODUCT($A$123,AC61))","v":"0.000831051593411915-0.0021276339496979i"},{"$f":"IMSUM(AD37,IMPRODUCT($A$63,AD53))","v":"0.00035183785784798+0.00357226971954184i"},{"$f":"IMSUM(AE21,IMPRODUCT($A$33,AE53))","v":"0.00698910439726349-0.000251709718458774i"},{"$f":"IMSUM(AF53,IMPRODUCT($A$82,AF117))","v":"0.0133086459506816-0.000251709718458776i"},1.33086459506816E-2]
["-0.803207531480645-0.595699304492433i",3.90625,{"$f":"計算!AO54","v":"-4.50110619138377E-34+2.1768413277525E-34i"},{"$f":"C42","v":"-0.00171302608191606+0.000433757174312539i"},{"$f":"IMSUM(D54,IMPRODUCT($A$131,D55))","v":"0.00092447499219905+0.0085255478183199i"},{"$f":"IMSUM(E52,IMPRODUCT($A$67,E54))","v":"0.087972852086471+0.0068241337138842i"},{"$f":"IMSUM(F54,IMPRODUCT($A$99,F58))","v":"0.0879992345235702-0.00124088255164153i"},{"$f":"IMSUM(G54,IMPRODUCT($A$115,G62))","v":"0.137004544091374+0.209273836572602i"},{"$f":"IMSUM(H38,IMPRODUCT($A$59,H54))","v":"-0.0975921708482767-0.490628974627834i"},{"$f":"IMSUM(I22,IMPRODUCT($A$31,I54))","v":"-1.00329276100677+0.000640419622334547i"},{"$f":"IMSUM(J54,IMPRODUCT($A$81,J118))","v":"-1.00592954062863+0.000640419622335075i"},-1.0059295406286299,null,{"$f":"計算!AQ54","v":"-1.4243215309305E-34-2.3369286152126E-35i"},{"$f":"N42","v":"-0.0000718958155607674-0.000249871547955672i"},{"$f":"IMSUM(O54,IMPRODUCT($A$131,O55))","v":"0.000705395419877885-0.000361613221659559i"},{"$f":"IMSUM(P52,IMPRODUCT($A$67,P54))","v":"-0.00272390331806042+0.000230747840651467i"},{"$f":"IMSUM(Q54,IMPRODUCT($A$99,Q58))","v":"-0.00213483027485655+0.000169695628476363i"},{"$f":"IMSUM(R54,IMPRODUCT($A$115,R62))","v":"-0.00990473806281496-0.0119055122451111i"},{"$f":"IMSUM(S38,IMPRODUCT($A$59,S54))","v":"0.00600950347302112+0.0302118141379864i"},{"$f":"IMSUM(T22,IMPRODUCT($A$31,T54))","v":"0.0325638659116352-0.000122764764542283i"},{"$f":"IMSUM(U54,IMPRODUCT($A$81,U118))","v":"0.0664579448269611-0.000122764764542207i"},6.6457944826961102E-2,null,{"$f":"計算!AR54","v":"9.8972263277393E-36+1.67495115165902E-35i"},{"$f":"Y42","v":"-0.000400013471238549-0.00017050929244028i"},{"$f":"IMSUM(Z54,IMPRODUCT($A$131,Z55))","v":"0.00006620697744813-0.000362634560111755i"},{"$f":"IMSUM(AA52,IMPRODUCT($A$67,AA54))","v":"-0.000731366720103606+0.00107419639602946i"},{"$f":"IMSUM(AB54,IMPRODUCT($A$99,AB58))","v":"-9.97740402859009E-07+0.000918032313516427i"},{"$f":"IMSUM(AC54,IMPRODUCT($A$115,AC62))","v":"-0.00121975331315081-0.00106990099490273i"},{"$f":"IMSUM(AD38,IMPRODUCT($A$59,AD54))","v":"0.000611510145302918+0.003074269103317i"},{"$f":"IMSUM(AE22,IMPRODUCT($A$31,AE54))","v":"0.0037864353584142+0.00025170971845878i"},{"$f":"IMSUM(AF54,IMPRODUCT($A$81,AF118))","v":"0.00690575656482728+0.000251709718458779i"},6.9057565648272803E-3]
["-0.831469612302545-0.555570233019602i",3.984375,{"$f":"計算!AO55","v":"7.04461454137944E-06-0.0000263048450923055i"},{"$f":"IMCONJUGATE(C30)","v":"0.00263750107411511+0.00809179064400736i"},{"$f":"IMSUM(D54,IMPRODUCT($A$67,D55))","v":"-0.00435052715603117-0.00765803346969482i"},{"$f":"IMSUM(E53,IMPRODUCT($A$35,E55))","v":"0.0811125053185711+0.0192135659542479i"},{"$f":"IMSUM(F55,IMPRODUCT($A$83,F59))","v":"0.0851838110640624+0.0121002832344736i"},{"$f":"IMSUM(G55,IMPRODUCT($A$107,G63))","v":"0.185606836499715+0.153966345963397i"},{"$f":"IMSUM(H39,IMPRODUCT($A$55,H55))","v":"-0.140005020150055-0.461534698468243i"},{"$f":"IMSUM(I23,IMPRODUCT($A$29,I55))","v":"-0.968562499023453-0.000640419622334967i"},{"$f":"IMSUM(J55,IMPRODUCT($A$80,J119))","v":"-0.936985768389948-0.000640419622333543i"},-0.93698576838994796,null,{"$f":"計算!AQ55","v":"2.16341022877184E-06-2.84262551367561E-06i"},{"$f":"IMCONJUGATE(N30)","v":"0.000777291235438652-0.000111741673703887i"},{"$f":"IMSUM(O54,IMPRODUCT($A$67,O55))","v":"-0.000849187050999419-0.000138129874251785i"},{"$f":"IMSUM(P53,IMPRODUCT($A$35,P55))","v":"-0.00225116122526764+0.000692095910580809i"},{"$f":"IMSUM(Q55,IMPRODUCT($A$83,Q59))","v":"-0.0016268868562667+0.00110357896394617i"},{"$f":"IMSUM(R55,IMPRODUCT($A$107,R63))","v":"-0.0135730369406731-0.0110495792446193i"},{"$f":"IMSUM(S39,IMPRODUCT($A$55,S55))","v":"0.0101610541900182+0.0334965066015717i"},{"$f":"IMSUM(T23,IMPRODUCT($A$29,T55))","v":"0.0408391495780201+0.000122764764542283i"},{"$f":"IMSUM(U55,IMPRODUCT($A$80,U119))","v":"0.0815181782489646+0.000122764764542307i"},8.1518178248964596E-2,null,{"$f":"計算!AR55","v":"1.95553608071339E-07-1.10887859496679E-07i"},{"$f":"IMCONJUGATE(Y30)","v":"0.000466220448686679-0.000192125267671475i"},{"$f":"IMSUM(Z54,IMPRODUCT($A$67,Z55))","v":"-0.000866233919925228+0.000021615975231195i"},{"$f":"IMSUM(AA53,IMPRODUCT($A$35,AA55))","v":"-0.000821459898959247+0.00145050818762684i"},{"$f":"IMSUM(AB55,IMPRODUCT($A$83,AB59))","v":"-0.000437575510357174+0.00178514253182339i"},{"$f":"IMSUM(AC55,IMPRODUCT($A$107,AC63))","v":"-0.00298675903853732-0.00031109598304847i"},{"$f":"IMSUM(AD39,IMPRODUCT($A$55,AD55))","v":"0.00145499572289008+0.00479647809426348i"},{"$f":"IMSUM(AE23,IMPRODUCT($A$29,AE55))","v":"0.00692899582987594-0.000251709718458754i"},{"$f":"IMSUM(AF55,IMPRODUCT($A$80,AF119))","v":"0.0134898445202946-0.000251709718458748i"},1.34898445202946E-2]
["-0.857728610000272-0.514102744193222i",4.0625,{"$f":"計算!AO56","v":"-0.0000310641049679025-0.0000848300534659311i"},{"$f":"C26","v":"-0.00841266200852364+0.000966350018306506i"},{"$f":"IMSUM(D56,IMPRODUCT($A$131,D57))","v":"-0.00858678100350975+0.00030346222786813i"},{"$f":"IMSUM(E56,IMPRODUCT($A$131,E58))","v":"-0.00910854574149377+0.000633306892835499i"},{"$f":"IMSUM(F52,IMPRODUCT($A$67,F56))","v":"0.098930347812363+0.0232419224576885i"},{"$f":"IMSUM(G56,IMPRODUCT($A$99,G64))","v":"0.211438586422262+0.0880983178139555i"},{"$f":"IMSUM(H40,IMPRODUCT($A$51,H56))","v":"-0.175313058140259-0.423243162623317i"},{"$f":"IMSUM(I24,IMPRODUCT($A$27,I56))","v":"-0.919773789782586+0.000640419622334295i"},{"$f":"IMSUM(J56,IMPRODUCT($A$79,J120))","v":"-0.838094002334227+0.000640419622335003i"},-0.83809400233422704,null,{"$f":"計算!AQ56","v":"4.95831955795085E-06-2.63978724247169E-06i"},{"$f":"N26","v":"-0.0000444147770161719-0.0007508476291151i"},{"$f":"IMSUM(O56,IMPRODUCT($A$131,O57))","v":"-0.0000898233509753695-0.000740533022410424i"},{"$f":"IMSUM(P56,IMPRODUCT($A$131,P58))","v":"-0.000118594489775635-0.000891993001616974i"},{"$f":"IMSUM(Q52,IMPRODUCT($A$67,Q56))","v":"-0.00119451798852901+0.000399514398949323i"},{"$f":"IMSUM(R56,IMPRODUCT($A$99,R64))","v":"-0.015374398106306-0.00571228646872492i"},{"$f":"IMSUM(S40,IMPRODUCT($A$51,S56))","v":"0.0125444311282399+0.0302849357620521i"},{"$f":"IMSUM(T24,IMPRODUCT($A$27,T56))","v":"0.0362965499327681-0.000122764764542207i"},{"$f":"IMSUM(U56,IMPRODUCT($A$79,U120))","v":"0.0707932071958228-0.000122764764542263i"},7.0793207195822799E-2,null,{"$f":"計算!AR56","v":"7.58077282658752E-06+1.98388510108131E-06i"},{"$f":"Y26","v":"-0.000234298360954801-0.000605733852902518i"},{"$f":"IMSUM(Z56,IMPRODUCT($A$131,Z57))","v":"-0.000281482510891284-0.000578079809055311i"},{"$f":"IMSUM(AA56,IMPRODUCT($A$131,AA58))","v":"-0.000406800939269535-0.000425790638409875i"},{"$f":"IMSUM(AB52,IMPRODUCT($A$67,AB56))","v":"-0.000192151825937811+0.00077471791421582i"},{"$f":"IMSUM(AC56,IMPRODUCT($A$99,AC64))","v":"-0.00448996906369076-0.0015182097911093i"},{"$f":"IMSUM(AD40,IMPRODUCT($A$51,AD56))","v":"0.00361956092480565+0.00873839307450151i"},{"$f":"IMSUM(AE24,IMPRODUCT($A$27,AE56))","v":"0.0159280672283512+0.000251709718458778i"},{"$f":"IMSUM(AF56,IMPRODUCT($A$79,AF120))","v":"0.0335739744003841+0.00025170971845878i"},3.35739744003841E-2]
["-0.881921264348355-0.471396736825998i",4.140625,{"$f":"計算!AO57","v":"-0.000167660748702623-0.00010116413214811i"},{"$f":"IMCONJUGATE(C46)","v":"-0.000174118994986108-0.000662887790438376i"},{"$f":"IMSUM(D56,IMPRODUCT($A$67,D57))","v":"-0.00823854301353753+0.00162923780874488i"},{"$f":"IMSUM(E57,IMPRODUCT($A$99,E59))","v":"-0.00856838767850491+0.00110747307076087i"},{"$f":"IMSUM(F53,IMPRODUCT($A$51,F57))","v":"0.103270439007583+0.0157881749551751i"},{"$f":"IMSUM(G57,IMPRODUCT($A$91,G65))","v":"0.226388263436315+0.0239072041135984i"},{"$f":"IMSUM(H41,IMPRODUCT($A$47,H57))","v":"-0.21461888079375-0.401523684650619i"},{"$f":"IMSUM(I25,IMPRODUCT($A$25,I57))","v":"-0.913674193682664-0.000640419622334454i"},{"$f":"IMSUM(J57,IMPRODUCT($A$78,J121))","v":"-0.82901648729018-0.000640419622334829i"},-0.82901648729017996,null,{"$f":"計算!AQ57","v":"4.38552231271392E-06-0.0000332424525697005i"},{"$f":"IMCONJUGATE(N46)","v":"-0.0000454085739591976+0.0000103146067046759i"},{"$f":"IMSUM(O56,IMPRODUCT($A$67,O57))","v":"0.0000009937969430257-0.000761162235819776i"},{"$f":"IMSUM(P57,IMPRODUCT($A$99,P59))","v":"0.000152453776149576-0.000789933374620041i"},{"$f":"IMSUM(Q53,IMPRODUCT($A$51,Q57))","v":"-0.00264126982157634-0.000555512044471487i"},{"$f":"IMSUM(R57,IMPRODUCT($A$91,R65))","v":"-0.0115694322282408-0.000914560812207649i"},{"$f":"IMSUM(S41,IMPRODUCT($A$47,S57))","v":"0.0109395766862489+0.0204665084606506i"},{"$f":"IMSUM(T25,IMPRODUCT($A$25,T57))","v":"0.0164224526304921+0.000122764764542206i"},{"$f":"IMSUM(U57,IMPRODUCT($A$78,U121))","v":"0.0330163556415182+0.0001227647645423i"},3.3016355641518197E-2,null,{"$f":"計算!AR57","v":"-0.0000264199099055346-0.0000702254400645765i"},{"$f":"IMCONJUGATE(Y46)","v":"-0.0000471841499364835+0.0000276540438472069i"},{"$f":"IMSUM(Z56,IMPRODUCT($A$67,Z57))","v":"-0.000187114211018317-0.000633387896749725i"},{"$f":"IMSUM(AA57,IMPRODUCT($A$99,AA59))","v":"-0.000339403381663753-0.000758706325127976i"},{"$f":"IMSUM(AB53,IMPRODUCT($A$51,AB57))","v":"-0.00116118380411667+0.000494521167935584i"},{"$f":"IMSUM(AC57,IMPRODUCT($A$91,AC65))","v":"-0.00605514482256365+0.000475676741961933i"},{"$f":"IMSUM(AD41,IMPRODUCT($A$47,AD57))","v":"0.00563730457443563+0.0105466550559474i"},{"$f":"IMSUM(AE25,IMPRODUCT($A$25,AE57))","v":"0.0205908601863369-0.000251709718458785i"},{"$f":"IMSUM(AF57,IMPRODUCT($A$78,AF121))","v":"0.0413306591893538-0.000251709718458811i"},4.1330659189353802E-2]
["-0.903989293123443-0.427555093430282i",4.21875,{"$f":"計算!AO58","v":"-0.000521764737984015+0.000329844664967374i"},{"$f":"C58","v":"-0.000521764737984015+0.000329844664967374i"},{"$f":"IMSUM(D58,IMPRODUCT($A$131,D59))","v":"-0.00052176473798402+0.000329844664967369i"},{"$f":"IMSUM(E56,IMPRODUCT($A$67,E58))","v":"-0.00806501626552573-0.000026382437099239i"},{"$f":"IMSUM(F54,IMPRODUCT($A$35,F58))","v":"0.0879464696493718+0.0148891499794099i"},{"$f":"IMSUM(G58,IMPRODUCT($A$83,G66))","v":"0.233229797908141-0.0514537273888203i"},{"$f":"IMSUM(H42,IMPRODUCT($A$43,H58))","v":"-0.265325317320906-0.397087398883517i"},{"$f":"IMSUM(I26,IMPRODUCT($A$23,I58))","v":"-0.959349714858042+0.000640419622334722i"},{"$f":"IMSUM(J58,IMPRODUCT($A$77,J122))","v":"-0.918636684776671+0.000640419622334889i"},-0.91863668477667104,null,{"$f":"計算!AQ58","v":"-0.0000287711388002649-0.00015145997920655i"},{"$f":"N58","v":"-0.0000287711388002649-0.00015145997920655i"},{"$f":"IMSUM(O58,IMPRODUCT($A$131,O59))","v":"-0.0000287711388002652-0.00015145997920655i"},{"$f":"IMSUM(P56,IMPRODUCT($A$67,P58))","v":"-0.0000610522121751043-0.000589073043203874i"},{"$f":"IMSUM(Q54,IMPRODUCT($A$35,Q58))","v":"-0.00331297636126429+0.000291800052826571i"},{"$f":"IMSUM(R58,IMPRODUCT($A$83,R66))","v":"-0.00804581294269396-0.000117036104549559i"},{"$f":"IMSUM(S42,IMPRODUCT($A$43,S58))","v":"0.00874287796662744+0.0130846415471358i"},{"$f":"IMSUM(T26,IMPRODUCT($A$23,T58))","v":"0.0024226325411325-0.000122764764542243i"},{"$f":"IMSUM(U58,IMPRODUCT($A$77,U122))","v":"0.00578721744936105-0.000122764764542288i"},5.78721744936105E-3,null,{"$f":"計算!AR58","v":"-0.000125318428378251+0.000152289170645436i"},{"$f":"Y58","v":"-0.000125318428378251+0.000152289170645436i"},{"$f":"IMSUM(Z58,IMPRODUCT($A$131,Z59))","v":"-0.000125318428378251+0.000152289170645436i"},{"$f":"IMSUM(AA56,IMPRODUCT($A$67,AA58))","v":"-0.000156164082513033-0.000730368979700747i"},{"$f":"IMSUM(AB54,IMPRODUCT($A$35,AB58))","v":"-0.00146173569980435+0.00123036047854249i"},{"$f":"IMSUM(AC58,IMPRODUCT($A$83,AC66))","v":"-0.00334726890062635+0.00209492275952538i"},{"$f":"IMSUM(AD42,IMPRODUCT($A$43,AD58))","v":"0.00410194306042348+0.00613899162235549i"},{"$f":"IMSUM(AE26,IMPRODUCT($A$23,AE58))","v":"0.010686098270491+0.000251709718458768i"},{"$f":"IMSUM(AF58,IMPRODUCT($A$77,AF122))","v":"0.0213507115296903+0.000251709718458762i"},2.13507115296903E-2]
["-0.923879532511287-0.38268343236509i",4.296875,{"$f":"計算!AO59","v":"0.000406886544728887+0.00053270617029066i"},{"$f":"IMCONJUGATE(C14)","v":"-4.55883585921008E-18-5.15089641356398E-18i"},{"$f":"IMSUM(D58,IMPRODUCT($A$67,D59))","v":"-0.00052176473798401+0.000329844664967379i"},{"$f":"IMSUM(E57,IMPRODUCT($A$35,E59))","v":"-0.00790869834857015+0.00215100254672889i"},{"$f":"IMSUM(F55,IMPRODUCT($A$19,F59))","v":"0.0770411995730798+0.0263268486740222i"},{"$f":"IMSUM(G59,IMPRODUCT($A$75,G67))","v":"0.20845744607601-0.133185931817482i"},{"$f":"IMSUM(H43,IMPRODUCT($A$39,H59))","v":"-0.312916350063547-0.381289675766553i"},{"$f":"IMSUM(I27,IMPRODUCT($A$21,I59))","v":"-0.988228844449693-0.0006404196223336i"},{"$f":"IMSUM(J59,IMPRODUCT($A$76,J123))","v":"-0.977105623322668-0.000640419622332528i"},-0.97710562332266804,null,{"$f":"計算!AQ59","v":"0.0000177508002401331+0.000223068442900704i"},{"$f":"IMCONJUGATE(N14)","v":"-2.71927460209439E-19+1.1041679854984E-19i"},{"$f":"IMSUM(O58,IMPRODUCT($A$67,O59))","v":"-0.0000287711388002646-0.00015145997920655i"},{"$f":"IMSUM(P57,IMPRODUCT($A$35,P59))","v":"-0.000150466182263524-0.000732391097019511i"},{"$f":"IMSUM(Q55,IMPRODUCT($A$19,Q59))","v":"-0.00287543559426858+0.000280612857215446i"},{"$f":"IMSUM(R59,IMPRODUCT($A$75,R67))","v":"-0.00771812744915993+0.0028943770756942i"},{"$f":"IMSUM(S43,IMPRODUCT($A$39,S59))","v":"0.0103674842269025+0.0126328160819584i"},{"$f":"IMSUM(T27,IMPRODUCT($A$21,T59))","v":"0.0014973928325322+0.000122764764542231i"},{"$f":"IMSUM(U59,IMPRODUCT($A$76,U123))","v":"0.00280597166274594+0.000122764764542204i"},2.8059716627459401E-3,null,{"$f":"計算!AR59","v":"0.0000399051927179675-0.0000486884755069118i"},{"$f":"IMCONJUGATE(Y14)","v":"-5.90932015577002E-20+1.78861141455501E-20i"},{"$f":"IMSUM(Z58,IMPRODUCT($A$67,Z59))","v":"-0.000125318428378251+0.000152289170645436i"},{"$f":"IMSUM(AA57,IMPRODUCT($A$35,AA59))","v":"-0.000034825040372881-0.000508069468371474i"},{"$f":"IMSUM(AB55,IMPRODUCT($A$19,AB59))","v":"-0.00120534428756132+0.00111587384343029i"},{"$f":"IMSUM(AC59,IMPRODUCT($A$75,AC67))","v":"-0.00157801097021393-0.00052766304698641i"},{"$f":"IMSUM(AD43,IMPRODUCT($A$39,AD59))","v":"0.00145015046223895+0.00176701345087118i"},{"$f":"IMSUM(AE27,IMPRODUCT($A$21,AE59))","v":"0.00217891648728164-0.000251709718458774i"},{"$f":"IMSUM(AF59,IMPRODUCT($A$76,AF123))","v":"0.00375932789687394-0.000251709718458761i"},3.7593278968739399E-3]
["-0.941544065183021-0.33688985339222i",4.375,{"$f":"計算!AO60","v":"0.000383395194594554-0.000020452408747372i"},{"$f":"C18","v":"0.00515141451076867+0.0403397477209371i"},{"$f":"IMSUM(D60,IMPRODUCT($A$131,D61))","v":"0.00515141451076867+0.0403397477209371i"},{"$f":"IMSUM(E60,IMPRODUCT($A$131,E62))","v":"-0.00663019451158473+0.0514869601477889i"},{"$f":"IMSUM(F60,IMPRODUCT($A$131,F64))","v":"-0.0781167843794364+0.215482158905477i"},{"$f":"IMSUM(G52,IMPRODUCT($A$67,G60))","v":"0.158830040708812-0.190973622662118i"},{"$f":"IMSUM(H44,IMPRODUCT($A$35,H60))","v":"-0.34980366337093-0.34980366337093i"},{"$f":"IMSUM(I28,IMPRODUCT($A$19,I60))","v":"-0.99686607637558+0.000640419622334138i"},{"$f":"IMSUM(J60,IMPRODUCT($A$75,J124))","v":"-0.992584134569431+0.000640419622334609i"},-0.99258413456943095,null,{"$f":"計算!AQ60","v":"0.0000536074722742966+0.000016365964423416i"},{"$f":"N18","v":"-0.00399837027180727+0.00136751698884152i"},{"$f":"IMSUM(O60,IMPRODUCT($A$131,O61))","v":"-0.00399837027180727+0.00136751698884152i"},{"$f":"IMSUM(P60,IMPRODUCT($A$131,P62))","v":"-0.00250919762561018+0.00243933159035293i"},{"$f":"IMSUM(Q60,IMPRODUCT($A$131,Q64))","v":"0.00109340561645388-0.00930121693707117i"},{"$f":"IMSUM(R52,IMPRODUCT($A$67,R60))","v":"-0.00252511258453417+0.00791674533278655i"},{"$f":"IMSUM(S44,IMPRODUCT($A$35,S60))","v":"0.0104418579173207+0.0104418579173207i"},{"$f":"IMSUM(T28,IMPRODUCT($A$19,T60))","v":"-0.000587254447397901-0.000122764764542248i"},{"$f":"IMSUM(U60,IMPRODUCT($A$75,U124))","v":"-0.000879582862604109-0.000122764764542292i"},-8.7958286260410897E-4,null,{"$f":"計算!AR60","v":"-0.0000017610164215351-1.99006186651739E-07i"},{"$f":"Y18","v":"-0.000114463094357273+0.00155483793271434i"},{"$f":"IMSUM(Z60,IMPRODUCT($A$131,Z61))","v":"-0.000114463094357273+0.00155483793271434i"},{"$f":"IMSUM(AA60,IMPRODUCT($A$131,AA62))","v":"-0.0000674960442475223+0.00302065353143784i"},{"$f":"IMSUM(AB60,IMPRODUCT($A$131,AB64))","v":"0.00215793561683008+0.00174348982512273i"},{"$f":"IMSUM(AC52,IMPRODUCT($A$67,AC60))","v":"-0.00316368932130696-0.00182035318772666i"},{"$f":"IMSUM(AD44,IMPRODUCT($A$35,AD60))","v":"0.0013433361335803+0.0013433361335803i"},{"$f":"IMSUM(AE28,IMPRODUCT($A$19,AE60))","v":"0.0001239735028585+0.00025170971845877i"},{"$f":"IMSUM(AF60,IMPRODUCT($A$75,AF124))","v":"0.000113475763366206+0.000251709718458787i"},1.13475763366206E-4]
["-0.956940335732209-0.290284677254462i",4.453125,{"$f":"計算!AO61","v":"0.000247833777864863-0.000190980804313266i"},{"$f":"IMCONJUGATE(C54)","v":"-4.50110619138377E-34-2.1768413277525E-34i"},{"$f":"IMSUM(D60,IMPRODUCT($A$67,D61))","v":"0.00515141451076867+0.0403397477209371i"},{"$f":"IMSUM(E61,IMPRODUCT($A$99,E63))","v":"0.0167819784978807+0.0513841020327977i"},{"$f":"IMSUM(F61,IMPRODUCT($A$115,F65))","v":"0.0731781037701413+0.219621260088437i"},{"$f":"IMSUM(G53,IMPRODUCT($A$59,G61))","v":"0.106024370838107-0.225670786695575i"},{"$f":"IMSUM(H45,IMPRODUCT($A$31,H61))","v":"-0.384964474561579-0.315932179495188i"},{"$f":"IMSUM(I29,IMPRODUCT($A$17,I61))","v":"-0.999147615220654-0.00064041962233607i"},{"$f":"IMSUM(J61,IMPRODUCT($A$74,J125))","v":"-0.999196574521975-0.000640419622336895i"},-0.99919657452197497,null,{"$f":"計算!AQ61","v":"0.0000151959266740715+0.0000111096413666006i"},{"$f":"IMCONJUGATE(N54)","v":"-1.4243215309305E-34+2.3369286152126E-35i"},{"$f":"IMSUM(O60,IMPRODUCT($A$67,O61))","v":"-0.00399837027180727+0.00136751698884152i"},{"$f":"IMSUM(P61,IMPRODUCT($A$99,P63))","v":"-0.00283407069731428-0.00017716898962429i"},{"$f":"IMSUM(Q61,IMPRODUCT($A$115,Q65))","v":"-0.00875308342143904-0.00874028650452632i"},{"$f":"IMSUM(R53,IMPRODUCT($A$59,R61))","v":"0.00343349864807319+0.00996758747894613i"},{"$f":"IMSUM(S45,IMPRODUCT($A$31,S61))","v":"0.0110881969003588+0.00909984802465665i"},{"$f":"IMSUM(T29,IMPRODUCT($A$17,T61))","v":"-0.0007911486849809+0.000122764764542323i"},{"$f":"IMSUM(U61,IMPRODUCT($A$74,U125))","v":"-0.00194990829876075+0.000122764764542343i"},-1.9499082987607501E-3,null,{"$f":"計算!AR61","v":"-2.38549425400444E-06+0.000027258005646811i"},{"$f":"IMCONJUGATE(Y54)","v":"9.8972263277393E-36-1.67495115165902E-35i"},{"$f":"IMSUM(Z60,IMPRODUCT($A$67,Z61))","v":"-0.000114463094357273+0.00155483793271434i"},{"$f":"IMSUM(AA61,IMPRODUCT($A$99,AA63))","v":"0.00136950250095355+0.00150268276762751i"},{"$f":"IMSUM(AB61,IMPRODUCT($A$115,AB65))","v":"0.000883577180965839-0.00152327633220878i"},{"$f":"IMSUM(AC53,IMPRODUCT($A$59,AC61))","v":"-0.00196745138286513+0.00001075300493226i"},{"$f":"IMSUM(AD45,IMPRODUCT($A$31,AD61))","v":"0.00144851872579926+0.00118876859638161i"},{"$f":"IMSUM(AE29,IMPRODUCT($A$17,AE61))","v":"-0.00106046208759268-0.000251709718458765i"},{"$f":"IMSUM(AF61,IMPRODUCT($A$74,AF125))","v":"-0.00206452757497584-0.000251709718458769i"},-2.06452757497584E-3]
["-0.970031253194544-0.242980179903264i",4.53125,{"$f":"計算!AO62","v":"0.0000633941452020518-0.000243321366993682i"},{"$f":"C50","v":"-0.000368627355246371-0.000241675780130129i"},{"$f":"IMSUM(D62,IMPRODUCT($A$131,D63))","v":"-0.0117816090223534+0.0111472124268518i"},{"$f":"IMSUM(E60,IMPRODUCT($A$67,E62))","v":"0.0169330235331221+0.0291925352940853i"},{"$f":"IMSUM(F62,IMPRODUCT($A$99,F66))","v":"0.183508372141874+0.114204398722794i"},{"$f":"IMSUM(G54,IMPRODUCT($A$51,G62))","v":"0.0389939249557667-0.211755601675886i"},{"$f":"IMSUM(H46,IMPRODUCT($A$27,H62))","v":"-0.358021027900062-0.239222002768731i"},{"$f":"IMSUM(I30,IMPRODUCT($A$15,I62))","v":"-0.999849921085651+0.000640419622334536i"},{"$f":"IMSUM(J62,IMPRODUCT($A$73,J126))","v":"-0.99858399491384+0.000640419622333457i"},-0.99858399491383998,null,{"$f":"計算!AQ62","v":"0.0000472617264166636-0.0000131128797052588i"},{"$f":"N50","v":"-0.0000277566661343603-0.0000462424864907906i"},{"$f":"IMSUM(O62,IMPRODUCT($A$131,O63))","v":"0.00148917264619709+0.00107181460151141i"},{"$f":"IMSUM(P60,IMPRODUCT($A$67,P62))","v":"-0.00548754291800436+0.00029570238733011i"},{"$f":"IMSUM(Q62,IMPRODUCT($A$99,Q66))","v":"-0.0140326158577105-0.00304430688559137i"},{"$f":"IMSUM(R54,IMPRODUCT($A$51,R62))","v":"0.00563507751310186+0.0122449035020639i"},{"$f":"IMSUM(S46,IMPRODUCT($A$27,S62))","v":"0.0181431193067479+0.0121228447459901i"},{"$f":"IMSUM(T30,IMPRODUCT($A$15,T62))","v":"-0.000567011510659098-0.000122764764542303i"},{"$f":"IMSUM(U62,IMPRODUCT($A$73,U126))","v":"-0.000867278001912337-0.000122764764542327i"},-8.6727800191233701E-4,null,{"$f":"計算!AR62","v":"0.0000889580657674828-0.0000636437841080455i"},{"$f":"Y50","v":"-2.59405748854125E-06-0.000009074998293659i"},{"$f":"IMSUM(Z62,IMPRODUCT($A$131,Z63))","v":"0.0000469670501097511+0.0014658155987235i"},{"$f":"IMSUM(AA60,IMPRODUCT($A$67,AA62))","v":"-0.000161430144467024+0.00008902233399084i"},{"$f":"IMSUM(AB62,IMPRODUCT($A$99,AB66))","v":"-0.00226747145302877-0.000543890792830821i"},{"$f":"IMSUM(AC54,IMPRODUCT($A$51,AC62))","v":"0.00121775783234509+0.00290596562193559i"},{"$f":"IMSUM(AD46,IMPRODUCT($A$27,AD62))","v":"0.00434452108343041+0.00290291617993821i"},{"$f":"IMSUM(AE30,IMPRODUCT($A$15,AE62))","v":"-0.00033836635048374+0.000251709718458769i"},{"$f":"IMSUM(AF62,IMPRODUCT($A$73,AF126))","v":"-0.000792364369218329+0.000251709718458754i"},-7.9236436921832902E-4]
["-0.98078528040323-0.195090322016129i",4.609375,{"$f":"計算!AO63","v":"-0.00018901058196883-0.000250224065160968i"},{"$f":"IMCONJUGATE(C22)","v":"-0.011412981667107+0.0113888882069819i"},{"$f":"IMSUM(D62,IMPRODUCT($A$67,D63))","v":"0.0110443543118606-0.011630563987112i"},{"$f":"IMSUM(E61,IMPRODUCT($A$35,E63))","v":"-0.00647914947634333+0.0292953934090765i"},{"$f":"IMSUM(F63,IMPRODUCT($A$83,F67))","v":"0.169497379775417-0.0384889859716349i"},{"$f":"IMSUM(G55,IMPRODUCT($A$43,G63))","v":"-0.0152392143715906-0.129765779494449i"},{"$f":"IMSUM(H47,IMPRODUCT($A$23,H63))","v":"-0.230418909078874-0.123161472836292i"},{"$f":"IMSUM(I31,IMPRODUCT($A$13,I63))","v":"-0.999650122984104-0.000640419622335481i"},{"$f":"IMSUM(J63,IMPRODUCT($A$72,J127))","v":"-1.00057196439671-0.000640419622336117i"},-1.0005719643967099,null,{"$f":"計算!AQ63","v":"0.0000607238586115517-9.89005775175398E-06i"},{"$f":"IMCONJUGATE(N22)","v":"0.00151692931233145+0.0011180570880022i"},{"$f":"IMSUM(O62,IMPRODUCT($A$67,O63))","v":"-0.00154468597846581-0.00116429957449299i"},{"$f":"IMSUM(P61,IMPRODUCT($A$35,P63))","v":"-0.00516266984630026+0.00291220296730733i"},{"$f":"IMSUM(Q63,IMPRODUCT($A$83,Q67))","v":"-0.0157996478421143+0.00638599125796125i"},{"$f":"IMSUM(R55,IMPRODUCT($A$43,R63))","v":"0.0103192632281397+0.0132567371725117i"},{"$f":"IMSUM(S47,IMPRODUCT($A$23,S63))","v":"0.0250542666634149+0.0133917845346759i"},{"$f":"IMSUM(T31,IMPRODUCT($A$13,T63))","v":"-0.000385608814754499+0.000122764764542181i"},{"$f":"IMSUM(U63,IMPRODUCT($A$72,U127))","v":"-0.00104786365413874+0.000122764764542275i"},-1.0478636541387399E-3,null,{"$f":"計算!AR63","v":"-0.0000790216233697282-0.0000715169398639818i"},{"$f":"IMCONJUGATE(Y22)","v":"0.0000495611075982927+0.00147489059701716i"},{"$f":"IMSUM(Z62,IMPRODUCT($A$67,Z63))","v":"-0.0000521551650868337-0.00148396559531082i"},{"$f":"IMSUM(AA61,IMPRODUCT($A$35,AA63))","v":"-0.00159842868966809+0.00160699309780117i"},{"$f":"IMSUM(AB63,IMPRODUCT($A$83,AB67))","v":"-0.0029122021614445+0.00155294273637349i"},{"$f":"IMSUM(AC55,IMPRODUCT($A$43,AC63))","v":"0.00211160801782298+0.00388138104669525i"},{"$f":"IMSUM(AD47,IMPRODUCT($A$23,AD63))","v":"0.00717824805545097+0.00383685352225566i"},{"$f":"IMSUM(AE31,IMPRODUCT($A$13,AE63))","v":"-0.00028748940407642-0.000251709718458769i"},{"$f":"IMSUM(AF63,IMPRODUCT($A$72,AF127))","v":"-0.000406461476366459-0.000251709718458761i"},-4.0646147636645903E-4]
["-0.989176509964781-0.146730474455362i",4.6875,{"$f":"計算!AO64","v":"-5.87024089065417E-19+5.58438693627085E-19i"},{"$f":"C34","v":"1.99032100924997E-18+1.94671373155057E-18i"},{"$f":"IMSUM(D64,IMPRODUCT($A$131,D65))","v":"0.00676263678042857-0.00129007492553212i"},{"$f":"IMSUM(E64,IMPRODUCT($A$131,E66))","v":"-0.0714865898678517+0.163995198757688i"},{"$f":"IMSUM(F60,IMPRODUCT($A$67,F64))","v":"0.064856395356267-0.112508238609899i"},{"$f":"IMSUM(G56,IMPRODUCT($A$35,G64))","v":"-0.013577890797536-0.0416144728985785i"},{"$f":"IMSUM(H48,IMPRODUCT($A$19,H64))","v":"-0.0806413675378153-0.0334027481224766i"},{"$f":"IMSUM(I32,IMPRODUCT($A$11,I64))","v":"-1.00012776758279+0.000640419622334394i"},{"$f":"IMSUM(J64,IMPRODUCT($A$71,J128))","v":"-0.999148531581086+0.000640419622334325i"},-0.99914853158108596,null,{"$f":"計算!AQ64","v":"-3.22433402851363E-19+3.5049283236711E-20i"},{"$f":"N34","v":"-1.55829847009612E-20+3.36943870326031E-19i"},{"$f":"IMSUM(O64,IMPRODUCT($A$131,O65))","v":"0.000131296984571289-0.00159773779385897i"},{"$f":"IMSUM(P64,IMPRODUCT($A$131,P66))","v":"0.00360260324206406-0.0117405485274241i"},{"$f":"IMSUM(Q60,IMPRODUCT($A$67,Q64))","v":"-0.00611180086767424+0.014179880117777i"},{"$f":"IMSUM(R56,IMPRODUCT($A$35,R64))","v":"0.012985362129248+0.00651131526662356i"},{"$f":"IMSUM(S48,IMPRODUCT($A$19,S64))","v":"0.0202975480638509+0.00840751969096678i"},{"$f":"IMSUM(T32,IMPRODUCT($A$11,T64))","v":"0.000135986659491199-0.000122764764542288i"},{"$f":"IMSUM(U64,IMPRODUCT($A$71,U128))","v":"0.000735260980386102-0.000122764764542375i"},7.35260980386102E-4,null,{"$f":"計算!AR64","v":"1.17937114328498E-19+6.09541141420598E-20i"},{"$f":"Y34","v":"-5.47742057882894E-21-1.1137848033055E-21i"},{"$f":"IMSUM(Z64,IMPRODUCT($A$131,Z65))","v":"0.000796259267127969+0.00041443880112332i"},{"$f":"IMSUM(AA64,IMPRODUCT($A$131,AA66))","v":"0.0022254316610776-0.00127716370631511i"},{"$f":"IMSUM(AB60,IMPRODUCT($A$67,AB64))","v":"-0.00229292770532512+0.00429781723775295i"},{"$f":"IMSUM(AC56,IMPRODUCT($A$35,AC64))","v":"0.00410566541181514+0.00306764561954094i"},{"$f":"IMSUM(AD48,IMPRODUCT($A$19,AD64))","v":"0.00813994249337309+0.0033716745776922i"},{"$f":"IMSUM(AE32,IMPRODUCT($A$11,AE64))","v":"-0.00058859765148591+0.000251709718458763i"},{"$f":"IMSUM(AF64,IMPRODUCT($A$71,AF128))","v":"-0.000636116036961079+0.000251709718458699i"},-6.3611603696107899E-4]
["-0.995184726672197-0.0980171403295608i",4.765625,{"$f":"計算!AO65","v":"-0.000062200252547858-0.000163928216245393i"},{"$f":"IMCONJUGATE(C38)","v":"0.00676263678042857-0.00129007492553212i"},{"$f":"IMSUM(D64,IMPRODUCT($A$67,D65))","v":"-0.00676263678042857+0.00129007492553212i"},{"$f":"IMSUM(E65,IMPRODUCT($A$99,E67))","v":"0.158839717921357+0.0790835526960338i"},{"$f":"IMSUM(F61,IMPRODUCT($A$51,F65))","v":"-0.0396141467743799-0.116853056022841i"},{"$f":"IMSUM(G57,IMPRODUCT($A$27,G65))","v":"-0.019847385421149+0.00766914579675176i"},{"$f":"IMSUM(H49,IMPRODUCT($A$15,H65))","v":"-0.0127516474869536-0.0038681699756969i"},{"$f":"IMSUM(I33,IMPRODUCT($A$9,I65))","v":"-0.999693179207749-0.000640419622335824i"},{"$f":"IMSUM(J65,IMPRODUCT($A$70,J129))","v":"-1.00069200349413-0.000640419622335228i"},-1.00069200349413,null,{"$f":"計算!AQ65","v":"-1.14860712572108E-06-0.0000292739867060293i"},{"$f":"IMCONJUGATE(N38)","v":"0.000131296984571289-0.00159773779385897i"},{"$f":"IMSUM(O64,IMPRODUCT($A$67,O65))","v":"-0.000131296984571289+0.00159773779385897i"},{"$f":"IMSUM(P65,IMPRODUCT($A$99,P67))","v":"-0.0102404124980426-0.00186966442772644i"},{"$f":"IMSUM(Q61,IMPRODUCT($A$51,Q65))","v":"0.00308494202681048+0.00838594852527774i"},{"$f":"IMSUM(R57,IMPRODUCT($A$27,R65))","v":"0.00628689258508813-0.000196463276735325i"},{"$f":"IMSUM(S49,IMPRODUCT($A$15,S65))","v":"0.00734259222498161+0.00222735100052923i"},{"$f":"IMSUM(T33,IMPRODUCT($A$9,T65))","v":"-0.00156412702561819+0.000122764764542258i"},{"$f":"IMSUM(U65,IMPRODUCT($A$70,U129))","v":"-0.00197718064126151+0.000122764764542286i"},-1.9771806412615099E-3,null,{"$f":"計算!AR65","v":"-2.47673056300969E-07+3.02004943183243E-06i"},{"$f":"IMCONJUGATE(Y38)","v":"0.000796259267127969+0.00041443880112332i"},{"$f":"IMSUM(Z64,IMPRODUCT($A$67,Z65))","v":"-0.000796259267127969-0.00041443880112332i"},{"$f":"IMSUM(AA65,IMPRODUCT($A$99,AA67))","v":"-0.00248327728800094-0.00179607511017383i"},{"$f":"IMSUM(AB61,IMPRODUCT($A$51,AB65))","v":"0.00185542782094126+0.0045286418674638i"},{"$f":"IMSUM(AC57,IMPRODUCT($A$27,AC65))","v":"0.00373277721433031+0.000513365593909235i"},{"$f":"IMSUM(AD49,IMPRODUCT($A$15,AD65))","v":"0.00529166142738576+0.00160520794477037i"},{"$f":"IMSUM(AE33,IMPRODUCT($A$9,AE65))","v":"0.000852685629237591-0.000251709718458757i"},{"$f":"IMSUM(AF65,IMPRODUCT($A$70,AF129))","v":"0.00106602514308704-0.000251709718458732i"},1.06602514308704E-3]
["-0.998795456205172-0.049067674327418i",4.84375,{"$f":"計算!AO66","v":"-0.000227874438889274-0.000158540509283451i"},{"$f":"C66","v":"-0.000227874438889274-0.000158540509283451i"},{"$f":"IMSUM(D66,IMPRODUCT($A$131,D67))","v":"-0.0782492266482803+0.16528527368322i"},{"$f":"IMSUM(E64,IMPRODUCT($A$67,E66))","v":"0.0850118634287089-0.166575348608752i"},{"$f":"IMSUM(F62,IMPRODUCT($A$35,F66))","v":"-0.14964232507563-0.0558193281346236i"},{"$f":"IMSUM(G58,IMPRODUCT($A$19,G66))","v":"-0.0573368586093972+0.0812320273476401i"},{"$f":"IMSUM(H50,IMPRODUCT($A$11,H66))","v":"-0.0049897632319376-0.000992525617128703i"},{"$f":"IMSUM(I34,IMPRODUCT($A$7,I66))","v":"-1.00282861919986+0.000640419622333922i"},{"$f":"IMSUM(J66,IMPRODUCT($A$69,J130))","v":"-1.00375075343162+0.000640419622334316i"},-1.0037507534316199,null,{"$f":"計算!AQ66","v":"1.95201795368068E-06-0.0000168476100469158i"},{"$f":"N66","v":"1.95201795368068E-06-0.0000168476100469158i"},{"$f":"IMSUM(O66,IMPRODUCT($A$131,O67))","v":"0.00347130625749277-0.0101428107335651i"},{"$f":"IMSUM(P64,IMPRODUCT($A$67,P66))","v":"-0.00334000927292148+0.00854507293970613i"},{"$f":"IMSUM(Q62,IMPRODUCT($A$35,Q66))","v":"0.00305753002170177+0.00363571166025159i"},{"$f":"IMSUM(R58,IMPRODUCT($A$19,R66))","v":"0.00141986022016538+0.000700636210202701i"},{"$f":"IMSUM(S50,IMPRODUCT($A$11,S66))","v":"0.00307931907159254+0.000612514646447801i"},{"$f":"IMSUM(T34,IMPRODUCT($A$7,T66))","v":"0.0011987304347248-0.000122764764542245i"},{"$f":"IMSUM(U66,IMPRODUCT($A$69,U130))","v":"0.00183188932033661-0.000122764764542236i"},1.8318893203366101E-3,null,{"$f":"計算!AR66","v":"0.0000237680424495589-2.29224328272958E-06i"},{"$f":"Y66","v":"0.0000237680424495589-2.29224328272958E-06i"},{"$f":"IMSUM(Z66,IMPRODUCT($A$131,Z67))","v":"0.00142917239394963-0.00169160250743843i"},{"$f":"IMSUM(AA64,IMPRODUCT($A$67,AA66))","v":"-0.000632913126821661+0.00210604130856175i"},{"$f":"IMSUM(AB62,IMPRODUCT($A$35,AB66))","v":"0.00194461116409473+0.000721935460812501i"},{"$f":"IMSUM(AC58,IMPRODUCT($A$19,AC66))","v":"0.00042379750101765+0.000365798197559596i"},{"$f":"IMSUM(AD50,IMPRODUCT($A$11,AD66))","v":"0.00108985121977441+0.000216784886216939i"},{"$f":"IMSUM(AE34,IMPRODUCT($A$7,AE66))","v":"-0.00160594569289078+0.000251709718458767i"},{"$f":"IMSUM(AF66,IMPRODUCT($A$69,AF130))","v":"-0.00215053176350013+0.000251709718458757i"},-2.1505317635001301E-3]
["-1-1.22514845490862E-16i",4.921875,{"$f":"計算!AO67","v":"-0.000367296638507091+0.0000182377109908072i"},{"$f":"IMCONJUGATE(C6)","v":"-0.078021352209391+0.165443814192503i"},{"$f":"IMSUM(D66,IMPRODUCT($A$67,D67))","v":"0.0777934777705017-0.165602354701786i"},{"$f":"IMSUM(E65,IMPRODUCT($A$35,E67))","v":"-0.172364991482215-0.0765034028449696i"},{"$f":"IMSUM(F63,IMPRODUCT($A$19,F67))","v":"-0.182455678728103+0.0970797727897879i"},{"$f":"IMSUM(G59,IMPRODUCT($A$11,G67))","v":"-0.0543750469298502+0.185839629165526i"},{"$f":"IMSUM(H51,IMPRODUCT($A$7,H67))","v":"0.0038070216679178+0.000374958906683986i"},{"$f":"IMSUM(I35,IMPRODUCT($A$5,I67))","v":"-0.993041260377415-0.000640419622334034i"},{"$f":"IMSUM(J67,IMPRODUCT($A$68,J131))","v":"-0.987681354657003-0.000640419622335138i"},-0.98768135465700302,null,{"$f":"計算!AQ67","v":"-0.0000509012492562255-0.0000670793937099827i"},{"$f":"IMCONJUGATE(N6)","v":"0.00346935423953909-0.0101259631235182i"},{"$f":"IMSUM(O66,IMPRODUCT($A$67,O67))","v":"-0.00346740222158541+0.0101091155134713i"},{"$f":"IMSUM(P65,IMPRODUCT($A$35,P67))","v":"0.00997781852890001+0.00506514001544438i"},{"$f":"IMSUM(Q63,IMPRODUCT($A$19,Q67))","v":"0.00547430814951374-0.00056158532334659i"},{"$f":"IMSUM(R59,IMPRODUCT($A$11,R67))","v":"0.00196725626062277-0.0023331513612633i"},{"$f":"IMSUM(S51,IMPRODUCT($A$7,S67))","v":"0.00239893015605726+0.00023627399762594i"},{"$f":"IMSUM(T35,IMPRODUCT($A$5,T67))","v":"0.00332242373428786+0.000122764764542295i"},{"$f":"IMSUM(U67,IMPRODUCT($A$68,U131))","v":"0.00553453834234223+0.000122764764542348i"},5.5345383423422304E-3,null,{"$f":"計算!AR67","v":"-0.000140313323538631-0.000115708564095222i"},{"$f":"IMCONJUGATE(Y6)","v":"0.00140540435150007-0.0016893102641557i"},{"$f":"IMSUM(Z66,IMPRODUCT($A$67,Z67))","v":"-0.00138163630905051+0.00168701802087297i"},{"$f":"IMSUM(AA65,IMPRODUCT($A$35,AA67))","v":"0.000890758753745001+0.00096719750792719i"},{"$f":"IMSUM(AB63,IMPRODUCT($A$19,AB67))","v":"-0.00028465521789168+0.00166104345922885i"},{"$f":"IMSUM(AC59,IMPRODUCT($A$11,AC67))","v":"-0.000832677604908705+0.00275941073384699i"},{"$f":"IMSUM(AD51,IMPRODUCT($A$7,AD67))","v":"8.34336500306202E-06+8.21749727869872E-07i"},{"$f":"IMSUM(AE35,IMPRODUCT($A$5,AE67))","v":"-0.00139207782965058-0.000251709718458762i"},{"$f":"IMSUM(AF67,IMPRODUCT($A$68,AF131))","v":"-0.00218655913489988-0.000251709718458758i"},-2.1865591348998801E-3]
["-0.998795456205172+0.0490676743274177i",5,{"$f":"計算!AO68","v":"-0.000693415658217693+0.000640419622334446i"},{"$f":"C5","v":"0.100840057074896-0.165000218663926i"},{"$f":"IMSUM(D68,IMPRODUCT($A$131,D69))","v":"0.100472760436389-0.165018456374917i"},{"$f":"IMSUM(E68,IMPRODUCT($A$131,E70))","v":"0.0988786671138373-0.160244236194146i"},{"$f":"IMSUM(F68,IMPRODUCT($A$131,F72))","v":"0.132873792010745-0.189434383998611i"},{"$f":"IMSUM(G68,IMPRODUCT($A$131,G76))","v":"0.164201915823799-0.16850177755112i"},{"$f":"IMSUM(H68,IMPRODUCT($A$131,H84))","v":"-0.00598186833969599-0.000835447953164009i"},{"$f":"IMSUM(I68,IMPRODUCT($A$131,I100))","v":"-0.011963736679392-1.95156391047391E-18i"},{"$f":"IMSUM(J4,IMPRODUCT($A$67,J68))","v":"-0.976526897486692+0.000640419622334403i"},-0.97652689748669197,null,{"$f":"計算!AQ68","v":"-0.0000331950671168181-0.000122764764542256i"},{"$f":"N5","v":"-0.00589461573348303+0.000954204560636947i"},{"$f":"IMSUM(O68,IMPRODUCT($A$131,O69))","v":"-0.00594551698273926+0.00102128395434693i"},{"$f":"IMSUM(P68,IMPRODUCT($A$131,P70))","v":"-0.00673184293230445+0.00115240842083511i"},{"$f":"IMSUM(Q68,IMPRODUCT($A$131,Q72))","v":"-0.00489344144835945+8.62875490168988E-06i"},{"$f":"IMSUM(R68,IMPRODUCT($A$131,R76))","v":"-0.00666028869388274-0.0044081486475063i"},{"$f":"IMSUM(S68,IMPRODUCT($A$131,S84))","v":"0.00032824102431277+0.00015815374310088i"},{"$f":"IMSUM(T68,IMPRODUCT($A$131,T100))","v":"0.00065648204862554"},{"$f":"IMSUM(U4,IMPRODUCT($A$67,U68))","v":"-0.00207307063591015-0.000122764764542256i"},-2.0730706359101498E-3,null,{"$f":"計算!AR68","v":"-0.000218903175971439+0.00025170971845877i"},{"$f":"Y5","v":"-0.00047641313387722+0.0000594747302168491i"},{"$f":"IMSUM(Z68,IMPRODUCT($A$131,Z69))","v":"-0.000616726457415851+0.000175183294312071i"},{"$f":"IMSUM(AA68,IMPRODUCT($A$131,AA70))","v":"-0.00124151583026459+0.0010413032414756i"},{"$f":"IMSUM(AB68,IMPRODUCT($A$131,AB72))","v":"0.00021577661184027+0.000878073910219051i"},{"$f":"IMSUM(AC68,IMPRODUCT($A$131,AC76))","v":"-0.00100606897715877-0.00203469818607239i"},{"$f":"IMSUM(AD68,IMPRODUCT($A$131,AD84))","v":"-0.00231032655436992+0.00042051355927478i"},{"$f":"IMSUM(AE68,IMPRODUCT($A$131,AE100))","v":"-0.00462065310873984-1.02999206386123E-18i"},{"$f":"IMSUM(AF4,IMPRODUCT($A$67,AF68))","v":"0.00898988772931696+0.000251709718458773i"},8.9898877293169595E-3]
["-0.995184726672197+0.0980171403295606i",{"$f":"B68+$B$3","v":5.078125},null,{"$f":"IMCONJUGATE(C67)","v":"-0.000367296638507091-0.0000182377109908072i"},{"$f":"IMSUM(D68,IMPRODUCT($A$67,D69))","v":"0.101207353713403-0.164981980952935i"},{"$f":"IMSUM(E69,IMPRODUCT($A$99,E71))","v":"0.0963680705293413-0.163363055188409i"},{"$f":"IMSUM(F69,IMPRODUCT($A$115,F73))","v":"0.127020356502125-0.202936450886424i"},{"$f":"IMSUM(G69,IMPRODUCT($A$123,G77))","v":"0.164353027215749-0.181960206124008i"},{"$f":"IMSUM(H69,IMPRODUCT($A$127,H85))","v":"-0.001420036671127+0.000369937086215993i"},{"$f":"IMSUM(I69,IMPRODUCT($A$129,I101))","v":"-0.00286949565284012+0.000140969281852184i"},{"$f":"IMSUM(J5,IMPRODUCT($A$66,J69))","v":"-0.992207972060085-0.000640419622336542i"},{"$f":"IMREAL(K69)","v":-0.99220797206008504},null,null,{"$f":"IMCONJUGATE(N67)","v":"-0.0000509012492562255+0.0000670793937099827i"},{"$f":"IMSUM(O68,IMPRODUCT($A$67,O69))","v":"-0.0058437144842268+0.000887125166926964i"},{"$f":"IMSUM(P69,IMPRODUCT($A$99,P71))","v":"-0.00565996496260543+0.000284341996672626i"},{"$f":"IMSUM(Q69,IMPRODUCT($A$115,Q73))","v":"-0.00628788283766724+0.000319428790932234i"},{"$f":"IMSUM(R69,IMPRODUCT($A$123,R77))","v":"-0.00791851690285159-0.000871744688913836i"},{"$f":"IMSUM(S69,IMPRODUCT($A$127,S85))","v":"0.00291450616741631+0.000469418842080864i"},{"$f":"IMSUM(T69,IMPRODUCT($A$129,T101))","v":"0.00576896709850344-0.000283411179973187i"},{"$f":"IMSUM(U5,IMPRODUCT($A$66,U69))","v":"-0.0133970058433341+0.000122764764542264i"},{"$f":"IMREAL(V69)","v":-1.33970058433341E-2},null,null,{"$f":"IMCONJUGATE(Y67)","v":"-0.000140313323538631+0.000115708564095222i"},{"$f":"IMSUM(Z68,IMPRODUCT($A$67,Z69))","v":"-0.000336099810338589-0.0000562338338783729i"},{"$f":"IMSUM(AA69,IMPRODUCT($A$99,AA71))","v":"-0.00100248620222625-0.000624646859944427i"},{"$f":"IMSUM(AB69,IMPRODUCT($A$115,AB73))","v":"-0.00029313616704701+0.000121923403285961i"},{"$f":"IMSUM(AC69,IMPRODUCT($A$123,AC77))","v":"-0.00205688285794035-0.0012205450179687i"},{"$f":"IMSUM(AD69,IMPRODUCT($A$127,AD85))","v":"-0.00225602817497692+0.00021434035076404i"},{"$f":"IMSUM(AE69,IMPRODUCT($A$129,AE101))","v":"-0.00452220198589523+0.000222161537588251i"},{"$f":"IMSUM(AF5,IMPRODUCT($A$66,AF69))","v":"0.0108451718832242-0.000251709718458751i"},{"$f":"IMREAL(AG69)","v":1.0845171883224199E-2}]
["-0.989176509964781+0.146730474455362i",5.15625,null,{"$f":"C37","v":"0.000012416220987323+0.00480675168241626i"},{"$f":"IMSUM(D70,IMPRODUCT($A$131,D71))","v":"-0.00159409332255174+0.00477422018077085i"},{"$f":"IMSUM(E68,IMPRODUCT($A$67,E70))","v":"0.102066853758941-0.169792676555688i"},{"$f":"IMSUM(F70,IMPRODUCT($A$99,F74))","v":"0.111107025220273-0.19704183509738i"},{"$f":"IMSUM(G70,IMPRODUCT($A$115,G78))","v":"0.159903503077415-0.192193421753395i"},{"$f":"IMSUM(H70,IMPRODUCT($A$123,H86))","v":"0.00317957215032699-0.00065338892441999i"},{"$f":"IMSUM(I70,IMPRODUCT($A$127,I102))","v":"0.00642551956901515-0.000632858439650669i"},{"$f":"IMSUM(J6,IMPRODUCT($A$65,J70))","v":"-1.01561238813934+0.000640419622333827i"},-1.01561238813934,null,null,{"$f":"N37","v":"-0.000694554559909765-0.000026312527566591i"},{"$f":"IMSUM(O70,IMPRODUCT($A$131,O71))","v":"-0.000786325949565192+0.000131124466488185i"},{"$f":"IMSUM(P68,IMPRODUCT($A$67,P70))","v":"-0.00515919103317407+0.000890159487858745i"},{"$f":"IMSUM(Q70,IMPRODUCT($A$99,Q74))","v":"-0.00795029919159947+0.00215907481874443i"},{"$f":"IMSUM(R70,IMPRODUCT($A$115,R78))","v":"-0.0092860316949183-0.00028336877746505i"},{"$f":"IMSUM(S70,IMPRODUCT($A$123,S86))","v":"0.002994077278502-0.000131380987891307i"},{"$f":"IMSUM(T70,IMPRODUCT($A$127,T102))","v":"0.0059562553608811-0.000586639949246822i"},{"$f":"IMSUM(U6,IMPRODUCT($A$65,U70))","v":"-0.0114420781031554-0.000122764764542123i"},-1.1442078103155401E-2,null,null,{"$f":"Y37","v":"-0.000596601199457394+0.000766253169525594i"},{"$f":"IMSUM(Z70,IMPRODUCT($A$131,Z71))","v":"-0.000624789372848734+0.00086611994716353i"},{"$f":"IMSUM(AA68,IMPRODUCT($A$67,AA70))","v":"8.06291543288301E-06-0.000690936652851459i"},{"$f":"IMSUM(AB70,IMPRODUCT($A$99,AB74))","v":"-0.000415840436720532+0.000578140512964081i"},{"$f":"IMSUM(AC70,IMPRODUCT($A$115,AC78))","v":"-0.000615703745250839+0.000094343804595943i"},{"$f":"IMSUM(AD70,IMPRODUCT($A$123,AD86))","v":"0.000553474283349521+0.000472310305860489i"},{"$f":"IMSUM(AE70,IMPRODUCT($A$127,AE102))","v":"0.0010041705438786-0.0000989021660765261i"},{"$f":"IMSUM(AF6,IMPRODUCT($A$65,AF70))","v":"-0.00249293606451694+0.000251709718458768i"},-2.4929360645169398E-3]
["-0.98078528040323+0.195090322016128i",5.234375,null,{"$f":"IMCONJUGATE(C35)","v":"-0.00160650954353906-0.0000325315016454139i"},{"$f":"IMSUM(D70,IMPRODUCT($A$67,D71))","v":"0.00161892576452638+0.00483928318406167i"},{"$f":"IMSUM(E69,IMPRODUCT($A$35,E71))","v":"0.106046636897465-0.166600906717461i"},{"$f":"IMSUM(F71,IMPRODUCT($A$83,F75))","v":"0.0879744623052948-0.164756284473007i"},{"$f":"IMSUM(G71,IMPRODUCT($A$107,G79))","v":"0.143594365683433-0.204855783869696i"},{"$f":"IMSUM(H71,IMPRODUCT($A$119,H87))","v":"0.003427867727444-0.000600416704826995i"},{"$f":"IMSUM(I71,IMPRODUCT($A$125,I103))","v":"0.00688242439076842-0.00102091121866116i"},{"$f":"IMSUM(J7,IMPRODUCT($A$64,J71))","v":"-1.01255593029567-0.000640419622337211i"},-1.0125559302956699,null,null,{"$f":"IMCONJUGATE(N35)","v":"-0.0000917713896554273+0.000157436994054776i"},{"$f":"IMSUM(O70,IMPRODUCT($A$67,O71))","v":"-0.000602783170254338-0.000183749521621367i"},{"$f":"IMSUM(P69,IMPRODUCT($A$35,P71))","v":"-0.00602746400584817+0.0014899083371813i"},{"$f":"IMSUM(Q71,IMPRODUCT($A$83,Q75))","v":"-0.00931230250744472+0.00320237718402229i"},{"$f":"IMSUM(R71,IMPRODUCT($A$107,R79))","v":"-0.0123271962175497+0.0000658294667607901i"},{"$f":"IMSUM(S71,IMPRODUCT($A$119,S87))","v":"0.000607095639524399+0.00021441353329059i"},{"$f":"IMSUM(T71,IMPRODUCT($A$125,T103))","v":"0.00112580898132219-0.00016699798702398i"},{"$f":"IMSUM(U7,IMPRODUCT($A$64,U71))","v":"-0.00180852230690139+0.000122764764542162i"},-1.8085223069013901E-3,null,null,{"$f":"IMCONJUGATE(Y35)","v":"-0.0000281881733913402+0.000099866777637936i"},{"$f":"IMSUM(Z70,IMPRODUCT($A$67,Z71))","v":"-0.000568413026066054+0.000666386391887658i"},{"$f":"IMSUM(AA69,IMPRODUCT($A$35,AA71))","v":"0.000330286581549069+0.000512179192187681i"},{"$f":"IMSUM(AB71,IMPRODUCT($A$83,AB75))","v":"-0.000955021256378481+0.00157845769981786i"},{"$f":"IMSUM(AC71,IMPRODUCT($A$107,AC79))","v":"-0.000422882305502965-0.00054850538939495i"},{"$f":"IMSUM(AD71,IMPRODUCT($A$119,AD87))","v":"0.00272435245327122-0.000403910370915262i"},{"$f":"IMSUM(AE71,IMPRODUCT($A$125,AE103))","v":"0.00544864419621833-0.00080823001759112i"},{"$f":"IMSUM(AF7,IMPRODUCT($A$64,AF71))","v":"-0.0108802017005822-0.000251709718458787i"},-1.0880201700582201E-2]
["-0.970031253194544+0.242980179903264i",5.3125,null,{"$f":"C21","v":"0.00363027281887156-0.0191031906703841i"},{"$f":"IMSUM(D72,IMPRODUCT($A$131,D73))","v":"0.00337298317760745-0.0191151596328983i"},{"$f":"IMSUM(E72,IMPRODUCT($A$131,E74))","v":"0.0339951248969072-0.0291901478044647i"},{"$f":"IMSUM(F68,IMPRODUCT($A$67,F72))","v":"0.0648835422169301-0.131054088389681i"},{"$f":"IMSUM(G72,IMPRODUCT($A$99,G80))","v":"0.121628077878054-0.218578200961957i"},{"$f":"IMSUM(H72,IMPRODUCT($A$115,H88))","v":"0.000359788057688007-0.000126431681583994i"},{"$f":"IMSUM(I72,IMPRODUCT($A$123,I104))","v":"0.000740572190096379-0.000147308967547972i"},{"$f":"IMSUM(J8,IMPRODUCT($A$63,J72))","v":"-1.00317772387466+0.000640419622334697i"},-1.00317772387466,null,null,{"$f":"N21","v":"0.00155543796281271+0.00080699420888428i"},{"$f":"IMSUM(O72,IMPRODUCT($A$131,O73))","v":"0.00155365840741534+0.000823664246245992i"},{"$f":"IMSUM(P72,IMPRODUCT($A$131,P74))","v":"0.001838401483945-0.00114377966593342i"},{"$f":"IMSUM(Q68,IMPRODUCT($A$67,Q72))","v":"-0.00857024441624945+0.00229618808676853i"},{"$f":"IMSUM(R72,IMPRODUCT($A$99,R80))","v":"-0.0113126929375289+0.0017303773952607i"},{"$f":"IMSUM(S72,IMPRODUCT($A$115,S88))","v":"0.000101151838932801+0.00049425879676389i"},{"$f":"IMSUM(T72,IMPRODUCT($A$123,T104))","v":"0.0000054592997764335-1.08592224276095E-06i"},{"$f":"IMSUM(U8,IMPRODUCT($A$63,U72))","v":"-0.000274324219511099-0.000122764764542225i"},-2.7432421951109902E-4,null,null,{"$f":"Y21","v":"0.00135467084382064+0.00011046745532029i"},{"$f":"IMSUM(Z72,IMPRODUCT($A$131,Z73))","v":"0.0013631848039602+0.000130337010448433i"},{"$f":"IMSUM(AA72,IMPRODUCT($A$131,AA74))","v":"0.00145729244210486-0.000163229331256549i"},{"$f":"IMSUM(AB68,IMPRODUCT($A$67,AB72))","v":"-0.00269880827236945+0.00120453257273215i"},{"$f":"IMSUM(AC72,IMPRODUCT($A$99,AC80))","v":"-0.00381805475386307-0.00158121311865411i"},{"$f":"IMSUM(AD72,IMPRODUCT($A$115,AD88))","v":"0.00080530524437721+0.0000850006901463802i"},{"$f":"IMSUM(AE72,IMPRODUCT($A$123,AE104))","v":"0.00151678192122271-0.000301706682749069i"},{"$f":"IMSUM(AF8,IMPRODUCT($A$63,AF72))","v":"-0.00419644185841913+0.00025170971845876i"},-4.1964418584191296E-3]
["-0.956940335732209+0.290284677254462i",5.390625,null,{"$f":"IMCONJUGATE(C51)","v":"-0.000257289641264113-0.0000119689625142018i"},{"$f":"IMSUM(D72,IMPRODUCT($A$67,D73))","v":"0.00388756246013567-0.0190912217078699i"},{"$f":"IMSUM(E73,IMPRODUCT($A$99,E75))","v":"-0.00630817718242013-0.0496570557228698i"},{"$f":"IMSUM(F69,IMPRODUCT($A$51,F73))","v":"0.0657157845565573-0.123789659490394i"},{"$f":"IMSUM(G73,IMPRODUCT($A$91,G81))","v":"0.110042038891548-0.225564419213879i"},{"$f":"IMSUM(H73,IMPRODUCT($A$111,H89))","v":"0.000154619607370995-0.00186330879539501i"},{"$f":"IMSUM(I73,IMPRODUCT($A$121,I105))","v":"0.00116933961284438-0.00029290432505268i"},{"$f":"IMSUM(J9,IMPRODUCT($A$62,J73))","v":"-0.999914000156227-0.000640419622335711i"},-0.999914000156227,null,null,{"$f":"IMCONJUGATE(N51)","v":"-1.77955539737114E-06+0.0000166700373617119i"},{"$f":"IMSUM(O72,IMPRODUCT($A$67,O73))","v":"0.00155721751821008+0.000790324171522568i"},{"$f":"IMSUM(P73,IMPRODUCT($A$99,P75))","v":"-0.00041919487733339+0.000468815097635522i"},{"$f":"IMSUM(Q69,IMPRODUCT($A$51,Q73))","v":"-0.00503204708754362+0.000249255202413019i"},{"$f":"IMSUM(R73,IMPRODUCT($A$91,R81))","v":"-0.00722458782511255+0.0044152953829222i"},{"$f":"IMSUM(S73,IMPRODUCT($A$111,S89))","v":"0.00040100148728703+0.00019327003753077i"},{"$f":"IMSUM(T73,IMPRODUCT($A$121,T105))","v":"0.000663546360942582-0.000166209710898532i"},{"$f":"IMSUM(U9,IMPRODUCT($A$62,U73))","v":"-0.00133178175815803+0.00012276476454233i"},-1.33178175815803E-3,null,null,{"$f":"IMCONJUGATE(Y51)","v":"8.51396013955772E-06+0.0000198695551281429i"},{"$f":"IMSUM(Z72,IMPRODUCT($A$67,Z73))","v":"0.00134615688368108+0.0000905979001921471i"},{"$f":"IMSUM(AA73,IMPRODUCT($A$99,AA75))","v":"0.00102949111587259+0.0000263186756522754i"},{"$f":"IMSUM(AB69,IMPRODUCT($A$51,AB73))","v":"-0.00171183623740549-0.00137121712317482i"},{"$f":"IMSUM(AC73,IMPRODUCT($A$91,AC81))","v":"-0.00444385107299072-0.00232287722508518i"},{"$f":"IMSUM(AD73,IMPRODUCT($A$111,AD89))","v":"0.00092561688402178-0.00084741835398988i"},{"$f":"IMSUM(AE73,IMPRODUCT($A$121,AE105))","v":"0.00214140834347773-0.000536394866486028i"},{"$f":"IMSUM(AF9,IMPRODUCT($A$62,AF73))","v":"-0.00416862875981056-0.000251709718458768i"},-4.1686287598105597E-3]
["-0.941544065183021+0.33688985339222i",5.46875,null,{"$f":"C53","v":"0.000028153852149937+0.0000603757354946799i"},{"$f":"IMSUM(D74,IMPRODUCT($A$131,D75))","v":"0.0306221417192997-0.0100749881715664i"},{"$f":"IMSUM(E72,IMPRODUCT($A$67,E74))","v":"-0.0272491585416923-0.0090401714613319i"},{"$f":"IMSUM(F70,IMPRODUCT($A$35,F74))","v":"0.0930266822976091-0.142543518013996i"},{"$f":"IMSUM(G74,IMPRODUCT($A$83,G82))","v":"0.109046716331459-0.219319358719971i"},{"$f":"IMSUM(H74,IMPRODUCT($A$107,H90))","v":"0.001366200729171+0.010012817295822i"},{"$f":"IMSUM(I74,IMPRODUCT($A$119,I106))","v":"-0.00306066811844044+0.000928443523352042i"},{"$f":"IMSUM(J10,IMPRODUCT($A$61,J74))","v":"-0.996066138939641+0.000640419622334343i"},-0.99606613893964102,null,null,{"$f":"N53","v":"-0.000018382998678692+4.48424168202588E-06i"},{"$f":"IMSUM(O74,IMPRODUCT($A$131,O75))","v":"0.000284743076529662-0.00196744391217941i"},{"$f":"IMSUM(P72,IMPRODUCT($A$67,P74))","v":"0.00126891533088568+0.0027911081584254i"},{"$f":"IMSUM(Q70,IMPRODUCT($A$35,Q74))","v":"-0.00236808287474867-0.000378755843026935i"},{"$f":"IMSUM(R74,IMPRODUCT($A$83,R82))","v":"-0.00330502798225313+0.00777806943887336i"},{"$f":"IMSUM(S74,IMPRODUCT($A$107,S90))","v":"0.00201045179466946+0.00299704335229744i"},{"$f":"IMSUM(T74,IMPRODUCT($A$119,T106))","v":"0.00201701329533049-0.00061185429393042i"},{"$f":"IMSUM(U10,IMPRODUCT($A$61,U74))","v":"-0.00468702386680299-0.000122764764542256i"},-4.6870238668029899E-3,null,null,{"$f":"Y53","v":"0.0000149142068023924+0.0000115497130517515i"},{"$f":"IMSUM(Z74,IMPRODUCT($A$131,Z75))","v":"0.0000941076381446565-0.000293566341704982i"},{"$f":"IMSUM(AA72,IMPRODUCT($A$67,AA74))","v":"0.00126907716581554+0.000423903352153415i"},{"$f":"IMSUM(AB70,IMPRODUCT($A$35,AB74))","v":"0.000431966267586298-0.001960013818667i"},{"$f":"IMSUM(AC74,IMPRODUCT($A$83,AC82))","v":"-0.00213498555212732-0.00023870636837453i"},{"$f":"IMSUM(AD74,IMPRODUCT($A$107,AD90))","v":"0.00129158784999016+0.000429359609199404i"},{"$f":"IMSUM(AE74,IMPRODUCT($A$119,AE106))","v":"0.00212696448074403-0.000645207621384306i"},{"$f":"IMSUM(AF10,IMPRODUCT($A$61,AF74))","v":"-0.00498427611134162+0.000251709718458768i"},-4.9842761113416201E-3]
["-0.923879532511287+0.38268343236509i",5.546875,null,{"$f":"IMCONJUGATE(C19)","v":"0.0305939878671498-0.0101353639070611i"},{"$f":"IMSUM(D74,IMPRODUCT($A$67,D75))","v":"-0.0305658340149999+0.0101957396425558i"},{"$f":"IMSUM(E73,IMPRODUCT($A$35,E75))","v":"0.0140833021026915+0.01147461230713i"},{"$f":"IMSUM(F71,IMPRODUCT($A$19,F75))","v":"0.124118811489635-0.168445528961915i"},{"$f":"IMSUM(G75,IMPRODUCT($A$75,G83))","v":"0.109968800576724-0.21018559681502i"},{"$f":"IMSUM(H75,IMPRODUCT($A$103,H91))","v":"0.0117536550265969+0.03280471712301i"},{"$f":"IMSUM(I75,IMPRODUCT($A$117,I107))","v":"0.0000282609956492996-0.0000101119459346988i"},{"$f":"IMSUM(J11,IMPRODUCT($A$60,J75))","v":"-0.996955114545203-0.000640419622333205i"},-0.99695511454520302,null,null,{"$f":"IMCONJUGATE(N19)","v":"0.000303126075208354-0.00197192815386144i"},{"$f":"IMSUM(O74,IMPRODUCT($A$67,O75))","v":"-0.000321509073887046+0.00197641239554347i"},{"$f":"IMSUM(P73,IMPRODUCT($A$35,P75))","v":"0.00353362991375355+0.00111183324540961i"},{"$f":"IMSUM(Q71,IMPRODUCT($A$19,Q75))","v":"-0.00274262550425162-0.00022256050965969i"},{"$f":"IMSUM(R75,IMPRODUCT($A$75,R83))","v":"-0.00235360386627899+0.00753675944902582i"},{"$f":"IMSUM(S75,IMPRODUCT($A$103,S91))","v":"0.00216627222657365+0.00207107088639392i"},{"$f":"IMSUM(T75,IMPRODUCT($A$117,T107))","v":"0.00252694984118936-0.00090415711065236i"},{"$f":"IMSUM(U11,IMPRODUCT($A$60,U75))","v":"-0.00532023272436923+0.000122764764542287i"},-5.3202327243692298E-3,null,null,{"$f":"IMCONJUGATE(Y19)","v":"0.000079193431342264-0.000305116054756733i"},{"$f":"IMSUM(Z74,IMPRODUCT($A$67,Z75))","v":"-0.0000642792245398716+0.000316665767808485i"},{"$f":"IMSUM(AA73,IMPRODUCT($A$35,AA75))","v":"0.00166282265148956+0.000154877124732019i"},{"$f":"IMSUM(AB71,IMPRODUCT($A$19,AB75))","v":"0.00161559441947662-0.000554099315442499i"},{"$f":"IMSUM(AC75,IMPRODUCT($A$75,AC83))","v":"0.000877173635656702+0.00278589679599905i"},{"$f":"IMSUM(AD75,IMPRODUCT($A$103,AD91))","v":"0.0032396873278605+0.00427950211550819i"},{"$f":"IMSUM(AE75,IMPRODUCT($A$117,AE107))","v":"0.00302911209628096-0.00108383363855236i"},{"$f":"IMSUM(AF11,IMPRODUCT($A$60,AF75))","v":"-0.00614321463615469-0.000251709718458769i"},-6.1432146361546898E-3]
["-0.903989293123443+0.427555093430282i",5.625,null,{"$f":"C13","v":"-0.0213768652221184-0.00544905901885716i"},{"$f":"IMSUM(D76,IMPRODUCT($A$131,D77))","v":"-0.0209699786773895-0.00598176518914782i"},{"$f":"IMSUM(E76,IMPRODUCT($A$131,E78))","v":"-0.028097994379611-0.0179059646068163i"},{"$f":"IMSUM(F76,IMPRODUCT($A$131,F80))","v":"0.0313281238130538+0.0209326064474914i"},{"$f":"IMSUM(G68,IMPRODUCT($A$67,G76))","v":"0.101545668197691-0.210366990446102i"},{"$f":"IMSUM(H76,IMPRODUCT($A$99,H92))","v":"0.014428930209199+0.04033198541409i"},{"$f":"IMSUM(I76,IMPRODUCT($A$115,I108))","v":"-0.0038872957796289+0.001610170632878i"},{"$f":"IMSUM(J12,IMPRODUCT($A$59,J76))","v":"-0.995199620347933+0.000640419622334421i"},-0.99519962034793297,null,null,{"$f":"N13","v":"0.000338757907604119-0.00166746106469817i"},{"$f":"IMSUM(O76,IMPRODUCT($A$131,O77))","v":"0.000356508707844252-0.00189052950759887i"},{"$f":"IMSUM(P76,IMPRODUCT($A$131,P78))","v":"-0.00116632896851556-0.00083716444056426i"},{"$f":"IMSUM(Q76,IMPRODUCT($A$131,Q80))","v":"-0.00176684724552329-0.00441677740240799i"},{"$f":"IMSUM(R68,IMPRODUCT($A$67,R76))","v":"-0.00312659420283616+0.00442540615730968i"},{"$f":"IMSUM(S76,IMPRODUCT($A$99,S92))","v":"-0.00077764713479986-0.00475025916374391i"},{"$f":"IMSUM(T76,IMPRODUCT($A$115,T108))","v":"0.00203141376988972-0.000841439134279779i"},{"$f":"IMSUM(U12,IMPRODUCT($A$59,U76))","v":"-0.00459132108103697-0.000122764764542261i"},-4.5913210810369703E-3,null,null,{"$f":"Y13","v":"-0.000404593868981197-0.000397772470291559i"},{"$f":"IMSUM(Z76,IMPRODUCT($A$131,Z77))","v":"-0.000364688676263229-0.000349083994784647i"},{"$f":"IMSUM(AA76,IMPRODUCT($A$131,AA78))","v":"-0.00200379564019265-0.000896762807398911i"},{"$f":"IMSUM(AB76,IMPRODUCT($A$131,AB80))","v":"-0.00122184558899904-0.00291277209629144i"},{"$f":"IMSUM(AC68,IMPRODUCT($A$67,AC76))","v":"0.00143762220083931+0.00379084600651049i"},{"$f":"IMSUM(AD76,IMPRODUCT($A$99,AD92))","v":"0.00366593589629718+0.00565907792542426i"},{"$f":"IMSUM(AE76,IMPRODUCT($A$115,AE108))","v":"0.00225657165163353-0.00093470258257324i"},{"$f":"IMSUM(AF12,IMPRODUCT($A$59,AF76))","v":"-0.00545431708459868+0.000251709718458751i"},-5.4543170845986798E-3]
["-0.881921264348355+0.471396736825998i",5.703125,null,{"$f":"IMCONJUGATE(C59)","v":"0.000406886544728887-0.00053270617029066i"},{"$f":"IMSUM(D76,IMPRODUCT($A$67,D77))","v":"-0.0217837517668473-0.0049163528485665i"},{"$f":"IMSUM(E77,IMPRODUCT($A$99,E79))","v":"-0.034236194438736+0.00154416194151324i"},{"$f":"IMSUM(F77,IMPRODUCT($A$115,F81))","v":"0.042518151710112+0.00509292863689814i"},{"$f":"IMSUM(G69,IMPRODUCT($A$59,G77))","v":"0.0896876857885014-0.22391269564884i"},{"$f":"IMSUM(H77,IMPRODUCT($A$95,H93))","v":"0.0110516507218038+0.022535229998892i"},{"$f":"IMSUM(I77,IMPRODUCT($A$113,I109))","v":"0.000642775360561801-0.0003040101043566i"},{"$f":"IMSUM(J13,IMPRODUCT($A$58,J77))","v":"-0.997209510471028-0.00064041962233411i"},-0.99720951047102802,null,null,{"$f":"IMCONJUGATE(N59)","v":"0.0000177508002401331-0.000223068442900704i"},{"$f":"IMSUM(O76,IMPRODUCT($A$67,O77))","v":"0.000321007107363986-0.00144439262179747i"},{"$f":"IMSUM(P77,IMPRODUCT($A$99,P79))","v":"0.00136280823789798-0.0000225576003574199i"},{"$f":"IMSUM(Q77,IMPRODUCT($A$115,Q81))","v":"-0.00196235179364926-0.00047648415670384i"},{"$f":"IMSUM(R69,IMPRODUCT($A$59,R77))","v":"-0.00465724877248289+0.0015106022707783i"},{"$f":"IMSUM(S77,IMPRODUCT($A$95,S93))","v":"-0.00439745767739028-0.0124407913007741i"},{"$f":"IMSUM(T77,IMPRODUCT($A$113,T109))","v":"0.002429686428282-0.0011491560970386i"},{"$f":"IMSUM(U13,IMPRODUCT($A$58,U77))","v":"-0.00516092407399499+0.000122764764542358i"},-5.1609240739949897E-3,null,null,{"$f":"IMCONJUGATE(Y59)","v":"0.0000399051927179675+0.0000486884755069118i"},{"$f":"IMSUM(Z76,IMPRODUCT($A$67,Z77))","v":"-0.000444499061699165-0.000446460945798471i"},{"$f":"IMSUM(AA77,IMPRODUCT($A$99,AA79))","v":"-0.000988476183523415+0.00116145734170603i"},{"$f":"IMSUM(AB77,IMPRODUCT($A$115,AB81))","v":"-0.00214322989153834-0.00056532245994629i"},{"$f":"IMSUM(AC69,IMPRODUCT($A$59,AC77))","v":"0.00147061052384633+0.00146439182454062i"},{"$f":"IMSUM(AD77,IMPRODUCT($A$95,AD93))","v":"0.00269708760362371+0.0021208924479209i"},{"$f":"IMSUM(AE77,IMPRODUCT($A$113,AE109))","v":"0.00276862983346268-0.00130946438870969i"},{"$f":"IMSUM(AF13,IMPRODUCT($A$58,AF77))","v":"-0.0049404648587097-0.000251709718458783i"},-4.9404648587097E-3]
["-0.857728610000272+0.514102744193222i",5.78125,null,{"$f":"C45","v":"-0.000333750456070872+0.000264121627110146i"},{"$f":"IMSUM(D78,IMPRODUCT($A$131,D79))","v":"-0.00712801570222148-0.0119241994176685i"},{"$f":"IMSUM(E76,IMPRODUCT($A$67,E78))","v":"-0.013841962975168+0.00594243422852068i"},{"$f":"IMSUM(F78,IMPRODUCT($A$99,F82))","v":"0.0379326663443317-0.0310759744372775i"},{"$f":"IMSUM(G70,IMPRODUCT($A$51,G78))","v":"0.0623105473631306-0.201890248441365i"},{"$f":"IMSUM(H78,IMPRODUCT($A$91,H94))","v":"0.000642063903182701+0.00710408577452501i"},{"$f":"IMSUM(I78,IMPRODUCT($A$111,I110))","v":"-0.00490805594922117+0.00262341056072698i"},{"$f":"IMSUM(J14,IMPRODUCT($A$57,J78))","v":"-0.994172760707713+0.000640419622335714i"},-0.99417276070771299,null,null,{"$f":"N45","v":"-0.0000505013274598756+5.78196825030736E-06i"},{"$f":"IMSUM(O78,IMPRODUCT($A$131,O79))","v":"-0.00152283767635981+0.00105336506703461i"},{"$f":"IMSUM(P76,IMPRODUCT($A$67,P78))","v":"0.00187934638420406-0.00294389457463348i"},{"$f":"IMSUM(Q78,IMPRODUCT($A$99,Q82))","v":"-0.00267157394049341-0.00078256291859735i"},{"$f":"IMSUM(R70,IMPRODUCT($A$51,R78))","v":"-0.00661456668828064+0.00460151841495391i"},{"$f":"IMSUM(S78,IMPRODUCT($A$91,S94))","v":"-0.00650290246294056-0.0134875680501605i"},{"$f":"IMSUM(T78,IMPRODUCT($A$111,T110))","v":"0.00109878147799089-0.0005873109359626i"},{"$f":"IMSUM(U14,IMPRODUCT($A$57,U78))","v":"-0.00231525792677787-0.000122764764542297i"},-2.31525792677787E-3,null,null,{"$f":"Y45","v":"-0.0000155943382124575-1.85084539500674E-06i"},{"$f":"IMSUM(Z78,IMPRODUCT($A$131,Z79))","v":"-0.00163910696392942-0.000547678812614264i"},{"$f":"IMSUM(AA76,IMPRODUCT($A$67,AA78))","v":"0.00127441828766619+0.000198594817829617i"},{"$f":"IMSUM(AB78,IMPRODUCT($A$99,AB82))","v":"-0.000483420633975-0.000200771232430681i"},{"$f":"IMSUM(AC70,IMPRODUCT($A$51,AC78))","v":"-0.000215977128190225+0.00106193722133222i"},{"$f":"IMSUM(AD78,IMPRODUCT($A$91,AD94))","v":"0.000529792909799779-0.0018285686429055i"},{"$f":"IMSUM(AE78,IMPRODUCT($A$111,AE110))","v":"0.00234452934073459-0.00125317704118602i"},{"$f":"IMSUM(AF14,IMPRODUCT($A$57,AF78))","v":"-0.00637921172413542+0.000251709718458774i"},-6.3792117241354201E-3]
["-0.831469612302545+0.555570233019602i",5.859375,null,{"$f":"IMCONJUGATE(C27)","v":"-0.00679426524615061-0.0121883210447786i"},{"$f":"IMSUM(D78,IMPRODUCT($A$67,D79))","v":"0.00646051479007974+0.0124524426718887i"},{"$f":"IMSUM(E77,IMPRODUCT($A$35,E79))","v":"-0.0093313090949586-0.0113768676386462i"},{"$f":"IMSUM(F79,IMPRODUCT($A$83,F83))","v":"-0.0157622912239891-0.0667315043965643i"},{"$f":"IMSUM(G71,IMPRODUCT($A$43,G79))","v":"0.0323545589271564-0.124656785076318i"},{"$f":"IMSUM(H79,IMPRODUCT($A$87,H95))","v":"0.0013592988902738+0.00169613606009i"},{"$f":"IMSUM(I79,IMPRODUCT($A$109,I111))","v":"0.000504209492899544-0.00030221153978591i"},{"$f":"IMSUM(J15,IMPRODUCT($A$56,J79))","v":"-0.993848872512094-0.000640419622336328i"},-0.99384887251209397,null,null,{"$f":"IMCONJUGATE(N27)","v":"-0.00147233634889993+0.0010475830987843i"},{"$f":"IMSUM(O78,IMPRODUCT($A$67,O79))","v":"0.00142183502144005-0.00104180113053399i"},{"$f":"IMSUM(P77,IMPRODUCT($A$35,P79))","v":"-0.000720794023170004-0.00286622764323752i"},{"$f":"IMSUM(Q79,IMPRODUCT($A$83,Q83))","v":"-0.00405154211192179+0.00158509374524448i"},{"$f":"IMSUM(R71,IMPRODUCT($A$43,R79))","v":"-0.00629740879733975+0.00633892490128379i"},{"$f":"IMSUM(S79,IMPRODUCT($A$87,S95))","v":"-0.00617103329572013-0.0143301100897814i"},{"$f":"IMSUM(T79,IMPRODUCT($A$109,T111))","v":"0.00355799055446409-0.0021325774686038i"},{"$f":"IMSUM(U15,IMPRODUCT($A$56,U79))","v":"-0.00761599136988743+0.000122764764542101i"},-7.6159913698874296E-3,null,null,{"$f":"IMCONJUGATE(Y27)","v":"-0.00162351262571696-0.000545827967219257i"},{"$f":"IMSUM(Z78,IMPRODUCT($A$67,Z79))","v":"0.0016079182875045+0.00054397712182425i"},{"$f":"IMSUM(AA77,IMPRODUCT($A$35,AA79))","v":"0.000099478060125085-0.00205437923330297i"},{"$f":"IMSUM(AB79,IMPRODUCT($A$83,AB83))","v":"-0.00176141690431449-0.00130558582065973i"},{"$f":"IMSUM(AC71,IMPRODUCT($A$43,AC79))","v":"-0.001487160207254+0.00370542078903067i"},{"$f":"IMSUM(AD79,IMPRODUCT($A$87,AD95))","v":"-0.000599298477360798-0.00231559595746666i"},{"$f":"IMSUM(AE79,IMPRODUCT($A$109,AE111))","v":"0.00116036749055548-0.00069549750843333i"},{"$f":"IMSUM(AF15,IMPRODUCT($A$56,AF79))","v":"-0.00188389964652249-0.000251709718458753i"},-1.8838996465224899E-3]
["-0.803207531480645+0.595699304492433i",5.9375,null,{"$f":"C29","v":"0.0111490843052243-0.00525279745566433i"},{"$f":"IMSUM(D80,IMPRODUCT($A$131,D81))","v":"0.0112038547634333-0.00646802913259597i"},{"$f":"IMSUM(E80,IMPRODUCT($A$131,E82))","v":"0.0594261181926648+0.0388385710543077i"},{"$f":"IMSUM(F76,IMPRODUCT($A$67,F80))","v":"-0.0875241125722758-0.056744535661124i"},{"$f":"IMSUM(G72,IMPRODUCT($A$35,G80))","v":"0.0081390065558061-0.0435299758174052i"},{"$f":"IMSUM(H80,IMPRODUCT($A$83,H96))","v":"-0.00038372287313594-0.000786049235560894i"},{"$f":"IMSUM(I80,IMPRODUCT($A$107,I112))","v":"0.000195647540976252-0.000130727507441794i"},{"$f":"IMSUM(J16,IMPRODUCT($A$55,J80))","v":"-1.01252640221814+0.000640419622334426i"},-1.0125264022181399,null,null,{"$f":"N29","v":"0.00109783743126363+0.000552302761120559i"},{"$f":"IMSUM(O80,IMPRODUCT($A$131,O81))","v":"0.000780406689514196+0.000485653681426867i"},{"$f":"IMSUM(P80,IMPRODUCT($A$131,P82))","v":"-0.000600518277007734-0.00357961296184373i"},{"$f":"IMSUM(Q76,IMPRODUCT($A$67,Q80))","v":"-0.000565810691507826+0.00274244852127947i"},{"$f":"IMSUM(R72,IMPRODUCT($A$35,R80))","v":"-0.00582779589496998+0.00286199877827636i"},{"$f":"IMSUM(S80,IMPRODUCT($A$83,S96))","v":"-0.00729348353353608-0.0146699121353383i"},{"$f":"IMSUM(T80,IMPRODUCT($A$107,T112))","v":"0.00346865271953012-0.0023176796495506i"},{"$f":"IMSUM(U16,IMPRODUCT($A$55,U80))","v":"-0.00905998979166709-0.000122764764542382i"},-9.0599897916670905E-3,null,null,{"$f":"Y29","v":"0.0000475901160625807+0.0000309301628913219i"},{"$f":"IMSUM(Z80,IMPRODUCT($A$131,Z81))","v":"0.000191292000466657-0.000129085183625671i"},{"$f":"IMSUM(AA80,IMPRODUCT($A$131,AA82))","v":"0.000781950051193612-0.00201600928889253i"},{"$f":"IMSUM(AB76,IMPRODUCT($A$67,AB80))","v":"-0.00278574569138626+0.00111924648149362i"},{"$f":"IMSUM(AC72,IMPRODUCT($A$35,AC80))","v":"-0.00157956179087583+0.00399027826411841i"},{"$f":"IMSUM(AD80,IMPRODUCT($A$83,AD96))","v":"-0.000981999943798168-0.00308636872027344i"},{"$f":"IMSUM(AE80,IMPRODUCT($A$107,AE112))","v":"0.00149363783757051-0.00099801689585258i"},{"$f":"IMSUM(AF16,IMPRODUCT($A$55,AF80))","v":"-0.00486321696466277+0.000251709718458764i"},-4.8632169646627699E-3]
["-0.773010453362737+0.634393284163645i",6.015625,null,{"$f":"IMCONJUGATE(C43)","v":"0.0000547704582089679-0.00121523167693164i"},{"$f":"IMSUM(D80,IMPRODUCT($A$67,D81))","v":"0.0110943138470153-0.00403756577873269i"},{"$f":"IMSUM(E81,IMPRODUCT($A$99,E83))","v":"0.0567828756425456-0.0517641616522344i"},{"$f":"IMSUM(F77,IMPRODUCT($A$51,F81))","v":"-0.110990540587584-0.00200460475387166i"},{"$f":"IMSUM(G73,IMPRODUCT($A$27,G81))","v":"0.021389530221567-0.022014899766909i"},{"$f":"IMSUM(H81,IMPRODUCT($A$79,H97))","v":"0.0401563498993673-0.0297525232766644i"},{"$f":"IMSUM(I81,IMPRODUCT($A$105,I113))","v":"0.0802845125828741-0.0595430526142718i"},{"$f":"IMSUM(J17,IMPRODUCT($A$54,J81))","v":"-1.01827074822212-0.000640419622333605i"},-1.01827074822212,null,null,{"$f":"IMCONJUGATE(N43)","v":"-0.000317430741749434-0.0000666490796936916i"},{"$f":"IMSUM(O80,IMPRODUCT($A$67,O81))","v":"0.00141526817301306+0.000618951840814251i"},{"$f":"IMSUM(P81,IMPRODUCT($A$99,P83))","v":"-0.00267221775299074+0.00203026866068432i"},{"$f":"IMSUM(Q77,IMPRODUCT($A$51,Q81))","v":"0.00468796826944522+0.000431368955989i"},{"$f":"IMSUM(R73,IMPRODUCT($A$27,R81))","v":"-0.00283950634997469-0.00391678497809616i"},{"$f":"IMSUM(S81,IMPRODUCT($A$79,S97))","v":"-0.00460538057517627-0.0164789348042199i"},{"$f":"IMSUM(T81,IMPRODUCT($A$105,T113))","v":"0.00982710541498413-0.00728827809929579i"},{"$f":"IMSUM(U17,IMPRODUCT($A$54,U81))","v":"0.000167486034202+0.000122764764542202i"},1.6748603420200001E-4,null,null,{"$f":"IMCONJUGATE(Y43)","v":"0.000143701884404076-0.000160015346516993i"},{"$f":"IMSUM(Z80,IMPRODUCT($A$67,Z81))","v":"-0.0000961117683414953+0.000190945509408315i"},{"$f":"IMSUM(AA81,IMPRODUCT($A$99,AA83))","v":"-0.00203755188490198-0.000404483529826648i"},{"$f":"IMSUM(AB77,IMPRODUCT($A$51,AB81))","v":"0.000166277524491515+0.00288823714335835i"},{"$f":"IMSUM(AC73,IMPRODUCT($A$27,AC81))","v":"0.00102017859817974-0.000419557021264459i"},{"$f":"IMSUM(AD81,IMPRODUCT($A$79,AD97))","v":"0.00292045666227391-0.00604528518063677i"},{"$f":"IMSUM(AE81,IMPRODUCT($A$105,AE113))","v":"0.00955319771227322-0.00708513430195218i"},{"$f":"IMSUM(AF17,IMPRODUCT($A$54,AF81))","v":"-0.0156959292710409-0.000251709718458795i"},-1.5695929271040899E-2]
["-0.740951125354959+0.671558954847018i",6.09375,null,{"$f":"C61","v":"0.000247833777864863-0.000190980804313266i"},{"$f":"IMSUM(D82,IMPRODUCT($A$131,D83))","v":"0.0482222634292315+0.0453066001869037i"},{"$f":"IMSUM(E80,IMPRODUCT($A$67,E82))","v":"-0.0370184086657982-0.0517746293194997i"},{"$f":"IMSUM(F78,IMPRODUCT($A$35,F82))","v":"-0.0656165922946677+0.0429608428943189i"},{"$f":"IMSUM(G74,IMPRODUCT($A$19,G82))","v":"0.0770066482637594-0.0657676773080207i"},{"$f":"IMSUM(H82,IMPRODUCT($A$75,H98))","v":"0.153134234888582-0.12731403577728i"},{"$f":"IMSUM(I82,IMPRODUCT($A$103,I114))","v":"0.307876974363774-0.252668103044849i"},{"$f":"IMSUM(J18,IMPRODUCT($A$53,J82))","v":"-0.998784455661344+0.000640419622335401i"},-0.998784455661344,null,null,{"$f":"N61","v":"0.0000151959266740715+0.0000111096413666006i"},{"$f":"IMSUM(O82,IMPRODUCT($A$131,O83))","v":"-0.00138092496652193-0.0040652666432706i"},{"$f":"IMSUM(P80,IMPRODUCT($A$67,P82))","v":"0.00216133165603613+0.00455092032469747i"},{"$f":"IMSUM(Q78,IMPRODUCT($A$35,Q82))","v":"0.00643026670890153-0.00510522623066961i"},{"$f":"IMSUM(R74,IMPRODUCT($A$19,R82))","v":"-0.00143113776724421-0.00853558112492723i"},{"$f":"IMSUM(S82,IMPRODUCT($A$75,S98))","v":"-0.00233324596595446-0.0192126520245135i"},{"$f":"IMSUM(T82,IMPRODUCT($A$103,T114))","v":"0.0160550466303568-0.013176036255299i"},{"$f":"IMSUM(U18,IMPRODUCT($A$53,U82))","v":"0.0102488270500078-0.000122764764542222i"},1.02488270500078E-2,null,null,{"$f":"Y61","v":"-2.38549425400444E-06+0.000027258005646811i"},{"$f":"IMSUM(Z82,IMPRODUCT($A$131,Z83))","v":"0.000590658050726955-0.00188692410526686i"},{"$f":"IMSUM(AA80,IMPRODUCT($A$67,AA82))","v":"-0.000399366050260298+0.00175783892164119i"},{"$f":"IMSUM(AB78,IMPRODUCT($A$35,AB82))","v":"0.00303225720930738+0.000597960868089915i"},{"$f":"IMSUM(AC74,IMPRODUCT($A$19,AC82))","v":"0.00299891808729992-0.00368132126895947i"},{"$f":"IMSUM(AD82,IMPRODUCT($A$75,AD98))","v":"0.00587886541268606-0.00893272660291092i"},{"$f":"IMSUM(AE82,IMPRODUCT($A$103,AE114))","v":"0.0157868619251379-0.0129559427557011i"},{"$f":"IMSUM(AF18,IMPRODUCT($A$53,AF82))","v":"-0.0143834809274206+0.000251709718458718i"},-1.4383480927420599E-2]
["-0.707106781186548+0.707106781186547i",6.171875,null,{"$f":"IMCONJUGATE(C11)","v":"0.0479744296513666+0.045497580991217i"},{"$f":"IMSUM(D82,IMPRODUCT($A$67,D83))","v":"-0.0477265958735017-0.0456885617955303i"},{"$f":"IMSUM(E81,IMPRODUCT($A$35,E83))","v":"-0.034594247948515+0.043689030094769i"},{"$f":"IMSUM(F79,IMPRODUCT($A$19,F83))","v":"-0.00290032696592809+0.0439777691192719i"},{"$f":"IMSUM(G75,IMPRODUCT($A$11,G83))","v":"0.138268822402546-0.12670546110881i"},{"$f":"IMSUM(H83,IMPRODUCT($A$71,H99))","v":"0.279223431850544-0.253463890636483i"},{"$f":"IMSUM(I83,IMPRODUCT($A$101,I115))","v":"0.55883550687788-0.506498979606148i"},{"$f":"IMSUM(J19,IMPRODUCT($A$52,J83))","v":"-0.978303100089466-0.0006404196223347i"},-0.97830310008946597,null,null,{"$f":"IMCONJUGATE(N11)","v":"-0.001396120893196-0.0040763762846372i"},{"$f":"IMSUM(O82,IMPRODUCT($A$67,O83))","v":"0.00141131681987007+0.0040874859260038i"},{"$f":"IMSUM(P81,IMPRODUCT($A$35,P83))","v":"0.00550275409901686-0.000792364979055819i"},{"$f":"IMSUM(Q79,IMPRODUCT($A$19,Q83))","v":"0.00260995406558179-0.00731754903171952i"},{"$f":"IMSUM(R75,IMPRODUCT($A$11,R83))","v":"-0.00313164714222425-0.0079818804683452i"},{"$f":"IMSUM(S83,IMPRODUCT($A$71,S99))","v":"-0.00511401250629681-0.0168164631375513i"},{"$f":"IMSUM(T83,IMPRODUCT($A$101,T115))","v":"0.0111202138833635-0.0100787743720738i"},{"$f":"IMSUM(U19,IMPRODUCT($A$52,U83))","v":"0.0049292723519112+0.000122764764542176i"},4.9292723519112E-3,null,null,{"$f":"IMCONJUGATE(Y11)","v":"0.000593043544980959-0.00191418211091367i"},{"$f":"IMSUM(Z82,IMPRODUCT($A$67,Z83))","v":"-0.000595429039234963+0.00194144011656048i"},{"$f":"IMSUM(AA81,IMPRODUCT($A$35,AA83))","v":"0.00184532834821898+0.000786374548643278i"},{"$f":"IMSUM(AB79,IMPRODUCT($A$19,AB83))","v":"0.00196037302456467-0.00280317264594621i"},{"$f":"IMSUM(AC75,IMPRODUCT($A$11,AC83))","v":"0.00235401520329654-0.00389409542688405i"},{"$f":"IMSUM(AD83,IMPRODUCT($A$71,AD99))","v":"0.00432289090483511-0.00804426714912743i"},{"$f":"IMSUM(AE83,IMPRODUCT($A$101,AE115))","v":"0.0127521401133662-0.011557866090685i"},{"$f":"IMSUM(AF19,IMPRODUCT($A$52,AF83))","v":"0.0005067207720145-0.000251709718458744i"},5.0672077201449996E-4]
["-0.671558954847019+0.740951125354959i",6.25,null,{"$f":"C9","v":"0.0511212371363824+0.112213355467032i"},{"$f":"IMSUM(D84,IMPRODUCT($A$131,D85))","v":"0.0509322265544136+0.112463579532193i"},{"$f":"IMSUM(E84,IMPRODUCT($A$131,E86))","v":"0.0463713222890393+0.117700846128634i"},{"$f":"IMSUM(F84,IMPRODUCT($A$131,F88))","v":"0.0402575958483485+0.127391533793224i"},{"$f":"IMSUM(G84,IMPRODUCT($A$131,G92))","v":"-0.170183784163495+0.167666329597956i"},{"$f":"IMSUM(H68,IMPRODUCT($A$67,H84))","v":"0.334385699987294-0.336168107149076i"},{"$f":"IMSUM(I84,IMPRODUCT($A$99,I116))","v":"0.67055380713637-0.67055380713637i"},{"$f":"IMSUM(J20,IMPRODUCT($A$51,J84))","v":"-0.986561408829375+0.000640419622333939i"},-0.98656140882937504,null,null,{"$f":"N9","v":"-0.00222794148602182+0.00154450137354099i"},{"$f":"IMSUM(O84,IMPRODUCT($A$131,O85))","v":"-0.00216721762741027+0.00155439143129274i"},{"$f":"IMSUM(P84,IMPRODUCT($A$131,P86))","v":"-0.00158773295780082+0.00167645280022076i"},{"$f":"IMSUM(Q84,IMPRODUCT($A$131,Q88))","v":"-0.00109356780142904+0.00110867766128544i"},{"$f":"IMSUM(R84,IMPRODUCT($A$131,R92))","v":"0.00698852971819551+0.00456630239060718i"},{"$f":"IMSUM(S68,IMPRODUCT($A$67,S84))","v":"-0.0136488184120783-0.00897445103811348i"},{"$f":"IMSUM(T84,IMPRODUCT($A$99,T116))","v":"-0.00467436737396482+0.00467436737396482i"},{"$f":"IMSUM(U20,IMPRODUCT($A$51,U84))","v":"-0.00332543314803694-0.000122764764542254i"},-3.3254331480369399E-3,null,null,{"$f":"Y9","v":"-0.00053197927691122+0.000412942681834391i"},{"$f":"IMSUM(Z84,IMPRODUCT($A$131,Z85))","v":"-0.000611000900280948+0.000484459621698373i"},{"$f":"IMSUM(AA84,IMPRODUCT($A$131,AA86))","v":"-0.000103777618384837+0.000679321240714071i"},{"$f":"IMSUM(AB84,IMPRODUCT($A$131,AB88))","v":"0.000281987170851306+0.000113449024944647i"},{"$f":"IMSUM(AC84,IMPRODUCT($A$131,AC92))","v":"-0.00130425757721115+0.00245521174534717i"},{"$f":"IMSUM(AD68,IMPRODUCT($A$67,AD84))","v":"0.00029818860005238-0.00448990993141956i"},{"$f":"IMSUM(AE84,IMPRODUCT($A$99,AE116))","v":"0.00478809853147194-0.00478809853147194i"},{"$f":"IMSUM(AF20,IMPRODUCT($A$51,AF84))","v":"0.00483240119146358+0.000251709718458767i"},4.8324011914635803E-3]
["-0.634393284163646+0.773010453362737i",6.328125,null,{"$f":"IMCONJUGATE(C63)","v":"-0.00018901058196883+0.000250224065160968i"},{"$f":"IMSUM(D84,IMPRODUCT($A$67,D85))","v":"0.0513102477183512+0.111963131401871i"},{"$f":"IMSUM(E85,IMPRODUCT($A$99,E87))","v":"0.0587710888761661+0.112967485491752i"},{"$f":"IMSUM(F85,IMPRODUCT($A$115,F89))","v":"0.0650183463344882+0.120106450788779i"},{"$f":"IMSUM(G85,IMPRODUCT($A$123,G93))","v":"-0.127016934595463+0.211167441049692i"},{"$f":"IMSUM(H69,IMPRODUCT($A$63,H85))","v":"0.330126091102625-0.364290349334232i"},{"$f":"IMSUM(I85,IMPRODUCT($A$97,I117))","v":"0.660304267436078-0.728533491366957i"},{"$f":"IMSUM(J21,IMPRODUCT($A$50,J85))","v":"-0.993019847234473-0.000640419622333815i"},-0.99301984723447301,null,null,{"$f":"IMCONJUGATE(N63)","v":"0.0000607238586115517+9.89005775175398E-06i"},{"$f":"IMSUM(O84,IMPRODUCT($A$67,O85))","v":"-0.00228866534463337+0.00153461131578924i"},{"$f":"IMSUM(P85,IMPRODUCT($A$99,P87))","v":"-0.00190807692108742+0.00110224841982669i"},{"$f":"IMSUM(Q85,IMPRODUCT($A$115,Q89))","v":"-0.00142374329488195+0.000834479036513877i"},{"$f":"IMSUM(R85,IMPRODUCT($A$123,R93))","v":"0.0108865175947254-0.000798024509373493i"},{"$f":"IMSUM(S69,IMPRODUCT($A$63,S85))","v":"-0.0187515399731195-0.00221290821990854i"},{"$f":"IMSUM(T85,IMPRODUCT($A$97,T117))","v":"-0.0147113151861985+0.0162314350273961i"},{"$f":"IMSUM(U21,IMPRODUCT($A$50,U85))","v":"-0.003990072964767+0.000122764764542128i"},-3.9900729647669997E-3,null,null,{"$f":"IMCONJUGATE(Y63)","v":"-0.0000790216233697282+0.0000715169398639818i"},{"$f":"IMSUM(Z84,IMPRODUCT($A$67,Z85))","v":"-0.000452957653541492+0.000341425741970409i"},{"$f":"IMSUM(AA85,IMPRODUCT($A$99,AA87))","v":"-1.59224936520001E-06+0.000023058465297542i"},{"$f":"IMSUM(AB85,IMPRODUCT($A$115,AB89))","v":"0.000244612896289675+0.0000575890940655315i"},{"$f":"IMSUM(AC85,IMPRODUCT($A$123,AC93))","v":"0.000084613453031598+0.0014461657727477i"},{"$f":"IMSUM(AD69,IMPRODUCT($A$63,AD85))","v":"-0.00185773754090378-0.00265543038670144i"},{"$f":"IMSUM(AE85,IMPRODUCT($A$97,AE117))","v":"0.000966996343925-0.00106691605267713i"},{"$f":"IMSUM(AF21,IMPRODUCT($A$50,AF85))","v":"-0.00162993211694916-0.000251709718458773i"},-1.6299321169491599E-3]
["-0.595699304492433+0.803207531480645i",6.40625,null,{"$f":"C41","v":"-0.00177827508774688-0.00111178728068681i"},{"$f":"IMSUM(D86,IMPRODUCT($A$131,D87))","v":"-0.0045609042653743+0.00523726659644132i"},{"$f":"IMSUM(E84,IMPRODUCT($A$67,E86))","v":"0.0554931308197879+0.107226312935752i"},{"$f":"IMSUM(F86,IMPRODUCT($A$99,F90))","v":"0.0725951299360763+0.10696557415761i"},{"$f":"IMSUM(G86,IMPRODUCT($A$115,G94))","v":"-0.0714948348399347+0.236935567808157i"},{"$f":"IMSUM(H70,IMPRODUCT($A$59,H86))","v":"0.316627434004503-0.38373345458237i"},{"$f":"IMSUM(I86,IMPRODUCT($A$95,I118))","v":"0.631216609798093-0.769139664448667i"},{"$f":"IMSUM(J22,IMPRODUCT($A$49,J86))","v":"-0.997803410847245+0.000640419622334768i"},-0.997803410847245,null,null,{"$f":"N41","v":"0.0000735608868234514-0.000129263527308967i"},{"$f":"IMSUM(O86,IMPRODUCT($A$131,O87))","v":"0.000579484669609451+0.000122061368928018i"},{"$f":"IMSUM(P84,IMPRODUCT($A$67,P86))","v":"-0.00274670229701972+0.00143233006236472i"},{"$f":"IMSUM(Q86,IMPRODUCT($A$99,Q90))","v":"-0.00267568212471436+0.00113012678036322i"},{"$f":"IMSUM(R86,IMPRODUCT($A$115,R94))","v":"0.0114035045465429-0.00455897584378702i"},{"$f":"IMSUM(S70,IMPRODUCT($A$59,S86))","v":"-0.0215661406683386-0.000435356567038793i"},{"$f":"IMSUM(T86,IMPRODUCT($A$95,T118))","v":"-0.0169318040280288+0.0206314629027178i"},{"$f":"IMSUM(U22,IMPRODUCT($A$49,U86))","v":"-0.00235377196929-0.000122764764542253i"},-2.35377196929E-3,null,null,{"$f":"Y41","v":"0.0000944280026116219-0.000128251892580297i"},{"$f":"IMSUM(Z86,IMPRODUCT($A$131,Z87))","v":"0.000507223281896111+0.000194861619015698i"},{"$f":"IMSUM(AA84,IMPRODUCT($A$67,AA86))","v":"-0.00111822418217706+0.000289598002682675i"},{"$f":"IMSUM(AB86,IMPRODUCT($A$99,AB90))","v":"-0.000865525937978712+0.00015945874240068i"},{"$f":"IMSUM(AC86,IMPRODUCT($A$115,AC94))","v":"0.00122482116850871-0.00009822954653742i"},{"$f":"IMSUM(AD70,IMPRODUCT($A$59,AD86))","v":"-0.0017848817738512-0.000283622696668603i"},{"$f":"IMSUM(AE86,IMPRODUCT($A$95,AE118))","v":"-0.00115849564774902+0.0014116310311605i"},{"$f":"IMSUM(AF22,IMPRODUCT($A$49,AF86))","v":"-0.00065641243093279+0.000251709718458774i"},-6.5641243093278998E-4]
["-0.555570233019602+0.831469612302545i",6.484375,null,{"$f":"IMCONJUGATE(C31)","v":"-0.00278262917762742+0.00634905387712813i"},{"$f":"IMSUM(D86,IMPRODUCT($A$67,D87))","v":"0.00100435408988054-0.00746084115781494i"},{"$f":"IMSUM(E85,IMPRODUCT($A$35,E87))","v":"0.0438494065605363+0.11095877731199i"},{"$f":"IMSUM(F87,IMPRODUCT($A$83,F91))","v":"0.0596063382048978+0.10163907994293i"},{"$f":"IMSUM(G87,IMPRODUCT($A$107,G95))","v":"-0.0030659817819811+0.247704464878238i"},{"$f":"IMSUM(H71,IMPRODUCT($A$55,H87))","v":"0.283760863639422-0.409111151034565i"},{"$f":"IMSUM(I87,IMPRODUCT($A$93,I119))","v":"0.59288439514321-0.799412065592605i"},{"$f":"IMSUM(J23,IMPRODUCT($A$48,J87))","v":"-0.999232149910104-0.000640419622331914i"},-0.99923214991010401,null,null,{"$f":"IMCONJUGATE(N31)","v":"0.000505923782786+0.000251324896236985i"},{"$f":"IMSUM(O86,IMPRODUCT($A$67,O87))","v":"-0.000432362895962549-0.000380588423545952i"},{"$f":"IMSUM(P85,IMPRODUCT($A$35,P87))","v":"-0.00266925376817932+0.00196697421175179i"},{"$f":"IMSUM(Q87,IMPRODUCT($A$83,Q91))","v":"-0.00320943272864864+0.00215782939607695i"},{"$f":"IMSUM(R87,IMPRODUCT($A$107,R95))","v":"0.0108370195202743-0.00706236440478631i"},{"$f":"IMSUM(S71,IMPRODUCT($A$55,S87))","v":"-0.0252614880746238-0.0000827545997690099i"},{"$f":"IMSUM(T87,IMPRODUCT($A$93,T119))","v":"-0.0178492739474279+0.0240669598871714i"},{"$f":"IMSUM(U23,IMPRODUCT($A$48,U87))","v":"0.000795199876859099+0.000122764764542327i"},7.9519987685909902E-4,null,null,{"$f":"IMCONJUGATE(Y31)","v":"0.000412795279284489+0.000323113511595995i"},{"$f":"IMSUM(Z86,IMPRODUCT($A$67,Z87))","v":"-0.000318367276672867-0.000451365404176292i"},{"$f":"IMSUM(AA85,IMPRODUCT($A$35,AA87))","v":"-0.000904323057717784+0.000659793018643276i"},{"$f":"IMSUM(AB87,IMPRODUCT($A$83,AB91))","v":"-0.00140119962761496+0.000489292022095254i"},{"$f":"IMSUM(AC87,IMPRODUCT($A$107,AC95))","v":"0.0026971627528133-0.00162828358434338i"},{"$f":"IMSUM(AD71,IMPRODUCT($A$55,AD87))","v":"-0.00357011706427714-0.000693100407874638i"},{"$f":"IMSUM(AE87,IMPRODUCT($A$93,AE119))","v":"-0.00187051104750509+0.00252209218601321i"},{"$f":"IMSUM(AF23,IMPRODUCT($A$48,AF87))","v":"0.0000444087554495299-0.000251709718458804i"},4.4408755449529903E-5]
["-0.514102744193222+0.857728610000272i",6.5625,null,{"$f":"C25","v":"-0.00366020768968545-0.00283314770006643i"},{"$f":"IMSUM(D88,IMPRODUCT($A$131,D89))","v":"-0.00318723260941667-0.00370565572584935i"},{"$f":"IMSUM(E88,IMPRODUCT($A$131,E90))","v":"-0.00611372644069084+0.00969068766458965i"},{"$f":"IMSUM(F84,IMPRODUCT($A$67,F88))","v":"0.0524850487297301+0.108010158464044i"},{"$f":"IMSUM(G88,IMPRODUCT($A$99,G96))","v":"0.0687190973454751+0.240218357495227i"},{"$f":"IMSUM(H72,IMPRODUCT($A$51,H88))","v":"0.24289636769842-0.43702997024233i"},{"$f":"IMSUM(I88,IMPRODUCT($A$91,I120))","v":"0.553706996599481-0.828681081938983i"},{"$f":"IMSUM(J24,IMPRODUCT($A$47,J88))","v":"-1.00018985672908+0.000640419622334684i"},-1.0001898567290799,null,null,{"$f":"N25","v":"0.000215503780036323-0.00023090080962016i"},{"$f":"IMSUM(O88,IMPRODUCT($A$131,O89))","v":"0.000095980937185141-0.000319397655620341i"},{"$f":"IMSUM(P88,IMPRODUCT($A$131,P90))","v":"0.000494165156371778-0.000567775138935319i"},{"$f":"IMSUM(Q84,IMPRODUCT($A$67,Q88))","v":"-0.0020818981141726+0.00224422793915608i"},{"$f":"IMSUM(R88,IMPRODUCT($A$99,R96))","v":"0.0071967391974988-0.00894487488419462i"},{"$f":"IMSUM(S72,IMPRODUCT($A$51,S88))","v":"-0.0227265377139906+0.00296649599375751i"},{"$f":"IMSUM(T88,IMPRODUCT($A$91,T120))","v":"-0.0167701531877353+0.0250983079015476i"},{"$f":"IMSUM(U24,IMPRODUCT($A$47,U88))","v":"0.000921671676999501-0.000122764764542259i"},9.2167167699950105E-4,null,null,{"$f":"Y25","v":"0.000171229519974761-0.000124084935854425i"},{"$f":"IMSUM(Z88,IMPRODUCT($A$131,Z89))","v":"0.000127812764477074-0.000409285229983886i"},{"$f":"IMSUM(AA88,IMPRODUCT($A$131,AA90))","v":"0.000385764789236143-0.000565872215769424i"},{"$f":"IMSUM(AB84,IMPRODUCT($A$67,AB88))","v":"-0.00048954240762098+0.0012451934564835i"},{"$f":"IMSUM(AC88,IMPRODUCT($A$99,AC96))","v":"0.00444740028973182-0.00209101812351284i"},{"$f":"IMSUM(AD72,IMPRODUCT($A$51,AD88))","v":"-0.00844141475210335-0.0032474269274546i"},{"$f":"IMSUM(AE88,IMPRODUCT($A$91,AE120))","v":"-0.00221079390914982+0.00330868690449939i"},{"$f":"IMSUM(AF24,IMPRODUCT($A$47,AF88))","v":"0.00099065411947152+0.000251709718458767i"},9.9065411947152002E-4]
["-0.471396736825998+0.881921264348355i",6.640625,null,{"$f":"IMCONJUGATE(C47)","v":"0.000472975080268777-0.000872508025782917i"},{"$f":"IMSUM(D88,IMPRODUCT($A$67,D89))","v":"-0.00413318276995423-0.00196063967428351i"},{"$f":"IMSUM(E89,IMPRODUCT($A$99,E91))","v":"0.00946548888478097+0.00063053265958542i"},{"$f":"IMSUM(F85,IMPRODUCT($A$51,F89))","v":"0.052523831417844+0.105828520194725i"},{"$f":"IMSUM(G89,IMPRODUCT($A$91,G97))","v":"0.124950496413673+0.215649727951083i"},{"$f":"IMSUM(H73,IMPRODUCT($A$47,H89))","v":"0.219929458175725-0.449265529632363i"},{"$f":"IMSUM(I89,IMPRODUCT($A$89,I121))","v":"0.512472253181287-0.855008300091246i"},{"$f":"IMSUM(J25,IMPRODUCT($A$46,J89))","v":"-0.999936834741395-0.000640419622335842i"},-0.99993683474139505,null,null,{"$f":"IMCONJUGATE(N47)","v":"-0.000119522842851182-0.0000884968460001809i"},{"$f":"IMSUM(O88,IMPRODUCT($A$67,O89))","v":"0.000335026622887505-0.000142403963619979i"},{"$f":"IMSUM(P89,IMPRODUCT($A$99,P91))","v":"0.000153134044711928-0.000531817138181188i"},{"$f":"IMSUM(Q85,IMPRODUCT($A$51,Q89))","v":"-0.00239241054729289+0.0013700178031395i"},{"$f":"IMSUM(R89,IMPRODUCT($A$91,R97))","v":"0.00072606465413749-0.0086860773941131i"},{"$f":"IMSUM(S73,IMPRODUCT($A$47,S89))","v":"-0.0148501771375121+0.00863732072831363i"},{"$f":"IMSUM(T89,IMPRODUCT($A$89,T121))","v":"-0.0154672889108975+0.025805612531472i"},{"$f":"IMSUM(U25,IMPRODUCT($A$46,U89))","v":"0.0000949809305013996+0.000122764764542277i"},9.4980930501399594E-5,null,null,{"$f":"IMCONJUGATE(Y47)","v":"-0.0000434167554976876-0.000285200294129461i"},{"$f":"IMSUM(Z88,IMPRODUCT($A$67,Z89))","v":"0.000214646275472449+0.000161115358275036i"},{"$f":"IMSUM(AA89,IMPRODUCT($A$99,AA91))","v":"0.000198510169816064-0.000149676486295103i"},{"$f":"IMSUM(AB85,IMPRODUCT($A$51,AB89))","v":"-0.000247797395020075-0.0000114721634704475i"},{"$f":"IMSUM(AC89,IMPRODUCT($A$91,AC97))","v":"0.00420991577958668-0.00364482841166287i"},{"$f":"IMSUM(AD73,IMPRODUCT($A$47,AD89))","v":"-0.00981331903000322-0.00379833609618048i"},{"$f":"IMSUM(AE89,IMPRODUCT($A$89,AE121))","v":"-0.00183751908946378+0.00306571538910587i"},{"$f":"IMSUM(AF25,IMPRODUCT($A$46,AF89))","v":"0.00024763290715132-0.000251709718458732i"},2.4763290715132001E-4]
["-0.427555093430282+0.903989293123443i",6.71875,null,{"$f":"C57","v":"-0.000167660748702623-0.00010116413214811i"},{"$f":"IMSUM(D90,IMPRODUCT($A$131,D91))","v":"-0.00292649383127417+0.013396343390439i"},{"$f":"IMSUM(E88,IMPRODUCT($A$67,E90))","v":"-0.0002607387781425-0.0171019991162884i"},{"$f":"IMSUM(F86,IMPRODUCT($A$35,F90))","v":"0.0383911317034995+0.107487051713894i"},{"$f":"IMSUM(G90,IMPRODUCT($A$83,G98))","v":"0.170667754257741+0.187245448684695i"},{"$f":"IMSUM(H74,IMPRODUCT($A$43,H90))","v":"0.216727231933747-0.448651534735764i"},{"$f":"IMSUM(I90,IMPRODUCT($A$87,I122))","v":"0.469360150832309-0.878111079944871i"},{"$f":"IMSUM(J26,IMPRODUCT($A$45,J90))","v":"-0.999883484280071+0.000640419622334944i"},-0.99988348428007101,null,null,{"$f":"N57","v":"4.38552231271392E-06-0.0000332424525697005i"},{"$f":"IMSUM(O90,IMPRODUCT($A$131,O91))","v":"0.000398184219186637-0.000248377483314978i"},{"$f":"IMSUM(P88,IMPRODUCT($A$67,P90))","v":"-0.000302203282001496-0.000071020172305363i"},{"$f":"IMSUM(Q86,IMPRODUCT($A$35,Q90))","v":"-0.00281772246932508+0.00173453334436622i"},{"$f":"IMSUM(R90,IMPRODUCT($A$83,R98))","v":"-0.00238294610009007-0.00674048244441435i"},{"$f":"IMSUM(S74,IMPRODUCT($A$43,S90))","v":"-0.00862050775917572+0.0125590955254493i"},{"$f":"IMSUM(T90,IMPRODUCT($A$87,T122))","v":"-0.0142737165420791+0.0267042453974115i"},{"$f":"IMSUM(U26,IMPRODUCT($A$45,U90))","v":"0.0012287286388099-0.000122764764542315i"},1.2287286388099001E-3,null,null,{"$f":"Y57","v":"-0.0000264199099055346-0.0000702254400645765i"},{"$f":"IMSUM(Z90,IMPRODUCT($A$131,Z91))","v":"0.000257952024759069-0.000156586985785538i"},{"$f":"IMSUM(AA88,IMPRODUCT($A$67,AA90))","v":"-0.000130139260281995-0.000252698244198348i"},{"$f":"IMSUM(AB86,IMPRODUCT($A$35,AB90))","v":"-0.00137092242637541+0.00041973726296467i"},{"$f":"IMSUM(AC90,IMPRODUCT($A$83,AC98))","v":"0.00192850535382094-0.00291008325151957i"},{"$f":"IMSUM(AD74,IMPRODUCT($A$43,AD90))","v":"-0.0055615589542448-0.000906772345948464i"},{"$f":"IMSUM(AE90,IMPRODUCT($A$87,AE122))","v":"-0.00171776869915033+0.00321371919800089i"},{"$f":"IMSUM(AF26,IMPRODUCT($A$45,AF90))","v":"-0.00043650876390835+0.000251709718458777i"},-4.3650876390834999E-4]
["-0.38268343236509+0.923879532511287i",6.796875,null,{"$f":"IMCONJUGATE(C15)","v":"-0.00275883308257155+0.0134975075225871i"},{"$f":"IMSUM(D90,IMPRODUCT($A$67,D91))","v":"0.00259117233386893-0.0135986716547352i"},{"$f":"IMSUM(E89,IMPRODUCT($A$35,E91))","v":"-0.0177318544246894-0.00455181200815244i"},{"$f":"IMSUM(F87,IMPRODUCT($A$19,F91))","v":"0.0280924749161748+0.12027847468105i"},{"$f":"IMSUM(G91,IMPRODUCT($A$75,G99))","v":"0.219160498818745+0.143733027661196i"},{"$f":"IMSUM(H75,IMPRODUCT($A$39,H91))","v":"0.208183946126851-0.45317591075305i"},{"$f":"IMSUM(I91,IMPRODUCT($A$85,I123))","v":"0.426423165057577-0.901596031657888i"},{"$f":"IMSUM(J27,IMPRODUCT($A$44,J91))","v":"-0.99907552774374-0.0006404196223346i"},-0.99907552774373998,null,null,{"$f":"IMCONJUGATE(N15)","v":"0.000393798696873923-0.000215135030745278i"},{"$f":"IMSUM(O90,IMPRODUCT($A$67,O91))","v":"-0.000389413174561209+0.000181892578175577i"},{"$f":"IMSUM(P89,IMPRODUCT($A$35,P91))","v":"0.000516919201063082+0.00024700921094123i"},{"$f":"IMSUM(Q87,IMPRODUCT($A$19,Q91))","v":"-0.00212907480771+0.00177611902742664i"},{"$f":"IMSUM(R91,IMPRODUCT($A$75,R99))","v":"-0.00447888280707004-0.00549933088284006i"},{"$f":"IMSUM(S75,IMPRODUCT($A$39,S91))","v":"-0.00687347995913163+0.0130024480116577i"},{"$f":"IMSUM(T91,IMPRODUCT($A$85,T123))","v":"-0.012564018666542+0.0265643855673283i"},{"$f":"IMSUM(U27,IMPRODUCT($A$44,U91))","v":"-0.0018015993693313+0.000122764764542233i"},-1.8015993693313E-3,null,null,{"$f":"IMCONJUGATE(Y15)","v":"0.000284371934664604-0.000086361545720962i"},{"$f":"IMSUM(Z90,IMPRODUCT($A$67,Z91))","v":"-0.000310791844570139+0.0000161361056563855i"},{"$f":"IMSUM(AA89,IMPRODUCT($A$35,AA91))","v":"0.000230782381128835+0.000471907202845175i"},{"$f":"IMSUM(AB87,IMPRODUCT($A$19,AB91))","v":"-0.000407446487820608+0.000830294015191298i"},{"$f":"IMSUM(AC91,IMPRODUCT($A$75,AC99))","v":"0.00192580966908608-0.00202573071131654i"},{"$f":"IMSUM(AD75,IMPRODUCT($A$39,AD91))","v":"-0.0014853400565471+0.00129229147648991i"},{"$f":"IMSUM(AE91,IMPRODUCT($A$85,AE123))","v":"-0.00154200512009264+0.00326029590086635i"},{"$f":"IMSUM(AF27,IMPRODUCT($A$44,AF91))","v":"0.00121371005121589-0.000251709718458758i"},1.21371005121589E-3]
["-0.33688985339222+0.941544065183021i",6.875,null,{"$f":"C17","v":"-0.0313454200544334+0.0169484456771403i"},{"$f":"IMSUM(D92,IMPRODUCT($A$131,D93))","v":"-0.031338375439892+0.0169747505222326i"},{"$f":"IMSUM(E92,IMPRODUCT($A$131,E94))","v":"-0.0391165904903295+0.0120203735944935i"},{"$f":"IMSUM(F92,IMPRODUCT($A$131,F96))","v":"-0.210441380011843+0.040274795804732i"},{"$f":"IMSUM(G84,IMPRODUCT($A$67,G92))","v":"0.250698975860192+0.087116737988492i"},{"$f":"IMSUM(H76,IMPRODUCT($A$35,H92))","v":"0.188662406186183-0.461065966306294i"},{"$f":"IMSUM(I92,IMPRODUCT($A$83,I124))","v":"0.381280810766471-0.920493304425023i"},{"$f":"IMSUM(J28,IMPRODUCT($A$43,J92))","v":"-1.00380667969267+0.000640419622334582i"},-1.0038066796926699,null,null,{"$f":"N17","v":"-0.000870787018525573-0.0035313416704301i"},{"$f":"IMSUM(O92,IMPRODUCT($A$131,O93))","v":"-0.000868623608296801-0.00352849904491642i"},{"$f":"IMSUM(P92,IMPRODUCT($A$131,P94))","v":"-0.00155350265186306-0.00291050629117483i"},{"$f":"IMSUM(Q92,IMPRODUCT($A$131,Q96))","v":"0.00808209751962455+0.00345762472932174i"},{"$f":"IMSUM(R84,IMPRODUCT($A$67,R92))","v":"-0.00917566532105359-0.0023489470680363i"},{"$f":"IMSUM(S76,IMPRODUCT($A$35,S92))","v":"-0.00547554127087246+0.0136010714783633i"},{"$f":"IMSUM(T92,IMPRODUCT($A$83,T124))","v":"-0.0112211587813254+0.0270902737154176i"},{"$f":"IMSUM(U28,IMPRODUCT($A$43,U92))","v":"-0.000798987640139397-0.000122764764542221i"},-7.9898764013939703E-4,null,null,{"$f":"Y17","v":"-0.00207873487208466-0.00105861109261148i"},{"$f":"IMSUM(Z92,IMPRODUCT($A$131,Z93))","v":"-0.00207853931847659-0.00105850020475198i"},{"$f":"IMSUM(AA92,IMPRODUCT($A$131,AA94))","v":"-0.0024612281640294-0.00129758998847514i"},{"$f":"IMSUM(AB92,IMPRODUCT($A$131,AB96))","v":"-0.00158624474806246+0.00234176272040252i"},{"$f":"IMSUM(AC84,IMPRODUCT($A$67,AC92))","v":"0.00186823191891377-0.00222831369545787i"},{"$f":"IMSUM(AD76,IMPRODUCT($A$35,AD92))","v":"-0.00079069149461856+0.00192261408759672i"},{"$f":"IMSUM(AE92,IMPRODUCT($A$83,AE124))","v":"-0.00159108163589169+0.00384121086421247i"},{"$f":"IMSUM(AF28,IMPRODUCT($A$43,AF92))","v":"0.00048214182409029+0.000251709718458774i"},4.8214182409028999E-4]
["-0.290284677254462+0.956940335732209i",6.953125,null,{"$f":"IMCONJUGATE(C55)","v":"7.04461454137944E-06+0.0000263048450923055i"},{"$f":"IMSUM(D92,IMPRODUCT($A$67,D93))","v":"-0.0313524646689748+0.016922140832048i"},{"$f":"IMSUM(E93,IMPRODUCT($A$99,E95))","v":"-0.0344124259686092+0.0243389177126767i"},{"$f":"IMSUM(F93,IMPRODUCT($A$115,F97))","v":"-0.142569933263627+0.157618105553735i"},{"$f":"IMSUM(G85,IMPRODUCT($A$59,G93))","v":"0.257053627264439+0.0290454605278662i"},{"$f":"IMSUM(H77,IMPRODUCT($A$31,H93))","v":"0.168323720855199-0.470360621296572i"},{"$f":"IMSUM(I93,IMPRODUCT($A$81,I125))","v":"0.336601344370804-0.940737736484989i"},{"$f":"IMSUM(J29,IMPRODUCT($A$42,J93))","v":"-1.00227759359386-0.000640419622334516i"},-1.0022775935938599,null,null,{"$f":"IMCONJUGATE(N55)","v":"2.16341022877184E-06+2.84262551367561E-06i"},{"$f":"IMSUM(O92,IMPRODUCT($A$67,O93))","v":"-0.000872950428754345-0.00353418429594378i"},{"$f":"IMSUM(P93,IMPRODUCT($A$99,P95))","v":"0.000132228345969285-0.00262598194415648i"},{"$f":"IMSUM(Q93,IMPRODUCT($A$115,Q97))","v":"0.0107484660154941-0.00621916950334213i"},{"$f":"IMSUM(R85,IMPRODUCT($A$59,R93))","v":"-0.0137340041844894+0.00246698258240125i"},{"$f":"IMSUM(S77,IMPRODUCT($A$31,S93))","v":"-0.00491703986757548+0.0154619958423307i"},{"$f":"IMSUM(T93,IMPRODUCT($A$81,T125))","v":"-0.0109251029724792+0.0305336173282583i"},{"$f":"IMSUM(U29,IMPRODUCT($A$42,U93))","v":"0.0029498046643564+0.000122764764542256i"},2.9498046643564001E-3,null,null,{"$f":"IMCONJUGATE(Y55)","v":"1.95553608071339E-07+1.10887859496679E-07i"},{"$f":"IMSUM(Z92,IMPRODUCT($A$67,Z93))","v":"-0.00207893042569273-0.00105872198047098i"},{"$f":"IMSUM(AA93,IMPRODUCT($A$99,AA95))","v":"-0.00233955568576185-0.000691929007441095i"},{"$f":"IMSUM(AB93,IMPRODUCT($A$115,AB97))","v":"0.00038356507866087+0.00134410670887946i"},{"$f":"IMSUM(AC85,IMPRODUCT($A$59,AC93))","v":"0.000404612339547752-0.00133098758461664i"},{"$f":"IMSUM(AD77,IMPRODUCT($A$31,AD93))","v":"0.00024413344406895+0.000807891201160342i"},{"$f":"IMSUM(AE93,IMPRODUCT($A$81,AE125))","v":"-0.00045710501256281+0.00127752292747998i"},{"$f":"IMSUM(AF29,IMPRODUCT($A$42,AF93))","v":"-0.00345135777822881-0.000251709718458775i"},-3.4513577782288099E-3]
["-0.242980179903264+0.970031253194544i",7.03125,null,{"$f":"C49","v":"-0.000180719084904398-0.000947207814052329i"},{"$f":"IMSUM(D94,IMPRODUCT($A$131,D95))","v":"-0.00777821505043754-0.00495437692773909i"},{"$f":"IMSUM(E92,IMPRODUCT($A$67,E94))","v":"-0.0235601603894545+0.0219291274499717i"},{"$f":"IMSUM(F94,IMPRODUCT($A$99,F98))","v":"-0.0099843273329736+0.193789655055123i"},{"$f":"IMSUM(G86,IMPRODUCT($A$51,G94))","v":"0.216685094712087-0.023004419492937i"},{"$f":"IMSUM(H78,IMPRODUCT($A$27,H94))","v":"0.123979030823079-0.410884582657255i"},{"$f":"IMSUM(I94,IMPRODUCT($A$79,I126))","v":"0.249169477462023-0.821401686344299i"},{"$f":"IMSUM(J30,IMPRODUCT($A$41,J94))","v":"-0.997035949761967+0.000640419622333371i"},-0.99703594976196697,null,null,{"$f":"N49","v":"0.00011166165411052-0.000193593010491022i"},{"$f":"IMSUM(O94,IMPRODUCT($A$131,O95))","v":"-0.00068487904356626+0.000617992753741589i"},{"$f":"IMSUM(P92,IMPRODUCT($A$67,P94))","v":"-0.000183744564730541-0.00414649179865801i"},{"$f":"IMSUM(Q94,IMPRODUCT($A$99,Q98))","v":"0.00593268532443445-0.0139782914132401i"},{"$f":"IMSUM(R86,IMPRODUCT($A$51,R94))","v":"-0.0167548687959717+0.00681922940451346i"},{"$f":"IMSUM(S78,IMPRODUCT($A$27,S94))","v":"-0.00672623091362072+0.0226906048800683i"},{"$f":"IMSUM(T94,IMPRODUCT($A$79,T126))","v":"-0.0137397989441904+0.0452940469986328i"},{"$f":"IMSUM(U30,IMPRODUCT($A$41,U94))","v":"0.0031240540202771-0.000122764764542174i"},3.1240540202771001E-3,null,null,{"$f":"Y49","v":"-7.94793626146203E-06+0.0000107677381729846i"},{"$f":"IMSUM(Z94,IMPRODUCT($A$131,Z95))","v":"-0.000382688845552809-0.000239089783723155i"},{"$f":"IMSUM(AA92,IMPRODUCT($A$67,AA94))","v":"-0.00169585047292378-0.000819410421028825i"},{"$f":"IMSUM(AB94,IMPRODUCT($A$99,AB98))","v":"0.00129588547749044-0.00166031175057142i"},{"$f":"IMSUM(AC86,IMPRODUCT($A$51,AC94))","v":"-0.00295587304446613+0.00041714703133878i"},{"$f":"IMSUM(AD78,IMPRODUCT($A$27,AD94))","v":"-0.000961747166180229+0.00395244308556994i"},{"$f":"IMSUM(AE94,IMPRODUCT($A$79,AE126))","v":"-0.00235794334883009+0.00777309750279733i"},{"$f":"IMSUM(AF30,IMPRODUCT($A$41,AF94))","v":"-0.00266572315128778+0.000251709718458774i"},-2.6657231512877801E-3]
["-0.195090322016129+0.98078528040323i",7.109375,null,{"$f":"IMCONJUGATE(C23)","v":"-0.00759749596553314-0.00400716911368676i"},{"$f":"IMSUM(D94,IMPRODUCT($A$67,D95))","v":"0.00741677688062874+0.00305996129963443i"},{"$f":"IMSUM(E93,IMPRODUCT($A$35,E95))","v":"-0.0282925033693404+0.00950536395141926i"},{"$f":"IMSUM(F95,IMPRODUCT($A$83,F99))","v":"0.110963161023251+0.113798476547647i"},{"$f":"IMSUM(G87,IMPRODUCT($A$43,G95))","v":"0.122278658191777-0.044426304992378i"},{"$f":"IMSUM(H79,IMPRODUCT($A$23,H95))","v":"0.063349818964039-0.251009706212726i"},{"$f":"IMSUM(I95,IMPRODUCT($A$77,I127))","v":"0.125805422947365-0.502243401617729i"},{"$f":"IMSUM(J31,IMPRODUCT($A$40,J95))","v":"-0.994871639519955-0.000640419622333107i"},-0.99487163951995505,null,null,{"$f":"IMCONJUGATE(N23)","v":"-0.00079654069767678+0.000811585764232611i"},{"$f":"IMSUM(O94,IMPRODUCT($A$67,O95))","v":"0.0009082023517873-0.00100517877472363i"},{"$f":"IMSUM(P93,IMPRODUCT($A$35,P95))","v":"-0.00187812920347798-0.00444238664773108i"},{"$f":"IMSUM(Q95,IMPRODUCT($A$83,Q99))","v":"-0.00314300377923485-0.0165056451479627i"},{"$f":"IMSUM(R87,IMPRODUCT($A$43,R95))","v":"-0.0172558849775715+0.0113780231969402i"},{"$f":"IMSUM(S79,IMPRODUCT($A$23,S95))","v":"-0.00642378429895937+0.027007959892349i"},{"$f":"IMSUM(T95,IMPRODUCT($A$77,T127))","v":"-0.0134899764897008+0.0538550049846827i"},{"$f":"IMSUM(U31,IMPRODUCT($A$40,U95))","v":"-0.0016842420503916+0.000122764764542304i"},-1.6842420503916E-3,null,null,{"$f":"IMCONJUGATE(Y23)","v":"-0.000374740909291347-0.00024985752189614i"},{"$f":"IMSUM(Z94,IMPRODUCT($A$67,Z95))","v":"0.000366792973029885+0.000260625260069125i"},{"$f":"IMSUM(AA93,IMPRODUCT($A$35,AA95))","v":"-0.0018183051656236-0.00142551495350086i"},{"$f":"IMSUM(AB95,IMPRODUCT($A$83,AB99))","v":"-0.00038800937851558-0.00459675422145643i"},{"$f":"IMSUM(AC87,IMPRODUCT($A$43,AC95))","v":"-0.00549956200804322+0.00260686762853388i"},{"$f":"IMSUM(AD79,IMPRODUCT($A$23,AD95))","v":"-0.0023750219371472+0.009726437535528i"},{"$f":"IMSUM(AE95,IMPRODUCT($A$77,AE127))","v":"-0.00486545050267306+0.0194239672155275i"},{"$f":"IMSUM(AF31,IMPRODUCT($A$40,AF95))","v":"0.0034579142325812-0.000251709718458769i"},3.4579142325811998E-3]
["-0.146730474455362+0.989176509964781i",7.1875,null,{"$f":"C33","v":"-0.00160570217756221+0.00329628043831523i"},{"$f":"IMSUM(D96,IMPRODUCT($A$131,D97))","v":"0.00026786904181887+0.00733929457687884i"},{"$f":"IMSUM(E96,IMPRODUCT($A$131,E98))","v":"-0.171324789521513+0.0282544222102385i"},{"$f":"IMSUM(F92,IMPRODUCT($A$67,F96))","v":"0.132208199031183-0.016234048615745i"},{"$f":"IMSUM(G88,IMPRODUCT($A$35,G96))","v":"0.0362510001139851-0.024198040567139i"},{"$f":"IMSUM(H80,IMPRODUCT($A$19,H96))","v":"0.0166617359847481-0.0862739023992495i"},{"$f":"IMSUM(I96,IMPRODUCT($A$75,I128))","v":"0.0342838922260081-0.172356765331597i"},{"$f":"IMSUM(J32,IMPRODUCT($A$39,J96))","v":"-1.00129002708459+0.000640419622334484i"},-1.0012900270845899,null,null,{"$f":"N33","v":"-0.000716440896078152-0.0000928666315161438i"},{"$f":"IMSUM(O96,IMPRODUCT($A$131,O97))","v":"-0.0000980997215472301+0.000125850565665794i"},{"$f":"IMSUM(P96,IMPRODUCT($A$131,P98))","v":"0.00963560017148761+0.00636813102049657i"},{"$f":"IMSUM(Q92,IMPRODUCT($A$67,Q96))","v":"-0.0111891028233507-0.0092786373116714i"},{"$f":"IMSUM(R88,IMPRODUCT($A$35,R96))","v":"-0.011360535425844+0.0134333307625068i"},{"$f":"IMSUM(S80,IMPRODUCT($A$19,S96))","v":"-0.00436210825640388+0.0203939096918911i"},{"$f":"IMSUM(T96,IMPRODUCT($A$75,T128))","v":"-0.00813645707995038+0.0409047320040215i"},{"$f":"IMSUM(U32,IMPRODUCT($A$39,U96))","v":"-0.0020977256790721-0.000122764764542241i"},-2.0977256790721001E-3,null,null,{"$f":"Y33","v":"0.0000363843163456878+0.000348201800667084i"},{"$f":"IMSUM(Z96,IMPRODUCT($A$131,Z97))","v":"0.0000170410432121739+0.000323808379231717i"},{"$f":"IMSUM(AA96,IMPRODUCT($A$131,AA98))","v":"0.000874983415966943+0.00363935270887766i"},{"$f":"IMSUM(AB92,IMPRODUCT($A$67,AB96))","v":"-0.00333621157999634-0.0049369426973528i"},{"$f":"IMSUM(AC88,IMPRODUCT($A$35,AC96))","v":"-0.00542648510497378+0.00458140503647984i"},{"$f":"IMSUM(AD80,IMPRODUCT($A$19,AD96))","v":"-0.00217712363795349+0.0110669252485103i"},{"$f":"IMSUM(AE96,IMPRODUCT($A$75,AE128))","v":"-0.00440085260892954+0.0221245801198965i"},{"$f":"IMSUM(AF32,IMPRODUCT($A$39,AF96))","v":"0.0043482080865208+0.000251709718458782i"},4.3482080865208002E-3]
["-0.0980171403295605+0.995184726672197i",7.265625,null,{"$f":"IMCONJUGATE(C39)","v":"0.00187357121938108+0.00404301413856361i"},{"$f":"IMSUM(D96,IMPRODUCT($A$67,D97))","v":"-0.00347927339694329-0.00074673370024838i"},{"$f":"IMSUM(E97,IMPRODUCT($A$99,E99))","v":"0.0177637106689072+0.170721524357988i"},{"$f":"IMSUM(F93,IMPRODUCT($A$51,F97))","v":"0.0737450813264088-0.108940270128381i"},{"$f":"IMSUM(G89,IMPRODUCT($A$27,G97))","v":"-0.0199028335779851-0.003992687561633i"},{"$f":"IMSUM(H81,IMPRODUCT($A$15,H97))","v":"0.0026227105437667-0.0142772762571536i"},{"$f":"IMSUM(I97,IMPRODUCT($A$73,I129))","v":"0.00425740756586649-0.0287011104757443i"},{"$f":"IMSUM(J33,IMPRODUCT($A$38,J97))","v":"-1.00205746233182-0.000640419622336281i"},-1.0020574623318199,null,null,{"$f":"IMCONJUGATE(N39)","v":"0.000618341174530922+0.000218717197181938i"},{"$f":"IMSUM(O96,IMPRODUCT($A$67,O97))","v":"-0.00133478207060907-0.000311583828698082i"},{"$f":"IMSUM(P97,IMPRODUCT($A$99,P99))","v":"0.00496604635763377-0.0100475809359844i"},{"$f":"IMSUM(Q93,IMPRODUCT($A$51,Q97))","v":"-0.0104840093235555+0.00096720561502917i"},{"$f":"IMSUM(R89,IMPRODUCT($A$27,R97))","v":"-0.00551088574872327+0.0114261130003921i"},{"$f":"IMSUM(S81,IMPRODUCT($A$15,S97))","v":"-0.00107363212477311+0.00864536484802754i"},{"$f":"IMSUM(T97,IMPRODUCT($A$73,T129))","v":"-0.00255584718349662+0.0172301221430563i"},{"$f":"IMSUM(U33,IMPRODUCT($A$38,U97))","v":"0.0005085486615077+0.00012276476454226i"},5.0854866150770001E-4,null,null,{"$f":"IMCONJUGATE(Y39)","v":"-0.0000193432731335139-0.0000243934214353666i"},{"$f":"IMSUM(Z96,IMPRODUCT($A$67,Z97))","v":"0.0000557275894792017+0.000372595222102451i"},{"$f":"IMSUM(AA97,IMPRODUCT($A$99,AA99))","v":"0.00336523182026148-0.000485842496764921i"},{"$f":"IMSUM(AB93,IMPRODUCT($A$51,AB97))","v":"-0.00506267645018457-0.00272796472376166i"},{"$f":"IMSUM(AC89,IMPRODUCT($A$27,AC97))","v":"-0.00470551056962683+0.00362188408472197i"},{"$f":"IMSUM(AD81,IMPRODUCT($A$15,AD97))","v":"-0.00088009946591443+0.00520617113810785i"},{"$f":"IMSUM(AE97,IMPRODUCT($A$73,AE129))","v":"-0.00154916849608168+0.0104436456843029i"},{"$f":"IMSUM(AF33,IMPRODUCT($A$38,AF97))","v":"0.000351061780831099-0.000251709718458763i"},3.51061780831099E-4]
["-0.049067674327418+0.998795456205172i",7.34375,null,{"$f":"C65","v":"-0.000062200252547858-0.000163928216245393i"},{"$f":"IMSUM(D98,IMPRODUCT($A$131,D99))","v":"-0.171592658563332+0.0209151276333597i"},{"$f":"IMSUM(E96,IMPRODUCT($A$67,E98))","v":"0.171860527605151-0.0135758330564809i"},{"$f":"IMSUM(F94,IMPRODUCT($A$35,F98))","v":"-0.0371359934459354-0.149931400155179i"},{"$f":"IMSUM(G90,IMPRODUCT($A$19,G98))","v":"-0.0938854908507415+0.0277286547430932i"},{"$f":"IMSUM(H82,IMPRODUCT($A$11,H98))","v":"0.000879061638937098-0.0042213188387619i"},{"$f":"IMSUM(I98,IMPRODUCT($A$71,I130))","v":"0.000840429374487542-0.00853302263792027i"},{"$f":"IMSUM(J34,IMPRODUCT($A$37,J98))","v":"-1.00122789253973+0.000640419622333645i"},-1.00122789253973,null,null,{"$f":"N65","v":"-1.14860712572108E-06-0.0000292739867060293i"},{"$f":"IMSUM(O98,IMPRODUCT($A$131,O99))","v":"0.00973369989303484+0.00624228045483078i"},{"$f":"IMSUM(P96,IMPRODUCT($A$67,P98))","v":"-0.00983179961458207-0.00611642988916499i"},{"$f":"IMSUM(Q94,IMPRODUCT($A$35,Q98))","v":"-0.00630017445389553+0.00568530781592406i"},{"$f":"IMSUM(R90,IMPRODUCT($A$19,R98))","v":"-0.00325249883856009+0.0102095491331468i"},{"$f":"IMSUM(S82,IMPRODUCT($A$11,S98))","v":"-0.000529029568533963+0.00214148977465907i"},{"$f":"IMSUM(T98,IMPRODUCT($A$71,T130))","v":"-0.000427949084550263+0.00434503997266007i"},{"$f":"IMSUM(U34,IMPRODUCT($A$37,U98))","v":"-0.00071449879962545-0.000122764764542245i"},-7.1449879962544999E-4,null,null,{"$f":"Y65","v":"-2.47673056300969E-07+3.02004943183243E-06i"},{"$f":"IMSUM(Z98,IMPRODUCT($A$131,Z99))","v":"0.00085794237275477+0.00331554432964594i"},{"$f":"IMSUM(AA96,IMPRODUCT($A$67,AA98))","v":"-0.000840901329542596-0.00299173595041422i"},{"$f":"IMSUM(AB94,IMPRODUCT($A$35,AB98))","v":"-0.004687586423338+0.000021490908513771i"},{"$f":"IMSUM(AC90,IMPRODUCT($A$19,AC98))","v":"-0.00467035020657176+0.00374955777744891i"},{"$f":"IMSUM(AD82,IMPRODUCT($A$11,AD98))","v":"0.00011897076191378+0.00157008406499198i"},{"$f":"IMSUM(AE98,IMPRODUCT($A$71,AE130))","v":"-0.000304022216001288+0.00308678936067951i"},{"$f":"IMSUM(AF34,IMPRODUCT($A$37,AF98))","v":"-0.00072662601336827+0.00025170971845876i"},-7.2662601336827E-4]
["-1.83772268236293E-16+i",7.421875,null,{"$f":"IMCONJUGATE(C7)","v":"-0.171530458310784+0.0210790558496051i"},{"$f":"IMSUM(D98,IMPRODUCT($A$67,D99))","v":"0.171468258058236-0.0212429840658505i"},{"$f":"IMSUM(E97,IMPRODUCT($A$35,E99))","v":"-0.0247222574627938-0.172214991758484i"},{"$f":"IMSUM(F95,IMPRODUCT($A$19,F99))","v":"-0.167548167761931-0.0947877486448087i"},{"$f":"IMSUM(G91,IMPRODUCT($A$11,G99))","v":"-0.162975548986395+0.0968239217009044i"},{"$f":"IMSUM(H83,IMPRODUCT($A$7,H99))","v":"-0.002685787045452+0.0000529684188629864i"},{"$f":"IMSUM(I99,IMPRODUCT($A$69,I131))","v":"-0.0000181246116683002+0.00036893494603971i"},{"$f":"IMSUM(J35,IMPRODUCT($A$36,J99))","v":"-1.00032276493273-0.000640419622333797i"},-1.00032276493273,null,null,{"$f":"IMCONJUGATE(N7)","v":"0.00973484850016056+0.00627155444153681i"},{"$f":"IMSUM(O98,IMPRODUCT($A$67,O99))","v":"-0.00973599710728628-0.00630082842824284i"},{"$f":"IMSUM(P97,IMPRODUCT($A$35,P99))","v":"-0.00763561049885191+0.0094244132785882i"},{"$f":"IMSUM(Q95,IMPRODUCT($A$19,Q99))","v":"-0.00061325462772111+0.00762087185250052i"},{"$f":"IMSUM(R91,IMPRODUCT($A$11,R99))","v":"0.00022073319165004+0.00905156893769334i"},{"$f":"IMSUM(S83,IMPRODUCT($A$7,S99))","v":"-0.00114928177815169+0.00085270220086087i"},{"$f":"IMSUM(T99,IMPRODUCT($A$69,T131))","v":"-0.0000891135371735902+0.00181394772088473i"},{"$f":"IMSUM(U35,IMPRODUCT($A$36,U99))","v":"0.00031748396323533+0.000122764764542236i"},3.1748396323533001E-4,null,null,{"$f":"IMCONJUGATE(Y7)","v":"0.000858190045811072+0.00331252428021411i"},{"$f":"IMSUM(Z98,IMPRODUCT($A$67,Z99))","v":"-0.000858437718867373-0.00330950423078228i"},{"$f":"IMSUM(AA97,IMPRODUCT($A$35,AA99))","v":"-0.00325377664130308+0.00123103294096982i"},{"$f":"IMSUM(AB95,IMPRODUCT($A$19,AB99))","v":"-0.00324860095273162+0.00174572431445471i"},{"$f":"IMSUM(AC91,IMPRODUCT($A$11,AC99))","v":"-0.0027407026447273+0.00368631874169914i"},{"$f":"IMSUM(AD83,IMPRODUCT($A$7,AD99))","v":"0.00038513950175797+0.00025607629535933i"},{"$f":"IMSUM(AE99,IMPRODUCT($A$69,AE131))","v":"-0.000023245314207021+0.000473169240773469i"},{"$f":"IMSUM(AF35,IMPRODUCT($A$36,AF99))","v":"-0.00093510541839982-0.000251709718458746i"},-9.3510541839981998E-4]
["0.0490676743274177+0.998795456205172i",7.5,null,{"$f":"C7","v":"-0.171530458310784-0.0210790558496051i"},{"$f":"IMSUM(D100,IMPRODUCT($A$131,D101))","v":"-0.171592658563332-0.0209151276333597i"},{"$f":"IMSUM(E100,IMPRODUCT($A$131,E102))","v":"-0.171324789521513-0.0282544222102385i"},{"$f":"IMSUM(F100,IMPRODUCT($A$131,F104))","v":"-0.210441380011843-0.040274795804732i"},{"$f":"IMSUM(G100,IMPRODUCT($A$131,G108))","v":"-0.170183784163495-0.167666329597956i"},{"$f":"IMSUM(H100,IMPRODUCT($A$131,H116))","v":"-0.00598186833969599+0.000835447953164009i"},{"$f":"IMSUM(I68,IMPRODUCT($A$67,I100))","v":"-0.00167089590632802i"},{"$f":"IMSUM(J36,IMPRODUCT($A$35,J100))","v":"-1.00054741787217+0.000640419622334398i"},-1.0005474178721701,null,null,{"$f":"N7","v":"0.00973484850016056-0.00627155444153681i"},{"$f":"IMSUM(O100,IMPRODUCT($A$131,O101))","v":"0.00973369989303484-0.00624228045483078i"},{"$f":"IMSUM(P100,IMPRODUCT($A$131,P102))","v":"0.00963560017148761-0.00636813102049657i"},{"$f":"IMSUM(Q100,IMPRODUCT($A$131,Q104))","v":"0.00808209751962455-0.00345762472932174i"},{"$f":"IMSUM(R100,IMPRODUCT($A$131,R108))","v":"0.00698852971819551-0.00456630239060718i"},{"$f":"IMSUM(S100,IMPRODUCT($A$131,S116))","v":"0.00032824102431277-0.00015815374310088i"},{"$f":"IMSUM(T68,IMPRODUCT($A$67,T100))","v":"0.00031630748620176i"},{"$f":"IMSUM(U36,IMPRODUCT($A$35,U100))","v":"0.000252924305422787-0.000122764764542256i"},2.5292430542278702E-4,null,null,{"$f":"Y7","v":"0.000858190045811072-0.00331252428021411i"},{"$f":"IMSUM(Z100,IMPRODUCT($A$131,Z101))","v":"0.000857942372754771-0.00331554432964594i"},{"$f":"IMSUM(AA100,IMPRODUCT($A$131,AA102))","v":"0.000874983415966945-0.00363935270887766i"},{"$f":"IMSUM(AB100,IMPRODUCT($A$131,AB104))","v":"-0.00158624474806245-0.00234176272040252i"},{"$f":"IMSUM(AC100,IMPRODUCT($A$131,AC108))","v":"-0.00130425757721115-0.00245521174534717i"},{"$f":"IMSUM(AD100,IMPRODUCT($A$131,AD116))","v":"-0.00231032655436992-0.00042051355927478i"},{"$f":"IMSUM(AE68,IMPRODUCT($A$67,AE100))","v":"0.00084102711854956i"},{"$f":"IMSUM(AF36,IMPRODUCT($A$35,AF100))","v":"0.00060153408971388+0.00025170971845877i"},6.0153408971388002E-4]
["0.0980171403295601+0.995184726672197i",{"$f":"B100+$B$3","v":7.578125},null,{"$f":"IMCONJUGATE(C65)","v":"-0.000062200252547858+0.000163928216245393i"},{"$f":"IMSUM(D100,IMPRODUCT($A$67,D101))","v":"-0.171468258058236-0.0212429840658505i"},{"$f":"IMSUM(E101,IMPRODUCT($A$99,E103))","v":"-0.170721524357988-0.0177637106689072i"},{"$f":"IMSUM(F101,IMPRODUCT($A$115,F105))","v":"-0.212264997878847-0.0106406646707987i"},{"$f":"IMSUM(G101,IMPRODUCT($A$123,G109))","v":"-0.198158627299722-0.14648600021911i"},{"$f":"IMSUM(H101,IMPRODUCT($A$127,H117))","v":"-0.00146492220995001-0.0000857934373900138i"},{"$f":"IMSUM(I69,IMPRODUCT($A$65,I101))","v":"0.0000294223105861198+0.000598904890579803i"},{"$f":"IMSUM(J37,IMPRODUCT($A$34,J101))","v":"-1.00028186887136-0.000640419622335779i"},-1.0002818688713599,null,null,{"$f":"IMCONJUGATE(N65)","v":"-1.14860712572108E-06+0.0000292739867060293i"},{"$f":"IMSUM(O100,IMPRODUCT($A$67,O101))","v":"0.00973599710728628-0.00630082842824284i"},{"$f":"IMSUM(P101,IMPRODUCT($A$99,P103))","v":"0.0100475809359844-0.00496604635763377i"},{"$f":"IMSUM(Q101,IMPRODUCT($A$115,Q105))","v":"0.0119979301360708-0.00320269627774725i"},{"$f":"IMSUM(R101,IMPRODUCT($A$123,R109))","v":"0.0103632215444494-0.00342881140899995i"},{"$f":"IMSUM(S101,IMPRODUCT($A$127,S117))","v":"0.00276692567558443-0.0010289910373761i"},{"$f":"IMSUM(T69,IMPRODUCT($A$65,T101))","v":"0.0000600452363291796+0.00122224886413492i"},{"$f":"IMSUM(U37,IMPRODUCT($A$34,U101))","v":"0.00180534715263843+0.000122764764542323i"},1.80534715263843E-3,null,null,{"$f":"IMCONJUGATE(Y65)","v":"-2.47673056300969E-07-3.02004943183243E-06i"},{"$f":"IMSUM(Z100,IMPRODUCT($A$67,Z101))","v":"0.000858437718867373-0.00330950423078228i"},{"$f":"IMSUM(AA101,IMPRODUCT($A$99,AA103))","v":"0.000485842496764922-0.00336523182026148i"},{"$f":"IMSUM(AB101,IMPRODUCT($A$115,AB105))","v":"-0.000679205500339548-0.00122164843663446i"},{"$f":"IMSUM(AC101,IMPRODUCT($A$123,AC109))","v":"-0.000475251044253006-0.00136846312469037i"},{"$f":"IMSUM(AD101,IMPRODUCT($A$127,AD117))","v":"-0.00225449495424394+0.00022990740210786i"},{"$f":"IMSUM(AE69,IMPRODUCT($A$65,AE101))","v":"0.0000101456359413903+0.000206519163939829i"},{"$f":"IMSUM(AF37,IMPRODUCT($A$34,AF101))","v":"0.000872739062161829-0.000251709718458786i"},8.7273906216182905E-4]
["0.146730474455362+0.989176509964781i",7.65625,null,{"$f":"C39","v":"0.00187357121938108-0.00404301413856361i"},{"$f":"IMSUM(D102,IMPRODUCT($A$131,D103))","v":"0.00026786904181887-0.00733929457687884i"},{"$f":"IMSUM(E100,IMPRODUCT($A$67,E102))","v":"-0.171860527605151-0.0135758330564809i"},{"$f":"IMSUM(F102,IMPRODUCT($A$99,F106))","v":"-0.193789655055123+0.0099843273329736i"},{"$f":"IMSUM(G102,IMPRODUCT($A$115,G110))","v":"-0.218093229236563-0.116984264166302i"},{"$f":"IMSUM(H102,IMPRODUCT($A$123,H118))","v":"0.003187582748097-0.000613116929898003i"},{"$f":"IMSUM(I70,IMPRODUCT($A$63,I102))","v":"-0.0000663752683611701-0.000673919409189311i"},{"$f":"IMSUM(J38,IMPRODUCT($A$33,J102))","v":"-1.00042816248504+0.000640419622335193i"},-1.00042816248504,null,null,{"$f":"N39","v":"0.000618341174530922-0.000218717197181938i"},{"$f":"IMSUM(O102,IMPRODUCT($A$131,O103))","v":"-0.0000980997215472301-0.000125850565665794i"},{"$f":"IMSUM(P100,IMPRODUCT($A$67,P102))","v":"0.00983179961458207-0.00611642988916499i"},{"$f":"IMSUM(Q102,IMPRODUCT($A$99,Q106))","v":"0.0139782914132401-0.00593268532443445i"},{"$f":"IMSUM(R102,IMPRODUCT($A$115,R110))","v":"0.0112871781285596-0.00483981265974465i"},{"$f":"IMSUM(S102,IMPRODUCT($A$123,S118))","v":"0.00281644404375891-0.00102440356402961i"},{"$f":"IMSUM(T70,IMPRODUCT($A$63,T102))","v":"0.0000318991961229002+0.000323877973464208i"},{"$f":"IMSUM(U38,IMPRODUCT($A$33,U102))","v":"0.00135300413011265-0.000122764764542314i"},1.3530041301126499E-3,null,null,{"$f":"Y39","v":"-0.0000193432731335139+0.0000243934214353666i"},{"$f":"IMSUM(Z102,IMPRODUCT($A$131,Z103))","v":"0.000017041043212174-0.000323808379231717i"},{"$f":"IMSUM(AA100,IMPRODUCT($A$67,AA102))","v":"0.000840901329542597-0.00299173595041422i"},{"$f":"IMSUM(AB102,IMPRODUCT($A$99,AB106))","v":"0.00166031175057142-0.00129588547749044i"},{"$f":"IMSUM(AC102,IMPRODUCT($A$115,AC110))","v":"0.000935538132462826-0.000796620575523845i"},{"$f":"IMSUM(AD102,IMPRODUCT($A$123,AD118))","v":"0.000330598233169876-0.00064816326305665i"},{"$f":"IMSUM(AE70,IMPRODUCT($A$63,AE102))","v":"0.000102778022820445+0.0010435227777975i"},{"$f":"IMSUM(AF38,IMPRODUCT($A$33,AF102))","v":"0.00124379584687753+0.000251709718458759i"},1.2437958468775299E-3]
["0.195090322016128+0.98078528040323i",7.734375,null,{"$f":"IMCONJUGATE(C33)","v":"-0.00160570217756221-0.00329628043831523i"},{"$f":"IMSUM(D102,IMPRODUCT($A$67,D103))","v":"0.00347927339694329-0.00074673370024838i"},{"$f":"IMSUM(E101,IMPRODUCT($A$35,E103))","v":"-0.172214991758484-0.0247222574627938i"},{"$f":"IMSUM(F103,IMPRODUCT($A$83,F107))","v":"-0.158930478076975+0.0020048708341048i"},{"$f":"IMSUM(G103,IMPRODUCT($A$107,G111))","v":"-0.230022385644562-0.0919597970163356i"},{"$f":"IMSUM(H103,IMPRODUCT($A$119,H119))","v":"0.00318374149897199-0.0014051930273124i"},{"$f":"IMSUM(I71,IMPRODUCT($A$61,I103))","v":"-0.00002668893588042-0.000179922190992829i"},{"$f":"IMSUM(J39,IMPRODUCT($A$32,J103))","v":"-1.00070063255244-0.000640419622334971i"},-1.0007006325524399,null,null,{"$f":"IMCONJUGATE(N33)","v":"-0.000716440896078152+0.0000928666315161438i"},{"$f":"IMSUM(O102,IMPRODUCT($A$67,O103))","v":"0.00133478207060907-0.000311583828698082i"},{"$f":"IMSUM(P101,IMPRODUCT($A$35,P103))","v":"0.0094244132785882-0.00763561049885191i"},{"$f":"IMSUM(Q103,IMPRODUCT($A$83,Q107))","v":"0.0138936928975752-0.00944881432639136i"},{"$f":"IMSUM(R103,IMPRODUCT($A$107,R111))","v":"0.0106719217513444-0.00730945067717005i"},{"$f":"IMSUM(S103,IMPRODUCT($A$119,S119))","v":"0.000385659799373101-0.000515562603313311i"},{"$f":"IMSUM(T71,IMPRODUCT($A$61,T103))","v":"0.000088382297726613+0.00059582505360516i"},{"$f":"IMSUM(U39,IMPRODUCT($A$32,U103))","v":"0.000208762587622371+0.000122764764542305i"},2.0876258762237099E-4,null,null,{"$f":"IMCONJUGATE(Y33)","v":"0.0000363843163456878-0.000348201800667084i"},{"$f":"IMSUM(Z102,IMPRODUCT($A$67,Z103))","v":"-0.0000557275894792017+0.000372595222102451i"},{"$f":"IMSUM(AA101,IMPRODUCT($A$35,AA103))","v":"0.00123103294096982-0.00325377664130308i"},{"$f":"IMSUM(AB103,IMPRODUCT($A$83,AB107))","v":"0.00352476014415208-0.00297603201872739i"},{"$f":"IMSUM(AC103,IMPRODUCT($A$107,AC111))","v":"0.00253649737659284-0.00186873631225576i"},{"$f":"IMSUM(AD103,IMPRODUCT($A$119,AD119))","v":"0.00248961685698535-0.00117772992778152i"},{"$f":"IMSUM(AE71,IMPRODUCT($A$61,AE103))","v":"6.07103241099388E-08+4.09275760595987E-07i"},{"$f":"IMSUM(AF39,IMPRODUCT($A$32,AF103))","v":"0.00124567259171643-0.00025170971845878i"},1.2456725917164299E-3]
["0.242980179903264+0.970031253194544i",7.8125,null,{"$f":"C23","v":"-0.00759749596553314+0.00400716911368676i"},{"$f":"IMSUM(D104,IMPRODUCT($A$131,D105))","v":"-0.00777821505043754+0.00495437692773909i"},{"$f":"IMSUM(E104,IMPRODUCT($A$131,E106))","v":"-0.0391165904903295-0.0120203735944935i"},{"$f":"IMSUM(F100,IMPRODUCT($A$67,F104))","v":"-0.132208199031183-0.016234048615745i"},{"$f":"IMSUM(G104,IMPRODUCT($A$99,G112))","v":"-0.240218357495227-0.0687190973454751i"},{"$f":"IMSUM(H104,IMPRODUCT($A$115,H120))","v":"0.000343809274786-0.000165007875976703i"},{"$f":"IMSUM(I72,IMPRODUCT($A$59,I104))","v":"-0.000020996074720365-0.000105554395620016i"},{"$f":"IMSUM(J40,IMPRODUCT($A$31,J104))","v":"-1.00061751058412+0.000640419622334504i"},-1.00061751058412,null,null,{"$f":"N23","v":"-0.00079654069767678-0.000811585764232611i"},{"$f":"IMSUM(O104,IMPRODUCT($A$131,O105))","v":"-0.00068487904356626-0.000617992753741589i"},{"$f":"IMSUM(P104,IMPRODUCT($A$131,P106))","v":"-0.00155350265186306+0.00291050629117483i"},{"$f":"IMSUM(Q100,IMPRODUCT($A$67,Q104))","v":"0.0111891028233507-0.0092786373116714i"},{"$f":"IMSUM(R104,IMPRODUCT($A$99,R112))","v":"0.00894487488419462-0.0071967391974988i"},{"$f":"IMSUM(S104,IMPRODUCT($A$115,S120))","v":"-0.000277968595613989-0.00042101889809171i"},{"$f":"IMSUM(T72,IMPRODUCT($A$59,T104))","v":"0.000196844378089169+0.000989603515770541i"},{"$f":"IMSUM(U40,IMPRODUCT($A$31,U104))","v":"0.00316448457137203-0.00012276476454231i"},3.1644845713720299E-3,null,null,{"$f":"Y23","v":"-0.000374740909291347+0.00024985752189614i"},{"$f":"IMSUM(Z104,IMPRODUCT($A$131,Z105))","v":"-0.000382688845552809+0.000239089783723155i"},{"$f":"IMSUM(AA104,IMPRODUCT($A$131,AA106))","v":"-0.0024612281640294+0.00129758998847514i"},{"$f":"IMSUM(AB100,IMPRODUCT($A$67,AB104))","v":"0.00333621157999635-0.0049369426973528i"},{"$f":"IMSUM(AC104,IMPRODUCT($A$99,AC112))","v":"0.00209101812351285-0.00444740028973182i"},{"$f":"IMSUM(AD104,IMPRODUCT($A$115,AD120))","v":"0.00050933223481619-0.00062954136363226i"},{"$f":"IMSUM(AE72,IMPRODUCT($A$59,AE104))","v":"0.000093828567531707+0.000471708063041829i"},{"$f":"IMSUM(AF40,IMPRODUCT($A$31,AF104))","v":"-0.000906619770508693+0.000251709718458785i"},-9.0661977050869298E-4]
["0.290284677254462+0.956940335732209i",7.890625,null,{"$f":"IMCONJUGATE(C49)","v":"-0.000180719084904398+0.000947207814052329i"},{"$f":"IMSUM(D104,IMPRODUCT($A$67,D105))","v":"-0.00741677688062874+0.00305996129963443i"},{"$f":"IMSUM(E105,IMPRODUCT($A$99,E107))","v":"-0.0243389177126767+0.0344124259686092i"},{"$f":"IMSUM(F101,IMPRODUCT($A$51,F105))","v":"-0.129178050837129-0.0248867566670157i"},{"$f":"IMSUM(G105,IMPRODUCT($A$91,G113))","v":"-0.247050854688939-0.0329136281327995i"},{"$f":"IMSUM(H105,IMPRODUCT($A$111,H121))","v":"0.001635186693003+0.000906637396650402i"},{"$f":"IMSUM(I73,IMPRODUCT($A$57,I105))","v":"-0.000860100398102395-0.00343371326573734i"},{"$f":"IMSUM(J41,IMPRODUCT($A$30,J105))","v":"-0.995839713951974-0.000640419622333487i"},-0.99583971395197401,null,null,{"$f":"IMCONJUGATE(N49)","v":"0.00011166165411052+0.000193593010491022i"},{"$f":"IMSUM(O104,IMPRODUCT($A$67,O105))","v":"-0.0009082023517873-0.00100517877472363i"},{"$f":"IMSUM(P105,IMPRODUCT($A$99,P107))","v":"0.00262598194415648-0.000132228345969284i"},{"$f":"IMSUM(Q101,IMPRODUCT($A$51,Q105))","v":"0.00809723173589796-0.00672939643752029i"},{"$f":"IMSUM(R105,IMPRODUCT($A$91,R113))","v":"0.00774703620826578-0.00399481418420556i"},{"$f":"IMSUM(S105,IMPRODUCT($A$111,S121))","v":"0.00006208632655788-0.00044079563095402i"},{"$f":"IMSUM(T73,IMPRODUCT($A$57,T105))","v":"0.000138456613631478+0.000552749785960072i"},{"$f":"IMSUM(U41,IMPRODUCT($A$30,U105))","v":"0.00081747423712986+0.000122764764542271i"},8.1747423712986002E-4,null,null,{"$f":"IMCONJUGATE(Y49)","v":"-7.94793626146203E-06-0.0000107677381729846i"},{"$f":"IMSUM(Z104,IMPRODUCT($A$67,Z105))","v":"-0.000366792973029885+0.000260625260069125i"},{"$f":"IMSUM(AA105,IMPRODUCT($A$99,AA107))","v":"0.000691929007441095+0.00233955568576185i"},{"$f":"IMSUM(AB101,IMPRODUCT($A$51,AB105))","v":"0.00165089049386939-0.0055088152038885i"},{"$f":"IMSUM(AC105,IMPRODUCT($A$91,AC113))","v":"0.00175631734855077-0.00528427046931336i"},{"$f":"IMSUM(AD105,IMPRODUCT($A$111,AD121))","v":"0.00121884779819288-0.00029882189930702i"},{"$f":"IMSUM(AE73,IMPRODUCT($A$57,AE105))","v":"-0.00029017457543417-0.00115844184149373i"},{"$f":"IMSUM(AF41,IMPRODUCT($A$30,AF105))","v":"0.00111228295146381-0.000251709718458787i"},1.1122829514638099E-3]
["0.33688985339222+0.941544065183021i",7.96875,null,{"$f":"C55","v":"7.04461454137944E-06-0.0000263048450923055i"},{"$f":"IMSUM(D106,IMPRODUCT($A$131,D107))","v":"-0.031338375439892-0.0169747505222326i"},{"$f":"IMSUM(E104,IMPRODUCT($A$67,E106))","v":"0.0235601603894545+0.0219291274499717i"},{"$f":"IMSUM(F102,IMPRODUCT($A$35,F106))","v":"-0.149931400155179-0.0371359934459354i"},{"$f":"IMSUM(G106,IMPRODUCT($A$83,G114))","v":"-0.253082852876793+0.0117222001457377i"},{"$f":"IMSUM(H106,IMPRODUCT($A$107,H122))","v":"-0.008727814578046-0.0050939441813923i"},{"$f":"IMSUM(I74,IMPRODUCT($A$55,I106))","v":"0.00579306957678244+0.019097191068292i"},{"$f":"IMSUM(J42,IMPRODUCT($A$29,J106))","v":"-0.999164745148868+0.000640419622333966i"},-0.99916474514886799,null,null,{"$f":"N55","v":"2.16341022877184E-06-2.84262551367561E-06i"},{"$f":"IMSUM(O106,IMPRODUCT($A$131,O107))","v":"-0.000868623608296802+0.00352849904491642i"},{"$f":"IMSUM(P104,IMPRODUCT($A$67,P106))","v":"0.000183744564730542-0.00414649179865801i"},{"$f":"IMSUM(Q102,IMPRODUCT($A$35,Q106))","v":"0.00568530781592406-0.00630017445389553i"},{"$f":"IMSUM(R106,IMPRODUCT($A$83,R114))","v":"0.00645123819148999-0.00308124349833853i"},{"$f":"IMSUM(S106,IMPRODUCT($A$107,S122))","v":"-0.00199954041784796-0.00300433410119985i"},{"$f":"IMSUM(T74,IMPRODUCT($A$55,T106))","v":"0.00200389029400843+0.0066059409985253i"},{"$f":"IMSUM(U42,IMPRODUCT($A$29,U106))","v":"-0.00241385062230574-0.000122764764542281i"},-2.4138506223057399E-3,null,null,{"$f":"Y55","v":"1.95553608071339E-07-1.10887859496679E-07i"},{"$f":"IMSUM(Z106,IMPRODUCT($A$131,Z107))","v":"-0.00207853931847659+0.00105850020475198i"},{"$f":"IMSUM(AA104,IMPRODUCT($A$67,AA106))","v":"0.00169585047292378-0.000819410421028825i"},{"$f":"IMSUM(AB102,IMPRODUCT($A$35,AB106))","v":"0.000021490908513772-0.004687586423338i"},{"$f":"IMSUM(AC106,IMPRODUCT($A$83,AC114))","v":"0.000694080387725539-0.00342139881420823i"},{"$f":"IMSUM(AD106,IMPRODUCT($A$107,AD122))","v":"0.000097592716608908-0.00135758038801352i"},{"$f":"IMSUM(AE74,IMPRODUCT($A$55,AE106))","v":"0.000456211219236286+0.00150392683978311i"},{"$f":"IMSUM(AF42,IMPRODUCT($A$29,AF106))","v":"0.00441659381430812+0.000251709718458756i"},4.41659381430812E-3]
["0.38268343236509+0.923879532511287i",8.046875,null,{"$f":"IMCONJUGATE(C17)","v":"-0.0313454200544334-0.0169484456771403i"},{"$f":"IMSUM(D106,IMPRODUCT($A$67,D107))","v":"0.0313524646689748+0.016922140832048i"},{"$f":"IMSUM(E105,IMPRODUCT($A$35,E107))","v":"0.00950536395141926-0.0282925033693404i"},{"$f":"IMSUM(F103,IMPRODUCT($A$19,F107))","v":"-0.185499505439993-0.0514493857596924i"},{"$f":"IMSUM(G107,IMPRODUCT($A$75,G115))","v":"-0.257482147563215+0.0489229104752546i"},{"$f":"IMSUM(H107,IMPRODUCT($A$103,H123))","v":"-0.029881359338036-0.0179276946682i"},{"$f":"IMSUM(I75,IMPRODUCT($A$53,I107))","v":"0.0234790490575445+0.0656195461919547i"},{"$f":"IMSUM(J43,IMPRODUCT($A$28,J107))","v":"-1.00400493342697-0.000640419622335439i"},-1.0040049334269701,null,null,{"$f":"IMCONJUGATE(N17)","v":"-0.000870787018525573+0.0035313416704301i"},{"$f":"IMSUM(O106,IMPRODUCT($A$67,O107))","v":"0.000872950428754345-0.00353418429594378i"},{"$f":"IMSUM(P105,IMPRODUCT($A$35,P107))","v":"-0.00444238664773108-0.00187812920347798i"},{"$f":"IMSUM(Q103,IMPRODUCT($A$19,Q107))","v":"0.00495513365960121-0.00582240667131246i"},{"$f":"IMSUM(R107,IMPRODUCT($A$75,R115))","v":"0.00624245097192531-0.00336672499939263i"},{"$f":"IMSUM(S107,IMPRODUCT($A$103,S123))","v":"-0.00160865709378993-0.00252869379931462i"},{"$f":"IMSUM(T75,IMPRODUCT($A$53,T107))","v":"0.00180559461195794+0.00504629888344019i"},{"$f":"IMSUM(U43,IMPRODUCT($A$28,U107))","v":"-0.00161954708835604+0.000122764764542276i"},-1.61954708835604E-3,null,null,{"$f":"IMCONJUGATE(Y17)","v":"-0.00207873487208466+0.00105861109261148i"},{"$f":"IMSUM(Z106,IMPRODUCT($A$67,Z107))","v":"0.00207893042569273-0.00105872198047098i"},{"$f":"IMSUM(AA105,IMPRODUCT($A$35,AA107))","v":"-0.00142551495350086-0.0018183051656236i"},{"$f":"IMSUM(AB103,IMPRODUCT($A$19,AB107))","v":"-0.00106269426221244-0.00353152126387877i"},{"$f":"IMSUM(AC107,IMPRODUCT($A$75,AC115))","v":"-0.00100400255512697-0.00260850659681262i"},{"$f":"IMSUM(AD107,IMPRODUCT($A$103,AD123))","v":"-0.00356524103832104-0.00401232709005765i"},{"$f":"IMSUM(AE75,IMPRODUCT($A$53,AE107))","v":"0.00345026255944005+0.00964283786956873i"},{"$f":"IMSUM(AF43,IMPRODUCT($A$28,AF107))","v":"0.00247856971756457-0.000251709718458798i"},2.4785697175645702E-3]
["0.427555093430282+0.903989293123443i",8.125,null,{"$f":"C15","v":"-0.00275883308257155-0.0134975075225871i"},{"$f":"IMSUM(D108,IMPRODUCT($A$131,D109))","v":"-0.00292649383127417-0.013396343390439i"},{"$f":"IMSUM(E108,IMPRODUCT($A$131,E110))","v":"-0.00611372644069084-0.00969068766458965i"},{"$f":"IMSUM(F108,IMPRODUCT($A$131,F112))","v":"0.0402575958483485-0.127391533793224i"},{"$f":"IMSUM(G100,IMPRODUCT($A$67,G108))","v":"-0.250698975860192+0.087116737988492i"},{"$f":"IMSUM(H108,IMPRODUCT($A$99,H124))","v":"-0.04033198541409-0.014428930209199i"},{"$f":"IMSUM(I76,IMPRODUCT($A$51,I108))","v":"0.0327451561980269+0.079053800195302i"},{"$f":"IMSUM(J44,IMPRODUCT($A$27,J108))","v":"-1.0047557613284+0.000640419622334408i"},-1.0047557613283999,null,null,{"$f":"N15","v":"0.000393798696873923+0.000215135030745278i"},{"$f":"IMSUM(O108,IMPRODUCT($A$131,O109))","v":"0.000398184219186637+0.000248377483314978i"},{"$f":"IMSUM(P108,IMPRODUCT($A$131,P110))","v":"0.000494165156371778+0.000567775138935319i"},{"$f":"IMSUM(Q108,IMPRODUCT($A$131,Q112))","v":"-0.00109356780142904-0.00110867766128544i"},{"$f":"IMSUM(R100,IMPRODUCT($A$67,R108))","v":"0.00917566532105359-0.0023489470680363i"},{"$f":"IMSUM(S108,IMPRODUCT($A$99,S124))","v":"0.00475025916374391+0.00077764713479986i"},{"$f":"IMSUM(T76,IMPRODUCT($A$51,T108))","v":"-0.00358670803948944-0.00865907919320804i"},{"$f":"IMSUM(U44,IMPRODUCT($A$27,U108))","v":"0.00348478587044256-0.000122764764542259i"},3.4847858704425598E-3,null,null,{"$f":"Y15","v":"0.000284371934664604+0.000086361545720962i"},{"$f":"IMSUM(Z108,IMPRODUCT($A$131,Z109))","v":"0.000257952024759069+0.000156586985785538i"},{"$f":"IMSUM(AA108,IMPRODUCT($A$131,AA110))","v":"0.000385764789236142+0.000565872215769424i"},{"$f":"IMSUM(AB108,IMPRODUCT($A$131,AB112))","v":"0.000281987170851305-0.000113449024944647i"},{"$f":"IMSUM(AC100,IMPRODUCT($A$67,AC108))","v":"-0.00186823191891375-0.00222831369545787i"},{"$f":"IMSUM(AD108,IMPRODUCT($A$99,AD124))","v":"-0.00565907792542424-0.00366593589629718i"},{"$f":"IMSUM(AE76,IMPRODUCT($A$51,AE108))","v":"0.00507530014096083+0.0122528584334218i"},{"$f":"IMSUM(AF44,IMPRODUCT($A$27,AF108))","v":"-0.0038464241532858+0.000251709718458797i"},-3.8464241532858E-3]
["0.471396736825998+0.881921264348355i",8.203125,null,{"$f":"IMCONJUGATE(C57)","v":"-0.000167660748702623+0.00010116413214811i"},{"$f":"IMSUM(D108,IMPRODUCT($A$67,D109))","v":"-0.00259117233386893-0.0135986716547352i"},{"$f":"IMSUM(E109,IMPRODUCT($A$99,E111))","v":"-0.00063053265958542-0.00946548888478097i"},{"$f":"IMSUM(F109,IMPRODUCT($A$115,F113))","v":"-0.0389531722223418-0.130902999411646i"},{"$f":"IMSUM(G101,IMPRODUCT($A$59,G109))","v":"-0.226371368457972+0.125204670877512i"},{"$f":"IMSUM(H109,IMPRODUCT($A$95,H125))","v":"-0.024258291971541-0.006442891074912i"},{"$f":"IMSUM(I77,IMPRODUCT($A$49,I109))","v":"0.0214605260830458+0.0453744701021406i"},{"$f":"IMSUM(J45,IMPRODUCT($A$26,J109))","v":"-0.997806176026515-0.000640419622332945i"},-0.997806176026515,null,null,{"$f":"IMCONJUGATE(N57)","v":"4.38552231271392E-06+0.0000332424525697005i"},{"$f":"IMSUM(O108,IMPRODUCT($A$67,O109))","v":"0.000389413174561209+0.000181892578175577i"},{"$f":"IMSUM(P109,IMPRODUCT($A$99,P111))","v":"0.000531817138181188-0.000153134044711928i"},{"$f":"IMSUM(Q109,IMPRODUCT($A$115,Q113))","v":"-0.00159680432395688+0.000416672753002925i"},{"$f":"IMSUM(R101,IMPRODUCT($A$59,R109))","v":"0.0136326387276923-0.00297658114649455i"},{"$f":"IMSUM(S109,IMPRODUCT($A$95,S125))","v":"0.0130596464187021+0.00188588378017711i"},{"$f":"IMSUM(T77,IMPRODUCT($A$49,T109))","v":"-0.0112246017830625-0.0237324265045096i"},{"$f":"IMSUM(U45,IMPRODUCT($A$26,U109))","v":"0.0021808735830637+0.000122764764542136i"},2.1808735830637E-3,null,null,{"$f":"IMCONJUGATE(Y57)","v":"-0.0000264199099055346+0.0000702254400645765i"},{"$f":"IMSUM(Z108,IMPRODUCT($A$67,Z109))","v":"0.000310791844570139+0.0000161361056563855i"},{"$f":"IMSUM(AA109,IMPRODUCT($A$99,AA111))","v":"0.000149676486295103-0.000198510169816063i"},{"$f":"IMSUM(AB109,IMPRODUCT($A$115,AB113))","v":"0.000132245798795983-0.000213689076668237i"},{"$f":"IMSUM(AC101,IMPRODUCT($A$59,AC109))","v":"-0.00088315995642609-0.00107483374857855i"},{"$f":"IMSUM(AD109,IMPRODUCT($A$95,AD125))","v":"-0.00260631578333584-0.0022314982309657i"},{"$f":"IMSUM(AE77,IMPRODUCT($A$49,AE109))","v":"0.00262554537378474+0.00555124928455149i"},{"$f":"IMSUM(AF45,IMPRODUCT($A$26,AF109))","v":"-0.00265722286802796-0.000251709718458767i"},-2.6572228680279602E-3]
["0.514102744193222+0.857728610000272i",8.28125,null,{"$f":"C47","v":"0.000472975080268777+0.000872508025782917i"},{"$f":"IMSUM(D110,IMPRODUCT($A$131,D111))","v":"-0.00318723260941667+0.00370565572584935i"},{"$f":"IMSUM(E108,IMPRODUCT($A$67,E110))","v":"0.0002607387781425-0.0171019991162884i"},{"$f":"IMSUM(F110,IMPRODUCT($A$99,F114))","v":"-0.106965574157609-0.0725951299360763i"},{"$f":"IMSUM(G102,IMPRODUCT($A$51,G110))","v":"-0.169486080873683+0.13695291883225i"},{"$f":"IMSUM(H110,IMPRODUCT($A$91,H126))","v":"-0.00680902666255701+0.00212542622929598i"},{"$f":"IMSUM(I78,IMPRODUCT($A$47,I110))","v":"0.00619218375558657+0.011584760988323i"},{"$f":"IMSUM(J46,IMPRODUCT($A$25,J110))","v":"-0.998869328111034+0.000640419622333865i"},-0.99886932811103402,null,null,{"$f":"N47","v":"-0.000119522842851182+0.0000884968460001809i"},{"$f":"IMSUM(O110,IMPRODUCT($A$131,O111))","v":"0.000095980937185141+0.000319397655620341i"},{"$f":"IMSUM(P108,IMPRODUCT($A$67,P110))","v":"0.000302203282001496-0.000071020172305363i"},{"$f":"IMSUM(Q110,IMPRODUCT($A$99,Q114))","v":"-0.00113012678036322+0.00267568212471436i"},{"$f":"IMSUM(R102,IMPRODUCT($A$51,R110))","v":"0.0166694046979206-0.00702555798912425i"},{"$f":"IMSUM(S110,IMPRODUCT($A$91,S126))","v":"0.0149494410997499+0.00084642965173493i"},{"$f":"IMSUM(T78,IMPRODUCT($A$47,T110))","v":"-0.014104586403872-0.0263878251643584i"},{"$f":"IMSUM(U46,IMPRODUCT($A$25,U110))","v":"0.000672450129051903-0.000122764764542288i"},6.7245012905190295E-4,null,null,{"$f":"Y47","v":"-0.0000434167554976876+0.000285200294129461i"},{"$f":"IMSUM(Z110,IMPRODUCT($A$131,Z111))","v":"0.000127812764477073+0.000409285229983886i"},{"$f":"IMSUM(AA108,IMPRODUCT($A$67,AA110))","v":"0.000130139260281996-0.000252698244198348i"},{"$f":"IMSUM(AB110,IMPRODUCT($A$99,AB114))","v":"-0.000159458742400679+0.000865525937978712i"},{"$f":"IMSUM(AC102,IMPRODUCT($A$51,AC110))","v":"0.00238508536868001-0.00179515037945703i"},{"$f":"IMSUM(AD110,IMPRODUCT($A$91,AD126))","v":"0.00148663417380745-0.00118922775041586i"},{"$f":"IMSUM(AE78,IMPRODUCT($A$47,AE110))","v":"-0.00128494352113503-0.00240396024462498i"},{"$f":"IMSUM(AF46,IMPRODUCT($A$25,AF110))","v":"0.00059853918701989+0.000251709718458769i"},5.9853918701988995E-4]
["0.555570233019602+0.831469612302545i",8.359375,null,{"$f":"IMCONJUGATE(C25)","v":"-0.00366020768968545+0.00283314770006643i"},{"$f":"IMSUM(D110,IMPRODUCT($A$67,D111))","v":"0.00413318276995423-0.00196063967428351i"},{"$f":"IMSUM(E109,IMPRODUCT($A$35,E111))","v":"-0.00455181200815244-0.0177318544246894i"},{"$f":"IMSUM(F111,IMPRODUCT($A$83,F115))","v":"-0.114017728607589+0.0297216367148256i"},{"$f":"IMSUM(G103,IMPRODUCT($A$43,G111))","v":"-0.0878385705093882+0.0959695386845452i"},{"$f":"IMSUM(H111,IMPRODUCT($A$87,H127))","v":"-0.0021654715935068-0.000187893015162394i"},{"$f":"IMSUM(I79,IMPRODUCT($A$45,I111))","v":"0.00221438828764806+0.00369448365996591i"},{"$f":"IMSUM(J47,IMPRODUCT($A$24,J111))","v":"-0.99873999347458-0.000640419622332796i"},-0.99873999347457998,null,null,{"$f":"IMCONJUGATE(N25)","v":"0.000215503780036323+0.00023090080962016i"},{"$f":"IMSUM(O110,IMPRODUCT($A$67,O111))","v":"-0.000335026622887505-0.000142403963619979i"},{"$f":"IMSUM(P109,IMPRODUCT($A$35,P111))","v":"0.00024700921094123+0.000516919201063082i"},{"$f":"IMSUM(Q111,IMPRODUCT($A$83,Q115))","v":"0.000743595847579815+0.00379522744479918i"},{"$f":"IMSUM(R103,IMPRODUCT($A$43,R111))","v":"0.017115464043806-0.0115881779756127i"},{"$f":"IMSUM(S111,IMPRODUCT($A$87,S127))","v":"0.0153434934866784-0.00283035593987799i"},{"$f":"IMSUM(T79,IMPRODUCT($A$45,T111))","v":"-0.0159000571459043-0.026527642710959i"},{"$f":"IMSUM(U47,IMPRODUCT($A$24,U111))","v":"0.0014851244806256+0.000122764764542387i"},1.4851244806256001E-3,null,null,{"$f":"IMCONJUGATE(Y25)","v":"0.000171229519974761+0.000124084935854425i"},{"$f":"IMSUM(Z110,IMPRODUCT($A$67,Z111))","v":"-0.000214646275472449+0.000161115358275036i"},{"$f":"IMSUM(AA109,IMPRODUCT($A$35,AA111))","v":"0.000471907202845175+0.000230782381128835i"},{"$f":"IMSUM(AB111,IMPRODUCT($A$83,AB115))","v":"0.00064481605167857+0.00133677946528663i"},{"$f":"IMSUM(AC103,IMPRODUCT($A$43,AC111))","v":"0.00451302291171132-0.00408332772519902i"},{"$f":"IMSUM(AD111,IMPRODUCT($A$87,AD127))","v":"0.00225830006771978-0.00078817771304432i"},{"$f":"IMSUM(AE79,IMPRODUCT($A$45,AE111))","v":"-0.00235896444527708-0.00393569440649999i"},{"$f":"IMSUM(AF47,IMPRODUCT($A$24,AF111))","v":"0.00176442284778024-0.000251709718458772i"},1.76442284778024E-3]
["0.595699304492433+0.803207531480645i",8.4375,null,{"$f":"C31","v":"-0.00278262917762742-0.00634905387712813i"},{"$f":"IMSUM(D112,IMPRODUCT($A$131,D113))","v":"-0.0045609042653743-0.00523726659644132i"},{"$f":"IMSUM(E112,IMPRODUCT($A$131,E114))","v":"0.0463713222890393-0.117700846128634i"},{"$f":"IMSUM(F108,IMPRODUCT($A$67,F112))","v":"-0.0524850487297301+0.108010158464044i"},{"$f":"IMSUM(G104,IMPRODUCT($A$35,G112))","v":"-0.024198040567139+0.0362510001139851i"},{"$f":"IMSUM(H112,IMPRODUCT($A$83,H128))","v":"0.0008271537905024-0.000284487699120803i"},{"$f":"IMSUM(I80,IMPRODUCT($A$43,I112))","v":"-0.000963093287248132-0.00144137096367999i"},{"$f":"IMSUM(J48,IMPRODUCT($A$23,J112))","v":"-1.00050128535019+0.000640419622334338i"},-1.00050128535019,null,null,{"$f":"N31","v":"0.000505923782786-0.000251324896236985i"},{"$f":"IMSUM(O112,IMPRODUCT($A$131,O113))","v":"0.000579484669609451-0.000122061368928018i"},{"$f":"IMSUM(P112,IMPRODUCT($A$131,P114))","v":"-0.00158773295780082-0.00167645280022076i"},{"$f":"IMSUM(Q108,IMPRODUCT($A$67,Q112))","v":"0.0020818981141726+0.00224422793915608i"},{"$f":"IMSUM(R104,IMPRODUCT($A$35,R112))","v":"0.0134333307625068-0.011360535425844i"},{"$f":"IMSUM(S112,IMPRODUCT($A$83,S128))","v":"0.0155304660153444-0.00521592268527277i"},{"$f":"IMSUM(T80,IMPRODUCT($A$43,T112))","v":"-0.0180556197866023-0.027022144621126i"},{"$f":"IMSUM(U48,IMPRODUCT($A$23,U112))","v":"0.000633017631418306-0.000122764764542176i"},6.3301763141830603E-4,null,null,{"$f":"Y31","v":"0.000412795279284489-0.000323113511595995i"},{"$f":"IMSUM(Z112,IMPRODUCT($A$131,Z113))","v":"0.000507223281896111-0.000194861619015698i"},{"$f":"IMSUM(AA112,IMPRODUCT($A$131,AA114))","v":"-0.000103777618384837-0.000679321240714071i"},{"$f":"IMSUM(AB108,IMPRODUCT($A$67,AB112))","v":"0.000489542407620979+0.0012451934564835i"},{"$f":"IMSUM(AC104,IMPRODUCT($A$35,AC112))","v":"0.00458140503647985-0.00542648510497378i"},{"$f":"IMSUM(AD112,IMPRODUCT($A$83,AD128))","v":"0.0028767710707319-0.0014880134319629i"},{"$f":"IMSUM(AE80,IMPRODUCT($A$43,AE112))","v":"-0.00345763772516685-0.0051747205446943i"},{"$f":"IMSUM(AF48,IMPRODUCT($A$23,AF112))","v":"0.00118639485210889+0.000251709718458777i"},1.1863948521088901E-3]
["0.634393284163646+0.773010453362737i",8.515625,null,{"$f":"IMCONJUGATE(C41)","v":"-0.00177827508774688+0.00111178728068681i"},{"$f":"IMSUM(D112,IMPRODUCT($A$67,D113))","v":"-0.00100435408988054-0.00746084115781494i"},{"$f":"IMSUM(E113,IMPRODUCT($A$99,E115))","v":"-0.112967485491752-0.0587710888761661i"},{"$f":"IMSUM(F109,IMPRODUCT($A$51,F113))","v":"0.037692106903171+0.111972021642084i"},{"$f":"IMSUM(G105,IMPRODUCT($A$27,G113))","v":"-0.011305246985319-0.0168598852012319i"},{"$f":"IMSUM(H113,IMPRODUCT($A$79,H129))","v":"-0.0168591683925739-0.0470479916646786i"},{"$f":"IMSUM(I81,IMPRODUCT($A$41,I113))","v":"0.0000281872158604951+0.0000380060609430008i"},{"$f":"IMSUM(J49,IMPRODUCT($A$22,J113))","v":"-0.999098514130148-0.000640419622333453i"},-0.99909851413014805,null,null,{"$f":"IMCONJUGATE(N41)","v":"0.0000735608868234514+0.000129263527308967i"},{"$f":"IMSUM(O112,IMPRODUCT($A$67,O113))","v":"0.000432362895962549-0.000380588423545952i"},{"$f":"IMSUM(P113,IMPRODUCT($A$99,P115))","v":"-0.00110224841982669+0.00190807692108742i"},{"$f":"IMSUM(Q109,IMPRODUCT($A$51,Q113))","v":"0.00266043860031926-0.000722940842426781i"},{"$f":"IMSUM(R105,IMPRODUCT($A$27,R113))","v":"0.00844742726353014-0.00946397869083502i"},{"$f":"IMSUM(S113,IMPRODUCT($A$79,S129))","v":"0.0129844396504428-0.011143121173529i"},{"$f":"IMSUM(T81,IMPRODUCT($A$41,T113))","v":"-0.0190378665653367-0.025669591509144i"},{"$f":"IMSUM(U49,IMPRODUCT($A$22,U113))","v":"0.000381334891852499+0.000122764764542325i"},3.8133489185249902E-4,null,null,{"$f":"IMCONJUGATE(Y41)","v":"0.0000944280026116219+0.000128251892580297i"},{"$f":"IMSUM(Z112,IMPRODUCT($A$67,Z113))","v":"0.000318367276672867-0.000451365404176292i"},{"$f":"IMSUM(AA113,IMPRODUCT($A$99,AA115))","v":"-0.000023058465297542+1.59224936520001E-06i"},{"$f":"IMSUM(AB109,IMPRODUCT($A$51,AB113))","v":"0.000167107173794223-0.000183331262963889i"},{"$f":"IMSUM(AC105,IMPRODUCT($A$27,AC113))","v":"0.00154546363918801-0.00573335993846364i"},{"$f":"IMSUM(AD113,IMPRODUCT($A$79,AD129))","v":"0.000930309527749055-0.00664898971378552i"},{"$f":"IMSUM(AE81,IMPRODUCT($A$41,AE113))","v":"-0.0037122843877254-0.00500543605932136i"},{"$f":"IMSUM(AF49,IMPRODUCT($A$22,AF113))","v":"0.00020527197467064-0.000251709718458791i"},2.0527197467063999E-4]
["0.671558954847018+0.740951125354959i",8.59375,null,{"$f":"C63","v":"-0.00018901058196883-0.000250224065160968i"},{"$f":"IMSUM(D114,IMPRODUCT($A$131,D115))","v":"0.0509322265544136-0.112463579532193i"},{"$f":"IMSUM(E112,IMPRODUCT($A$67,E114))","v":"-0.0554931308197879+0.107226312935752i"},{"$f":"IMSUM(F110,IMPRODUCT($A$35,F114))","v":"0.107487051713894+0.0383911317034995i"},{"$f":"IMSUM(G106,IMPRODUCT($A$19,G114))","v":"-0.046779947433565-0.0859941870376085i"},{"$f":"IMSUM(H114,IMPRODUCT($A$75,H130))","v":"-0.0927566131408348-0.176224766475802i"},{"$f":"IMSUM(I82,IMPRODUCT($A$39,I114))","v":"-0.00160850458660999-0.001959968509711i"},{"$f":"IMSUM(J50,IMPRODUCT($A$21,J114))","v":"-1.0006233458221+0.000640419622333334i"},-1.0006233458221001,null,null,{"$f":"N63","v":"0.0000607238586115517-9.89005775175398E-06i"},{"$f":"IMSUM(O114,IMPRODUCT($A$131,O115))","v":"-0.00216721762741027-0.00155439143129274i"},{"$f":"IMSUM(P112,IMPRODUCT($A$67,P114))","v":"0.00274670229701972+0.00143233006236472i"},{"$f":"IMSUM(Q110,IMPRODUCT($A$35,Q114))","v":"0.00173453334436622-0.00281772246932508i"},{"$f":"IMSUM(R106,IMPRODUCT($A$19,R114))","v":"0.00491937744035813-0.00951910540945253i"},{"$f":"IMSUM(S114,IMPRODUCT($A$75,S130))","v":"0.00950800181383679-0.0168572813959061i"},{"$f":"IMSUM(T82,IMPRODUCT($A$39,T114))","v":"-0.0207215385622658-0.025249267793728i"},{"$f":"IMSUM(U50,IMPRODUCT($A$21,U114))","v":"-0.000820120587747199-0.000122764764542185i"},-8.2012058774719903E-4,null,null,{"$f":"Y63","v":"-0.0000790216233697282-0.0000715169398639818i"},{"$f":"IMSUM(Z114,IMPRODUCT($A$131,Z115))","v":"-0.000611000900280948-0.000484459621698373i"},{"$f":"IMSUM(AA112,IMPRODUCT($A$67,AA114))","v":"0.00111822418217706+0.000289598002682675i"},{"$f":"IMSUM(AB110,IMPRODUCT($A$35,AB114))","v":"0.000419737262964671-0.00137092242637541i"},{"$f":"IMSUM(AC106,IMPRODUCT($A$19,AC114))","v":"-0.000651098570697995-0.00595377403246777i"},{"$f":"IMSUM(AD114,IMPRODUCT($A$75,AD130))","v":"-0.00201295695238826-0.0105025076724876i"},{"$f":"IMSUM(AE82,IMPRODUCT($A$39,AE114))","v":"-0.00402913109976574-0.00490951045012071i"},{"$f":"IMSUM(AF50,IMPRODUCT($A$21,AF114))","v":"-0.000586868405261959+0.000251709718458778i"},-5.8686840526195902E-4]
["0.707106781186547+0.707106781186548i",8.671875,null,{"$f":"IMCONJUGATE(C9)","v":"0.0511212371363824-0.112213355467032i"},{"$f":"IMSUM(D114,IMPRODUCT($A$67,D115))","v":"-0.0513102477183512+0.111963131401871i"},{"$f":"IMSUM(E113,IMPRODUCT($A$35,E115))","v":"0.11095877731199+0.0438494065605363i"},{"$f":"IMSUM(F111,IMPRODUCT($A$19,F115))","v":"0.104914104591285-0.0651853455642044i"},{"$f":"IMSUM(G107,IMPRODUCT($A$11,G115))","v":"-0.113516863316771-0.151821681994639i"},{"$f":"IMSUM(H115,IMPRODUCT($A$71,H131))","v":"-0.224409879858957-0.303067442284168i"},{"$f":"IMSUM(I83,IMPRODUCT($A$37,I115))","v":"-0.000388643176791992-0.000428801666818024i"},{"$f":"IMSUM(J51,IMPRODUCT($A$20,J115))","v":"-0.999154815186746-0.000640419622334466i"},-0.99915481518674598,null,null,{"$f":"IMCONJUGATE(N9)","v":"-0.00222794148602182-0.00154450137354099i"},{"$f":"IMSUM(O114,IMPRODUCT($A$67,O115))","v":"0.00228866534463337+0.00153461131578924i"},{"$f":"IMSUM(P113,IMPRODUCT($A$35,P115))","v":"0.00196697421175179-0.00266925376817932i"},{"$f":"IMSUM(Q111,IMPRODUCT($A$19,Q115))","v":"-0.000249577425697355-0.00276138904267302i"},{"$f":"IMSUM(R107,IMPRODUCT($A$11,R115))","v":"0.00366781634727711-0.00827808834323229i"},{"$f":"IMSUM(S115,IMPRODUCT($A$71,S131))","v":"0.00829647739865121-0.0154956451671059i"},{"$f":"IMSUM(T83,IMPRODUCT($A$37,T115))","v":"-0.0213482388959571-0.0235541519030288i"},{"$f":"IMSUM(U51,IMPRODUCT($A$20,U115))","v":"-0.000636773851085799+0.000122764764542225i"},-6.3677385108579904E-4,null,null,{"$f":"IMCONJUGATE(Y9)","v":"-0.00053197927691122-0.000412942681834391i"},{"$f":"IMSUM(Z114,IMPRODUCT($A$67,Z115))","v":"0.000452957653541492+0.000341425741970409i"},{"$f":"IMSUM(AA113,IMPRODUCT($A$35,AA115))","v":"0.000659793018643276-0.000904323057717784i"},{"$f":"IMSUM(AB111,IMPRODUCT($A$19,AB115))","v":"0.00029899835401178-0.000875214703028965i"},{"$f":"IMSUM(AC107,IMPRODUCT($A$11,AC115))","v":"-0.00112138596929791-0.00445453593094491i"},{"$f":"IMSUM(AD115,IMPRODUCT($A$71,AD131))","v":"-0.00267046909974423-0.00873305299016029i"},{"$f":"IMSUM(AE83,IMPRODUCT($A$37,AE115))","v":"-0.00410635830369599-0.00453066820756989i"},{"$f":"IMSUM(AF51,IMPRODUCT($A$20,AF115))","v":"0.0000733364786790203-0.000251709718458795i"},7.3336478679020294E-5]
["0.740951125354959+0.671558954847019i",8.75,null,{"$f":"C11","v":"0.0479744296513666-0.045497580991217i"},{"$f":"IMSUM(D116,IMPRODUCT($A$131,D117))","v":"0.0482222634292315-0.0453066001869037i"},{"$f":"IMSUM(E116,IMPRODUCT($A$131,E118))","v":"0.0594261181926648-0.0388385710543077i"},{"$f":"IMSUM(F116,IMPRODUCT($A$131,F120))","v":"0.0313281238130538-0.0209326064474914i"},{"$f":"IMSUM(G116,IMPRODUCT($A$131,G124))","v":"0.164201915823799+0.16850177755112i"},{"$f":"IMSUM(H100,IMPRODUCT($A$67,H116))","v":"-0.334385699987294-0.336168107149076i"},{"$f":"IMSUM(I84,IMPRODUCT($A$35,I116))","v":"-0.00178240716178202-0.00178240716178202i"},{"$f":"IMSUM(J52,IMPRODUCT($A$19,J116))","v":"-1.00073860545342+0.000640419622334424i"},-1.00073860545342,null,null,{"$f":"N11","v":"-0.001396120893196+0.0040763762846372i"},{"$f":"IMSUM(O116,IMPRODUCT($A$131,O117))","v":"-0.00138092496652193+0.0040652666432706i"},{"$f":"IMSUM(P116,IMPRODUCT($A$131,P118))","v":"-0.000600518277007734+0.00357961296184373i"},{"$f":"IMSUM(Q116,IMPRODUCT($A$131,Q120))","v":"-0.00176684724552329+0.00441677740240799i"},{"$f":"IMSUM(R116,IMPRODUCT($A$131,R124))","v":"-0.00666028869388274+0.0044081486475063i"},{"$f":"IMSUM(S100,IMPRODUCT($A$67,S116))","v":"0.0136488184120783-0.00897445103811348i"},{"$f":"IMSUM(T84,IMPRODUCT($A$35,T116))","v":"-0.0226232694501918-0.0226232694501918i"},{"$f":"IMSUM(U52,IMPRODUCT($A$19,U116))","v":"0.0008126327999287-0.000122764764542273i"},8.1263279992869997E-4,null,null,{"$f":"Y11","v":"0.000593043544980959+0.00191418211091367i"},{"$f":"IMSUM(Z116,IMPRODUCT($A$131,Z117))","v":"0.000590658050726955+0.00188692410526686i"},{"$f":"IMSUM(AA116,IMPRODUCT($A$131,AA118))","v":"0.000781950051193612+0.00201600928889253i"},{"$f":"IMSUM(AB116,IMPRODUCT($A$131,AB120))","v":"-0.00122184558899904+0.00291277209629144i"},{"$f":"IMSUM(AC116,IMPRODUCT($A$131,AC124))","v":"-0.00100606897715877+0.00203469818607239i"},{"$f":"IMSUM(AD100,IMPRODUCT($A$67,AD116))","v":"-0.00029818860005238-0.00448990993141956i"},{"$f":"IMSUM(AE84,IMPRODUCT($A$35,AE116))","v":"-0.00419172133136718-0.00419172133136718i"},{"$f":"IMSUM(AF52,IMPRODUCT($A$19,AF116))","v":"-0.00099069993393339+0.000251709718458767i"},-9.9069993393339009E-4]
["0.773010453362737+0.634393284163646i",8.828125,null,{"$f":"IMCONJUGATE(C61)","v":"0.000247833777864863+0.000190980804313266i"},{"$f":"IMSUM(D116,IMPRODUCT($A$67,D117))","v":"0.0477265958735017-0.0456885617955303i"},{"$f":"IMSUM(E117,IMPRODUCT($A$99,E119))","v":"0.0517641616522344-0.0567828756425456i"},{"$f":"IMSUM(F117,IMPRODUCT($A$115,F121))","v":"0.0264636290224888-0.0336661177729884i"},{"$f":"IMSUM(G117,IMPRODUCT($A$123,G125))","v":"0.221475554184296+0.105214129594991i"},{"$f":"IMSUM(H101,IMPRODUCT($A$63,H117))","v":"-0.394852332389494-0.29288620700083i"},{"$f":"IMSUM(I85,IMPRODUCT($A$33,I117))","v":"-0.0000520852308280029-0.0000472073015069796i"},{"$f":"IMSUM(J53,IMPRODUCT($A$18,J117))","v":"-0.998690095130462-0.000640419622332917i"},-0.99869009513046203,null,null,{"$f":"IMCONJUGATE(N61)","v":"0.0000151959266740715-0.0000111096413666006i"},{"$f":"IMSUM(O116,IMPRODUCT($A$67,O117))","v":"-0.00141131681987007+0.0040874859260038i"},{"$f":"IMSUM(P117,IMPRODUCT($A$99,P119))","v":"-0.00203026866068432+0.00267221775299074i"},{"$f":"IMSUM(Q117,IMPRODUCT($A$115,Q121))","v":"-0.00105066708202974+0.00172451743869622i"},{"$f":"IMSUM(R117,IMPRODUCT($A$123,R125))","v":"-0.00698215344468967+0.00383567230328714i"},{"$f":"IMSUM(S101,IMPRODUCT($A$63,S117))","v":"0.0179595174133144-0.0058286317806238i"},{"$f":"IMSUM(T85,IMPRODUCT($A$33,T117))","v":"-0.0227917647600404-0.0206572514672131i"},{"$f":"IMSUM(U53,IMPRODUCT($A$18,U117))","v":"-0.000322907266878298+0.000122764764542173i"},-3.2290726687829799E-4,null,null,{"$f":"IMCONJUGATE(Y61)","v":"-2.38549425400444E-06-0.000027258005646811i"},{"$f":"IMSUM(Z116,IMPRODUCT($A$67,Z117))","v":"0.000595429039234963+0.00194144011656048i"},{"$f":"IMSUM(AA117,IMPRODUCT($A$99,AA119))","v":"0.000404483529826648+0.00203755188490198i"},{"$f":"IMSUM(AB117,IMPRODUCT($A$115,AB121))","v":"-0.00111574904496339+0.00191523573493355i"},{"$f":"IMSUM(AC117,IMPRODUCT($A$123,AC125))","v":"-0.00143322961639204+0.00191477155265943i"},{"$f":"IMSUM(AD101,IMPRODUCT($A$63,AD117))","v":"0.00130399286573792-0.0029668336514886i"},{"$f":"IMSUM(AE85,IMPRODUCT($A$33,AE117))","v":"-0.00468247142573256-0.00424394472072575i"},{"$f":"IMSUM(AF53,IMPRODUCT($A$18,AF117))","v":"0.00066956284384541-0.000251709718458772i"},6.6956284384540995E-4]
["0.803207531480645+0.595699304492433i",8.90625,null,{"$f":"C43","v":"0.0000547704582089679+0.00121523167693164i"},{"$f":"IMSUM(D118,IMPRODUCT($A$131,D119))","v":"0.0112038547634333+0.00646802913259597i"},{"$f":"IMSUM(E116,IMPRODUCT($A$67,E118))","v":"0.0370184086657982-0.0517746293194997i"},{"$f":"IMSUM(F118,IMPRODUCT($A$99,F122))","v":"0.0310759744372775-0.0379326663443317i"},{"$f":"IMSUM(G118,IMPRODUCT($A$115,G126))","v":"0.248970123182796+0.0228324204597475i"},{"$f":"IMSUM(H102,IMPRODUCT($A$59,H118))","v":"-0.439374041221223-0.233355411402706i"},{"$f":"IMSUM(I86,IMPRODUCT($A$31,I118))","v":"0.00203825821091297+0.00167275528392796i"},{"$f":"IMSUM(J54,IMPRODUCT($A$17,J118))","v":"-1.00065598138491+0.000640419622334019i"},-1.0006559813849101,null,null,{"$f":"N43","v":"-0.000317430741749434+0.0000666490796936916i"},{"$f":"IMSUM(O118,IMPRODUCT($A$131,O119))","v":"0.000780406689514196-0.000485653681426867i"},{"$f":"IMSUM(P116,IMPRODUCT($A$67,P118))","v":"-0.00216133165603613+0.00455092032469747i"},{"$f":"IMSUM(Q118,IMPRODUCT($A$99,Q122))","v":"0.00078256291859735+0.00267157394049341i"},{"$f":"IMSUM(R118,IMPRODUCT($A$115,R126))","v":"-0.00636584399766787+0.00676658796591201i"},{"$f":"IMSUM(S102,IMPRODUCT($A$59,S118))","v":"0.0197579122133603-0.00865522175545969i"},{"$f":"IMSUM(T86,IMPRODUCT($A$31,T118))","v":"-0.0262004773086484-0.0215021760367954i"},{"$f":"IMSUM(U54,IMPRODUCT($A$17,U118))","v":"-0.0013302130036907-0.000122764764542359i"},-1.3302130036907001E-3,null,null,{"$f":"Y43","v":"0.000143701884404076+0.000160015346516993i"},{"$f":"IMSUM(Z118,IMPRODUCT($A$131,Z119))","v":"0.000191292000466657+0.000129085183625671i"},{"$f":"IMSUM(AA116,IMPRODUCT($A$67,AA118))","v":"0.000399366050260298+0.00175783892164119i"},{"$f":"IMSUM(AB118,IMPRODUCT($A$99,AB122))","v":"0.000200771232430681+0.000483420633975i"},{"$f":"IMSUM(AC118,IMPRODUCT($A$115,AC126))","v":"-0.000502079437461553+0.000368657149476092i"},{"$f":"IMSUM(AD102,IMPRODUCT($A$59,AD118))","v":"0.00154047803175578-0.00094507788799104i"},{"$f":"IMSUM(AE86,IMPRODUCT($A$31,AE118))","v":"-0.00241126789995338-0.0019788764244977i"},{"$f":"IMSUM(AF54,IMPRODUCT($A$17,AF118))","v":"0.00066711415200112+0.000251709718458781i"},6.6711415200112003E-4]
["0.831469612302545+0.555570233019602i",8.984375,null,{"$f":"IMCONJUGATE(C29)","v":"0.0111490843052243+0.00525279745566433i"},{"$f":"IMSUM(D118,IMPRODUCT($A$67,D119))","v":"-0.0110943138470153-0.00403756577873269i"},{"$f":"IMSUM(E117,IMPRODUCT($A$35,E119))","v":"0.043689030094769-0.034594247948515i"},{"$f":"IMSUM(F119,IMPRODUCT($A$83,F123))","v":"0.0583319222891104-0.0360406762660706i"},{"$f":"IMSUM(G119,IMPRODUCT($A$107,G127))","v":"0.244213250561792-0.0542689809277687i"},{"$f":"IMSUM(H103,IMPRODUCT($A$55,H119))","v":"-0.463228512788096-0.182514401005359i"},{"$f":"IMSUM(I87,IMPRODUCT($A$29,I119))","v":"-0.025362667864366-0.018810236476525i"},{"$f":"IMSUM(J55,IMPRODUCT($A$16,J119))","v":"-1.00013922965696-0.000640419622336391i"},-1.00013922965696,null,null,{"$f":"IMCONJUGATE(N29)","v":"0.00109783743126363-0.000552302761120559i"},{"$f":"IMSUM(O118,IMPRODUCT($A$67,O119))","v":"-0.00141526817301306+0.000618951840814251i"},{"$f":"IMSUM(P117,IMPRODUCT($A$35,P119))","v":"-0.000792364979055819+0.00550275409901686i"},{"$f":"IMSUM(Q119,IMPRODUCT($A$83,Q123))","v":"0.00174404236552401+0.00398570343768152i"},{"$f":"IMSUM(R119,IMPRODUCT($A$107,R127))","v":"-0.00477823225694629+0.0113636524323539i"},{"$f":"IMSUM(S103,IMPRODUCT($A$55,S119))","v":"0.0209581837033157-0.0141033387510268i"},{"$f":"IMSUM(T87,IMPRODUCT($A$29,T119))","v":"-0.0326737022018197-0.0242324690867094i"},{"$f":"IMSUM(U55,IMPRODUCT($A$16,U119))","v":"0.000160120907075602+0.000122764764542259i"},1.60120907075602E-4,null,null,{"$f":"IMCONJUGATE(Y29)","v":"0.0000475901160625807-0.0000309301628913219i"},{"$f":"IMSUM(Z118,IMPRODUCT($A$67,Z119))","v":"0.0000961117683414953+0.000190945509408315i"},{"$f":"IMSUM(AA117,IMPRODUCT($A$35,AA119))","v":"0.000786374548643278+0.00184532834821898i"},{"$f":"IMSUM(AB119,IMPRODUCT($A$83,AB123))","v":"0.0021686984247469+0.0003223212503279i"},{"$f":"IMSUM(AC119,IMPRODUCT($A$107,AC127))","v":"0.0003449228505778+0.00060059623179979i"},{"$f":"IMSUM(AD103,IMPRODUCT($A$55,AD119))","v":"0.00258337789620033-0.00255974269673i"},{"$f":"IMSUM(AE87,IMPRODUCT($A$29,AE119))","v":"-0.00526972308104919-0.00390829300176249i"},{"$f":"IMSUM(AF55,IMPRODUCT($A$16,AF119))","v":"0.00036814713945728-0.00025170971845876i"},3.6814713945728002E-4]
["0.857728610000272+0.514102744193222i",9.0625,null,{"$f":"C27","v":"-0.00679426524615061+0.0121883210447786i"},{"$f":"IMSUM(D120,IMPRODUCT($A$131,D121))","v":"-0.00712801570222148+0.0119241994176685i"},{"$f":"IMSUM(E120,IMPRODUCT($A$131,E122))","v":"-0.028097994379611+0.0179059646068163i"},{"$f":"IMSUM(F116,IMPRODUCT($A$67,F120))","v":"0.0875241125722758-0.056744535661124i"},{"$f":"IMSUM(G120,IMPRODUCT($A$99,G128))","v":"0.218578200961957-0.121628077878054i"},{"$f":"IMSUM(H104,IMPRODUCT($A$51,H120))","v":"-0.48078052426524-0.137273186814973i"},{"$f":"IMSUM(I88,IMPRODUCT($A$27,I120))","v":"-0.067914261202641-0.045378858545677i"},{"$f":"IMSUM(J56,IMPRODUCT($A$15,J120))","v":"-1.00145357723094+0.000640419622333587i"},-1.0014535772309401,null,null,{"$f":"N27","v":"-0.00147233634889993-0.0010475830987843i"},{"$f":"IMSUM(O120,IMPRODUCT($A$131,O121))","v":"-0.00152283767635981-0.00105336506703461i"},{"$f":"IMSUM(P120,IMPRODUCT($A$131,P122))","v":"-0.00116632896851556+0.00083716444056426i"},{"$f":"IMSUM(Q116,IMPRODUCT($A$67,Q120))","v":"0.000565810691507826+0.00274244852127947i"},{"$f":"IMSUM(R120,IMPRODUCT($A$99,R128))","v":"-0.0017303773952607+0.0113126929375289i"},{"$f":"IMSUM(S104,IMPRODUCT($A$51,S120))","v":"0.0181677183640032-0.0139724594969059i"},{"$f":"IMSUM(T88,IMPRODUCT($A$27,T120))","v":"-0.0286829222402459-0.0191653159140326i"},{"$f":"IMSUM(U56,IMPRODUCT($A$15,U120))","v":"0.0017998926697134-0.000122764764542151i"},1.7998926697134E-3,null,null,{"$f":"Y27","v":"-0.00162351262571696+0.000545827967219257i"},{"$f":"IMSUM(Z120,IMPRODUCT($A$131,Z121))","v":"-0.00163910696392942+0.000547678812614264i"},{"$f":"IMSUM(AA120,IMPRODUCT($A$131,AA122))","v":"-0.00200379564019265+0.000896762807398911i"},{"$f":"IMSUM(AB116,IMPRODUCT($A$67,AB120))","v":"0.00278574569138626+0.00111924648149362i"},{"$f":"IMSUM(AC120,IMPRODUCT($A$99,AC128))","v":"0.00158121311865411+0.00381805475386307i"},{"$f":"IMSUM(AD104,IMPRODUCT($A$51,AD120))","v":"0.00367270401220951-0.00826525921583138i"},{"$f":"IMSUM(AE88,IMPRODUCT($A$27,AE120))","v":"-0.0146720355950569-0.00980354075940859i"},{"$f":"IMSUM(AF56,IMPRODUCT($A$15,AF120))","v":"-0.0017178399436817+0.000251709718458776i"},-1.7178399436816999E-3]
["0.881921264348355+0.471396736825998i",9.140625,null,{"$f":"IMCONJUGATE(C45)","v":"-0.000333750456070872-0.000264121627110146i"},{"$f":"IMSUM(D120,IMPRODUCT($A$67,D121))","v":"-0.00646051479007974+0.0124524426718887i"},{"$f":"IMSUM(E121,IMPRODUCT($A$99,E123))","v":"-0.00154416194151324+0.034236194438736i"},{"$f":"IMSUM(F117,IMPRODUCT($A$51,F121))","v":"0.07706469428198-0.0798996335121028i"},{"$f":"IMSUM(G121,IMPRODUCT($A$91,G129))","v":"0.166283085027029-0.187985353611917i"},{"$f":"IMSUM(H105,IMPRODUCT($A$47,H121))","v":"-0.495736896070881-0.0667338936622494i"},{"$f":"IMSUM(I89,IMPRODUCT($A$25,I121))","v":"-0.072613336829837-0.04352275917348i"},{"$f":"IMSUM(J57,IMPRODUCT($A$14,J121))","v":"-0.998331900075148-0.000640419622334079i"},-0.99833190007514805,null,null,{"$f":"IMCONJUGATE(N45)","v":"-0.0000505013274598756-5.78196825030736E-06i"},{"$f":"IMSUM(O120,IMPRODUCT($A$67,O121))","v":"-0.00142183502144005-0.00104180113053399i"},{"$f":"IMSUM(P121,IMPRODUCT($A$99,P123))","v":"0.0000225576003574199-0.00136280823789798i"},{"$f":"IMSUM(Q117,IMPRODUCT($A$51,Q121))","v":"-0.0030098702393389+0.00361991806728526i"},{"$f":"IMSUM(R121,IMPRODUCT($A$91,R129))","v":"-0.00131447096793631+0.00836430921449411i"},{"$f":"IMSUM(S105,IMPRODUCT($A$47,S121))","v":"0.0154319860899737-0.0075488327374571i"},{"$f":"IMSUM(T89,IMPRODUCT($A$25,T121))","v":"-0.0142330653641267-0.00853097107484477i"},{"$f":"IMSUM(U57,IMPRODUCT($A$14,U121))","v":"-0.000171450380534+0.000122764764542112i"},-1.71450380534E-4,null,null,{"$f":"IMCONJUGATE(Y45)","v":"-0.0000155943382124575+1.85084539500674E-06i"},{"$f":"IMSUM(Z120,IMPRODUCT($A$67,Z121))","v":"-0.0016079182875045+0.00054397712182425i"},{"$f":"IMSUM(AA121,IMPRODUCT($A$99,AA123))","v":"-0.00116145734170603+0.000988476183523415i"},{"$f":"IMSUM(AB117,IMPRODUCT($A$51,AB121))","v":"0.00192471610461669+0.00215986803487041i"},{"$f":"IMSUM(AC121,IMPRODUCT($A$91,AC129))","v":"0.00384664690632418+0.00321665642240616i"},{"$f":"IMSUM(AD105,IMPRODUCT($A$47,AD121))","v":"0.00229378689890866-0.0102697190393197i"},{"$f":"IMSUM(AE89,IMPRODUCT($A$25,AE121))","v":"-0.0177891189705427-0.0106623875814668i"},{"$f":"IMSUM(AF57,IMPRODUCT($A$14,AF121))","v":"-0.000148938816679999-0.000251709718458759i"},-1.4893881667999901E-4]
["0.903989293123443+0.427555093430283i",9.21875,null,{"$f":"C59","v":"0.000406886544728887+0.00053270617029066i"},{"$f":"IMSUM(D122,IMPRODUCT($A$131,D123))","v":"-0.0209699786773895+0.00598176518914781i"},{"$f":"IMSUM(E120,IMPRODUCT($A$67,E122))","v":"0.013841962975168+0.00594243422852069i"},{"$f":"IMSUM(F118,IMPRODUCT($A$35,F122))","v":"0.0429608428943189-0.0656165922946677i"},{"$f":"IMSUM(G122,IMPRODUCT($A$83,G130))","v":"0.0779745332122764-0.232189878380477i"},{"$f":"IMSUM(H106,IMPRODUCT($A$43,H122))","v":"-0.49743789117554+0.0285383444728677i"},{"$f":"IMSUM(I90,IMPRODUCT($A$23,I122))","v":"-0.035905686964815-0.019191989526657i"},{"$f":"IMSUM(J58,IMPRODUCT($A$13,J122))","v":"-1.00006274493941+0.000640419622334555i"},-1.0000627449394099,null,null,{"$f":"N59","v":"0.0000177508002401331+0.000223068442900704i"},{"$f":"IMSUM(O122,IMPRODUCT($A$131,O123))","v":"0.000356508707844252+0.00189052950759887i"},{"$f":"IMSUM(P120,IMPRODUCT($A$67,P122))","v":"-0.00187934638420406-0.00294389457463348i"},{"$f":"IMSUM(Q118,IMPRODUCT($A$35,Q122))","v":"-0.00510522623066961+0.00643026670890153i"},{"$f":"IMSUM(R122,IMPRODUCT($A$83,R130))","v":"-0.00316291794650472+0.00783693334302968i"},{"$f":"IMSUM(S106,IMPRODUCT($A$43,S122))","v":"0.0149020168008279-0.00315815289547721i"},{"$f":"IMSUM(T90,IMPRODUCT($A$23,T122))","v":"-0.00296729897627234-0.0015860543465129i"},{"$f":"IMSUM(U58,IMPRODUCT($A$13,U122))","v":"-0.00094195236709605-0.000122764764542198i"},-9.4195236709604998E-4,null,null,{"$f":"Y59","v":"0.0000399051927179675-0.0000486884755069118i"},{"$f":"IMSUM(Z122,IMPRODUCT($A$131,Z123))","v":"-0.000364688676263229+0.000349083994784647i"},{"$f":"IMSUM(AA120,IMPRODUCT($A$67,AA122))","v":"-0.00127441828766619+0.000198594817829617i"},{"$f":"IMSUM(AB118,IMPRODUCT($A$35,AB122))","v":"0.000597960868089915+0.00303225720930738i"},{"$f":"IMSUM(AC122,IMPRODUCT($A$83,AC130))","v":"0.00167845365343458+0.00134087186985449i"},{"$f":"IMSUM(AD106,IMPRODUCT($A$43,AD122))","v":"0.00129056805884217-0.00548521724040294i"},{"$f":"IMSUM(AE90,IMPRODUCT($A$23,AE122))","v":"-0.00940534920933927-0.00502726388989781i"},{"$f":"IMSUM(AF58,IMPRODUCT($A$13,AF122))","v":"0.0000214850112916984+0.000251709718458774i"},2.14850112916984E-5]
["0.923879532511287+0.38268343236509i",9.296875,null,{"$f":"IMCONJUGATE(C13)","v":"-0.0213768652221184+0.00544905901885716i"},{"$f":"IMSUM(D122,IMPRODUCT($A$67,D123))","v":"0.0217837517668473-0.0049163528485665i"},{"$f":"IMSUM(E121,IMPRODUCT($A$35,E123))","v":"-0.0113768676386462-0.0093313090949586i"},{"$f":"IMSUM(F119,IMPRODUCT($A$19,F123))","v":"0.0290461379004276-0.0331478196309594i"},{"$f":"IMSUM(G123,IMPRODUCT($A$75,G131))","v":"-0.0211633784447741-0.236269408983838i"},{"$f":"IMSUM(H107,IMPRODUCT($A$39,H123))","v":"-0.485082935788394+0.115773515618709i"},{"$f":"IMSUM(I91,IMPRODUCT($A$21,I123))","v":"-0.010055272803875-0.00475578984821201i"},{"$f":"IMSUM(J59,IMPRODUCT($A$12,J123))","v":"-0.999352065576718-0.000640419622334672i"},-0.99935206557671796,null,null,{"$f":"IMCONJUGATE(N13)","v":"0.000338757907604119+0.00166746106469817i"},{"$f":"IMSUM(O122,IMPRODUCT($A$67,O123))","v":"-0.000321007107363986-0.00144439262179747i"},{"$f":"IMSUM(P121,IMPRODUCT($A$35,P123))","v":"-0.00286622764323752-0.000720794023170004i"},{"$f":"IMSUM(Q119,IMPRODUCT($A$19,Q123))","v":"-0.00332877232363565+0.0070198047603522i"},{"$f":"IMSUM(R123,IMPRODUCT($A$75,R131))","v":"-0.00070974653516864+0.00786374300239137i"},{"$f":"IMSUM(S107,IMPRODUCT($A$39,S123))","v":"0.0140935590376405-0.00420475619947064i"},{"$f":"IMSUM(T91,IMPRODUCT($A$21,T123))","v":"-0.00118294125172123-0.000559489544012899i"},{"$f":"IMSUM(U59,IMPRODUCT($A$12,U123))","v":"0.00018881400231846+0.000122764764542258i"},1.8881400231846E-4,null,null,{"$f":"IMCONJUGATE(Y13)","v":"-0.000404593868981197+0.000397772470291559i"},{"$f":"IMSUM(Z122,IMPRODUCT($A$67,Z123))","v":"0.000444499061699165-0.000446460945798471i"},{"$f":"IMSUM(AA121,IMPRODUCT($A$35,AA123))","v":"-0.00205437923330297+0.000099478060125085i"},{"$f":"IMSUM(AB119,IMPRODUCT($A$19,AB123))","v":"-0.000595949327460342+0.00336833544611006i"},{"$f":"IMSUM(AC123,IMPRODUCT($A$75,AC131))","v":"-0.00187651931654956+0.00223815321183903i"},{"$f":"IMSUM(AD107,IMPRODUCT($A$39,AD123))","v":"0.0015572359280671-0.00120468610356759i"},{"$f":"IMSUM(AE91,IMPRODUCT($A$21,AE123))","v":"-0.00142867499300156-0.00067571294788653i"},{"$f":"IMSUM(AF59,IMPRODUCT($A$12,AF123))","v":"0.00059850507768934-0.000251709718458787i"},5.9850507768934003E-4]
["0.941544065183021+0.33688985339222i",9.375,null,{"$f":"C19","v":"0.0305939878671498+0.0101353639070611i"},{"$f":"IMSUM(D124,IMPRODUCT($A$131,D125))","v":"0.0306221417192997+0.0100749881715664i"},{"$f":"IMSUM(E124,IMPRODUCT($A$131,E126))","v":"0.0339951248969072+0.0291901478044647i"},{"$f":"IMSUM(F124,IMPRODUCT($A$131,F128))","v":"0.132873792010745+0.189434383998611i"},{"$f":"IMSUM(G116,IMPRODUCT($A$67,G124))","v":"-0.101545668197691-0.210366990446102i"},{"$f":"IMSUM(H108,IMPRODUCT($A$35,H124))","v":"-0.461065966306294+0.188662406186183i"},{"$f":"IMSUM(I92,IMPRODUCT($A$19,I124))","v":"-0.00395599839410501-0.00163862818756499i"},{"$f":"IMSUM(J60,IMPRODUCT($A$11,J124))","v":"-1.00114801818173+0.000640419622333667i"},-1.00114801818173,null,null,{"$f":"N19","v":"0.000303126075208354+0.00197192815386144i"},{"$f":"IMSUM(O124,IMPRODUCT($A$131,O125))","v":"0.000284743076529662+0.00196744391217941i"},{"$f":"IMSUM(P124,IMPRODUCT($A$131,P126))","v":"0.001838401483945+0.00114377966593342i"},{"$f":"IMSUM(Q124,IMPRODUCT($A$131,Q128))","v":"-0.00489344144835945-8.62875490168988E-06i"},{"$f":"IMSUM(R116,IMPRODUCT($A$67,R124))","v":"0.00312659420283616+0.00442540615730968i"},{"$f":"IMSUM(S108,IMPRODUCT($A$35,S124))","v":"0.0136010714783633-0.00547554127087246i"},{"$f":"IMSUM(T92,IMPRODUCT($A$19,T124))","v":"0.00027007623958046+0.000111869241308999i"},{"$f":"IMSUM(U60,IMPRODUCT($A$11,U124))","v":"-0.000294926032191693-0.000122764764542204i"},-2.9492603219169298E-4,null,null,{"$f":"Y19","v":"0.000079193431342264+0.000305116054756733i"},{"$f":"IMSUM(Z124,IMPRODUCT($A$131,Z125))","v":"0.0000941076381446564+0.000293566341704982i"},{"$f":"IMSUM(AA124,IMPRODUCT($A$131,AA126))","v":"0.00145729244210486+0.000163229331256549i"},{"$f":"IMSUM(AB124,IMPRODUCT($A$131,AB128))","v":"0.00021577661184027-0.000878073910219051i"},{"$f":"IMSUM(AC116,IMPRODUCT($A$67,AC124))","v":"-0.00143762220083931+0.00379084600651049i"},{"$f":"IMSUM(AD108,IMPRODUCT($A$35,AD124))","v":"0.00192261408759674-0.00079069149461856i"},{"$f":"IMSUM(AE92,IMPRODUCT($A$19,AE124))","v":"9.69864665457292E-06+4.01731098096996E-06i"},{"$f":"IMSUM(AF60,IMPRODUCT($A$11,AF124))","v":"0.000134471242350795+0.000251709718458753i"},1.34471242350795E-4]
["0.956940335732209+0.290284677254462i",9.453125,null,{"$f":"IMCONJUGATE(C53)","v":"0.000028153852149937-0.0000603757354946799i"},{"$f":"IMSUM(D124,IMPRODUCT($A$67,D125))","v":"0.0305658340149999+0.0101957396425558i"},{"$f":"IMSUM(E125,IMPRODUCT($A$99,E127))","v":"0.0496570557228698+0.00630817718242013i"},{"$f":"IMSUM(F125,IMPRODUCT($A$115,F129))","v":"0.233314696003107+0.0536807851403357i"},{"$f":"IMSUM(G117,IMPRODUCT($A$59,G125))","v":"-0.168548296139318-0.172546365140967i"},{"$f":"IMSUM(H109,IMPRODUCT($A$31,H125))","v":"-0.428484444944403+0.256852232829936i"},{"$f":"IMSUM(I93,IMPRODUCT($A$17,I125))","v":"0.0000460973395940145+0.0000164938918449931i"},{"$f":"IMSUM(J61,IMPRODUCT($A$10,J125))","v":"-0.999098655919333-0.000640419622335245i"},-0.999098655919333,null,null,{"$f":"IMCONJUGATE(N53)","v":"-0.000018382998678692-4.48424168202588E-06i"},{"$f":"IMSUM(O124,IMPRODUCT($A$67,O125))","v":"0.000321509073887046+0.00197641239554347i"},{"$f":"IMSUM(P125,IMPRODUCT($A$99,P127))","v":"-0.000468815097635522+0.00041919487733339i"},{"$f":"IMSUM(Q125,IMPRODUCT($A$115,Q129))","v":"-0.00467207485799542+0.00422033432964661i"},{"$f":"IMSUM(R117,IMPRODUCT($A$59,R125))","v":"0.00488081928063019-0.0003866374258947i"},{"$f":"IMSUM(S109,IMPRODUCT($A$31,S125))","v":"0.0142056310366825-0.00783904607316621i"},{"$f":"IMSUM(T93,IMPRODUCT($A$17,T125))","v":"0.00109102323732819+0.000390374356403099i"},{"$f":"IMSUM(U61,IMPRODUCT($A$10,U125))","v":"0.00036761092879895+0.000122764764542303i"},3.6761092879895001E-4,null,null,{"$f":"IMCONJUGATE(Y53)","v":"0.0000149142068023924-0.0000115497130517515i"},{"$f":"IMSUM(Z124,IMPRODUCT($A$67,Z125))","v":"0.0000642792245398716+0.000316665767808485i"},{"$f":"IMSUM(AA125,IMPRODUCT($A$99,AA127))","v":"-0.0000263186756522753-0.00102949111587259i"},{"$f":"IMSUM(AB125,IMPRODUCT($A$115,AB129))","v":"-0.000293491436778818+0.00012106570628113i"},{"$f":"IMSUM(AC117,IMPRODUCT($A$59,AC125))","v":"-0.000798268473534743+0.00191569991720767i"},{"$f":"IMSUM(AD109,IMPRODUCT($A$31,AD125))","v":"0.00083999587048366+0.0000818307338086i"},{"$f":"IMSUM(AE93,IMPRODUCT($A$17,AE125))","v":"0.00094537190070071+0.000338259474840704i"},{"$f":"IMSUM(AF61,IMPRODUCT($A$10,AF125))","v":"-0.0000563966002095199-0.000251709718458761i"},-5.6396600209519903E-5]
["0.970031253194544+0.242980179903264i",9.53125,null,{"$f":"C51","v":"-0.000257289641264113+0.0000119689625142018i"},{"$f":"IMSUM(D126,IMPRODUCT($A$131,D127))","v":"0.00337298317760745+0.0191151596328983i"},{"$f":"IMSUM(E124,IMPRODUCT($A$67,E126))","v":"0.0272491585416923-0.0090401714613319i"},{"$f":"IMSUM(F126,IMPRODUCT($A$99,F130))","v":"0.19704183509738-0.111107025220273i"},{"$f":"IMSUM(G118,IMPRODUCT($A$51,G126))","v":"-0.186818174308241-0.0986977531484109i"},{"$f":"IMSUM(H110,IMPRODUCT($A$27,H126))","v":"-0.332163135084809+0.271780411435204i"},{"$f":"IMSUM(I94,IMPRODUCT($A$15,I126))","v":"-0.00121141581586499-0.000367478970210999i"},{"$f":"IMSUM(J62,IMPRODUCT($A$9,J126))","v":"-1.00111584725746+0.000640419622335616i"},-1.0011158472574599,null,null,{"$f":"N51","v":"-1.77955539737114E-06-0.0000166700373617119i"},{"$f":"IMSUM(O126,IMPRODUCT($A$131,O127))","v":"0.00155365840741534-0.000823664246245992i"},{"$f":"IMSUM(P124,IMPRODUCT($A$67,P126))","v":"-0.00126891533088568+0.0027911081584254i"},{"$f":"IMSUM(Q126,IMPRODUCT($A$99,Q130))","v":"-0.00215907481874443+0.00795029919159947i"},{"$f":"IMSUM(R118,IMPRODUCT($A$51,R126))","v":"0.00793096983486257-0.00142344008492519i"},{"$f":"IMSUM(S110,IMPRODUCT($A$27,S126))","v":"0.0183893682960913-0.0148975456299834i"},{"$f":"IMSUM(T94,IMPRODUCT($A$15,T126))","v":"0.000287337116949+0.0000871627615037993i"},{"$f":"IMSUM(U62,IMPRODUCT($A$9,U126))","v":"-0.000266745019405859-0.000122764764542279i"},-2.6674501940585901E-4,null,null,{"$f":"Y51","v":"8.51396013955772E-06-0.0000198695551281429i"},{"$f":"IMSUM(Z126,IMPRODUCT($A$131,Z127))","v":"0.0013631848039602-0.000130337010448433i"},{"$f":"IMSUM(AA124,IMPRODUCT($A$67,AA126))","v":"-0.00126907716581554+0.000423903352153415i"},{"$f":"IMSUM(AB126,IMPRODUCT($A$99,AB130))","v":"-0.000578140512964081+0.000415840436720532i"},{"$f":"IMSUM(AC118,IMPRODUCT($A$51,AC126))","v":"0.000903621902322915+0.000598184118473908i"},{"$f":"IMSUM(AD110,IMPRODUCT($A$27,AD126))","v":"0.00328353656355257-0.0024010730084982i"},{"$f":"IMSUM(AE94,IMPRODUCT($A$15,AE126))","v":"0.000434449016469631+0.00013178866834255i"},{"$f":"IMSUM(AF62,IMPRODUCT($A$9,AF126))","v":"0.000115631668250849+0.000251709718458784i"},1.15631668250849E-4]
["0.98078528040323+0.195090322016129i",9.609375,null,{"$f":"IMCONJUGATE(C21)","v":"0.00363027281887156+0.0191031906703841i"},{"$f":"IMSUM(D126,IMPRODUCT($A$67,D127))","v":"-0.00388756246013567-0.0190912217078699i"},{"$f":"IMSUM(E125,IMPRODUCT($A$35,E127))","v":"0.01147461230713+0.0140833021026915i"},{"$f":"IMSUM(F127,IMPRODUCT($A$83,F131))","v":"0.0542929471266492-0.178707624861278i"},{"$f":"IMSUM(G119,IMPRODUCT($A$43,G127))","v":"-0.127549405983572-0.0178123716043725i"},{"$f":"IMSUM(H111,IMPRODUCT($A$23,H127))","v":"-0.17351166942527+0.192126970384253i"},{"$f":"IMSUM(I95,IMPRODUCT($A$13,I127))","v":"0.000894214980713105+0.000223989192277008i"},{"$f":"IMSUM(J63,IMPRODUCT($A$8,J127))","v":"-0.998728281571502-0.000640419622334845i"},-0.99872828157150195,null,null,{"$f":"IMCONJUGATE(N21)","v":"0.00155543796281271-0.00080699420888428i"},{"$f":"IMSUM(O126,IMPRODUCT($A$67,O127))","v":"-0.00155721751821008+0.000790324171522568i"},{"$f":"IMSUM(P125,IMPRODUCT($A$35,P127))","v":"0.00111183324540961+0.00353362991375355i"},{"$f":"IMSUM(Q127,IMPRODUCT($A$83,Q131))","v":"0.00432036962873541+0.00884921487421389i"},{"$f":"IMSUM(R119,IMPRODUCT($A$43,R127))","v":"0.00826631698799431-0.00339224555699089i"},{"$f":"IMSUM(S111,IMPRODUCT($A$23,S127))","v":"0.0188874346009337-0.0203460000113474i"},{"$f":"IMSUM(T95,IMPRODUCT($A$13,T127))","v":"0.000642407891782069+0.000160914800015299i"},{"$f":"IMSUM(U63,IMPRODUCT($A$8,U127))","v":"0.000276646024629742+0.000122764764542087i"},2.7664602462974201E-4,null,null,{"$f":"IMCONJUGATE(Y21)","v":"0.00135467084382064-0.00011046745532029i"},{"$f":"IMSUM(Z126,IMPRODUCT($A$67,Z127))","v":"-0.00134615688368108+0.0000905979001921471i"},{"$f":"IMSUM(AA125,IMPRODUCT($A$35,AA127))","v":"0.000154877124732019+0.00166282265148956i"},{"$f":"IMSUM(AB127,IMPRODUCT($A$83,AB131))","v":"-0.000440836136794809+0.00179144014991985i"},{"$f":"IMSUM(AC119,IMPRODUCT($A$43,AC127))","v":"0.003992473998916+0.00004404626885601i"},{"$f":"IMSUM(AD111,IMPRODUCT($A$23,AD127))","v":"0.00676774575570286-0.00737847773735372i"},{"$f":"IMSUM(AE95,IMPRODUCT($A$13,AE127))","v":"0.00011540662837866+0.00002890785552849i"},{"$f":"IMSUM(AF63,IMPRODUCT($A$8,AF127))","v":"-0.000168517331786381-0.000251709718458777i"},-1.68517331786381E-4]
["0.989176509964781+0.146730474455362i",9.6875,null,{"$f":"C35","v":"-0.00160650954353906+0.0000325315016454139i"},{"$f":"IMSUM(D128,IMPRODUCT($A$131,D129))","v":"-0.00159409332255174-0.00477422018077085i"},{"$f":"IMSUM(E128,IMPRODUCT($A$131,E130))","v":"0.0988786671138373+0.160244236194146i"},{"$f":"IMSUM(F124,IMPRODUCT($A$67,F128))","v":"-0.0648835422169301-0.131054088389681i"},{"$f":"IMSUM(G120,IMPRODUCT($A$35,G128))","v":"-0.0435299758174052+0.0081390065558061i"},{"$f":"IMSUM(H112,IMPRODUCT($A$19,H128))","v":"-0.0492232349247804+0.072786487927091i"},{"$f":"IMSUM(I96,IMPRODUCT($A$11,I128))","v":"-0.000960420256511902-0.00019103946690209i"},{"$f":"IMSUM(J64,IMPRODUCT($A$7,J128))","v":"-1.00110700358449+0.000640419622334463i"},-1.00110700358449,null,null,{"$f":"N35","v":"-0.0000917713896554273-0.000157436994054776i"},{"$f":"IMSUM(O128,IMPRODUCT($A$131,O129))","v":"-0.000786325949565192-0.000131124466488185i"},{"$f":"IMSUM(P128,IMPRODUCT($A$131,P130))","v":"-0.00673184293230445-0.00115240842083511i"},{"$f":"IMSUM(Q124,IMPRODUCT($A$67,Q128))","v":"0.00857024441624945+0.00229618808676853i"},{"$f":"IMSUM(R120,IMPRODUCT($A$35,R128))","v":"0.00286199877827636-0.00582779589496998i"},{"$f":"IMSUM(S112,IMPRODUCT($A$19,S128))","v":"0.0113361955096692-0.0175051481664152i"},{"$f":"IMSUM(T96,IMPRODUCT($A$11,T128))","v":"-0.00058775943285738-0.000116912620239298i"},{"$f":"IMSUM(U64,IMPRODUCT($A$7,U128))","v":"-0.000463287661403704-0.000122764764542201i"},-4.6328766140370399E-4,null,null,{"$f":"Y35","v":"-0.0000281881733913402-0.000099866777637936i"},{"$f":"IMSUM(Z128,IMPRODUCT($A$131,Z129))","v":"-0.000624789372848734-0.00086611994716353i"},{"$f":"IMSUM(AA128,IMPRODUCT($A$131,AA130))","v":"-0.00124151583026459-0.0010413032414756i"},{"$f":"IMSUM(AB124,IMPRODUCT($A$67,AB128))","v":"0.00269880827236945+0.00120453257273215i"},{"$f":"IMSUM(AC120,IMPRODUCT($A$35,AC128))","v":"0.00399027826411841-0.00157956179087583i"},{"$f":"IMSUM(AD112,IMPRODUCT($A$19,AD128))","v":"0.0062860390022278-0.00936495677798466i"},{"$f":"IMSUM(AE96,IMPRODUCT($A$11,AE128))","v":"0.00004660533302256+9.27037712409977E-06i"},{"$f":"IMSUM(AF64,IMPRODUCT($A$7,AF128))","v":"-0.000541079266010741+0.000251709718458827i"},-5.4107926601074097E-4]
["0.995184726672197+0.0980171403295605i",9.765625,null,{"$f":"IMCONJUGATE(C37)","v":"0.000012416220987323-0.00480675168241626i"},{"$f":"IMSUM(D128,IMPRODUCT($A$67,D129))","v":"-0.00161892576452638+0.00483928318406167i"},{"$f":"IMSUM(E129,IMPRODUCT($A$99,E131))","v":"0.163363055188409-0.0963680705293413i"},{"$f":"IMSUM(F125,IMPRODUCT($A$51,F129))","v":"-0.134000584557367-0.0410644307754955i"},{"$f":"IMSUM(G121,IMPRODUCT($A$27,G129))","v":"-0.0121536964630686+0.0281860865877112i"},{"$f":"IMSUM(H113,IMPRODUCT($A$15,H129))","v":"-0.00575132557806407+0.0133282212622148i"},{"$f":"IMSUM(I97,IMPRODUCT($A$9,I129))","v":"0.00098801352166691+0.000146557961437099i"},{"$f":"IMSUM(J65,IMPRODUCT($A$6,J129))","v":"-0.998694354921372-0.00064041962233642i"},-0.99869435492137204,null,null,{"$f":"IMCONJUGATE(N37)","v":"-0.000694554559909765+0.000026312527566591i"},{"$f":"IMSUM(O128,IMPRODUCT($A$67,O129))","v":"0.000602783170254338-0.000183749521621367i"},{"$f":"IMSUM(P129,IMPRODUCT($A$99,P131))","v":"-0.000284341996672628+0.00565996496260543i"},{"$f":"IMSUM(Q125,IMPRODUCT($A$51,Q129))","v":"0.00373444466272438-0.00338194457497983i"},{"$f":"IMSUM(R121,IMPRODUCT($A$27,R129))","v":"-0.00470526951074149-0.00112447307992359i"},{"$f":"IMSUM(S113,IMPRODUCT($A$15,S129))","v":"0.00391041487661751-0.00778483620814106i"},{"$f":"IMSUM(T97,IMPRODUCT($A$9,T129))","v":"0.0004085829339504+0.0000606075529988193i"},{"$f":"IMSUM(U65,IMPRODUCT($A$6,U129))","v":"-0.00115107340997487+0.00012276476454223i"},-1.1510734099748701E-3,null,null,{"$f":"IMCONJUGATE(Y37)","v":"-0.000596601199457394-0.000766253169525594i"},{"$f":"IMSUM(Z128,IMPRODUCT($A$67,Z129))","v":"0.000568413026066054+0.000666386391887658i"},{"$f":"IMSUM(AA129,IMPRODUCT($A$99,AA131))","v":"0.000624646859944427+0.00100248620222625i"},{"$f":"IMSUM(AB125,IMPRODUCT($A$51,AB129))","v":"0.000240854085474268-0.00218004793802631i"},{"$f":"IMSUM(AC121,IMPRODUCT($A$27,AC129))","v":"2.78530290920005E-06+0.00110307964733466i"},{"$f":"IMSUM(AD113,IMPRODUCT($A$15,AD129))","v":"0.00216061775062697-0.00481773016314176i"},{"$f":"IMSUM(AE97,IMPRODUCT($A$9,AE129))","v":"-0.000211030435747179-0.0000313034080872306i"},{"$f":"IMSUM(AF65,IMPRODUCT($A$6,AF129))","v":"0.00063934611538814-0.000251709718458782i"},6.3934611538813996E-4]
["0.998795456205172+0.0490676743274181i",9.84375,null,{"$f":"C67","v":"-0.000367296638507091+0.0000182377109908072i"},{"$f":"IMSUM(D130,IMPRODUCT($A$131,D131))","v":"0.100472760436389+0.165018456374917i"},{"$f":"IMSUM(E128,IMPRODUCT($A$67,E130))","v":"-0.102066853758941-0.169792676555688i"},{"$f":"IMSUM(F126,IMPRODUCT($A$35,F130))","v":"-0.142543518013996+0.0930266822976091i"},{"$f":"IMSUM(G122,IMPRODUCT($A$19,G130))","v":"0.0079471525763614+0.100956693791141i"},{"$f":"IMSUM(H114,IMPRODUCT($A$11,H130))","v":"-0.000803281726295201+0.0042363924005849i"},{"$f":"IMSUM(I98,IMPRODUCT($A$7,I130))","v":"0.000917693903386654+0.0000903849603964696i"},{"$f":"IMSUM(J66,IMPRODUCT($A$5,J130))","v":"-1.0019064849681+0.000640419622333528i"},-1.0019064849681001,null,null,{"$f":"N67","v":"-0.0000509012492562255-0.0000670793937099827i"},{"$f":"IMSUM(O130,IMPRODUCT($A$131,O131))","v":"-0.00594551698273926-0.00102128395434693i"},{"$f":"IMSUM(P128,IMPRODUCT($A$67,P130))","v":"0.00515919103317407+0.000890159487858745i"},{"$f":"IMSUM(Q126,IMPRODUCT($A$35,Q130))","v":"-0.000378755843026935-0.00236808287474867i"},{"$f":"IMSUM(R122,IMPRODUCT($A$19,R130))","v":"-0.0070475345148345+0.00502360007477338i"},{"$f":"IMSUM(S114,IMPRODUCT($A$11,S130))","v":"0.00033075306687947-0.00218092942299893i"},{"$f":"IMSUM(T98,IMPRODUCT($A$7,T130))","v":"-0.000630110052517663-0.0000620604233419302i"},{"$f":"IMSUM(U66,IMPRODUCT($A$5,U130))","v":"0.000565571549112988-0.000122764764542254i"},5.65571549112988E-4,null,null,{"$f":"Y67","v":"-0.000140313323538631-0.000115708564095222i"},{"$f":"IMSUM(Z130,IMPRODUCT($A$131,Z131))","v":"-0.000616726457415851-0.000175183294312071i"},{"$f":"IMSUM(AA128,IMPRODUCT($A$67,AA130))","v":"-8.06291543288301E-06-0.000690936652851459i"},{"$f":"IMSUM(AB126,IMPRODUCT($A$35,AB130))","v":"-0.001960013818667+0.000431966267586298i"},{"$f":"IMSUM(AC122,IMPRODUCT($A$19,AC130))","v":"-0.000482531917254745+0.00472364254876027i"},{"$f":"IMSUM(AD114,IMPRODUCT($A$11,AD130))","v":"0.000710759810992275-0.00140504039244795i"},{"$f":"IMSUM(AE98,IMPRODUCT($A$7,AE130))","v":"0.000541963739828848+0.00005337876930445i"},{"$f":"IMSUM(AF66,IMPRODUCT($A$5,AF130))","v":"-0.00106135962228143+0.000251709718458777i"},-1.0613596222814299E-3]
["1+2.45029690981724E-16i",9.921875,null,{"$f":"IMCONJUGATE(C5)","v":"0.100840057074896+0.165000218663926i"},{"$f":"IMSUM(D130,IMPRODUCT($A$67,D131))","v":"-0.101207353713403-0.164981980952935i"},{"$f":"IMSUM(E129,IMPRODUCT($A$35,E131))","v":"-0.166600906717461+0.106046636897465i"},{"$f":"IMSUM(F127,IMPRODUCT($A$19,F131))","v":"-0.0313437225123892+0.20687422906666i"},{"$f":"IMSUM(G123,IMPRODUCT($A$11,G131))","v":"0.0792556542456293+0.16997376972192i"},{"$f":"IMSUM(H115,IMPRODUCT($A$7,H131))","v":"-0.00262384677458499-0.000575921705110005i"},{"$f":"IMSUM(I99,IMPRODUCT($A$5,I131))","v":"-0.0053534494792357-0.000262998108313738i"},{"$f":"IMSUM(J67,IMPRODUCT($A$4,J131))","v":"-0.998401166097827-0.000640419622332928i"},-0.99840116609782703,null,null,{"$f":"IMCONJUGATE(N5)","v":"-0.00589461573348303-0.000954204560636947i"},{"$f":"IMSUM(O130,IMPRODUCT($A$67,O131))","v":"0.0058437144842268+0.000887125166926965i"},{"$f":"IMSUM(P129,IMPRODUCT($A$35,P131))","v":"0.0014899083371813-0.00602746400584817i"},{"$f":"IMSUM(Q127,IMPRODUCT($A$19,Q131))","v":"-0.00209670313791619-0.00178195504670679i"},{"$f":"IMSUM(R123,IMPRODUCT($A$11,R131))","v":"-0.00594779811210266+0.00617586651831302i"},{"$f":"IMSUM(S115,IMPRODUCT($A$7,S131))","v":"-0.000960844704096991-0.00106053151935871i"},{"$f":"IMSUM(T99,IMPRODUCT($A$5,T131))","v":"-0.00220945001912979-0.000108543319162988i"},{"$f":"IMSUM(U67,IMPRODUCT($A$4,U131))","v":"0.00111030912623349+0.000122764764542243i"},1.1103091262334901E-3,null,null,{"$f":"IMCONJUGATE(Y5)","v":"-0.00047641313387722-0.0000594747302168491i"},{"$f":"IMSUM(Z130,IMPRODUCT($A$67,Z131))","v":"0.000336099810338589-0.0000562338338783728i"},{"$f":"IMSUM(AA129,IMPRODUCT($A$35,AA131))","v":"0.000512179192187681+0.000330286581549069i"},{"$f":"IMSUM(AB127,IMPRODUCT($A$19,AB131))","v":"0.000750590386258847+0.00153420515305927i"},{"$f":"IMSUM(AC123,IMPRODUCT($A$11,AC131))","v":"0.000684620661628878+0.00449851768038109i"},{"$f":"IMSUM(AD115,IMPRODUCT($A$7,AD131))","v":"0.00042769716114841-0.00017601887172953i"},{"$f":"IMSUM(AE99,IMPRODUCT($A$5,AE131))","v":"0.000793524317722961+0.000038983349945191i"},{"$f":"IMSUM(AF67,IMPRODUCT($A$4,AF131))","v":"-0.000597596524401275-0.000251709718458766i"},-5.9759652440127505E-4]

{"sheet":"Data","index":9,"n_rows":45,"n_cols":38,"rows_kept":45,"cut":false,"hidden":true,"merged":[]}
[{"$f":"IF(定数!$U$1=1,Data!N1,Data!AA1)","v":2.5000000000000001E-2},{"$f":"IF(定数!$U$1=1,Data!O1,Data!AB1)","v":0.05},{"$f":"IF(定数!$U$1=1,Data!P1,Data!AC1)","v":7.5000000000000011E-2},{"$f":"IF(定数!$U$1=1,Data!Q1,Data!AD1)","v":0.1},{"$f":"IF(定数!$U$1=1,Data!R1,Data!AE1)","v":0.125},{"$f":"IF(定数!$U$1=1,Data!S1,Data!AF1)","v":0.15},{"$f":"IF(定数!$U$1=1,Data!T1,Data!AG1)","v":0.17499999999999999},{"$f":"IF(定数!$U$1=1,Data!U1,Data!AH1)","v":0.19999999999999998},{"$f":"IF(定数!$U$1=1,Data!V1,Data!AI1)","v":0.22499999999999998},{"$f":"IF(定数!$U$1=1,Data!W1,Data!AJ1)","v":0.24999999999999997},{"$f":"IF(定数!$U$1=1,Data!X1,Data!AK1)","v":0.27499999999999997},{"$f":"IF(定数!$U$1=1,Data!Y1,Data!AL1)","v":0.3},null,2.5000000000000001E-2,0.05,{"$f":"O1+0.025","v":7.5000000000000011E-2},0.1,0.125,0.15,0.17499999999999999,0.19999999999999998,0.22499999999999998,0.24999999999999997,0.27499999999999997,0.3,null,2.5000000000000001E-2,0.05,{"$f":"AB1+0.025","v":7.5000000000000011E-2},0.1,0.125,0.15,0.17499999999999999,0.19999999999999998,0.22499999999999998,0.24999999999999997,0.27499999999999997,0.3]
[{"$f":"IF(定数!$U$1=1,Data!N2,Data!AA2)","v":0},{"$f":"IF(定数!$U$1=1,Data!O2,Data!AB2)","v":0},{"$f":"IF(定数!$U$1=1,Data!P2,Data!AC2)","v":0},{"$f":"IF(定数!$U$1=1,Data!Q2,Data!AD2)","v":0},{"$f":"IF(定数!$U$1=1,Data!R2,Data!AE2)","v":0},{"$f":"IF(定数!$U$1=1,Data!S2,Data!AF2)","v":0},{"$f":"IF(定数!$U$1=1,Data!T2,Data!AG2)","v":0},{"$f":"IF(定数!$U$1=1,Data!U2,Data!AH2)","v":0},{"$f":"IF(定数!$U$1=1,Data!V2,Data!AI2)","v":0},{"$f":"IF(定数!$U$1=1,Data!W2,Data!AJ2)","v":0},{"$f":"IF(定数!$U$1=1,Data!X2,Data!AK2)","v":0},{"$f":"IF(定数!$U$1=1,Data!Y2,Data!AL2)","v":0}]
[{"$f":"IF(定数!$U$1=1,Data!N3,Data!AA3)","v":"***** キャパシタンス(F/m) *****"},{"$f":"IF(定数!$U$1=1,Data!O3,Data!AB3)","v":"***** キャパシタンス(F/m) *****"},{"$f":"IF(定数!$U$1=1,Data!P3,Data!AC3)","v":"***** キャパシタンス(F/m) *****"},{"$f":"IF(定数!$U$1=1,Data!Q3,Data!AD3)","v":"***** キャパシタンス(F/m) *****"},{"$f":"IF(定数!$U$1=1,Data!R3,Data!AE3)","v":"***** キャパシタンス(F/m) *****"},{"$f":"IF(定数!$U$1=1,Data!S3,Data!AF3)","v":"***** キャパシタンス(F/m) *****"},{"$f":"IF(定数!$U$1=1,Data!T3,Data!AG3)","v":"***** キャパシタンス(F/m) *****"},{"$f":"IF(定数!$U$1=1,Data!U3,Data!AH3)","v":"***** キャパシタンス(F/m) *****"},{"$f":"IF(定数!$U$1=1,Data!V3,Data!AI3)","v":"***** キャパシタンス(F/m) *****"},{"$f":"IF(定数!$U$1=1,Data!W3,Data!AJ3)","v":"***** キャパシタンス(F/m) *****"},{"$f":"IF(定数!$U$1=1,Data!X3,Data!AK3)","v":"***** キャパシタンス(F/m) *****"},{"$f":"IF(定数!$U$1=1,Data!Y3,Data!AL3)","v":"***** キャパシタンス(F/m) *****"},null,"***** キャパシタンス(F/m) *****","***** キャパシタンス(F/m) *****","***** キャパシタンス(F/m) *****","***** キャパシタンス(F/m) *****","***** キャパシタンス(F/m) *****","***** キャパシタンス(F/m) *****","***** キャパシタンス(F/m) *****","***** キャパシタンス(F/m) *****","***** キャパシタンス(F/m) *****","***** キャパシタンス(F/m) *****","***** キャパシタンス(F/m) *****","***** キャパシタンス(F/m) *****",null,"***** キャパシタンス(F/m) *****","***** キャパシタンス(F/m) *****","***** キャパシタンス(F/m) *****","***** キャパシタンス(F/m) *****","***** キャパシタンス(F/m) *****","***** キャパシタンス(F/m) *****","***** キャパシタンス(F/m) *****","***** キャパシタンス(F/m) *****","***** キャパシタンス(F/m) *****","***** キャパシタンス(F/m) *****","***** キャパシタンス(F/m) *****","***** キャパシタンス(F/m) *****"]
[{"$f":"IF(定数!$U$1=1,Data!N4,Data!AA4)","v":"    1.337747E-010   -1.574535E-011   -3.332994E-013   -1.690861E-013"},{"$f":"IF(定数!$U$1=1,Data!O4,Data!AB4)","v":"    1.337864E-010   -1.572904E-011   -4.941025E-013   -2.268126E-013"},{"$f":"IF(定数!$U$1=1,Data!P4,Data!AC4)","v":"    1.337964E-010   -1.570781E-011   -5.911016E-013   -2.625606E-013"},{"$f":"IF(定数!$U$1=1,Data!Q4,Data!AD4)","v":"    1.338011E-010   -1.568326E-011   -6.579484E-013   -2.895260E-013"},{"$f":"IF(定数!$U$1=1,Data!R4,Data!AE4)","v":"    1.338030E-010   -1.565806E-011   -7.073936E-013   -3.117330E-013"},{"$f":"IF(定数!$U$1=1,Data!S4,Data!AF4)","v":"    1.338041E-010   -1.562925E-011   -7.430538E-013   -3.298989E-013"},{"$f":"IF(定数!$U$1=1,Data!T4,Data!AG4)","v":"    1.337683E-010   -1.560278E-011   -7.712528E-013   -3.458565E-013"},{"$f":"IF(定数!$U$1=1,Data!U4,Data!AH4)","v":"    1.337735E-010   -1.557555E-011   -7.936941E-013   -3.601506E-013"},{"$f":"IF(定数!$U$1=1,Data!V4,Data!AI4)","v":"    1.337791E-010   -1.554879E-011   -8.119958E-013   -3.731233E-013"},{"$f":"IF(定数!$U$1=1,Data!W4,Data!AJ4)","v":"    1.337828E-010   -1.552574E-011   -8.271138E-013   -3.847183E-013"},{"$f":"IF(定数!$U$1=1,Data!X4,Data!AK4)","v":"    1.337874E-010   -1.549952E-011   -8.396077E-013   -3.953853E-013"},{"$f":"IF(定数!$U$1=1,Data!Y4,Data!AL4)","v":"    1.337879E-010   -1.547842E-011   -8.497933E-013   -4.047385E-013"},null,"    1.337747E-010   -1.574535E-011   -3.332994E-013   -1.690861E-013","    1.337864E-010   -1.572904E-011   -4.941025E-013   -2.268126E-013","    1.337964E-010   -1.570781E-011   -5.911016E-013   -2.625606E-013","    1.338011E-010   -1.568326E-011   -6.579484E-013   -2.895260E-013","    1.338030E-010   -1.565806E-011   -7.073936E-013   -3.117330E-013","    1.338041E-010   -1.562925E-011   -7.430538E-013   -3.298989E-013","    1.337683E-010   -1.560278E-011   -7.712528E-013   -3.458565E-013","    1.337735E-010   -1.557555E-011   -7.936941E-013   -3.601506E-013","    1.337791E-010   -1.554879E-011   -8.119958E-013   -3.731233E-013","    1.337828E-010   -1.552574E-011   -8.271138E-013   -3.847183E-013","    1.337874E-010   -1.549952E-011   -8.396077E-013   -3.953853E-013","    1.337879E-010   -1.547842E-011   -8.497933E-013   -4.047385E-013",null,"    1.490281E-010   -2.135610E-011   -4.728948E-014   -6.260804E-016","    1.489777E-010   -2.135446E-011   -9.586895E-014   -1.293394E-015","    1.489953E-010   -2.134631E-011   -1.412543E-013   -2.009507E-015","    1.490048E-010   -2.133649E-011   -1.882542E-013   -2.836926E-015","    1.490116E-010   -2.132283E-011   -2.318628E-013   -3.572203E-015","    1.490145E-010   -2.130791E-011   -2.772231E-013   -4.574351E-015","    1.490174E-010   -2.128934E-011   -3.203112E-013   -5.555557E-015","    1.490193E-010   -2.126879E-011   -3.618718E-013   -6.603513E-015","    1.490217E-010   -2.124512E-011   -4.006608E-013   -7.533827E-015","    1.490229E-010   -2.122262E-011   -4.403308E-013   -8.900448E-015","    1.490232E-010   -2.119633E-011   -4.763036E-013   -9.695599E-015","    1.490250E-010   -2.117233E-011   -5.130386E-013   -1.146076E-014"]
[{"$f":"IF(定数!$U$1=1,Data!N5,Data!AA5)","v":"   -1.574535E-011    1.337915E-010   -1.310179E-012   -3.330946E-013"},{"$f":"IF(定数!$U$1=1,Data!O5,Data!AB5)","v":"   -1.572904E-011    1.339566E-010   -3.733542E-012   -4.942568E-013"},{"$f":"IF(定数!$U$1=1,Data!P5,Data!AC5)","v":"   -1.570781E-011    1.342907E-010   -6.602179E-012   -5.912206E-013"},{"$f":"IF(定数!$U$1=1,Data!Q5,Data!AD5)","v":"   -1.568326E-011    1.348731E-010   -9.749784E-012   -6.581120E-013"},{"$f":"IF(定数!$U$1=1,Data!R5,Data!AE5)","v":"   -1.565806E-011    1.357481E-010   -1.314451E-011   -7.073881E-013"},{"$f":"IF(定数!$U$1=1,Data!S5,Data!AF5)","v":"   -1.562925E-011    1.368889E-010   -1.658577E-011   -7.432751E-013"},{"$f":"IF(定数!$U$1=1,Data!T5,Data!AG5)","v":"   -1.560278E-011    1.383582E-010   -2.024630E-011   -7.714993E-013"},{"$f":"IF(定数!$U$1=1,Data!U5,Data!AH5)","v":"   -1.557555E-011    1.401619E-010   -2.408617E-011   -7.939559E-013"},{"$f":"IF(定数!$U$1=1,Data!V5,Data!AI5)","v":"   -1.554879E-011    1.423474E-010   -2.817838E-011   -8.122698E-013"},{"$f":"IF(定数!$U$1=1,Data!W5,Data!AJ5)","v":"   -1.552574E-011    1.448920E-010   -3.246337E-011   -8.271143E-013"},{"$f":"IF(定数!$U$1=1,Data!X5,Data!AK5)","v":"   -1.549952E-011    1.478845E-010   -3.707547E-011   -8.396080E-013"},{"$f":"IF(定数!$U$1=1,Data!Y5,Data!AL5)","v":"   -1.547842E-011    1.511825E-010   -4.180138E-011   -8.497831E-013"},null,"   -1.574535E-011    1.337915E-010   -1.310179E-012   -3.330946E-013","   -1.572904E-011    1.339566E-010   -3.733542E-012   -4.942568E-013","   -1.570781E-011    1.342907E-010   -6.602179E-012   -5.912206E-013","   -1.568326E-011    1.348731E-010   -9.749784E-012   -6.581120E-013","   -1.565806E-011    1.357481E-010   -1.314451E-011   -7.073881E-013","   -1.562925E-011    1.368889E-010   -1.658577E-011   -7.432751E-013","   -1.560278E-011    1.383582E-010   -2.024630E-011   -7.714993E-013","   -1.557555E-011    1.401619E-010   -2.408617E-011   -7.939559E-013","   -1.554879E-011    1.423474E-010   -2.817838E-011   -8.122698E-013","   -1.552574E-011    1.448920E-010   -3.246337E-011   -8.271143E-013","   -1.549952E-011    1.478845E-010   -3.707547E-011   -8.396080E-013","   -1.547842E-011    1.511825E-010   -4.180138E-011   -8.497831E-013",null,"   -2.135610E-011    1.491525E-010   -3.596640E-012   -4.706675E-014","   -2.135446E-011    1.495358E-010   -7.351091E-012   -9.556863E-014","   -2.134631E-011    1.501391E-010   -1.093525E-011   -1.420095E-013","   -2.133649E-011    1.510031E-010   -1.464904E-011   -1.878577E-013","   -2.132283E-011    1.521384E-010   -1.845708E-011   -2.329152E-013","   -2.130791E-011    1.535340E-010   -2.233515E-011   -2.767608E-013","   -2.128934E-011    1.552352E-010   -2.637649E-011   -3.199209E-013","   -2.126879E-011    1.572345E-010   -3.054472E-011   -3.614876E-013","   -2.124512E-011    1.595938E-010   -3.494322E-011   -4.019712E-013","   -2.122262E-011    1.622241E-010   -3.940928E-011   -4.398902E-013","   -2.119633E-011    1.653959E-010   -4.437018E-011   -4.763036E-013","   -2.117233E-011    1.688738E-010   -4.943722E-011   -5.126089E-013"]
[{"$f":"IF(定数!$U$1=1,Data!N6,Data!AA6)","v":"   -3.332994E-013   -1.310179E-012    1.337714E-010   -1.568468E-011"},{"$f":"IF(定数!$U$1=1,Data!O6,Data!AB6)","v":"   -4.941025E-013   -3.733542E-012    1.339597E-010   -1.574336E-011"},{"$f":"IF(定数!$U$1=1,Data!P6,Data!AC6)","v":"   -5.911016E-013   -6.602179E-012    1.342891E-010   -1.570850E-011"},{"$f":"IF(定数!$U$1=1,Data!Q6,Data!AD6)","v":"   -6.579484E-013   -9.749784E-012    1.348718E-010   -1.568454E-011"},{"$f":"IF(定数!$U$1=1,Data!R6,Data!AE6)","v":"   -7.073936E-013   -1.314451E-011    1.357482E-010   -1.565788E-011"},{"$f":"IF(定数!$U$1=1,Data!S6,Data!AF6)","v":"   -7.430538E-013   -1.658577E-011    1.368882E-010   -1.563119E-011"},{"$f":"IF(定数!$U$1=1,Data!T6,Data!AG6)","v":"   -7.712528E-013   -2.024630E-011    1.383576E-010   -1.560501E-011"},{"$f":"IF(定数!$U$1=1,Data!U6,Data!AH6)","v":"   -7.936941E-013   -2.408617E-011    1.401614E-010   -1.557789E-011"},{"$f":"IF(定数!$U$1=1,Data!V6,Data!AI6)","v":"   -8.119958E-013   -2.817838E-011    1.423470E-010   -1.555121E-011"},{"$f":"IF(定数!$U$1=1,Data!W6,Data!AJ6)","v":"   -8.271138E-013   -3.246337E-011    1.448923E-010   -1.552575E-011"},{"$f":"IF(定数!$U$1=1,Data!X6,Data!AK6)","v":"   -8.396077E-013   -3.707547E-011    1.478848E-010   -1.549953E-011"},{"$f":"IF(定数!$U$1=1,Data!Y6,Data!AL6)","v":"   -8.497933E-013   -4.180138E-011    1.511827E-010   -1.547699E-011"},null,"   -3.332994E-013   -1.310179E-012    1.337714E-010   -1.568468E-011","   -4.941025E-013   -3.733542E-012    1.339597E-010   -1.574336E-011","   -5.911016E-013   -6.602179E-012    1.342891E-010   -1.570850E-011","   -6.579484E-013   -9.749784E-012    1.348718E-010   -1.568454E-011","   -7.073936E-013   -1.314451E-011    1.357482E-010   -1.565788E-011","   -7.430538E-013   -1.658577E-011    1.368882E-010   -1.563119E-011","   -7.712528E-013   -2.024630E-011    1.383576E-010   -1.560501E-011","   -7.936941E-013   -2.408617E-011    1.401614E-010   -1.557789E-011","   -8.119958E-013   -2.817838E-011    1.423470E-010   -1.555121E-011","   -8.271138E-013   -3.246337E-011    1.448923E-010   -1.552575E-011","   -8.396077E-013   -3.707547E-011    1.478848E-010   -1.549953E-011","   -8.497933E-013   -4.180138E-011    1.511827E-010   -1.547699E-011",null,"   -4.728948E-014   -3.596640E-012    1.491527E-010   -2.135575E-011","   -9.586895E-014   -7.351091E-012    1.495359E-010   -2.135315E-011","   -1.412543E-013   -1.093525E-011    1.501379E-010   -2.134476E-011","   -1.882542E-013   -1.464904E-011    1.510033E-010   -2.133432E-011","   -2.318628E-013   -1.845708E-011    1.521374E-010   -2.132168E-011","   -2.772231E-013   -2.233515E-011    1.535344E-010   -2.130509E-011","   -3.203112E-013   -2.637649E-011    1.552352E-010   -2.128751E-011","   -3.618718E-013   -3.054472E-011    1.572345E-010   -2.126705E-011","   -4.006608E-013   -3.494322E-011    1.595928E-010   -2.124450E-011","   -4.403308E-013   -3.940928E-011    1.622244E-010   -2.122025E-011","   -4.763036E-013   -4.437018E-011    1.653959E-010   -2.119633E-011","   -5.130386E-013   -4.943722E-011    1.688740E-010   -2.117006E-011"]
[{"$f":"IF(定数!$U$1=1,Data!N7,Data!AA7)","v":"   -1.690861E-013   -3.330946E-013   -1.568468E-011    1.337565E-010"},{"$f":"IF(定数!$U$1=1,Data!O7,Data!AB7)","v":"   -2.268126E-013   -4.942568E-013   -1.574336E-011    1.337927E-010"},{"$f":"IF(定数!$U$1=1,Data!P7,Data!AC7)","v":"   -2.625606E-013   -5.912206E-013   -1.570850E-011    1.337979E-010"},{"$f":"IF(定数!$U$1=1,Data!Q7,Data!AD7)","v":"   -2.895260E-013   -6.581120E-013   -1.568454E-011    1.338025E-010"},{"$f":"IF(定数!$U$1=1,Data!R7,Data!AE7)","v":"   -3.117330E-013   -7.073881E-013   -1.565788E-011    1.338048E-010"},{"$f":"IF(定数!$U$1=1,Data!S7,Data!AF7)","v":"   -3.298989E-013   -7.432751E-013   -1.563119E-011    1.338055E-010"},{"$f":"IF(定数!$U$1=1,Data!T7,Data!AG7)","v":"   -3.458565E-013   -7.714993E-013   -1.560501E-011    1.337682E-010"},{"$f":"IF(定数!$U$1=1,Data!U7,Data!AH7)","v":"   -3.601506E-013   -7.939559E-013   -1.557789E-011    1.337735E-010"},{"$f":"IF(定数!$U$1=1,Data!V7,Data!AI7)","v":"   -3.731233E-013   -8.122698E-013   -1.555121E-011    1.337791E-010"},{"$f":"IF(定数!$U$1=1,Data!W7,Data!AJ7)","v":"   -3.847183E-013   -8.271143E-013   -1.552575E-011    1.337828E-010"},{"$f":"IF(定数!$U$1=1,Data!X7,Data!AK7)","v":"   -3.953853E-013   -8.396080E-013   -1.549953E-011    1.337875E-010"},{"$f":"IF(定数!$U$1=1,Data!Y7,Data!AL7)","v":"   -4.047385E-013   -8.497831E-013   -1.547699E-011    1.337895E-010"},null,"   -1.690861E-013   -3.330946E-013   -1.568468E-011    1.337565E-010","   -2.268126E-013   -4.942568E-013   -1.574336E-011    1.337927E-010","   -2.625606E-013   -5.912206E-013   -1.570850E-011    1.337979E-010","   -2.895260E-013   -6.581120E-013   -1.568454E-011    1.338025E-010","   -3.117330E-013   -7.073881E-013   -1.565788E-011    1.338048E-010","   -3.298989E-013   -7.432751E-013   -1.563119E-011    1.338055E-010","   -3.458565E-013   -7.714993E-013   -1.560501E-011    1.337682E-010","   -3.601506E-013   -7.939559E-013   -1.557789E-011    1.337735E-010","   -3.731233E-013   -8.122698E-013   -1.555121E-011    1.337791E-010","   -3.847183E-013   -8.271143E-013   -1.552575E-011    1.337828E-010","   -3.953853E-013   -8.396080E-013   -1.549953E-011    1.337875E-010","   -4.047385E-013   -8.497831E-013   -1.547699E-011    1.337895E-010",null,"   -6.260804E-016   -4.706675E-014   -2.135575E-011    1.490265E-010","   -1.293394E-015   -9.556863E-014   -2.135315E-011    1.489772E-010","   -2.009507E-015   -1.420095E-013   -2.134476E-011    1.489950E-010","   -2.836926E-015   -1.878577E-013   -2.133432E-011    1.490058E-010","   -3.572203E-015   -2.329152E-013   -2.132168E-011    1.490117E-010","   -4.574351E-015   -2.767608E-013   -2.130509E-011    1.490160E-010","   -5.555557E-015   -3.199209E-013   -2.128751E-011    1.490186E-010","   -6.603513E-015   -3.614876E-013   -2.126705E-011    1.490206E-010","   -7.533827E-015   -4.019712E-013   -2.124450E-011    1.490220E-010","   -8.900448E-015   -4.398902E-013   -2.122025E-011    1.490238E-010","   -9.695599E-015   -4.763036E-013   -2.119633E-011    1.490232E-010","   -1.146076E-014   -5.126089E-013   -2.117006E-011    1.490268E-010"]
[{"$f":"IF(定数!$U$1=1,Data!N8,Data!AA8)","v":0},{"$f":"IF(定数!$U$1=1,Data!O8,Data!AB8)","v":0},{"$f":"IF(定数!$U$1=1,Data!P8,Data!AC8)","v":0},{"$f":"IF(定数!$U$1=1,Data!Q8,Data!AD8)","v":0},{"$f":"IF(定数!$U$1=1,Data!R8,Data!AE8)","v":0},{"$f":"IF(定数!$U$1=1,Data!S8,Data!AF8)","v":0},{"$f":"IF(定数!$U$1=1,Data!T8,Data!AG8)","v":0},{"$f":"IF(定数!$U$1=1,Data!U8,Data!AH8)","v":0},{"$f":"IF(定数!$U$1=1,Data!V8,Data!AI8)","v":0},{"$f":"IF(定数!$U$1=1,Data!W8,Data!AJ8)","v":0},{"$f":"IF(定数!$U$1=1,Data!X8,Data!AK8)","v":0},{"$f":"IF(定数!$U$1=1,Data!Y8,Data!AL8)","v":0}]
[{"$f":"IF(定数!$U$1=1,Data!N9,Data!AA9)","v":"***** インダクタンス(H/m) *****"},{"$f":"IF(定数!$U$1=1,Data!O9,Data!AB9)","v":"***** インダクタンス(H/m) *****"},{"$f":"IF(定数!$U$1=1,Data!P9,Data!AC9)","v":"***** インダクタンス(H/m) *****"},{"$f":"IF(定数!$U$1=1,Data!Q9,Data!AD9)","v":"***** インダクタンス(H/m) *****"},{"$f":"IF(定数!$U$1=1,Data!R9,Data!AE9)","v":"***** インダクタンス(H/m) *****"},{"$f":"IF(定数!$U$1=1,Data!S9,Data!AF9)","v":"***** インダクタンス(H/m) *****"},{"$f":"IF(定数!$U$1=1,Data!T9,Data!AG9)","v":"***** インダクタンス(H/m) *****"},{"$f":"IF(定数!$U$1=1,Data!U9,Data!AH9)","v":"***** インダクタンス(H/m) *****"},{"$f":"IF(定数!$U$1=1,Data!V9,Data!AI9)","v":"***** インダクタンス(H/m) *****"},{"$f":"IF(定数!$U$1=1,Data!W9,Data!AJ9)","v":"***** インダクタンス(H/m) *****"},{"$f":"IF(定数!$U$1=1,Data!X9,Data!AK9)","v":"***** インダクタンス(H/m) *****"},{"$f":"IF(定数!$U$1=1,Data!Y9,Data!AL9)","v":"***** インダクタンス(H/m) *****"},null,"***** インダクタンス(H/m) *****","***** インダクタンス(H/m) *****","***** インダクタンス(H/m) *****","***** インダクタンス(H/m) *****","***** インダクタンス(H/m) *****","***** インダクタンス(H/m) *****","***** インダクタンス(H/m) *****","***** インダクタンス(H/m) *****","***** インダクタンス(H/m) *****","***** インダクタンス(H/m) *****","***** インダクタンス(H/m) *****","***** インダクタンス(H/m) *****",null,"***** インダクタンス(H/m) *****","***** インダクタンス(H/m) *****","***** インダクタンス(H/m) *****","***** インダクタンス(H/m) *****","***** インダクタンス(H/m) *****","***** インダクタンス(H/m) *****","***** インダクタンス(H/m) *****","***** インダクタンス(H/m) *****","***** インダクタンス(H/m) *****","***** インダクタンス(H/m) *****","***** インダクタンス(H/m) *****","***** インダクタンス(H/m) *****"]
[{"$f":"IF(定数!$U$1=1,Data!N10,Data!AA10)","v":"    3.248837E-007    5.451814E-008    6.095350E-009    3.588164E-009"},{"$f":"IF(定数!$U$1=1,Data!O10,Data!AB10)","v":"    3.248193E-007    5.440556E-008    9.260823E-009    4.895392E-009"},{"$f":"IF(定数!$U$1=1,Data!P10,Data!AC10)","v":"    3.247707E-007    5.428659E-008    1.154917E-008    5.722432E-009"},{"$f":"IF(定数!$U$1=1,Data!Q10,Data!AD10)","v":"    3.247303E-007    5.415089E-008    1.346114E-008    6.357026E-009"},{"$f":"IF(定数!$U$1=1,Data!R10,Data!AE10)","v":"    3.246934E-007    5.400010E-008    1.516893E-008    6.886660E-009"},{"$f":"IF(定数!$U$1=1,Data!S10,Data!AF10)","v":"    3.246550E-007    5.382879E-008    1.666131E-008    7.324458E-009"},{"$f":"IF(定数!$U$1=1,Data!T10,Data!AG10)","v":"    3.246764E-007    5.365365E-008    1.806637E-008    7.718391E-009"},{"$f":"IF(定数!$U$1=1,Data!U10,Data!AH10)","v":"    3.246302E-007    5.344978E-008    1.937703E-008    8.069828E-009"},{"$f":"IF(定数!$U$1=1,Data!V10,Data!AI10)","v":"    3.245808E-007    5.322753E-008    2.062728E-008    8.392346E-009"},{"$f":"IF(定数!$U$1=1,Data!W10,Data!AJ10)","v":"    3.245361E-007    5.299776E-008    2.180299E-008    8.685133E-009"},{"$f":"IF(定数!$U$1=1,Data!X10,Data!AK10)","v":"    3.244855E-007    5.274033E-008    2.293371E-008    8.957338E-009"},{"$f":"IF(定数!$U$1=1,Data!Y10,Data!AL10)","v":"    3.244456E-007    5.248618E-008    2.397409E-008    9.200766E-009"},null,"    3.248837E-007    5.451814E-008    6.095350E-009    3.588164E-009","    3.248193E-007    5.440556E-008    9.260823E-009    4.895392E-009","    3.247707E-007    5.428659E-008    1.154917E-008    5.722432E-009","    3.247303E-007    5.415089E-008    1.346114E-008    6.357026E-009","    3.246934E-007    5.400010E-008    1.516893E-008    6.886660E-009","    3.246550E-007    5.382879E-008    1.666131E-008    7.324458E-009","    3.246764E-007    5.365365E-008    1.806637E-008    7.718391E-009","    3.246302E-007    5.344978E-008    1.937703E-008    8.069828E-009","    3.245808E-007    5.322753E-008    2.062728E-008    8.392346E-009","    3.245361E-007    5.299776E-008    2.180299E-008    8.685133E-009","    3.244855E-007    5.274033E-008    2.293371E-008    8.957338E-009","    3.244456E-007    5.248618E-008    2.397409E-008    9.200766E-009",null,"    3.583728E-007    5.134630E-008    1.382686E-009    2.158634E-010","    3.584930E-007    5.133333E-008    2.816133E-009    4.396837E-010","    3.584404E-007    5.126581E-008    4.163594E-009    6.501654E-010","    3.584049E-007    5.117993E-008    5.533877E-009    8.636769E-010","    3.583711E-007    5.106495E-008    6.891887E-009    1.074551E-009","    3.583446E-007    5.093234E-008    8.234342E-009    1.282874E-009","    3.583133E-007    5.076908E-008    9.569917E-009    1.489428E-009","    3.582807E-007    5.058123E-008    1.087935E-008    1.691190E-009","    3.582419E-007    5.036018E-008    1.217744E-008    1.889961E-009","    3.582051E-007    5.012767E-008    1.342199E-008    2.080586E-009","    3.581633E-007    4.984936E-008    1.469562E-008    2.272863E-009","    3.581180E-007    4.956222E-008    1.590517E-008    2.457436E-009"]
[{"$f":"IF(定数!$U$1=1,Data!N11,Data!AA11)","v":"    5.451814E-008    3.247850E-007    1.235729E-008    6.089327E-009"},{"$f":"IF(定数!$U$1=1,Data!O11,Data!AB11)","v":"    5.440556E-008    3.244533E-007    2.259134E-008    9.263511E-009"},{"$f":"IF(定数!$U$1=1,Data!P11,Data!AC11)","v":"    5.428659E-008    3.240395E-007    3.150318E-008    1.154936E-008"},{"$f":"IF(定数!$U$1=1,Data!Q11,Data!AD11)","v":"    5.415089E-008    3.234890E-007    3.986978E-008    1.346155E-008"},{"$f":"IF(定数!$U$1=1,Data!R11,Data!AE11)","v":"    5.400010E-008    3.227882E-007    4.800305E-008    1.516868E-008"},{"$f":"IF(定数!$U$1=1,Data!S11,Data!AF11)","v":"    5.382879E-008    3.219591E-007    5.560033E-008    1.666212E-008"},{"$f":"IF(定数!$U$1=1,Data!T11,Data!AG11)","v":"    5.365365E-008    3.209790E-007    6.311917E-008    1.806764E-008"},{"$f":"IF(定数!$U$1=1,Data!U11,Data!AH11)","v":"    5.344978E-008    3.198440E-007    7.046312E-008    1.937848E-008"},{"$f":"IF(定数!$U$1=1,Data!V11,Data!AI11)","v":"    5.322753E-008    3.185425E-007    7.773833E-008    2.062889E-008"},{"$f":"IF(定数!$U$1=1,Data!W11,Data!AJ11)","v":"    5.299776E-008    3.171022E-007    8.479484E-008    2.180303E-008"},{"$f":"IF(定数!$U$1=1,Data!X11,Data!AK11)","v":"    5.274033E-008    3.154832E-007    9.179557E-008    2.293374E-008"},{"$f":"IF(定数!$U$1=1,Data!Y11,Data!AL11)","v":"    5.248618E-008    3.137830E-007    9.838428E-008    2.397302E-008"},null,"    5.451814E-008    3.247850E-007    1.235729E-008    6.089327E-009","    5.440556E-008    3.244533E-007    2.259134E-008    9.263511E-009","    5.428659E-008    3.240395E-007    3.150318E-008    1.154936E-008","    5.415089E-008    3.234890E-007    3.986978E-008    1.346155E-008","    5.400010E-008    3.227882E-007    4.800305E-008    1.516868E-008","    5.382879E-008    3.219591E-007    5.560033E-008    1.666212E-008","    5.365365E-008    3.209790E-007    6.311917E-008    1.806764E-008","    5.344978E-008    3.198440E-007    7.046312E-008    1.937848E-008","    5.322753E-008    3.185425E-007    7.773833E-008    2.062889E-008","    5.299776E-008    3.171022E-007    8.479484E-008    2.180303E-008","    5.274033E-008    3.154832E-007    9.179557E-008    2.293374E-008","    5.248618E-008    3.137830E-007    9.838428E-008    2.397302E-008",null,"    5.134630E-008    3.582875E-007    8.853850E-009    1.382145E-009","    5.133333E-008    3.580417E-007    1.803602E-008    2.815263E-009","    5.126581E-008    3.576537E-007    2.668998E-008    4.165134E-009","    5.117993E-008    3.571046E-007    3.548864E-008    5.532377E-009","    5.106495E-008    3.563776E-007    4.427919E-008    6.894058E-009","    5.093234E-008    3.554990E-007    5.294990E-008    8.232164E-009","    5.076908E-008    3.544346E-007    6.163992E-008    9.568159E-009","    5.058123E-008    3.531985E-007    7.020082E-008    1.087753E-008","    5.036018E-008    3.517563E-007    7.876567E-008    1.218016E-008","    5.012767E-008    3.501811E-007    8.696118E-008    1.341950E-008","    4.984936E-008    3.483195E-007    9.546934E-008    1.469562E-008","    4.956222E-008    3.463346E-007    1.035322E-007    1.590241E-008"]
[{"$f":"IF(定数!$U$1=1,Data!N12,Data!AA12)","v":"    6.095350E-009    1.235729E-008    3.247968E-007    5.438371E-008"},{"$f":"IF(定数!$U$1=1,Data!O12,Data!AB12)","v":"    9.260823E-009    2.259134E-008    3.244536E-007    5.443750E-008"},{"$f":"IF(定数!$U$1=1,Data!P12,Data!AC12)","v":"    1.154917E-008    3.150318E-008    3.240433E-007    5.428815E-008"},{"$f":"IF(定数!$U$1=1,Data!Q12,Data!AD12)","v":"    1.346114E-008    3.986978E-008    3.234923E-007    5.415355E-008"},{"$f":"IF(定数!$U$1=1,Data!R12,Data!AE12)","v":"    1.516893E-008    4.800305E-008    3.227877E-007    5.399894E-008"},{"$f":"IF(定数!$U$1=1,Data!S12,Data!AF12)","v":"    1.666131E-008    5.560033E-008    3.219615E-007    5.383261E-008"},{"$f":"IF(定数!$U$1=1,Data!T12,Data!AG12)","v":"    1.806637E-008    6.311917E-008    3.209818E-007    5.365869E-008"},{"$f":"IF(定数!$U$1=1,Data!U12,Data!AH12)","v":"    1.937703E-008    7.046312E-008    3.198463E-007    5.345496E-008"},{"$f":"IF(定数!$U$1=1,Data!V12,Data!AI12)","v":"    2.062728E-008    7.773833E-008    3.185446E-007    5.323283E-008"},{"$f":"IF(定数!$U$1=1,Data!W12,Data!AJ12)","v":"    2.180299E-008    8.479484E-008    3.171018E-007    5.299772E-008"},{"$f":"IF(定数!$U$1=1,Data!X12,Data!AK12)","v":"    2.293371E-008    9.179557E-008    3.154827E-007    5.274029E-008"},{"$f":"IF(定数!$U$1=1,Data!Y12,Data!AL12)","v":"    2.397409E-008    9.838428E-008    3.137817E-007    5.248264E-008"},null,"    6.095350E-009    1.235729E-008    3.247968E-007    5.438371E-008","    9.260823E-009    2.259134E-008    3.244536E-007    5.443750E-008","    1.154917E-008    3.150318E-008    3.240433E-007    5.428815E-008","    1.346114E-008    3.986978E-008    3.234923E-007    5.415355E-008","    1.516893E-008    4.800305E-008    3.227877E-007    5.399894E-008","    1.666131E-008    5.560033E-008    3.219615E-007    5.383261E-008","    1.806637E-008    6.311917E-008    3.209818E-007    5.365869E-008","    1.937703E-008    7.046312E-008    3.198463E-007    5.345496E-008","    2.062728E-008    7.773833E-008    3.185446E-007    5.323283E-008","    2.180299E-008    8.479484E-008    3.171018E-007    5.299772E-008","    2.293371E-008    9.179557E-008    3.154827E-007    5.274029E-008","    2.397409E-008    9.838428E-008    3.137817E-007    5.248264E-008",null,"    1.382686E-009    8.853850E-009    3.582867E-007    5.134589E-008","    2.816133E-009    1.803602E-008    3.580405E-007    5.133015E-008","    4.163594E-009    2.668998E-008    3.576554E-007    5.126255E-008","    5.533877E-009    3.548864E-008    3.571026E-007    5.117403E-008","    6.891887E-009    4.427919E-008    3.563792E-007    5.106272E-008","    8.234342E-009    5.294990E-008    3.554960E-007    5.092454E-008","    9.569917E-009    6.163992E-008    3.544334E-007    5.076399E-008","    1.087935E-008    7.020082E-008    3.531975E-007    5.057636E-008","    1.217744E-008    7.876567E-008    3.517581E-007    5.035951E-008","    1.342199E-008    8.696118E-008    3.501790E-007    5.012124E-008","    1.469562E-008    9.546934E-008    3.483195E-007    4.984935E-008","    1.590517E-008    1.035322E-007    3.463327E-007    4.955577E-008"]
[{"$f":"IF(定数!$U$1=1,Data!N13,Data!AA13)","v":"    3.588164E-009    6.089327E-009    5.438371E-008    3.248918E-007"},{"$f":"IF(定数!$U$1=1,Data!O13,Data!AB13)","v":"    4.895392E-009    9.263511E-009    5.443750E-008    3.248132E-007"},{"$f":"IF(定数!$U$1=1,Data!P13,Data!AC13)","v":"    5.722432E-009    1.154936E-008    5.428815E-008    3.247681E-007"},{"$f":"IF(定数!$U$1=1,Data!Q13,Data!AD13)","v":"    6.357026E-009    1.346155E-008    5.415355E-008    3.247281E-007"},{"$f":"IF(定数!$U$1=1,Data!R13,Data!AE13)","v":"    6.886660E-009    1.516868E-008    5.399894E-008    3.246893E-007"},{"$f":"IF(定数!$U$1=1,Data!S13,Data!AF13)","v":"    7.324458E-009    1.666212E-008    5.383261E-008    3.246531E-007"},{"$f":"IF(定数!$U$1=1,Data!T13,Data!AG13)","v":"    7.718391E-009    1.806764E-008    5.365869E-008    3.246783E-007"},{"$f":"IF(定数!$U$1=1,Data!U13,Data!AH13)","v":"    8.069828E-009    1.937848E-008    5.345496E-008    3.246319E-007"},{"$f":"IF(定数!$U$1=1,Data!V13,Data!AI13)","v":"    8.392346E-009    2.062889E-008    5.323283E-008    3.245825E-007"},{"$f":"IF(定数!$U$1=1,Data!W13,Data!AJ13)","v":"    8.685133E-009    2.180303E-008    5.299772E-008    3.245361E-007"},{"$f":"IF(定数!$U$1=1,Data!X13,Data!AK13)","v":"    8.957338E-009    2.293374E-008    5.274029E-008    3.244852E-007"},{"$f":"IF(定数!$U$1=1,Data!Y13,Data!AL13)","v":"    9.200766E-009    2.397302E-008    5.248264E-008    3.244414E-007"},null,"    3.588164E-009    6.089327E-009    5.438371E-008    3.248918E-007","    4.895392E-009    9.263511E-009    5.443750E-008    3.248132E-007","    5.722432E-009    1.154936E-008    5.428815E-008    3.247681E-007","    6.357026E-009    1.346155E-008    5.415355E-008    3.247281E-007","    6.886660E-009    1.516868E-008    5.399894E-008    3.246893E-007","    7.324458E-009    1.666212E-008    5.383261E-008    3.246531E-007","    7.718391E-009    1.806764E-008    5.365869E-008    3.246783E-007","    8.069828E-009    1.937848E-008    5.345496E-008    3.246319E-007","    8.392346E-009    2.062889E-008    5.323283E-008    3.245825E-007","    8.685133E-009    2.180303E-008    5.299772E-008    3.245361E-007","    8.957338E-009    2.293374E-008    5.274029E-008    3.244852E-007","    9.200766E-009    2.397302E-008    5.248264E-008    3.244414E-007",null,"    2.158634E-010    1.382145E-009    5.134589E-008    3.583766E-007","    4.396837E-010    2.815263E-009    5.133015E-008    3.584934E-007","    6.501654E-010    4.165134E-009    5.126255E-008    3.584400E-007","    8.636769E-010    5.532377E-009    5.117403E-008    3.584010E-007","    1.074551E-009    6.894058E-009    5.106272E-008    3.583703E-007","    1.282874E-009    8.232164E-009    5.092454E-008    3.583391E-007","    1.489428E-009    9.568159E-009    5.076399E-008    3.583091E-007","    1.691190E-009    1.087753E-008    5.057636E-008    3.582764E-007","    1.889961E-009    1.218016E-008    5.035951E-008    3.582408E-007","    2.080586E-009    1.341950E-008    5.012124E-008    3.582011E-007","    2.272863E-009    1.469562E-008    4.984935E-008    3.581633E-007","    2.457436E-009    1.590241E-008    4.955577E-008    3.581119E-007"]
[{"$f":"IF(定数!$U$1=1,Data!N14,Data!AA14)","v":0},{"$f":"IF(定数!$U$1=1,Data!O14,Data!AB14)","v":0},{"$f":"IF(定数!$U$1=1,Data!P14,Data!AC14)","v":0},{"$f":"IF(定数!$U$1=1,Data!Q14,Data!AD14)","v":0},{"$f":"IF(定数!$U$1=1,Data!R14,Data!AE14)","v":0},{"$f":"IF(定数!$U$1=1,Data!S14,Data!AF14)","v":0},{"$f":"IF(定数!$U$1=1,Data!T14,Data!AG14)","v":0},{"$f":"IF(定数!$U$1=1,Data!U14,Data!AH14)","v":0},{"$f":"IF(定数!$U$1=1,Data!V14,Data!AI14)","v":0},{"$f":"IF(定数!$U$1=1,Data!W14,Data!AJ14)","v":0},{"$f":"IF(定数!$U$1=1,Data!X14,Data!AK14)","v":0},{"$f":"IF(定数!$U$1=1,Data!Y14,Data!AL14)","v":0}]
[{"$f":"IF(定数!$U$1=1,Data!N15,Data!AA15)","v":"***** 抵抗(Ω/m) *****"},{"$f":"IF(定数!$U$1=1,Data!O15,Data!AB15)","v":"***** 抵抗(Ω/m) *****"},{"$f":"IF(定数!$U$1=1,Data!P15,Data!AC15)","v":"***** 抵抗(Ω/m) *****"},{"$f":"IF(定数!$U$1=1,Data!Q15,Data!AD15)","v":"***** 抵抗(Ω/m) *****"},{"$f":"IF(定数!$U$1=1,Data!R15,Data!AE15)","v":"***** 抵抗(Ω/m) *****"},{"$f":"IF(定数!$U$1=1,Data!S15,Data!AF15)","v":"***** 抵抗(Ω/m) *****"},{"$f":"IF(定数!$U$1=1,Data!T15,Data!AG15)","v":"***** 抵抗(Ω/m) *****"},{"$f":"IF(定数!$U$1=1,Data!U15,Data!AH15)","v":"***** 抵抗(Ω/m) *****"},{"$f":"IF(定数!$U$1=1,Data!V15,Data!AI15)","v":"***** 抵抗(Ω/m) *****"},{"$f":"IF(定数!$U$1=1,Data!W15,Data!AJ15)","v":"***** 抵抗(Ω/m) *****"},{"$f":"IF(定数!$U$1=1,Data!X15,Data!AK15)","v":"***** 抵抗(Ω/m) *****"},{"$f":"IF(定数!$U$1=1,Data!Y15,Data!AL15)","v":"***** 抵抗(Ω/m) *****"},null,"***** 抵抗(Ω/m) *****","***** 抵抗(Ω/m) *****","***** 抵抗(Ω/m) *****","***** 抵抗(Ω/m) *****","***** 抵抗(Ω/m) *****","***** 抵抗(Ω/m) *****","***** 抵抗(Ω/m) *****","***** 抵抗(Ω/m) *****","***** 抵抗(Ω/m) *****","***** 抵抗(Ω/m) *****","***** 抵抗(Ω/m) *****","***** 抵抗(Ω/m) *****",null,"***** 抵抗(Ω/m) *****","***** 抵抗(Ω/m) *****","***** 抵抗(Ω/m) *****","***** 抵抗(Ω/m) *****","***** 抵抗(Ω/m) *****","***** 抵抗(Ω/m) *****","***** 抵抗(Ω/m) *****","***** 抵抗(Ω/m) *****","***** 抵抗(Ω/m) *****","***** 抵抗(Ω/m) *****","***** 抵抗(Ω/m) *****","***** 抵抗(Ω/m) *****"]
[{"$f":"IF(定数!$U$1=1,Data!N16,Data!AA16)","v":"    3.333333E+000    3.333333E+000    3.333333E+000    3.333333E+000"},{"$f":"IF(定数!$U$1=1,Data!O16,Data!AB16)","v":"    3.333333E+000    3.333333E+000    3.333333E+000    3.333333E+000"},{"$f":"IF(定数!$U$1=1,Data!P16,Data!AC16)","v":"    3.333333E+000    3.333333E+000    3.333333E+000    3.333333E+000"},{"$f":"IF(定数!$U$1=1,Data!Q16,Data!AD16)","v":"    3.333333E+000    3.333333E+000    3.333333E+000    3.333333E+000"},{"$f":"IF(定数!$U$1=1,Data!R16,Data!AE16)","v":"    3.333333E+000    3.333333E+000    3.333333E+000    3.333333E+000"},{"$f":"IF(定数!$U$1=1,Data!S16,Data!AF16)","v":"    3.333333E+000    3.333333E+000    3.333333E+000    3.333333E+000"},{"$f":"IF(定数!$U$1=1,Data!T16,Data!AG16)","v":"    3.333333E+000    3.333333E+000    3.333333E+000    3.333333E+000"},{"$f":"IF(定数!$U$1=1,Data!U16,Data!AH16)","v":"    3.333333E+000    3.333333E+000    3.333333E+000    3.333333E+000"},{"$f":"IF(定数!$U$1=1,Data!V16,Data!AI16)","v":"    3.333333E+000    3.333333E+000    3.333333E+000    3.333333E+000"},{"$f":"IF(定数!$U$1=1,Data!W16,Data!AJ16)","v":"    3.333333E+000    3.333333E+000    3.333333E+000    3.333333E+000"},{"$f":"IF(定数!$U$1=1,Data!X16,Data!AK16)","v":"    3.333333E+000    3.333333E+000    3.333333E+000    3.333333E+000"},{"$f":"IF(定数!$U$1=1,Data!Y16,Data!AL16)","v":"    3.333333E+000    3.333333E+000    3.333333E+000    3.333333E+000"},null,"    3.333333E+000    3.333333E+000    3.333333E+000    3.333333E+000","    3.333333E+000    3.333333E+000    3.333333E+000    3.333333E+000","    3.333333E+000    3.333333E+000    3.333333E+000    3.333333E+000","    3.333333E+000    3.333333E+000    3.333333E+000    3.333333E+000","    3.333333E+000    3.333333E+000    3.333333E+000    3.333333E+000","    3.333333E+000    3.333333E+000    3.333333E+000    3.333333E+000","    3.333333E+000    3.333333E+000    3.333333E+000    3.333333E+000","    3.333333E+000    3.333333E+000    3.333333E+000    3.333333E+000","    3.333333E+000    3.333333E+000    3.333333E+000    3.333333E+000","    3.333333E+000    3.333333E+000    3.333333E+000    3.333333E+000","    3.333333E+000    3.333333E+000    3.333333E+000    3.333333E+000","    3.333333E+000    3.333333E+000    3.333333E+000    3.333333E+000",null,"    8.888889E+000    8.888889E+000    8.888889E+000    8.888889E+000","    8.888889E+000    8.888889E+000    8.888889E+000    8.888889E+000","    8.888889E+000    8.888889E+000    8.888889E+000    8.888889E+000","    8.888889E+000    8.888889E+000    8.888889E+000    8.888889E+000","    8.888889E+000    8.888889E+000    8.888889E+000    8.888889E+000","    8.888889E+000    8.888889E+000    8.888889E+000    8.888889E+000","    8.888889E+000    8.888889E+000    8.888889E+000    8.888889E+000","    8.888889E+000    8.888889E+000    8.888889E+000    8.888889E+000","    8.888889E+000    8.888889E+000    8.888889E+000    8.888889E+000","    8.888889E+000    8.888889E+000    8.888889E+000    8.888889E+000","    8.888889E+000    8.888889E+000    8.888889E+000    8.888889E+000","    8.888889E+000    8.888889E+000    8.888889E+000    8.888889E+000"]
[{"$f":"IF(定数!$U$1=1,Data!N17,Data!AA17)","v":0},{"$f":"IF(定数!$U$1=1,Data!O17,Data!AB17)","v":0},{"$f":"IF(定数!$U$1=1,Data!P17,Data!AC17)","v":0},{"$f":"IF(定数!$U$1=1,Data!Q17,Data!AD17)","v":0},{"$f":"IF(定数!$U$1=1,Data!R17,Data!AE17)","v":0},{"$f":"IF(定数!$U$1=1,Data!S17,Data!AF17)","v":0},{"$f":"IF(定数!$U$1=1,Data!T17,Data!AG17)","v":0},{"$f":"IF(定数!$U$1=1,Data!U17,Data!AH17)","v":0},{"$f":"IF(定数!$U$1=1,Data!V17,Data!AI17)","v":0},{"$f":"IF(定数!$U$1=1,Data!W17,Data!AJ17)","v":0},{"$f":"IF(定数!$U$1=1,Data!X17,Data!AK17)","v":0},{"$f":"IF(定数!$U$1=1,Data!Y17,Data!AL17)","v":0}]
[{"$f":"IF(定数!$U$1=1,Data!N18,Data!AA18)","v":"***** 面積(μm^2) *****"},{"$f":"IF(定数!$U$1=1,Data!O18,Data!AB18)","v":"***** 面積(μm^2) *****"},{"$f":"IF(定数!$U$1=1,Data!P18,Data!AC18)","v":"***** 面積(μm^2) *****"},{"$f":"IF(定数!$U$1=1,Data!Q18,Data!AD18)","v":"***** 面積(μm^2) *****"},{"$f":"IF(定数!$U$1=1,Data!R18,Data!AE18)","v":"***** 面積(μm^2) *****"},{"$f":"IF(定数!$U$1=1,Data!S18,Data!AF18)","v":"***** 面積(μm^2) *****"},{"$f":"IF(定数!$U$1=1,Data!T18,Data!AG18)","v":"***** 面積(μm^2) *****"},{"$f":"IF(定数!$U$1=1,Data!U18,Data!AH18)","v":"***** 面積(μm^2) *****"},{"$f":"IF(定数!$U$1=1,Data!V18,Data!AI18)","v":"***** 面積(μm^2) *****"},{"$f":"IF(定数!$U$1=1,Data!W18,Data!AJ18)","v":"***** 面積(μm^2) *****"},{"$f":"IF(定数!$U$1=1,Data!X18,Data!AK18)","v":"***** 面積(μm^2) *****"},{"$f":"IF(定数!$U$1=1,Data!Y18,Data!AL18)","v":"***** 面積(μm^2) *****"},null,"***** 面積(μm^2) *****","***** 面積(μm^2) *****","***** 面積(μm^2) *****","***** 面積(μm^2) *****","***** 面積(μm^2) *****","***** 面積(μm^2) *****","***** 面積(μm^2) *****","***** 面積(μm^2) *****","***** 面積(μm^2) *****","***** 面積(μm^2) *****","***** 面積(μm^2) *****","***** 面積(μm^2) *****",null,"***** 面積(μm^2) *****","***** 面積(μm^2) *****","***** 面積(μm^2) *****","***** 面積(μm^2) *****","***** 面積(μm^2) *****","***** 面積(μm^2) *****","***** 面積(μm^2) *****","***** 面積(μm^2) *****","***** 面積(μm^2) *****","***** 面積(μm^2) *****","***** 面積(μm^2) *****","***** 面積(μm^2) *****"]
[{"$f":"IF(定数!$U$1=1,Data!N19,Data!AA19)","v":"    5.040000E+003    5.040000E+003    5.040000E+003    5.040000E+003"},{"$f":"IF(定数!$U$1=1,Data!O19,Data!AB19)","v":"    5.040000E+003    5.040000E+003    5.040000E+003    5.040000E+003"},{"$f":"IF(定数!$U$1=1,Data!P19,Data!AC19)","v":"    5.040000E+003    5.040000E+003    5.040000E+003    5.040000E+003"},{"$f":"IF(定数!$U$1=1,Data!Q19,Data!AD19)","v":"    5.040000E+003    5.040000E+003    5.040000E+003    5.040000E+003"},{"$f":"IF(定数!$U$1=1,Data!R19,Data!AE19)","v":"    5.040000E+003    5.040000E+003    5.040000E+003    5.040000E+003"},{"$f":"IF(定数!$U$1=1,Data!S19,Data!AF19)","v":"    5.040000E+003    5.040000E+003    5.040000E+003    5.040000E+003"},{"$f":"IF(定数!$U$1=1,Data!T19,Data!AG19)","v":"    5.040000E+003    5.040000E+003    5.040000E+003    5.040000E+003"},{"$f":"IF(定数!$U$1=1,Data!U19,Data!AH19)","v":"    5.040000E+003    5.040000E+003    5.040000E+003    5.040000E+003"},{"$f":"IF(定数!$U$1=1,Data!V19,Data!AI19)","v":"    5.040000E+003    5.040000E+003    5.040000E+003    5.040000E+003"},{"$f":"IF(定数!$U$1=1,Data!W19,Data!AJ19)","v":"    5.040000E+003    5.040000E+003    5.040000E+003    5.040000E+003"},{"$f":"IF(定数!$U$1=1,Data!X19,Data!AK19)","v":"    5.040000E+003    5.040000E+003    5.040000E+003    5.040000E+003"},{"$f":"IF(定数!$U$1=1,Data!Y19,Data!AL19)","v":"    5.040000E+003    5.040000E+003    5.040000E+003    5.040000E+003"},null,"    5.040000E+003    5.040000E+003    5.040000E+003    5.040000E+003","    5.040000E+003    5.040000E+003    5.040000E+003    5.040000E+003","    5.040000E+003    5.040000E+003    5.040000E+003    5.040000E+003","    5.040000E+003    5.040000E+003    5.040000E+003    5.040000E+003","    5.040000E+003    5.040000E+003    5.040000E+003    5.040000E+003","    5.040000E+003    5.040000E+003    5.040000E+003    5.040000E+003","    5.040000E+003    5.040000E+003    5.040000E+003    5.040000E+003","    5.040000E+003    5.040000E+003    5.040000E+003    5.040000E+003","    5.040000E+003    5.040000E+003    5.040000E+003    5.040000E+003","    5.040000E+003    5.040000E+003    5.040000E+003    5.040000E+003","    5.040000E+003    5.040000E+003    5.040000E+003    5.040000E+003","    5.040000E+003    5.040000E+003    5.040000E+003    5.040000E+003",null,"    1.890000E+003    1.890000E+003    1.890000E+003    1.890000E+003","    1.890000E+003    1.890000E+003    1.890000E+003    1.890000E+003","    1.890000E+003    1.890000E+003    1.890000E+003    1.890000E+003","    1.890000E+003    1.890000E+003    1.890000E+003    1.890000E+003","    1.890000E+003    1.890000E+003    1.890000E+003    1.890000E+003","    1.890000E+003    1.890000E+003    1.890000E+003    1.890000E+003","    1.890000E+003    1.890000E+003    1.890000E+003    1.890000E+003","    1.890000E+003    1.890000E+003    1.890000E+003    1.890000E+003","    1.890000E+003    1.890000E+003    1.890000E+003    1.890000E+003","    1.890000E+003    1.890000E+003    1.890000E+003    1.890000E+003","    1.890000E+003    1.890000E+003    1.890000E+003    1.890000E+003","    1.890000E+003    1.890000E+003    1.890000E+003    1.890000E+003"]
[{"$f":"IF(定数!$U$1=1,Data!N20,Data!AA20)","v":0},{"$f":"IF(定数!$U$1=1,Data!O20,Data!AB20)","v":0},{"$f":"IF(定数!$U$1=1,Data!P20,Data!AC20)","v":0},{"$f":"IF(定数!$U$1=1,Data!Q20,Data!AD20)","v":0},{"$f":"IF(定数!$U$1=1,Data!R20,Data!AE20)","v":0},{"$f":"IF(定数!$U$1=1,Data!S20,Data!AF20)","v":0},{"$f":"IF(定数!$U$1=1,Data!T20,Data!AG20)","v":0},{"$f":"IF(定数!$U$1=1,Data!U20,Data!AH20)","v":0},{"$f":"IF(定数!$U$1=1,Data!V20,Data!AI20)","v":0},{"$f":"IF(定数!$U$1=1,Data!W20,Data!AJ20)","v":0},{"$f":"IF(定数!$U$1=1,Data!X20,Data!AK20)","v":0},{"$f":"IF(定数!$U$1=1,Data!Y20,Data!AL20)","v":0}]
[{"$f":"IF(定数!$U$1=1,Data!N21,Data!AA21)","v":"***** 特性インピーダンス(Ω) *****"},{"$f":"IF(定数!$U$1=1,Data!O21,Data!AB21)","v":"***** 特性インピーダンス(Ω) *****"},{"$f":"IF(定数!$U$1=1,Data!P21,Data!AC21)","v":"***** 特性インピーダンス(Ω) *****"},{"$f":"IF(定数!$U$1=1,Data!Q21,Data!AD21)","v":"***** 特性インピーダンス(Ω) *****"},{"$f":"IF(定数!$U$1=1,Data!R21,Data!AE21)","v":"***** 特性インピーダンス(Ω) *****"},{"$f":"IF(定数!$U$1=1,Data!S21,Data!AF21)","v":"***** 特性インピーダンス(Ω) *****"},{"$f":"IF(定数!$U$1=1,Data!T21,Data!AG21)","v":"***** 特性インピーダンス(Ω) *****"},{"$f":"IF(定数!$U$1=1,Data!U21,Data!AH21)","v":"***** 特性インピーダンス(Ω) *****"},{"$f":"IF(定数!$U$1=1,Data!V21,Data!AI21)","v":"***** 特性インピーダンス(Ω) *****"},{"$f":"IF(定数!$U$1=1,Data!W21,Data!AJ21)","v":"***** 特性インピーダンス(Ω) *****"},{"$f":"IF(定数!$U$1=1,Data!X21,Data!AK21)","v":"***** 特性インピーダンス(Ω) *****"},{"$f":"IF(定数!$U$1=1,Data!Y21,Data!AL21)","v":"***** 特性インピーダンス(Ω) *****"},null,"***** 特性インピーダンス(Ω) *****","***** 特性インピーダンス(Ω) *****","***** 特性インピーダンス(Ω) *****","***** 特性インピーダンス(Ω) *****","***** 特性インピーダンス(Ω) *****","***** 特性インピーダンス(Ω) *****","***** 特性インピーダンス(Ω) *****","***** 特性インピーダンス(Ω) *****","***** 特性インピーダンス(Ω) *****","***** 特性インピーダンス(Ω) *****","***** 特性インピーダンス(Ω) *****","***** 特性インピーダンス(Ω) *****",null,"***** 特性インピーダンス(Ω) *****","***** 特性インピーダンス(Ω) *****","***** 特性インピーダンス(Ω) *****","***** 特性インピーダンス(Ω) *****","***** 特性インピーダンス(Ω) *****","***** 特性インピーダンス(Ω) *****","***** 特性インピーダンス(Ω) *****","***** 特性インピーダンス(Ω) *****","***** 特性インピーダンス(Ω) *****","***** 特性インピーダンス(Ω) *****","***** 特性インピーダンス(Ω) *****","***** 特性インピーダンス(Ω) *****"]
[{"$f":"IF(定数!$U$1=1,Data!N22,Data!AA22)","v":"    4.960872E+001    7.084635E+000    5.517912E-001    3.157394E-001"},{"$f":"IF(定数!$U$1=1,Data!O22,Data!AB22)","v":"    4.960036E+001    7.070832E+000    8.747374E-001    4.366506E-001"},{"$f":"IF(定数!$U$1=1,Data!P22,Data!AC22)","v":"    4.959382E+001    7.056769E+000    1.129636E+000    5.164232E-001"},{"$f":"IF(定数!$U$1=1,Data!Q22,Data!AD22)","v":"    4.958887E+001    7.040263E+000    1.355750E+000    5.797167E-001"},{"$f":"IF(定数!$U$1=1,Data!R22,Data!AE22)","v":"    4.958464E+001    7.021169E+000    1.566760E+000    6.340328E-001"},{"$f":"IF(定数!$U$1=1,Data!S22,Data!AF22)","v":"    4.958017E+001    6.998157E+000    1.757240E+000    6.799772E-001"},{"$f":"IF(定数!$U$1=1,Data!T22,Data!AG22)","v":"    4.958711E+001    6.974197E+000    1.941211E+000    7.221698E-001"},{"$f":"IF(定数!$U$1=1,Data!U22,Data!AH22)","v":"    4.958096E+001    6.944939E+000    2.116312E+000    7.604422E-001"},{"$f":"IF(定数!$U$1=1,Data!V22,Data!AI22)","v":"    4.957427E+001    6.912201E+000    2.286138E+000    7.961090E-001"},{"$f":"IF(定数!$U$1=1,Data!W22,Data!AJ22)","v":"    4.956826E+001    6.877743E+000    2.448081E+000    8.289387E-001"},{"$f":"IF(定数!$U$1=1,Data!X22,Data!AK22)","v":"    4.956124E+001    6.838426E+000    2.605579E+000    8.598326E-001"},{"$f":"IF(定数!$U$1=1,Data!Y22,Data!AL22)","v":"    4.955587E+001    6.799226E+000    2.751874E+000    8.877659E-001"},null,"    4.960872E+001    7.084635E+000    5.517912E-001    3.157394E-001","    4.960036E+001    7.070832E+000    8.747374E-001    4.366506E-001","    4.959382E+001    7.056769E+000    1.129636E+000    5.164232E-001","    4.958887E+001    7.040263E+000    1.355750E+000    5.797167E-001","    4.958464E+001    7.021169E+000    1.566760E+000    6.340328E-001","    4.958017E+001    6.998157E+000    1.757240E+000    6.799772E-001","    4.958711E+001    6.974197E+000    1.941211E+000    7.221698E-001","    4.958096E+001    6.944939E+000    2.116312E+000    7.604422E-001","    4.957427E+001    6.912201E+000    2.286138E+000    7.961090E-001","    4.956826E+001    6.877743E+000    2.448081E+000    8.289387E-001","    4.956124E+001    6.838426E+000    2.605579E+000    8.598326E-001","    4.955587E+001    6.799226E+000    2.751874E+000    8.877659E-001",null,"    4.954942E+001    7.099253E+000    1.911732E-001    2.984575E-002","    4.956604E+001    7.097460E+000    3.893647E-001    6.079164E-002","    4.955875E+001    7.088123E+000    5.756677E-001    8.989330E-002","    4.955386E+001    7.076250E+000    7.651260E-001    1.194139E-001","    4.954918E+001    7.060352E+000    9.528875E-001    1.485698E-001","    4.954552E+001    7.042018E+000    1.138498E+000    1.773730E-001","    4.954119E+001    7.019445E+000    1.323158E+000    2.059316E-001","    4.953668E+001    6.993473E+000    1.504202E+000    2.338276E-001","    4.953132E+001    6.962910E+000    1.683679E+000    2.613101E-001","    4.952622E+001    6.930763E+000    1.855755E+000    2.876665E-001","    4.952046E+001    6.892282E+000    2.031849E+000    3.142511E-001","    4.951419E+001    6.852583E+000    2.199085E+000    3.397705E-001"]
[{"$f":"IF(定数!$U$1=1,Data!N23,Data!AA23)","v":"    7.084635E+000    4.959668E+001    1.198702E+000    5.511956E-001"},{"$f":"IF(定数!$U$1=1,Data!O23,Data!AB23)","v":"    7.070832E+000    4.955216E+001    2.439976E+000    8.750364E-001"},{"$f":"IF(定数!$U$1=1,Data!P23,Data!AC23)","v":"    7.056769E+000    4.949682E+001    3.658240E+000    1.129674E+000"},{"$f":"IF(定数!$U$1=1,Data!Q23,Data!AD23)","v":"    7.040263E+000    4.941669E+001    4.877497E+000    1.355823E+000"},{"$f":"IF(定数!$U$1=1,Data!R23,Data!AE23)","v":"    7.021169E+000    4.930746E+001    6.109700E+000    1.566730E+000"},{"$f":"IF(定数!$U$1=1,Data!S23,Data!AF23)","v":"    6.998157E+000    4.917173E+001    7.289819E+000    1.757381E+000"},{"$f":"IF(定数!$U$1=1,Data!T23,Data!AG23)","v":"    6.974197E+000    4.900557E+001    8.477428E+000    1.941413E+000"},{"$f":"IF(定数!$U$1=1,Data!U23,Data!AH23)","v":"    6.944939E+000    4.880871E+001    9.651222E+000    2.116544E+000"},{"$f":"IF(定数!$U$1=1,Data!V23,Data!AI23)","v":"    6.912201E+000    4.857939E+001    1.082388E+001    2.286399E+000"},{"$f":"IF(定数!$U$1=1,Data!W23,Data!AJ23)","v":"    6.877743E+000    4.832324E+001    1.196818E+001    2.448084E+000"},{"$f":"IF(定数!$U$1=1,Data!X23,Data!AK23)","v":"    6.838426E+000    4.803428E+001    1.310835E+001    2.605581E+000"},{"$f":"IF(定数!$U$1=1,Data!Y23,Data!AL23)","v":"    6.799226E+000    4.773064E+001    1.418450E+001    2.751710E+000"},null,"    7.084635E+000    4.959668E+001    1.198702E+000    5.511956E-001","    7.070832E+000    4.955216E+001    2.439976E+000    8.750364E-001","    7.056769E+000    4.949682E+001    3.658240E+000    1.129674E+000","    7.040263E+000    4.941669E+001    4.877497E+000    1.355823E+000","    7.021169E+000    4.930746E+001    6.109700E+000    1.566730E+000","    6.998157E+000    4.917173E+001    7.289819E+000    1.757381E+000","    6.974197E+000    4.900557E+001    8.477428E+000    1.941413E+000","    6.944939E+000    4.880871E+001    9.651222E+000    2.116544E+000","    6.912201E+000    4.857939E+001    1.082388E+001    2.286399E+000","    6.877743E+000    4.832324E+001    1.196818E+001    2.448084E+000","    6.838426E+000    4.803428E+001    1.310835E+001    2.605581E+000","    6.799226E+000    4.773064E+001    1.418450E+001    2.751710E+000",null,"    7.099253E+000    4.953762E+001    1.224153E+000    1.910984E-001","    7.097460E+000    4.950364E+001    2.493701E+000    3.892444E-001","    7.088123E+000    4.944999E+001    3.690216E+000    5.758807E-001","    7.076250E+000    4.937407E+001    4.906737E+000    7.649187E-001","    7.060352E+000    4.927355E+001    6.122139E+000    9.531876E-001","    7.042018E+000    4.915208E+001    7.320970E+000    1.138197E+000","    7.019445E+000    4.900491E+001    8.522471E+000    1.322915E+000","    6.993473E+000    4.883401E+001    9.706121E+000    1.503951E+000","    6.962910E+000    4.863461E+001    1.089032E+001    1.684056E+000","    6.930763E+000    4.841681E+001    1.202344E+001    1.855410E+000","    6.892282E+000    4.815943E+001    1.319980E+001    2.031849E+000","    6.852583E+000    4.788499E+001    1.431459E+001    2.198702E+000"]
[{"$f":"IF(定数!$U$1=1,Data!N24,Data!AA24)","v":"    5.517912E-001    1.198702E+000    4.959872E+001    7.063644E+000"},{"$f":"IF(定数!$U$1=1,Data!O24,Data!AB24)","v":"    8.747374E-001    2.439976E+000    4.955222E+001    7.075792E+000"},{"$f":"IF(定数!$U$1=1,Data!P24,Data!AC24)","v":"    1.129636E+000    3.658240E+000    4.949744E+001    7.057024E+000"},{"$f":"IF(定数!$U$1=1,Data!Q24,Data!AD24)","v":"    1.355750E+000    4.877497E+000    4.941724E+001    7.040708E+000"},{"$f":"IF(定数!$U$1=1,Data!R24,Data!AE24)","v":"    1.566760E+000    6.109700E+000    4.930738E+001    7.021004E+000"},{"$f":"IF(定数!$U$1=1,Data!S24,Data!AF24)","v":"    1.757240E+000    7.289819E+000    4.917212E+001    6.998803E+000"},{"$f":"IF(定数!$U$1=1,Data!T24,Data!AG24)","v":"    1.941211E+000    8.477428E+000    4.900600E+001    6.975022E+000"},{"$f":"IF(定数!$U$1=1,Data!U24,Data!AH24)","v":"    2.116312E+000    9.651222E+000    4.880905E+001    6.945790E+000"},{"$f":"IF(定数!$U$1=1,Data!V24,Data!AI24)","v":"    2.286138E+000    1.082388E+001    4.857971E+001    6.913074E+000"},{"$f":"IF(定数!$U$1=1,Data!W24,Data!AJ24)","v":"    2.448081E+000    1.196818E+001    4.832317E+001    6.877735E+000"},{"$f":"IF(定数!$U$1=1,Data!X24,Data!AK24)","v":"    2.605579E+000    1.310835E+001    4.803420E+001    6.838417E+000"},{"$f":"IF(定数!$U$1=1,Data!Y24,Data!AL24)","v":"    2.751874E+000    1.418450E+001    4.773044E+001    6.798658E+000"},null,"    5.517912E-001    1.198702E+000    4.959872E+001    7.063644E+000","    8.747374E-001    2.439976E+000    4.955222E+001    7.075792E+000","    1.129636E+000    3.658240E+000    4.949744E+001    7.057024E+000","    1.355750E+000    4.877497E+000    4.941724E+001    7.040708E+000","    1.566760E+000    6.109700E+000    4.930738E+001    7.021004E+000","    1.757240E+000    7.289819E+000    4.917212E+001    6.998803E+000","    1.941211E+000    8.477428E+000    4.900600E+001    6.975022E+000","    2.116312E+000    9.651222E+000    4.880905E+001    6.945790E+000","    2.286138E+000    1.082388E+001    4.857971E+001    6.913074E+000","    2.448081E+000    1.196818E+001    4.832317E+001    6.877735E+000","    2.605579E+000    1.310835E+001    4.803420E+001    6.838417E+000","    2.751874E+000    1.418450E+001    4.773044E+001    6.798658E+000",null,"    1.911732E-001    1.224153E+000    4.953751E+001    7.099197E+000","    3.893647E-001    2.493701E+000    4.950348E+001    7.097020E+000","    5.756677E-001    3.690216E+000    4.945023E+001    7.087673E+000","    7.651260E-001    4.906737E+000    4.937380E+001    7.075434E+000","    9.528875E-001    6.122139E+000    4.927377E+001    7.060045E+000","    1.138498E+000    7.320970E+000    4.915167E+001    7.040939E+000","    1.323158E+000    8.522471E+000    4.900475E+001    7.018742E+000","    1.504202E+000    9.706121E+000    4.883386E+001    6.992800E+000","    1.683679E+000    1.089032E+001    4.863485E+001    6.962817E+000","    1.855755E+000    1.202344E+001    4.841652E+001    6.929873E+000","    2.031849E+000    1.319980E+001    4.815943E+001    6.892282E+000","    2.199085E+000    1.431459E+001    4.788473E+001    6.851690E+000"]
[{"$f":"IF(定数!$U$1=1,Data!N25,Data!AA25)","v":"    3.157394E-001    5.511956E-001    7.063644E+000    4.961011E+001"},{"$f":"IF(定数!$U$1=1,Data!O25,Data!AB25)","v":"    4.366506E-001    8.750364E-001    7.075792E+000    4.959934E+001"},{"$f":"IF(定数!$U$1=1,Data!P25,Data!AC25)","v":"    5.164232E-001    1.129674E+000    7.057024E+000    4.959337E+001"},{"$f":"IF(定数!$U$1=1,Data!Q25,Data!AD25)","v":"    5.797167E-001    1.355823E+000    7.040708E+000    4.958849E+001"},{"$f":"IF(定数!$U$1=1,Data!R25,Data!AE25)","v":"    6.340328E-001    1.566730E+000    7.021004E+000    4.958399E+001"},{"$f":"IF(定数!$U$1=1,Data!S25,Data!AF25)","v":"    6.799772E-001    1.757381E+000    6.998803E+000    4.957985E+001"},{"$f":"IF(定数!$U$1=1,Data!T25,Data!AG25)","v":"    7.221698E-001    1.941413E+000    6.975022E+000    4.958738E+001"},{"$f":"IF(定数!$U$1=1,Data!U25,Data!AH25)","v":"    7.604422E-001    2.116544E+000    6.945790E+000    4.958119E+001"},{"$f":"IF(定数!$U$1=1,Data!V25,Data!AI25)","v":"    7.961090E-001    2.286399E+000    6.913074E+000    4.957451E+001"},{"$f":"IF(定数!$U$1=1,Data!W25,Data!AJ25)","v":"    8.289387E-001    2.448084E+000    6.877735E+000    4.956826E+001"},{"$f":"IF(定数!$U$1=1,Data!X25,Data!AK25)","v":"    8.598326E-001    2.605581E+000    6.838417E+000    4.956120E+001"},{"$f":"IF(定数!$U$1=1,Data!Y25,Data!AL25)","v":"    8.877659E-001    2.751710E+000    6.798658E+000    4.955520E+001"},null,"    3.157394E-001    5.511956E-001    7.063644E+000    4.961011E+001","    4.366506E-001    8.750364E-001    7.075792E+000    4.959934E+001","    5.164232E-001    1.129674E+000    7.057024E+000    4.959337E+001","    5.797167E-001    1.355823E+000    7.040708E+000    4.958849E+001","    6.340328E-001    1.566730E+000    7.021004E+000    4.958399E+001","    6.799772E-001    1.757381E+000    6.998803E+000    4.957985E+001","    7.221698E-001    1.941413E+000    6.975022E+000    4.958738E+001","    7.604422E-001    2.116544E+000    6.945790E+000    4.958119E+001","    7.961090E-001    2.286399E+000    6.913074E+000    4.957451E+001","    8.289387E-001    2.448084E+000    6.877735E+000    4.956826E+001","    8.598326E-001    2.605581E+000    6.838417E+000    4.956120E+001","    8.877659E-001    2.751710E+000    6.798658E+000    4.955520E+001",null,"    2.984575E-002    1.910984E-001    7.099197E+000    4.954994E+001","    6.079164E-002    3.892444E-001    7.097020E+000    4.956609E+001","    8.989330E-002    5.758807E-001    7.087673E+000    4.955870E+001","    1.194139E-001    7.649187E-001    7.075434E+000    4.955331E+001","    1.485698E-001    9.531876E-001    7.060045E+000    4.954907E+001","    1.773730E-001    1.138197E+000    7.040939E+000    4.954475E+001","    2.059316E-001    1.322915E+000    7.018742E+000    4.954060E+001","    2.338276E-001    1.503951E+000    6.992800E+000    4.953609E+001","    2.613101E-001    1.684056E+000    6.962817E+000    4.953117E+001","    2.876665E-001    1.855410E+000    6.929873E+000    4.952568E+001","    3.142511E-001    2.031849E+000    6.892282E+000    4.952046E+001","    3.397705E-001    2.198702E+000    6.851690E+000    4.951334E+001"]
[{"$f":"IF(定数!$U$1=1,Data!N26,Data!AA26)","v":0},{"$f":"IF(定数!$U$1=1,Data!O26,Data!AB26)","v":0},{"$f":"IF(定数!$U$1=1,Data!P26,Data!AC26)","v":0},{"$f":"IF(定数!$U$1=1,Data!Q26,Data!AD26)","v":0},{"$f":"IF(定数!$U$1=1,Data!R26,Data!AE26)","v":0},{"$f":"IF(定数!$U$1=1,Data!S26,Data!AF26)","v":0},{"$f":"IF(定数!$U$1=1,Data!T26,Data!AG26)","v":0},{"$f":"IF(定数!$U$1=1,Data!U26,Data!AH26)","v":0},{"$f":"IF(定数!$U$1=1,Data!V26,Data!AI26)","v":0},{"$f":"IF(定数!$U$1=1,Data!W26,Data!AJ26)","v":0},{"$f":"IF(定数!$U$1=1,Data!X26,Data!AK26)","v":0},{"$f":"IF(定数!$U$1=1,Data!Y26,Data!AL26)","v":0}]
[{"$f":"IF(定数!$U$1=1,Data!N27,Data!AA27)","v":"***** 近端クロストーク係数 *****"},{"$f":"IF(定数!$U$1=1,Data!O27,Data!AB27)","v":"***** 近端クロストーク係数 *****"},{"$f":"IF(定数!$U$1=1,Data!P27,Data!AC27)","v":"***** 近端クロストーク係数 *****"},{"$f":"IF(定数!$U$1=1,Data!Q27,Data!AD27)","v":"***** 近端クロストーク係数 *****"},{"$f":"IF(定数!$U$1=1,Data!R27,Data!AE27)","v":"***** 近端クロストーク係数 *****"},{"$f":"IF(定数!$U$1=1,Data!S27,Data!AF27)","v":"***** 近端クロストーク係数 *****"},{"$f":"IF(定数!$U$1=1,Data!T27,Data!AG27)","v":"***** 近端クロストーク係数 *****"},{"$f":"IF(定数!$U$1=1,Data!U27,Data!AH27)","v":"***** 近端クロストーク係数 *****"},{"$f":"IF(定数!$U$1=1,Data!V27,Data!AI27)","v":"***** 近端クロストーク係数 *****"},{"$f":"IF(定数!$U$1=1,Data!W27,Data!AJ27)","v":"***** 近端クロストーク係数 *****"},{"$f":"IF(定数!$U$1=1,Data!X27,Data!AK27)","v":"***** 近端クロストーク係数 *****"},{"$f":"IF(定数!$U$1=1,Data!Y27,Data!AL27)","v":"***** 近端クロストーク係数 *****"},null,"***** 近端クロストーク係数 *****","***** 近端クロストーク係数 *****","***** 近端クロストーク係数 *****","***** 近端クロストーク係数 *****","***** 近端クロストーク係数 *****","***** 近端クロストーク係数 *****","***** 近端クロストーク係数 *****","***** 近端クロストーク係数 *****","***** 近端クロストーク係数 *****","***** 近端クロストーク係数 *****","***** 近端クロストーク係数 *****","***** 近端クロストーク係数 *****",null,"***** 近端クロストーク係数 *****","***** 近端クロストーク係数 *****","***** 近端クロストーク係数 *****","***** 近端クロストーク係数 *****","***** 近端クロストーク係数 *****","***** 近端クロストーク係数 *****","***** 近端クロストーク係数 *****","***** 近端クロストーク係数 *****","***** 近端クロストーク係数 *****","***** 近端クロストーク係数 *****","***** 近端クロストーク係数 *****","***** 近端クロストーク係数 *****"]
[{"$f":"IF(定数!$U$1=1,Data!N28,Data!AA28)","v":"    1.000000E+000    1.428449E-001    1.112511E-002    6.364417E-003"},{"$f":"IF(定数!$U$1=1,Data!O28,Data!AB28)","v":"    1.000000E+000    1.426947E-001    1.765284E-002    8.803558E-003"},{"$f":"IF(定数!$U$1=1,Data!P28,Data!AC28)","v":"    1.000000E+000    1.425702E-001    2.282211E-002    1.041315E-002"},{"$f":"IF(定数!$U$1=1,Data!Q28,Data!AD28)","v":"    1.000000E+000    1.424673E-001    2.743475E-002    1.169055E-002"},{"$f":"IF(定数!$U$1=1,Data!R28,Data!AE28)","v":"    1.000000E+000    1.423957E-001    3.177535E-002    1.278705E-002"},{"$f":"IF(定数!$U$1=1,Data!S28,Data!AF28)","v":"    1.000000E+000    1.423207E-001    3.573652E-002    1.371479E-002"},{"$f":"IF(定数!$U$1=1,Data!T28,Data!AG28)","v":"    1.000000E+000    1.423144E-001    3.961171E-002    1.456358E-002"},{"$f":"IF(定数!$U$1=1,Data!U28,Data!AH28)","v":"    1.000000E+000    1.422889E-001    4.335901E-002    1.533731E-002"},{"$f":"IF(定数!$U$1=1,Data!V28,Data!AI28)","v":"    1.000000E+000    1.422867E-001    4.705954E-002    1.605884E-002"},{"$f":"IF(定数!$U$1=1,Data!W28,Data!AJ28)","v":"    1.000000E+000    1.423278E-001    5.066060E-002    1.672317E-002"},{"$f":"IF(定数!$U$1=1,Data!X28,Data!AK28)","v":"    1.000000E+000    1.423655E-001    5.424424E-002    1.734891E-002"},{"$f":"IF(定数!$U$1=1,Data!Y28,Data!AL28)","v":"    1.000000E+000    1.424499E-001    5.765449E-002    1.791469E-002"},null,"    1.000000E+000    1.428449E-001    1.112511E-002    6.364417E-003","    1.000000E+000    1.426947E-001    1.765284E-002    8.803558E-003","    1.000000E+000    1.425702E-001    2.282211E-002    1.041315E-002","    1.000000E+000    1.424673E-001    2.743475E-002    1.169055E-002","    1.000000E+000    1.423957E-001    3.177535E-002    1.278705E-002","    1.000000E+000    1.423207E-001    3.573652E-002    1.371479E-002","    1.000000E+000    1.423144E-001    3.961171E-002    1.456358E-002","    1.000000E+000    1.422889E-001    4.335901E-002    1.533731E-002","    1.000000E+000    1.422867E-001    4.705954E-002    1.605884E-002","    1.000000E+000    1.423278E-001    5.066060E-002    1.672317E-002","    1.000000E+000    1.423655E-001    5.424424E-002    1.734891E-002","    1.000000E+000    1.424499E-001    5.765449E-002    1.791469E-002",null,"    1.000000E+000    1.433103E-001    3.859160E-003    6.023367E-004","    1.000000E+000    1.433725E-001    7.865402E-003    1.226477E-003","    1.000000E+000    1.433392E-001    1.164136E-002    1.813875E-003","    1.000000E+000    1.433192E-001    1.549660E-002    2.409806E-003","    1.000000E+000    1.432889E-001    1.933864E-002    2.998437E-003","    1.000000E+000    1.432700E-001    2.316296E-002    3.580056E-003","    1.000000E+000    1.432396E-001    2.700060E-002    4.156824E-003","    1.000000E+000    1.432091E-001    3.080245E-002    4.720349E-003","    1.000000E+000    1.431678E-001    3.461878E-002    5.275670E-003","    1.000000E+000    1.431478E-001    3.832895E-002    5.808431E-003","    1.000000E+000    1.431139E-001    4.219007E-002    6.345884E-003","    1.000000E+000    1.431050E-001    4.592455E-002    6.862202E-003"]
[{"$f":"IF(定数!$U$1=1,Data!N29,Data!AA29)","v":"    1.428103E-001    1.000000E+000    2.416800E-002    1.111055E-002"},{"$f":"IF(定数!$U$1=1,Data!O29,Data!AB29)","v":"    1.425561E-001    1.000000E+000    4.924050E-002    1.764210E-002"},{"$f":"IF(定数!$U$1=1,Data!P29,Data!AC29)","v":"    1.422913E-001    1.000000E+000    7.390766E-002    2.277873E-002"},{"$f":"IF(定数!$U$1=1,Data!Q29,Data!AD29)","v":"    1.419726E-001    1.000000E+000    9.870030E-002    2.734150E-002"},{"$f":"IF(定数!$U$1=1,Data!R29,Data!AE29)","v":"    1.415997E-001    1.000000E+000    1.239104E-001    3.159750E-002"},{"$f":"IF(定数!$U$1=1,Data!S29,Data!AF29)","v":"    1.411483E-001    1.000000E+000    1.482511E-001    3.544546E-002"},{"$f":"IF(定数!$U$1=1,Data!T29,Data!AG29)","v":"    1.406453E-001    1.000000E+000    1.729876E-001    3.915135E-002"},{"$f":"IF(定数!$U$1=1,Data!U29,Data!AH29)","v":"    1.400727E-001    1.000000E+000    1.977343E-001    4.268845E-002"},{"$f":"IF(定数!$U$1=1,Data!V29,Data!AI29)","v":"    1.394312E-001    1.000000E+000    2.228067E-001    4.612045E-002"},{"$f":"IF(定数!$U$1=1,Data!W29,Data!AJ29)","v":"    1.387530E-001    1.000000E+000    2.476696E-001    4.938814E-002"},{"$f":"IF(定数!$U$1=1,Data!X29,Data!AK29)","v":"    1.379793E-001    1.000000E+000    2.728961E-001    5.257301E-002"},{"$f":"IF(定数!$U$1=1,Data!Y29,Data!AL29)","v":"    1.372032E-001    1.000000E+000    2.971793E-001    5.552818E-002"},null,"    1.428103E-001    1.000000E+000    2.416800E-002    1.111055E-002","    1.425561E-001    1.000000E+000    4.924050E-002    1.764210E-002","    1.422913E-001    1.000000E+000    7.390766E-002    2.277873E-002","    1.419726E-001    1.000000E+000    9.870030E-002    2.734150E-002","    1.415997E-001    1.000000E+000    1.239104E-001    3.159750E-002","    1.411483E-001    1.000000E+000    1.482511E-001    3.544546E-002","    1.406453E-001    1.000000E+000    1.729876E-001    3.915135E-002","    1.400727E-001    1.000000E+000    1.977343E-001    4.268845E-002","    1.394312E-001    1.000000E+000    2.228067E-001    4.612045E-002","    1.387530E-001    1.000000E+000    2.476696E-001    4.938814E-002","    1.379793E-001    1.000000E+000    2.728961E-001    5.257301E-002","    1.372032E-001    1.000000E+000    2.971793E-001    5.552818E-002",null,"    1.432762E-001    1.000000E+000    2.471164E-002    3.856683E-003","    1.431920E-001    1.000000E+000    5.037425E-002    7.853039E-003","    1.430246E-001    1.000000E+000    7.462485E-002    1.162017E-002","    1.427992E-001    1.000000E+000    9.937938E-002    1.543628E-002","    1.424918E-001    1.000000E+000    1.242474E-001    1.923725E-002","    1.421323E-001    1.000000E+000    1.489465E-001    2.297311E-002","    1.416891E-001    1.000000E+000    1.739111E-001    2.670365E-002","    1.411777E-001    1.000000E+000    1.987580E-001    3.036072E-002","    1.405759E-001    1.000000E+000    2.239200E-001    3.399993E-002","    1.399413E-001    1.000000E+000    2.483335E-001    3.746359E-002","    1.391805E-001    1.000000E+000    2.740855E-001    4.103051E-002","    1.383964E-001    1.000000E+000    2.989386E-001    4.440626E-002"]
[{"$f":"IF(定数!$U$1=1,Data!N30,Data!AA30)","v":"    1.112287E-002    2.416899E-002    1.000000E+000    1.423832E-001"},{"$f":"IF(定数!$U$1=1,Data!O30,Data!AB30)","v":"    1.763571E-002    4.924056E-002    1.000000E+000    1.426590E-001"},{"$f":"IF(定数!$U$1=1,Data!P30,Data!AC30)","v":"    2.277776E-002    7.390859E-002    1.000000E+000    1.422977E-001"},{"$f":"IF(定数!$U$1=1,Data!Q30,Data!AD30)","v":"    2.733979E-002    9.870140E-002    1.000000E+000    1.419827E-001"},{"$f":"IF(定数!$U$1=1,Data!R30,Data!AE30)","v":"    3.159768E-002    1.239103E-001    1.000000E+000    1.415982E-001"},{"$f":"IF(定数!$U$1=1,Data!S30,Data!AF30)","v":"    3.544240E-002    1.482522E-001    1.000000E+000    1.411623E-001"},{"$f":"IF(定数!$U$1=1,Data!T30,Data!AG30)","v":"    3.914750E-002    1.729891E-001    1.000000E+000    1.406613E-001"},{"$f":"IF(定数!$U$1=1,Data!U30,Data!AH30)","v":"    4.268397E-002    1.977357E-001    1.000000E+000    1.400892E-001"},{"$f":"IF(定数!$U$1=1,Data!V30,Data!AI30)","v":"    4.611543E-002    2.228081E-001    1.000000E+000    1.394482E-001"},{"$f":"IF(定数!$U$1=1,Data!W30,Data!AJ30)","v":"    4.938807E-002    2.476692E-001    1.000000E+000    1.387528E-001"},{"$f":"IF(定数!$U$1=1,Data!X30,Data!AK30)","v":"    5.257291E-002    2.728956E-001    1.000000E+000    1.379793E-001"},{"$f":"IF(定数!$U$1=1,Data!Y30,Data!AL30)","v":"    5.553073E-002    2.971780E-001    1.000000E+000    1.371936E-001"},null,"    1.112287E-002    2.416899E-002    1.000000E+000    1.423832E-001","    1.763571E-002    4.924056E-002    1.000000E+000    1.426590E-001","    2.277776E-002    7.390859E-002    1.000000E+000    1.422977E-001","    2.733979E-002    9.870140E-002    1.000000E+000    1.419827E-001","    3.159768E-002    1.239103E-001    1.000000E+000    1.415982E-001","    3.544240E-002    1.482522E-001    1.000000E+000    1.411623E-001","    3.914750E-002    1.729891E-001    1.000000E+000    1.406613E-001","    4.268397E-002    1.977357E-001    1.000000E+000    1.400892E-001","    4.611543E-002    2.228081E-001    1.000000E+000    1.394482E-001","    4.938807E-002    2.476692E-001    1.000000E+000    1.387528E-001","    5.257291E-002    2.728956E-001    1.000000E+000    1.379793E-001","    5.553073E-002    2.971780E-001    1.000000E+000    1.371936E-001",null,"    3.858232E-003    2.471158E-002    1.000000E+000    1.432736E-001","    7.855474E-003    5.037409E-002    1.000000E+000    1.431830E-001","    1.161586E-002    7.462522E-002    1.000000E+000    1.430157E-001","    1.544029E-002    9.937884E-002    1.000000E+000    1.427843E-001","    1.923115E-002    1.242480E-001    1.000000E+000    1.424859E-001","    2.297884E-002    1.489453E-001    1.000000E+000    1.421127E-001","    2.670824E-002    1.739106E-001    1.000000E+000    1.416766E-001","    3.036542E-002    1.987574E-001    1.000000E+000    1.411658E-001","    3.399221E-002    2.239211E-001    1.000000E+000    1.405745E-001","    3.747014E-002    2.483320E-001    1.000000E+000    1.399249E-001","    4.103051E-002    2.740855E-001    1.000000E+000    1.391805E-001","    4.441322E-002    2.989370E-001    1.000000E+000    1.383807E-001"]
[{"$f":"IF(定数!$U$1=1,Data!N31,Data!AA31)","v":"    6.364596E-003    1.111356E-002    1.424159E-001    1.000000E+000"},{"$f":"IF(定数!$U$1=1,Data!O31,Data!AB31)","v":"    8.803377E-003    1.765890E-002    1.427947E-001    1.000000E+000"},{"$f":"IF(定数!$U$1=1,Data!P31,Data!AC31)","v":"    1.041306E-002    2.282317E-002    1.425735E-001    1.000000E+000"},{"$f":"IF(定数!$U$1=1,Data!Q31,Data!AD31)","v":"    1.169046E-002    2.743655E-002    1.424747E-001    1.000000E+000"},{"$f":"IF(定数!$U$1=1,Data!R31,Data!AE31)","v":"    1.278688E-002    3.177471E-002    1.423925E-001    1.000000E+000"},{"$f":"IF(定数!$U$1=1,Data!S31,Data!AF31)","v":"    1.371470E-002    3.573965E-002    1.423327E-001    1.000000E+000"},{"$f":"IF(定数!$U$1=1,Data!T31,Data!AG31)","v":"    1.456366E-002    3.961617E-002    1.423300E-001    1.000000E+000"},{"$f":"IF(定数!$U$1=1,Data!U31,Data!AH31)","v":"    1.533738E-002    4.336407E-002    1.423054E-001    1.000000E+000"},{"$f":"IF(定数!$U$1=1,Data!V31,Data!AI31)","v":"    1.605892E-002    4.706520E-002    1.423038E-001    1.000000E+000"},{"$f":"IF(定数!$U$1=1,Data!W31,Data!AJ31)","v":"    1.672317E-002    5.066059E-002    1.423279E-001    1.000000E+000"},{"$f":"IF(定数!$U$1=1,Data!X31,Data!AK31)","v":"    1.734889E-002    5.424420E-002    1.423656E-001    1.000000E+000"},{"$f":"IF(定数!$U$1=1,Data!Y31,Data!AL31)","v":"    1.791444E-002    5.765080E-002    1.424386E-001    1.000000E+000"},null,"    6.364596E-003    1.111356E-002    1.424159E-001    1.000000E+000","    8.803377E-003    1.765890E-002    1.427947E-001    1.000000E+000","    1.041306E-002    2.282317E-002    1.425735E-001    1.000000E+000","    1.169046E-002    2.743655E-002    1.424747E-001    1.000000E+000","    1.278688E-002    3.177471E-002    1.423925E-001    1.000000E+000","    1.371470E-002    3.573965E-002    1.423327E-001    1.000000E+000","    1.456366E-002    3.961617E-002    1.423300E-001    1.000000E+000","    1.533738E-002    4.336407E-002    1.423054E-001    1.000000E+000","    1.605892E-002    4.706520E-002    1.423038E-001    1.000000E+000","    1.672317E-002    5.066059E-002    1.423279E-001    1.000000E+000","    1.734889E-002    5.424420E-002    1.423656E-001    1.000000E+000","    1.791444E-002    5.765080E-002    1.424386E-001    1.000000E+000",null,"    6.023430E-004    3.857642E-003    1.433095E-001    1.000000E+000","    1.226478E-003    7.862946E-003    1.433641E-001    1.000000E+000","    1.813873E-003    1.164572E-002    1.433294E-001    1.000000E+000","    2.409779E-003    1.549232E-002    1.433034E-001    1.000000E+000","    2.998430E-003    1.934481E-002    1.432820E-001    1.000000E+000","    3.580001E-003    2.315664E-002    1.432492E-001    1.000000E+000","    4.156775E-003    2.699555E-002    1.432257E-001    1.000000E+000","    4.720292E-003    3.079721E-002    1.431957E-001    1.000000E+000","    5.275655E-003    3.462670E-002    1.431652E-001    1.000000E+000","    5.808367E-003    3.832160E-002    1.431303E-001    1.000000E+000","    6.345884E-003    4.219007E-002    1.431139E-001    1.000000E+000","    6.862085E-003    4.591632E-002    1.430872E-001    1.000000E+000"]
[{"$f":"IF(定数!$U$1=1,Data!N32,Data!AA32)","v":0},{"$f":"IF(定数!$U$1=1,Data!O32,Data!AB32)","v":0},{"$f":"IF(定数!$U$1=1,Data!P32,Data!AC32)","v":0},{"$f":"IF(定数!$U$1=1,Data!Q32,Data!AD32)","v":0},{"$f":"IF(定数!$U$1=1,Data!R32,Data!AE32)","v":0},{"$f":"IF(定数!$U$1=1,Data!S32,Data!AF32)","v":0},{"$f":"IF(定数!$U$1=1,Data!T32,Data!AG32)","v":0},{"$f":"IF(定数!$U$1=1,Data!U32,Data!AH32)","v":0},{"$f":"IF(定数!$U$1=1,Data!V32,Data!AI32)","v":0},{"$f":"IF(定数!$U$1=1,Data!W32,Data!AJ32)","v":0},{"$f":"IF(定数!$U$1=1,Data!X32,Data!AK32)","v":0},{"$f":"IF(定数!$U$1=1,Data!Y32,Data!AL32)","v":0}]
[{"$f":"IF(定数!$U$1=1,Data!N33,Data!AA33)","v":"***** 伝搬モード *****"},{"$f":"IF(定数!$U$1=1,Data!O33,Data!AB33)","v":"***** 伝搬モード *****"},{"$f":"IF(定数!$U$1=1,Data!P33,Data!AC33)","v":"***** 伝搬モード *****"},{"$f":"IF(定数!$U$1=1,Data!Q33,Data!AD33)","v":"***** 伝搬モード *****"},{"$f":"IF(定数!$U$1=1,Data!R33,Data!AE33)","v":"***** 伝搬モード *****"},{"$f":"IF(定数!$U$1=1,Data!S33,Data!AF33)","v":"***** 伝搬モード *****"},{"$f":"IF(定数!$U$1=1,Data!T33,Data!AG33)","v":"***** 伝搬モード *****"},{"$f":"IF(定数!$U$1=1,Data!U33,Data!AH33)","v":"***** 伝搬モード *****"},{"$f":"IF(定数!$U$1=1,Data!V33,Data!AI33)","v":"***** 伝搬モード *****"},{"$f":"IF(定数!$U$1=1,Data!W33,Data!AJ33)","v":"***** 伝搬モード *****"},{"$f":"IF(定数!$U$1=1,Data!X33,Data!AK33)","v":"***** 伝搬モード *****"},{"$f":"IF(定数!$U$1=1,Data!Y33,Data!AL33)","v":"***** 伝搬モード *****"},null,"***** 伝搬モード *****","***** 伝搬モード *****","***** 伝搬モード *****","***** 伝搬モード *****","***** 伝搬モード *****","***** 伝搬モード *****","***** 伝搬モード *****","***** 伝搬モード *****","***** 伝搬モード *****","***** 伝搬モード *****","***** 伝搬モード *****","***** 伝搬モード *****",null,"***** 伝搬モード *****","***** 伝搬モード *****","***** 伝搬モード *****","***** 伝搬モード *****","***** 伝搬モード *****","***** 伝搬モード *****","***** 伝搬モード *****","***** 伝搬モード *****","***** 伝搬モード *****","***** 伝搬モード *****","***** 伝搬モード *****","***** 伝搬モード *****"]
[{"$f":"IF(定数!$U$1=1,Data!N34,Data!AA34)","v":"    4.665125E-001   -5.528636E-001   -5.373830E-001    4.274637E-001"},{"$f":"IF(定数!$U$1=1,Data!O34,Data!AB34)","v":"    4.517444E-001   -5.900166E-001    3.685843E-001   -5.492016E-001"},{"$f":"IF(定数!$U$1=1,Data!P34,Data!AC34)","v":"    4.465730E-001    6.114701E-001   -5.499547E-001   -3.323156E-001"},{"$f":"IF(定数!$U$1=1,Data!Q34,Data!AD34)","v":"    4.451501E-001    6.248889E-001   -5.465708E-001   -3.101431E-001"},{"$f":"IF(定数!$U$1=1,Data!R34,Data!AE34)","v":"    4.454546E-001   -6.336086E-001    5.412392E-001   -2.977182E-001"},{"$f":"IF(定数!$U$1=1,Data!S34,Data!AF34)","v":"    4.465208E-001    6.388358E-001   -2.933451E-001    5.352961E-001"},{"$f":"IF(定数!$U$1=1,Data!T34,Data!AG34)","v":"    4.477793E-001    6.416260E-001   -5.292052E-001    2.959104E-001"},{"$f":"IF(定数!$U$1=1,Data!U34,Data!AH34)","v":"    4.492399E-001    6.424427E-001    5.229289E-001    3.044661E-001"},{"$f":"IF(定数!$U$1=1,Data!V34,Data!AI34)","v":"    4.506361E-001   -6.411001E-001    5.168064E-001    3.201059E-001"},{"$f":"IF(定数!$U$1=1,Data!W34,Data!AJ34)","v":"    4.518685E-001   -6.373278E-001   -5.111393E-001    3.431617E-001"},{"$f":"IF(定数!$U$1=1,Data!X34,Data!AK34)","v":"    4.529547E-001    6.302952E-001    3.754052E-001    5.058070E-001"},{"$f":"IF(定数!$U$1=1,Data!Y34,Data!AL34)","v":"    4.538284E-001   -6.193778E-001    5.010561E-001   -4.157211E-001"},null,"    4.665125E-001   -5.528636E-001   -5.373830E-001    4.274637E-001","    4.517444E-001   -5.900166E-001    3.685843E-001   -5.492016E-001","    4.465730E-001    6.114701E-001   -5.499547E-001   -3.323156E-001","    4.451501E-001    6.248889E-001   -5.465708E-001   -3.101431E-001","    4.454546E-001   -6.336086E-001    5.412392E-001   -2.977182E-001","    4.465208E-001    6.388358E-001   -2.933451E-001    5.352961E-001","    4.477793E-001    6.416260E-001   -5.292052E-001    2.959104E-001","    4.492399E-001    6.424427E-001    5.229289E-001    3.044661E-001","    4.506361E-001   -6.411001E-001    5.168064E-001    3.201059E-001","    4.518685E-001   -6.373278E-001   -5.111393E-001    3.431617E-001","    4.529547E-001    6.302952E-001    3.754052E-001    5.058070E-001","    4.538284E-001   -6.193778E-001    5.010561E-001   -4.157211E-001",null,"    4.793449E-001    4.778365E-001   -5.197504E-001    5.213063E-001","    4.592906E-001    4.520310E-001   -5.437581E-001   -5.376311E-001","    4.410056E-001   -4.261243E-001    5.526917E-001    5.643262E-001","    4.237616E-001    3.980865E-001    5.660854E-001   -5.843805E-001","    4.077424E-001    3.689941E-001    6.032225E-001    5.776782E-001","    3.933059E-001    3.398438E-001    6.200636E-001    5.876545E-001","    3.799568E-001    3.108172E-001   -6.351215E-001   -5.963608E-001","    3.679371E-001   -2.829570E-001    6.480164E-001   -6.038480E-001","    3.569100E-001   -2.562464E-001   -6.590710E-001    6.103921E-001","    3.473517E-001    2.320529E-001   -6.679315E-001   -6.159268E-001","    3.382148E-001    2.085482E-001   -6.209756E-001    6.756535E-001","    3.303927E-001   -1.878608E-001   -6.816947E-001    6.251730E-001"]
[{"$f":"IF(定数!$U$1=1,Data!N35,Data!AA35)","v":"    5.312740E-001   -4.411470E-001    4.595803E-001   -5.630679E-001"},{"$f":"IF(定数!$U$1=1,Data!O35,Data!AB35)","v":"    5.439986E-001   -3.896732E-001   -6.034453E-001    4.454460E-001"},{"$f":"IF(定数!$U$1=1,Data!P35,Data!AC35)","v":"    5.482467E-001    3.550985E-001    4.444670E-001    6.241574E-001"},{"$f":"IF(定数!$U$1=1,Data!Q35,Data!AD35)","v":"    5.494049E-001    3.309060E-001    4.486013E-001    6.354846E-001"},{"$f":"IF(定数!$U$1=1,Data!R35,Data!AE35)","v":"    5.491545E-001   -3.139127E-001   -4.550328E-001    6.413867E-001"},{"$f":"IF(定数!$U$1=1,Data!S35,Data!AF35)","v":"    5.482941E-001    3.030969E-001    6.434354E-001   -4.619720E-001"},{"$f":"IF(定数!$U$1=1,Data!T35,Data!AG35)","v":"    5.472653E-001    2.971439E-001    4.689149E-001   -6.422759E-001"},{"$f":"IF(定数!$U$1=1,Data!U35,Data!AH35)","v":"    5.460673E-001    2.953732E-001   -4.758790E-001   -6.382902E-001"},{"$f":"IF(定数!$U$1=1,Data!V35,Data!AI35)","v":"    5.449160E-001   -2.982744E-001   -4.824526E-001   -6.306606E-001"},{"$f":"IF(定数!$U$1=1,Data!W35,Data!AJ35)","v":"    5.438875E-001   -3.062932E-001    4.885406E-001   -6.183231E-001"},{"$f":"IF(定数!$U$1=1,Data!X35,Data!AK35)","v":"    5.429836E-001    3.205155E-001   -5.992127E-001   -4.941365E-001"},{"$f":"IF(定数!$U$1=1,Data!Y35,Data!AL35)","v":"    5.422496E-001   -3.411560E-001   -4.989017E-001    5.720398E-001"},null,"    5.312740E-001   -4.411470E-001    4.595803E-001   -5.630679E-001","    5.439986E-001   -3.896732E-001   -6.034453E-001    4.454460E-001","    5.482467E-001    3.550985E-001    4.444670E-001    6.241574E-001","    5.494049E-001    3.309060E-001    4.486013E-001    6.354846E-001","    5.491545E-001   -3.139127E-001   -4.550328E-001    6.413867E-001","    5.482941E-001    3.030969E-001    6.434354E-001   -4.619720E-001","    5.472653E-001    2.971439E-001    4.689149E-001   -6.422759E-001","    5.460673E-001    2.953732E-001   -4.758790E-001   -6.382902E-001","    5.449160E-001   -2.982744E-001   -4.824526E-001   -6.306606E-001","    5.438875E-001   -3.062932E-001    4.885406E-001   -6.183231E-001","    5.429836E-001    3.205155E-001   -5.992127E-001   -4.941365E-001","    5.422496E-001   -3.411560E-001   -4.989017E-001    5.720398E-001",null,"    5.197941E-001   -5.213589E-001    4.792884E-001    4.777883E-001","    5.377068E-001   -5.438450E-001   -4.519392E-001    4.591894E-001","    5.527615E-001    5.643804E-001   -4.409318E-001    4.260383E-001","    5.661438E-001   -5.844451E-001   -4.236732E-001   -3.980026E-001","    5.777158E-001   -6.032337E-001    3.689483E-001   -4.077140E-001","    5.877014E-001   -6.201132E-001    3.397650E-001   -3.932255E-001","    5.963874E-001   -6.351469E-001   -3.107705E-001    3.799108E-001","    6.038708E-001    6.480352E-001    2.829158E-001    3.678981E-001","    6.104195E-001    6.590552E-001   -2.562240E-001   -3.569085E-001","    6.159423E-001   -6.679550E-001   -2.320114E-001    3.473067E-001","    6.209756E-001   -6.756535E-001    3.382148E-001    2.085482E-001","    6.251993E-001    6.817002E-001   -1.878166E-001   -3.303567E-001"]
[{"$f":"IF(定数!$U$1=1,Data!N36,Data!AA36)","v":"    5.314092E-001    4.407583E-001    4.596844E-001    5.632471E-001"},{"$f":"IF(定数!$U$1=1,Data!O36,Data!AB36)","v":"    5.439788E-001    3.897444E-001    6.034661E-001    4.453747E-001"},{"$f":"IF(定数!$U$1=1,Data!P36,Data!AC36)","v":"    5.482432E-001   -3.550872E-001    4.444986E-001   -6.241587E-001"},{"$f":"IF(定数!$U$1=1,Data!Q36,Data!AD36)","v":"    5.494001E-001   -3.308988E-001    4.486605E-001   -6.354616E-001"},{"$f":"IF(定数!$U$1=1,Data!R36,Data!AE36)","v":"    5.491541E-001    3.138992E-001   -4.550579E-001   -6.413746E-001"},{"$f":"IF(定数!$U$1=1,Data!S36,Data!AF36)","v":"    5.482880E-001   -3.030958E-001   -6.433784E-001   -4.620628E-001"},{"$f":"IF(定数!$U$1=1,Data!T36,Data!AG36)","v":"    5.472609E-001   -2.971530E-001    4.690201E-001    6.421957E-001"},{"$f":"IF(定数!$U$1=1,Data!U36,Data!AH36)","v":"    5.460627E-001   -2.953829E-001   -4.760152E-001    6.381757E-001"},{"$f":"IF(定数!$U$1=1,Data!V36,Data!AI36)","v":"    5.449113E-001    2.982853E-001   -4.826737E-001    6.304567E-001"},{"$f":"IF(定数!$U$1=1,Data!W36,Data!AJ36)","v":"    5.438887E-001    3.062929E-001    4.886222E-001    6.182367E-001"},{"$f":"IF(定数!$U$1=1,Data!X36,Data!AK36)","v":"    5.429843E-001   -3.205153E-001    5.992274E-001   -4.941203E-001"},{"$f":"IF(定数!$U$1=1,Data!Y36,Data!AL36)","v":"    5.422534E-001    3.411318E-001   -4.989536E-001   -5.719869E-001"},null,"    5.314092E-001    4.407583E-001    4.596844E-001    5.632471E-001","    5.439788E-001    3.897444E-001    6.034661E-001    4.453747E-001","    5.482432E-001   -3.550872E-001    4.444986E-001   -6.241587E-001","    5.494001E-001   -3.308988E-001    4.486605E-001   -6.354616E-001","    5.491541E-001    3.138992E-001   -4.550579E-001   -6.413746E-001","    5.482880E-001   -3.030958E-001   -6.433784E-001   -4.620628E-001","    5.472609E-001   -2.971530E-001    4.690201E-001    6.421957E-001","    5.460627E-001   -2.953829E-001   -4.760152E-001    6.381757E-001","    5.449113E-001    2.982853E-001   -4.826737E-001    6.304567E-001","    5.438887E-001    3.062929E-001    4.886222E-001    6.182367E-001","    5.429843E-001   -3.205153E-001    5.992274E-001   -4.941203E-001","    5.422534E-001    3.411318E-001   -4.989536E-001   -5.719869E-001",null,"    5.198280E-001    5.212284E-001    4.794535E-001   -4.777281E-001","    5.376367E-001    5.437524E-001    4.520142E-001    4.593074E-001","    5.527329E-001   -5.642840E-001   -4.410445E-001   -4.260865E-001","    5.660696E-001    5.843977E-001   -4.237304E-001    3.981170E-001","    5.777060E-001    6.031935E-001   -3.689768E-001   -4.077616E-001","    5.876396E-001    6.200817E-001   -3.398795E-001   -3.932688E-001","    5.963572E-001    6.351279E-001    3.108418E-001    3.799316E-001","    6.038468E-001   -6.480208E-001   -2.829807E-001    3.679130E-001","    6.104202E-001   -6.590417E-001    2.562413E-001   -3.569196E-001","    6.159179E-001    6.679440E-001    2.320723E-001    3.473303E-001","    6.209756E-001    6.756535E-001    3.382148E-001   -2.085482E-001","    6.251803E-001   -6.816940E-001    1.878911E-001   -3.303633E-001"]
[{"$f":"IF(定数!$U$1=1,Data!N37,Data!AA37)","v":"    4.666029E-001    5.526874E-001   -5.373042E-001   -4.277639E-001"},{"$f":"IF(定数!$U$1=1,Data!O37,Data!AB37)","v":"    4.517516E-001    5.900292E-001   -3.685485E-001   -5.491783E-001"},{"$f":"IF(定数!$U$1=1,Data!P37,Data!AC37)","v":"    4.465732E-001   -6.114920E-001   -5.499272E-001    3.322948E-001"},{"$f":"IF(定数!$U$1=1,Data!Q37,Data!AD37)","v":"    4.451463E-001   -6.249168E-001   -5.465538E-001    3.100953E-001"},{"$f":"IF(定数!$U$1=1,Data!R37,Data!AE37)","v":"    4.454540E-001    6.336137E-001    5.412278E-001    2.977005E-001"},{"$f":"IF(定数!$U$1=1,Data!S37,Data!AF37)","v":"    4.465120E-001   -6.388693E-001    2.932639E-001    5.352923E-001"},{"$f":"IF(定数!$U$1=1,Data!T37,Data!AG37)","v":"    4.477722E-001   -6.416554E-001   -5.292266E-001   -2.958097E-001"},{"$f":"IF(定数!$U$1=1,Data!U37,Data!AH37)","v":"    4.492322E-001   -6.424726E-001    5.229666E-001   -3.043317E-001"},{"$f":"IF(定数!$U$1=1,Data!V37,Data!AI37)","v":"    4.506277E-001    6.411310E-001    5.168914E-001   -3.198808E-001"},{"$f":"IF(定数!$U$1=1,Data!W37,Data!AJ37)","v":"    4.518698E-001    6.373244E-001   -5.111879E-001   -3.430743E-001"},{"$f":"IF(定数!$U$1=1,Data!X37,Data!AK37)","v":"    4.529557E-001   -6.302918E-001   -3.754220E-001    5.057999E-001"},{"$f":"IF(定数!$U$1=1,Data!Y37,Data!AL37)","v":"    4.538352E-001    6.193649E-001    5.010839E-001    4.156650E-001"},null,"    4.666029E-001    5.526874E-001   -5.373042E-001   -4.277639E-001","    4.517516E-001    5.900292E-001   -3.685485E-001   -5.491783E-001","    4.465732E-001   -6.114920E-001   -5.499272E-001    3.322948E-001","    4.451463E-001   -6.249168E-001   -5.465538E-001    3.100953E-001","    4.454540E-001    6.336137E-001    5.412278E-001    2.977005E-001","    4.465120E-001   -6.388693E-001    2.932639E-001    5.352923E-001","    4.477722E-001   -6.416554E-001   -5.292266E-001   -2.958097E-001","    4.492322E-001   -6.424726E-001    5.229666E-001   -3.043317E-001","    4.506277E-001    6.411310E-001    5.168914E-001   -3.198808E-001","    4.518698E-001    6.373244E-001   -5.111879E-001   -3.430743E-001","    4.529557E-001   -6.302918E-001   -3.754220E-001    5.057999E-001","    4.538352E-001    6.193649E-001    5.010839E-001    4.156650E-001",null,"    4.793970E-001   -4.776799E-001   -5.198716E-001   -5.212811E-001","    4.592062E-001   -4.519225E-001    5.438393E-001   -5.377123E-001","    4.409707E-001    4.260005E-001    5.528027E-001   -5.643382E-001","    4.236420E-001   -3.980331E-001    5.661280E-001    5.844624E-001","    4.077331E-001   -3.689310E-001   -6.032047E-001    5.777436E-001","    3.931884E-001   -3.398007E-001   -6.201313E-001    5.876866E-001","    3.798856E-001   -3.107951E-001    6.351534E-001   -5.963837E-001","    3.678740E-001    2.829395E-001   -6.480396E-001   -6.038697E-001","    3.569181E-001    2.562189E-001    6.590259E-001    6.104476E-001","    3.472853E-001   -2.320309E-001    6.679676E-001   -6.159334E-001","    3.382148E-001   -2.085482E-001   -6.209756E-001   -6.756535E-001","    3.303273E-001    1.878469E-001    6.816995E-001    6.252066E-001"]
[{"$f":"IF(定数!$U$1=1,Data!N38,Data!AA38)","v":0},{"$f":"IF(定数!$U$1=1,Data!O38,Data!AB38)","v":0},{"$f":"IF(定数!$U$1=1,Data!P38,Data!AC38)","v":0},{"$f":"IF(定数!$U$1=1,Data!Q38,Data!AD38)","v":0},{"$f":"IF(定数!$U$1=1,Data!R38,Data!AE38)","v":0},{"$f":"IF(定数!$U$1=1,Data!S38,Data!AF38)","v":0},{"$f":"IF(定数!$U$1=1,Data!T38,Data!AG38)","v":0},{"$f":"IF(定数!$U$1=1,Data!U38,Data!AH38)","v":0},{"$f":"IF(定数!$U$1=1,Data!V38,Data!AI38)","v":0},{"$f":"IF(定数!$U$1=1,Data!W38,Data!AJ38)","v":0},{"$f":"IF(定数!$U$1=1,Data!X38,Data!AK38)","v":0},{"$f":"IF(定数!$U$1=1,Data!Y38,Data!AL38)","v":0}]
[{"$f":"IF(定数!$U$1=1,Data!N39,Data!AA39)","v":"***** 伝搬モードの遅延時間(s/m) *****"},{"$f":"IF(定数!$U$1=1,Data!O39,Data!AB39)","v":"***** 伝搬モードの遅延時間(s/m) *****"},{"$f":"IF(定数!$U$1=1,Data!P39,Data!AC39)","v":"***** 伝搬モードの遅延時間(s/m) *****"},{"$f":"IF(定数!$U$1=1,Data!Q39,Data!AD39)","v":"***** 伝搬モードの遅延時間(s/m) *****"},{"$f":"IF(定数!$U$1=1,Data!R39,Data!AE39)","v":"***** 伝搬モードの遅延時間(s/m) *****"},{"$f":"IF(定数!$U$1=1,Data!S39,Data!AF39)","v":"***** 伝搬モードの遅延時間(s/m) *****"},{"$f":"IF(定数!$U$1=1,Data!T39,Data!AG39)","v":"***** 伝搬モードの遅延時間(s/m) *****"},{"$f":"IF(定数!$U$1=1,Data!U39,Data!AH39)","v":"***** 伝搬モードの遅延時間(s/m) *****"},{"$f":"IF(定数!$U$1=1,Data!V39,Data!AI39)","v":"***** 伝搬モードの遅延時間(s/m) *****"},{"$f":"IF(定数!$U$1=1,Data!W39,Data!AJ39)","v":"***** 伝搬モードの遅延時間(s/m) *****"},{"$f":"IF(定数!$U$1=1,Data!X39,Data!AK39)","v":"***** 伝搬モードの遅延時間(s/m) *****"},{"$f":"IF(定数!$U$1=1,Data!Y39,Data!AL39)","v":"***** 伝搬モードの遅延時間(s/m) *****"},null,"***** 伝搬モードの遅延時間(s/m) *****","***** 伝搬モードの遅延時間(s/m) *****","***** 伝搬モードの遅延時間(s/m) *****","***** 伝搬モードの遅延時間(s/m) *****","***** 伝搬モードの遅延時間(s/m) *****","***** 伝搬モードの遅延時間(s/m) *****","***** 伝搬モードの遅延時間(s/m) *****","***** 伝搬モードの遅延時間(s/m) *****","***** 伝搬モードの遅延時間(s/m) *****","***** 伝搬モードの遅延時間(s/m) *****","***** 伝搬モードの遅延時間(s/m) *****","***** 伝搬モードの遅延時間(s/m) *****",null,"***** 伝搬モードの遅延時間(s/m) *****","***** 伝搬モードの遅延時間(s/m) *****","***** 伝搬モードの遅延時間(s/m) *****","***** 伝搬モードの遅延時間(s/m) *****","***** 伝搬モードの遅延時間(s/m) *****","***** 伝搬モードの遅延時間(s/m) *****","***** 伝搬モードの遅延時間(s/m) *****","***** 伝搬モードの遅延時間(s/m) *****","***** 伝搬モードの遅延時間(s/m) *****","***** 伝搬モードの遅延時間(s/m) *****","***** 伝搬モードの遅延時間(s/m) *****","***** 伝搬モードの遅延時間(s/m) *****"]
[{"$f":"IF(定数!$U$1=1,Data!N40,Data!AA40)","v":"    6.785433E-009    6.599864E-009    6.368702E-009    6.339908E-009"},{"$f":"IF(定数!$U$1=1,Data!O40,Data!AB40)","v":"    6.822470E-009    6.562970E-009    6.323711E-009    6.373198E-009"},{"$f":"IF(定数!$U$1=1,Data!P40,Data!AC40)","v":"    6.838585E-009    6.543792E-009    6.373251E-009    6.314610E-009"},{"$f":"IF(定数!$U$1=1,Data!Q40,Data!AD40)","v":"    6.845635E-009    6.531656E-009    6.371509E-009    6.310584E-009"},{"$f":"IF(定数!$U$1=1,Data!R40,Data!AE40)","v":"    6.848060E-009    6.523223E-009    6.368950E-009    6.310507E-009"},{"$f":"IF(定数!$U$1=1,Data!S40,Data!AF40)","v":"    6.848024E-009    6.517415E-009    6.313553E-009    6.366206E-009"},{"$f":"IF(定数!$U$1=1,Data!T40,Data!AG40)","v":"    6.846579E-009    6.512882E-009    6.363256E-009    6.319268E-009"},{"$f":"IF(定数!$U$1=1,Data!U40,Data!AH40)","v":"    6.844703E-009    6.509945E-009    6.360617E-009    6.327332E-009"},{"$f":"IF(定数!$U$1=1,Data!V40,Data!AI40)","v":"    6.842568E-009    6.508112E-009    6.358149E-009    6.337543E-009"},{"$f":"IF(定数!$U$1=1,Data!W40,Data!AJ40)","v":"    6.840424E-009    6.507390E-009    6.355944E-009    6.349387E-009"},{"$f":"IF(定数!$U$1=1,Data!X40,Data!AK40)","v":"    6.838360E-009    6.507899E-009    6.362784E-009    6.353955E-009"},{"$f":"IF(定数!$U$1=1,Data!Y40,Data!AL40)","v":"    6.836515E-009    6.509769E-009    6.352275E-009    6.376573E-009"},null,"    6.785433E-009    6.599864E-009    6.368702E-009    6.339908E-009","    6.822470E-009    6.562970E-009    6.323711E-009    6.373198E-009","    6.838585E-009    6.543792E-009    6.373251E-009    6.314610E-009","    6.845635E-009    6.531656E-009    6.371509E-009    6.310584E-009","    6.848060E-009    6.523223E-009    6.368950E-009    6.310507E-009","    6.848024E-009    6.517415E-009    6.313553E-009    6.366206E-009","    6.846579E-009    6.512882E-009    6.363256E-009    6.319268E-009","    6.844703E-009    6.509945E-009    6.360617E-009    6.327332E-009","    6.842568E-009    6.508112E-009    6.358149E-009    6.337543E-009","    6.840424E-009    6.507390E-009    6.355944E-009    6.349387E-009","    6.838360E-009    6.507899E-009    6.362784E-009    6.353955E-009","    6.836515E-009    6.509769E-009    6.352275E-009    6.376573E-009",null,"    7.232634E-009    7.232634E-009    7.232634E-009    7.232634E-009","    7.232634E-009    7.232634E-009    7.232634E-009    7.232634E-009","    7.232634E-009    7.232634E-009    7.232634E-009    7.232634E-009","    7.232634E-009    7.232634E-009    7.232634E-009    7.232634E-009","    7.232634E-009    7.232634E-009    7.232634E-009    7.232634E-009","    7.232634E-009    7.232634E-009    7.232634E-009    7.232634E-009","    7.232634E-009    7.232634E-009    7.232634E-009    7.232634E-009","    7.232634E-009    7.232634E-009    7.232634E-009    7.232634E-009","    7.232634E-009    7.232634E-009    7.232634E-009    7.232634E-009","    7.232634E-009    7.232634E-009    7.232634E-009    7.232634E-009","    7.232634E-009    7.232634E-009    7.232634E-009    7.232634E-009","    7.232634E-009    7.232634E-009    7.232634E-009    7.232634E-009"]
[{"$f":"IF(定数!$U$1=1,Data!N41,Data!AA41)","v":0},{"$f":"IF(定数!$U$1=1,Data!O41,Data!AB41)","v":0},{"$f":"IF(定数!$U$1=1,Data!P41,Data!AC41)","v":0},{"$f":"IF(定数!$U$1=1,Data!Q41,Data!AD41)","v":0},{"$f":"IF(定数!$U$1=1,Data!R41,Data!AE41)","v":0},{"$f":"IF(定数!$U$1=1,Data!S41,Data!AF41)","v":0},{"$f":"IF(定数!$U$1=1,Data!T41,Data!AG41)","v":0},{"$f":"IF(定数!$U$1=1,Data!U41,Data!AH41)","v":0},{"$f":"IF(定数!$U$1=1,Data!V41,Data!AI41)","v":0},{"$f":"IF(定数!$U$1=1,Data!W41,Data!AJ41)","v":0},{"$f":"IF(定数!$U$1=1,Data!X41,Data!AK41)","v":0},{"$f":"IF(定数!$U$1=1,Data!Y41,Data!AL41)","v":0}]
[{"$f":"IF(定数!$U$1=1,Data!N42,Data!AA42)","v":"***** 伝搬モードの特性インピーダンス(Ω) *****"},{"$f":"IF(定数!$U$1=1,Data!O42,Data!AB42)","v":"***** 伝搬モードの特性インピーダンス(Ω) *****"},{"$f":"IF(定数!$U$1=1,Data!P42,Data!AC42)","v":"***** 伝搬モードの特性インピーダンス(Ω) *****"},{"$f":"IF(定数!$U$1=1,Data!Q42,Data!AD42)","v":"***** 伝搬モードの特性インピーダンス(Ω) *****"},{"$f":"IF(定数!$U$1=1,Data!R42,Data!AE42)","v":"***** 伝搬モードの特性インピーダンス(Ω) *****"},{"$f":"IF(定数!$U$1=1,Data!S42,Data!AF42)","v":"***** 伝搬モードの特性インピーダンス(Ω) *****"},{"$f":"IF(定数!$U$1=1,Data!T42,Data!AG42)","v":"***** 伝搬モードの特性インピーダンス(Ω) *****"},{"$f":"IF(定数!$U$1=1,Data!U42,Data!AH42)","v":"***** 伝搬モードの特性インピーダンス(Ω) *****"},{"$f":"IF(定数!$U$1=1,Data!V42,Data!AI42)","v":"***** 伝搬モードの特性インピーダンス(Ω) *****"},{"$f":"IF(定数!$U$1=1,Data!W42,Data!AJ42)","v":"***** 伝搬モードの特性インピーダンス(Ω) *****"},{"$f":"IF(定数!$U$1=1,Data!X42,Data!AK42)","v":"***** 伝搬モードの特性インピーダンス(Ω) *****"},{"$f":"IF(定数!$U$1=1,Data!Y42,Data!AL42)","v":"***** 伝搬モードの特性インピーダンス(Ω) *****"},null,"***** 伝搬モードの特性インピーダンス(Ω) *****","***** 伝搬モードの特性インピーダンス(Ω) *****","***** 伝搬モードの特性インピーダンス(Ω) *****","***** 伝搬モードの特性インピーダンス(Ω) *****","***** 伝搬モードの特性インピーダンス(Ω) *****","***** 伝搬モードの特性インピーダンス(Ω) *****","***** 伝搬モードの特性インピーダンス(Ω) *****","***** 伝搬モードの特性インピーダンス(Ω) *****","***** 伝搬モードの特性インピーダンス(Ω) *****","***** 伝搬モードの特性インピーダンス(Ω) *****","***** 伝搬モードの特性インピーダンス(Ω) *****","***** 伝搬モードの特性インピーダンス(Ω) *****",null,"***** 伝搬モードの特性インピーダンス(Ω) *****","***** 伝搬モードの特性インピーダンス(Ω) *****","***** 伝搬モードの特性インピーダンス(Ω) *****","***** 伝搬モードの特性インピーダンス(Ω) *****","***** 伝搬モードの特性インピーダンス(Ω) *****","***** 伝搬モードの特性インピーダンス(Ω) *****","***** 伝搬モードの特性インピーダンス(Ω) *****","***** 伝搬モードの特性インピーダンス(Ω) *****","***** 伝搬モードの特性インピーダンス(Ω) *****","***** 伝搬モードの特性インピーダンス(Ω) *****","***** 伝搬モードの特性インピーダンス(Ω) *****","***** 伝搬モードの特性インピーダンス(Ω) *****"]
[{"$f":"IF(定数!$U$1=1,Data!N43,Data!AA43)","v":"    5.797154E+001    5.528105E+001    4.275001E+001    4.241163E+001"},{"$f":"IF(定数!$U$1=1,Data!O43,Data!AB43)","v":"    5.900112E+001    5.418841E+001    4.208700E+001    4.302755E+001"},{"$f":"IF(定数!$U$1=1,Data!P43,Data!AC43)","v":"    5.995739E+001    5.335202E+001    4.330800E+001    4.156404E+001"},{"$f":"IF(定数!$U$1=1,Data!Q43,Data!AD43)","v":"    6.087124E+001    5.268773E+001    4.359162E+001    4.086070E+001"},{"$f":"IF(定数!$U$1=1,Data!R43,Data!AE43)","v":"    6.174349E+001    5.213013E+001    4.389198E+001    4.001788E+001"},{"$f":"IF(定数!$U$1=1,Data!S43,Data!AF43)","v":"    6.252701E+001    5.166094E+001    3.912120E+001    4.419472E+001"},{"$f":"IF(定数!$U$1=1,Data!T43,Data!AG43)","v":"    6.327695E+001    5.123135E+001    4.451568E+001    3.816208E+001"},{"$f":"IF(定数!$U$1=1,Data!U43,Data!AH43)","v":"    6.396326E+001    5.079261E+001    4.483836E+001    3.718568E+001"},{"$f":"IF(定数!$U$1=1,Data!V43,Data!AI43)","v":"    6.460707E+001    5.031352E+001    4.516686E+001    3.622043E+001"},{"$f":"IF(定数!$U$1=1,Data!W43,Data!AJ43)","v":"    6.519899E+001    4.975309E+001    4.548960E+001    3.534126E+001"},{"$f":"IF(定数!$U$1=1,Data!X43,Data!AK43)","v":"    6.575251E+001    4.901662E+001    3.461067E+001    4.581113E+001"},{"$f":"IF(定数!$U$1=1,Data!Y43,Data!AL43)","v":"    6.624762E+001    4.803753E+001    4.611072E+001    3.417628E+001"},null,"    5.797154E+001    5.528105E+001    4.275001E+001    4.241163E+001","    5.900112E+001    5.418841E+001    4.208700E+001    4.302755E+001","    5.995739E+001    5.335202E+001    4.330800E+001    4.156404E+001","    6.087124E+001    5.268773E+001    4.359162E+001    4.086070E+001","    6.174349E+001    5.213013E+001    4.389198E+001    4.001788E+001","    6.252701E+001    5.166094E+001    3.912120E+001    4.419472E+001","    6.327695E+001    5.123135E+001    4.451568E+001    3.816208E+001","    6.396326E+001    5.079261E+001    4.483836E+001    3.718568E+001","    6.460707E+001    5.031352E+001    4.516686E+001    3.622043E+001","    6.519899E+001    4.975309E+001    4.548960E+001    3.534126E+001","    6.575251E+001    4.901662E+001    3.461067E+001    4.581113E+001","    6.624762E+001    4.803753E+001    4.611072E+001    3.417628E+001",null,"    5.748490E+001    4.198225E+001    4.285634E+001    5.585100E+001","    5.839183E+001    4.143457E+001    5.508055E+001    4.323228E+001","    5.925449E+001    4.084333E+001    4.353446E+001    5.438539E+001","    6.014915E+001    4.016878E+001    4.380451E+001    5.373258E+001","    6.105140E+001    3.941601E+001    5.313607E+001    4.404210E+001","    6.194648E+001    3.859590E+001    5.260276E+001    4.424887E+001","    6.284169E+001    3.769498E+001    5.212235E+001    4.443244E+001","    6.371705E+001    3.673113E+001    5.169924E+001    4.459322E+001","    6.458081E+001    3.569198E+001    5.132236E+001    4.473679E+001","    6.539442E+001    3.463029E+001    5.100122E+001    4.485931E+001","    6.621976E+001    3.345940E+001    4.497417E+001    5.070643E+001","    6.698216E+001    3.228798E+001    5.045628E+001    4.507083E+001"]
[]
["ST",null,null,null,null,null,null,null,null,null,null,null,null,"MS",null,null,null,null,null,null,null,null,null,null,null,null,"ST"]